{"text_format":"1","workbook":"xlsx","n_sheets":23,"sheets":["TDB","juillet","analyse","ETAT DES ECARTS","Spécifique","Contrats","BAREME","SOLD","Doucher contrats","equipe","Liste CC","CAES REJETES","CATALOGUE SMARTPHONES","Baréme Relax","journal des ventes","GST-SOLD","Report-Sales","TCD-Porta","Reeng","PORTA","Relax","TCD-Réeng","TCD-Relax"],"not_rendered":{"charts":8,"images":0,"macros":1,"external_links":0,"defined_names":16,"comments":0,"pivot_tables":5},"unopened":[],"bounds":{"document_bytes":16777216,"sheet_cells":100000,"rows_first":2000,"rows_last":500,"rows_between":2000,"halvings":0,"cell_chars":16384,"cell_head_chars":4096},"cells_cut":0,"cells_raw":0,"read":"whole","date_system":"1900"}

{"sheet":"TDB","index":0,"n_rows":30,"n_cols":14,"rows_kept":30,"cut":false,"hidden":false,"merged":[[4,9,4,10],[4,11,4,12],[4,7,4,8]]}
[]
["DATE","(Tous)"]
[]
["Collectif / CC","famille","Offre"]
[null,"ADSL","Flybox","IEW","Postpayé","Prépayé","Total général","Réengagements",null,"SMARTPHONES",null,"PORTABILITE",null,"RELAX"]
["CC",null,null,null,null,null,null,"CC","Nbr de Réengagements","CC","Nbr de Smartphones","CC","Nbr","Nbr"]
["ABLOUNA",null,5,1,3,12,21,"ABLOUNA",{"$f":"VLOOKUP(A7,Reeng!A:B,2,0)","v":1},"ABLOUNA",{"$f":"COUNTIFS('journal des ventes'!A:A,TDB!J7,'journal des ventes'!L:L,\"OK\")","v":2},"ABLOUNA",{"$f":"VLOOKUP(A7,PORTA!A:B,2,0)","v":4},{"$f":"VLOOKUP(A7,Relax!A:B,2,0)","v":0}]
["AmiraX",null,null,null,null,0,0,"AmiraX",{"$f":"VLOOKUP(A8,Reeng!A:B,2,0)","v":0},"AmiraX",{"$f":"COUNTIFS('journal des ventes'!A:A,TDB!J8,'journal des ventes'!L:L,\"OK\")","v":0},"AmiraX",{"$f":"VLOOKUP(A8,PORTA!A:B,2,0)","v":0},{"$f":"VLOOKUP(A8,Relax!A:B,2,0)","v":0}]
["ASLOGHM",null,1,3,1,8,13,"ASLOGHM",{"$f":"VLOOKUP(A9,Reeng!A:B,2,0)","v":3},"ASLOGHM",{"$f":"COUNTIFS('journal des ventes'!A:A,TDB!J9,'journal des ventes'!L:L,\"OK\")","v":0},"ASLOGHM",{"$f":"VLOOKUP(A9,PORTA!A:B,2,0)","v":7},{"$f":"VLOOKUP(A9,Relax!A:B,2,0)","v":4}]
["HanenX",1,null,null,null,0,1,"HanenX",{"$f":"VLOOKUP(A10,Reeng!A:B,2,0)","v":0},"HanenX",{"$f":"COUNTIFS('journal des ventes'!A:A,TDB!J10,'journal des ventes'!L:L,\"OK\")","v":0},"HanenX",{"$f":"VLOOKUP(A10,PORTA!A:B,2,0)","v":0},{"$f":"VLOOKUP(A10,Relax!A:B,2,0)","v":0}]
["RIGRAIET",null,1,null,null,1,2,"RIGRAIET",{"$f":"VLOOKUP(A11,Reeng!A:B,2,0)","v":4},"RIGRAIET",{"$f":"COUNTIFS('journal des ventes'!A:A,TDB!J11,'journal des ventes'!L:L,\"OK\")","v":1},"RIGRAIET",{"$f":"VLOOKUP(A11,PORTA!A:B,2,0)","v":4},{"$f":"VLOOKUP(A11,Relax!A:B,2,0)","v":32}]
["SIGHW",null,3,3,null,1,7,"SIGHW",{"$f":"VLOOKUP(A12,Reeng!A:B,2,0)","v":4},"SIGHW",{"$f":"COUNTIFS('journal des ventes'!A:A,TDB!J12,'journal des ventes'!L:L,\"OK\")","v":6},"SIGHW",{"$f":"VLOOKUP(A12,PORTA!A:B,2,0)","v":26},{"$f":"VLOOKUP(A12,Relax!A:B,2,0)","v":39}]
["Total général",1,10,7,4,22,44,null,{"$f":"SUM(I7:I12)","v":12},null,{"$f":"SUM(K7:K12)","v":9},null,{"$f":"SUM(M7:M12)","v":41},{"$f":"SUM(N7:N12)","v":75}]
[]
[]
[]
[]
[]
[]
[]
[]
[]
["Spécifique FLY","famille","Offre"]
[null,"Flybox","Total général"]
["CC"]
["ABLOUNA",5,5]
["ASLOGHM",1,1]
["RIGRAIET",1,1]
["SIGHW",3,3]
["Total général",10,10]

{"sheet":"juillet","index":1,"n_rows":20,"n_cols":11,"rows_kept":20,"cut":false,"hidden":false,"merged":[[0,1,0,8]]}
[null,"Kairouan"]
[null,"Voix Prepaid","POST","réengagement","clé 3G","FLYBOX","ADSL","EQUIPEMENT","Portabilité","Orange Relax","RC"]
["Objectif",540,91,46,146,30,5,72,100,70,100]
["Réalisation",{"$f":"IFERROR((GETPIVOTDATA(\"Nbre de Points\",TDB!$A$4,\"famille\",\"Prépayé\")),0)","v":22},{"$f":"IFERROR((GETPIVOTDATA(\"Nbre de Points\",TDB!$A$4,\"famille\",\"Postpayé\")),0)","v":4},{"$f":"TDB!I13","v":12},{"$f":"IFERROR((GETPIVOTDATA(\"Nbre de Points\",TDB!$A$4,\"famille\",\"IEW\")),0)","v":7},{"$f":"IFERROR((GETPIVOTDATA(\"Nbre de Points\",TDB!$A$4,\"famille\",\"Flybox\")),0)","v":10},{"$f":"IFERROR((GETPIVOTDATA(\"Nbre de Points\",TDB!$A$4,\"famille\",\"ADSL\")),0)","v":1},{"$f":"TDB!K13","v":9},{"$f":"TDB!M13","v":41},{"$f":"TDB!N13","v":75},100]
["Taux d'atteinte",{"$f":"B4/B3","v":4.0740740740740744E-2},{"$f":"C4/C3","v":4.3956043956043959E-2},0.2608695652173913,4.7945205479452052E-2,0.33333333333333331,0.2,0.125,0.41,{"$f":"J4/J3","v":1.0714285714285714},1]
["Poids",0.15,0.12,0.1,0.11,0.11,0.08,0.1,0,0.08,0.15]
["Taux Avec poids",{"$f":"B6*B5","v":6.1111111111111114E-3},{"$f":"C6*C5","v":5.2747252747252747E-3},2.6086956521739132E-2,5.2739726027397254E-3,3.6666666666666667E-2,1.6E-2,1.2500000000000001E-2,0,8.5714285714285715E-2,0.15]
["Atterissage",{"$f":"((B4/$B$20)*$B$19)+B4","v":45.692307692307693},8.3076923076923084,24.923076923076923,14.538461538461538,20.76923076923077,2.0769230769230771,18.692307692307693,85.15384615384616,{"$f":"((J4/$B$20)*$B$19)+J4","v":155.76923076923077},{"$f":"K5","v":1}]
["% Atterissage",{"$f":"B8/B3","v":8.461538461538462E-2},9.1293322062552834E-2,0.5418060200668896,9.9578503688092734E-2,0.69230769230769229,0.41538461538461541,0.25961538461538464,0.85153846153846158,2.2252747252747254,{"$f":"K6","v":0.15}]
["% Atteinte",{"$f":"SUM(B7:K7)","v":0.34362771789126761}]
["TOTAL sur Atterissage",{"$f":"B9*B6+C6*C9+D6*D9+E6*E9+F6*F9+G6*G9+H6*H9+I6*I9+J6*J9+K6","v":0.55214987562032514}]
["Poids RB",0.15,0.12,0.1,0.11,0.11,0.08,0.1,0,0.08,0.15]
["Taux Avec poids",{"$f":"B12*B5","v":6.1111111111111114E-3},{"$f":"C12*C5","v":5.2747252747252747E-3},2.6086956521739132E-2,5.2739726027397254E-3,3.6666666666666667E-2,1.6E-2,1.2500000000000001E-2,0,8.5714285714285715E-2,0.15]
["TOTAL RB",{"$f":"SUM(B13:K13)","v":0.34362771789126761}]
[]
["Date départ Mois","2017-08-01"]
["aujourd'hui",{"$f":"TODAY()","v":"2017-08-16"}]
["Fate fin du mois","2017-08-31"]
["Nbre de jours restant",{"$f":"NETWORKDAYS.INTL(B17,B18,11,0)","v":14}]
["Nbre de Jours travaillés",{"$f":"(NETWORKDAYS.INTL(B16,B17,11,0))-1","v":13}]

{"sheet":"analyse","index":2,"n_rows":32,"n_cols":15,"rows_kept":32,"cut":false,"hidden":false,"merged":[[0,1,0,10],[3,12,3,13],[4,12,4,13],[5,12,5,13],[1,11,4,11]]}
[null,"Kairouan",null,null,null,null,null,null,null,null,null,null,null,"Nbr","Poids"]
[null,"Prépayé","Post","IEW","Flybox","ADSL","Portabilité","Equipement","Recharge","Réeng","Relax","Total","CC",4,10]
["OBJECTIF",{"$f":"juillet!B3","v":540},{"$f":"juillet!C3","v":91},{"$f":"juillet!E3","v":146},{"$f":"juillet!F3","v":30},{"$f":"juillet!G3","v":5},{"$f":"juillet!I3","v":100},{"$f":"juillet!H3","v":72},{"$f":"B3*0.75","v":405},{"$f":"juillet!D3","v":46},{"$f":"juillet!J3","v":70},null,"TC",0,6]
["CC",{"$f":"ROUNDUP((B3/$N$2),0)","v":135},{"$f":"ROUNDUP((C3/$N$2),0)","v":23},37,8,2,{"$f":"10","v":10},18,102,12,18,null,"Total equipe",null,{"$f":"O2*N2+O3*N3","v":40}]
["CC",{"$f":"B4","v":135},{"$f":"C4","v":23},37,8,2,10,18,102,12,18,null,"Majoration obj",null,1]
["Poids",{"$f":"juillet!G6","v":0.08},{"$f":"juillet!F6","v":0.11},{"$f":"juillet!E6","v":0.11},{"$f":"juillet!C6","v":0.12},{"$f":"juillet!B6","v":0.15},{"$f":"juillet!D6","v":0.1},{"$f":"juillet!I6","v":0},{"$f":"juillet!H6","v":0.1},{"$f":"juillet!I6","v":0},0,{"$f":"SUM(B6:K6)","v":0.76999999999999991},"Obj après réduction",null,1]
[]
["USER","Prépayé","Post","IEW","Flybox","ADSL","Portabilité","Equipement","Recharge","Réeng","Relax"]
["ABLOUNA",{"$f":"GETPIVOTDATA(\"Nbre de Points\",TDB!$A$4,\"famille\",\"Prépayé\",\"CC\",A9)/analyse!B4","v":8.8888888888888892E-2},{"$f":"GETPIVOTDATA(\"Nbre de Points\",TDB!$A$4,\"famille\",\"Postpayé\",\"CC\",A9)/analyse!$C$4","v":0.13043478260869565},{"$f":"GETPIVOTDATA(\"Nbre de Points\",TDB!$A$4,\"famille\",\"IEW\",\"CC\",A9)/analyse!$D$4","v":2.7027027027027029E-2},{"$f":"GETPIVOTDATA(\"Nbre de Points\",TDB!$A$4,\"famille\",\"Flybox\",\"CC\",A9)/analyse!$E$4","v":0.625},{"$f":"IFERROR((GETPIVOTDATA(\"Nbre de Points\",TDB!$A$4,\"famille\",\"ADSL\",\"CC\",A9)/analyse!$F$4),0)","v":0},{"$f":"LOOKUP($A9,TDB!$A$7:$A$16,TDB!$M$7:$M$16)/$G$4","v":0.4},{"$f":"LOOKUP($A9,TDB!$A$7:$A$16,TDB!$K$7:$K$16)/$G$4","v":0.2},{"$f":"TDB!K7/analyse!I4","v":1.9607843137254902E-2},{"$f":"LOOKUP($A9,TDB!$A$7:$A$16,TDB!$I$7:$I$16)/$G$4","v":0.1},{"$f":"LOOKUP($A9,TDB!$A$7:$A$16,TDB!$N$7:$N$16)/$G$4","v":0}]
["ASLOGHM",{"$f":"GETPIVOTDATA(\"Nbre de Points\",TDB!$A$4,\"famille\",\"Prépayé\",\"CC\",A10)/analyse!B4","v":5.9259259259259262E-2},{"$f":"GETPIVOTDATA(\"Nbre de Points\",TDB!$A$4,\"famille\",\"Postpayé\",\"CC\",A10)/analyse!$C$4","v":4.3478260869565216E-2},{"$f":"GETPIVOTDATA(\"Nbre de Points\",TDB!$A$4,\"famille\",\"IEW\",\"CC\",A10)/analyse!$D$4","v":8.1081081081081086E-2},{"$f":"GETPIVOTDATA(\"Nbre de Points\",TDB!$A$4,\"famille\",\"Flybox\",\"CC\",A10)/analyse!$E$4","v":0.125},{"$f":"IFERROR((GETPIVOTDATA(\"Nbre de Points\",TDB!$A$4,\"famille\",\"ADSL\",\"CC\",A10)/analyse!$F$4),0)","v":0},{"$f":"LOOKUP($A10,TDB!$A$7:$A$16,TDB!$M$7:$M$16)/$G$4","v":0.7},{"$f":"LOOKUP($A10,TDB!$A$7:$A$16,TDB!$K$7:$K$16)/$G$4","v":0},{"$f":"TDB!K8/analyse!I4","v":0},{"$f":"LOOKUP($A10,TDB!$A$7:$A$16,TDB!$I$7:$I$16)/$G$4","v":0.3},{"$f":"LOOKUP($A10,TDB!$A$7:$A$16,TDB!$N$7:$N$16)/$G$4","v":0.4}]
["RIGRAIET",{"$f":"GETPIVOTDATA(\"Nbre de Points\",TDB!$A$4,\"famille\",\"Prépayé\",\"CC\",A11)/analyse!B4","v":7.4074074074074077E-3},{"$f":"GETPIVOTDATA(\"Nbre de Points\",TDB!$A$4,\"famille\",\"Postpayé\",\"CC\",A11)/analyse!$C$4","v":0},{"$f":"GETPIVOTDATA(\"Nbre de Points\",TDB!$A$4,\"famille\",\"IEW\",\"CC\",A11)/analyse!$D$4","v":0},{"$f":"GETPIVOTDATA(\"Nbre de Points\",TDB!$A$4,\"famille\",\"Flybox\",\"CC\",A11)/analyse!$E$4","v":0.125},{"$f":"IFERROR((GETPIVOTDATA(\"Nbre de Points\",TDB!$A$4,\"famille\",\"ADSL\",\"CC\",A11)/analyse!$F$4),0)","v":0},{"$f":"LOOKUP($A11,TDB!$A$7:$A$16,TDB!$M$7:$M$16)/$G$4","v":0.4},{"$f":"LOOKUP($A11,TDB!$A$7:$A$16,TDB!$K$7:$K$16)/$G$4","v":0.1},{"$f":"TDB!K15/analyse!I5","v":0},{"$f":"LOOKUP($A11,TDB!$A$7:$A$16,TDB!$I$7:$I$16)/$G$4","v":0.4},{"$f":"LOOKUP($A11,TDB!$A$7:$A$16,TDB!$N$7:$N$16)/$G$4","v":3.2}]
["SIGHW",{"$f":"GETPIVOTDATA(\"Nbre de Points\",TDB!$A$4,\"famille\",\"Prépayé\",\"CC\",A12)/analyse!B4","v":7.4074074074074077E-3},{"$f":"GETPIVOTDATA(\"Nbre de Points\",TDB!$A$4,\"famille\",\"Postpayé\",\"CC\",A12)/analyse!$C$4","v":0},{"$f":"GETPIVOTDATA(\"Nbre de Points\",TDB!$A$4,\"famille\",\"IEW\",\"CC\",A12)/analyse!$D$4","v":8.1081081081081086E-2},{"$f":"GETPIVOTDATA(\"Nbre de Points\",TDB!$A$4,\"famille\",\"Flybox\",\"CC\",A12)/analyse!$E$4","v":0.375},{"$f":"IFERROR((GETPIVOTDATA(\"Nbre de Points\",TDB!$A$4,\"famille\",\"ADSL\",\"CC\",A12)/analyse!$F$4),0)","v":0},{"$f":"LOOKUP($A12,TDB!$A$7:$A$16,TDB!$M$7:$M$16)/$G$4","v":2.6},{"$f":"LOOKUP($A12,TDB!$A$7:$A$16,TDB!$K$7:$K$16)/$G$4","v":0.6},{"$f":"TDB!K11/analyse!I5","v":9.8039215686274508E-3},{"$f":"LOOKUP($A12,TDB!$A$7:$A$16,TDB!$I$7:$I$16)/$G$4","v":0.4},{"$f":"LOOKUP($A12,TDB!$A$7:$A$16,TDB!$N$7:$N$16)/$G$4","v":3.9}]
["AmiraX",{"$f":"GETPIVOTDATA(\"Nbre de Points\",TDB!$A$4,\"famille\",\"Prépayé\",\"CC\",A13)/analyse!B4","v":0},{"$f":"GETPIVOTDATA(\"Nbre de Points\",TDB!$A$4,\"famille\",\"Postpayé\",\"CC\",A13)/analyse!$C$4","v":0},{"$f":"GETPIVOTDATA(\"Nbre de Points\",TDB!$A$4,\"famille\",\"IEW\",\"CC\",A13)/analyse!$D$4","v":0},{"$f":"GETPIVOTDATA(\"Nbre de Points\",TDB!$A$4,\"famille\",\"Flybox\",\"CC\",A13)/analyse!$E$4","v":0},{"$f":"IFERROR((GETPIVOTDATA(\"Nbre de Points\",TDB!$A$4,\"famille\",\"ADSL\",\"CC\",A13)/analyse!$F$4),0)","v":0},{"$f":"LOOKUP($A13,TDB!$A$7:$A$16,TDB!$M$7:$M$16)/$G$4","v":0},{"$f":"LOOKUP($A13,TDB!$A$7:$A$16,TDB!$K$7:$K$16)/$G$4","v":0},{"$f":"TDB!K12/analyse!I4","v":5.8823529411764705E-2},{"$f":"LOOKUP($A13,TDB!$A$7:$A$16,TDB!$I$7:$I$16)/$G$4","v":0},{"$f":"LOOKUP($A13,TDB!$A$7:$A$16,TDB!$N$7:$N$16)/$G$4","v":0}]
["HanenX",{"$f":"GETPIVOTDATA(\"Nbre de Points\",TDB!$A$4,\"famille\",\"Prépayé\",\"CC\",A14)/analyse!B4","v":0},{"$f":"GETPIVOTDATA(\"Nbre de Points\",TDB!$A$4,\"famille\",\"Postpayé\",\"CC\",A14)/analyse!$C$4","v":0},{"$f":"GETPIVOTDATA(\"Nbre de Points\",TDB!$A$4,\"famille\",\"IEW\",\"CC\",A14)/analyse!$D$4","v":0},{"$f":"GETPIVOTDATA(\"Nbre de Points\",TDB!$A$4,\"famille\",\"Flybox\",\"CC\",A14)/analyse!$E$4","v":0},{"$f":"IFERROR((GETPIVOTDATA(\"Nbre de Points\",TDB!$A$4,\"famille\",\"ADSL\",\"CC\",A14)/analyse!$F$4),0)","v":0.5},{"$f":"LOOKUP($A14,TDB!$A$7:$A$16,TDB!$M$7:$M$16)/$G$4","v":0},{"$f":"LOOKUP($A14,TDB!$A$7:$A$16,TDB!$K$7:$K$16)/$G$4","v":0},{"$f":"TDB!K13/analyse!I5","v":8.8235294117647065E-2},{"$f":"LOOKUP($A14,TDB!$A$7:$A$16,TDB!$I$7:$I$16)/$G$4","v":0},{"$f":"LOOKUP($A14,TDB!$A$7:$A$16,TDB!$N$7:$N$16)/$G$4","v":0}]
[null,{"$f":"GETPIVOTDATA(\"Nbre de Points\",TDB!$A$4,\"famille\",\"Prépayé\",\"CC\",A15)/analyse!B4","v":{"$error":"#REF!"}},{"$f":"GETPIVOTDATA(\"Nbre de Points\",TDB!$A$4,\"famille\",\"Postpayé\",\"CC\",A15)/analyse!$C$4","v":{"$error":"#REF!"}},{"$f":"GETPIVOTDATA(\"Nbre de Points\",TDB!$A$4,\"famille\",\"IEW\",\"CC\",A15)/analyse!$D$4","v":{"$error":"#REF!"}},{"$f":"GETPIVOTDATA(\"Nbre de Points\",TDB!$A$4,\"famille\",\"Flybox\",\"CC\",A15)/analyse!$E$4","v":{"$error":"#REF!"}},{"$f":"IFERROR((GETPIVOTDATA(\"Nbre de Points\",TDB!$A$4,\"famille\",\"ADSL\",\"CC\",A15)/analyse!$F$4),0)","v":0},{"$f":"LOOKUP($A15,TDB!$A$7:$A$16,TDB!$M$7:$M$16)/$G$4","v":{"$error":"#N/A"}},{"$f":"LOOKUP($A15,TDB!$A$7:$A$16,TDB!$K$7:$K$16)/$G$4","v":{"$error":"#N/A"}},{"$f":"TDB!K9/analyse!I4","v":0},{"$f":"LOOKUP($A15,TDB!$A$7:$A$16,TDB!$I$7:$I$16)/$G$4","v":{"$error":"#N/A"}},{"$f":"LOOKUP($A15,TDB!$A$7:$A$16,TDB!$N$7:$N$16)/$G$4","v":{"$error":"#N/A"}}]
[null,{"$f":"GETPIVOTDATA(\"Nbre de Points\",TDB!$A$4,\"famille\",\"Prépayé\",\"CC\",A16)/analyse!B5","v":{"$error":"#REF!"}},{"$f":"GETPIVOTDATA(\"Nbre de Points\",TDB!$A$4,\"famille\",\"Postpayé\",\"CC\",A16)/analyse!$C$5","v":{"$error":"#REF!"}},{"$f":"GETPIVOTDATA(\"Nbre de Points\",TDB!$A$4,\"famille\",\"IEW\",\"CC\",A16)/analyse!$D$5","v":{"$error":"#REF!"}},{"$f":"GETPIVOTDATA(\"Nbre de Points\",TDB!$A$4,\"famille\",\"Flybox\",\"CC\",A16)/analyse!$E$5","v":{"$error":"#REF!"}},{"$f":"IFERROR((GETPIVOTDATA(\"Nbre de Points\",TDB!$A$4,\"famille\",\"ADSL\",\"CC\",A16)/analyse!$F$5),0)","v":0},{"$f":"LOOKUP($A16,TDB!$A$7:$A$16,TDB!$M$7:$M$16)/$G$5","v":{"$error":"#N/A"}},{"$f":"LOOKUP($A16,TDB!$A$7:$A$16,TDB!$K$7:$K$16)/$G$5","v":{"$error":"#N/A"}},{"$f":"TDB!K10/analyse!I4","v":0},{"$f":"LOOKUP($A16,TDB!$A$7:$A$16,TDB!$I$7:$I$16)/$G$5","v":{"$error":"#N/A"}},{"$f":"LOOKUP($A16,TDB!$A$7:$A$16,TDB!$N$7:$N$16)/$G$5","v":{"$error":"#N/A"}}]
[null,{"$f":"GETPIVOTDATA(\"Nbre de Points\",TDB!$A$4,\"famille\",\"Prépayé\",\"CC\",A17)/analyse!B5","v":{"$error":"#REF!"}},{"$f":"GETPIVOTDATA(\"Nbre de Points\",TDB!$A$4,\"famille\",\"Postpayé\",\"CC\",A17)/analyse!$C$5","v":{"$error":"#REF!"}},{"$f":"GETPIVOTDATA(\"Nbre de Points\",TDB!$A$4,\"famille\",\"IEW\",\"CC\",A17)/analyse!$D$5","v":{"$error":"#REF!"}},{"$f":"GETPIVOTDATA(\"Nbre de Points\",TDB!$A$4,\"famille\",\"Flybox\",\"CC\",A17)/analyse!$E$5","v":{"$error":"#REF!"}},{"$f":"IFERROR((GETPIVOTDATA(\"Nbre de Points\",TDB!$A$4,\"famille\",\"ADSL\",\"CC\",A17)/analyse!$F$5),0)","v":0},{"$f":"LOOKUP($A17,TDB!$A$7:$A$16,TDB!$M$7:$M$16)/$G$5","v":{"$error":"#N/A"}},{"$f":"LOOKUP($A17,TDB!$A$7:$A$16,TDB!$K$7:$K$16)/$G$5","v":{"$error":"#N/A"}},{"$f":"TDB!K14/analyse!I5","v":0},{"$f":"LOOKUP($A17,TDB!$A$7:$A$16,TDB!$I$7:$I$16)/$G$5","v":{"$error":"#N/A"}},{"$f":"LOOKUP($A17,TDB!$A$7:$A$16,TDB!$N$7:$N$16)/$G$5","v":{"$error":"#N/A"}}]
[null,{"$f":"GETPIVOTDATA(\"Nbre de Points\",TDB!$A$4,\"famille\",\"Prépayé\",\"CC\",A18)/analyse!B5","v":{"$error":"#REF!"}},{"$f":"GETPIVOTDATA(\"Nbre de Points\",TDB!$A$4,\"famille\",\"Postpayé\",\"CC\",A18)/analyse!$C$5","v":{"$error":"#REF!"}},{"$f":"GETPIVOTDATA(\"Nbre de Points\",TDB!$A$4,\"famille\",\"IEW\",\"CC\",A18)/analyse!$D$5","v":{"$error":"#REF!"}},{"$f":"GETPIVOTDATA(\"Nbre de Points\",TDB!$A$4,\"famille\",\"Flybox\",\"CC\",A18)/analyse!$E$5","v":{"$error":"#REF!"}},{"$f":"IFERROR((GETPIVOTDATA(\"Nbre de Points\",TDB!$A$4,\"famille\",\"ADSL\",\"CC\",A18)/analyse!$F$5),0)","v":0},{"$f":"LOOKUP($A18,TDB!$A$7:$A$16,TDB!$M$7:$M$16)/$G$5","v":{"$error":"#N/A"}},{"$f":"LOOKUP($A18,TDB!$A$7:$A$16,TDB!$K$7:$K$16)/$G$5","v":{"$error":"#N/A"}},{"$f":"TDB!K16/analyse!I4","v":0},{"$f":"LOOKUP($A18,TDB!$A$7:$A$16,TDB!$I$7:$I$16)/$G$5","v":{"$error":"#N/A"}},{"$f":"LOOKUP($A18,TDB!$A$7:$A$16,TDB!$N$7:$N$16)/$G$5","v":{"$error":"#N/A"}}]
[]
[]
[]
["USER","Prépayé","Post","IEW","Flybox","ADSL","Portabilité","Equipement","Recharge","Réeng","Relax"]
["ABLOUNA",{"$f":"B9*B$6","v":7.1111111111111115E-3},{"$f":"C9*C$6","v":1.4347826086956521E-2},2.972972972972973E-3,7.4999999999999997E-2,0,4.0000000000000008E-2,0,1.9607843137254902E-3,0,0]
["ASLOGHM",{"$f":"B10*B$6","v":4.7407407407407407E-3},4.7826086956521737E-3,8.9189189189189198E-3,1.4999999999999999E-2,0,6.9999999999999993E-2,0,0,0,0]
["RIGRAIET",{"$f":"B11*B$6","v":5.9259259259259258E-4},0,0,1.4999999999999999E-2,0,4.0000000000000008E-2,0,0,0,0]
["SIGHW",{"$f":"B12*B$6","v":5.9259259259259258E-4},0,8.9189189189189198E-3,4.4999999999999998E-2,0,0.26,0,9.8039215686274508E-4,0,0]
["AmiraX",{"$f":"B13*B$6","v":0},0,0,0,0,0,0,5.8823529411764705E-3,0,0]
["HanenX",{"$f":"B14*B$6","v":0},0,0,0,7.4999999999999997E-2,0,0,8.8235294117647075E-3,0,0]
[null,{"$f":"B15*B$6","v":{"$error":"#REF!"}},{"$error":"#REF!"},{"$error":"#REF!"},{"$error":"#REF!"},0,{"$error":"#N/A"},{"$error":"#N/A"},0,{"$error":"#N/A"},{"$error":"#N/A"}]
[null,{"$f":"B16*B$6","v":{"$error":"#REF!"}},{"$error":"#REF!"},{"$error":"#REF!"},{"$error":"#REF!"},0,{"$error":"#N/A"},{"$error":"#N/A"},0,{"$error":"#N/A"},{"$error":"#N/A"}]
[null,{"$f":"B17*B$6","v":{"$error":"#REF!"}},{"$error":"#REF!"},{"$error":"#REF!"},{"$error":"#REF!"},0,{"$error":"#N/A"},{"$error":"#N/A"},0,{"$error":"#N/A"},{"$error":"#N/A"}]
[null,{"$f":"B18*B$6","v":{"$error":"#REF!"}},{"$error":"#REF!"},{"$error":"#REF!"},{"$error":"#REF!"},0,{"$error":"#N/A"},{"$error":"#N/A"},0,{"$error":"#N/A"},{"$error":"#N/A"}]

{"sheet":"ETAT DES ECARTS","index":3,"n_rows":28,"n_cols":11,"rows_kept":28,"cut":false,"hidden":false,"merged":[[1,4,1,5],[16,4,16,5]]}
[]
[null,null,null,null,"Reste à activer / mois"]
[null,"Prépayé","Post","IEW","Flybox","ADSL","Portabilité","Equipement","Recharge","Réeng","Relax"]
["ABLOUNA",{"$f":"analyse!$B$4-GETPIVOTDATA(\"Nbre de Points\",TDB!$A$4,\"famille\",\"Prépayé\",\"CC\",A4)","v":123},{"$f":"analyse!$C$4-GETPIVOTDATA(\"Nbre de Points\",TDB!$A$4,\"famille\",\"Postpayé\",\"CC\",A4)","v":20},{"$f":"analyse!$D$4-GETPIVOTDATA(\"Nbre de Points\",TDB!$A$4,\"famille\",\"IEW\",\"CC\",A4)","v":36},{"$f":"analyse!$E$4-GETPIVOTDATA(\"Nbre de Points\",TDB!$A$4,\"famille\",\"Flybox\",\"CC\",A4)","v":3},{"$f":"IFERROR((analyse!$F$4-GETPIVOTDATA(\"Nbre de Points\",TDB!$A$4,\"famille\",\"ADSL\",\"CC\",A4)),0)","v":2},{"$f":"analyse!$G$4-LOOKUP($A4,TDB!$A$7:$A$16,TDB!$M$7:$M$16)","v":6},{"$f":"analyse!$G$4-LOOKUP($A4,TDB!$A$7:$A$16,TDB!$K$7:$K$16)","v":8},{"$f":"analyse!$I$4","v":102},{"$f":"analyse!$J$4-LOOKUP($A4,TDB!$A$7:$A$16,TDB!$I$7:$I$16)","v":11},{"$f":"analyse!$K$4-LOOKUP($A4,TDB!$A$7:$A$16,TDB!$N$7:$N$16)","v":18}]
["ASLOGHM",{"$f":"analyse!$B$4-GETPIVOTDATA(\"Nbre de Points\",TDB!$A$4,\"famille\",\"Prépayé\",\"CC\",A5)","v":127},{"$f":"analyse!$C$4-GETPIVOTDATA(\"Nbre de Points\",TDB!$A$4,\"famille\",\"Postpayé\",\"CC\",A5)","v":22},{"$f":"analyse!$D$4-GETPIVOTDATA(\"Nbre de Points\",TDB!$A$4,\"famille\",\"IEW\",\"CC\",A5)","v":34},{"$f":"analyse!$E$4-GETPIVOTDATA(\"Nbre de Points\",TDB!$A$4,\"famille\",\"Flybox\",\"CC\",A5)","v":7},{"$f":"IFERROR((analyse!$F$4-GETPIVOTDATA(\"Nbre de Points\",TDB!$A$4,\"famille\",\"ADSL\",\"CC\",A5)),0)","v":2},{"$f":"analyse!$G$4-LOOKUP($A5,TDB!$A$7:$A$16,TDB!$M$7:$M$16)","v":3},{"$f":"analyse!$G$4-LOOKUP($A5,TDB!$A$7:$A$16,TDB!$K$7:$K$16)","v":10},{"$f":"analyse!$I$4","v":102},{"$f":"analyse!$J$4-LOOKUP($A5,TDB!$A$7:$A$16,TDB!$I$7:$I$16)","v":9},{"$f":"analyse!$K$4-LOOKUP($A5,TDB!$A$7:$A$16,TDB!$N$7:$N$16)","v":14}]
["RIGRAIET",{"$f":"analyse!$B$4-GETPIVOTDATA(\"Nbre de Points\",TDB!$A$4,\"famille\",\"Prépayé\",\"CC\",A6)","v":134},{"$f":"analyse!$C$4-GETPIVOTDATA(\"Nbre de Points\",TDB!$A$4,\"famille\",\"Postpayé\",\"CC\",A6)","v":23},{"$f":"analyse!$D$4-GETPIVOTDATA(\"Nbre de Points\",TDB!$A$4,\"famille\",\"IEW\",\"CC\",A6)","v":37},{"$f":"analyse!$E$4-GETPIVOTDATA(\"Nbre de Points\",TDB!$A$4,\"famille\",\"Flybox\",\"CC\",A6)","v":7},{"$f":"IFERROR((analyse!$F$4-GETPIVOTDATA(\"Nbre de Points\",TDB!$A$4,\"famille\",\"ADSL\",\"CC\",A6)),0)","v":2},{"$f":"analyse!$G$4-LOOKUP($A6,TDB!$A$7:$A$16,TDB!$M$7:$M$16)","v":6},{"$f":"analyse!$G$4-LOOKUP($A6,TDB!$A$7:$A$16,TDB!$K$7:$K$16)","v":9},{"$f":"analyse!$I$4","v":102},{"$f":"analyse!$J$4-LOOKUP($A6,TDB!$A$7:$A$16,TDB!$I$7:$I$16)","v":8},{"$f":"analyse!$K$4-LOOKUP($A6,TDB!$A$7:$A$16,TDB!$N$7:$N$16)","v":-14}]
["SIGHW",{"$f":"analyse!$B$4-GETPIVOTDATA(\"Nbre de Points\",TDB!$A$4,\"famille\",\"Prépayé\",\"CC\",A7)","v":134},{"$f":"analyse!$C$4-GETPIVOTDATA(\"Nbre de Points\",TDB!$A$4,\"famille\",\"Postpayé\",\"CC\",A7)","v":23},{"$f":"analyse!$D$4-GETPIVOTDATA(\"Nbre de Points\",TDB!$A$4,\"famille\",\"IEW\",\"CC\",A7)","v":34},{"$f":"analyse!$E$4-GETPIVOTDATA(\"Nbre de Points\",TDB!$A$4,\"famille\",\"Flybox\",\"CC\",A7)","v":5},{"$f":"IFERROR((analyse!$F$4-GETPIVOTDATA(\"Nbre de Points\",TDB!$A$4,\"famille\",\"ADSL\",\"CC\",A7)),0)","v":2},{"$f":"analyse!$G$4-LOOKUP($A7,TDB!$A$7:$A$16,TDB!$M$7:$M$16)","v":-16},{"$f":"analyse!$G$4-LOOKUP($A7,TDB!$A$7:$A$16,TDB!$K$7:$K$16)","v":4},{"$f":"analyse!$I$4","v":102},{"$f":"analyse!$J$4-LOOKUP($A7,TDB!$A$7:$A$16,TDB!$I$7:$I$16)","v":8},{"$f":"analyse!$K$4-LOOKUP($A7,TDB!$A$7:$A$16,TDB!$N$7:$N$16)","v":-21}]
["AmiraX",{"$f":"analyse!$B$4-GETPIVOTDATA(\"Nbre de Points\",TDB!$A$4,\"famille\",\"Prépayé\",\"CC\",A8)","v":135},{"$f":"analyse!$C$4-GETPIVOTDATA(\"Nbre de Points\",TDB!$A$4,\"famille\",\"Postpayé\",\"CC\",A8)","v":23},{"$f":"analyse!$D$4-GETPIVOTDATA(\"Nbre de Points\",TDB!$A$4,\"famille\",\"IEW\",\"CC\",A8)","v":37},{"$f":"analyse!$E$4-GETPIVOTDATA(\"Nbre de Points\",TDB!$A$4,\"famille\",\"Flybox\",\"CC\",A8)","v":8},{"$f":"IFERROR((analyse!$F$4-GETPIVOTDATA(\"Nbre de Points\",TDB!$A$4,\"famille\",\"ADSL\",\"CC\",A8)),0)","v":2},{"$f":"analyse!$G$4-LOOKUP($A8,TDB!$A$7:$A$16,TDB!$M$7:$M$16)","v":10},{"$f":"analyse!$G$4-LOOKUP($A8,TDB!$A$7:$A$16,TDB!$K$7:$K$16)","v":10},{"$f":"analyse!$I$4","v":102},{"$f":"analyse!$J$4-LOOKUP($A8,TDB!$A$7:$A$16,TDB!$I$7:$I$16)","v":12},{"$f":"analyse!$K$4-LOOKUP($A8,TDB!$A$7:$A$16,TDB!$N$7:$N$16)","v":18}]
["HanenX",{"$f":"analyse!$B$4-GETPIVOTDATA(\"Nbre de Points\",TDB!$A$4,\"famille\",\"Prépayé\",\"CC\",A9)","v":135},{"$f":"analyse!$C$4-GETPIVOTDATA(\"Nbre de Points\",TDB!$A$4,\"famille\",\"Postpayé\",\"CC\",A9)","v":23},{"$f":"analyse!$D$4-GETPIVOTDATA(\"Nbre de Points\",TDB!$A$4,\"famille\",\"IEW\",\"CC\",A9)","v":37},{"$f":"analyse!$E$4-GETPIVOTDATA(\"Nbre de Points\",TDB!$A$4,\"famille\",\"Flybox\",\"CC\",A9)","v":8},{"$f":"IFERROR((analyse!$F$4-GETPIVOTDATA(\"Nbre de Points\",TDB!$A$4,\"famille\",\"ADSL\",\"CC\",A9)),0)","v":1},{"$f":"analyse!$G$4-LOOKUP($A9,TDB!$A$7:$A$16,TDB!$M$7:$M$16)","v":10},{"$f":"analyse!$G$4-LOOKUP($A9,TDB!$A$7:$A$16,TDB!$K$7:$K$16)","v":10},{"$f":"analyse!$I$4","v":102},{"$f":"analyse!$J$4-LOOKUP($A9,TDB!$A$7:$A$16,TDB!$I$7:$I$16)","v":12},{"$f":"analyse!$K$4-LOOKUP($A9,TDB!$A$7:$A$16,TDB!$N$7:$N$16)","v":18}]
["-",{"$f":"analyse!$B$4-GETPIVOTDATA(\"Nbre de Points\",TDB!$A$4,\"famille\",\"Prépayé\",\"CC\",A10)","v":{"$error":"#REF!"}},{"$f":"analyse!$C$4-GETPIVOTDATA(\"Nbre de Points\",TDB!$A$4,\"famille\",\"Postpayé\",\"CC\",A10)","v":{"$error":"#REF!"}},{"$f":"analyse!$D$4-GETPIVOTDATA(\"Nbre de Points\",TDB!$A$4,\"famille\",\"IEW\",\"CC\",A10)","v":{"$error":"#REF!"}},{"$f":"analyse!$E$4-GETPIVOTDATA(\"Nbre de Points\",TDB!$A$4,\"famille\",\"Flybox\",\"CC\",A10)","v":{"$error":"#REF!"}},{"$f":"IFERROR((analyse!$F$4-GETPIVOTDATA(\"Nbre de Points\",TDB!$A$4,\"famille\",\"ADSL\",\"CC\",A10)),0)","v":0},{"$f":"analyse!$G$4-LOOKUP($A10,TDB!$A$7:$A$16,TDB!$M$7:$M$16)","v":{"$error":"#N/A"}},{"$f":"analyse!$G$4-LOOKUP($A10,TDB!$A$7:$A$16,TDB!$K$7:$K$16)","v":{"$error":"#N/A"}},{"$f":"analyse!$I$4","v":102},{"$f":"analyse!$J$4-LOOKUP($A10,TDB!$A$7:$A$16,TDB!$I$7:$I$16)","v":{"$error":"#N/A"}},{"$f":"analyse!$K$4-LOOKUP($A10,TDB!$A$7:$A$16,TDB!$N$7:$N$16)","v":{"$error":"#N/A"}}]
[null,{"$f":"analyse!$B$5-GETPIVOTDATA(\"Nbre de Points\",TDB!$A$4,\"famille\",\"Prépayé\",\"CC\",A11)","v":{"$error":"#REF!"}},{"$f":"analyse!$C$5-GETPIVOTDATA(\"Nbre de Points\",TDB!$A$4,\"famille\",\"Postpayé\",\"CC\",A11)","v":{"$error":"#REF!"}},{"$f":"analyse!$D$5-GETPIVOTDATA(\"Nbre de Points\",TDB!$A$4,\"famille\",\"IEW\",\"CC\",A11)","v":{"$error":"#REF!"}},{"$f":"analyse!$E$5-GETPIVOTDATA(\"Nbre de Points\",TDB!$A$4,\"famille\",\"Flybox\",\"CC\",A11)","v":{"$error":"#REF!"}},{"$f":"IFERROR((analyse!$F$5-GETPIVOTDATA(\"Nbre de Points\",TDB!$A$4,\"famille\",\"ADSL\",\"CC\",A11)),0)","v":0},{"$f":"analyse!$G$5-LOOKUP($A11,TDB!$A$7:$A$16,TDB!$M$7:$M$16)","v":{"$error":"#N/A"}},{"$f":"analyse!$G$5-LOOKUP($A11,TDB!$A$7:$A$16,TDB!$K$7:$K$16)","v":{"$error":"#N/A"}},{"$f":"analyse!$I$5","v":102},{"$f":"analyse!$J$5-LOOKUP($A11,TDB!$A$7:$A$16,TDB!$I$7:$I$16)","v":{"$error":"#N/A"}},{"$f":"analyse!$K$5-LOOKUP($A11,TDB!$A$7:$A$16,TDB!$N$7:$N$16)","v":{"$error":"#N/A"}}]
[null,{"$f":"analyse!$B$5-GETPIVOTDATA(\"Nbre de Points\",TDB!$A$4,\"famille\",\"Prépayé\",\"CC\",A12)","v":{"$error":"#REF!"}},{"$f":"analyse!$C$5-GETPIVOTDATA(\"Nbre de Points\",TDB!$A$4,\"famille\",\"Postpayé\",\"CC\",A12)","v":{"$error":"#REF!"}},{"$f":"analyse!$D$5-GETPIVOTDATA(\"Nbre de Points\",TDB!$A$4,\"famille\",\"IEW\",\"CC\",A12)","v":{"$error":"#REF!"}},{"$f":"analyse!$E$5-GETPIVOTDATA(\"Nbre de Points\",TDB!$A$4,\"famille\",\"Flybox\",\"CC\",A12)","v":{"$error":"#REF!"}},{"$f":"IFERROR((analyse!$F$5-GETPIVOTDATA(\"Nbre de Points\",TDB!$A$4,\"famille\",\"ADSL\",\"CC\",A12)),0)","v":0},{"$f":"analyse!$G$5-LOOKUP($A12,TDB!$A$7:$A$16,TDB!$M$7:$M$16)","v":{"$error":"#N/A"}},{"$f":"analyse!$G$5-LOOKUP($A12,TDB!$A$7:$A$16,TDB!$K$7:$K$16)","v":{"$error":"#N/A"}},{"$f":"analyse!$I$5","v":102},{"$f":"analyse!$J$5-LOOKUP($A12,TDB!$A$7:$A$16,TDB!$I$7:$I$16)","v":{"$error":"#N/A"}},{"$f":"analyse!$K$5-LOOKUP($A12,TDB!$A$7:$A$16,TDB!$N$7:$N$16)","v":{"$error":"#N/A"}}]
[null,{"$f":"analyse!$B$5-GETPIVOTDATA(\"Nbre de Points\",TDB!$A$4,\"famille\",\"Prépayé\",\"CC\",A13)","v":{"$error":"#REF!"}},{"$f":"analyse!$C$5-GETPIVOTDATA(\"Nbre de Points\",TDB!$A$4,\"famille\",\"Postpayé\",\"CC\",A13)","v":{"$error":"#REF!"}},{"$f":"analyse!$D$5-GETPIVOTDATA(\"Nbre de Points\",TDB!$A$4,\"famille\",\"IEW\",\"CC\",A13)","v":{"$error":"#REF!"}},{"$f":"analyse!$E$5-GETPIVOTDATA(\"Nbre de Points\",TDB!$A$4,\"famille\",\"Flybox\",\"CC\",A13)","v":{"$error":"#REF!"}},{"$f":"IFERROR((analyse!$F$5-GETPIVOTDATA(\"Nbre de Points\",TDB!$A$4,\"famille\",\"ADSL\",\"CC\",A13)),0)","v":0},{"$f":"analyse!$G$5-LOOKUP($A13,TDB!$A$7:$A$16,TDB!$M$7:$M$16)","v":{"$error":"#N/A"}},{"$f":"analyse!$G$5-LOOKUP($A13,TDB!$A$7:$A$16,TDB!$K$7:$K$16)","v":{"$error":"#N/A"}},{"$f":"analyse!$I$5","v":102},{"$f":"analyse!$J$5-LOOKUP($A13,TDB!$A$7:$A$16,TDB!$I$7:$I$16)","v":{"$error":"#N/A"}},{"$f":"analyse!$K$5-LOOKUP($A13,TDB!$A$7:$A$16,TDB!$N$7:$N$16)","v":{"$error":"#N/A"}}]
[]
[]
["WALIDMES",{"$f":"analyse!B5-TDB!B19","v":135},{"$f":"analyse!C5-TDB!C19","v":23},{"$f":"analyse!D5-TDB!D19","v":37},{"$f":"analyse!E5-TDB!E19","v":8},{"$f":"analyse!F5-TDB!F19","v":2},{"$f":"analyse!G5-TDB!I19","v":10},{"$f":"analyse!$H$4-TDB!M19","v":18},{"$f":"analyse!I5-TDB!K19","v":102}]
[null,null,null,null,"Reste à activer / jour"]
[null,"Prépayé","Post","IEW","Flybox","ADSL","Portabilité","Equipement","Recharge","Réeng","Relax"]
["ABLOUNA",{"$f":"ROUNDUP((B4/juillet!$B$19),0)","v":9},{"$f":"ROUNDUP((C4/juillet!$B$19),0)","v":2},{"$f":"ROUNDUP((D4/juillet!$B$19),0)","v":3},{"$f":"ROUNDUP((E4/juillet!$B$19),0)","v":1},{"$f":"ROUNDUP((F4/juillet!$B$19),0)","v":1},{"$f":"ROUNDUP((G4/juillet!$B$19),0)","v":1},{"$f":"ROUNDUP((H4/juillet!$B$19),0)","v":1},{"$f":"ROUNDUP((I4/juillet!$B$19),0)","v":8},{"$f":"ROUNDUP((J4/juillet!$B$19),0)","v":1},{"$f":"ROUNDUP((K4/juillet!$B$19),0)","v":2}]
["ASLOGHM",{"$f":"ROUNDUP((B5/juillet!$B$19),0)","v":10},{"$f":"ROUNDUP((C5/juillet!$B$19),0)","v":2},{"$f":"ROUNDUP((D5/juillet!$B$19),0)","v":3},{"$f":"ROUNDUP((E5/juillet!$B$19),0)","v":1},{"$f":"ROUNDUP((F5/juillet!$B$19),0)","v":1},{"$f":"ROUNDUP((G5/juillet!$B$19),0)","v":1},{"$f":"ROUNDUP((H5/juillet!$B$19),0)","v":1},{"$f":"ROUNDUP((I5/juillet!$B$19),0)","v":8},{"$f":"ROUNDUP((J5/juillet!$B$19),0)","v":1},{"$f":"ROUNDUP((K5/juillet!$B$19),0)","v":1}]
["RIGRAIET",{"$f":"ROUNDUP((B6/juillet!$B$19),0)","v":10},{"$f":"ROUNDUP((C6/juillet!$B$19),0)","v":2},{"$f":"ROUNDUP((D6/juillet!$B$19),0)","v":3},{"$f":"ROUNDUP((E6/juillet!$B$19),0)","v":1},{"$f":"ROUNDUP((F6/juillet!$B$19),0)","v":1},{"$f":"ROUNDUP((G6/juillet!$B$19),0)","v":1},{"$f":"ROUNDUP((H6/juillet!$B$19),0)","v":1},{"$f":"ROUNDUP((I6/juillet!$B$19),0)","v":8},{"$f":"ROUNDUP((J6/juillet!$B$19),0)","v":1},{"$f":"ROUNDUP((K6/juillet!$B$19),0)","v":-1}]
["SIGHW",{"$f":"ROUNDUP((B7/juillet!$B$19),0)","v":10},{"$f":"ROUNDUP((C7/juillet!$B$19),0)","v":2},{"$f":"ROUNDUP((D7/juillet!$B$19),0)","v":3},{"$f":"ROUNDUP((E7/juillet!$B$19),0)","v":1},{"$f":"ROUNDUP((F7/juillet!$B$19),0)","v":1},{"$f":"ROUNDUP((G7/juillet!$B$19),0)","v":-2},{"$f":"ROUNDUP((H7/juillet!$B$19),0)","v":1},{"$f":"ROUNDUP((I7/juillet!$B$19),0)","v":8},{"$f":"ROUNDUP((J7/juillet!$B$19),0)","v":1},{"$f":"ROUNDUP((K7/juillet!$B$19),0)","v":-2}]
["AmiraX",{"$f":"ROUNDUP((B8/juillet!$B$19),0)","v":10},{"$f":"ROUNDUP((C8/juillet!$B$19),0)","v":2},{"$f":"ROUNDUP((D8/juillet!$B$19),0)","v":3},{"$f":"ROUNDUP((E8/juillet!$B$19),0)","v":1},{"$f":"ROUNDUP((F8/juillet!$B$19),0)","v":1},{"$f":"ROUNDUP((G8/juillet!$B$19),0)","v":1},{"$f":"ROUNDUP((H8/juillet!$B$19),0)","v":1},{"$f":"ROUNDUP((I8/juillet!$B$19),0)","v":8},{"$f":"ROUNDUP((J8/juillet!$B$19),0)","v":1},{"$f":"ROUNDUP((K8/juillet!$B$19),0)","v":2}]
["HanenX",{"$f":"ROUNDUP((B9/juillet!$B$19),0)","v":10},{"$f":"ROUNDUP((C9/juillet!$B$19),0)","v":2},{"$f":"ROUNDUP((D9/juillet!$B$19),0)","v":3},{"$f":"ROUNDUP((E9/juillet!$B$19),0)","v":1},{"$f":"ROUNDUP((F9/juillet!$B$19),0)","v":1},{"$f":"ROUNDUP((G9/juillet!$B$19),0)","v":1},{"$f":"ROUNDUP((H9/juillet!$B$19),0)","v":1},{"$f":"ROUNDUP((I9/juillet!$B$19),0)","v":8},{"$f":"ROUNDUP((J9/juillet!$B$19),0)","v":1},{"$f":"ROUNDUP((K9/juillet!$B$19),0)","v":2}]
[null,{"$f":"ROUNDUP((B10/juillet!$B$19),0)","v":{"$error":"#REF!"}},{"$f":"ROUNDUP((C10/juillet!$B$19),0)","v":{"$error":"#REF!"}},{"$f":"ROUNDUP((D10/juillet!$B$19),0)","v":{"$error":"#REF!"}},{"$f":"ROUNDUP((E10/juillet!$B$19),0)","v":{"$error":"#REF!"}},{"$f":"ROUNDUP((F10/juillet!$B$19),0)","v":0},{"$f":"ROUNDUP((G10/juillet!$B$19),0)","v":{"$error":"#N/A"}},{"$f":"ROUNDUP((H10/juillet!$B$19),0)","v":{"$error":"#N/A"}},{"$f":"ROUNDUP((I10/juillet!$B$19),0)","v":8},{"$f":"ROUNDUP((J10/juillet!$B$19),0)","v":{"$error":"#N/A"}},{"$f":"ROUNDUP((K10/juillet!$B$19),0)","v":{"$error":"#N/A"}}]
[null,{"$f":"ROUNDUP((B11/juillet!$B$19),0)","v":{"$error":"#REF!"}},{"$f":"ROUNDUP((C11/juillet!$B$19),0)","v":{"$error":"#REF!"}},{"$f":"ROUNDUP((D11/juillet!$B$19),0)","v":{"$error":"#REF!"}},{"$f":"ROUNDUP((E11/juillet!$B$19),0)","v":{"$error":"#REF!"}},{"$f":"ROUNDUP((F11/juillet!$B$19),0)","v":0},{"$f":"ROUNDUP((G11/juillet!$B$19),0)","v":{"$error":"#N/A"}},{"$f":"ROUNDUP((H11/juillet!$B$19),0)","v":{"$error":"#N/A"}},{"$f":"ROUNDUP((I11/juillet!$B$19),0)","v":8},{"$f":"ROUNDUP((J11/juillet!$B$19),0)","v":{"$error":"#N/A"}},{"$f":"ROUNDUP((K11/juillet!$B$19),0)","v":{"$error":"#N/A"}}]
[null,{"$f":"ROUNDUP((B12/juillet!$B$19),0)","v":{"$error":"#REF!"}},{"$f":"ROUNDUP((C12/juillet!$B$19),0)","v":{"$error":"#REF!"}},{"$f":"ROUNDUP((D12/juillet!$B$19),0)","v":{"$error":"#REF!"}},{"$f":"ROUNDUP((E12/juillet!$B$19),0)","v":{"$error":"#REF!"}},{"$f":"ROUNDUP((F12/juillet!$B$19),0)","v":0},{"$f":"ROUNDUP((G12/juillet!$B$19),0)","v":{"$error":"#N/A"}},{"$f":"ROUNDUP((H12/juillet!$B$19),0)","v":{"$error":"#N/A"}},{"$f":"ROUNDUP((I12/juillet!$B$19),0)","v":8},{"$f":"ROUNDUP((J12/juillet!$B$19),0)","v":{"$error":"#N/A"}},{"$f":"ROUNDUP((K12/juillet!$B$19),0)","v":{"$error":"#N/A"}}]
[null,{"$f":"ROUNDUP((B13/juillet!$B$19),0)","v":{"$error":"#REF!"}},{"$f":"ROUNDUP((C13/juillet!$B$19),0)","v":{"$error":"#REF!"}},{"$f":"ROUNDUP((D13/juillet!$B$19),0)","v":{"$error":"#REF!"}},{"$f":"ROUNDUP((E13/juillet!$B$19),0)","v":{"$error":"#REF!"}},{"$f":"ROUNDUP((F13/juillet!$B$19),0)","v":0},{"$f":"ROUNDUP((G13/juillet!$B$19),0)","v":{"$error":"#N/A"}},{"$f":"ROUNDUP((H13/juillet!$B$19),0)","v":{"$error":"#N/A"}},{"$f":"ROUNDUP((I13/juillet!$B$19),0)","v":8},{"$f":"ROUNDUP((J13/juillet!$B$19),0)","v":{"$error":"#N/A"}},{"$f":"ROUNDUP((K13/juillet!$B$19),0)","v":{"$error":"#N/A"}}]

{"sheet":"Spécifique","index":4,"n_rows":14,"n_cols":12,"rows_kept":14,"cut":false,"hidden":true,"merged":[]}
[null,"FLYBOX","POST","porta","Cases","Taux d'atteinte Spécifique","Note d'EVAL","INDIV","INDIV ACCELEL","Commission"]
["AYOUSSE1",{"$f":"VLOOKUP($A2,analyse!$A$8:$K$18,5,0)","v":{"$error":"#N/A"}},{"$f":"VLOOKUP($A2,analyse!$A$8:$K$18,3,0)","v":{"$error":"#N/A"}},{"$f":"VLOOKUP(A2,analyse!A8:I20,8,0)","v":{"$error":"#N/A"}},{"$f":"VLOOKUP(A2,'CAES REJETES'!A:F,6,0)","v":{"$error":"#N/A"}},{"$f":"((B2*15%)+(C2*15%)+(D2*15%)+(E2*15%)/60%)","v":{"$error":"#N/A"}},1,{"$f":"F2+(G2*40%)","v":{"$error":"#N/A"}},{"$f":"IF(H2<100%,H2,L2)","v":{"$error":"#N/A"}},{"$f":"I2*juillet!$B$10","v":{"$error":"#N/A"}},null,{"$f":"100%+((H2-100%)*2)","v":{"$error":"#N/A"}}]
["ECHERIF",{"$f":"VLOOKUP($A3,analyse!$A$8:$K$18,5,0)","v":{"$error":"#N/A"}},{"$f":"VLOOKUP($A3,analyse!$A$8:$K$18,3,0)","v":{"$error":"#N/A"}},{"$f":"VLOOKUP(A3,analyse!A9:I21,8,0)","v":{"$error":"#N/A"}},{"$f":"VLOOKUP(A3,'CAES REJETES'!A:F,6,0)","v":{"$error":"#N/A"}},{"$error":"#N/A"},1,{"$error":"#N/A"},{"$error":"#N/A"},{"$f":"I3*juillet!$B$10","v":{"$error":"#N/A"}},null,{"$error":"#N/A"}]
["FOUADA",{"$f":"VLOOKUP($A4,analyse!$A$8:$K$18,5,0)","v":{"$error":"#N/A"}},{"$f":"VLOOKUP($A4,analyse!$A$8:$K$18,3,0)","v":{"$error":"#N/A"}},{"$f":"VLOOKUP(A4,analyse!A10:I22,8,0)","v":{"$error":"#N/A"}},{"$f":"VLOOKUP(A4,'CAES REJETES'!A:F,6,0)","v":{"$error":"#N/A"}},{"$error":"#N/A"},1,{"$error":"#N/A"},{"$error":"#N/A"},{"$f":"I4*juillet!$B$10","v":{"$error":"#N/A"}},null,{"$error":"#N/A"}]
["HAMEUR",{"$f":"VLOOKUP($A5,analyse!$A$8:$K$18,5,0)","v":{"$error":"#N/A"}},{"$f":"VLOOKUP($A5,analyse!$A$8:$K$18,3,0)","v":{"$error":"#N/A"}},{"$f":"VLOOKUP(A5,analyse!A11:I23,8,0)","v":{"$error":"#N/A"}},{"$f":"VLOOKUP(A5,'CAES REJETES'!A:F,6,0)","v":{"$error":"#N/A"}},{"$error":"#N/A"},1,{"$error":"#N/A"},{"$error":"#N/A"},{"$f":"I5*juillet!$B$10","v":{"$error":"#N/A"}},null,{"$error":"#N/A"}]
["HAMMONG",{"$f":"VLOOKUP($A6,analyse!$A$8:$K$18,5,0)","v":{"$error":"#N/A"}},{"$f":"VLOOKUP($A6,analyse!$A$8:$K$18,3,0)","v":{"$error":"#N/A"}},{"$f":"VLOOKUP(A6,analyse!A12:I24,8,0)","v":{"$error":"#N/A"}},{"$f":"VLOOKUP(A6,'CAES REJETES'!A:F,6,0)","v":{"$error":"#N/A"}},{"$error":"#N/A"},1,{"$error":"#N/A"},{"$error":"#N/A"},{"$f":"I6*juillet!$B$10","v":{"$error":"#N/A"}},null,{"$error":"#N/A"}]
["ISAOUDI",{"$f":"VLOOKUP($A7,analyse!$A$8:$K$18,5,0)","v":{"$error":"#N/A"}},{"$f":"VLOOKUP($A7,analyse!$A$8:$K$18,3,0)","v":{"$error":"#N/A"}},{"$f":"VLOOKUP(A7,analyse!A13:I25,8,0)","v":{"$error":"#N/A"}},{"$f":"VLOOKUP(A7,'CAES REJETES'!A:F,6,0)","v":{"$error":"#N/A"}},{"$error":"#N/A"},1,{"$error":"#N/A"},{"$error":"#N/A"},{"$f":"I7*juillet!$B$10","v":{"$error":"#N/A"}},null,{"$error":"#N/A"}]
["KHMILA",{"$f":"VLOOKUP($A8,analyse!$A$8:$K$18,5,0)","v":{"$error":"#N/A"}},{"$f":"VLOOKUP($A8,analyse!$A$8:$K$18,3,0)","v":{"$error":"#N/A"}},{"$f":"VLOOKUP(A8,analyse!A14:I26,8,0)","v":{"$error":"#N/A"}},{"$f":"VLOOKUP(A8,'CAES REJETES'!A:F,6,0)","v":{"$error":"#N/A"}},{"$error":"#N/A"},0.1,{"$error":"#N/A"},{"$error":"#N/A"},{"$f":"I8*juillet!$B$10","v":{"$error":"#N/A"}},null,{"$error":"#N/A"}]
["MBHASSIN",{"$f":"VLOOKUP($A9,analyse!$A$8:$K$18,5,0)","v":{"$error":"#N/A"}},{"$f":"VLOOKUP($A9,analyse!$A$8:$K$18,3,0)","v":{"$error":"#N/A"}},{"$f":"VLOOKUP(A9,analyse!A15:I27,8,0)","v":{"$error":"#N/A"}},{"$f":"VLOOKUP(A9,'CAES REJETES'!A:F,6,0)","v":{"$error":"#N/A"}},{"$error":"#N/A"},1,{"$error":"#N/A"},{"$error":"#N/A"},{"$f":"I9*juillet!$B$10","v":{"$error":"#N/A"}},null,{"$error":"#N/A"}]
["SDHAHRI",{"$f":"VLOOKUP($A10,analyse!$A$8:$K$18,5,0)","v":{"$error":"#N/A"}},{"$f":"VLOOKUP($A10,analyse!$A$8:$K$18,3,0)","v":{"$error":"#N/A"}},{"$f":"VLOOKUP(A10,analyse!A16:I28,8,0)","v":{"$error":"#N/A"}},{"$f":"VLOOKUP(A10,'CAES REJETES'!A:F,6,0)","v":{"$error":"#N/A"}},{"$error":"#N/A"},1,{"$error":"#N/A"},{"$error":"#N/A"},{"$f":"I10*juillet!$B$10","v":{"$error":"#N/A"}},null,{"$error":"#N/A"}]
["TLEJMI",{"$f":"VLOOKUP($A11,analyse!$A$8:$K$18,5,0)","v":{"$error":"#N/A"}},{"$f":"VLOOKUP($A11,analyse!$A$8:$K$18,3,0)","v":{"$error":"#N/A"}},{"$f":"VLOOKUP(A11,analyse!A17:I29,8,0)","v":{"$error":"#N/A"}},{"$f":"VLOOKUP(A11,'CAES REJETES'!A:F,6,0)","v":{"$error":"#N/A"}},{"$f":"((B11*15%)+(C11*15%)+(D11*15%)+(E11*15%)/60%)","v":{"$error":"#N/A"}},2,{"$f":"F11+(G11*40%)","v":{"$error":"#N/A"}},{"$f":"IF(H11<100%,H11,L11)","v":{"$error":"#N/A"}},{"$f":"I11*juillet!$B$10","v":{"$error":"#N/A"}},null,{"$error":"#N/A"}]
[]
["Moyenne",{"$f":"AVERAGE(F2:F10)","v":{"$error":"#N/A"}}]
["RB",{"$f":"B13*juillet!B14","v":{"$error":"#N/A"}}]

{"sheet":"Contrats","index":5,"n_rows":372,"n_cols":10,"rows_kept":372,"cut":false,"hidden":false,"merged":[]}
["Numéro de Série","MSISDN","DATE","Nom et Prenom","Offre","Groupe Client","Nbre de Points","famille","CC","ETAT"]
["0000001",null,null,null,"Test",null,0,"Prépayé","ABLOUNA",{"$error":"#N/A"}]
["0000002",null,null,null,"Test",null,0,"Prépayé","ASLOGHM",{"$error":"#N/A"}]
["0000003",null,null,null,"Test",null,0,"Prépayé","RIGRAIET",{"$error":"#N/A"}]
["0000004",null,null,null,"Test",null,0,"Prépayé","SIGHW",{"$error":"#N/A"}]
["0000005",null,null,null,"Test",null,0,"Prépayé","AmiraX",{"$error":"#N/A"}]
["0000006",null,null,null,"Test",null,0,"Prépayé","HanenX",{"$error":"#N/A"}]
["0000007",null,null,null,"Test",null,0,"Prépayé","-",{"$error":"#N/A"}]
["0000008",null,null,null,"Test",null,0,"Prépayé","-",{"$error":"#N/A"}]
["0000009",null,null,null,"Test",null,0,"Prépayé","-",{"$error":"#N/A"}]
["0000010",null,null,null,"Test",null,0,"Prépayé","-",{"$error":"#N/A"}]
["--","--","--","--","--","--"]
["892160100124728421","51465718","15/08/2017","NEBIL ZAYENI","Clé 3G Pass","Grand public",{"$f":"VLOOKUP(E13,BAREME!A:C,3,0)","v":1},{"$f":"VLOOKUP(E13,BAREME!A:C,2,0)","v":"IEW"},{"$f":"VLOOKUP(A13,SOLD!A:J,2,0)","v":{"$error":"#N/A"}},{"$f":"VLOOKUP(A13,'Doucher contrats'!A:B,2,0)","v":{"$error":"#N/A"}}]
["892160100124728422","51293626","15/08/2017","MONAEM ZORGATI","Clé 3G Simply","Prepaid",{"$f":"VLOOKUP(E14,BAREME!A:C,3,0)","v":1},{"$f":"VLOOKUP(E14,BAREME!A:C,2,0)","v":"IEW"},{"$f":"VLOOKUP(A14,SOLD!A:J,2,0)","v":{"$error":"#N/A"}},{"$f":"VLOOKUP(A14,'Doucher contrats'!A:B,2,0)","v":{"$error":"#N/A"}}]
["892160100124728423","51296198","15/08/2017","FARID KALBOUSI","Clé 3G Pass","Grand public",{"$f":"VLOOKUP(E15,BAREME!A:C,3,0)","v":1},{"$f":"VLOOKUP(E15,BAREME!A:C,2,0)","v":"IEW"},{"$f":"VLOOKUP(A15,SOLD!A:J,2,0)","v":{"$error":"#N/A"}},{"$f":"VLOOKUP(A15,'Doucher contrats'!A:B,2,0)","v":{"$error":"#N/A"}}]
["892160100124728424","51924192","15/08/2017","AHMED HAMED","Clé 3G Simply","Grand public",{"$f":"VLOOKUP(E16,BAREME!A:C,3,0)","v":1},{"$f":"VLOOKUP(E16,BAREME!A:C,2,0)","v":"IEW"},{"$f":"VLOOKUP(A16,SOLD!A:J,2,0)","v":{"$error":"#N/A"}},{"$f":"VLOOKUP(A16,'Doucher contrats'!A:B,2,0)","v":{"$error":"#N/A"}}]
["892160100124728425","51923294","15/08/2017","AHMED HAMED","Clé 3G Simply","Grand public",{"$f":"VLOOKUP(E17,BAREME!A:C,3,0)","v":1},{"$f":"VLOOKUP(E17,BAREME!A:C,2,0)","v":"IEW"},{"$f":"VLOOKUP(A17,SOLD!A:J,2,0)","v":{"$error":"#N/A"}},{"$f":"VLOOKUP(A17,'Doucher contrats'!A:B,2,0)","v":{"$error":"#N/A"}}]
["892160100124728426","51924326","15/08/2017","EL LILI NADIA","Clé 3G Simply","Grand public",{"$f":"VLOOKUP(E18,BAREME!A:C,3,0)","v":1},{"$f":"VLOOKUP(E18,BAREME!A:C,2,0)","v":"IEW"},{"$f":"VLOOKUP(A18,SOLD!A:J,2,0)","v":{"$error":"#N/A"}},{"$f":"VLOOKUP(A18,'Doucher contrats'!A:B,2,0)","v":{"$error":"#N/A"}}]
["892160100124729145","51803600","15/08/2017","HOSNI ABDALLAH","Clé 3G Simply","Grand public",{"$f":"VLOOKUP(E19,BAREME!A:C,3,0)","v":1},{"$f":"VLOOKUP(E19,BAREME!A:C,2,0)","v":"IEW"},{"$f":"VLOOKUP(A19,SOLD!A:J,2,0)","v":"ABLOUNA"},{"$f":"VLOOKUP(A19,'Doucher contrats'!A:B,2,0)","v":{"$error":"#N/A"}}]
["892160100124729149","51289487","15/08/2017","AMIRA SALEM","Clé 3G Pass","Grand public",{"$f":"VLOOKUP(E20,BAREME!A:C,3,0)","v":1},{"$f":"VLOOKUP(E20,BAREME!A:C,2,0)","v":"IEW"},{"$f":"VLOOKUP(A20,SOLD!A:J,2,0)","v":{"$error":"#N/A"}},{"$f":"VLOOKUP(A20,'Doucher contrats'!A:B,2,0)","v":{"$error":"#N/A"}}]
["892160100124729151","51292383","15/08/2017","SARA SMA","Clé 3G Pass","Grand public",{"$f":"VLOOKUP(E21,BAREME!A:C,3,0)","v":1},{"$f":"VLOOKUP(E21,BAREME!A:C,2,0)","v":"IEW"},{"$f":"VLOOKUP(A21,SOLD!A:J,2,0)","v":{"$error":"#N/A"}},{"$f":"VLOOKUP(A21,'Doucher contrats'!A:B,2,0)","v":{"$error":"#N/A"}}]
["892160100124729152","51436814","15/08/2017","OUMAIMA MARZOUK","Clé 3G Pass","Grand public",{"$f":"VLOOKUP(E22,BAREME!A:C,3,0)","v":1},{"$f":"VLOOKUP(E22,BAREME!A:C,2,0)","v":"IEW"},{"$f":"VLOOKUP(A22,SOLD!A:J,2,0)","v":"ASLOGHM"},{"$f":"VLOOKUP(A22,'Doucher contrats'!A:B,2,0)","v":{"$error":"#N/A"}}]
["892160100124729153","51266763","15/08/2017","ANIS ECHATTI","Clé 3G Pass","Grand public",{"$f":"VLOOKUP(E23,BAREME!A:C,3,0)","v":1},{"$f":"VLOOKUP(E23,BAREME!A:C,2,0)","v":"IEW"},{"$f":"VLOOKUP(A23,SOLD!A:J,2,0)","v":"SIGHW"},{"$f":"VLOOKUP(A23,'Doucher contrats'!A:B,2,0)","v":{"$error":"#N/A"}}]
["892160100124729154","51401002","15/08/2017","FATHI AMARA","Clé 3G Simply","Grand public",{"$f":"VLOOKUP(E24,BAREME!A:C,3,0)","v":1},{"$f":"VLOOKUP(E24,BAREME!A:C,2,0)","v":"IEW"},{"$f":"VLOOKUP(A24,SOLD!A:J,2,0)","v":"ASLOGHM"},{"$f":"VLOOKUP(A24,'Doucher contrats'!A:B,2,0)","v":{"$error":"#N/A"}}]
["892160100122554915","58915358","15/08/2017","ANIS ECHATTI","Welcome sim","Grand public",{"$f":"VLOOKUP(E25,BAREME!A:C,3,0)","v":1},{"$f":"VLOOKUP(E25,BAREME!A:C,2,0)","v":"Prépayé"},{"$f":"VLOOKUP(A25,SOLD!A:J,2,0)","v":"SIGHW"},{"$f":"VLOOKUP(A25,'Doucher contrats'!A:B,2,0)","v":{"$error":"#N/A"}}]
["892160100122554924","53215420","15/08/2017","ABD AZIZ DHIBE","1000 Pourcent","Prepaid",{"$f":"VLOOKUP(E26,BAREME!A:C,3,0)","v":1},{"$f":"VLOOKUP(E26,BAREME!A:C,2,0)","v":"Prépayé"},{"$f":"VLOOKUP(A26,SOLD!A:J,2,0)","v":"ABLOUNA"},{"$f":"VLOOKUP(A26,'Doucher contrats'!A:B,2,0)","v":{"$error":"#N/A"}}]
["892160100122554927","56321129","15/08/2017","HAMZA WARTENI","1000 Pourcent","Grand public",{"$f":"VLOOKUP(E27,BAREME!A:C,3,0)","v":1},{"$f":"VLOOKUP(E27,BAREME!A:C,2,0)","v":"Prépayé"},{"$f":"VLOOKUP(A27,SOLD!A:J,2,0)","v":{"$error":"#N/A"}},{"$f":"VLOOKUP(A27,'Doucher contrats'!A:B,2,0)","v":{"$error":"#N/A"}}]
["892160100122554928","58950810","15/08/2017","FARID KALBOUSI","1000 Pourcent","Grand public",{"$f":"VLOOKUP(E28,BAREME!A:C,3,0)","v":1},{"$f":"VLOOKUP(E28,BAREME!A:C,2,0)","v":"Prépayé"},{"$f":"VLOOKUP(A28,SOLD!A:J,2,0)","v":{"$error":"#N/A"}},{"$f":"VLOOKUP(A28,'Doucher contrats'!A:B,2,0)","v":{"$error":"#N/A"}}]
["892160100122554929","55480447","15/08/2017","MARWEN EL KARAKNI","1000 Pourcent","Prepaid",{"$f":"VLOOKUP(E29,BAREME!A:C,3,0)","v":1},{"$f":"VLOOKUP(E29,BAREME!A:C,2,0)","v":"Prépayé"},{"$f":"VLOOKUP(A29,SOLD!A:J,2,0)","v":{"$error":"#N/A"}},{"$f":"VLOOKUP(A29,'Doucher contrats'!A:B,2,0)","v":{"$error":"#N/A"}}]
["892160100122554930","54217533","15/08/2017","OUMAIMA MARZOUK","1000 Pourcent","Grand public",{"$f":"VLOOKUP(E30,BAREME!A:C,3,0)","v":1},{"$f":"VLOOKUP(E30,BAREME!A:C,2,0)","v":"Prépayé"},{"$f":"VLOOKUP(A30,SOLD!A:J,2,0)","v":"ASLOGHM"},{"$f":"VLOOKUP(A30,'Doucher contrats'!A:B,2,0)","v":{"$error":"#N/A"}}]
["892160100122554931","52373302","15/08/2017","AMIRA SALEM","1000 Pourcent","Grand public",{"$f":"VLOOKUP(E31,BAREME!A:C,3,0)","v":1},{"$f":"VLOOKUP(E31,BAREME!A:C,2,0)","v":"Prépayé"},{"$f":"VLOOKUP(A31,SOLD!A:J,2,0)","v":{"$error":"#N/A"}},{"$f":"VLOOKUP(A31,'Doucher contrats'!A:B,2,0)","v":{"$error":"#N/A"}}]
["892160100122554932","54552487","15/08/2017","HABIB EL KHEDHIRI","1000 Pourcent","Prepaid",{"$f":"VLOOKUP(E32,BAREME!A:C,3,0)","v":1},{"$f":"VLOOKUP(E32,BAREME!A:C,2,0)","v":"Prépayé"},{"$f":"VLOOKUP(A32,SOLD!A:J,2,0)","v":"ABLOUNA"},{"$f":"VLOOKUP(A32,'Doucher contrats'!A:B,2,0)","v":{"$error":"#N/A"}}]
["892160100122554935","54981400","15/08/2017","HABIB EL KHEDHIRI","1000 Pourcent","Prepaid",{"$f":"VLOOKUP(E33,BAREME!A:C,3,0)","v":1},{"$f":"VLOOKUP(E33,BAREME!A:C,2,0)","v":"Prépayé"},{"$f":"VLOOKUP(A33,SOLD!A:J,2,0)","v":"ABLOUNA"},{"$f":"VLOOKUP(A33,'Doucher contrats'!A:B,2,0)","v":{"$error":"#N/A"}}]
["892160100122554944","55201225","15/08/2017","SAID IMEM","1000 Pourcent","Grand public",{"$f":"VLOOKUP(E34,BAREME!A:C,3,0)","v":1},{"$f":"VLOOKUP(E34,BAREME!A:C,2,0)","v":"Prépayé"},{"$f":"VLOOKUP(A34,SOLD!A:J,2,0)","v":"ASLOGHM"},{"$f":"VLOOKUP(A34,'Doucher contrats'!A:B,2,0)","v":{"$error":"#N/A"}}]
["892160100122554946","53885196","15/08/2017","AHMED CHAKROUN","1000 Pourcent","Grand public",{"$f":"VLOOKUP(E35,BAREME!A:C,3,0)","v":1},{"$f":"VLOOKUP(E35,BAREME!A:C,2,0)","v":"Prépayé"},{"$f":"VLOOKUP(A35,SOLD!A:J,2,0)","v":"ASLOGHM"},{"$f":"VLOOKUP(A35,'Doucher contrats'!A:B,2,0)","v":{"$error":"#N/A"}}]
["892160100122554947","54601093","15/08/2017","MOHAMED GARBI","1000 Pourcent","Grand public",{"$f":"VLOOKUP(E36,BAREME!A:C,3,0)","v":1},{"$f":"VLOOKUP(E36,BAREME!A:C,2,0)","v":"Prépayé"},{"$f":"VLOOKUP(A36,SOLD!A:J,2,0)","v":"ASLOGHM"},{"$f":"VLOOKUP(A36,'Doucher contrats'!A:B,2,0)","v":{"$error":"#N/A"}}]
["892160100122554948","52370269","15/08/2017","SARA SMA","1000 Pourcent","Grand public",{"$f":"VLOOKUP(E37,BAREME!A:C,3,0)","v":1},{"$f":"VLOOKUP(E37,BAREME!A:C,2,0)","v":"Prépayé"},{"$f":"VLOOKUP(A37,SOLD!A:J,2,0)","v":{"$error":"#N/A"}},{"$f":"VLOOKUP(A37,'Doucher contrats'!A:B,2,0)","v":{"$error":"#N/A"}}]
["892160100122555717","50563196","15/08/2017","HATEM GAICHE","1000 Pourcent","Grand public",{"$f":"VLOOKUP(E38,BAREME!A:C,3,0)","v":1},{"$f":"VLOOKUP(E38,BAREME!A:C,2,0)","v":"Prépayé"},{"$f":"VLOOKUP(A38,SOLD!A:J,2,0)","v":"RIGRAIET"},{"$f":"VLOOKUP(A38,'Doucher contrats'!A:B,2,0)","v":{"$error":"#N/A"}}]
["892160100122555718","50916104","15/08/2017","NEBIL ZAYENI","1000 Pourcent","Grand public",{"$f":"VLOOKUP(E39,BAREME!A:C,3,0)","v":1},{"$f":"VLOOKUP(E39,BAREME!A:C,2,0)","v":"Prépayé"},{"$f":"VLOOKUP(A39,SOLD!A:J,2,0)","v":{"$error":"#N/A"}},{"$f":"VLOOKUP(A39,'Doucher contrats'!A:B,2,0)","v":{"$error":"#N/A"}}]
["892160100122555727","56320960","15/08/2017","NOURA BOURGUIBA","Welcome sim","Grand public",{"$f":"VLOOKUP(E40,BAREME!A:C,3,0)","v":1},{"$f":"VLOOKUP(E40,BAREME!A:C,2,0)","v":"Prépayé"},{"$f":"VLOOKUP(A40,SOLD!A:J,2,0)","v":"ABLOUNA"},{"$f":"VLOOKUP(A40,'Doucher contrats'!A:B,2,0)","v":{"$error":"#N/A"}}]
["892160100123469072","56732525","15/08/2017","AYMAN BEN SIK ALI","El Jam3ia Mobile","Prepaid",{"$f":"VLOOKUP(E41,BAREME!A:C,3,0)","v":1},{"$f":"VLOOKUP(E41,BAREME!A:C,2,0)","v":"Prépayé"},{"$f":"VLOOKUP(A41,SOLD!A:J,2,0)","v":"ABLOUNA"},{"$f":"VLOOKUP(A41,'Doucher contrats'!A:B,2,0)","v":{"$error":"#N/A"}}]
["892160100123469073","56732526","15/08/2017","AYMAN BEN SIK ALI","El Jam3ia Mobile","Prepaid",{"$f":"VLOOKUP(E42,BAREME!A:C,3,0)","v":1},{"$f":"VLOOKUP(E42,BAREME!A:C,2,0)","v":"Prépayé"},{"$f":"VLOOKUP(A42,SOLD!A:J,2,0)","v":"ABLOUNA"},{"$f":"VLOOKUP(A42,'Doucher contrats'!A:B,2,0)","v":{"$error":"#N/A"}}]
["892160100123469074","56732527","15/08/2017","MOHAMED GHAZI HOUAS","El Jam3ia Mobile","Grand public",{"$f":"VLOOKUP(E43,BAREME!A:C,3,0)","v":1},{"$f":"VLOOKUP(E43,BAREME!A:C,2,0)","v":"Prépayé"},{"$f":"VLOOKUP(A43,SOLD!A:J,2,0)","v":"ASLOGHM"},{"$f":"VLOOKUP(A43,'Doucher contrats'!A:B,2,0)","v":{"$error":"#N/A"}}]
["892160100123469081","56732534","15/08/2017","MAKHLOUF AYMEN","El Jam3ia Mobile","Grand public",{"$f":"VLOOKUP(E44,BAREME!A:C,3,0)","v":1},{"$f":"VLOOKUP(E44,BAREME!A:C,2,0)","v":"Prépayé"},{"$f":"VLOOKUP(A44,SOLD!A:J,2,0)","v":"ASLOGHM"},{"$f":"VLOOKUP(A44,'Doucher contrats'!A:B,2,0)","v":{"$error":"#N/A"}}]
["892160100123469082","56732535","15/08/2017","MAKHLOUF AYMEN","El Jam3ia Mobile","Grand public",{"$f":"VLOOKUP(E45,BAREME!A:C,3,0)","v":1},{"$f":"VLOOKUP(E45,BAREME!A:C,2,0)","v":"Prépayé"},{"$f":"VLOOKUP(A45,SOLD!A:J,2,0)","v":"ASLOGHM"},{"$f":"VLOOKUP(A45,'Doucher contrats'!A:B,2,0)","v":{"$error":"#N/A"}}]
["892160100123469100","56732557","15/08/2017","MOHAMED GHAZI HOUAS","El Jam3ia Mobile","Grand public",{"$f":"VLOOKUP(E46,BAREME!A:C,3,0)","v":1},{"$f":"VLOOKUP(E46,BAREME!A:C,2,0)","v":"Prépayé"},{"$f":"VLOOKUP(A46,SOLD!A:J,2,0)","v":"ASLOGHM"},{"$f":"VLOOKUP(A46,'Doucher contrats'!A:B,2,0)","v":{"$error":"#N/A"}}]
["892160100123469110","56732568","15/08/2017","ALEXIA MACCHIAVELLI","El Jam3ia Mobile","Grand public",{"$f":"VLOOKUP(E47,BAREME!A:C,3,0)","v":1},{"$f":"VLOOKUP(E47,BAREME!A:C,2,0)","v":"Prépayé"},{"$f":"VLOOKUP(A47,SOLD!A:J,2,0)","v":"ABLOUNA"},{"$f":"VLOOKUP(A47,'Doucher contrats'!A:B,2,0)","v":{"$error":"#N/A"}}]
["892160100123469137","56732596","15/08/2017","ABDELHAMID AMIMI","El Jam3ia Mobile","Grand public",{"$f":"VLOOKUP(E48,BAREME!A:C,3,0)","v":1},{"$f":"VLOOKUP(E48,BAREME!A:C,2,0)","v":"Prépayé"},{"$f":"VLOOKUP(A48,SOLD!A:J,2,0)","v":"ABLOUNA"},{"$f":"VLOOKUP(A48,'Doucher contrats'!A:B,2,0)","v":{"$error":"#N/A"}}]
["892160100123469138","56732597","15/08/2017","ABDELHAMID AMIMI","El Jam3ia Mobile","Grand public",{"$f":"VLOOKUP(E49,BAREME!A:C,3,0)","v":1},{"$f":"VLOOKUP(E49,BAREME!A:C,2,0)","v":"Prépayé"},{"$f":"VLOOKUP(A49,SOLD!A:J,2,0)","v":"ABLOUNA"},{"$f":"VLOOKUP(A49,'Doucher contrats'!A:B,2,0)","v":{"$error":"#N/A"}}]
["892160100123469154","56732614","15/08/2017","ELMAHDI BOUHLEL","El Jam3ia Mobile","Prepaid",{"$f":"VLOOKUP(E50,BAREME!A:C,3,0)","v":1},{"$f":"VLOOKUP(E50,BAREME!A:C,2,0)","v":"Prépayé"},{"$f":"VLOOKUP(A50,SOLD!A:J,2,0)","v":"ABLOUNA"},{"$f":"VLOOKUP(A50,'Doucher contrats'!A:B,2,0)","v":{"$error":"#N/A"}}]
["892160100123469165","56732625","15/08/2017","RANIA SABBEGH","El Jam3ia Mobile","Prepaid",{"$f":"VLOOKUP(E51,BAREME!A:C,3,0)","v":1},{"$f":"VLOOKUP(E51,BAREME!A:C,2,0)","v":"Prépayé"},{"$f":"VLOOKUP(A51,SOLD!A:J,2,0)","v":"ABLOUNA"},{"$f":"VLOOKUP(A51,'Doucher contrats'!A:B,2,0)","v":{"$error":"#N/A"}}]
["892160100123469166","56732627","15/08/2017","HABIB EL KHEDHIRI","El Jam3ia Mobile","Prepaid",{"$f":"VLOOKUP(E52,BAREME!A:C,3,0)","v":1},{"$f":"VLOOKUP(E52,BAREME!A:C,2,0)","v":"Prépayé"},{"$f":"VLOOKUP(A52,SOLD!A:J,2,0)","v":"ABLOUNA"},{"$f":"VLOOKUP(A52,'Doucher contrats'!A:B,2,0)","v":{"$error":"#N/A"}}]
["892160100206713346","31504708","14/08/2017","AMINE KALEL","Flybox home","Pro",{"$f":"VLOOKUP(E53,BAREME!A:C,3,0)","v":1},{"$f":"VLOOKUP(E53,BAREME!A:C,2,0)","v":"Flybox"},{"$f":"VLOOKUP(A53,SOLD!A:J,2,0)","v":"ABLOUNA"},{"$f":"VLOOKUP(A53,'Doucher contrats'!A:B,2,0)","v":{"$error":"#N/A"}}]
["892160100206713347","54976261","14/08/2017","MONGI KCHICHI","Flybox MAX","Grand public",{"$f":"VLOOKUP(E54,BAREME!A:C,3,0)","v":1},{"$f":"VLOOKUP(E54,BAREME!A:C,2,0)","v":"Flybox"},{"$f":"VLOOKUP(A54,SOLD!A:J,2,0)","v":"SIGHW"},{"$f":"VLOOKUP(A54,'Doucher contrats'!A:B,2,0)","v":{"$error":"#N/A"}}]
["892160100206713351","54976094","12/08/2017","SAMIR AJROUD","Flybox MAX","Grand public",{"$f":"VLOOKUP(E55,BAREME!A:C,3,0)","v":1},{"$f":"VLOOKUP(E55,BAREME!A:C,2,0)","v":"Flybox"},{"$f":"VLOOKUP(A55,SOLD!A:J,2,0)","v":"RIGRAIET"},{"$f":"VLOOKUP(A55,'Doucher contrats'!A:B,2,0)","v":{"$error":"#N/A"}}]
["892160100206713352","54975985","12/08/2017","AHLEM MZOUGHI","Flybox MAX","Grand public",{"$f":"VLOOKUP(E56,BAREME!A:C,3,0)","v":1},{"$f":"VLOOKUP(E56,BAREME!A:C,2,0)","v":"Flybox"},{"$f":"VLOOKUP(A56,SOLD!A:J,2,0)","v":"ABLOUNA"},{"$f":"VLOOKUP(A56,'Doucher contrats'!A:B,2,0)","v":{"$error":"#N/A"}}]
["892160100117566082","50599444","12/08/2017","BELIGH LADHARI","forfait optima 50","VIP",{"$f":"VLOOKUP(E57,BAREME!A:C,3,0)","v":3},{"$f":"VLOOKUP(E57,BAREME!A:C,2,0)","v":"Postpayé"},{"$f":"VLOOKUP(A57,SOLD!A:J,2,0)","v":"ABLOUNA"},{"$f":"VLOOKUP(A57,'Doucher contrats'!A:B,2,0)","v":{"$error":"#N/A"}}]
["892160100124728442","51252791","11/08/2017","MOHAMED ZGAR","Forfait clé 3G Intense","Grand public",{"$f":"VLOOKUP(E58,BAREME!A:C,3,0)","v":2},{"$f":"VLOOKUP(E58,BAREME!A:C,2,0)","v":"IEW"},{"$f":"VLOOKUP(A58,SOLD!A:J,2,0)","v":"SIGHW"},{"$f":"VLOOKUP(A58,'Doucher contrats'!A:B,2,0)","v":{"$error":"#N/A"}}]
["892160100206713353","54975673","11/08/2017","OTHMAN BEN SALEM","Flybox MAX","Grand public",{"$f":"VLOOKUP(E59,BAREME!A:C,3,0)","v":1},{"$f":"VLOOKUP(E59,BAREME!A:C,2,0)","v":"Flybox"},{"$f":"VLOOKUP(A59,SOLD!A:J,2,0)","v":"SIGHW"},{"$f":"VLOOKUP(A59,'Doucher contrats'!A:B,2,0)","v":{"$error":"#N/A"}}]
["892160100124728418","51469884","08/08/2017","YOUSSEF KRIFA","Clé 3G Pass","Grand public",{"$f":"VLOOKUP(E60,BAREME!A:C,3,0)","v":1},{"$f":"VLOOKUP(E60,BAREME!A:C,2,0)","v":"IEW"},{"$f":"VLOOKUP(A60,SOLD!A:J,2,0)","v":"ASLOGHM"},{"$f":"VLOOKUP(A60,'Doucher contrats'!A:B,2,0)","v":{"$error":"#N/A"}}]
["892160100206713357","54974050","08/08/2017","ROUAA YOUSSEF","Flybox MAX","Grand public",{"$f":"VLOOKUP(E61,BAREME!A:C,3,0)","v":1},{"$f":"VLOOKUP(E61,BAREME!A:C,2,0)","v":"Flybox"},{"$f":"VLOOKUP(A61,SOLD!A:J,2,0)","v":"ABLOUNA"},{"$f":"VLOOKUP(A61,'Doucher contrats'!A:B,2,0)","v":{"$error":"#N/A"}}]
["892160100206713359","54973232","07/08/2017","MONIA BAYA CHTTI","Flybox MAX","Grand public",{"$f":"VLOOKUP(E62,BAREME!A:C,3,0)","v":1},{"$f":"VLOOKUP(E62,BAREME!A:C,2,0)","v":"Flybox"},{"$f":"VLOOKUP(A62,SOLD!A:J,2,0)","v":"ASLOGHM"},{"$f":"VLOOKUP(A62,'Doucher contrats'!A:B,2,0)","v":{"$error":"#N/A"}}]
["892160100206713360","54972224","04/08/2017","WASSILA ESSRIDI","Flybox MAX","Grand public",{"$f":"VLOOKUP(E63,BAREME!A:C,3,0)","v":1},{"$f":"VLOOKUP(E63,BAREME!A:C,2,0)","v":"Flybox"},{"$f":"VLOOKUP(A63,SOLD!A:J,2,0)","v":"ABLOUNA"},{"$f":"VLOOKUP(A63,'Doucher contrats'!A:B,2,0)","v":{"$error":"#N/A"}}]
["892160100122555298","54187357","03/08/2017","WAJDI KHELIFI","forfait mix 15","Grand public",{"$f":"VLOOKUP(E64,BAREME!A:C,3,0)","v":1},{"$f":"VLOOKUP(E64,BAREME!A:C,2,0)","v":"Postpayé"},{"$f":"VLOOKUP(A64,SOLD!A:J,2,0)","v":"ASLOGHM"},{"$f":"VLOOKUP(A64,'Doucher contrats'!A:B,2,0)","v":{"$error":"#N/A"}}]
["892160100206712307","54970854","03/08/2017","SIHEM AMIMI","Flybox MAX","Grand public",{"$f":"VLOOKUP(E65,BAREME!A:C,3,0)","v":1},{"$f":"VLOOKUP(E65,BAREME!A:C,2,0)","v":"Flybox"},{"$f":"VLOOKUP(A65,SOLD!A:J,2,0)","v":"SIGHW"},{"$f":"VLOOKUP(A65,'Doucher contrats'!A:B,2,0)","v":{"$error":"#N/A"}}]
["892160100206712303","31511666","01/08/2017","STE OCEAN INFORMATIQUE","Flybox home","Pro",{"$f":"VLOOKUP(E66,BAREME!A:C,3,0)","v":1},{"$f":"VLOOKUP(E66,BAREME!A:C,2,0)","v":"Flybox"},{"$f":"VLOOKUP(A66,SOLD!A:J,2,0)","v":"ABLOUNA"},{"$f":"VLOOKUP(A66,'Doucher contrats'!A:B,2,0)","v":{"$error":"#N/A"}}]
["892160100122555460","54217995","31/07/2017","MED BELKACEM","Edawa5","Grand public",{"$f":"VLOOKUP(E67,BAREME!A:C,3,0)","v":1},{"$f":"VLOOKUP(E67,BAREME!A:C,2,0)","v":"Prépayé"},{"$f":"VLOOKUP(A67,SOLD!A:J,2,0)","v":{"$error":"#N/A"}},{"$f":"VLOOKUP(A67,'Doucher contrats'!A:B,2,0)","v":{"$error":"#N/A"}}]
["TG4566688888","77123132","01/08/2017","Sleh Amri","ADSL HOME","ADSL",{"$f":"VLOOKUP(E68,BAREME!A:C,3,0)","v":1},{"$f":"VLOOKUP(E68,BAREME!A:C,2,0)","v":"ADSL"},{"$f":"VLOOKUP(A68,SOLD!A:J,2,0)","v":"HanenX"},{"$f":"VLOOKUP(A68,'Doucher contrats'!A:B,2,0)","v":{"$error":"#N/A"}}]
[null,null,null,null,null,null,{"$f":"VLOOKUP(E69,BAREME!A:C,3,0)","v":{"$error":"#N/A"}},{"$f":"VLOOKUP(E69,BAREME!A:C,2,0)","v":{"$error":"#N/A"}},{"$f":"VLOOKUP(A69,SOLD!A:J,2,0)","v":{"$error":"#N/A"}},{"$f":"VLOOKUP(A69,'Doucher contrats'!A:B,2,0)","v":{"$error":"#N/A"}}]
[null,null,null,null,null,null,{"$f":"VLOOKUP(E70,BAREME!A:C,3,0)","v":{"$error":"#N/A"}},{"$f":"VLOOKUP(E70,BAREME!A:C,2,0)","v":{"$error":"#N/A"}},{"$f":"VLOOKUP(A70,SOLD!A:J,2,0)","v":{"$error":"#N/A"}},{"$f":"VLOOKUP(A70,'Doucher contrats'!A:B,2,0)","v":{"$error":"#N/A"}}]
[null,null,null,null,null,null,{"$f":"VLOOKUP(E71,BAREME!A:C,3,0)","v":{"$error":"#N/A"}},{"$f":"VLOOKUP(E71,BAREME!A:C,2,0)","v":{"$error":"#N/A"}},{"$f":"VLOOKUP(A71,SOLD!A:J,2,0)","v":{"$error":"#N/A"}},{"$f":"VLOOKUP(A71,'Doucher contrats'!A:B,2,0)","v":{"$error":"#N/A"}}]
[null,null,null,null,null,null,{"$f":"VLOOKUP(E72,BAREME!A:C,3,0)","v":{"$error":"#N/A"}},{"$f":"VLOOKUP(E72,BAREME!A:C,2,0)","v":{"$error":"#N/A"}},{"$f":"VLOOKUP(A72,SOLD!A:J,2,0)","v":{"$error":"#N/A"}},{"$f":"VLOOKUP(A72,'Doucher contrats'!A:B,2,0)","v":{"$error":"#N/A"}}]
[null,null,null,null,null,null,{"$f":"VLOOKUP(E73,BAREME!A:C,3,0)","v":{"$error":"#N/A"}},{"$f":"VLOOKUP(E73,BAREME!A:C,2,0)","v":{"$error":"#N/A"}},{"$f":"VLOOKUP(A73,SOLD!A:J,2,0)","v":{"$error":"#N/A"}},{"$f":"VLOOKUP(A73,'Doucher contrats'!A:B,2,0)","v":{"$error":"#N/A"}}]
[null,null,null,null,null,null,{"$f":"VLOOKUP(E74,BAREME!A:C,3,0)","v":{"$error":"#N/A"}},{"$f":"VLOOKUP(E74,BAREME!A:C,2,0)","v":{"$error":"#N/A"}},{"$f":"VLOOKUP(A74,SOLD!A:J,2,0)","v":{"$error":"#N/A"}},{"$f":"VLOOKUP(A74,'Doucher contrats'!A:B,2,0)","v":{"$error":"#N/A"}}]
[null,null,null,null,null,null,{"$f":"VLOOKUP(E75,BAREME!A:C,3,0)","v":{"$error":"#N/A"}},{"$f":"VLOOKUP(E75,BAREME!A:C,2,0)","v":{"$error":"#N/A"}},{"$f":"VLOOKUP(A75,SOLD!A:J,2,0)","v":{"$error":"#N/A"}},{"$f":"VLOOKUP(A75,'Doucher contrats'!A:B,2,0)","v":{"$error":"#N/A"}}]
[null,null,null,null,null,null,{"$f":"VLOOKUP(E76,BAREME!A:C,3,0)","v":{"$error":"#N/A"}},{"$f":"VLOOKUP(E76,BAREME!A:C,2,0)","v":{"$error":"#N/A"}},{"$f":"VLOOKUP(A76,SOLD!A:J,2,0)","v":{"$error":"#N/A"}},{"$f":"VLOOKUP(A76,'Doucher contrats'!A:B,2,0)","v":{"$error":"#N/A"}}]
[null,null,null,null,null,null,{"$f":"VLOOKUP(E77,BAREME!A:C,3,0)","v":{"$error":"#N/A"}},{"$f":"VLOOKUP(E77,BAREME!A:C,2,0)","v":{"$error":"#N/A"}},{"$f":"VLOOKUP(A77,SOLD!A:J,2,0)","v":{"$error":"#N/A"}},{"$f":"VLOOKUP(A77,'Doucher contrats'!A:B,2,0)","v":{"$error":"#N/A"}}]
[null,null,null,null,null,null,{"$f":"VLOOKUP(E78,BAREME!A:C,3,0)","v":{"$error":"#N/A"}},{"$f":"VLOOKUP(E78,BAREME!A:C,2,0)","v":{"$error":"#N/A"}},{"$f":"VLOOKUP(A78,SOLD!A:J,2,0)","v":{"$error":"#N/A"}},{"$f":"VLOOKUP(A78,'Doucher contrats'!A:B,2,0)","v":{"$error":"#N/A"}}]
[null,null,null,null,null,null,{"$f":"VLOOKUP(E79,BAREME!A:C,3,0)","v":{"$error":"#N/A"}},{"$f":"VLOOKUP(E79,BAREME!A:C,2,0)","v":{"$error":"#N/A"}},{"$f":"VLOOKUP(A79,SOLD!A:J,2,0)","v":{"$error":"#N/A"}},{"$f":"VLOOKUP(A79,'Doucher contrats'!A:B,2,0)","v":{"$error":"#N/A"}}]
[null,null,null,null,null,null,{"$f":"VLOOKUP(E80,BAREME!A:C,3,0)","v":{"$error":"#N/A"}},{"$f":"VLOOKUP(E80,BAREME!A:C,2,0)","v":{"$error":"#N/A"}},{"$f":"VLOOKUP(A80,SOLD!A:J,2,0)","v":{"$error":"#N/A"}},{"$f":"VLOOKUP(A80,'Doucher contrats'!A:B,2,0)","v":{"$error":"#N/A"}}]
[null,null,null,null,null,null,{"$f":"VLOOKUP(E81,BAREME!A:C,3,0)","v":{"$error":"#N/A"}},{"$f":"VLOOKUP(E81,BAREME!A:C,2,0)","v":{"$error":"#N/A"}},{"$f":"VLOOKUP(A81,SOLD!A:J,2,0)","v":{"$error":"#N/A"}},{"$f":"VLOOKUP(A81,'Doucher contrats'!A:B,2,0)","v":{"$error":"#N/A"}}]
[null,null,null,null,null,null,{"$f":"VLOOKUP(E82,BAREME!A:C,3,0)","v":{"$error":"#N/A"}},{"$f":"VLOOKUP(E82,BAREME!A:C,2,0)","v":{"$error":"#N/A"}},{"$f":"VLOOKUP(A82,SOLD!A:J,2,0)","v":{"$error":"#N/A"}},{"$f":"VLOOKUP(A82,'Doucher contrats'!A:B,2,0)","v":{"$error":"#N/A"}}]
[null,null,null,null,null,null,{"$f":"VLOOKUP(E83,BAREME!A:C,3,0)","v":{"$error":"#N/A"}},{"$f":"VLOOKUP(E83,BAREME!A:C,2,0)","v":{"$error":"#N/A"}},{"$f":"VLOOKUP(A83,SOLD!A:J,2,0)","v":{"$error":"#N/A"}},{"$f":"VLOOKUP(A83,'Doucher contrats'!A:B,2,0)","v":{"$error":"#N/A"}}]
[null,null,null,null,null,null,{"$f":"VLOOKUP(E84,BAREME!A:C,3,0)","v":{"$error":"#N/A"}},{"$f":"VLOOKUP(E84,BAREME!A:C,2,0)","v":{"$error":"#N/A"}},{"$f":"VLOOKUP(A84,SOLD!A:J,2,0)","v":{"$error":"#N/A"}},{"$f":"VLOOKUP(A84,'Doucher contrats'!A:B,2,0)","v":{"$error":"#N/A"}}]
[null,null,null,null,null,null,{"$f":"VLOOKUP(E85,BAREME!A:C,3,0)","v":{"$error":"#N/A"}},{"$f":"VLOOKUP(E85,BAREME!A:C,2,0)","v":{"$error":"#N/A"}},{"$f":"VLOOKUP(A85,SOLD!A:J,2,0)","v":{"$error":"#N/A"}},{"$f":"VLOOKUP(A85,'Doucher contrats'!A:B,2,0)","v":{"$error":"#N/A"}}]
[null,null,null,null,null,null,{"$f":"VLOOKUP(E86,BAREME!A:C,3,0)","v":{"$error":"#N/A"}},{"$f":"VLOOKUP(E86,BAREME!A:C,2,0)","v":{"$error":"#N/A"}},{"$f":"VLOOKUP(A86,SOLD!A:J,2,0)","v":{"$error":"#N/A"}},{"$f":"VLOOKUP(A86,'Doucher contrats'!A:B,2,0)","v":{"$error":"#N/A"}}]
[null,null,null,null,null,null,{"$f":"VLOOKUP(E87,BAREME!A:C,3,0)","v":{"$error":"#N/A"}},{"$f":"VLOOKUP(E87,BAREME!A:C,2,0)","v":{"$error":"#N/A"}},{"$f":"VLOOKUP(A87,SOLD!A:J,2,0)","v":{"$error":"#N/A"}},{"$f":"VLOOKUP(A87,'Doucher contrats'!A:B,2,0)","v":{"$error":"#N/A"}}]
[null,null,null,null,null,null,{"$f":"VLOOKUP(E88,BAREME!A:C,3,0)","v":{"$error":"#N/A"}},{"$f":"VLOOKUP(E88,BAREME!A:C,2,0)","v":{"$error":"#N/A"}},{"$f":"VLOOKUP(A88,SOLD!A:J,2,0)","v":{"$error":"#N/A"}},{"$f":"VLOOKUP(A88,'Doucher contrats'!A:B,2,0)","v":{"$error":"#N/A"}}]
[null,null,null,null,null,null,{"$f":"VLOOKUP(E89,BAREME!A:C,3,0)","v":{"$error":"#N/A"}},{"$f":"VLOOKUP(E89,BAREME!A:C,2,0)","v":{"$error":"#N/A"}},{"$f":"VLOOKUP(A89,SOLD!A:J,2,0)","v":{"$error":"#N/A"}},{"$f":"VLOOKUP(A89,'Doucher contrats'!A:B,2,0)","v":{"$error":"#N/A"}}]
[null,null,null,null,null,null,{"$f":"VLOOKUP(E90,BAREME!A:C,3,0)","v":{"$error":"#N/A"}},{"$f":"VLOOKUP(E90,BAREME!A:C,2,0)","v":{"$error":"#N/A"}},{"$f":"VLOOKUP(A90,SOLD!A:J,2,0)","v":{"$error":"#N/A"}},{"$f":"VLOOKUP(A90,'Doucher contrats'!A:B,2,0)","v":{"$error":"#N/A"}}]
[null,null,null,null,null,null,{"$f":"VLOOKUP(E91,BAREME!A:C,3,0)","v":{"$error":"#N/A"}},{"$f":"VLOOKUP(E91,BAREME!A:C,2,0)","v":{"$error":"#N/A"}},{"$f":"VLOOKUP(A91,SOLD!A:J,2,0)","v":{"$error":"#N/A"}},{"$f":"VLOOKUP(A91,'Doucher contrats'!A:B,2,0)","v":{"$error":"#N/A"}}]
[null,null,null,null,null,null,{"$f":"VLOOKUP(E92,BAREME!A:C,3,0)","v":{"$error":"#N/A"}},{"$f":"VLOOKUP(E92,BAREME!A:C,2,0)","v":{"$error":"#N/A"}},{"$f":"VLOOKUP(A92,SOLD!A:J,2,0)","v":{"$error":"#N/A"}},{"$f":"VLOOKUP(A92,'Doucher contrats'!A:B,2,0)","v":{"$error":"#N/A"}}]
[null,null,null,null,null,null,{"$f":"VLOOKUP(E93,BAREME!A:C,3,0)","v":{"$error":"#N/A"}},{"$f":"VLOOKUP(E93,BAREME!A:C,2,0)","v":{"$error":"#N/A"}},{"$f":"VLOOKUP(A93,SOLD!A:J,2,0)","v":{"$error":"#N/A"}},{"$f":"VLOOKUP(A93,'Doucher contrats'!A:B,2,0)","v":{"$error":"#N/A"}}]
[null,null,null,null,null,null,{"$f":"VLOOKUP(E94,BAREME!A:C,3,0)","v":{"$error":"#N/A"}},{"$f":"VLOOKUP(E94,BAREME!A:C,2,0)","v":{"$error":"#N/A"}},{"$f":"VLOOKUP(A94,SOLD!A:J,2,0)","v":{"$error":"#N/A"}},{"$f":"VLOOKUP(A94,'Doucher contrats'!A:B,2,0)","v":{"$error":"#N/A"}}]
[null,null,null,null,null,null,{"$f":"VLOOKUP(E95,BAREME!A:C,3,0)","v":{"$error":"#N/A"}},{"$f":"VLOOKUP(E95,BAREME!A:C,2,0)","v":{"$error":"#N/A"}},{"$f":"VLOOKUP(A95,SOLD!A:J,2,0)","v":{"$error":"#N/A"}},{"$f":"VLOOKUP(A95,'Doucher contrats'!A:B,2,0)","v":{"$error":"#N/A"}}]
[null,null,null,null,null,null,{"$f":"VLOOKUP(E96,BAREME!A:C,3,0)","v":{"$error":"#N/A"}},{"$f":"VLOOKUP(E96,BAREME!A:C,2,0)","v":{"$error":"#N/A"}},{"$f":"VLOOKUP(A96,SOLD!A:J,2,0)","v":{"$error":"#N/A"}},{"$f":"VLOOKUP(A96,'Doucher contrats'!A:B,2,0)","v":{"$error":"#N/A"}}]
[null,null,null,null,null,null,{"$f":"VLOOKUP(E97,BAREME!A:C,3,0)","v":{"$error":"#N/A"}},{"$f":"VLOOKUP(E97,BAREME!A:C,2,0)","v":{"$error":"#N/A"}},{"$f":"VLOOKUP(A97,SOLD!A:J,2,0)","v":{"$error":"#N/A"}},{"$f":"VLOOKUP(A97,'Doucher contrats'!A:B,2,0)","v":{"$error":"#N/A"}}]
[null,null,null,null,null,null,{"$f":"VLOOKUP(E98,BAREME!A:C,3,0)","v":{"$error":"#N/A"}},{"$f":"VLOOKUP(E98,BAREME!A:C,2,0)","v":{"$error":"#N/A"}},{"$f":"VLOOKUP(A98,SOLD!A:J,2,0)","v":{"$error":"#N/A"}},{"$f":"VLOOKUP(A98,'Doucher contrats'!A:B,2,0)","v":{"$error":"#N/A"}}]
[null,null,null,null,null,null,{"$f":"VLOOKUP(E99,BAREME!A:C,3,0)","v":{"$error":"#N/A"}},{"$f":"VLOOKUP(E99,BAREME!A:C,2,0)","v":{"$error":"#N/A"}},{"$f":"VLOOKUP(A99,SOLD!A:J,2,0)","v":{"$error":"#N/A"}},{"$f":"VLOOKUP(A99,'Doucher contrats'!A:B,2,0)","v":{"$error":"#N/A"}}]
[null,null,null,null,null,null,{"$f":"VLOOKUP(E100,BAREME!A:C,3,0)","v":{"$error":"#N/A"}},{"$f":"VLOOKUP(E100,BAREME!A:C,2,0)","v":{"$error":"#N/A"}},{"$f":"VLOOKUP(A100,SOLD!A:J,2,0)","v":{"$error":"#N/A"}},{"$f":"VLOOKUP(A100,'Doucher contrats'!A:B,2,0)","v":{"$error":"#N/A"}}]
[null,null,null,null,null,null,{"$f":"VLOOKUP(E101,BAREME!A:C,3,0)","v":{"$error":"#N/A"}},{"$f":"VLOOKUP(E101,BAREME!A:C,2,0)","v":{"$error":"#N/A"}},{"$f":"VLOOKUP(A101,SOLD!A:J,2,0)","v":{"$error":"#N/A"}},{"$f":"VLOOKUP(A101,'Doucher contrats'!A:B,2,0)","v":{"$error":"#N/A"}}]
[null,null,null,null,null,null,{"$f":"VLOOKUP(E102,BAREME!A:C,3,0)","v":{"$error":"#N/A"}},{"$f":"VLOOKUP(E102,BAREME!A:C,2,0)","v":{"$error":"#N/A"}},{"$f":"VLOOKUP(A102,SOLD!A:J,2,0)","v":{"$error":"#N/A"}},{"$f":"VLOOKUP(A102,'Doucher contrats'!A:B,2,0)","v":{"$error":"#N/A"}}]
[null,null,null,null,null,null,{"$f":"VLOOKUP(E103,BAREME!A:C,3,0)","v":{"$error":"#N/A"}},{"$f":"VLOOKUP(E103,BAREME!A:C,2,0)","v":{"$error":"#N/A"}},{"$f":"VLOOKUP(A103,SOLD!A:J,2,0)","v":{"$error":"#N/A"}},{"$f":"VLOOKUP(A103,'Doucher contrats'!A:B,2,0)","v":{"$error":"#N/A"}}]
[null,null,null,null,null,null,{"$f":"VLOOKUP(E104,BAREME!A:C,3,0)","v":{"$error":"#N/A"}},{"$f":"VLOOKUP(E104,BAREME!A:C,2,0)","v":{"$error":"#N/A"}},{"$f":"VLOOKUP(A104,SOLD!A:J,2,0)","v":{"$error":"#N/A"}},{"$f":"VLOOKUP(A104,'Doucher contrats'!A:B,2,0)","v":{"$error":"#N/A"}}]
[null,null,null,null,null,null,{"$f":"VLOOKUP(E105,BAREME!A:C,3,0)","v":{"$error":"#N/A"}},{"$f":"VLOOKUP(E105,BAREME!A:C,2,0)","v":{"$error":"#N/A"}},{"$f":"VLOOKUP(A105,SOLD!A:J,2,0)","v":{"$error":"#N/A"}},{"$f":"VLOOKUP(A105,'Doucher contrats'!A:B,2,0)","v":{"$error":"#N/A"}}]
[null,null,null,null,null,null,{"$f":"VLOOKUP(E106,BAREME!A:C,3,0)","v":{"$error":"#N/A"}},{"$f":"VLOOKUP(E106,BAREME!A:C,2,0)","v":{"$error":"#N/A"}},{"$f":"VLOOKUP(A106,SOLD!A:J,2,0)","v":{"$error":"#N/A"}},{"$f":"VLOOKUP(A106,'Doucher contrats'!A:B,2,0)","v":{"$error":"#N/A"}}]
[null,null,null,null,null,null,{"$f":"VLOOKUP(E107,BAREME!A:C,3,0)","v":{"$error":"#N/A"}},{"$f":"VLOOKUP(E107,BAREME!A:C,2,0)","v":{"$error":"#N/A"}},{"$f":"VLOOKUP(A107,SOLD!A:J,2,0)","v":{"$error":"#N/A"}},{"$f":"VLOOKUP(A107,'Doucher contrats'!A:B,2,0)","v":{"$error":"#N/A"}}]
[null,null,null,null,null,null,{"$f":"VLOOKUP(E108,BAREME!A:C,3,0)","v":{"$error":"#N/A"}},{"$f":"VLOOKUP(E108,BAREME!A:C,2,0)","v":{"$error":"#N/A"}},{"$f":"VLOOKUP(A108,SOLD!A:J,2,0)","v":{"$error":"#N/A"}},{"$f":"VLOOKUP(A108,'Doucher contrats'!A:B,2,0)","v":{"$error":"#N/A"}}]
[null,null,null,null,null,null,{"$f":"VLOOKUP(E109,BAREME!A:C,3,0)","v":{"$error":"#N/A"}},{"$f":"VLOOKUP(E109,BAREME!A:C,2,0)","v":{"$error":"#N/A"}},{"$f":"VLOOKUP(A109,SOLD!A:J,2,0)","v":{"$error":"#N/A"}},{"$f":"VLOOKUP(A109,'Doucher contrats'!A:B,2,0)","v":{"$error":"#N/A"}}]
[null,null,null,null,null,null,{"$f":"VLOOKUP(E110,BAREME!A:C,3,0)","v":{"$error":"#N/A"}},{"$f":"VLOOKUP(E110,BAREME!A:C,2,0)","v":{"$error":"#N/A"}},{"$f":"VLOOKUP(A110,SOLD!A:J,2,0)","v":{"$error":"#N/A"}},{"$f":"VLOOKUP(A110,'Doucher contrats'!A:B,2,0)","v":{"$error":"#N/A"}}]
[null,null,null,null,null,null,{"$f":"VLOOKUP(E111,BAREME!A:C,3,0)","v":{"$error":"#N/A"}},{"$f":"VLOOKUP(E111,BAREME!A:C,2,0)","v":{"$error":"#N/A"}},{"$f":"VLOOKUP(A111,SOLD!A:J,2,0)","v":{"$error":"#N/A"}},{"$f":"VLOOKUP(A111,'Doucher contrats'!A:B,2,0)","v":{"$error":"#N/A"}}]
[null,null,null,null,null,null,{"$f":"VLOOKUP(E112,BAREME!A:C,3,0)","v":{"$error":"#N/A"}},{"$f":"VLOOKUP(E112,BAREME!A:C,2,0)","v":{"$error":"#N/A"}},{"$f":"VLOOKUP(A112,SOLD!A:J,2,0)","v":{"$error":"#N/A"}},{"$f":"VLOOKUP(A112,'Doucher contrats'!A:B,2,0)","v":{"$error":"#N/A"}}]
[null,null,null,null,null,null,{"$f":"VLOOKUP(E113,BAREME!A:C,3,0)","v":{"$error":"#N/A"}},{"$f":"VLOOKUP(E113,BAREME!A:C,2,0)","v":{"$error":"#N/A"}},{"$f":"VLOOKUP(A113,SOLD!A:J,2,0)","v":{"$error":"#N/A"}},{"$f":"VLOOKUP(A113,'Doucher contrats'!A:B,2,0)","v":{"$error":"#N/A"}}]
[null,null,null,null,null,null,{"$f":"VLOOKUP(E114,BAREME!A:C,3,0)","v":{"$error":"#N/A"}},{"$f":"VLOOKUP(E114,BAREME!A:C,2,0)","v":{"$error":"#N/A"}},{"$f":"VLOOKUP(A114,SOLD!A:J,2,0)","v":{"$error":"#N/A"}},{"$f":"VLOOKUP(A114,'Doucher contrats'!A:B,2,0)","v":{"$error":"#N/A"}}]
[null,null,null,null,null,null,{"$f":"VLOOKUP(E115,BAREME!A:C,3,0)","v":{"$error":"#N/A"}},{"$f":"VLOOKUP(E115,BAREME!A:C,2,0)","v":{"$error":"#N/A"}},{"$f":"VLOOKUP(A115,SOLD!A:J,2,0)","v":{"$error":"#N/A"}},{"$f":"VLOOKUP(A115,'Doucher contrats'!A:B,2,0)","v":{"$error":"#N/A"}}]
[null,null,null,null,null,null,{"$f":"VLOOKUP(E116,BAREME!A:C,3,0)","v":{"$error":"#N/A"}},{"$f":"VLOOKUP(E116,BAREME!A:C,2,0)","v":{"$error":"#N/A"}},{"$f":"VLOOKUP(A116,SOLD!A:J,2,0)","v":{"$error":"#N/A"}},{"$f":"VLOOKUP(A116,'Doucher contrats'!A:B,2,0)","v":{"$error":"#N/A"}}]
[null,null,null,null,null,null,{"$f":"VLOOKUP(E117,BAREME!A:C,3,0)","v":{"$error":"#N/A"}},{"$f":"VLOOKUP(E117,BAREME!A:C,2,0)","v":{"$error":"#N/A"}},{"$f":"VLOOKUP(A117,SOLD!A:J,2,0)","v":{"$error":"#N/A"}},{"$f":"VLOOKUP(A117,'Doucher contrats'!A:B,2,0)","v":{"$error":"#N/A"}}]
[null,null,null,null,null,null,{"$f":"VLOOKUP(E118,BAREME!A:C,3,0)","v":{"$error":"#N/A"}},{"$f":"VLOOKUP(E118,BAREME!A:C,2,0)","v":{"$error":"#N/A"}},{"$f":"VLOOKUP(A118,SOLD!A:J,2,0)","v":{"$error":"#N/A"}},{"$f":"VLOOKUP(A118,'Doucher contrats'!A:B,2,0)","v":{"$error":"#N/A"}}]
[null,null,null,null,null,null,{"$f":"VLOOKUP(E119,BAREME!A:C,3,0)","v":{"$error":"#N/A"}},{"$f":"VLOOKUP(E119,BAREME!A:C,2,0)","v":{"$error":"#N/A"}},{"$f":"VLOOKUP(A119,SOLD!A:J,2,0)","v":{"$error":"#N/A"}},{"$f":"VLOOKUP(A119,'Doucher contrats'!A:B,2,0)","v":{"$error":"#N/A"}}]
[null,null,null,null,null,null,{"$f":"VLOOKUP(E120,BAREME!A:C,3,0)","v":{"$error":"#N/A"}},{"$f":"VLOOKUP(E120,BAREME!A:C,2,0)","v":{"$error":"#N/A"}},{"$f":"VLOOKUP(A120,SOLD!A:J,2,0)","v":{"$error":"#N/A"}},{"$f":"VLOOKUP(A120,'Doucher contrats'!A:B,2,0)","v":{"$error":"#N/A"}}]
[null,null,null,null,null,null,{"$f":"VLOOKUP(E121,BAREME!A:C,3,0)","v":{"$error":"#N/A"}},{"$f":"VLOOKUP(E121,BAREME!A:C,2,0)","v":{"$error":"#N/A"}},{"$f":"VLOOKUP(A121,SOLD!A:J,2,0)","v":{"$error":"#N/A"}},{"$f":"VLOOKUP(A121,'Doucher contrats'!A:B,2,0)","v":{"$error":"#N/A"}}]
[null,null,null,null,null,null,{"$f":"VLOOKUP(E122,BAREME!A:C,3,0)","v":{"$error":"#N/A"}},{"$f":"VLOOKUP(E122,BAREME!A:C,2,0)","v":{"$error":"#N/A"}},{"$f":"VLOOKUP(A122,SOLD!A:J,2,0)","v":{"$error":"#N/A"}},{"$f":"VLOOKUP(A122,'Doucher contrats'!A:B,2,0)","v":{"$error":"#N/A"}}]
[null,null,null,null,null,null,{"$f":"VLOOKUP(E123,BAREME!A:C,3,0)","v":{"$error":"#N/A"}},{"$f":"VLOOKUP(E123,BAREME!A:C,2,0)","v":{"$error":"#N/A"}},{"$f":"VLOOKUP(A123,SOLD!A:J,2,0)","v":{"$error":"#N/A"}},{"$f":"VLOOKUP(A123,'Doucher contrats'!A:B,2,0)","v":{"$error":"#N/A"}}]
[null,null,null,null,null,null,{"$f":"VLOOKUP(E124,BAREME!A:C,3,0)","v":{"$error":"#N/A"}},{"$f":"VLOOKUP(E124,BAREME!A:C,2,0)","v":{"$error":"#N/A"}},{"$f":"VLOOKUP(A124,SOLD!A:J,2,0)","v":{"$error":"#N/A"}},{"$f":"VLOOKUP(A124,'Doucher contrats'!A:B,2,0)","v":{"$error":"#N/A"}}]
[null,null,null,null,null,null,{"$f":"VLOOKUP(E125,BAREME!A:C,3,0)","v":{"$error":"#N/A"}},{"$f":"VLOOKUP(E125,BAREME!A:C,2,0)","v":{"$error":"#N/A"}},{"$f":"VLOOKUP(A125,SOLD!A:J,2,0)","v":{"$error":"#N/A"}},{"$f":"VLOOKUP(A125,'Doucher contrats'!A:B,2,0)","v":{"$error":"#N/A"}}]
[null,null,null,null,null,null,{"$f":"VLOOKUP(E126,BAREME!A:C,3,0)","v":{"$error":"#N/A"}},{"$f":"VLOOKUP(E126,BAREME!A:C,2,0)","v":{"$error":"#N/A"}},{"$f":"VLOOKUP(A126,SOLD!A:J,2,0)","v":{"$error":"#N/A"}},{"$f":"VLOOKUP(A126,'Doucher contrats'!A:B,2,0)","v":{"$error":"#N/A"}}]
[null,null,null,null,null,null,{"$f":"VLOOKUP(E127,BAREME!A:C,3,0)","v":{"$error":"#N/A"}},{"$f":"VLOOKUP(E127,BAREME!A:C,2,0)","v":{"$error":"#N/A"}},{"$f":"VLOOKUP(A127,SOLD!A:J,2,0)","v":{"$error":"#N/A"}},{"$f":"VLOOKUP(A127,'Doucher contrats'!A:B,2,0)","v":{"$error":"#N/A"}}]
[null,null,null,null,null,null,{"$f":"VLOOKUP(E128,BAREME!A:C,3,0)","v":{"$error":"#N/A"}},{"$f":"VLOOKUP(E128,BAREME!A:C,2,0)","v":{"$error":"#N/A"}},{"$f":"VLOOKUP(A128,SOLD!A:J,2,0)","v":{"$error":"#N/A"}},{"$f":"VLOOKUP(A128,'Doucher contrats'!A:B,2,0)","v":{"$error":"#N/A"}}]
[null,null,null,null,null,null,{"$f":"VLOOKUP(E129,BAREME!A:C,3,0)","v":{"$error":"#N/A"}},{"$f":"VLOOKUP(E129,BAREME!A:C,2,0)","v":{"$error":"#N/A"}},{"$f":"VLOOKUP(A129,SOLD!A:J,2,0)","v":{"$error":"#N/A"}},{"$f":"VLOOKUP(A129,'Doucher contrats'!A:B,2,0)","v":{"$error":"#N/A"}}]
[null,null,null,null,null,null,{"$f":"VLOOKUP(E130,BAREME!A:C,3,0)","v":{"$error":"#N/A"}},{"$f":"VLOOKUP(E130,BAREME!A:C,2,0)","v":{"$error":"#N/A"}},{"$f":"VLOOKUP(A130,SOLD!A:J,2,0)","v":{"$error":"#N/A"}},{"$f":"VLOOKUP(A130,'Doucher contrats'!A:B,2,0)","v":{"$error":"#N/A"}}]
[null,null,null,null,null,null,{"$f":"VLOOKUP(E131,BAREME!A:C,3,0)","v":{"$error":"#N/A"}},{"$f":"VLOOKUP(E131,BAREME!A:C,2,0)","v":{"$error":"#N/A"}},{"$f":"VLOOKUP(A131,SOLD!A:J,2,0)","v":{"$error":"#N/A"}},{"$f":"VLOOKUP(A131,'Doucher contrats'!A:B,2,0)","v":{"$error":"#N/A"}}]
[null,null,null,null,null,null,{"$f":"VLOOKUP(E132,BAREME!A:C,3,0)","v":{"$error":"#N/A"}},{"$f":"VLOOKUP(E132,BAREME!A:C,2,0)","v":{"$error":"#N/A"}},{"$f":"VLOOKUP(A132,SOLD!A:J,2,0)","v":{"$error":"#N/A"}},{"$f":"VLOOKUP(A132,'Doucher contrats'!A:B,2,0)","v":{"$error":"#N/A"}}]
[null,null,null,null,null,null,{"$f":"VLOOKUP(E133,BAREME!A:C,3,0)","v":{"$error":"#N/A"}},{"$f":"VLOOKUP(E133,BAREME!A:C,2,0)","v":{"$error":"#N/A"}},{"$f":"VLOOKUP(A133,SOLD!A:J,2,0)","v":{"$error":"#N/A"}},{"$f":"VLOOKUP(A133,'Doucher contrats'!A:B,2,0)","v":{"$error":"#N/A"}}]
[null,null,null,null,null,null,{"$f":"VLOOKUP(E134,BAREME!A:C,3,0)","v":{"$error":"#N/A"}},{"$f":"VLOOKUP(E134,BAREME!A:C,2,0)","v":{"$error":"#N/A"}},{"$f":"VLOOKUP(A134,SOLD!A:J,2,0)","v":{"$error":"#N/A"}},{"$f":"VLOOKUP(A134,'Doucher contrats'!A:B,2,0)","v":{"$error":"#N/A"}}]
[null,null,null,null,null,null,{"$f":"VLOOKUP(E135,BAREME!A:C,3,0)","v":{"$error":"#N/A"}},{"$f":"VLOOKUP(E135,BAREME!A:C,2,0)","v":{"$error":"#N/A"}},{"$f":"VLOOKUP(A135,SOLD!A:J,2,0)","v":{"$error":"#N/A"}},{"$f":"VLOOKUP(A135,'Doucher contrats'!A:B,2,0)","v":{"$error":"#N/A"}}]
[null,null,null,null,null,null,{"$f":"VLOOKUP(E136,BAREME!A:C,3,0)","v":{"$error":"#N/A"}},{"$f":"VLOOKUP(E136,BAREME!A:C,2,0)","v":{"$error":"#N/A"}},{"$f":"VLOOKUP(A136,SOLD!A:J,2,0)","v":{"$error":"#N/A"}},{"$f":"VLOOKUP(A136,'Doucher contrats'!A:B,2,0)","v":{"$error":"#N/A"}}]
[null,null,null,null,null,null,{"$f":"VLOOKUP(E137,BAREME!A:C,3,0)","v":{"$error":"#N/A"}},{"$f":"VLOOKUP(E137,BAREME!A:C,2,0)","v":{"$error":"#N/A"}},{"$f":"VLOOKUP(A137,SOLD!A:J,2,0)","v":{"$error":"#N/A"}},{"$f":"VLOOKUP(A137,'Doucher contrats'!A:B,2,0)","v":{"$error":"#N/A"}}]
[null,null,null,null,null,null,{"$f":"VLOOKUP(E138,BAREME!A:C,3,0)","v":{"$error":"#N/A"}},{"$f":"VLOOKUP(E138,BAREME!A:C,2,0)","v":{"$error":"#N/A"}},{"$f":"VLOOKUP(A138,SOLD!A:J,2,0)","v":{"$error":"#N/A"}},{"$f":"VLOOKUP(A138,'Doucher contrats'!A:B,2,0)","v":{"$error":"#N/A"}}]
[null,null,null,null,null,null,{"$f":"VLOOKUP(E139,BAREME!A:C,3,0)","v":{"$error":"#N/A"}},{"$f":"VLOOKUP(E139,BAREME!A:C,2,0)","v":{"$error":"#N/A"}},{"$f":"VLOOKUP(A139,SOLD!A:J,2,0)","v":{"$error":"#N/A"}},{"$f":"VLOOKUP(A139,'Doucher contrats'!A:B,2,0)","v":{"$error":"#N/A"}}]
[null,null,null,null,null,null,{"$f":"VLOOKUP(E140,BAREME!A:C,3,0)","v":{"$error":"#N/A"}},{"$f":"VLOOKUP(E140,BAREME!A:C,2,0)","v":{"$error":"#N/A"}},{"$f":"VLOOKUP(A140,SOLD!A:J,2,0)","v":{"$error":"#N/A"}},{"$f":"VLOOKUP(A140,'Doucher contrats'!A:B,2,0)","v":{"$error":"#N/A"}}]
[null,null,null,null,null,null,{"$f":"VLOOKUP(E141,BAREME!A:C,3,0)","v":{"$error":"#N/A"}},{"$f":"VLOOKUP(E141,BAREME!A:C,2,0)","v":{"$error":"#N/A"}},{"$f":"VLOOKUP(A141,SOLD!A:J,2,0)","v":{"$error":"#N/A"}},{"$f":"VLOOKUP(A141,'Doucher contrats'!A:B,2,0)","v":{"$error":"#N/A"}}]
[null,null,null,null,null,null,{"$f":"VLOOKUP(E142,BAREME!A:C,3,0)","v":{"$error":"#N/A"}},{"$f":"VLOOKUP(E142,BAREME!A:C,2,0)","v":{"$error":"#N/A"}},{"$f":"VLOOKUP(A142,SOLD!A:J,2,0)","v":{"$error":"#N/A"}},{"$f":"VLOOKUP(A142,'Doucher contrats'!A:B,2,0)","v":{"$error":"#N/A"}}]
[null,null,null,null,null,null,{"$f":"VLOOKUP(E143,BAREME!A:C,3,0)","v":{"$error":"#N/A"}},{"$f":"VLOOKUP(E143,BAREME!A:C,2,0)","v":{"$error":"#N/A"}},{"$f":"VLOOKUP(A143,SOLD!A:J,2,0)","v":{"$error":"#N/A"}},{"$f":"VLOOKUP(A143,'Doucher contrats'!A:B,2,0)","v":{"$error":"#N/A"}}]
[null,null,null,null,null,null,{"$f":"VLOOKUP(E144,BAREME!A:C,3,0)","v":{"$error":"#N/A"}},{"$f":"VLOOKUP(E144,BAREME!A:C,2,0)","v":{"$error":"#N/A"}},{"$f":"VLOOKUP(A144,SOLD!A:J,2,0)","v":{"$error":"#N/A"}},{"$f":"VLOOKUP(A144,'Doucher contrats'!A:B,2,0)","v":{"$error":"#N/A"}}]
[null,null,null,null,null,null,{"$f":"VLOOKUP(E145,BAREME!A:C,3,0)","v":{"$error":"#N/A"}},{"$f":"VLOOKUP(E145,BAREME!A:C,2,0)","v":{"$error":"#N/A"}},{"$f":"VLOOKUP(A145,SOLD!A:J,2,0)","v":{"$error":"#N/A"}},{"$f":"VLOOKUP(A145,'Doucher contrats'!A:B,2,0)","v":{"$error":"#N/A"}}]
[null,null,null,null,null,null,{"$f":"VLOOKUP(E146,BAREME!A:C,3,0)","v":{"$error":"#N/A"}},{"$f":"VLOOKUP(E146,BAREME!A:C,2,0)","v":{"$error":"#N/A"}},{"$f":"VLOOKUP(A146,SOLD!A:J,2,0)","v":{"$error":"#N/A"}},{"$f":"VLOOKUP(A146,'Doucher contrats'!A:B,2,0)","v":{"$error":"#N/A"}}]
[null,null,null,null,null,null,{"$f":"VLOOKUP(E147,BAREME!A:C,3,0)","v":{"$error":"#N/A"}},{"$f":"VLOOKUP(E147,BAREME!A:C,2,0)","v":{"$error":"#N/A"}},{"$f":"VLOOKUP(A147,SOLD!A:J,2,0)","v":{"$error":"#N/A"}},{"$f":"VLOOKUP(A147,'Doucher contrats'!A:B,2,0)","v":{"$error":"#N/A"}}]
[null,null,null,null,null,null,{"$f":"VLOOKUP(E148,BAREME!A:C,3,0)","v":{"$error":"#N/A"}},{"$f":"VLOOKUP(E148,BAREME!A:C,2,0)","v":{"$error":"#N/A"}},{"$f":"VLOOKUP(A148,SOLD!A:J,2,0)","v":{"$error":"#N/A"}},{"$f":"VLOOKUP(A148,'Doucher contrats'!A:B,2,0)","v":{"$error":"#N/A"}}]
[null,null,null,null,null,null,{"$f":"VLOOKUP(E149,BAREME!A:C,3,0)","v":{"$error":"#N/A"}},{"$f":"VLOOKUP(E149,BAREME!A:C,2,0)","v":{"$error":"#N/A"}},{"$f":"VLOOKUP(A149,SOLD!A:J,2,0)","v":{"$error":"#N/A"}},{"$f":"VLOOKUP(A149,'Doucher contrats'!A:B,2,0)","v":{"$error":"#N/A"}}]
[null,null,null,null,null,null,{"$f":"VLOOKUP(E150,BAREME!A:C,3,0)","v":{"$error":"#N/A"}},{"$f":"VLOOKUP(E150,BAREME!A:C,2,0)","v":{"$error":"#N/A"}},{"$f":"VLOOKUP(A150,SOLD!A:J,2,0)","v":{"$error":"#N/A"}},{"$f":"VLOOKUP(A150,'Doucher contrats'!A:B,2,0)","v":{"$error":"#N/A"}}]
[null,null,null,null,null,null,{"$f":"VLOOKUP(E151,BAREME!A:C,3,0)","v":{"$error":"#N/A"}},{"$f":"VLOOKUP(E151,BAREME!A:C,2,0)","v":{"$error":"#N/A"}},{"$f":"VLOOKUP(A151,SOLD!A:J,2,0)","v":{"$error":"#N/A"}},{"$f":"VLOOKUP(A151,'Doucher contrats'!A:B,2,0)","v":{"$error":"#N/A"}}]
[null,null,null,null,null,null,{"$f":"VLOOKUP(E152,BAREME!A:C,3,0)","v":{"$error":"#N/A"}},{"$f":"VLOOKUP(E152,BAREME!A:C,2,0)","v":{"$error":"#N/A"}},{"$f":"VLOOKUP(A152,SOLD!A:J,2,0)","v":{"$error":"#N/A"}},{"$f":"VLOOKUP(A152,'Doucher contrats'!A:B,2,0)","v":{"$error":"#N/A"}}]
[null,null,null,null,null,null,{"$f":"VLOOKUP(E153,BAREME!A:C,3,0)","v":{"$error":"#N/A"}},{"$f":"VLOOKUP(E153,BAREME!A:C,2,0)","v":{"$error":"#N/A"}},{"$f":"VLOOKUP(A153,SOLD!A:J,2,0)","v":{"$error":"#N/A"}},{"$f":"VLOOKUP(A153,'Doucher contrats'!A:B,2,0)","v":{"$error":"#N/A"}}]
[null,null,null,null,null,null,{"$f":"VLOOKUP(E154,BAREME!A:C,3,0)","v":{"$error":"#N/A"}},{"$f":"VLOOKUP(E154,BAREME!A:C,2,0)","v":{"$error":"#N/A"}},{"$f":"VLOOKUP(A154,SOLD!A:J,2,0)","v":{"$error":"#N/A"}},{"$f":"VLOOKUP(A154,'Doucher contrats'!A:B,2,0)","v":{"$error":"#N/A"}}]
[null,null,null,null,null,null,{"$f":"VLOOKUP(E155,BAREME!A:C,3,0)","v":{"$error":"#N/A"}},{"$f":"VLOOKUP(E155,BAREME!A:C,2,0)","v":{"$error":"#N/A"}},{"$f":"VLOOKUP(A155,SOLD!A:J,2,0)","v":{"$error":"#N/A"}},{"$f":"VLOOKUP(A155,'Doucher contrats'!A:B,2,0)","v":{"$error":"#N/A"}}]
[null,null,null,null,null,null,{"$f":"VLOOKUP(E156,BAREME!A:C,3,0)","v":{"$error":"#N/A"}},{"$f":"VLOOKUP(E156,BAREME!A:C,2,0)","v":{"$error":"#N/A"}},{"$f":"VLOOKUP(A156,SOLD!A:J,2,0)","v":{"$error":"#N/A"}},{"$f":"VLOOKUP(A156,'Doucher contrats'!A:B,2,0)","v":{"$error":"#N/A"}}]
[null,null,null,null,null,null,{"$f":"VLOOKUP(E157,BAREME!A:C,3,0)","v":{"$error":"#N/A"}},{"$f":"VLOOKUP(E157,BAREME!A:C,2,0)","v":{"$error":"#N/A"}},{"$f":"VLOOKUP(A157,SOLD!A:J,2,0)","v":{"$error":"#N/A"}},{"$f":"VLOOKUP(A157,'Doucher contrats'!A:B,2,0)","v":{"$error":"#N/A"}}]
[null,null,null,null,null,null,{"$f":"VLOOKUP(E158,BAREME!A:C,3,0)","v":{"$error":"#N/A"}},{"$f":"VLOOKUP(E158,BAREME!A:C,2,0)","v":{"$error":"#N/A"}},{"$f":"VLOOKUP(A158,SOLD!A:J,2,0)","v":{"$error":"#N/A"}},{"$f":"VLOOKUP(A158,'Doucher contrats'!A:B,2,0)","v":{"$error":"#N/A"}}]
[null,null,null,null,null,null,{"$f":"VLOOKUP(E159,BAREME!A:C,3,0)","v":{"$error":"#N/A"}},{"$f":"VLOOKUP(E159,BAREME!A:C,2,0)","v":{"$error":"#N/A"}},{"$f":"VLOOKUP(A159,SOLD!A:J,2,0)","v":{"$error":"#N/A"}},{"$f":"VLOOKUP(A159,'Doucher contrats'!A:B,2,0)","v":{"$error":"#N/A"}}]
[null,null,null,null,null,null,{"$f":"VLOOKUP(E160,BAREME!A:C,3,0)","v":{"$error":"#N/A"}},{"$f":"VLOOKUP(E160,BAREME!A:C,2,0)","v":{"$error":"#N/A"}},{"$f":"VLOOKUP(A160,SOLD!A:J,2,0)","v":{"$error":"#N/A"}},{"$f":"VLOOKUP(A160,'Doucher contrats'!A:B,2,0)","v":{"$error":"#N/A"}}]
[null,null,null,null,null,null,{"$f":"VLOOKUP(E161,BAREME!A:C,3,0)","v":{"$error":"#N/A"}},{"$f":"VLOOKUP(E161,BAREME!A:C,2,0)","v":{"$error":"#N/A"}},{"$f":"VLOOKUP(A161,SOLD!A:J,2,0)","v":{"$error":"#N/A"}},{"$f":"VLOOKUP(A161,'Doucher contrats'!A:B,2,0)","v":{"$error":"#N/A"}}]
[null,null,null,null,null,null,{"$f":"VLOOKUP(E162,BAREME!A:C,3,0)","v":{"$error":"#N/A"}},{"$f":"VLOOKUP(E162,BAREME!A:C,2,0)","v":{"$error":"#N/A"}},{"$f":"VLOOKUP(A162,SOLD!A:J,2,0)","v":{"$error":"#N/A"}},{"$f":"VLOOKUP(A162,'Doucher contrats'!A:B,2,0)","v":{"$error":"#N/A"}}]
[null,null,null,null,null,null,{"$f":"VLOOKUP(E163,BAREME!A:C,3,0)","v":{"$error":"#N/A"}},{"$f":"VLOOKUP(E163,BAREME!A:C,2,0)","v":{"$error":"#N/A"}},{"$f":"VLOOKUP(A163,SOLD!A:J,2,0)","v":{"$error":"#N/A"}},{"$f":"VLOOKUP(A163,'Doucher contrats'!A:B,2,0)","v":{"$error":"#N/A"}}]
[null,null,null,null,null,null,{"$f":"VLOOKUP(E164,BAREME!A:C,3,0)","v":{"$error":"#N/A"}},{"$f":"VLOOKUP(E164,BAREME!A:C,2,0)","v":{"$error":"#N/A"}},{"$f":"VLOOKUP(A164,SOLD!A:J,2,0)","v":{"$error":"#N/A"}},{"$f":"VLOOKUP(A164,'Doucher contrats'!A:B,2,0)","v":{"$error":"#N/A"}}]
[null,null,null,null,null,null,{"$f":"VLOOKUP(E165,BAREME!A:C,3,0)","v":{"$error":"#N/A"}},{"$f":"VLOOKUP(E165,BAREME!A:C,2,0)","v":{"$error":"#N/A"}},{"$f":"VLOOKUP(A165,SOLD!A:J,2,0)","v":{"$error":"#N/A"}},{"$f":"VLOOKUP(A165,'Doucher contrats'!A:B,2,0)","v":{"$error":"#N/A"}}]
[null,null,null,null,null,null,{"$f":"VLOOKUP(E166,BAREME!A:C,3,0)","v":{"$error":"#N/A"}},{"$f":"VLOOKUP(E166,BAREME!A:C,2,0)","v":{"$error":"#N/A"}},{"$f":"VLOOKUP(A166,SOLD!A:J,2,0)","v":{"$error":"#N/A"}},{"$f":"VLOOKUP(A166,'Doucher contrats'!A:B,2,0)","v":{"$error":"#N/A"}}]
[null,null,null,null,null,null,{"$f":"VLOOKUP(E167,BAREME!A:C,3,0)","v":{"$error":"#N/A"}},{"$f":"VLOOKUP(E167,BAREME!A:C,2,0)","v":{"$error":"#N/A"}},{"$f":"VLOOKUP(A167,SOLD!A:J,2,0)","v":{"$error":"#N/A"}},{"$f":"VLOOKUP(A167,'Doucher contrats'!A:B,2,0)","v":{"$error":"#N/A"}}]
[null,null,null,null,null,null,{"$f":"VLOOKUP(E168,BAREME!A:C,3,0)","v":{"$error":"#N/A"}},{"$f":"VLOOKUP(E168,BAREME!A:C,2,0)","v":{"$error":"#N/A"}},{"$f":"VLOOKUP(A168,SOLD!A:J,2,0)","v":{"$error":"#N/A"}},{"$f":"VLOOKUP(A168,'Doucher contrats'!A:B,2,0)","v":{"$error":"#N/A"}}]
[null,null,null,null,null,null,{"$f":"VLOOKUP(E169,BAREME!A:C,3,0)","v":{"$error":"#N/A"}},{"$f":"VLOOKUP(E169,BAREME!A:C,2,0)","v":{"$error":"#N/A"}},{"$f":"VLOOKUP(A169,SOLD!A:J,2,0)","v":{"$error":"#N/A"}},{"$f":"VLOOKUP(A169,'Doucher contrats'!A:B,2,0)","v":{"$error":"#N/A"}}]
[null,null,null,null,null,null,{"$f":"VLOOKUP(E170,BAREME!A:C,3,0)","v":{"$error":"#N/A"}},{"$f":"VLOOKUP(E170,BAREME!A:C,2,0)","v":{"$error":"#N/A"}},{"$f":"VLOOKUP(A170,SOLD!A:J,2,0)","v":{"$error":"#N/A"}},{"$f":"VLOOKUP(A170,'Doucher contrats'!A:B,2,0)","v":{"$error":"#N/A"}}]
[null,null,null,null,null,null,{"$f":"VLOOKUP(E171,BAREME!A:C,3,0)","v":{"$error":"#N/A"}},{"$f":"VLOOKUP(E171,BAREME!A:C,2,0)","v":{"$error":"#N/A"}},{"$f":"VLOOKUP(A171,SOLD!A:J,2,0)","v":{"$error":"#N/A"}},{"$f":"VLOOKUP(A171,'Doucher contrats'!A:B,2,0)","v":{"$error":"#N/A"}}]
[null,null,null,null,null,null,{"$f":"VLOOKUP(E172,BAREME!A:C,3,0)","v":{"$error":"#N/A"}},{"$f":"VLOOKUP(E172,BAREME!A:C,2,0)","v":{"$error":"#N/A"}},{"$f":"VLOOKUP(A172,SOLD!A:J,2,0)","v":{"$error":"#N/A"}},{"$f":"VLOOKUP(A172,'Doucher contrats'!A:B,2,0)","v":{"$error":"#N/A"}}]
[null,null,null,null,null,null,{"$f":"VLOOKUP(E173,BAREME!A:C,3,0)","v":{"$error":"#N/A"}},{"$f":"VLOOKUP(E173,BAREME!A:C,2,0)","v":{"$error":"#N/A"}},{"$f":"VLOOKUP(A173,SOLD!A:J,2,0)","v":{"$error":"#N/A"}},{"$f":"VLOOKUP(A173,'Doucher contrats'!A:B,2,0)","v":{"$error":"#N/A"}}]
[null,null,null,null,null,null,{"$f":"VLOOKUP(E174,BAREME!A:C,3,0)","v":{"$error":"#N/A"}},{"$f":"VLOOKUP(E174,BAREME!A:C,2,0)","v":{"$error":"#N/A"}},{"$f":"VLOOKUP(A174,SOLD!A:J,2,0)","v":{"$error":"#N/A"}},{"$f":"VLOOKUP(A174,'Doucher contrats'!A:B,2,0)","v":{"$error":"#N/A"}}]
[null,null,null,null,null,null,{"$f":"VLOOKUP(E175,BAREME!A:C,3,0)","v":{"$error":"#N/A"}},{"$f":"VLOOKUP(E175,BAREME!A:C,2,0)","v":{"$error":"#N/A"}},{"$f":"VLOOKUP(A175,SOLD!A:J,2,0)","v":{"$error":"#N/A"}},{"$f":"VLOOKUP(A175,'Doucher contrats'!A:B,2,0)","v":{"$error":"#N/A"}}]
[null,null,null,null,null,null,{"$f":"VLOOKUP(E176,BAREME!A:C,3,0)","v":{"$error":"#N/A"}},{"$f":"VLOOKUP(E176,BAREME!A:C,2,0)","v":{"$error":"#N/A"}},{"$f":"VLOOKUP(A176,SOLD!A:J,2,0)","v":{"$error":"#N/A"}},{"$f":"VLOOKUP(A176,'Doucher contrats'!A:B,2,0)","v":{"$error":"#N/A"}}]
[null,null,null,null,null,null,{"$f":"VLOOKUP(E177,BAREME!A:C,3,0)","v":{"$error":"#N/A"}},{"$f":"VLOOKUP(E177,BAREME!A:C,2,0)","v":{"$error":"#N/A"}},{"$f":"VLOOKUP(A177,SOLD!A:J,2,0)","v":{"$error":"#N/A"}},{"$f":"VLOOKUP(A177,'Doucher contrats'!A:B,2,0)","v":{"$error":"#N/A"}}]
[null,null,null,null,null,null,{"$f":"VLOOKUP(E178,BAREME!A:C,3,0)","v":{"$error":"#N/A"}},{"$f":"VLOOKUP(E178,BAREME!A:C,2,0)","v":{"$error":"#N/A"}},{"$f":"VLOOKUP(A178,SOLD!A:J,2,0)","v":{"$error":"#N/A"}},{"$f":"VLOOKUP(A178,'Doucher contrats'!A:B,2,0)","v":{"$error":"#N/A"}}]
[null,null,null,null,null,null,{"$f":"VLOOKUP(E179,BAREME!A:C,3,0)","v":{"$error":"#N/A"}},{"$f":"VLOOKUP(E179,BAREME!A:C,2,0)","v":{"$error":"#N/A"}},{"$f":"VLOOKUP(A179,SOLD!A:J,2,0)","v":{"$error":"#N/A"}},{"$f":"VLOOKUP(A179,'Doucher contrats'!A:B,2,0)","v":{"$error":"#N/A"}}]
[null,null,null,null,null,null,{"$f":"VLOOKUP(E180,BAREME!A:C,3,0)","v":{"$error":"#N/A"}},{"$f":"VLOOKUP(E180,BAREME!A:C,2,0)","v":{"$error":"#N/A"}},{"$f":"VLOOKUP(A180,SOLD!A:J,2,0)","v":{"$error":"#N/A"}},{"$f":"VLOOKUP(A180,'Doucher contrats'!A:B,2,0)","v":{"$error":"#N/A"}}]
[null,null,null,null,null,null,{"$f":"VLOOKUP(E181,BAREME!A:C,3,0)","v":{"$error":"#N/A"}},{"$f":"VLOOKUP(E181,BAREME!A:C,2,0)","v":{"$error":"#N/A"}},{"$f":"VLOOKUP(A181,SOLD!A:J,2,0)","v":{"$error":"#N/A"}},{"$f":"VLOOKUP(A181,'Doucher contrats'!A:B,2,0)","v":{"$error":"#N/A"}}]
[null,null,null,null,null,null,{"$f":"VLOOKUP(E182,BAREME!A:C,3,0)","v":{"$error":"#N/A"}},{"$f":"VLOOKUP(E182,BAREME!A:C,2,0)","v":{"$error":"#N/A"}},{"$f":"VLOOKUP(A182,SOLD!A:J,2,0)","v":{"$error":"#N/A"}},{"$f":"VLOOKUP(A182,'Doucher contrats'!A:B,2,0)","v":{"$error":"#N/A"}}]
[null,null,null,null,null,null,{"$f":"VLOOKUP(E183,BAREME!A:C,3,0)","v":{"$error":"#N/A"}},{"$f":"VLOOKUP(E183,BAREME!A:C,2,0)","v":{"$error":"#N/A"}},{"$f":"VLOOKUP(A183,SOLD!A:J,2,0)","v":{"$error":"#N/A"}},{"$f":"VLOOKUP(A183,'Doucher contrats'!A:B,2,0)","v":{"$error":"#N/A"}}]
[null,null,null,null,null,null,{"$f":"VLOOKUP(E184,BAREME!A:C,3,0)","v":{"$error":"#N/A"}},{"$f":"VLOOKUP(E184,BAREME!A:C,2,0)","v":{"$error":"#N/A"}},{"$f":"VLOOKUP(A184,SOLD!A:J,2,0)","v":{"$error":"#N/A"}},{"$f":"VLOOKUP(A184,'Doucher contrats'!A:B,2,0)","v":{"$error":"#N/A"}}]
[null,null,null,null,null,null,{"$f":"VLOOKUP(E185,BAREME!A:C,3,0)","v":{"$error":"#N/A"}},{"$f":"VLOOKUP(E185,BAREME!A:C,2,0)","v":{"$error":"#N/A"}},{"$f":"VLOOKUP(A185,SOLD!A:J,2,0)","v":{"$error":"#N/A"}},{"$f":"VLOOKUP(A185,'Doucher contrats'!A:B,2,0)","v":{"$error":"#N/A"}}]
[null,null,null,null,null,null,{"$f":"VLOOKUP(E186,BAREME!A:C,3,0)","v":{"$error":"#N/A"}},{"$f":"VLOOKUP(E186,BAREME!A:C,2,0)","v":{"$error":"#N/A"}},{"$f":"VLOOKUP(A186,SOLD!A:J,2,0)","v":{"$error":"#N/A"}},{"$f":"VLOOKUP(A186,'Doucher contrats'!A:B,2,0)","v":{"$error":"#N/A"}}]
[null,null,null,null,null,null,{"$f":"VLOOKUP(E187,BAREME!A:C,3,0)","v":{"$error":"#N/A"}},{"$f":"VLOOKUP(E187,BAREME!A:C,2,0)","v":{"$error":"#N/A"}},{"$f":"VLOOKUP(A187,SOLD!A:J,2,0)","v":{"$error":"#N/A"}},{"$f":"VLOOKUP(A187,'Doucher contrats'!A:B,2,0)","v":{"$error":"#N/A"}}]
[null,null,null,null,null,null,{"$f":"VLOOKUP(E188,BAREME!A:C,3,0)","v":{"$error":"#N/A"}},{"$f":"VLOOKUP(E188,BAREME!A:C,2,0)","v":{"$error":"#N/A"}},{"$f":"VLOOKUP(A188,SOLD!A:J,2,0)","v":{"$error":"#N/A"}},{"$f":"VLOOKUP(A188,'Doucher contrats'!A:B,2,0)","v":{"$error":"#N/A"}}]
[null,null,null,null,null,null,{"$f":"VLOOKUP(E189,BAREME!A:C,3,0)","v":{"$error":"#N/A"}},{"$f":"VLOOKUP(E189,BAREME!A:C,2,0)","v":{"$error":"#N/A"}},{"$f":"VLOOKUP(A189,SOLD!A:J,2,0)","v":{"$error":"#N/A"}},{"$f":"VLOOKUP(A189,'Doucher contrats'!A:B,2,0)","v":{"$error":"#N/A"}}]
[null,null,null,null,null,null,{"$f":"VLOOKUP(E190,BAREME!A:C,3,0)","v":{"$error":"#N/A"}},{"$f":"VLOOKUP(E190,BAREME!A:C,2,0)","v":{"$error":"#N/A"}},{"$f":"VLOOKUP(A190,SOLD!A:J,2,0)","v":{"$error":"#N/A"}},{"$f":"VLOOKUP(A190,'Doucher contrats'!A:B,2,0)","v":{"$error":"#N/A"}}]
[null,null,null,null,null,null,{"$f":"VLOOKUP(E191,BAREME!A:C,3,0)","v":{"$error":"#N/A"}},{"$f":"VLOOKUP(E191,BAREME!A:C,2,0)","v":{"$error":"#N/A"}},{"$f":"VLOOKUP(A191,SOLD!A:J,2,0)","v":{"$error":"#N/A"}},{"$f":"VLOOKUP(A191,'Doucher contrats'!A:B,2,0)","v":{"$error":"#N/A"}}]
[null,null,null,null,null,null,{"$f":"VLOOKUP(E192,BAREME!A:C,3,0)","v":{"$error":"#N/A"}},{"$f":"VLOOKUP(E192,BAREME!A:C,2,0)","v":{"$error":"#N/A"}},{"$f":"VLOOKUP(A192,SOLD!A:J,2,0)","v":{"$error":"#N/A"}},{"$f":"VLOOKUP(A192,'Doucher contrats'!A:B,2,0)","v":{"$error":"#N/A"}}]
[null,null,null,null,null,null,{"$f":"VLOOKUP(E193,BAREME!A:C,3,0)","v":{"$error":"#N/A"}},{"$f":"VLOOKUP(E193,BAREME!A:C,2,0)","v":{"$error":"#N/A"}},{"$f":"VLOOKUP(A193,SOLD!A:J,2,0)","v":{"$error":"#N/A"}},{"$f":"VLOOKUP(A193,'Doucher contrats'!A:B,2,0)","v":{"$error":"#N/A"}}]
[null,null,null,null,null,null,{"$f":"VLOOKUP(E194,BAREME!A:C,3,0)","v":{"$error":"#N/A"}},{"$f":"VLOOKUP(E194,BAREME!A:C,2,0)","v":{"$error":"#N/A"}},{"$f":"VLOOKUP(A194,SOLD!A:J,2,0)","v":{"$error":"#N/A"}},{"$f":"VLOOKUP(A194,'Doucher contrats'!A:B,2,0)","v":{"$error":"#N/A"}}]
[null,null,null,null,null,null,{"$f":"VLOOKUP(E195,BAREME!A:C,3,0)","v":{"$error":"#N/A"}},{"$f":"VLOOKUP(E195,BAREME!A:C,2,0)","v":{"$error":"#N/A"}},{"$f":"VLOOKUP(A195,SOLD!A:J,2,0)","v":{"$error":"#N/A"}},{"$f":"VLOOKUP(A195,'Doucher contrats'!A:B,2,0)","v":{"$error":"#N/A"}}]
[null,null,null,null,null,null,{"$f":"VLOOKUP(E196,BAREME!A:C,3,0)","v":{"$error":"#N/A"}},{"$f":"VLOOKUP(E196,BAREME!A:C,2,0)","v":{"$error":"#N/A"}},{"$f":"VLOOKUP(A196,SOLD!A:J,2,0)","v":{"$error":"#N/A"}},{"$f":"VLOOKUP(A196,'Doucher contrats'!A:B,2,0)","v":{"$error":"#N/A"}}]
[null,null,null,null,null,null,{"$f":"VLOOKUP(E197,BAREME!A:C,3,0)","v":{"$error":"#N/A"}},{"$f":"VLOOKUP(E197,BAREME!A:C,2,0)","v":{"$error":"#N/A"}},{"$f":"VLOOKUP(A197,SOLD!A:J,2,0)","v":{"$error":"#N/A"}},{"$f":"VLOOKUP(A197,'Doucher contrats'!A:B,2,0)","v":{"$error":"#N/A"}}]
[null,null,null,null,null,null,{"$f":"VLOOKUP(E198,BAREME!A:C,3,0)","v":{"$error":"#N/A"}},{"$f":"VLOOKUP(E198,BAREME!A:C,2,0)","v":{"$error":"#N/A"}},{"$f":"VLOOKUP(A198,SOLD!A:J,2,0)","v":{"$error":"#N/A"}},{"$f":"VLOOKUP(A198,'Doucher contrats'!A:B,2,0)","v":{"$error":"#N/A"}}]
[null,null,null,null,null,null,{"$f":"VLOOKUP(E199,BAREME!A:C,3,0)","v":{"$error":"#N/A"}},{"$f":"VLOOKUP(E199,BAREME!A:C,2,0)","v":{"$error":"#N/A"}},{"$f":"VLOOKUP(A199,SOLD!A:J,2,0)","v":{"$error":"#N/A"}},{"$f":"VLOOKUP(A199,'Doucher contrats'!A:B,2,0)","v":{"$error":"#N/A"}}]
[null,null,null,null,null,null,{"$f":"VLOOKUP(E200,BAREME!A:C,3,0)","v":{"$error":"#N/A"}},{"$f":"VLOOKUP(E200,BAREME!A:C,2,0)","v":{"$error":"#N/A"}},{"$f":"VLOOKUP(A200,SOLD!A:J,2,0)","v":{"$error":"#N/A"}},{"$f":"VLOOKUP(A200,'Doucher contrats'!A:B,2,0)","v":{"$error":"#N/A"}}]
[null,null,null,null,null,null,{"$f":"VLOOKUP(E201,BAREME!A:C,3,0)","v":{"$error":"#N/A"}},{"$f":"VLOOKUP(E201,BAREME!A:C,2,0)","v":{"$error":"#N/A"}},{"$f":"VLOOKUP(A201,SOLD!A:J,2,0)","v":{"$error":"#N/A"}},{"$f":"VLOOKUP(A201,'Doucher contrats'!A:B,2,0)","v":{"$error":"#N/A"}}]
[null,null,null,null,null,null,{"$f":"VLOOKUP(E202,BAREME!A:C,3,0)","v":{"$error":"#N/A"}},{"$f":"VLOOKUP(E202,BAREME!A:C,2,0)","v":{"$error":"#N/A"}},{"$f":"VLOOKUP(A202,SOLD!A:J,2,0)","v":{"$error":"#N/A"}},{"$f":"VLOOKUP(A202,'Doucher contrats'!A:B,2,0)","v":{"$error":"#N/A"}}]
[null,null,null,null,null,null,{"$f":"VLOOKUP(E203,BAREME!A:C,3,0)","v":{"$error":"#N/A"}},{"$f":"VLOOKUP(E203,BAREME!A:C,2,0)","v":{"$error":"#N/A"}},{"$f":"VLOOKUP(A203,SOLD!A:J,2,0)","v":{"$error":"#N/A"}},{"$f":"VLOOKUP(A203,'Doucher contrats'!A:B,2,0)","v":{"$error":"#N/A"}}]
[null,null,null,null,null,null,{"$f":"VLOOKUP(E204,BAREME!A:C,3,0)","v":{"$error":"#N/A"}},{"$f":"VLOOKUP(E204,BAREME!A:C,2,0)","v":{"$error":"#N/A"}},{"$f":"VLOOKUP(A204,SOLD!A:J,2,0)","v":{"$error":"#N/A"}},{"$f":"VLOOKUP(A204,'Doucher contrats'!A:B,2,0)","v":{"$error":"#N/A"}}]
[null,null,null,null,null,null,{"$f":"VLOOKUP(E205,BAREME!A:C,3,0)","v":{"$error":"#N/A"}},{"$f":"VLOOKUP(E205,BAREME!A:C,2,0)","v":{"$error":"#N/A"}},{"$f":"VLOOKUP(A205,SOLD!A:J,2,0)","v":{"$error":"#N/A"}},{"$f":"VLOOKUP(A205,'Doucher contrats'!A:B,2,0)","v":{"$error":"#N/A"}}]
[null,null,null,null,null,null,{"$f":"VLOOKUP(E206,BAREME!A:C,3,0)","v":{"$error":"#N/A"}},{"$f":"VLOOKUP(E206,BAREME!A:C,2,0)","v":{"$error":"#N/A"}},{"$f":"VLOOKUP(A206,SOLD!A:J,2,0)","v":{"$error":"#N/A"}},{"$f":"VLOOKUP(A206,'Doucher contrats'!A:B,2,0)","v":{"$error":"#N/A"}}]
[null,null,null,null,null,null,{"$f":"VLOOKUP(E207,BAREME!A:C,3,0)","v":{"$error":"#N/A"}},{"$f":"VLOOKUP(E207,BAREME!A:C,2,0)","v":{"$error":"#N/A"}},{"$f":"VLOOKUP(A207,SOLD!A:J,2,0)","v":{"$error":"#N/A"}},{"$f":"VLOOKUP(A207,'Doucher contrats'!A:B,2,0)","v":{"$error":"#N/A"}}]
[null,null,null,null,null,null,{"$f":"VLOOKUP(E208,BAREME!A:C,3,0)","v":{"$error":"#N/A"}},{"$f":"VLOOKUP(E208,BAREME!A:C,2,0)","v":{"$error":"#N/A"}},{"$f":"VLOOKUP(A208,SOLD!A:J,2,0)","v":{"$error":"#N/A"}},{"$f":"VLOOKUP(A208,'Doucher contrats'!A:B,2,0)","v":{"$error":"#N/A"}}]
[null,null,null,null,null,null,{"$f":"VLOOKUP(E209,BAREME!A:C,3,0)","v":{"$error":"#N/A"}},{"$f":"VLOOKUP(E209,BAREME!A:C,2,0)","v":{"$error":"#N/A"}},{"$f":"VLOOKUP(A209,SOLD!A:J,2,0)","v":{"$error":"#N/A"}},{"$f":"VLOOKUP(A209,'Doucher contrats'!A:B,2,0)","v":{"$error":"#N/A"}}]
[null,null,null,null,null,null,{"$f":"VLOOKUP(E210,BAREME!A:C,3,0)","v":{"$error":"#N/A"}},{"$f":"VLOOKUP(E210,BAREME!A:C,2,0)","v":{"$error":"#N/A"}},{"$f":"VLOOKUP(A210,SOLD!A:J,2,0)","v":{"$error":"#N/A"}},{"$f":"VLOOKUP(A210,'Doucher contrats'!A:B,2,0)","v":{"$error":"#N/A"}}]
[null,null,null,null,null,null,{"$f":"VLOOKUP(E211,BAREME!A:C,3,0)","v":{"$error":"#N/A"}},{"$f":"VLOOKUP(E211,BAREME!A:C,2,0)","v":{"$error":"#N/A"}},{"$f":"VLOOKUP(A211,SOLD!A:J,2,0)","v":{"$error":"#N/A"}},{"$f":"VLOOKUP(A211,'Doucher contrats'!A:B,2,0)","v":{"$error":"#N/A"}}]
[null,null,null,null,null,null,{"$f":"VLOOKUP(E212,BAREME!A:C,3,0)","v":{"$error":"#N/A"}},{"$f":"VLOOKUP(E212,BAREME!A:C,2,0)","v":{"$error":"#N/A"}},{"$f":"VLOOKUP(A212,SOLD!A:J,2,0)","v":{"$error":"#N/A"}},{"$f":"VLOOKUP(A212,'Doucher contrats'!A:B,2,0)","v":{"$error":"#N/A"}}]
[null,null,null,null,null,null,{"$f":"VLOOKUP(E213,BAREME!A:C,3,0)","v":{"$error":"#N/A"}},{"$f":"VLOOKUP(E213,BAREME!A:C,2,0)","v":{"$error":"#N/A"}},{"$f":"VLOOKUP(A213,SOLD!A:J,2,0)","v":{"$error":"#N/A"}},{"$f":"VLOOKUP(A213,'Doucher contrats'!A:B,2,0)","v":{"$error":"#N/A"}}]
[null,null,null,null,null,null,{"$f":"VLOOKUP(E214,BAREME!A:C,3,0)","v":{"$error":"#N/A"}},{"$f":"VLOOKUP(E214,BAREME!A:C,2,0)","v":{"$error":"#N/A"}},{"$f":"VLOOKUP(A214,SOLD!A:J,2,0)","v":{"$error":"#N/A"}},{"$f":"VLOOKUP(A214,'Doucher contrats'!A:B,2,0)","v":{"$error":"#N/A"}}]
[null,null,null,null,null,null,{"$f":"VLOOKUP(E215,BAREME!A:C,3,0)","v":{"$error":"#N/A"}},{"$f":"VLOOKUP(E215,BAREME!A:C,2,0)","v":{"$error":"#N/A"}},{"$f":"VLOOKUP(A215,SOLD!A:J,2,0)","v":{"$error":"#N/A"}},{"$f":"VLOOKUP(A215,'Doucher contrats'!A:B,2,0)","v":{"$error":"#N/A"}}]
[null,null,null,null,null,null,{"$f":"VLOOKUP(E216,BAREME!A:C,3,0)","v":{"$error":"#N/A"}},{"$f":"VLOOKUP(E216,BAREME!A:C,2,0)","v":{"$error":"#N/A"}},{"$f":"VLOOKUP(A216,SOLD!A:J,2,0)","v":{"$error":"#N/A"}},{"$f":"VLOOKUP(A216,'Doucher contrats'!A:B,2,0)","v":{"$error":"#N/A"}}]
[null,null,null,null,null,null,{"$f":"VLOOKUP(E217,BAREME!A:C,3,0)","v":{"$error":"#N/A"}},{"$f":"VLOOKUP(E217,BAREME!A:C,2,0)","v":{"$error":"#N/A"}},{"$f":"VLOOKUP(A217,SOLD!A:J,2,0)","v":{"$error":"#N/A"}},{"$f":"VLOOKUP(A217,'Doucher contrats'!A:B,2,0)","v":{"$error":"#N/A"}}]
[null,null,null,null,null,null,{"$f":"VLOOKUP(E218,BAREME!A:C,3,0)","v":{"$error":"#N/A"}},{"$f":"VLOOKUP(E218,BAREME!A:C,2,0)","v":{"$error":"#N/A"}},{"$f":"VLOOKUP(A218,SOLD!A:J,2,0)","v":{"$error":"#N/A"}},{"$f":"VLOOKUP(A218,'Doucher contrats'!A:B,2,0)","v":{"$error":"#N/A"}}]
[null,null,null,null,null,null,{"$f":"VLOOKUP(E219,BAREME!A:C,3,0)","v":{"$error":"#N/A"}},{"$f":"VLOOKUP(E219,BAREME!A:C,2,0)","v":{"$error":"#N/A"}},{"$f":"VLOOKUP(A219,SOLD!A:J,2,0)","v":{"$error":"#N/A"}},{"$f":"VLOOKUP(A219,'Doucher contrats'!A:B,2,0)","v":{"$error":"#N/A"}}]
[null,null,null,null,null,null,{"$f":"VLOOKUP(E220,BAREME!A:C,3,0)","v":{"$error":"#N/A"}},{"$f":"VLOOKUP(E220,BAREME!A:C,2,0)","v":{"$error":"#N/A"}},{"$f":"VLOOKUP(A220,SOLD!A:J,2,0)","v":{"$error":"#N/A"}},{"$f":"VLOOKUP(A220,'Doucher contrats'!A:B,2,0)","v":{"$error":"#N/A"}}]
[null,null,null,null,null,null,{"$f":"VLOOKUP(E221,BAREME!A:C,3,0)","v":{"$error":"#N/A"}},{"$f":"VLOOKUP(E221,BAREME!A:C,2,0)","v":{"$error":"#N/A"}},{"$f":"VLOOKUP(A221,SOLD!A:J,2,0)","v":{"$error":"#N/A"}},{"$f":"VLOOKUP(A221,'Doucher contrats'!A:B,2,0)","v":{"$error":"#N/A"}}]
[null,null,null,null,null,null,{"$f":"VLOOKUP(E222,BAREME!A:C,3,0)","v":{"$error":"#N/A"}},{"$f":"VLOOKUP(E222,BAREME!A:C,2,0)","v":{"$error":"#N/A"}},{"$f":"VLOOKUP(A222,SOLD!A:J,2,0)","v":{"$error":"#N/A"}},{"$f":"VLOOKUP(A222,'Doucher contrats'!A:B,2,0)","v":{"$error":"#N/A"}}]
[null,null,null,null,null,null,{"$f":"VLOOKUP(E223,BAREME!A:C,3,0)","v":{"$error":"#N/A"}},{"$f":"VLOOKUP(E223,BAREME!A:C,2,0)","v":{"$error":"#N/A"}},{"$f":"VLOOKUP(A223,SOLD!A:J,2,0)","v":{"$error":"#N/A"}},{"$f":"VLOOKUP(A223,'Doucher contrats'!A:B,2,0)","v":{"$error":"#N/A"}}]
[null,null,null,null,null,null,{"$f":"VLOOKUP(E224,BAREME!A:C,3,0)","v":{"$error":"#N/A"}},{"$f":"VLOOKUP(E224,BAREME!A:C,2,0)","v":{"$error":"#N/A"}},{"$f":"VLOOKUP(A224,SOLD!A:J,2,0)","v":{"$error":"#N/A"}},{"$f":"VLOOKUP(A224,'Doucher contrats'!A:B,2,0)","v":{"$error":"#N/A"}}]
[null,null,null,null,null,null,{"$f":"VLOOKUP(E225,BAREME!A:C,3,0)","v":{"$error":"#N/A"}},{"$f":"VLOOKUP(E225,BAREME!A:C,2,0)","v":{"$error":"#N/A"}},{"$f":"VLOOKUP(A225,SOLD!A:J,2,0)","v":{"$error":"#N/A"}},{"$f":"VLOOKUP(A225,'Doucher contrats'!A:B,2,0)","v":{"$error":"#N/A"}}]
[null,null,null,null,null,null,{"$f":"VLOOKUP(E226,BAREME!A:C,3,0)","v":{"$error":"#N/A"}},{"$f":"VLOOKUP(E226,BAREME!A:C,2,0)","v":{"$error":"#N/A"}},{"$f":"VLOOKUP(A226,SOLD!A:J,2,0)","v":{"$error":"#N/A"}},{"$f":"VLOOKUP(A226,'Doucher contrats'!A:B,2,0)","v":{"$error":"#N/A"}}]
[null,null,null,null,null,null,{"$f":"VLOOKUP(E227,BAREME!A:C,3,0)","v":{"$error":"#N/A"}},{"$f":"VLOOKUP(E227,BAREME!A:C,2,0)","v":{"$error":"#N/A"}},{"$f":"VLOOKUP(A227,SOLD!A:J,2,0)","v":{"$error":"#N/A"}},{"$f":"VLOOKUP(A227,'Doucher contrats'!A:B,2,0)","v":{"$error":"#N/A"}}]
[null,null,null,null,null,null,{"$f":"VLOOKUP(E228,BAREME!A:C,3,0)","v":{"$error":"#N/A"}},{"$f":"VLOOKUP(E228,BAREME!A:C,2,0)","v":{"$error":"#N/A"}},{"$f":"VLOOKUP(A228,SOLD!A:J,2,0)","v":{"$error":"#N/A"}},{"$f":"VLOOKUP(A228,'Doucher contrats'!A:B,2,0)","v":{"$error":"#N/A"}}]
[null,null,null,null,null,null,{"$f":"VLOOKUP(E229,BAREME!A:C,3,0)","v":{"$error":"#N/A"}},{"$f":"VLOOKUP(E229,BAREME!A:C,2,0)","v":{"$error":"#N/A"}},{"$f":"VLOOKUP(A229,SOLD!A:J,2,0)","v":{"$error":"#N/A"}},{"$f":"VLOOKUP(A229,'Doucher contrats'!A:B,2,0)","v":{"$error":"#N/A"}}]
[null,null,null,null,null,null,{"$f":"VLOOKUP(E230,BAREME!A:C,3,0)","v":{"$error":"#N/A"}},{"$f":"VLOOKUP(E230,BAREME!A:C,2,0)","v":{"$error":"#N/A"}},{"$f":"VLOOKUP(A230,SOLD!A:J,2,0)","v":{"$error":"#N/A"}},{"$f":"VLOOKUP(A230,'Doucher contrats'!A:B,2,0)","v":{"$error":"#N/A"}}]
[null,null,null,null,null,null,{"$f":"VLOOKUP(E231,BAREME!A:C,3,0)","v":{"$error":"#N/A"}},{"$f":"VLOOKUP(E231,BAREME!A:C,2,0)","v":{"$error":"#N/A"}},{"$f":"VLOOKUP(A231,SOLD!A:J,2,0)","v":{"$error":"#N/A"}},{"$f":"VLOOKUP(A231,'Doucher contrats'!A:B,2,0)","v":{"$error":"#N/A"}}]
[null,null,null,null,null,null,{"$f":"VLOOKUP(E232,BAREME!A:C,3,0)","v":{"$error":"#N/A"}},{"$f":"VLOOKUP(E232,BAREME!A:C,2,0)","v":{"$error":"#N/A"}},{"$f":"VLOOKUP(A232,SOLD!A:J,2,0)","v":{"$error":"#N/A"}},{"$f":"VLOOKUP(A232,'Doucher contrats'!A:B,2,0)","v":{"$error":"#N/A"}}]
[null,null,null,null,null,null,{"$f":"VLOOKUP(E233,BAREME!A:C,3,0)","v":{"$error":"#N/A"}},{"$f":"VLOOKUP(E233,BAREME!A:C,2,0)","v":{"$error":"#N/A"}},{"$f":"VLOOKUP(A233,SOLD!A:J,2,0)","v":{"$error":"#N/A"}},{"$f":"VLOOKUP(A233,'Doucher contrats'!A:B,2,0)","v":{"$error":"#N/A"}}]
[null,null,null,null,null,null,{"$f":"VLOOKUP(E234,BAREME!A:C,3,0)","v":{"$error":"#N/A"}},{"$f":"VLOOKUP(E234,BAREME!A:C,2,0)","v":{"$error":"#N/A"}},{"$f":"VLOOKUP(A234,SOLD!A:J,2,0)","v":{"$error":"#N/A"}},{"$f":"VLOOKUP(A234,'Doucher contrats'!A:B,2,0)","v":{"$error":"#N/A"}}]
[null,null,null,null,null,null,{"$f":"VLOOKUP(E235,BAREME!A:C,3,0)","v":{"$error":"#N/A"}},{"$f":"VLOOKUP(E235,BAREME!A:C,2,0)","v":{"$error":"#N/A"}},{"$f":"VLOOKUP(A235,SOLD!A:J,2,0)","v":{"$error":"#N/A"}},{"$f":"VLOOKUP(A235,'Doucher contrats'!A:B,2,0)","v":{"$error":"#N/A"}}]
[null,null,null,null,null,null,{"$f":"VLOOKUP(E236,BAREME!A:C,3,0)","v":{"$error":"#N/A"}},{"$f":"VLOOKUP(E236,BAREME!A:C,2,0)","v":{"$error":"#N/A"}},{"$f":"VLOOKUP(A236,SOLD!A:J,2,0)","v":{"$error":"#N/A"}},{"$f":"VLOOKUP(A236,'Doucher contrats'!A:B,2,0)","v":{"$error":"#N/A"}}]
[null,null,null,null,null,null,{"$f":"VLOOKUP(E237,BAREME!A:C,3,0)","v":{"$error":"#N/A"}},{"$f":"VLOOKUP(E237,BAREME!A:C,2,0)","v":{"$error":"#N/A"}},{"$f":"VLOOKUP(A237,SOLD!A:J,2,0)","v":{"$error":"#N/A"}},{"$f":"VLOOKUP(A237,'Doucher contrats'!A:B,2,0)","v":{"$error":"#N/A"}}]
[null,null,null,null,null,null,{"$f":"VLOOKUP(E238,BAREME!A:C,3,0)","v":{"$error":"#N/A"}},{"$f":"VLOOKUP(E238,BAREME!A:C,2,0)","v":{"$error":"#N/A"}},{"$f":"VLOOKUP(A238,SOLD!A:J,2,0)","v":{"$error":"#N/A"}},{"$f":"VLOOKUP(A238,'Doucher contrats'!A:B,2,0)","v":{"$error":"#N/A"}}]
[null,null,null,null,null,null,{"$f":"VLOOKUP(E239,BAREME!A:C,3,0)","v":{"$error":"#N/A"}},{"$f":"VLOOKUP(E239,BAREME!A:C,2,0)","v":{"$error":"#N/A"}},{"$f":"VLOOKUP(A239,SOLD!A:J,2,0)","v":{"$error":"#N/A"}},{"$f":"VLOOKUP(A239,'Doucher contrats'!A:B,2,0)","v":{"$error":"#N/A"}}]
[null,null,null,null,null,null,{"$f":"VLOOKUP(E240,BAREME!A:C,3,0)","v":{"$error":"#N/A"}},{"$f":"VLOOKUP(E240,BAREME!A:C,2,0)","v":{"$error":"#N/A"}},{"$f":"VLOOKUP(A240,SOLD!A:J,2,0)","v":{"$error":"#N/A"}},{"$f":"VLOOKUP(A240,'Doucher contrats'!A:B,2,0)","v":{"$error":"#N/A"}}]
[null,null,null,null,null,null,{"$f":"VLOOKUP(E241,BAREME!A:C,3,0)","v":{"$error":"#N/A"}},{"$f":"VLOOKUP(E241,BAREME!A:C,2,0)","v":{"$error":"#N/A"}},{"$f":"VLOOKUP(A241,SOLD!A:J,2,0)","v":{"$error":"#N/A"}},{"$f":"VLOOKUP(A241,'Doucher contrats'!A:B,2,0)","v":{"$error":"#N/A"}}]
[null,null,null,null,null,null,{"$f":"VLOOKUP(E242,BAREME!A:C,3,0)","v":{"$error":"#N/A"}},{"$f":"VLOOKUP(E242,BAREME!A:C,2,0)","v":{"$error":"#N/A"}},{"$f":"VLOOKUP(A242,SOLD!A:J,2,0)","v":{"$error":"#N/A"}},{"$f":"VLOOKUP(A242,'Doucher contrats'!A:B,2,0)","v":{"$error":"#N/A"}}]
[null,null,null,null,null,null,{"$f":"VLOOKUP(E243,BAREME!A:C,3,0)","v":{"$error":"#N/A"}},{"$f":"VLOOKUP(E243,BAREME!A:C,2,0)","v":{"$error":"#N/A"}},{"$f":"VLOOKUP(A243,SOLD!A:J,2,0)","v":{"$error":"#N/A"}},{"$f":"VLOOKUP(A243,'Doucher contrats'!A:B,2,0)","v":{"$error":"#N/A"}}]
[null,null,null,null,null,null,{"$f":"VLOOKUP(E244,BAREME!A:C,3,0)","v":{"$error":"#N/A"}},{"$f":"VLOOKUP(E244,BAREME!A:C,2,0)","v":{"$error":"#N/A"}},{"$f":"VLOOKUP(A244,SOLD!A:J,2,0)","v":{"$error":"#N/A"}},{"$f":"VLOOKUP(A244,'Doucher contrats'!A:B,2,0)","v":{"$error":"#N/A"}}]
[null,null,null,null,null,null,{"$f":"VLOOKUP(E245,BAREME!A:C,3,0)","v":{"$error":"#N/A"}},{"$f":"VLOOKUP(E245,BAREME!A:C,2,0)","v":{"$error":"#N/A"}},{"$f":"VLOOKUP(A245,SOLD!A:J,2,0)","v":{"$error":"#N/A"}},{"$f":"VLOOKUP(A245,'Doucher contrats'!A:B,2,0)","v":{"$error":"#N/A"}}]
[null,null,null,null,null,null,{"$f":"VLOOKUP(E246,BAREME!A:C,3,0)","v":{"$error":"#N/A"}},{"$f":"VLOOKUP(E246,BAREME!A:C,2,0)","v":{"$error":"#N/A"}},{"$f":"VLOOKUP(A246,SOLD!A:J,2,0)","v":{"$error":"#N/A"}},{"$f":"VLOOKUP(A246,'Doucher contrats'!A:B,2,0)","v":{"$error":"#N/A"}}]
[null,null,null,null,null,null,{"$f":"VLOOKUP(E247,BAREME!A:C,3,0)","v":{"$error":"#N/A"}},{"$f":"VLOOKUP(E247,BAREME!A:C,2,0)","v":{"$error":"#N/A"}},{"$f":"VLOOKUP(A247,SOLD!A:J,2,0)","v":{"$error":"#N/A"}},{"$f":"VLOOKUP(A247,'Doucher contrats'!A:B,2,0)","v":{"$error":"#N/A"}}]
[null,null,null,null,null,null,{"$f":"VLOOKUP(E248,BAREME!A:C,3,0)","v":{"$error":"#N/A"}},{"$f":"VLOOKUP(E248,BAREME!A:C,2,0)","v":{"$error":"#N/A"}},{"$f":"VLOOKUP(A248,SOLD!A:J,2,0)","v":{"$error":"#N/A"}},{"$f":"VLOOKUP(A248,'Doucher contrats'!A:B,2,0)","v":{"$error":"#N/A"}}]
[null,null,null,null,null,null,{"$f":"VLOOKUP(E249,BAREME!A:C,3,0)","v":{"$error":"#N/A"}},{"$f":"VLOOKUP(E249,BAREME!A:C,2,0)","v":{"$error":"#N/A"}},{"$f":"VLOOKUP(A249,SOLD!A:J,2,0)","v":{"$error":"#N/A"}},{"$f":"VLOOKUP(A249,'Doucher contrats'!A:B,2,0)","v":{"$error":"#N/A"}}]
[null,null,null,null,null,null,{"$f":"VLOOKUP(E250,BAREME!A:C,3,0)","v":{"$error":"#N/A"}},{"$f":"VLOOKUP(E250,BAREME!A:C,2,0)","v":{"$error":"#N/A"}},{"$f":"VLOOKUP(A250,SOLD!A:J,2,0)","v":{"$error":"#N/A"}},{"$f":"VLOOKUP(A250,'Doucher contrats'!A:B,2,0)","v":{"$error":"#N/A"}}]
[null,null,null,null,null,null,{"$f":"VLOOKUP(E251,BAREME!A:C,3,0)","v":{"$error":"#N/A"}},{"$f":"VLOOKUP(E251,BAREME!A:C,2,0)","v":{"$error":"#N/A"}},{"$f":"VLOOKUP(A251,SOLD!A:J,2,0)","v":{"$error":"#N/A"}},{"$f":"VLOOKUP(A251,'Doucher contrats'!A:B,2,0)","v":{"$error":"#N/A"}}]
[null,null,null,null,null,null,{"$f":"VLOOKUP(E252,BAREME!A:C,3,0)","v":{"$error":"#N/A"}},{"$f":"VLOOKUP(E252,BAREME!A:C,2,0)","v":{"$error":"#N/A"}},{"$f":"VLOOKUP(A252,SOLD!A:J,2,0)","v":{"$error":"#N/A"}},{"$f":"VLOOKUP(A252,'Doucher contrats'!A:B,2,0)","v":{"$error":"#N/A"}}]
[null,null,null,null,null,null,{"$f":"VLOOKUP(E253,BAREME!A:C,3,0)","v":{"$error":"#N/A"}},{"$f":"VLOOKUP(E253,BAREME!A:C,2,0)","v":{"$error":"#N/A"}},{"$f":"VLOOKUP(A253,SOLD!A:J,2,0)","v":{"$error":"#N/A"}},{"$f":"VLOOKUP(A253,'Doucher contrats'!A:B,2,0)","v":{"$error":"#N/A"}}]
[null,null,null,null,null,null,{"$f":"VLOOKUP(E254,BAREME!A:C,3,0)","v":{"$error":"#N/A"}},{"$f":"VLOOKUP(E254,BAREME!A:C,2,0)","v":{"$error":"#N/A"}},{"$f":"VLOOKUP(A254,SOLD!A:J,2,0)","v":{"$error":"#N/A"}},{"$f":"VLOOKUP(A254,'Doucher contrats'!A:B,2,0)","v":{"$error":"#N/A"}}]
[null,null,null,null,null,null,{"$f":"VLOOKUP(E255,BAREME!A:C,3,0)","v":{"$error":"#N/A"}},{"$f":"VLOOKUP(E255,BAREME!A:C,2,0)","v":{"$error":"#N/A"}},{"$f":"VLOOKUP(A255,SOLD!A:J,2,0)","v":{"$error":"#N/A"}},{"$f":"VLOOKUP(A255,'Doucher contrats'!A:B,2,0)","v":{"$error":"#N/A"}}]
[null,null,null,null,null,null,{"$f":"VLOOKUP(E256,BAREME!A:C,3,0)","v":{"$error":"#N/A"}},{"$f":"VLOOKUP(E256,BAREME!A:C,2,0)","v":{"$error":"#N/A"}},{"$f":"VLOOKUP(A256,SOLD!A:J,2,0)","v":{"$error":"#N/A"}},{"$f":"VLOOKUP(A256,'Doucher contrats'!A:B,2,0)","v":{"$error":"#N/A"}}]
[null,null,null,null,null,null,{"$f":"VLOOKUP(E257,BAREME!A:C,3,0)","v":{"$error":"#N/A"}},{"$f":"VLOOKUP(E257,BAREME!A:C,2,0)","v":{"$error":"#N/A"}},{"$f":"VLOOKUP(A257,SOLD!A:J,2,0)","v":{"$error":"#N/A"}},{"$f":"VLOOKUP(A257,'Doucher contrats'!A:B,2,0)","v":{"$error":"#N/A"}}]
[null,null,null,null,null,null,{"$f":"VLOOKUP(E258,BAREME!A:C,3,0)","v":{"$error":"#N/A"}},{"$f":"VLOOKUP(E258,BAREME!A:C,2,0)","v":{"$error":"#N/A"}},{"$f":"VLOOKUP(A258,SOLD!A:J,2,0)","v":{"$error":"#N/A"}},{"$f":"VLOOKUP(A258,'Doucher contrats'!A:B,2,0)","v":{"$error":"#N/A"}}]
[null,null,null,null,null,null,{"$f":"VLOOKUP(E259,BAREME!A:C,3,0)","v":{"$error":"#N/A"}},{"$f":"VLOOKUP(E259,BAREME!A:C,2,0)","v":{"$error":"#N/A"}},{"$f":"VLOOKUP(A259,SOLD!A:J,2,0)","v":{"$error":"#N/A"}},{"$f":"VLOOKUP(A259,'Doucher contrats'!A:B,2,0)","v":{"$error":"#N/A"}}]
[null,null,null,null,null,null,{"$f":"VLOOKUP(E260,BAREME!A:C,3,0)","v":{"$error":"#N/A"}},{"$f":"VLOOKUP(E260,BAREME!A:C,2,0)","v":{"$error":"#N/A"}},{"$f":"VLOOKUP(A260,SOLD!A:J,2,0)","v":{"$error":"#N/A"}},{"$f":"VLOOKUP(A260,'Doucher contrats'!A:B,2,0)","v":{"$error":"#N/A"}}]
[null,null,null,null,null,null,{"$f":"VLOOKUP(E261,BAREME!A:C,3,0)","v":{"$error":"#N/A"}},{"$f":"VLOOKUP(E261,BAREME!A:C,2,0)","v":{"$error":"#N/A"}},{"$f":"VLOOKUP(A261,SOLD!A:J,2,0)","v":{"$error":"#N/A"}},{"$f":"VLOOKUP(A261,'Doucher contrats'!A:B,2,0)","v":{"$error":"#N/A"}}]
[null,null,null,null,null,null,{"$f":"VLOOKUP(E262,BAREME!A:C,3,0)","v":{"$error":"#N/A"}},{"$f":"VLOOKUP(E262,BAREME!A:C,2,0)","v":{"$error":"#N/A"}},{"$f":"VLOOKUP(A262,SOLD!A:J,2,0)","v":{"$error":"#N/A"}},{"$f":"VLOOKUP(A262,'Doucher contrats'!A:B,2,0)","v":{"$error":"#N/A"}}]
[null,null,null,null,null,null,{"$f":"VLOOKUP(E263,BAREME!A:C,3,0)","v":{"$error":"#N/A"}},{"$f":"VLOOKUP(E263,BAREME!A:C,2,0)","v":{"$error":"#N/A"}},{"$f":"VLOOKUP(A263,SOLD!A:J,2,0)","v":{"$error":"#N/A"}},{"$f":"VLOOKUP(A263,'Doucher contrats'!A:B,2,0)","v":{"$error":"#N/A"}}]
[null,null,null,null,null,null,{"$f":"VLOOKUP(E264,BAREME!A:C,3,0)","v":{"$error":"#N/A"}},{"$f":"VLOOKUP(E264,BAREME!A:C,2,0)","v":{"$error":"#N/A"}},{"$f":"VLOOKUP(A264,SOLD!A:J,2,0)","v":{"$error":"#N/A"}},{"$f":"VLOOKUP(A264,'Doucher contrats'!A:B,2,0)","v":{"$error":"#N/A"}}]
[null,null,null,null,null,null,{"$f":"VLOOKUP(E265,BAREME!A:C,3,0)","v":{"$error":"#N/A"}},{"$f":"VLOOKUP(E265,BAREME!A:C,2,0)","v":{"$error":"#N/A"}},{"$f":"VLOOKUP(A265,SOLD!A:J,2,0)","v":{"$error":"#N/A"}},{"$f":"VLOOKUP(A265,'Doucher contrats'!A:B,2,0)","v":{"$error":"#N/A"}}]
[null,null,null,null,null,null,{"$f":"VLOOKUP(E266,BAREME!A:C,3,0)","v":{"$error":"#N/A"}},{"$f":"VLOOKUP(E266,BAREME!A:C,2,0)","v":{"$error":"#N/A"}},{"$f":"VLOOKUP(A266,SOLD!A:J,2,0)","v":{"$error":"#N/A"}},{"$f":"VLOOKUP(A266,'Doucher contrats'!A:B,2,0)","v":{"$error":"#N/A"}}]
[null,null,null,null,null,null,{"$f":"VLOOKUP(E267,BAREME!A:C,3,0)","v":{"$error":"#N/A"}},{"$f":"VLOOKUP(E267,BAREME!A:C,2,0)","v":{"$error":"#N/A"}},{"$f":"VLOOKUP(A267,SOLD!A:J,2,0)","v":{"$error":"#N/A"}},{"$f":"VLOOKUP(A267,'Doucher contrats'!A:B,2,0)","v":{"$error":"#N/A"}}]
[null,null,null,null,null,null,{"$f":"VLOOKUP(E268,BAREME!A:C,3,0)","v":{"$error":"#N/A"}},{"$f":"VLOOKUP(E268,BAREME!A:C,2,0)","v":{"$error":"#N/A"}},{"$f":"VLOOKUP(A268,SOLD!A:J,2,0)","v":{"$error":"#N/A"}},{"$f":"VLOOKUP(A268,'Doucher contrats'!A:B,2,0)","v":{"$error":"#N/A"}}]
[null,null,null,null,null,null,{"$f":"VLOOKUP(E269,BAREME!A:C,3,0)","v":{"$error":"#N/A"}},{"$f":"VLOOKUP(E269,BAREME!A:C,2,0)","v":{"$error":"#N/A"}},{"$f":"VLOOKUP(A269,SOLD!A:J,2,0)","v":{"$error":"#N/A"}},{"$f":"VLOOKUP(A269,'Doucher contrats'!A:B,2,0)","v":{"$error":"#N/A"}}]
[null,null,null,null,null,null,{"$f":"VLOOKUP(E270,BAREME!A:C,3,0)","v":{"$error":"#N/A"}},{"$f":"VLOOKUP(E270,BAREME!A:C,2,0)","v":{"$error":"#N/A"}},{"$f":"VLOOKUP(A270,SOLD!A:J,2,0)","v":{"$error":"#N/A"}},{"$f":"VLOOKUP(A270,'Doucher contrats'!A:B,2,0)","v":{"$error":"#N/A"}}]
[null,null,null,null,null,null,{"$f":"VLOOKUP(E271,BAREME!A:C,3,0)","v":{"$error":"#N/A"}},{"$f":"VLOOKUP(E271,BAREME!A:C,2,0)","v":{"$error":"#N/A"}},{"$f":"VLOOKUP(A271,SOLD!A:J,2,0)","v":{"$error":"#N/A"}},{"$f":"VLOOKUP(A271,'Doucher contrats'!A:B,2,0)","v":{"$error":"#N/A"}}]
[null,null,null,null,null,null,{"$f":"VLOOKUP(E272,BAREME!A:C,3,0)","v":{"$error":"#N/A"}},{"$f":"VLOOKUP(E272,BAREME!A:C,2,0)","v":{"$error":"#N/A"}},{"$f":"VLOOKUP(A272,SOLD!A:J,2,0)","v":{"$error":"#N/A"}},{"$f":"VLOOKUP(A272,'Doucher contrats'!A:B,2,0)","v":{"$error":"#N/A"}}]
[null,null,null,null,null,null,{"$f":"VLOOKUP(E273,BAREME!A:C,3,0)","v":{"$error":"#N/A"}},{"$f":"VLOOKUP(E273,BAREME!A:C,2,0)","v":{"$error":"#N/A"}},{"$f":"VLOOKUP(A273,SOLD!A:J,2,0)","v":{"$error":"#N/A"}},{"$f":"VLOOKUP(A273,'Doucher contrats'!A:B,2,0)","v":{"$error":"#N/A"}}]
[null,null,null,null,null,null,{"$f":"VLOOKUP(E274,BAREME!A:C,3,0)","v":{"$error":"#N/A"}},{"$f":"VLOOKUP(E274,BAREME!A:C,2,0)","v":{"$error":"#N/A"}},{"$f":"VLOOKUP(A274,SOLD!A:J,2,0)","v":{"$error":"#N/A"}},{"$f":"VLOOKUP(A274,'Doucher contrats'!A:B,2,0)","v":{"$error":"#N/A"}}]
[null,null,null,null,null,null,{"$f":"VLOOKUP(E275,BAREME!A:C,3,0)","v":{"$error":"#N/A"}},{"$f":"VLOOKUP(E275,BAREME!A:C,2,0)","v":{"$error":"#N/A"}},{"$f":"VLOOKUP(A275,SOLD!A:J,2,0)","v":{"$error":"#N/A"}},{"$f":"VLOOKUP(A275,'Doucher contrats'!A:B,2,0)","v":{"$error":"#N/A"}}]
[null,null,null,null,null,null,{"$f":"VLOOKUP(E276,BAREME!A:C,3,0)","v":{"$error":"#N/A"}},{"$f":"VLOOKUP(E276,BAREME!A:C,2,0)","v":{"$error":"#N/A"}},{"$f":"VLOOKUP(A276,SOLD!A:J,2,0)","v":{"$error":"#N/A"}},{"$f":"VLOOKUP(A276,'Doucher contrats'!A:B,2,0)","v":{"$error":"#N/A"}}]
[null,null,null,null,null,null,{"$f":"VLOOKUP(E277,BAREME!A:C,3,0)","v":{"$error":"#N/A"}},{"$f":"VLOOKUP(E277,BAREME!A:C,2,0)","v":{"$error":"#N/A"}},{"$f":"VLOOKUP(A277,SOLD!A:J,2,0)","v":{"$error":"#N/A"}},{"$f":"VLOOKUP(A277,'Doucher contrats'!A:B,2,0)","v":{"$error":"#N/A"}}]
[null,null,null,null,null,null,{"$f":"VLOOKUP(E278,BAREME!A:C,3,0)","v":{"$error":"#N/A"}},{"$f":"VLOOKUP(E278,BAREME!A:C,2,0)","v":{"$error":"#N/A"}},{"$f":"VLOOKUP(A278,SOLD!A:J,2,0)","v":{"$error":"#N/A"}},{"$f":"VLOOKUP(A278,'Doucher contrats'!A:B,2,0)","v":{"$error":"#N/A"}}]
[null,null,null,null,null,null,{"$f":"VLOOKUP(E279,BAREME!A:C,3,0)","v":{"$error":"#N/A"}},{"$f":"VLOOKUP(E279,BAREME!A:C,2,0)","v":{"$error":"#N/A"}},{"$f":"VLOOKUP(A279,SOLD!A:J,2,0)","v":{"$error":"#N/A"}},{"$f":"VLOOKUP(A279,'Doucher contrats'!A:B,2,0)","v":{"$error":"#N/A"}}]
[null,null,null,null,null,null,{"$f":"VLOOKUP(E280,BAREME!A:C,3,0)","v":{"$error":"#N/A"}},{"$f":"VLOOKUP(E280,BAREME!A:C,2,0)","v":{"$error":"#N/A"}},{"$f":"VLOOKUP(A280,SOLD!A:J,2,0)","v":{"$error":"#N/A"}},{"$f":"VLOOKUP(A280,'Doucher contrats'!A:B,2,0)","v":{"$error":"#N/A"}}]
[null,null,null,null,null,null,{"$f":"VLOOKUP(E281,BAREME!A:C,3,0)","v":{"$error":"#N/A"}},{"$f":"VLOOKUP(E281,BAREME!A:C,2,0)","v":{"$error":"#N/A"}},{"$f":"VLOOKUP(A281,SOLD!A:J,2,0)","v":{"$error":"#N/A"}},{"$f":"VLOOKUP(A281,'Doucher contrats'!A:B,2,0)","v":{"$error":"#N/A"}}]
[null,null,null,null,null,null,{"$f":"VLOOKUP(E282,BAREME!A:C,3,0)","v":{"$error":"#N/A"}},{"$f":"VLOOKUP(E282,BAREME!A:C,2,0)","v":{"$error":"#N/A"}},{"$f":"VLOOKUP(A282,SOLD!A:J,2,0)","v":{"$error":"#N/A"}},{"$f":"VLOOKUP(A282,'Doucher contrats'!A:B,2,0)","v":{"$error":"#N/A"}}]
[null,null,null,null,null,null,{"$f":"VLOOKUP(E283,BAREME!A:C,3,0)","v":{"$error":"#N/A"}},{"$f":"VLOOKUP(E283,BAREME!A:C,2,0)","v":{"$error":"#N/A"}},{"$f":"VLOOKUP(A283,SOLD!A:J,2,0)","v":{"$error":"#N/A"}},{"$f":"VLOOKUP(A283,'Doucher contrats'!A:B,2,0)","v":{"$error":"#N/A"}}]
[null,null,null,null,null,null,{"$f":"VLOOKUP(E284,BAREME!A:C,3,0)","v":{"$error":"#N/A"}},{"$f":"VLOOKUP(E284,BAREME!A:C,2,0)","v":{"$error":"#N/A"}},{"$f":"VLOOKUP(A284,SOLD!A:J,2,0)","v":{"$error":"#N/A"}},{"$f":"VLOOKUP(A284,'Doucher contrats'!A:B,2,0)","v":{"$error":"#N/A"}}]
[null,null,null,null,null,null,{"$f":"VLOOKUP(E285,BAREME!A:C,3,0)","v":{"$error":"#N/A"}},{"$f":"VLOOKUP(E285,BAREME!A:C,2,0)","v":{"$error":"#N/A"}},{"$f":"VLOOKUP(A285,SOLD!A:J,2,0)","v":{"$error":"#N/A"}},{"$f":"VLOOKUP(A285,'Doucher contrats'!A:B,2,0)","v":{"$error":"#N/A"}}]
[null,null,null,null,null,null,{"$f":"VLOOKUP(E286,BAREME!A:C,3,0)","v":{"$error":"#N/A"}},{"$f":"VLOOKUP(E286,BAREME!A:C,2,0)","v":{"$error":"#N/A"}},{"$f":"VLOOKUP(A286,SOLD!A:J,2,0)","v":{"$error":"#N/A"}},{"$f":"VLOOKUP(A286,'Doucher contrats'!A:B,2,0)","v":{"$error":"#N/A"}}]
[null,null,null,null,null,null,{"$f":"VLOOKUP(E287,BAREME!A:C,3,0)","v":{"$error":"#N/A"}},{"$f":"VLOOKUP(E287,BAREME!A:C,2,0)","v":{"$error":"#N/A"}},{"$f":"VLOOKUP(A287,SOLD!A:J,2,0)","v":{"$error":"#N/A"}},{"$f":"VLOOKUP(A287,'Doucher contrats'!A:B,2,0)","v":{"$error":"#N/A"}}]
[null,null,null,null,null,null,{"$f":"VLOOKUP(E288,BAREME!A:C,3,0)","v":{"$error":"#N/A"}},{"$f":"VLOOKUP(E288,BAREME!A:C,2,0)","v":{"$error":"#N/A"}},{"$f":"VLOOKUP(A288,SOLD!A:J,2,0)","v":{"$error":"#N/A"}},{"$f":"VLOOKUP(A288,'Doucher contrats'!A:B,2,0)","v":{"$error":"#N/A"}}]
[null,null,null,null,null,null,{"$f":"VLOOKUP(E289,BAREME!A:C,3,0)","v":{"$error":"#N/A"}},{"$f":"VLOOKUP(E289,BAREME!A:C,2,0)","v":{"$error":"#N/A"}},{"$f":"VLOOKUP(A289,SOLD!A:J,2,0)","v":{"$error":"#N/A"}},{"$f":"VLOOKUP(A289,'Doucher contrats'!A:B,2,0)","v":{"$error":"#N/A"}}]
[null,null,null,null,null,null,{"$f":"VLOOKUP(E290,BAREME!A:C,3,0)","v":{"$error":"#N/A"}},{"$f":"VLOOKUP(E290,BAREME!A:C,2,0)","v":{"$error":"#N/A"}},{"$f":"VLOOKUP(A290,SOLD!A:J,2,0)","v":{"$error":"#N/A"}},{"$f":"VLOOKUP(A290,'Doucher contrats'!A:B,2,0)","v":{"$error":"#N/A"}}]
[null,null,null,null,null,null,{"$f":"VLOOKUP(E291,BAREME!A:C,3,0)","v":{"$error":"#N/A"}},{"$f":"VLOOKUP(E291,BAREME!A:C,2,0)","v":{"$error":"#N/A"}},{"$f":"VLOOKUP(A291,SOLD!A:J,2,0)","v":{"$error":"#N/A"}},{"$f":"VLOOKUP(A291,'Doucher contrats'!A:B,2,0)","v":{"$error":"#N/A"}}]
[null,null,null,null,null,null,{"$f":"VLOOKUP(E292,BAREME!A:C,3,0)","v":{"$error":"#N/A"}},{"$f":"VLOOKUP(E292,BAREME!A:C,2,0)","v":{"$error":"#N/A"}},{"$f":"VLOOKUP(A292,SOLD!A:J,2,0)","v":{"$error":"#N/A"}},{"$f":"VLOOKUP(A292,'Doucher contrats'!A:B,2,0)","v":{"$error":"#N/A"}}]
[null,null,null,null,null,null,{"$f":"VLOOKUP(E293,BAREME!A:C,3,0)","v":{"$error":"#N/A"}},{"$f":"VLOOKUP(E293,BAREME!A:C,2,0)","v":{"$error":"#N/A"}},{"$f":"VLOOKUP(A293,SOLD!A:J,2,0)","v":{"$error":"#N/A"}},{"$f":"VLOOKUP(A293,'Doucher contrats'!A:B,2,0)","v":{"$error":"#N/A"}}]
[null,null,null,null,null,null,{"$f":"VLOOKUP(E294,BAREME!A:C,3,0)","v":{"$error":"#N/A"}},{"$f":"VLOOKUP(E294,BAREME!A:C,2,0)","v":{"$error":"#N/A"}},{"$f":"VLOOKUP(A294,SOLD!A:J,2,0)","v":{"$error":"#N/A"}},{"$f":"VLOOKUP(A294,'Doucher contrats'!A:B,2,0)","v":{"$error":"#N/A"}}]
[null,null,null,null,null,null,{"$f":"VLOOKUP(E295,BAREME!A:C,3,0)","v":{"$error":"#N/A"}},{"$f":"VLOOKUP(E295,BAREME!A:C,2,0)","v":{"$error":"#N/A"}},{"$f":"VLOOKUP(A295,SOLD!A:J,2,0)","v":{"$error":"#N/A"}},{"$f":"VLOOKUP(A295,'Doucher contrats'!A:B,2,0)","v":{"$error":"#N/A"}}]
[null,null,null,null,null,null,{"$f":"VLOOKUP(E296,BAREME!A:C,3,0)","v":{"$error":"#N/A"}},{"$f":"VLOOKUP(E296,BAREME!A:C,2,0)","v":{"$error":"#N/A"}},{"$f":"VLOOKUP(A296,SOLD!A:J,2,0)","v":{"$error":"#N/A"}},{"$f":"VLOOKUP(A296,'Doucher contrats'!A:B,2,0)","v":{"$error":"#N/A"}}]
[null,null,null,null,null,null,{"$f":"VLOOKUP(E297,BAREME!A:C,3,0)","v":{"$error":"#N/A"}},{"$f":"VLOOKUP(E297,BAREME!A:C,2,0)","v":{"$error":"#N/A"}},{"$f":"VLOOKUP(A297,SOLD!A:J,2,0)","v":{"$error":"#N/A"}},{"$f":"VLOOKUP(A297,'Doucher contrats'!A:B,2,0)","v":{"$error":"#N/A"}}]
[null,null,null,null,null,null,{"$f":"VLOOKUP(E298,BAREME!A:C,3,0)","v":{"$error":"#N/A"}},{"$f":"VLOOKUP(E298,BAREME!A:C,2,0)","v":{"$error":"#N/A"}},{"$f":"VLOOKUP(A298,SOLD!A:J,2,0)","v":{"$error":"#N/A"}},{"$f":"VLOOKUP(A298,'Doucher contrats'!A:B,2,0)","v":{"$error":"#N/A"}}]
[null,null,null,null,null,null,{"$f":"VLOOKUP(E299,BAREME!A:C,3,0)","v":{"$error":"#N/A"}},{"$f":"VLOOKUP(E299,BAREME!A:C,2,0)","v":{"$error":"#N/A"}},{"$f":"VLOOKUP(A299,SOLD!A:J,2,0)","v":{"$error":"#N/A"}},{"$f":"VLOOKUP(A299,'Doucher contrats'!A:B,2,0)","v":{"$error":"#N/A"}}]
[null,null,null,null,null,null,{"$f":"VLOOKUP(E300,BAREME!A:C,3,0)","v":{"$error":"#N/A"}},{"$f":"VLOOKUP(E300,BAREME!A:C,2,0)","v":{"$error":"#N/A"}},{"$f":"VLOOKUP(A300,SOLD!A:J,2,0)","v":{"$error":"#N/A"}},{"$f":"VLOOKUP(A300,'Doucher contrats'!A:B,2,0)","v":{"$error":"#N/A"}}]
[null,null,null,null,null,null,{"$f":"VLOOKUP(E301,BAREME!A:C,3,0)","v":{"$error":"#N/A"}},{"$f":"VLOOKUP(E301,BAREME!A:C,2,0)","v":{"$error":"#N/A"}},{"$f":"VLOOKUP(A301,SOLD!A:J,2,0)","v":{"$error":"#N/A"}},{"$f":"VLOOKUP(A301,'Doucher contrats'!A:B,2,0)","v":{"$error":"#N/A"}}]
[null,null,null,null,null,null,{"$f":"VLOOKUP(E302,BAREME!A:C,3,0)","v":{"$error":"#N/A"}},{"$f":"VLOOKUP(E302,BAREME!A:C,2,0)","v":{"$error":"#N/A"}},{"$f":"VLOOKUP(A302,SOLD!A:J,2,0)","v":{"$error":"#N/A"}},{"$f":"VLOOKUP(A302,'Doucher contrats'!A:B,2,0)","v":{"$error":"#N/A"}}]
[null,null,null,null,null,null,{"$f":"VLOOKUP(E303,BAREME!A:C,3,0)","v":{"$error":"#N/A"}},{"$f":"VLOOKUP(E303,BAREME!A:C,2,0)","v":{"$error":"#N/A"}},{"$f":"VLOOKUP(A303,SOLD!A:J,2,0)","v":{"$error":"#N/A"}},{"$f":"VLOOKUP(A303,'Doucher contrats'!A:B,2,0)","v":{"$error":"#N/A"}}]
[null,null,null,null,null,null,{"$f":"VLOOKUP(E304,BAREME!A:C,3,0)","v":{"$error":"#N/A"}},{"$f":"VLOOKUP(E304,BAREME!A:C,2,0)","v":{"$error":"#N/A"}},{"$f":"VLOOKUP(A304,SOLD!A:J,2,0)","v":{"$error":"#N/A"}},{"$f":"VLOOKUP(A304,'Doucher contrats'!A:B,2,0)","v":{"$error":"#N/A"}}]
[null,null,null,null,null,null,{"$f":"VLOOKUP(E305,BAREME!A:C,3,0)","v":{"$error":"#N/A"}},{"$f":"VLOOKUP(E305,BAREME!A:C,2,0)","v":{"$error":"#N/A"}},{"$f":"VLOOKUP(A305,SOLD!A:J,2,0)","v":{"$error":"#N/A"}},{"$f":"VLOOKUP(A305,'Doucher contrats'!A:B,2,0)","v":{"$error":"#N/A"}}]
[null,null,null,null,null,null,{"$f":"VLOOKUP(E306,BAREME!A:C,3,0)","v":{"$error":"#N/A"}},{"$f":"VLOOKUP(E306,BAREME!A:C,2,0)","v":{"$error":"#N/A"}},{"$f":"VLOOKUP(A306,SOLD!A:J,2,0)","v":{"$error":"#N/A"}},{"$f":"VLOOKUP(A306,'Doucher contrats'!A:B,2,0)","v":{"$error":"#N/A"}}]
[null,null,null,null,null,null,{"$f":"VLOOKUP(E307,BAREME!A:C,3,0)","v":{"$error":"#N/A"}},{"$f":"VLOOKUP(E307,BAREME!A:C,2,0)","v":{"$error":"#N/A"}},{"$f":"VLOOKUP(A307,SOLD!A:J,2,0)","v":{"$error":"#N/A"}},{"$f":"VLOOKUP(A307,'Doucher contrats'!A:B,2,0)","v":{"$error":"#N/A"}}]
[null,null,null,null,null,null,{"$f":"VLOOKUP(E308,BAREME!A:C,3,0)","v":{"$error":"#N/A"}},{"$f":"VLOOKUP(E308,BAREME!A:C,2,0)","v":{"$error":"#N/A"}},{"$f":"VLOOKUP(A308,SOLD!A:J,2,0)","v":{"$error":"#N/A"}},{"$f":"VLOOKUP(A308,'Doucher contrats'!A:B,2,0)","v":{"$error":"#N/A"}}]
[null,null,null,null,null,null,{"$f":"VLOOKUP(E309,BAREME!A:C,3,0)","v":{"$error":"#N/A"}},{"$f":"VLOOKUP(E309,BAREME!A:C,2,0)","v":{"$error":"#N/A"}},{"$f":"VLOOKUP(A309,SOLD!A:J,2,0)","v":{"$error":"#N/A"}},{"$f":"VLOOKUP(A309,'Doucher contrats'!A:B,2,0)","v":{"$error":"#N/A"}}]
[null,null,null,null,null,null,{"$f":"VLOOKUP(E310,BAREME!A:C,3,0)","v":{"$error":"#N/A"}},{"$f":"VLOOKUP(E310,BAREME!A:C,2,0)","v":{"$error":"#N/A"}},{"$f":"VLOOKUP(A310,SOLD!A:J,2,0)","v":{"$error":"#N/A"}},{"$f":"VLOOKUP(A310,'Doucher contrats'!A:B,2,0)","v":{"$error":"#N/A"}}]
[null,null,null,null,null,null,{"$f":"VLOOKUP(E311,BAREME!A:C,3,0)","v":{"$error":"#N/A"}},{"$f":"VLOOKUP(E311,BAREME!A:C,2,0)","v":{"$error":"#N/A"}},{"$f":"VLOOKUP(A311,SOLD!A:J,2,0)","v":{"$error":"#N/A"}},{"$f":"VLOOKUP(A311,'Doucher contrats'!A:B,2,0)","v":{"$error":"#N/A"}}]
[null,null,null,null,null,null,{"$f":"VLOOKUP(E312,BAREME!A:C,3,0)","v":{"$error":"#N/A"}},{"$f":"VLOOKUP(E312,BAREME!A:C,2,0)","v":{"$error":"#N/A"}},{"$f":"VLOOKUP(A312,SOLD!A:J,2,0)","v":{"$error":"#N/A"}},{"$f":"VLOOKUP(A312,'Doucher contrats'!A:B,2,0)","v":{"$error":"#N/A"}}]
[null,null,null,null,null,null,{"$f":"VLOOKUP(E313,BAREME!A:C,3,0)","v":{"$error":"#N/A"}},{"$f":"VLOOKUP(E313,BAREME!A:C,2,0)","v":{"$error":"#N/A"}},{"$f":"VLOOKUP(A313,SOLD!A:J,2,0)","v":{"$error":"#N/A"}},{"$f":"VLOOKUP(A313,'Doucher contrats'!A:B,2,0)","v":{"$error":"#N/A"}}]
[null,null,null,null,null,null,{"$f":"VLOOKUP(E314,BAREME!A:C,3,0)","v":{"$error":"#N/A"}},{"$f":"VLOOKUP(E314,BAREME!A:C,2,0)","v":{"$error":"#N/A"}},{"$f":"VLOOKUP(A314,SOLD!A:J,2,0)","v":{"$error":"#N/A"}},{"$f":"VLOOKUP(A314,'Doucher contrats'!A:B,2,0)","v":{"$error":"#N/A"}}]
[null,null,null,null,null,null,{"$f":"VLOOKUP(E315,BAREME!A:C,3,0)","v":{"$error":"#N/A"}},{"$f":"VLOOKUP(E315,BAREME!A:C,2,0)","v":{"$error":"#N/A"}},{"$f":"VLOOKUP(A315,SOLD!A:J,2,0)","v":{"$error":"#N/A"}},{"$f":"VLOOKUP(A315,'Doucher contrats'!A:B,2,0)","v":{"$error":"#N/A"}}]
[null,null,null,null,null,null,{"$f":"VLOOKUP(E316,BAREME!A:C,3,0)","v":{"$error":"#N/A"}},{"$f":"VLOOKUP(E316,BAREME!A:C,2,0)","v":{"$error":"#N/A"}},{"$f":"VLOOKUP(A316,SOLD!A:J,2,0)","v":{"$error":"#N/A"}},{"$f":"VLOOKUP(A316,'Doucher contrats'!A:B,2,0)","v":{"$error":"#N/A"}}]
[null,null,null,null,null,null,{"$f":"VLOOKUP(E317,BAREME!A:C,3,0)","v":{"$error":"#N/A"}},{"$f":"VLOOKUP(E317,BAREME!A:C,2,0)","v":{"$error":"#N/A"}},{"$f":"VLOOKUP(A317,SOLD!A:J,2,0)","v":{"$error":"#N/A"}},{"$f":"VLOOKUP(A317,'Doucher contrats'!A:B,2,0)","v":{"$error":"#N/A"}}]
[null,null,null,null,null,null,{"$f":"VLOOKUP(E318,BAREME!A:C,3,0)","v":{"$error":"#N/A"}},{"$f":"VLOOKUP(E318,BAREME!A:C,2,0)","v":{"$error":"#N/A"}},{"$f":"VLOOKUP(A318,SOLD!A:J,2,0)","v":{"$error":"#N/A"}},{"$f":"VLOOKUP(A318,'Doucher contrats'!A:B,2,0)","v":{"$error":"#N/A"}}]
[null,null,null,null,null,null,{"$f":"VLOOKUP(E319,BAREME!A:C,3,0)","v":{"$error":"#N/A"}},{"$f":"VLOOKUP(E319,BAREME!A:C,2,0)","v":{"$error":"#N/A"}},{"$f":"VLOOKUP(A319,SOLD!A:J,2,0)","v":{"$error":"#N/A"}},{"$f":"VLOOKUP(A319,'Doucher contrats'!A:B,2,0)","v":{"$error":"#N/A"}}]
[null,null,null,null,null,null,{"$f":"VLOOKUP(E320,BAREME!A:C,3,0)","v":{"$error":"#N/A"}},{"$f":"VLOOKUP(E320,BAREME!A:C,2,0)","v":{"$error":"#N/A"}},{"$f":"VLOOKUP(A320,SOLD!A:J,2,0)","v":{"$error":"#N/A"}},{"$f":"VLOOKUP(A320,'Doucher contrats'!A:B,2,0)","v":{"$error":"#N/A"}}]
[null,null,null,null,null,null,{"$f":"VLOOKUP(E321,BAREME!A:C,3,0)","v":{"$error":"#N/A"}},{"$f":"VLOOKUP(E321,BAREME!A:C,2,0)","v":{"$error":"#N/A"}},{"$f":"VLOOKUP(A321,SOLD!A:J,2,0)","v":{"$error":"#N/A"}},{"$f":"VLOOKUP(A321,'Doucher contrats'!A:B,2,0)","v":{"$error":"#N/A"}}]
[null,null,null,null,null,null,{"$f":"VLOOKUP(E322,BAREME!A:C,3,0)","v":{"$error":"#N/A"}},{"$f":"VLOOKUP(E322,BAREME!A:C,2,0)","v":{"$error":"#N/A"}},{"$f":"VLOOKUP(A322,SOLD!A:J,2,0)","v":{"$error":"#N/A"}},{"$f":"VLOOKUP(A322,'Doucher contrats'!A:B,2,0)","v":{"$error":"#N/A"}}]
[null,null,null,null,null,null,{"$f":"VLOOKUP(E323,BAREME!A:C,3,0)","v":{"$error":"#N/A"}},{"$f":"VLOOKUP(E323,BAREME!A:C,2,0)","v":{"$error":"#N/A"}},{"$f":"VLOOKUP(A323,SOLD!A:J,2,0)","v":{"$error":"#N/A"}},{"$f":"VLOOKUP(A323,'Doucher contrats'!A:B,2,0)","v":{"$error":"#N/A"}}]
[null,null,null,null,null,null,{"$f":"VLOOKUP(E324,BAREME!A:C,3,0)","v":{"$error":"#N/A"}},{"$f":"VLOOKUP(E324,BAREME!A:C,2,0)","v":{"$error":"#N/A"}},{"$f":"VLOOKUP(A324,SOLD!A:J,2,0)","v":{"$error":"#N/A"}},{"$f":"VLOOKUP(A324,'Doucher contrats'!A:B,2,0)","v":{"$error":"#N/A"}}]
[null,null,null,null,null,null,{"$f":"VLOOKUP(E325,BAREME!A:C,3,0)","v":{"$error":"#N/A"}},{"$f":"VLOOKUP(E325,BAREME!A:C,2,0)","v":{"$error":"#N/A"}},{"$f":"VLOOKUP(A325,SOLD!A:J,2,0)","v":{"$error":"#N/A"}},{"$f":"VLOOKUP(A325,'Doucher contrats'!A:B,2,0)","v":{"$error":"#N/A"}}]
[null,null,null,null,null,null,{"$f":"VLOOKUP(E326,BAREME!A:C,3,0)","v":{"$error":"#N/A"}},{"$f":"VLOOKUP(E326,BAREME!A:C,2,0)","v":{"$error":"#N/A"}},{"$f":"VLOOKUP(A326,SOLD!A:J,2,0)","v":{"$error":"#N/A"}},{"$f":"VLOOKUP(A326,'Doucher contrats'!A:B,2,0)","v":{"$error":"#N/A"}}]
[null,null,null,null,null,null,{"$f":"VLOOKUP(E327,BAREME!A:C,3,0)","v":{"$error":"#N/A"}},{"$f":"VLOOKUP(E327,BAREME!A:C,2,0)","v":{"$error":"#N/A"}},{"$f":"VLOOKUP(A327,SOLD!A:J,2,0)","v":{"$error":"#N/A"}},{"$f":"VLOOKUP(A327,'Doucher contrats'!A:B,2,0)","v":{"$error":"#N/A"}}]
[null,null,null,null,null,null,{"$f":"VLOOKUP(E328,BAREME!A:C,3,0)","v":{"$error":"#N/A"}},{"$f":"VLOOKUP(E328,BAREME!A:C,2,0)","v":{"$error":"#N/A"}},{"$f":"VLOOKUP(A328,SOLD!A:J,2,0)","v":{"$error":"#N/A"}},{"$f":"VLOOKUP(A328,'Doucher contrats'!A:B,2,0)","v":{"$error":"#N/A"}}]
[null,null,null,null,null,null,{"$f":"VLOOKUP(E329,BAREME!A:C,3,0)","v":{"$error":"#N/A"}},{"$f":"VLOOKUP(E329,BAREME!A:C,2,0)","v":{"$error":"#N/A"}},{"$f":"VLOOKUP(A329,SOLD!A:J,2,0)","v":{"$error":"#N/A"}},{"$f":"VLOOKUP(A329,'Doucher contrats'!A:B,2,0)","v":{"$error":"#N/A"}}]
[null,null,null,null,null,null,{"$f":"VLOOKUP(E330,BAREME!A:C,3,0)","v":{"$error":"#N/A"}},{"$f":"VLOOKUP(E330,BAREME!A:C,2,0)","v":{"$error":"#N/A"}},{"$f":"VLOOKUP(A330,SOLD!A:J,2,0)","v":{"$error":"#N/A"}},{"$f":"VLOOKUP(A330,'Doucher contrats'!A:B,2,0)","v":{"$error":"#N/A"}}]
[null,null,null,null,null,null,{"$f":"VLOOKUP(E331,BAREME!A:C,3,0)","v":{"$error":"#N/A"}},{"$f":"VLOOKUP(E331,BAREME!A:C,2,0)","v":{"$error":"#N/A"}},{"$f":"VLOOKUP(A331,SOLD!A:J,2,0)","v":{"$error":"#N/A"}},{"$f":"VLOOKUP(A331,'Doucher contrats'!A:B,2,0)","v":{"$error":"#N/A"}}]
[null,null,null,null,null,null,{"$f":"VLOOKUP(E332,BAREME!A:C,3,0)","v":{"$error":"#N/A"}},{"$f":"VLOOKUP(E332,BAREME!A:C,2,0)","v":{"$error":"#N/A"}},{"$f":"VLOOKUP(A332,SOLD!A:J,2,0)","v":{"$error":"#N/A"}},{"$f":"VLOOKUP(A332,'Doucher contrats'!A:B,2,0)","v":{"$error":"#N/A"}}]
[null,null,null,null,null,null,{"$f":"VLOOKUP(E333,BAREME!A:C,3,0)","v":{"$error":"#N/A"}},{"$f":"VLOOKUP(E333,BAREME!A:C,2,0)","v":{"$error":"#N/A"}},{"$f":"VLOOKUP(A333,SOLD!A:J,2,0)","v":{"$error":"#N/A"}},{"$f":"VLOOKUP(A333,'Doucher contrats'!A:B,2,0)","v":{"$error":"#N/A"}}]
[null,null,null,null,null,null,{"$f":"VLOOKUP(E334,BAREME!A:C,3,0)","v":{"$error":"#N/A"}},{"$f":"VLOOKUP(E334,BAREME!A:C,2,0)","v":{"$error":"#N/A"}},{"$f":"VLOOKUP(A334,SOLD!A:J,2,0)","v":{"$error":"#N/A"}},{"$f":"VLOOKUP(A334,'Doucher contrats'!A:B,2,0)","v":{"$error":"#N/A"}}]
[null,null,null,null,null,null,{"$f":"VLOOKUP(E335,BAREME!A:C,3,0)","v":{"$error":"#N/A"}},{"$f":"VLOOKUP(E335,BAREME!A:C,2,0)","v":{"$error":"#N/A"}},{"$f":"VLOOKUP(A335,SOLD!A:J,2,0)","v":{"$error":"#N/A"}},{"$f":"VLOOKUP(A335,'Doucher contrats'!A:B,2,0)","v":{"$error":"#N/A"}}]
[null,null,null,null,null,null,{"$f":"VLOOKUP(E336,BAREME!A:C,3,0)","v":{"$error":"#N/A"}},{"$f":"VLOOKUP(E336,BAREME!A:C,2,0)","v":{"$error":"#N/A"}},{"$f":"VLOOKUP(A336,SOLD!A:J,2,0)","v":{"$error":"#N/A"}},{"$f":"VLOOKUP(A336,'Doucher contrats'!A:B,2,0)","v":{"$error":"#N/A"}}]
[null,null,null,null,null,null,{"$f":"VLOOKUP(E337,BAREME!A:C,3,0)","v":{"$error":"#N/A"}},{"$f":"VLOOKUP(E337,BAREME!A:C,2,0)","v":{"$error":"#N/A"}},{"$f":"VLOOKUP(A337,SOLD!A:J,2,0)","v":{"$error":"#N/A"}},{"$f":"VLOOKUP(A337,'Doucher contrats'!A:B,2,0)","v":{"$error":"#N/A"}}]
[null,null,null,null,null,null,{"$f":"VLOOKUP(E338,BAREME!A:C,3,0)","v":{"$error":"#N/A"}},{"$f":"VLOOKUP(E338,BAREME!A:C,2,0)","v":{"$error":"#N/A"}},{"$f":"VLOOKUP(A338,SOLD!A:J,2,0)","v":{"$error":"#N/A"}},{"$f":"VLOOKUP(A338,'Doucher contrats'!A:B,2,0)","v":{"$error":"#N/A"}}]
[null,null,null,null,null,null,{"$f":"VLOOKUP(E339,BAREME!A:C,3,0)","v":{"$error":"#N/A"}},{"$f":"VLOOKUP(E339,BAREME!A:C,2,0)","v":{"$error":"#N/A"}},{"$f":"VLOOKUP(A339,SOLD!A:J,2,0)","v":{"$error":"#N/A"}},{"$f":"VLOOKUP(A339,'Doucher contrats'!A:B,2,0)","v":{"$error":"#N/A"}}]
[null,null,null,null,null,null,{"$f":"VLOOKUP(E340,BAREME!A:C,3,0)","v":{"$error":"#N/A"}},{"$f":"VLOOKUP(E340,BAREME!A:C,2,0)","v":{"$error":"#N/A"}},{"$f":"VLOOKUP(A340,SOLD!A:J,2,0)","v":{"$error":"#N/A"}},{"$f":"VLOOKUP(A340,'Doucher contrats'!A:B,2,0)","v":{"$error":"#N/A"}}]
[null,null,null,null,null,null,{"$f":"VLOOKUP(E341,BAREME!A:C,3,0)","v":{"$error":"#N/A"}},{"$f":"VLOOKUP(E341,BAREME!A:C,2,0)","v":{"$error":"#N/A"}},{"$f":"VLOOKUP(A341,SOLD!A:J,2,0)","v":{"$error":"#N/A"}},{"$f":"VLOOKUP(A341,'Doucher contrats'!A:B,2,0)","v":{"$error":"#N/A"}}]
[null,null,null,null,null,null,{"$f":"VLOOKUP(E342,BAREME!A:C,3,0)","v":{"$error":"#N/A"}},{"$f":"VLOOKUP(E342,BAREME!A:C,2,0)","v":{"$error":"#N/A"}},{"$f":"VLOOKUP(A342,SOLD!A:J,2,0)","v":{"$error":"#N/A"}},{"$f":"VLOOKUP(A342,'Doucher contrats'!A:B,2,0)","v":{"$error":"#N/A"}}]
[null,null,null,null,null,null,{"$f":"VLOOKUP(E343,BAREME!A:C,3,0)","v":{"$error":"#N/A"}},{"$f":"VLOOKUP(E343,BAREME!A:C,2,0)","v":{"$error":"#N/A"}},{"$f":"VLOOKUP(A343,SOLD!A:J,2,0)","v":{"$error":"#N/A"}},{"$f":"VLOOKUP(A343,'Doucher contrats'!A:B,2,0)","v":{"$error":"#N/A"}}]
[null,null,null,null,null,null,{"$f":"VLOOKUP(E344,BAREME!A:C,3,0)","v":{"$error":"#N/A"}},{"$f":"VLOOKUP(E344,BAREME!A:C,2,0)","v":{"$error":"#N/A"}},{"$f":"VLOOKUP(A344,SOLD!A:J,2,0)","v":{"$error":"#N/A"}},{"$f":"VLOOKUP(A344,'Doucher contrats'!A:B,2,0)","v":{"$error":"#N/A"}}]
[null,null,null,null,null,null,{"$f":"VLOOKUP(E345,BAREME!A:C,3,0)","v":{"$error":"#N/A"}},{"$f":"VLOOKUP(E345,BAREME!A:C,2,0)","v":{"$error":"#N/A"}},{"$f":"VLOOKUP(A345,SOLD!A:J,2,0)","v":{"$error":"#N/A"}},{"$f":"VLOOKUP(A345,'Doucher contrats'!A:B,2,0)","v":{"$error":"#N/A"}}]
[null,null,null,null,null,null,{"$f":"VLOOKUP(E346,BAREME!A:C,3,0)","v":{"$error":"#N/A"}},{"$f":"VLOOKUP(E346,BAREME!A:C,2,0)","v":{"$error":"#N/A"}},{"$f":"VLOOKUP(A346,SOLD!A:J,2,0)","v":{"$error":"#N/A"}},{"$f":"VLOOKUP(A346,'Doucher contrats'!A:B,2,0)","v":{"$error":"#N/A"}}]
[null,null,null,null,null,null,{"$f":"VLOOKUP(E347,BAREME!A:C,3,0)","v":{"$error":"#N/A"}},{"$f":"VLOOKUP(E347,BAREME!A:C,2,0)","v":{"$error":"#N/A"}},{"$f":"VLOOKUP(A347,SOLD!A:J,2,0)","v":{"$error":"#N/A"}},{"$f":"VLOOKUP(A347,'Doucher contrats'!A:B,2,0)","v":{"$error":"#N/A"}}]
[null,null,null,null,null,null,{"$f":"VLOOKUP(E348,BAREME!A:C,3,0)","v":{"$error":"#N/A"}},{"$f":"VLOOKUP(E348,BAREME!A:C,2,0)","v":{"$error":"#N/A"}},{"$f":"VLOOKUP(A348,SOLD!A:J,2,0)","v":{"$error":"#N/A"}},{"$f":"VLOOKUP(A348,'Doucher contrats'!A:B,2,0)","v":{"$error":"#N/A"}}]
[null,null,null,null,null,null,{"$f":"VLOOKUP(E349,BAREME!A:C,3,0)","v":{"$error":"#N/A"}},{"$f":"VLOOKUP(E349,BAREME!A:C,2,0)","v":{"$error":"#N/A"}},{"$f":"VLOOKUP(A349,SOLD!A:J,2,0)","v":{"$error":"#N/A"}},{"$f":"VLOOKUP(A349,'Doucher contrats'!A:B,2,0)","v":{"$error":"#N/A"}}]
[null,null,null,null,null,null,{"$f":"VLOOKUP(E350,BAREME!A:C,3,0)","v":{"$error":"#N/A"}},{"$f":"VLOOKUP(E350,BAREME!A:C,2,0)","v":{"$error":"#N/A"}},{"$f":"VLOOKUP(A350,SOLD!A:J,2,0)","v":{"$error":"#N/A"}},{"$f":"VLOOKUP(A350,'Doucher contrats'!A:B,2,0)","v":{"$error":"#N/A"}}]
[null,null,null,null,null,null,{"$f":"VLOOKUP(E351,BAREME!A:C,3,0)","v":{"$error":"#N/A"}},{"$f":"VLOOKUP(E351,BAREME!A:C,2,0)","v":{"$error":"#N/A"}},{"$f":"VLOOKUP(A351,SOLD!A:J,2,0)","v":{"$error":"#N/A"}},{"$f":"VLOOKUP(A351,'Doucher contrats'!A:B,2,0)","v":{"$error":"#N/A"}}]
[null,null,null,null,null,null,{"$f":"VLOOKUP(E352,BAREME!A:C,3,0)","v":{"$error":"#N/A"}},{"$f":"VLOOKUP(E352,BAREME!A:C,2,0)","v":{"$error":"#N/A"}},{"$f":"VLOOKUP(A352,SOLD!A:J,2,0)","v":{"$error":"#N/A"}},{"$f":"VLOOKUP(A352,'Doucher contrats'!A:B,2,0)","v":{"$error":"#N/A"}}]
[null,null,null,null,null,null,{"$f":"VLOOKUP(E353,BAREME!A:C,3,0)","v":{"$error":"#N/A"}},{"$f":"VLOOKUP(E353,BAREME!A:C,2,0)","v":{"$error":"#N/A"}},{"$f":"VLOOKUP(A353,SOLD!A:J,2,0)","v":{"$error":"#N/A"}},{"$f":"VLOOKUP(A353,'Doucher contrats'!A:B,2,0)","v":{"$error":"#N/A"}}]
[null,null,null,null,null,null,{"$f":"VLOOKUP(E354,BAREME!A:C,3,0)","v":{"$error":"#N/A"}},{"$f":"VLOOKUP(E354,BAREME!A:C,2,0)","v":{"$error":"#N/A"}},{"$f":"VLOOKUP(A354,SOLD!A:J,2,0)","v":{"$error":"#N/A"}},{"$f":"VLOOKUP(A354,'Doucher contrats'!A:B,2,0)","v":{"$error":"#N/A"}}]
[null,null,null,null,null,null,{"$f":"VLOOKUP(E355,BAREME!A:C,3,0)","v":{"$error":"#N/A"}},{"$f":"VLOOKUP(E355,BAREME!A:C,2,0)","v":{"$error":"#N/A"}},{"$f":"VLOOKUP(A355,SOLD!A:J,2,0)","v":{"$error":"#N/A"}},{"$f":"VLOOKUP(A355,'Doucher contrats'!A:B,2,0)","v":{"$error":"#N/A"}}]
[null,null,null,null,null,null,{"$f":"VLOOKUP(E356,BAREME!A:C,3,0)","v":{"$error":"#N/A"}},{"$f":"VLOOKUP(E356,BAREME!A:C,2,0)","v":{"$error":"#N/A"}},{"$f":"VLOOKUP(A356,SOLD!A:J,2,0)","v":{"$error":"#N/A"}},{"$f":"VLOOKUP(A356,'Doucher contrats'!A:B,2,0)","v":{"$error":"#N/A"}}]
[null,null,null,null,null,null,{"$f":"VLOOKUP(E357,BAREME!A:C,3,0)","v":{"$error":"#N/A"}},{"$f":"VLOOKUP(E357,BAREME!A:C,2,0)","v":{"$error":"#N/A"}},{"$f":"VLOOKUP(A357,SOLD!A:J,2,0)","v":{"$error":"#N/A"}},{"$f":"VLOOKUP(A357,'Doucher contrats'!A:B,2,0)","v":{"$error":"#N/A"}}]
[null,null,null,null,null,null,{"$f":"VLOOKUP(E358,BAREME!A:C,3,0)","v":{"$error":"#N/A"}},{"$f":"VLOOKUP(E358,BAREME!A:C,2,0)","v":{"$error":"#N/A"}},{"$f":"VLOOKUP(A358,SOLD!A:J,2,0)","v":{"$error":"#N/A"}},{"$f":"VLOOKUP(A358,'Doucher contrats'!A:B,2,0)","v":{"$error":"#N/A"}}]
[null,null,null,null,null,null,{"$f":"VLOOKUP(E359,BAREME!A:C,3,0)","v":{"$error":"#N/A"}},{"$f":"VLOOKUP(E359,BAREME!A:C,2,0)","v":{"$error":"#N/A"}},{"$f":"VLOOKUP(A359,SOLD!A:J,2,0)","v":{"$error":"#N/A"}},{"$f":"VLOOKUP(A359,'Doucher contrats'!A:B,2,0)","v":{"$error":"#N/A"}}]
[null,null,null,null,null,null,{"$f":"VLOOKUP(E360,BAREME!A:C,3,0)","v":{"$error":"#N/A"}},{"$f":"VLOOKUP(E360,BAREME!A:C,2,0)","v":{"$error":"#N/A"}},{"$f":"VLOOKUP(A360,SOLD!A:J,2,0)","v":{"$error":"#N/A"}},{"$f":"VLOOKUP(A360,'Doucher contrats'!A:B,2,0)","v":{"$error":"#N/A"}}]
[null,null,null,null,null,null,{"$f":"VLOOKUP(E361,BAREME!A:C,3,0)","v":{"$error":"#N/A"}},{"$f":"VLOOKUP(E361,BAREME!A:C,2,0)","v":{"$error":"#N/A"}},{"$f":"VLOOKUP(A361,SOLD!A:J,2,0)","v":{"$error":"#N/A"}},{"$f":"VLOOKUP(A361,'Doucher contrats'!A:B,2,0)","v":{"$error":"#N/A"}}]
[null,null,null,null,null,null,{"$f":"VLOOKUP(E362,BAREME!A:C,3,0)","v":{"$error":"#N/A"}},{"$f":"VLOOKUP(E362,BAREME!A:C,2,0)","v":{"$error":"#N/A"}},{"$f":"VLOOKUP(A362,SOLD!A:J,2,0)","v":{"$error":"#N/A"}},{"$f":"VLOOKUP(A362,'Doucher contrats'!A:B,2,0)","v":{"$error":"#N/A"}}]
[null,null,null,null,null,null,{"$f":"VLOOKUP(E363,BAREME!A:C,3,0)","v":{"$error":"#N/A"}},{"$f":"VLOOKUP(E363,BAREME!A:C,2,0)","v":{"$error":"#N/A"}},{"$f":"VLOOKUP(A363,SOLD!A:J,2,0)","v":{"$error":"#N/A"}},{"$f":"VLOOKUP(A363,'Doucher contrats'!A:B,2,0)","v":{"$error":"#N/A"}}]
[null,null,null,null,null,null,{"$f":"VLOOKUP(E364,BAREME!A:C,3,0)","v":{"$error":"#N/A"}},{"$f":"VLOOKUP(E364,BAREME!A:C,2,0)","v":{"$error":"#N/A"}},{"$f":"VLOOKUP(A364,SOLD!A:J,2,0)","v":{"$error":"#N/A"}},{"$f":"VLOOKUP(A364,'Doucher contrats'!A:B,2,0)","v":{"$error":"#N/A"}}]
[null,null,null,null,null,null,{"$f":"VLOOKUP(E365,BAREME!A:C,3,0)","v":{"$error":"#N/A"}},{"$f":"VLOOKUP(E365,BAREME!A:C,2,0)","v":{"$error":"#N/A"}},{"$f":"VLOOKUP(A365,SOLD!A:J,2,0)","v":{"$error":"#N/A"}},{"$f":"VLOOKUP(A365,'Doucher contrats'!A:B,2,0)","v":{"$error":"#N/A"}}]
[null,null,null,null,null,null,{"$f":"VLOOKUP(E366,BAREME!A:C,3,0)","v":{"$error":"#N/A"}},{"$f":"VLOOKUP(E366,BAREME!A:C,2,0)","v":{"$error":"#N/A"}},{"$f":"VLOOKUP(A366,SOLD!A:J,2,0)","v":{"$error":"#N/A"}},{"$f":"VLOOKUP(A366,'Doucher contrats'!A:B,2,0)","v":{"$error":"#N/A"}}]
[null,null,null,null,null,null,{"$f":"VLOOKUP(E367,BAREME!A:C,3,0)","v":{"$error":"#N/A"}},{"$f":"VLOOKUP(E367,BAREME!A:C,2,0)","v":{"$error":"#N/A"}},{"$f":"VLOOKUP(A367,SOLD!A:J,2,0)","v":{"$error":"#N/A"}},{"$f":"VLOOKUP(A367,'Doucher contrats'!A:B,2,0)","v":{"$error":"#N/A"}}]
[null,null,null,null,null,null,{"$f":"VLOOKUP(E368,BAREME!A:C,3,0)","v":{"$error":"#N/A"}},{"$f":"VLOOKUP(E368,BAREME!A:C,2,0)","v":{"$error":"#N/A"}},{"$f":"VLOOKUP(A368,SOLD!A:J,2,0)","v":{"$error":"#N/A"}},{"$f":"VLOOKUP(A368,'Doucher contrats'!A:B,2,0)","v":{"$error":"#N/A"}}]
[null,null,null,null,null,null,{"$f":"VLOOKUP(E369,BAREME!A:C,3,0)","v":{"$error":"#N/A"}},{"$f":"VLOOKUP(E369,BAREME!A:C,2,0)","v":{"$error":"#N/A"}},{"$f":"VLOOKUP(A369,SOLD!A:J,2,0)","v":{"$error":"#N/A"}},{"$f":"VLOOKUP(A369,'Doucher contrats'!A:B,2,0)","v":{"$error":"#N/A"}}]
[null,null,null,null,null,null,{"$f":"VLOOKUP(E370,BAREME!A:C,3,0)","v":{"$error":"#N/A"}},{"$f":"VLOOKUP(E370,BAREME!A:C,2,0)","v":{"$error":"#N/A"}},{"$f":"VLOOKUP(A370,SOLD!A:J,2,0)","v":{"$error":"#N/A"}},{"$f":"VLOOKUP(A370,'Doucher contrats'!A:B,2,0)","v":{"$error":"#N/A"}}]
[null,null,null,null,null,null,{"$f":"VLOOKUP(E371,BAREME!A:C,3,0)","v":{"$error":"#N/A"}},{"$f":"VLOOKUP(E371,BAREME!A:C,2,0)","v":{"$error":"#N/A"}},{"$f":"VLOOKUP(A371,SOLD!A:J,2,0)","v":{"$error":"#N/A"}},{"$f":"VLOOKUP(A371,'Doucher contrats'!A:B,2,0)","v":{"$error":"#N/A"}}]
[null,null,null,null,null,null,{"$f":"VLOOKUP(E372,BAREME!A:C,3,0)","v":{"$error":"#N/A"}},{"$f":"VLOOKUP(E372,BAREME!A:C,2,0)","v":{"$error":"#N/A"}},{"$f":"VLOOKUP(A372,SOLD!A:J,2,0)","v":{"$error":"#N/A"}},{"$f":"VLOOKUP(A372,'Doucher contrats'!A:B,2,0)","v":{"$error":"#N/A"}}]

{"sheet":"BAREME","index":6,"n_rows":97,"n_cols":3,"rows_kept":97,"cut":false,"hidden":true,"merged":[]}
["1000 Pourcent","Prépayé",1]
["3ajab","Prépayé",1]
["ADSL HOME","ADSL",1]
["ala kifi","Postpayé",2]
["Clé 3G Pass","IEW",1]
["Edawa5","Prépayé",1]
["Flybox home","Flybox",1]
["Forfait clé 3G Intense","IEW",2]
["Forfait clé 3G Premium","IEW",3]
["forfait mix 15","Postpayé",1]
["forfait mix 20","Postpayé",1]
["forfait mix 30","Postpayé",2]
["forfait mix 50","Postpayé",3]
["forfait together","Prépayé",1]
["Nouvelle offre Hybride 20Go","Flybox",1]
["Welcome sim","Prépayé",1]
["Offre Flexi","Postpayé",2]
["Clé 3G Simply","IEW",1]
["Flybox Prepayee","IEW",1]
["Boouj","Prépayé",1]
["forfait maitrise 20","Postpayé",1]
["forfait maitrise 30","Postpayé",2]
["El Jam3ia Mobile","Prépayé",1]
["Flybox Pro","Flybox",2]
["Iphone 100","Postpayé",4]
["Forfait optima 200","Postpayé",7]
["Connecti","Prépayé",1]
["Forfait mix 100","Postpayé",4]
["forfait optima 100","Postpayé",4]
["OPEN","Prépayé",1]
["forfait optima 150","Postpayé",5]
["Forfait clé 3G Access","IEW",1.5]
["Iphone Mix","Postpayé",3]
["abonnement Platinum","Postpayé",1]
["ADSL HOME","Postpayé",1]
["ADSL LIVE","Postpayé",2]
["ADSL Livebox II","Postpayé",2]
["Offre M2M VPN","Postpayé",1]
["Flybox home","Hybride",1]
["Flybox PLUS","Hybride",1]
["Flybox Pro","Postpayé",2]
["Flybox Staff","Hybride",1]
["Forfait cle 3G Access","Hybride",2]
["Forfait clé 3G Intense","Hybride",2]
["Forfait cle 3G Premium","Hybride",3]
["Forfait IEW Convention","Hybride",2]
["forfait IEW Edition Limitée","Hybride",2]
["forfait IEW OTN","Hybride",2]
["forfait maitrise 10","Hybride",1]
["forfait maitrise 120","Hybride",4]
["forfait maitrise 20","Hybride",1]
["forfait maitrise 30","Hybride",2]
["forfait maitrise 40","Hybride",2]
["forfait maitrise 50","Hybride",3]
["forfait maitrise 80","Hybride",3]
["Forfait mix 100","Postpayé",4]
["forfait mix 15","Hybride",1]
["forfait mix 20","Hybride",1]
["forfait mix 30","Hybride",2]
["forfait mix 50","Hybride",3]
["Forfait Mix Coeur OTN 15","Hybride",1]
["forfait mix OTN 150","Hybride",1]
["forfait mix OTN 40","Hybride",1]
["forfait mix OTN 80","Hybride",1]
["forfait optima 100","Postpayé",4]
["forfait optima 150","Postpayé",5]
["Forfait optima 200","Postpayé",6]
["forfait optima 3G+ 100","Postpayé",4]
["forfait optima 3G+ 150","Postpayé",5]
["forfait optima 3G+ 50","Postpayé",3]
["forfait optima 50","Postpayé",3]
["forfait optima OTN","Postpayé",1]
["Iphone 100","Postpayé",4]
["Iphone 150","Postpayé",5]
["Iphone 200","Postpayé",6]
["Iphone 50","Postpayé",3]
["Iphone Mix","Hybride",3]
["Iphone mix 100","Postpayé",4]
["liberte","Postpayé",1]
["Maitrise Partenaire 10","Hybride",1]
["Maitrise Partenaire 20","Hybride",1]
["Maitrise Partenaire 50","Hybride",3]
["OPTIMA VIP 100","Postpayé",4]
["OPTIMA VIP 150","Postpayé",5]
["OPTIMA VIP 50","Postpayé",3]
["Perfetto","Postpayé",2]
["Smart Voice","Postpayé",1]
["Top du Top","Hybride",2]
["VIP gold","Postpayé",1]
["VOIP Entreprise Basic","Hybride",1]
["VOIP Entreprise Full","Hybride",1]
["Flybox MAX","Flybox",1]
["prepaye zen","Prépayé",1]
["Cle Max","IEW",2]
["ADSL ONE","ADSL",1]
["Tehabbel","Prépayé",1]
["Test","Prépayé"]

{"sheet":"SOLD","index":7,"n_rows":1330,"n_cols":10,"rows_kept":1330,"cut":false,"hidden":true,"merged":[]}
["Numéro de série","Utilisateur","Code produit","Nom du produit","Date entrée","Agence","Code Agence","Quantité","Etat du produit","Fournisseur"]
["0000001","ABLOUNA","0000001"]
["0000002","ASLOGHM","0000002"]
["0000003","RIGRAIET","0000003"]
["0000004","SIGHW","0000004"]
["0000005","AmiraX","0000005"]
["0000006","HanenX","0000006"]
["0000007","-","0000007"]
["0000008","-","0000008"]
["0000009","-","0000009"]
["0000010","-","0000010"]
["Numéro de série","Utilisateur","Code produit","Nom du produit","Date entrée","Agence","Code Agence","Quantité","Etat du produit","Fournisseur"]
["863605032642664","RIGRAIET","085001000011","FLYBOX B310","2017-08-12","Franchise MSAKEN","MSK0013F",1,"SOLD","Tunis Entrepot DCGP"]
["892160100206713351","RIGRAIET","043008000001","CARTE SIM 4G FLYBOX","2017-08-12","Franchise MSAKEN","MSK0013F",1,"SOLD","Tunis Entrepot DCGP"]
["TG6K17020004565","RIGRAIET","188003000016","Modem Huawei HG532","2017-08-12","Franchise MSAKEN","MSK0013F",1,"SOLD","Tunis Entrepot DCGP"]
["892160100124729132","SIGHW","043007000004","CARTE SIM 4G DATA MULTI SIM","2017-08-10","Franchise MSAKEN","MSK0013F",1,"SOLD","Tunis Entrepot DCGP"]
["892160100122554918","SIGHW","043006000003","CARTE SIM 4G PRE MULTI SIM","2017-08-14","Franchise MSAKEN","MSK0013F",1,"SOLD","Tunis Entrepot DCGP"]
["","SIGHW","044004000010","Recharge Express","2017-08-10","Franchise MSAKEN","MSK0013F",10,"SOLD","Tunis Entrepot DCGP"]
["892160100122554937","ASLOGHM","043006000003","CARTE SIM 4G PRE MULTI SIM","2017-08-14","Franchise MSAKEN","MSK0013F",1,"SOLD","Tunis Entrepot DCGP"]
["892160100122555570","ABLOUNA","043006000003","CARTE SIM 4G PRE MULTI SIM","2017-08-10","Franchise MSAKEN","MSK0013F",1,"SOLD","Tunis Entrepot DCGP"]
["862497030355742","ABLOUNA","083013025002","HUAWEI GR5 2017 GOLD","2017-08-12","Franchise MSAKEN","MSK0013F",1,"SOLD","Tunis Entrepot DCGP"]
["892160100117566082","ABLOUNA","043006000007","CARTE SIM 4G POST MULTI SIM","2017-08-12","Franchise MSAKEN","MSK0013F",1,"SOLD","Tunis Entrepot DCGP"]
["862497030507847","ABLOUNA","083013025001","HUAWEI GR5 2017 SILVER","2017-08-12","Franchise MSAKEN","MSK0013F",1,"SOLD","Tunis Entrepot DCGP"]
["892160100123469163","ABLOUNA","043001000114","CARTE PREACTIVEE VD","2017-08-14","Franchise MSAKEN","MSK0013F",1,"SOLD","Tunis Entrepot DCGP"]
["352770077249508","ABLOUNA","045022002001","ORANGE IT 2110","2017-08-14","Franchise MSAKEN","MSK0013F",1,"SOLD","Tunis Entrepot DCGP"]
["892160100122555679","RIGRAIET","043006000003","CARTE SIM 4G PRE MULTI SIM","2017-08-12","Franchise MSAKEN","MSK0013F",1,"SOLD","Tunis Entrepot DCGP"]
["","SIGHW","044004000010","Recharge Express","2017-08-14","Franchise MSAKEN","MSK0013F",2,"SOLD","Tunis Entrepot DCGP"]
["892160100122554890","SIGHW","043006000003","CARTE SIM 4G PRE MULTI SIM","2017-08-11","Franchise MSAKEN","MSK0013F",1,"SOLD","Tunis Entrepot DCGP"]
["","ABLOUNA","044004000010","Recharge Express","2017-08-10","Franchise MSAKEN","MSK0013F",12,"SOLD","Tunis Entrepot DCGP"]
["","RIGRAIET","044004000010","Recharge Express","2017-08-14","Franchise MSAKEN","MSK0013F",5,"SOLD","Tunis Entrepot DCGP"]
["892160100124729146","SIGHW","043007000004","CARTE SIM 4G DATA MULTI SIM","2017-08-14","Franchise MSAKEN","MSK0013F",1,"SOLD","Tunis Entrepot DCGP"]
["892160100124729143","ABLOUNA","043007000004","CARTE SIM 4G DATA MULTI SIM","2017-08-12","Franchise MSAKEN","MSK0013F",1,"SOLD","Tunis Entrepot DCGP"]
["","ASLOGHM","044004000010","Recharge Express","2017-08-14","Franchise MSAKEN","MSK0013F",5,"SOLD","Tunis Entrepot DCGP"]
["","RIGRAIET","044004000010","Recharge Express","2017-08-12","Franchise MSAKEN","MSK0013F",10,"SOLD","Tunis Entrepot DCGP"]
["892160100122555724","ABLOUNA","043006000003","CARTE SIM 4G PRE MULTI SIM","2017-08-12","Franchise MSAKEN","MSK0013F",1,"SOLD","Tunis Entrepot DCGP"]
["","ABLOUNA","044004000010","Recharge Express","2017-08-15","Franchise MSAKEN","MSK0013F",5,"SOLD","Tunis Entrepot DCGP"]
["","SIGHW","044004000010","Recharge Express","2017-08-10","Franchise MSAKEN","MSK0013F",5,"SOLD","Tunis Entrepot DCGP"]
["","ABLOUNA","044004000010","Recharge Express","2017-08-15","Franchise MSAKEN","MSK0013F",12,"SOLD","Tunis Entrepot DCGP"]
["892160100124728453","RIGRAIET","043007000004","CARTE SIM 4G DATA MULTI SIM","2017-08-12","Franchise MSAKEN","MSK0013F",1,"SOLD","Tunis Entrepot DCGP"]
["","SIGHW","044004000010","Recharge Express","2017-08-12","Franchise MSAKEN","MSK0013F",15,"SOLD","Tunis Entrepot DCGP"]
["892160100122555667","SIGHW","043006000003","CARTE SIM 4G PRE MULTI SIM","2017-08-12","Franchise MSAKEN","MSK0013F",1,"SOLD","Tunis Entrepot DCGP"]
["892160100122554895","ASLOGHM","043006000003","CARTE SIM 4G PRE MULTI SIM","2017-08-11","Franchise MSAKEN","MSK0013F",1,"SOLD","Tunis Entrepot DCGP"]
["","RIGRAIET","044004000010","Recharge Express","2017-08-14","Franchise MSAKEN","MSK0013F",12,"SOLD","Tunis Entrepot DCGP"]
["892160100122555674","SIGHW","043006000003","CARTE SIM 4G PRE MULTI SIM","2017-08-12","Franchise MSAKEN","MSK0013F",1,"SOLD","Tunis Entrepot DCGP"]
["","RIGRAIET","044004000010","Recharge Express","2017-08-11","Franchise MSAKEN","MSK0013F",5,"SOLD","Tunis Entrepot DCGP"]
["892160100122554906","RIGRAIET","043006000003","CARTE SIM 4G PRE MULTI SIM","2017-08-11","Franchise MSAKEN","MSK0013F",1,"SOLD","Tunis Entrepot DCGP"]
["","ABLOUNA","044004000010","Recharge Express","2017-08-11","Franchise MSAKEN","MSK0013F",18,"SOLD","Tunis Entrepot DCGP"]
["","ABLOUNA","044004000010","Recharge Express","2017-08-08","Franchise MSAKEN","MSK0013F",20,"SOLD","Tunis Entrepot DCGP"]
["892160100122555568","ABLOUNA","043006000003","CARTE SIM 4G PRE MULTI SIM","2017-08-08","Franchise MSAKEN","MSK0013F",1,"SOLD","Tunis Entrepot DCGP"]
["892160100124728419","ASLOGHM","043007000004","CARTE SIM 4G DATA MULTI SIM","2017-08-08","Franchise MSAKEN","MSK0013F",1,"SOLD","Tunis Entrepot DCGP"]
["892160100124728445","RIGRAIET","043007000004","CARTE SIM 4G DATA MULTI SIM","2017-08-11","Franchise MSAKEN","MSK0013F",1,"SOLD","Tunis Entrepot DCGP"]
["892160100122555689","ABLOUNA","043006000003","CARTE SIM 4G PRE MULTI SIM","2017-08-11","Franchise MSAKEN","MSK0013F",1,"SOLD","Tunis Entrepot DCGP"]
["892160100122554875","RIGRAIET","043006000003","CARTE SIM 4G PRE MULTI SIM","2017-08-11","Franchise MSAKEN","MSK0013F",1,"SOLD","Tunis Entrepot DCGP"]
["","RIGRAIET","044004000010","Recharge Express","2017-08-11","Franchise MSAKEN","MSK0013F",5,"SOLD","Tunis Entrepot DCGP"]
["892160100122554892","ASLOGHM","043006000003","CARTE SIM 4G PRE MULTI SIM","2017-08-11","Franchise MSAKEN","MSK0013F",1,"SOLD","Tunis Entrepot DCGP"]
["","SIGHW","044004000010","Recharge Express","2017-08-09","Franchise MSAKEN","MSK0013F",20,"SOLD","Tunis Entrepot DCGP"]
["","SIGHW","044004000010","Recharge Express","2017-08-09","Franchise MSAKEN","MSK0013F",5,"SOLD","Tunis Entrepot DCGP"]
["892160100122555464","SIGHW","043006000003","CARTE SIM 4G PRE MULTI SIM","2017-08-09","Franchise MSAKEN","MSK0013F",1,"SOLD","Tunis Entrepot DCGP"]
["892160100122555576","ABLOUNA","043006000003","CARTE SIM 4G PRE MULTI SIM","2017-08-09","Franchise MSAKEN","MSK0013F",1,"SOLD","Tunis Entrepot DCGP"]
["892160100122555609","RIGRAIET","043006000003","CARTE SIM 4G PRE MULTI SIM","2017-08-09","Franchise MSAKEN","MSK0013F",1,"SOLD","Tunis Entrepot DCGP"]
["","RIGRAIET","044004000010","Recharge Express","2017-08-14","Franchise MSAKEN","MSK0013F",5,"SOLD","Tunis Entrepot DCGP"]
["","SIGHW","044004000010","Recharge Express","2017-08-14","Franchise MSAKEN","MSK0013F",5,"SOLD","Tunis Entrepot DCGP"]
["","SIGHW","044004000010","Recharge Express","2017-08-14","Franchise MSAKEN","MSK0013F",20,"SOLD","Tunis Entrepot DCGP"]
["892160100122554886","ABLOUNA","043006000003","CARTE SIM 4G PRE MULTI SIM","2017-08-10","Franchise MSAKEN","MSK0013F",1,"SOLD","Tunis Entrepot DCGP"]
["","ASLOGHM","044004000010","Recharge Express","2017-08-10","Franchise MSAKEN","MSK0013F",12,"SOLD","Tunis Entrepot DCGP"]
["892160100122555653","SIGHW","043006000003","CARTE SIM 4G PRE MULTI SIM","2017-08-10","Franchise MSAKEN","MSK0013F",1,"SOLD","Tunis Entrepot DCGP"]
["","SIGHW","044004000010","Recharge Express","2017-08-12","Franchise MSAKEN","MSK0013F",12,"SOLD","Tunis Entrepot DCGP"]
["892160100122555573","ABLOUNA","043006000003","CARTE SIM 4G PRE MULTI SIM","2017-08-09","Franchise MSAKEN","MSK0013F",1,"SOLD","Tunis Entrepot DCGP"]
["","ABLOUNA","044004000010","Recharge Express","2017-08-09","Franchise MSAKEN","MSK0013F",5,"SOLD","Tunis Entrepot DCGP"]
["892160100124729140","RIGRAIET","043007000004","CARTE SIM 4G DATA MULTI SIM","2017-08-11","Franchise MSAKEN","MSK0013F",1,"SOLD","Tunis Entrepot DCGP"]
["","ABLOUNA","044004000010","Recharge Express","2017-08-15","Franchise MSAKEN","MSK0013F",60,"SOLD","Tunis Entrepot DCGP"]
["892160100124729145","ABLOUNA","043007000004","CARTE SIM 4G DATA MULTI SIM","2017-08-15","Franchise MSAKEN","MSK0013F",1,"SOLD","Tunis Entrepot DCGP"]
["","SIGHW","044004000010","Recharge Express","2017-08-12","Franchise MSAKEN","MSK0013F",12,"SOLD","Tunis Entrepot DCGP"]
["892160100122554853","SIGHW","043006000003","CARTE SIM 4G PRE MULTI SIM","2017-08-10","Franchise MSAKEN","MSK0013F",1,"SOLD","Tunis Entrepot DCGP"]
["892160100124729161","ABLOUNA","043007000004","CARTE SIM 4G DATA MULTI SIM","2017-08-09","Franchise MSAKEN","MSK0013F",1,"SOLD","Tunis Entrepot DCGP"]
["","SIGHW","044004000010","Recharge Express","2017-08-11","Franchise MSAKEN","MSK0013F",25,"SOLD","Tunis Entrepot DCGP"]
["","ASLOGHM","044004000010","Recharge Express","2017-08-11","Franchise MSAKEN","MSK0013F",5,"SOLD","Tunis Entrepot DCGP"]
["","ASLOGHM","044004000010","Recharge Express","2017-08-09","Franchise MSAKEN","MSK0013F",20,"SOLD","Tunis Entrepot DCGP"]
["892160100206713354","RIGRAIET","043008000001","CARTE SIM 4G FLYBOX","2017-08-11","Franchise MSAKEN","MSK0013F",1,"SOLD","Tunis Entrepot DCGP"]
["869907027307764","RIGRAIET","046002000041","CLE 4G E3372H","2017-08-14","Franchise MSAKEN","MSK0013F",1,"SOLD","Tunis Entrepot DCGP"]
["892160100124729144","RIGRAIET","043007000004","CARTE SIM 4G DATA MULTI SIM","2017-08-14","Franchise MSAKEN","MSK0013F",1,"SOLD","Tunis Entrepot DCGP"]
["","ASLOGHM","044004000010","Recharge Express","2017-08-12","Franchise MSAKEN","MSK0013F",10,"SOLD","Tunis Entrepot DCGP"]
["","SIGHW","044004000010","Recharge Express","2017-08-12","Franchise MSAKEN","MSK0013F",10,"SOLD","Tunis Entrepot DCGP"]
["892160100122555671","SIGHW","043006000003","CARTE SIM 4G PRE MULTI SIM","2017-08-12","Franchise MSAKEN","MSK0013F",1,"SOLD","Tunis Entrepot DCGP"]
["892160100122555672","SIGHW","043006000003","CARTE SIM 4G PRE MULTI SIM","2017-08-12","Franchise MSAKEN","MSK0013F",1,"SOLD","Tunis Entrepot DCGP"]
["","RIGRAIET","044004000010","Recharge Express","2017-08-09","Franchise MSAKEN","MSK0013F",10,"SOLD","Tunis Entrepot DCGP"]
["892160100206713349","SIGHW","043008000001","CARTE SIM 4G FLYBOX","2017-08-14","Franchise MSAKEN","MSK0013F",1,"SOLD","Tunis Entrepot DCGP"]
["892160100122555727","ABLOUNA","043006000003","CARTE SIM 4G PRE MULTI SIM","2017-08-15","Franchise MSAKEN","MSK0013F",1,"SOLD","Tunis Entrepot DCGP"]
["","ASLOGHM","044004000010","Recharge Express","2017-08-12","Franchise MSAKEN","MSK0013F",10,"SOLD","Tunis Entrepot DCGP"]
["892160100122555677","RIGRAIET","043006000003","CARTE SIM 4G PRE MULTI SIM","2017-08-12","Franchise MSAKEN","MSK0013F",1,"SOLD","Tunis Entrepot DCGP"]
["","RIGRAIET","999100001003","SERVICE TRANSFERT CONTACT","2017-08-11","Franchise MSAKEN","MSK0013F",1,"SOLD","Tunis Entrepot DCGP"]
["","ASLOGHM","044004000010","Recharge Express","2017-08-10","Franchise MSAKEN","MSK0013F",10,"SOLD","Tunis Entrepot DCGP"]
["","ABLOUNA","044004000010","Recharge Express","2017-08-10","Franchise MSAKEN","MSK0013F",5,"SOLD","Tunis Entrepot DCGP"]
["892160100122555569","ABLOUNA","043006000003","CARTE SIM 4G PRE MULTI SIM","2017-08-10","Franchise MSAKEN","MSK0013F",1,"SOLD","Tunis Entrepot DCGP"]
["","ASLOGHM","044004000010","Recharge Express","2017-08-08","Franchise MSAKEN","MSK0013F",30,"SOLD","Tunis Entrepot DCGP"]
["","RIGRAIET","044004000010","Recharge Express","2017-08-14","Franchise MSAKEN","MSK0013F",15,"SOLD","Tunis Entrepot DCGP"]
["892160100122555737","RIGRAIET","043006000003","CARTE SIM 4G PRE MULTI SIM","2017-08-14","Franchise MSAKEN","MSK0013F",1,"SOLD","Tunis Entrepot DCGP"]
["892160100122555723","ABLOUNA","043006000003","CARTE SIM 4G PRE MULTI SIM","2017-08-12","Franchise MSAKEN","MSK0013F",1,"SOLD","Tunis Entrepot DCGP"]
["","ABLOUNA","044004000010","Recharge Express","2017-08-12","Franchise MSAKEN","MSK0013F",10,"SOLD","Tunis Entrepot DCGP"]
["","ASLOGHM","044004000010","Recharge Express","2017-08-15","Franchise MSAKEN","MSK0013F",12,"SOLD","Tunis Entrepot DCGP"]
["","RIGRAIET","044004000010","Recharge Express","2017-08-14","Franchise MSAKEN","MSK0013F",5,"SOLD","Tunis Entrepot DCGP"]
["892160100122555651","SIGHW","043006000003","CARTE SIM 4G PRE MULTI SIM","2017-08-10","Franchise MSAKEN","MSK0013F",1,"SOLD","Tunis Entrepot DCGP"]
["892160100122554913","SIGHW","043006000003","CARTE SIM 4G PRE MULTI SIM","2017-08-14","Franchise MSAKEN","MSK0013F",1,"SOLD","Tunis Entrepot DCGP"]
["892160100124728448","ABLOUNA","043007000004","CARTE SIM 4G DATA MULTI SIM","2017-08-11","Franchise MSAKEN","MSK0013F",1,"SOLD","Tunis Entrepot DCGP"]
["892160100122554870","SIGHW","043006000003","CARTE SIM 4G PRE MULTI SIM","2017-08-11","Franchise MSAKEN","MSK0013F",1,"SOLD","Tunis Entrepot DCGP"]
["","SIGHW","044004000010","Recharge Express","2017-08-11","Franchise MSAKEN","MSK0013F",5,"SOLD","Tunis Entrepot DCGP"]
["892160100124729154","ASLOGHM","043007000004","CARTE SIM 4G DATA MULTI SIM","2017-08-15","Franchise MSAKEN","MSK0013F",1,"SOLD","Tunis Entrepot DCGP"]
["","ASLOGHM","044004000010","Recharge Express","2017-08-11","Franchise MSAKEN","MSK0013F",5,"SOLD","Tunis Entrepot DCGP"]
["","ASLOGHM","044004000010","Recharge Express","2017-08-11","Franchise MSAKEN","MSK0013F",5,"SOLD","Tunis Entrepot DCGP"]
["892160100122554902","ASLOGHM","043006000003","CARTE SIM 4G PRE MULTI SIM","2017-08-11","Franchise MSAKEN","MSK0013F",1,"SOLD","Tunis Entrepot DCGP"]
["892160100122554901","ASLOGHM","043006000003","CARTE SIM 4G PRE MULTI SIM","2017-08-11","Franchise MSAKEN","MSK0013F",1,"SOLD","Tunis Entrepot DCGP"]
["892160100122554866","SIGHW","043006000003","CARTE SIM 4G PRE MULTI SIM","2017-08-10","Franchise MSAKEN","MSK0013F",1,"SOLD","Tunis Entrepot DCGP"]
["TG6K17020002818","ABLOUNA","188003000016","Modem Huawei HG532","2017-08-11","Franchise MSAKEN","MSK0013F",1,"SOLD","Tunis Entrepot DCGP"]
["892160100122554909","SIGHW","043006000003","CARTE SIM 4G PRE MULTI SIM","2017-08-14","Franchise MSAKEN","MSK0013F",1,"SOLD","Tunis Entrepot DCGP"]
["357360080180653","RIGRAIET","083025001002","SERVICOM EASY 3 WHTE BLCK","2017-08-14","Franchise MSAKEN","MSK0013F",1,"SOLD","Tunis Entrepot DCGP"]
["","RIGRAIET","044004000010","Recharge Express","2017-08-14","Franchise MSAKEN","MSK0013F",25,"SOLD","Tunis Entrepot DCGP"]
["892160100124728441","ABLOUNA","043007000004","CARTE SIM 4G DATA MULTI SIM","2017-08-11","Franchise MSAKEN","MSK0013F",1,"SOLD","Tunis Entrepot DCGP"]
["892160100122555657","RIGRAIET","043006000003","CARTE SIM 4G PRE MULTI SIM","2017-08-10","Franchise MSAKEN","MSK0013F",1,"SOLD","Tunis Entrepot DCGP"]
["892160100122555574","ABLOUNA","043006000003","CARTE SIM 4G PRE MULTI SIM","2017-08-09","Franchise MSAKEN","MSK0013F",1,"SOLD","Tunis Entrepot DCGP"]
["","ABLOUNA","044004000010","Recharge Express","2017-08-09","Franchise MSAKEN","MSK0013F",10,"SOLD","Tunis Entrepot DCGP"]
["","ASLOGHM","044004000010","Recharge Express","2017-08-14","Franchise MSAKEN","MSK0013F",9,"SOLD","Tunis Entrepot DCGP"]
["869470014292697","ASLOGHM","046002000060","DOMINO E5220 WHITE","2017-08-08","Franchise MSAKEN","MSK0013F",1,"SOLD","Tunis Entrepot DCGP"]
["892160100124728417","ASLOGHM","043007000004","CARTE SIM 4G DATA MULTI SIM","2017-08-08","Franchise MSAKEN","MSK0013F",1,"SOLD","Tunis Entrepot DCGP"]
["892160100122555557","ASLOGHM","043006000003","CARTE SIM 4G PRE MULTI SIM","2017-08-08","Franchise MSAKEN","MSK0013F",1,"SOLD","Tunis Entrepot DCGP"]
["","ABLOUNA","044004000010","Recharge Express","2017-08-08","Franchise MSAKEN","MSK0013F",5,"SOLD","Tunis Entrepot DCGP"]
["892160100122554938","ASLOGHM","043006000003","CARTE SIM 4G PRE MULTI SIM","2017-08-14","Franchise MSAKEN","MSK0013F",1,"SOLD","Tunis Entrepot DCGP"]
["","RIGRAIET","999100001003","SERVICE TRANSFERT CONTACT","2017-08-10","Franchise MSAKEN","MSK0013F",1,"SOLD","Tunis Entrepot DCGP"]
["892160100122555567","ABLOUNA","043006000003","CARTE SIM 4G PRE MULTI SIM","2017-08-08","Franchise MSAKEN","MSK0013F",1,"SOLD","Tunis Entrepot DCGP"]
["892160100122555560","ASLOGHM","043006000003","CARTE SIM 4G PRE MULTI SIM","2017-08-08","Franchise MSAKEN","MSK0013F",1,"SOLD","Tunis Entrepot DCGP"]
["","ASLOGHM","044004000010","Recharge Express","2017-08-08","Franchise MSAKEN","MSK0013F",20,"SOLD","Tunis Entrepot DCGP"]
["892160100124729156","ASLOGHM","043007000004","CARTE SIM 4G DATA MULTI SIM","2017-08-14","Franchise MSAKEN","MSK0013F",1,"SOLD","Tunis Entrepot DCGP"]
["892160100124729152","ASLOGHM","043007000004","CARTE SIM 4G DATA MULTI SIM","2017-08-15","Franchise MSAKEN","MSK0013F",1,"SOLD","Tunis Entrepot DCGP"]
["892160100123469073","ABLOUNA","043001000114","CARTE PREACTIVEE VD","2017-08-15","Franchise MSAKEN","MSK0013F",1,"SOLD","Tunis Entrepot DCGP"]
["892160100123469072","ABLOUNA","043001000114","CARTE PREACTIVEE VD","2017-08-15","Franchise MSAKEN","MSK0013F",1,"SOLD","Tunis Entrepot DCGP"]
["","SIGHW","044004000010","Recharge Express","2017-08-14","Franchise MSAKEN","MSK0013F",30,"SOLD","Tunis Entrepot DCGP"]
["","RIGRAIET","044004000010","Recharge Express","2017-08-14","Franchise MSAKEN","MSK0013F",5,"SOLD","Tunis Entrepot DCGP"]
["","ABLOUNA","044004000010","Recharge Express","2017-08-15","Franchise MSAKEN","MSK0013F",13,"SOLD","Tunis Entrepot DCGP"]
["","ASLOGHM","044004000010","Recharge Express","2017-08-15","Franchise MSAKEN","MSK0013F",5,"SOLD","Tunis Entrepot DCGP"]
["","ASLOGHM","044004000010","Recharge Express","2017-08-15","Franchise MSAKEN","MSK0013F",20,"SOLD","Tunis Entrepot DCGP"]
["892160100122554940","ASLOGHM","043006000003","CARTE SIM 4G PRE MULTI SIM","2017-08-14","Franchise MSAKEN","MSK0013F",1,"SOLD","Tunis Entrepot DCGP"]
["892160100122555734","RIGRAIET","043006000003","CARTE SIM 4G PRE MULTI SIM","2017-08-14","Franchise MSAKEN","MSK0013F",1,"SOLD","Tunis Entrepot DCGP"]
["","ASLOGHM","044004000010","Recharge Express","2017-08-14","Franchise MSAKEN","MSK0013F",5,"SOLD","Tunis Entrepot DCGP"]
["892160100124729153","SIGHW","043007000004","CARTE SIM 4G DATA MULTI SIM","2017-08-15","Franchise MSAKEN","MSK0013F",1,"SOLD","Tunis Entrepot DCGP"]
["","RIGRAIET","999100001003","SERVICE TRANSFERT CONTACT","2017-08-11","Franchise MSAKEN","MSK0013F",1,"SOLD","Tunis Entrepot DCGP"]
["892160100122554907","RIGRAIET","043006000003","CARTE SIM 4G PRE MULTI SIM","2017-08-11","Franchise MSAKEN","MSK0013F",1,"SOLD","Tunis Entrepot DCGP"]
["","ABLOUNA","044004000010","Recharge Express","2017-08-11","Franchise MSAKEN","MSK0013F",10,"SOLD","Tunis Entrepot DCGP"]
["","RIGRAIET","044004000010","Recharge Express","2017-08-11","Franchise MSAKEN","MSK0013F",12,"SOLD","Tunis Entrepot DCGP"]
["892160100122555259","ABLOUNA","043006000003","CARTE SIM 4G PRE MULTI SIM","2017-08-10","Franchise MSAKEN","MSK0013F",1,"SOLD","Tunis Entrepot DCGP"]
["892160100122554905","RIGRAIET","043006000003","CARTE SIM 4G PRE MULTI SIM","2017-08-11","Franchise MSAKEN","MSK0013F",1,"SOLD","Tunis Entrepot DCGP"]
["","ABLOUNA","044004000010","Recharge Express","2017-08-10","Franchise MSAKEN","MSK0013F",5,"SOLD","Tunis Entrepot DCGP"]
["","ABLOUNA","044004000010","Recharge Express","2017-08-10","Franchise MSAKEN","MSK0013F",30,"SOLD","Tunis Entrepot DCGP"]
["","ABLOUNA","044004000010","Recharge Express","2017-08-10","Franchise MSAKEN","MSK0013F",25,"SOLD","Tunis Entrepot DCGP"]
["892160100122555697","ABLOUNA","043006000003","CARTE SIM 4G PRE MULTI SIM","2017-08-09","Franchise MSAKEN","MSK0013F",1,"SOLD","Tunis Entrepot DCGP"]
["892160100122555607","RIGRAIET","043006000003","CARTE SIM 4G PRE MULTI SIM","2017-08-09","Franchise MSAKEN","MSK0013F",1,"SOLD","Tunis Entrepot DCGP"]
["","RIGRAIET","044004000010","Recharge Express","2017-08-09","Franchise MSAKEN","MSK0013F",25,"SOLD","Tunis Entrepot DCGP"]
["892160100122555675","RIGRAIET","043006000003","CARTE SIM 4G PRE MULTI SIM","2017-08-12","Franchise MSAKEN","MSK0013F",1,"SOLD","Tunis Entrepot DCGP"]
["2168006000748","ABLOUNA","047006000161","Orange Wifi dock","2017-08-10","Franchise MSAKEN","MSK0013F",1,"SOLD","Tunis Entrepot DCGP"]
["867424023063575","ABLOUNA","046002000034","CLE 3G E3531","2017-08-10","Franchise MSAKEN","MSK0013F",1,"SOLD","Tunis Entrepot DCGP"]
["892160100124729178","ABLOUNA","043007000004","CARTE SIM 4G DATA MULTI SIM","2017-08-10","Franchise MSAKEN","MSK0013F",1,"SOLD","Tunis Entrepot DCGP"]
["","RIGRAIET","044004000010","Recharge Express","2017-08-09","Franchise MSAKEN","MSK0013F",12,"SOLD","Tunis Entrepot DCGP"]
["","SIGHW","044004000010","Recharge Express","2017-08-09","Franchise MSAKEN","MSK0013F",5,"SOLD","Tunis Entrepot DCGP"]
["892160100122555699","RIGRAIET","043006000003","CARTE SIM 4G PRE MULTI SIM","2017-08-11","Franchise MSAKEN","MSK0013F",1,"SOLD","Tunis Entrepot DCGP"]
["892160100122554903","ASLOGHM","043006000003","CARTE SIM 4G PRE MULTI SIM","2017-08-11","Franchise MSAKEN","MSK0013F",1,"SOLD","Tunis Entrepot DCGP"]
["","ABLOUNA","044004000010","Recharge Express","2017-08-10","Franchise MSAKEN","MSK0013F",25,"SOLD","Tunis Entrepot DCGP"]
["357360080132340","RIGRAIET","083025001003","SERVICOM EASY 3 BLEU","2017-08-10","Franchise MSAKEN","MSK0013F",1,"SOLD","Tunis Entrepot DCGP"]
["","ABLOUNA","044004000010","Recharge Express","2017-08-10","Franchise MSAKEN","MSK0013F",5,"SOLD","Tunis Entrepot DCGP"]
["892160100122555716","RIGRAIET","043006000003","CARTE SIM 4G PRE MULTI SIM","2017-08-14","Franchise MSAKEN","MSK0013F",1,"SOLD","Tunis Entrepot DCGP"]
["","ABLOUNA","044004000010","Recharge Express","2017-08-15","Franchise MSAKEN","MSK0013F",5,"SOLD","Tunis Entrepot DCGP"]
["892160100123469137","ABLOUNA","043001000114","CARTE PREACTIVEE VD","2017-08-15","Franchise MSAKEN","MSK0013F",1,"SOLD","Tunis Entrepot DCGP"]
["892160100123469138","ABLOUNA","043001000114","CARTE PREACTIVEE VD","2017-08-15","Franchise MSAKEN","MSK0013F",1,"SOLD","Tunis Entrepot DCGP"]
["","ASLOGHM","044004000010","Recharge Express","2017-08-15","Franchise MSAKEN","MSK0013F",5,"SOLD","Tunis Entrepot DCGP"]
["","ABLOUNA","044004000010","Recharge Express","2017-08-15","Franchise MSAKEN","MSK0013F",5,"SOLD","Tunis Entrepot DCGP"]
["","RIGRAIET","044004000010","Recharge Express","2017-08-12","Franchise MSAKEN","MSK0013F",10,"SOLD","Tunis Entrepot DCGP"]
["892160100122554880","RIGRAIET","043006000003","CARTE SIM 4G PRE MULTI SIM","2017-08-10","Franchise MSAKEN","MSK0013F",1,"SOLD","Tunis Entrepot DCGP"]
["","ASLOGHM","044004000010","Recharge Express","2017-08-15","Franchise MSAKEN","MSK0013F",5,"SOLD","Tunis Entrepot DCGP"]
["","ASLOGHM","044004000010","Recharge Express","2017-08-15","Franchise MSAKEN","MSK0013F",5,"SOLD","Tunis Entrepot DCGP"]
["892160100123469074","ASLOGHM","043001000114","CARTE PREACTIVEE VD","2017-08-15","Franchise MSAKEN","MSK0013F",1,"SOLD","Tunis Entrepot DCGP"]
["892160100123469100","ASLOGHM","043001000114","CARTE PREACTIVEE VD","2017-08-15","Franchise MSAKEN","MSK0013F",1,"SOLD","Tunis Entrepot DCGP"]
["892160100122554946","ASLOGHM","043006000003","CARTE SIM 4G PRE MULTI SIM","2017-08-15","Franchise MSAKEN","MSK0013F",1,"SOLD","Tunis Entrepot DCGP"]
["892160100122555652","SIGHW","043006000003","CARTE SIM 4G PRE MULTI SIM","2017-08-10","Franchise MSAKEN","MSK0013F",1,"SOLD","Tunis Entrepot DCGP"]
["","ASLOGHM","044004000010","Recharge Express","2017-08-10","Franchise MSAKEN","MSK0013F",12,"SOLD","Tunis Entrepot DCGP"]
["892160100122554854","SIGHW","043006000003","CARTE SIM 4G PRE MULTI SIM","2017-08-10","Franchise MSAKEN","MSK0013F",1,"SOLD","Tunis Entrepot DCGP"]
["","SIGHW","044004000010","Recharge Express","2017-08-14","Franchise MSAKEN","MSK0013F",12,"SOLD","Tunis Entrepot DCGP"]
["","RIGRAIET","044004000010","Recharge Express","2017-08-12","Franchise MSAKEN","MSK0013F",12,"SOLD","Tunis Entrepot DCGP"]
["892160100206713346","ABLOUNA","043008000001","CARTE SIM 4G FLYBOX","2017-08-14","Franchise MSAKEN","MSK0013F",1,"SOLD","Tunis Entrepot DCGP"]
["863605032642987","ABLOUNA","085001000011","FLYBOX B310","2017-08-14","Franchise MSAKEN","MSK0013F",1,"SOLD","Tunis Entrepot DCGP"]
["892160100124728460","RIGRAIET","043007000004","CARTE SIM 4G DATA MULTI SIM","2017-08-14","Franchise MSAKEN","MSK0013F",1,"SOLD","Tunis Entrepot DCGP"]
["892160100122554942","ASLOGHM","043006000003","CARTE SIM 4G PRE MULTI SIM","2017-08-14","Franchise MSAKEN","MSK0013F",1,"SOLD","Tunis Entrepot DCGP"]
["892160100124729174","RIGRAIET","043007000004","CARTE SIM 4G DATA MULTI SIM","2017-08-10","Franchise MSAKEN","MSK0013F",1,"SOLD","Tunis Entrepot DCGP"]
["892160100122554941","ASLOGHM","043006000003","CARTE SIM 4G PRE MULTI SIM","2017-08-14","Franchise MSAKEN","MSK0013F",1,"SOLD","Tunis Entrepot DCGP"]
["892160100124729147","SIGHW","043007000004","CARTE SIM 4G DATA MULTI SIM","2017-08-14","Franchise MSAKEN","MSK0013F",1,"SOLD","Tunis Entrepot DCGP"]
["","ASLOGHM","044004000010","Recharge Express","2017-08-09","Franchise MSAKEN","MSK0013F",20,"SOLD","Tunis Entrepot DCGP"]
["892160100122555738","RIGRAIET","043006000003","CARTE SIM 4G PRE MULTI SIM","2017-08-12","Franchise MSAKEN","MSK0013F",1,"SOLD","Tunis Entrepot DCGP"]
["","ABLOUNA","044004000010","Recharge Express","2017-08-10","Franchise MSAKEN","MSK0013F",5,"SOLD","Tunis Entrepot DCGP"]
["","RIGRAIET","044004000010","Recharge Express","2017-08-09","Franchise MSAKEN","MSK0013F",10,"SOLD","Tunis Entrepot DCGP"]
["","ABLOUNA","044004000010","Recharge Express","2017-08-14","Franchise MSAKEN","MSK0013F",5,"SOLD","Tunis Entrepot DCGP"]
["","ASLOGHM","044004000010","Recharge Express","2017-08-10","Franchise MSAKEN","MSK0013F",5,"SOLD","Tunis Entrepot DCGP"]
["892160100122555577","ASLOGHM","043006000003","CARTE SIM 4G PRE MULTI SIM","2017-08-09","Franchise MSAKEN","MSK0013F",1,"SOLD","Tunis Entrepot DCGP"]
["","RIGRAIET","044004000010","Recharge Express","2017-08-12","Franchise MSAKEN","MSK0013F",25,"SOLD","Tunis Entrepot DCGP"]
["","ABLOUNA","044004000010","Recharge Express","2017-08-12","Franchise MSAKEN","MSK0013F",1,"SOLD","Tunis Entrepot DCGP"]
["892160100122555707","RIGRAIET","043006000003","CARTE SIM 4G PRE MULTI SIM","2017-08-12","Franchise MSAKEN","MSK0013F",1,"SOLD","Tunis Entrepot DCGP"]
["","SIGHW","999100001003","SERVICE TRANSFERT CONTACT","2017-08-10","Franchise MSAKEN","MSK0013F",1,"SOLD","Tunis Entrepot DCGP"]
["","RIGRAIET","044004000010","Recharge Express","2017-08-09","Franchise MSAKEN","MSK0013F",10,"SOLD","Tunis Entrepot DCGP"]
["892160100122554865","SIGHW","043006000003","CARTE SIM 4G PRE MULTI SIM","2017-08-10","Franchise MSAKEN","MSK0013F",1,"SOLD","Tunis Entrepot DCGP"]
["892160100122555682","RIGRAIET","043006000003","CARTE SIM 4G PRE MULTI SIM","2017-08-11","Franchise MSAKEN","MSK0013F",1,"SOLD","Tunis Entrepot DCGP"]
["","RIGRAIET","044004000010","Recharge Express","2017-08-11","Franchise MSAKEN","MSK0013F",5,"SOLD","Tunis Entrepot DCGP"]
["","RIGRAIET","044004000010","Recharge Express","2017-08-11","Franchise MSAKEN","MSK0013F",30,"SOLD","Tunis Entrepot DCGP"]
["892160100124728447","ABLOUNA","043007000004","CARTE SIM 4G DATA MULTI SIM","2017-08-11","Franchise MSAKEN","MSK0013F",1,"SOLD","Tunis Entrepot DCGP"]
["","ABLOUNA","044004000010","Recharge Express","2017-08-11","Franchise MSAKEN","MSK0013F",5,"SOLD","Tunis Entrepot DCGP"]
["892160100122554899","ASLOGHM","043006000003","CARTE SIM 4G PRE MULTI SIM","2017-08-11","Franchise MSAKEN","MSK0013F",1,"SOLD","Tunis Entrepot DCGP"]
["","ABLOUNA","044004000010","Recharge Express","2017-08-11","Franchise MSAKEN","MSK0013F",5,"SOLD","Tunis Entrepot DCGP"]
["892160100122554855","SIGHW","043006000003","CARTE SIM 4G PRE MULTI SIM","2017-08-10","Franchise MSAKEN","MSK0013F",1,"SOLD","Tunis Entrepot DCGP"]
["","ASLOGHM","044004000010","Recharge Express","2017-08-12","Franchise MSAKEN","MSK0013F",5,"SOLD","Tunis Entrepot DCGP"]
["892160100122555666","ABLOUNA","043006000003","CARTE SIM 4G PRE MULTI SIM","2017-08-12","Franchise MSAKEN","MSK0013F",1,"SOLD","Tunis Entrepot DCGP"]
["","ABLOUNA","044004000010","Recharge Express","2017-08-12","Franchise MSAKEN","MSK0013F",5,"SOLD","Tunis Entrepot DCGP"]
["","SIGHW","044004000010","Recharge Express","2017-08-12","Franchise MSAKEN","MSK0013F",5,"SOLD","Tunis Entrepot DCGP"]
["892160100122555670","SIGHW","043006000003","CARTE SIM 4G PRE MULTI SIM","2017-08-12","Franchise MSAKEN","MSK0013F",1,"SOLD","Tunis Entrepot DCGP"]
["","RIGRAIET","999100001003","SERVICE TRANSFERT CONTACT","2017-08-11","Franchise MSAKEN","MSK0013F",1,"SOLD","Tunis Entrepot DCGP"]
["892160100122554908","RIGRAIET","043006000003","CARTE SIM 4G PRE MULTI SIM","2017-08-11","Franchise MSAKEN","MSK0013F",1,"SOLD","Tunis Entrepot DCGP"]
["892160100124729130","ASLOGHM","043007000004","CARTE SIM 4G DATA MULTI SIM","2017-08-10","Franchise MSAKEN","MSK0013F",1,"SOLD","Tunis Entrepot DCGP"]
["892160100122555708","ABLOUNA","043006000003","CARTE SIM 4G PRE MULTI SIM","2017-08-12","Franchise MSAKEN","MSK0013F",1,"SOLD","Tunis Entrepot DCGP"]
["","SIGHW","044004000010","Recharge Express","2017-08-11","Franchise MSAKEN","MSK0013F",5,"SOLD","Tunis Entrepot DCGP"]
["892160100122554894","ASLOGHM","043006000003","CARTE SIM 4G PRE MULTI SIM","2017-08-11","Franchise MSAKEN","MSK0013F",1,"SOLD","Tunis Entrepot DCGP"]
["","SIGHW","044004000010","Recharge Express","2017-08-14","Franchise MSAKEN","MSK0013F",25,"SOLD","Tunis Entrepot DCGP"]
["892160100122554873","RIGRAIET","043006000003","CARTE SIM 4G PRE MULTI SIM","2017-08-11","Franchise MSAKEN","MSK0013F",1,"SOLD","Tunis Entrepot DCGP"]
["","ASLOGHM","044004000010","Recharge Express","2017-08-11","Franchise MSAKEN","MSK0013F",12,"SOLD","Tunis Entrepot DCGP"]
["892160100122554887","SIGHW","043006000003","CARTE SIM 4G PRE MULTI SIM","2017-08-11","Franchise MSAKEN","MSK0013F",1,"SOLD","Tunis Entrepot DCGP"]
["892160100124729177","SIGHW","043007000004","CARTE SIM 4G DATA MULTI SIM","2017-08-11","Franchise MSAKEN","MSK0013F",1,"SOLD","Tunis Entrepot DCGP"]
["","RIGRAIET","999100001003","SERVICE TRANSFERT CONTACT","2017-08-11","Franchise MSAKEN","MSK0013F",1,"SOLD","Tunis Entrepot DCGP"]
["","ASLOGHM","084006000285","CLE USB SANDISK 8GB","2017-08-14","Franchise MSAKEN","MSK0013F",1,"SOLD","Tunis Entrepot DCGP"]
["","ABLOUNA","044004000010","Recharge Express","2017-08-11","Franchise MSAKEN","MSK0013F",10,"SOLD","Tunis Entrepot DCGP"]
["892160100122555700","ABLOUNA","043006000003","CARTE SIM 4G PRE MULTI SIM","2017-08-11","Franchise MSAKEN","MSK0013F",1,"SOLD","Tunis Entrepot DCGP"]
["892160100124728450","ABLOUNA","043007000004","CARTE SIM 4G DATA MULTI SIM","2017-08-11","Franchise MSAKEN","MSK0013F",1,"SOLD","Tunis Entrepot DCGP"]
["892160100124728452","SIGHW","043007000004","CARTE SIM 4G DATA MULTI SIM","2017-08-12","Franchise MSAKEN","MSK0013F",1,"SOLD","Tunis Entrepot DCGP"]
["892160100124729139","ASLOGHM","043007000004","CARTE SIM 4G DATA MULTI SIM","2017-08-11","Franchise MSAKEN","MSK0013F",1,"SOLD","Tunis Entrepot DCGP"]
["892160100122554860","ASLOGHM","043006000003","CARTE SIM 4G PRE MULTI SIM","2017-08-10","Franchise MSAKEN","MSK0013F",1,"SOLD","Tunis Entrepot DCGP"]
["","ASLOGHM","044004000010","Recharge Express","2017-08-11","Franchise MSAKEN","MSK0013F",25,"SOLD","Tunis Entrepot DCGP"]
["892160100122555726","ABLOUNA","043006000003","CARTE SIM 4G PRE MULTI SIM","2017-08-15","Franchise MSAKEN","MSK0013F",1,"SOLD","Tunis Entrepot DCGP"]
["892160100122555706","ABLOUNA","043006000003","CARTE SIM 4G PRE MULTI SIM","2017-08-11","Franchise MSAKEN","MSK0013F",1,"SOLD","Tunis Entrepot DCGP"]
["","ABLOUNA","044004000010","Recharge Express","2017-08-14","Franchise MSAKEN","MSK0013F",15,"SOLD","Tunis Entrepot DCGP"]
["","ASLOGHM","044004000010","Recharge Express","2017-08-09","Franchise MSAKEN","MSK0013F",12,"SOLD","Tunis Entrepot DCGP"]
["","ASLOGHM","044004000010","Recharge Express","2017-08-09","Franchise MSAKEN","MSK0013F",5,"SOLD","Tunis Entrepot DCGP"]
["892160100122555581","ASLOGHM","043006000003","CARTE SIM 4G PRE MULTI SIM","2017-08-09","Franchise MSAKEN","MSK0013F",1,"SOLD","Tunis Entrepot DCGP"]
["","ABLOUNA","044004000010","Recharge Express","2017-08-10","Franchise MSAKEN","MSK0013F",5,"SOLD","Tunis Entrepot DCGP"]
["892160100122554934","ABLOUNA","043006000003","CARTE SIM 4G PRE MULTI SIM","2017-08-15","Franchise MSAKEN","MSK0013F",1,"SOLD","Tunis Entrepot DCGP"]
["","ABLOUNA","044004000010","Recharge Express","2017-08-10","Franchise MSAKEN","MSK0013F",5,"SOLD","Tunis Entrepot DCGP"]
["","ASLOGHM","047006000255","SANGLE PVC PORTABLE","2017-08-14","Franchise MSAKEN","MSK0013F",1,"SOLD","Tunis Entrepot DCGP"]
["","SIGHW","044004000010","Recharge Express","2017-08-10","Franchise MSAKEN","MSK0013F",10,"SOLD","Tunis Entrepot DCGP"]
["","RIGRAIET","044004000010","Recharge Express","2017-08-10","Franchise MSAKEN","MSK0013F",5,"SOLD","Tunis Entrepot DCGP"]
["892160100122554878","RIGRAIET","043006000003","CARTE SIM 4G PRE MULTI SIM","2017-08-10","Franchise MSAKEN","MSK0013F",1,"SOLD","Tunis Entrepot DCGP"]
["","ABLOUNA","044004000010","Recharge Express","2017-08-10","Franchise MSAKEN","MSK0013F",12,"SOLD","Tunis Entrepot DCGP"]
["892160100122555571","ABLOUNA","043006000003","CARTE SIM 4G PRE MULTI SIM","2017-08-10","Franchise MSAKEN","MSK0013F",1,"SOLD","Tunis Entrepot DCGP"]
["892160100123469165","ABLOUNA","043001000114","CARTE PREACTIVEE VD","2017-08-15","Franchise MSAKEN","MSK0013F",1,"SOLD","Tunis Entrepot DCGP"]
["","ABLOUNA","044004000010","Recharge Express","2017-08-10","Franchise MSAKEN","MSK0013F",1,"SOLD","Tunis Entrepot DCGP"]
["892160100122555709","ABLOUNA","043006000003","CARTE SIM 4G PRE MULTI SIM","2017-08-10","Franchise MSAKEN","MSK0013F",1,"SOLD","Tunis Entrepot DCGP"]
["","ASLOGHM","044004000010","Recharge Express","2017-08-15","Franchise MSAKEN","MSK0013F",15,"SOLD","Tunis Entrepot DCGP"]
["892160100122554935","ABLOUNA","043006000003","CARTE SIM 4G PRE MULTI SIM","2017-08-15","Franchise MSAKEN","MSK0013F",1,"SOLD","Tunis Entrepot DCGP"]
["892160100122555742","ASLOGHM","043006000003","CARTE SIM 4G PRE MULTI SIM","2017-08-11","Franchise MSAKEN","MSK0013F",1,"SOLD","Tunis Entrepot DCGP"]
["892160100124729160","ASLOGHM","043007000004","CARTE SIM 4G DATA MULTI SIM","2017-08-14","Franchise MSAKEN","MSK0013F",1,"SOLD","Tunis Entrepot DCGP"]
["TG6K17020002842","SIGHW","188003000016","Modem Huawei HG532","2017-08-10","Franchise MSAKEN","MSK0013F",1,"SOLD","Tunis Entrepot DCGP"]
["","RIGRAIET","999100001003","SERVICE TRANSFERT CONTACT","2017-08-14","Franchise MSAKEN","MSK0013F",1,"SOLD","Tunis Entrepot DCGP"]
["","SIGHW","044004000010","Recharge Express","2017-08-10","Franchise MSAKEN","MSK0013F",5,"SOLD","Tunis Entrepot DCGP"]
["892160100124729126","SIGHW","043007000004","CARTE SIM 4G DATA MULTI SIM","2017-08-09","Franchise MSAKEN","MSK0013F",1,"SOLD","Tunis Entrepot DCGP"]
["892160100122555684","ASLOGHM","043006000003","CARTE SIM 4G PRE MULTI SIM","2017-08-12","Franchise MSAKEN","MSK0013F",1,"SOLD","Tunis Entrepot DCGP"]
["892160100122554872","RIGRAIET","043006000003","CARTE SIM 4G PRE MULTI SIM","2017-08-11","Franchise MSAKEN","MSK0013F",1,"SOLD","Tunis Entrepot DCGP"]
["892160100122554893","ASLOGHM","043006000003","CARTE SIM 4G PRE MULTI SIM","2017-08-11","Franchise MSAKEN","MSK0013F",1,"SOLD","Tunis Entrepot DCGP"]
["","SIGHW","044004000010","Recharge Express","2017-08-14","Franchise MSAKEN","MSK0013F",22,"SOLD","Tunis Entrepot DCGP"]
["","ASLOGHM","044004000010","Recharge Express","2017-08-11","Franchise MSAKEN","MSK0013F",25,"SOLD","Tunis Entrepot DCGP"]
["892160100122555741","ASLOGHM","043006000003","CARTE SIM 4G PRE MULTI SIM","2017-08-11","Franchise MSAKEN","MSK0013F",1,"SOLD","Tunis Entrepot DCGP"]
["TG6K17020002841","RIGRAIET","188003000016","Modem Huawei HG532","2017-08-11","Franchise MSAKEN","MSK0013F",1,"SOLD","Tunis Entrepot DCGP"]
["892160100122554884","ABLOUNA","043006000003","CARTE SIM 4G PRE MULTI SIM","2017-08-10","Franchise MSAKEN","MSK0013F",1,"SOLD","Tunis Entrepot DCGP"]
["","RIGRAIET","044004000010","Recharge Express","2017-08-10","Franchise MSAKEN","MSK0013F",20,"SOLD","Tunis Entrepot DCGP"]
["867424023062049","RIGRAIET","046002000034","CLE 3G E3531","2017-08-10","Franchise MSAKEN","MSK0013F",1,"SOLD","Tunis Entrepot DCGP"]
["892160100124729168","RIGRAIET","043007000004","CARTE SIM 4G DATA MULTI SIM","2017-08-10","Franchise MSAKEN","MSK0013F",1,"SOLD","Tunis Entrepot DCGP"]
["","RIGRAIET","044004000010","Recharge Express","2017-08-12","Franchise MSAKEN","MSK0013F",10,"SOLD","Tunis Entrepot DCGP"]
["892160100124728454","SIGHW","043007000004","CARTE SIM 4G DATA MULTI SIM","2017-08-12","Franchise MSAKEN","MSK0013F",1,"SOLD","Tunis Entrepot DCGP"]
["","RIGRAIET","044004000010","Recharge Express","2017-08-10","Franchise MSAKEN","MSK0013F",5,"SOLD","Tunis Entrepot DCGP"]
["892160100122554877","RIGRAIET","043006000003","CARTE SIM 4G PRE MULTI SIM","2017-08-10","Franchise MSAKEN","MSK0013F",1,"SOLD","Tunis Entrepot DCGP"]
["892160100122555606","RIGRAIET","043006000003","CARTE SIM 4G PRE MULTI SIM","2017-08-09","Franchise MSAKEN","MSK0013F",1,"SOLD","Tunis Entrepot DCGP"]
["892160100122554915","SIGHW","043006000003","CARTE SIM 4G PRE MULTI SIM","2017-08-15","Franchise MSAKEN","MSK0013F",1,"SOLD","Tunis Entrepot DCGP"]
["892160100122555579","ASLOGHM","043006000003","CARTE SIM 4G PRE MULTI SIM","2017-08-09","Franchise MSAKEN","MSK0013F",1,"SOLD","Tunis Entrepot DCGP"]
["","RIGRAIET","044004000010","Recharge Express","2017-08-09","Franchise MSAKEN","MSK0013F",25,"SOLD","Tunis Entrepot DCGP"]
["892160100124729122","RIGRAIET","043007000004","CARTE SIM 4G DATA MULTI SIM","2017-08-09","Franchise MSAKEN","MSK0013F",1,"SOLD","Tunis Entrepot DCGP"]
["892160100122555655","RIGRAIET","043006000003","CARTE SIM 4G PRE MULTI SIM","2017-08-10","Franchise MSAKEN","MSK0013F",1,"SOLD","Tunis Entrepot DCGP"]
["3173088003360","SIGHW","047006000161","Orange Wifi dock","2017-08-09","Franchise MSAKEN","MSK0013F",1,"SOLD","Tunis Entrepot DCGP"]
["867424023061892","SIGHW","046002000034","CLE 3G E3531","2017-08-09","Franchise MSAKEN","MSK0013F",1,"SOLD","Tunis Entrepot DCGP"]
["892160100124729127","SIGHW","043007000004","CARTE SIM 4G DATA MULTI SIM","2017-08-09","Franchise MSAKEN","MSK0013F",1,"SOLD","Tunis Entrepot DCGP"]
["","ABLOUNA","044004000010","Recharge Express","2017-08-09","Franchise MSAKEN","MSK0013F",25,"SOLD","Tunis Entrepot DCGP"]
["865205021630206","RIGRAIET","046002000060","DOMINO E5220 WHITE","2017-08-09","Franchise MSAKEN","MSK0013F",1,"SOLD","Tunis Entrepot DCGP"]
["892160100124729121","RIGRAIET","043007000004","CARTE SIM 4G DATA MULTI SIM","2017-08-09","Franchise MSAKEN","MSK0013F",1,"SOLD","Tunis Entrepot DCGP"]
["892160100122555602","RIGRAIET","043006000003","CARTE SIM 4G PRE MULTI SIM","2017-08-09","Franchise MSAKEN","MSK0013F",1,"SOLD","Tunis Entrepot DCGP"]
["892160100122554868","SIGHW","043006000003","CARTE SIM 4G PRE MULTI SIM","2017-08-10","Franchise MSAKEN","MSK0013F",1,"SOLD","Tunis Entrepot DCGP"]
["","RIGRAIET","044004000010","Recharge Express","2017-08-10","Franchise MSAKEN","MSK0013F",1,"SOLD","Tunis Entrepot DCGP"]
["892160100122554881","ABLOUNA","043006000003","CARTE SIM 4G PRE MULTI SIM","2017-08-10","Franchise MSAKEN","MSK0013F",1,"SOLD","Tunis Entrepot DCGP"]
["TG6K17020002817","RIGRAIET","188003000016","Modem Huawei HG532","2017-08-09","Franchise MSAKEN","MSK0013F",1,"SOLD","Tunis Entrepot DCGP"]
["892160100122555683","ASLOGHM","043006000003","CARTE SIM 4G PRE MULTI SIM","2017-08-12","Franchise MSAKEN","MSK0013F",1,"SOLD","Tunis Entrepot DCGP"]
["892160100122555721","ABLOUNA","043006000003","CARTE SIM 4G PRE MULTI SIM","2017-08-12","Franchise MSAKEN","MSK0013F",1,"SOLD","Tunis Entrepot DCGP"]
["","ABLOUNA","044004000010","Recharge Express","2017-08-11","Franchise MSAKEN","MSK0013F",30,"SOLD","Tunis Entrepot DCGP"]
["TG6K17020004622","ABLOUNA","188003000016","Modem Huawei HG532","2017-08-15","Franchise MSAKEN","MSK0013F",1,"SOLD","Tunis Entrepot DCGP"]
["","ASLOGHM","044004000010","Recharge Express","2017-08-15","Franchise MSAKEN","MSK0013F",12,"SOLD","Tunis Entrepot DCGP"]
["","RIGRAIET","044004000010","Recharge Express","2017-08-12","Franchise MSAKEN","MSK0013F",2,"SOLD","Tunis Entrepot DCGP"]
["","ABLOUNA","044004000010","Recharge Express","2017-08-08","Franchise MSAKEN","MSK0013F",5,"SOLD","Tunis Entrepot DCGP"]
["892160100122555559","ASLOGHM","043006000003","CARTE SIM 4G PRE MULTI SIM","2017-08-08","Franchise MSAKEN","MSK0013F",1,"SOLD","Tunis Entrepot DCGP"]
["892160100124728418","ASLOGHM","043007000004","CARTE SIM 4G DATA MULTI SIM","2017-08-08","Franchise MSAKEN","MSK0013F",1,"SOLD","Tunis Entrepot DCGP"]
["","SIGHW","044004000010","Recharge Express","2017-08-14","Franchise MSAKEN","MSK0013F",30,"SOLD","Tunis Entrepot DCGP"]
["892160100122554856","SIGHW","043006000003","CARTE SIM 4G PRE MULTI SIM","2017-08-10","Franchise MSAKEN","MSK0013F",1,"SOLD","Tunis Entrepot DCGP"]
["892160100124729136","SIGHW","043007000004","CARTE SIM 4G DATA MULTI SIM","2017-08-10","Franchise MSAKEN","MSK0013F",1,"SOLD","Tunis Entrepot DCGP"]
["892160100124729134","SIGHW","043007000004","CARTE SIM 4G DATA MULTI SIM","2017-08-10","Franchise MSAKEN","MSK0013F",1,"SOLD","Tunis Entrepot DCGP"]
["892160100123469111","ABLOUNA","043001000114","CARTE PREACTIVEE VD","2017-08-08","Franchise MSAKEN","MSK0013F",1,"SOLD","Tunis Entrepot DCGP"]
["","SIGHW","044004000010","Recharge Express","2017-08-14","Franchise MSAKEN","MSK0013F",20,"SOLD","Tunis Entrepot DCGP"]
["892160100124729179","ABLOUNA","043007000004","CARTE SIM 4G DATA MULTI SIM","2017-08-10","Franchise MSAKEN","MSK0013F",1,"SOLD","Tunis Entrepot DCGP"]
["892160100122554911","SIGHW","043006000003","CARTE SIM 4G PRE MULTI SIM","2017-08-14","Franchise MSAKEN","MSK0013F",1,"SOLD","Tunis Entrepot DCGP"]
["892160100122555704","ABLOUNA","043006000003","CARTE SIM 4G PRE MULTI SIM","2017-08-11","Franchise MSAKEN","MSK0013F",1,"SOLD","Tunis Entrepot DCGP"]
["892160100122555610","RIGRAIET","043006000003","CARTE SIM 4G PRE MULTI SIM","2017-08-09","Franchise MSAKEN","MSK0013F",1,"SOLD","Tunis Entrepot DCGP"]
["","ASLOGHM","044004000010","Recharge Express","2017-08-10","Franchise MSAKEN","MSK0013F",5,"SOLD","Tunis Entrepot DCGP"]
["892160100122554867","SIGHW","043006000003","CARTE SIM 4G PRE MULTI SIM","2017-08-10","Franchise MSAKEN","MSK0013F",1,"SOLD","Tunis Entrepot DCGP"]
["892160100124728443","SIGHW","043007000004","CARTE SIM 4G DATA MULTI SIM","2017-08-11","Franchise MSAKEN","MSK0013F",1,"SOLD","Tunis Entrepot DCGP"]
["","SIGHW","044004000010","Recharge Express","2017-08-10","Franchise MSAKEN","MSK0013F",30,"SOLD","Tunis Entrepot DCGP"]
["","ABLOUNA","044004000010","Recharge Express","2017-08-14","Franchise MSAKEN","MSK0013F",10,"SOLD","Tunis Entrepot DCGP"]
["","ABLOUNA","044004000010","Recharge Express","2017-08-14","Franchise MSAKEN","MSK0013F",30,"SOLD","Tunis Entrepot DCGP"]
["892160100122554912","SIGHW","043006000003","CARTE SIM 4G PRE MULTI SIM","2017-08-14","Franchise MSAKEN","MSK0013F",1,"SOLD","Tunis Entrepot DCGP"]
["863605032642144","SIGHW","085001000011","FLYBOX B310","2017-08-14","Franchise MSAKEN","MSK0013F",1,"SOLD","Tunis Entrepot DCGP"]
["892160100206713347","SIGHW","043008000001","CARTE SIM 4G FLYBOX","2017-08-14","Franchise MSAKEN","MSK0013F",1,"SOLD","Tunis Entrepot DCGP"]
["","ASLOGHM","044004000010","Recharge Express","2017-08-11","Franchise MSAKEN","MSK0013F",5,"SOLD","Tunis Entrepot DCGP"]
["892160100122555743","ASLOGHM","043006000003","CARTE SIM 4G PRE MULTI SIM","2017-08-11","Franchise MSAKEN","MSK0013F",1,"SOLD","Tunis Entrepot DCGP"]
["892160100122554871","RIGRAIET","043006000003","CARTE SIM 4G PRE MULTI SIM","2017-08-11","Franchise MSAKEN","MSK0013F",1,"SOLD","Tunis Entrepot DCGP"]
["892160100206713348","RIGRAIET","043008000001","CARTE SIM 4G FLYBOX","2017-08-14","Franchise MSAKEN","MSK0013F",1,"SOLD","Tunis Entrepot DCGP"]
["892160100122554910","SIGHW","043006000003","CARTE SIM 4G PRE MULTI SIM","2017-08-14","Franchise MSAKEN","MSK0013F",1,"SOLD","Tunis Entrepot DCGP"]
["","ASLOGHM","044004000010","Recharge Express","2017-08-10","Franchise MSAKEN","MSK0013F",12,"SOLD","Tunis Entrepot DCGP"]
["","SIGHW","044004000010","Recharge Express","2017-08-09","Franchise MSAKEN","MSK0013F",5,"SOLD","Tunis Entrepot DCGP"]
["867424023061595","ABLOUNA","046002000034","CLE 3G E3531","2017-08-12","Franchise MSAKEN","MSK0013F",1,"SOLD","Tunis Entrepot DCGP"]
["892160100124729142","ABLOUNA","043007000004","CARTE SIM 4G DATA MULTI SIM","2017-08-12","Franchise MSAKEN","MSK0013F",1,"SOLD","Tunis Entrepot DCGP"]
["892160100124728459","RIGRAIET","043007000004","CARTE SIM 4G DATA MULTI SIM","2017-08-14","Franchise MSAKEN","MSK0013F",1,"SOLD","Tunis Entrepot DCGP"]
["892160100122555725","ABLOUNA","043006000003","CARTE SIM 4G PRE MULTI SIM","2017-08-14","Franchise MSAKEN","MSK0013F",1,"SOLD","Tunis Entrepot DCGP"]
["TG6K17020004621","RIGRAIET","188003000016","Modem Huawei HG532","2017-08-14","Franchise MSAKEN","MSK0013F",1,"SOLD","Tunis Entrepot DCGP"]
["","ASLOGHM","044004000010","Recharge Express","2017-08-11","Franchise MSAKEN","MSK0013F",10,"SOLD","Tunis Entrepot DCGP"]
["","SIGHW","044004000010","Recharge Express","2017-08-10","Franchise MSAKEN","MSK0013F",5,"SOLD","Tunis Entrepot DCGP"]
["892160100124729135","ASLOGHM","043007000004","CARTE SIM 4G DATA MULTI SIM","2017-08-10","Franchise MSAKEN","MSK0013F",1,"SOLD","Tunis Entrepot DCGP"]
["","RIGRAIET","044004000010","Recharge Express","2017-08-10","Franchise MSAKEN","MSK0013F",30,"SOLD","Tunis Entrepot DCGP"]
["","ABLOUNA","044004000010","Recharge Express","2017-08-10","Franchise MSAKEN","MSK0013F",5,"SOLD","Tunis Entrepot DCGP"]
["892160100122554883","ABLOUNA","043006000003","CARTE SIM 4G PRE MULTI SIM","2017-08-10","Franchise MSAKEN","MSK0013F",1,"SOLD","Tunis Entrepot DCGP"]
["892160100122554896","ASLOGHM","043006000003","CARTE SIM 4G PRE MULTI SIM","2017-08-11","Franchise MSAKEN","MSK0013F",1,"SOLD","Tunis Entrepot DCGP"]
["","SIGHW","044004000010","Recharge Express","2017-08-11","Franchise MSAKEN","MSK0013F",10,"SOLD","Tunis Entrepot DCGP"]
["892160100124729176","ASLOGHM","043007000004","CARTE SIM 4G DATA MULTI SIM","2017-08-11","Franchise MSAKEN","MSK0013F",1,"SOLD","Tunis Entrepot DCGP"]
["892160100122554864","SIGHW","043006000003","CARTE SIM 4G PRE MULTI SIM","2017-08-10","Franchise MSAKEN","MSK0013F",1,"SOLD","Tunis Entrepot DCGP"]
["892160100122555654","SIGHW","043006000003","CARTE SIM 4G PRE MULTI SIM","2017-08-10","Franchise MSAKEN","MSK0013F",1,"SOLD","Tunis Entrepot DCGP"]
["892160100122554852","SIGHW","043006000003","CARTE SIM 4G PRE MULTI SIM","2017-08-10","Franchise MSAKEN","MSK0013F",1,"SOLD","Tunis Entrepot DCGP"]
["","ABLOUNA","044004000010","Recharge Express","2017-08-08","Franchise MSAKEN","MSK0013F",7,"SOLD","Tunis Entrepot DCGP"]
["892160100124728456","RIGRAIET","043007000004","CARTE SIM 4G DATA MULTI SIM","2017-08-14","Franchise MSAKEN","MSK0013F",1,"SOLD","Tunis Entrepot DCGP"]
["","SIGHW","044004000010","Recharge Express","2017-08-10","Franchise MSAKEN","MSK0013F",15,"SOLD","Tunis Entrepot DCGP"]
["867424023061421","SIGHW","046002000034","CLE 3G E3531","2017-08-10","Franchise MSAKEN","MSK0013F",1,"SOLD","Tunis Entrepot DCGP"]
["892160100124729165","SIGHW","043007000004","CARTE SIM 4G DATA MULTI SIM","2017-08-10","Franchise MSAKEN","MSK0013F",1,"SOLD","Tunis Entrepot DCGP"]
["","ASLOGHM","999100001003","SERVICE TRANSFERT CONTACT","2017-08-15","Franchise MSAKEN","MSK0013F",1,"SOLD","Tunis Entrepot DCGP"]
["","RIGRAIET","044004000010","Recharge Express","2017-08-12","Franchise MSAKEN","MSK0013F",5,"SOLD","Tunis Entrepot DCGP"]
["892160100122555678","RIGRAIET","043006000003","CARTE SIM 4G PRE MULTI SIM","2017-08-12","Franchise MSAKEN","MSK0013F",1,"SOLD","Tunis Entrepot DCGP"]
["892160100122555739","RIGRAIET","043006000003","CARTE SIM 4G PRE MULTI SIM","2017-08-11","Franchise MSAKEN","MSK0013F",1,"SOLD","Tunis Entrepot DCGP"]
["892160100124729175","ASLOGHM","043007000004","CARTE SIM 4G DATA MULTI SIM","2017-08-11","Franchise MSAKEN","MSK0013F",1,"SOLD","Tunis Entrepot DCGP"]
["2168006000724","ASLOGHM","047006000161","Orange Wifi dock","2017-08-11","Franchise MSAKEN","MSK0013F",1,"SOLD","Tunis Entrepot DCGP"]
["867424023065794","ASLOGHM","046002000034","CLE 3G E3531","2017-08-11","Franchise MSAKEN","MSK0013F",1,"SOLD","Tunis Entrepot DCGP"]
["892160100124729180","ASLOGHM","043007000004","CARTE SIM 4G DATA MULTI SIM","2017-08-11","Franchise MSAKEN","MSK0013F",1,"SOLD","Tunis Entrepot DCGP"]
["892160100122555717","RIGRAIET","043006000003","CARTE SIM 4G PRE MULTI SIM","2017-08-15","Franchise MSAKEN","MSK0013F",1,"SOLD","Tunis Entrepot DCGP"]
["","ASLOGHM","044004000010","Recharge Express","2017-08-11","Franchise MSAKEN","MSK0013F",5,"SOLD","Tunis Entrepot DCGP"]
["","ASLOGHM","044004000010","Recharge Express","2017-08-11","Franchise MSAKEN","MSK0013F",5,"SOLD","Tunis Entrepot DCGP"]
["892160100122555656","RIGRAIET","043006000003","CARTE SIM 4G PRE MULTI SIM","2017-08-10","Franchise MSAKEN","MSK0013F",1,"SOLD","Tunis Entrepot DCGP"]
["892160100122554945","ASLOGHM","043006000003","CARTE SIM 4G PRE MULTI SIM","2017-08-15","Franchise MSAKEN","MSK0013F",1,"SOLD","Tunis Entrepot DCGP"]
["","ASLOGHM","044004000010","Recharge Express","2017-08-14","Franchise MSAKEN","MSK0013F",5,"SOLD","Tunis Entrepot DCGP"]
["892160100122555688","ASLOGHM","043006000003","CARTE SIM 4G PRE MULTI SIM","2017-08-12","Franchise MSAKEN","MSK0013F",1,"SOLD","Tunis Entrepot DCGP"]
["892160100122555681","ASLOGHM","043006000003","CARTE SIM 4G PRE MULTI SIM","2017-08-12","Franchise MSAKEN","MSK0013F",1,"SOLD","Tunis Entrepot DCGP"]
["","ASLOGHM","044004000010","Recharge Express","2017-08-11","Franchise MSAKEN","MSK0013F",10,"SOLD","Tunis Entrepot DCGP"]
["TG6K17020002820","RIGRAIET","188003000016","Modem Huawei HG532","2017-08-11","Franchise MSAKEN","MSK0013F",1,"SOLD","Tunis Entrepot DCGP"]
["892160100122554936","ASLOGHM","043006000003","CARTE SIM 4G PRE MULTI SIM","2017-08-14","Franchise MSAKEN","MSK0013F",1,"SOLD","Tunis Entrepot DCGP"]
["892160100124729157","ASLOGHM","043007000004","CARTE SIM 4G DATA MULTI SIM","2017-08-14","Franchise MSAKEN","MSK0013F",1,"SOLD","Tunis Entrepot DCGP"]
["","SIGHW","044004000010","Recharge Express","2017-08-14","Franchise MSAKEN","MSK0013F",5,"SOLD","Tunis Entrepot DCGP"]
["","ABLOUNA","044004000010","Recharge Express","2017-08-14","Franchise MSAKEN","MSK0013F",12,"SOLD","Tunis Entrepot DCGP"]
["892160100122555748","ASLOGHM","043006000003","CARTE SIM 4G PRE MULTI SIM","2017-08-10","Franchise MSAKEN","MSK0013F",1,"SOLD","Tunis Entrepot DCGP"]
["892160100122555572","SIGHW","043006000003","CARTE SIM 4G PRE MULTI SIM","2017-08-09","Franchise MSAKEN","MSK0013F",1,"SOLD","Tunis Entrepot DCGP"]
["","SIGHW","044004000010","Recharge Express","2017-08-09","Franchise MSAKEN","MSK0013F",12,"SOLD","Tunis Entrepot DCGP"]
["","ASLOGHM","044004000010","Recharge Express","2017-08-12","Franchise MSAKEN","MSK0013F",12,"SOLD","Tunis Entrepot DCGP"]
["","ASLOGHM","044004000010","Recharge Express","2017-08-12","Franchise MSAKEN","MSK0013F",12,"SOLD","Tunis Entrepot DCGP"]
["863605032642714","RIGRAIET","085001000011","FLYBOX B310","2017-08-10","Franchise MSAKEN","MSK0013F",1,"SOLD","Tunis Entrepot DCGP"]
["892160100206713355","RIGRAIET","043008000001","CARTE SIM 4G FLYBOX","2017-08-10","Franchise MSAKEN","MSK0013F",1,"SOLD","Tunis Entrepot DCGP"]
["892160100122554939","ASLOGHM","043006000003","CARTE SIM 4G PRE MULTI SIM","2017-08-14","Franchise MSAKEN","MSK0013F",1,"SOLD","Tunis Entrepot DCGP"]
["892160100122555715","RIGRAIET","043006000003","CARTE SIM 4G PRE MULTI SIM","2017-08-14","Franchise MSAKEN","MSK0013F",1,"SOLD","Tunis Entrepot DCGP"]
["892160100122555722","ABLOUNA","043006000003","CARTE SIM 4G PRE MULTI SIM","2017-08-14","Franchise MSAKEN","MSK0013F",1,"SOLD","Tunis Entrepot DCGP"]
["892160100122554930","ASLOGHM","043006000003","CARTE SIM 4G PRE MULTI SIM","2017-08-15","Franchise MSAKEN","MSK0013F",1,"SOLD","Tunis Entrepot DCGP"]
["357953087287404","ABLOUNA","045001074001","SAMSUNG GRAND PRIME + BLACK","2017-08-11","Franchise MSAKEN","MSK0013F",1,"SOLD","Tunis Entrepot DCGP"]
["","RIGRAIET","044004000010","Recharge Express","2017-08-10","Franchise MSAKEN","MSK0013F",30,"SOLD","Tunis Entrepot DCGP"]
["892160100122554859","ASLOGHM","043006000003","CARTE SIM 4G PRE MULTI SIM","2017-08-10","Franchise MSAKEN","MSK0013F",1,"SOLD","Tunis Entrepot DCGP"]
["","ABLOUNA","044004000010","Recharge Express","2017-08-15","Franchise MSAKEN","MSK0013F",15,"SOLD","Tunis Entrepot DCGP"]
["892160100122555650","SIGHW","043006000003","CARTE SIM 4G PRE MULTI SIM","2017-08-10","Franchise MSAKEN","MSK0013F",1,"SOLD","Tunis Entrepot DCGP"]
["892160100122555745","ASLOGHM","043006000003","CARTE SIM 4G PRE MULTI SIM","2017-08-10","Franchise MSAKEN","MSK0013F",1,"SOLD","Tunis Entrepot DCGP"]
["892160100122555687","RIGRAIET","043006000003","CARTE SIM 4G PRE MULTI SIM","2017-08-12","Franchise MSAKEN","MSK0013F",1,"SOLD","Tunis Entrepot DCGP"]
["","RIGRAIET","044004000010","Recharge Express","2017-08-11","Franchise MSAKEN","MSK0013F",5,"SOLD","Tunis Entrepot DCGP"]
["TG6K17020002824","SIGHW","188003000016","Modem Huawei HG532","2017-08-11","Franchise MSAKEN","MSK0013F",1,"SOLD","Tunis Entrepot DCGP"]
["356002086292865","RIGRAIET","045003051001","NOKIA 3310 BLEU","2017-08-09","Franchise MSAKEN","MSK0013F",1,"SOLD","Tunis Entrepot DCGP"]
["892160100122555605","RIGRAIET","043006000003","CARTE SIM 4G PRE MULTI SIM","2017-08-09","Franchise MSAKEN","MSK0013F",1,"SOLD","Tunis Entrepot DCGP"]
["","SIGHW","044004000010","Recharge Express","2017-08-14","Franchise MSAKEN","MSK0013F",22,"SOLD","Tunis Entrepot DCGP"]
["","SIGHW","044004000010","Recharge Express","2017-08-09","Franchise MSAKEN","MSK0013F",5,"SOLD","Tunis Entrepot DCGP"]
["","SIGHW","044004000010","Recharge Express","2017-08-09","Franchise MSAKEN","MSK0013F",5,"SOLD","Tunis Entrepot DCGP"]
["","SIGHW","044004000010","Recharge Express","2017-08-09","Franchise MSAKEN","MSK0013F",10,"SOLD","Tunis Entrepot DCGP"]
["892160100124729162","ABLOUNA","043007000004","CARTE SIM 4G DATA MULTI SIM","2017-08-09","Franchise MSAKEN","MSK0013F",1,"SOLD","Tunis Entrepot DCGP"]
["","SIGHW","044004000010","Recharge Express","2017-08-09","Franchise MSAKEN","MSK0013F",5,"SOLD","Tunis Entrepot DCGP"]
["","RIGRAIET","044004000010","Recharge Express","2017-08-12","Franchise MSAKEN","MSK0013F",10,"SOLD","Tunis Entrepot DCGP"]
["892160100124728451","SIGHW","043007000004","CARTE SIM 4G DATA MULTI SIM","2017-08-12","Franchise MSAKEN","MSK0013F",1,"SOLD","Tunis Entrepot DCGP"]
["892160100124729133","ASLOGHM","043007000004","CARTE SIM 4G DATA MULTI SIM","2017-08-10","Franchise MSAKEN","MSK0013F",1,"SOLD","Tunis Entrepot DCGP"]
["","ABLOUNA","044004000010","Recharge Express","2017-08-09","Franchise MSAKEN","MSK0013F",15,"SOLD","Tunis Entrepot DCGP"]
["","SIGHW","044004000010","Recharge Express","2017-08-09","Franchise MSAKEN","MSK0013F",5,"SOLD","Tunis Entrepot DCGP"]
["892160100122555603","SIGHW","043006000003","CARTE SIM 4G PRE MULTI SIM","2017-08-09","Franchise MSAKEN","MSK0013F",1,"SOLD","Tunis Entrepot DCGP"]
["892160100124729128","SIGHW","043007000004","CARTE SIM 4G DATA MULTI SIM","2017-08-09","Franchise MSAKEN","MSK0013F",1,"SOLD","Tunis Entrepot DCGP"]
["","SIGHW","044004000010","Recharge Express","2017-08-12","Franchise MSAKEN","MSK0013F",5,"SOLD","Tunis Entrepot DCGP"]
["","ASLOGHM","044004000010","Recharge Express","2017-08-12","Franchise MSAKEN","MSK0013F",10,"SOLD","Tunis Entrepot DCGP"]
["","SIGHW","044004000010","Recharge Express","2017-08-12","Franchise MSAKEN","MSK0013F",30,"SOLD","Tunis Entrepot DCGP"]
["","ABLOUNA","044004000010","Recharge Express","2017-08-11","Franchise MSAKEN","MSK0013F",5,"SOLD","Tunis Entrepot DCGP"]
["","ABLOUNA","044004000010","Recharge Express","2017-08-11","Franchise MSAKEN","MSK0013F",10,"SOLD","Tunis Entrepot DCGP"]
["","SIGHW","044004000010","Recharge Express","2017-08-15","Franchise MSAKEN","MSK0013F",25,"SOLD","Tunis Entrepot DCGP"]
["892160100122554897","ASLOGHM","043006000003","CARTE SIM 4G PRE MULTI SIM","2017-08-11","Franchise MSAKEN","MSK0013F",1,"SOLD","Tunis Entrepot DCGP"]
["892160100122554900","ASLOGHM","043006000003","CARTE SIM 4G PRE MULTI SIM","2017-08-11","Franchise MSAKEN","MSK0013F",1,"SOLD","Tunis Entrepot DCGP"]
["892160100122555702","ABLOUNA","043006000003","CARTE SIM 4G PRE MULTI SIM","2017-08-11","Franchise MSAKEN","MSK0013F",1,"SOLD","Tunis Entrepot DCGP"]
["","ASLOGHM","044004000010","Recharge Express","2017-08-11","Franchise MSAKEN","MSK0013F",5,"SOLD","Tunis Entrepot DCGP"]
["892160100122555744","SIGHW","043006000003","CARTE SIM 4G PRE MULTI SIM","2017-08-11","Franchise MSAKEN","MSK0013F",1,"SOLD","Tunis Entrepot DCGP"]
["892160100122554924","ABLOUNA","043006000003","CARTE SIM 4G PRE MULTI SIM","2017-08-15","Franchise MSAKEN","MSK0013F",1,"SOLD","Tunis Entrepot DCGP"]
["","ASLOGHM","044004000010","Recharge Express","2017-08-15","Franchise MSAKEN","MSK0013F",5,"SOLD","Tunis Entrepot DCGP"]
["892160100122554932","ABLOUNA","043006000003","CARTE SIM 4G PRE MULTI SIM","2017-08-15","Franchise MSAKEN","MSK0013F",1,"SOLD","Tunis Entrepot DCGP"]
["892160100124729155","ASLOGHM","043007000004","CARTE SIM 4G DATA MULTI SIM","2017-08-14","Franchise MSAKEN","MSK0013F",1,"SOLD","Tunis Entrepot DCGP"]
["892160100122554889","SIGHW","043006000003","CARTE SIM 4G PRE MULTI SIM","2017-08-11","Franchise MSAKEN","MSK0013F",1,"SOLD","Tunis Entrepot DCGP"]
["","ASLOGHM","044004000010","Recharge Express","2017-08-14","Franchise MSAKEN","MSK0013F",5,"SOLD","Tunis Entrepot DCGP"]
["892160100124729148","RIGRAIET","043007000004","CARTE SIM 4G DATA MULTI SIM","2017-08-14","Franchise MSAKEN","MSK0013F",1,"SOLD","Tunis Entrepot DCGP"]
["","ABLOUNA","044004000010","Recharge Express","2017-08-12","Franchise MSAKEN","MSK0013F",12,"SOLD","Tunis Entrepot DCGP"]
["","ABLOUNA","044004000010","Recharge Express","2017-08-12","Franchise MSAKEN","MSK0013F",18,"SOLD","Tunis Entrepot DCGP"]
["863605032642755","ABLOUNA","085001000011","FLYBOX B310","2017-08-08","Franchise MSAKEN","MSK0013F",1,"SOLD","Tunis Entrepot DCGP"]
["892160100206713357","ABLOUNA","043008000001","CARTE SIM 4G FLYBOX","2017-08-08","Franchise MSAKEN","MSK0013F",1,"SOLD","Tunis Entrepot DCGP"]
["892160100123469109","ABLOUNA","043001000114","CARTE PREACTIVEE VD","2017-08-08","Franchise MSAKEN","MSK0013F",1,"SOLD","Tunis Entrepot DCGP"]
["","SIGHW","044004000010","Recharge Express","2017-08-14","Franchise MSAKEN","MSK0013F",15,"SOLD","Tunis Entrepot DCGP"]
["","SIGHW","044004000010","Recharge Express","2017-08-11","Franchise MSAKEN","MSK0013F",30,"SOLD","Tunis Entrepot DCGP"]
["","RIGRAIET","044004000010","Recharge Express","2017-08-11","Franchise MSAKEN","MSK0013F",60,"SOLD","Tunis Entrepot DCGP"]
["","ABLOUNA","044004000010","Recharge Express","2017-08-15","Franchise MSAKEN","MSK0013F",5,"SOLD","Tunis Entrepot DCGP"]
["892160100123469166","ABLOUNA","043001000114","CARTE PREACTIVEE VD","2017-08-15","Franchise MSAKEN","MSK0013F",1,"SOLD","Tunis Entrepot DCGP"]
["892160100124729158","ASLOGHM","043007000004","CARTE SIM 4G DATA MULTI SIM","2017-08-14","Franchise MSAKEN","MSK0013F",1,"SOLD","Tunis Entrepot DCGP"]
["","SIGHW","044004000010","Recharge Express","2017-08-14","Franchise MSAKEN","MSK0013F",10,"SOLD","Tunis Entrepot DCGP"]
["892160100122554917","SIGHW","043006000003","CARTE SIM 4G PRE MULTI SIM","2017-08-14","Franchise MSAKEN","MSK0013F",1,"SOLD","Tunis Entrepot DCGP"]
["","RIGRAIET","044004000010","Recharge Express","2017-08-12","Franchise MSAKEN","MSK0013F",15,"SOLD","Tunis Entrepot DCGP"]
["892160100124728449","RIGRAIET","043007000004","CARTE SIM 4G DATA MULTI SIM","2017-08-11","Franchise MSAKEN","MSK0013F",1,"SOLD","Tunis Entrepot DCGP"]
["","RIGRAIET","044004000010","Recharge Express","2017-08-12","Franchise MSAKEN","MSK0013F",10,"SOLD","Tunis Entrepot DCGP"]
["","RIGRAIET","044004000010","Recharge Express","2017-08-12","Franchise MSAKEN","MSK0013F",5,"SOLD","Tunis Entrepot DCGP"]
["","RIGRAIET","044004000010","Recharge Express","2017-08-12","Franchise MSAKEN","MSK0013F",1,"SOLD","Tunis Entrepot DCGP"]
["","ABLOUNA","044004000010","Recharge Express","2017-08-14","Franchise MSAKEN","MSK0013F",10,"SOLD","Tunis Entrepot DCGP"]
["","SIGHW","044004000010","Recharge Express","2017-08-14","Franchise MSAKEN","MSK0013F",10,"SOLD","Tunis Entrepot DCGP"]
["892160100122554916","SIGHW","043006000003","CARTE SIM 4G PRE MULTI SIM","2017-08-14","Franchise MSAKEN","MSK0013F",1,"SOLD","Tunis Entrepot DCGP"]
["","SIGHW","044004000010","Recharge Express","2017-08-11","Franchise MSAKEN","MSK0013F",5,"SOLD","Tunis Entrepot DCGP"]
["TG6K17020002815","ABLOUNA","188003000016","Modem Huawei HG532","2017-08-10","Franchise MSAKEN","MSK0013F",1,"SOLD","Tunis Entrepot DCGP"]
["892160100122554862","SIGHW","043006000003","CARTE SIM 4G PRE MULTI SIM","2017-08-10","Franchise MSAKEN","MSK0013F",1,"SOLD","Tunis Entrepot DCGP"]
["","ASLOGHM","999100001003","SERVICE TRANSFERT CONTACT","2017-08-12","Franchise MSAKEN","MSK0013F",1,"SOLD","Tunis Entrepot DCGP"]
["892160100122555685","SIGHW","043006000003","CARTE SIM 4G PRE MULTI SIM","2017-08-12","Franchise MSAKEN","MSK0013F",1,"SOLD","Tunis Entrepot DCGP"]
["892160100122555673","SIGHW","043006000003","CARTE SIM 4G PRE MULTI SIM","2017-08-12","Franchise MSAKEN","MSK0013F",1,"SOLD","Tunis Entrepot DCGP"]
["892160100122555729","RIGRAIET","043006000003","CARTE SIM 4G PRE MULTI SIM","2017-08-14","Franchise MSAKEN","MSK0013F",1,"SOLD","Tunis Entrepot DCGP"]
["892160100124728442","SIGHW","043007000004","CARTE SIM 4G DATA MULTI SIM","2017-08-11","Franchise MSAKEN","MSK0013F",1,"SOLD","Tunis Entrepot DCGP"]
["892160100122555746","ASLOGHM","043006000003","CARTE SIM 4G PRE MULTI SIM","2017-08-10","Franchise MSAKEN","MSK0013F",1,"SOLD","Tunis Entrepot DCGP"]
["892160100124729167","ASLOGHM","043007000004","CARTE SIM 4G DATA MULTI SIM","2017-08-10","Franchise MSAKEN","MSK0013F",1,"SOLD","Tunis Entrepot DCGP"]
["","ABLOUNA","044004000010","Recharge Express","2017-08-10","Franchise MSAKEN","MSK0013F",5,"SOLD","Tunis Entrepot DCGP"]
["892160100122554863","SIGHW","043006000003","CARTE SIM 4G PRE MULTI SIM","2017-08-10","Franchise MSAKEN","MSK0013F",1,"SOLD","Tunis Entrepot DCGP"]
["892160100124729131","SIGHW","043007000004","CARTE SIM 4G DATA MULTI SIM","2017-08-10","Franchise MSAKEN","MSK0013F",1,"SOLD","Tunis Entrepot DCGP"]
["892160100122554858","ASLOGHM","043006000003","CARTE SIM 4G PRE MULTI SIM","2017-08-10","Franchise MSAKEN","MSK0013F",1,"SOLD","Tunis Entrepot DCGP"]
["","ABLOUNA","044004000010","Recharge Express","2017-08-08","Franchise MSAKEN","MSK0013F",10,"SOLD","Tunis Entrepot DCGP"]
["892160100122554869","SIGHW","043006000003","CARTE SIM 4G PRE MULTI SIM","2017-08-11","Franchise MSAKEN","MSK0013F",1,"SOLD","Tunis Entrepot DCGP"]
["892160100122554879","SIGHW","043006000003","CARTE SIM 4G PRE MULTI SIM","2017-08-11","Franchise MSAKEN","MSK0013F",1,"SOLD","Tunis Entrepot DCGP"]
["","ASLOGHM","044004000010","Recharge Express","2017-08-11","Franchise MSAKEN","MSK0013F",5,"SOLD","Tunis Entrepot DCGP"]
["","ABLOUNA","044004000010","Recharge Express","2017-08-14","Franchise MSAKEN","MSK0013F",10,"SOLD","Tunis Entrepot DCGP"]
["892160100206713350","SIGHW","043008000001","CARTE SIM 4G FLYBOX","2017-08-14","Franchise MSAKEN","MSK0013F",1,"SOLD","Tunis Entrepot DCGP"]
["","ASLOGHM","044004000010","Recharge Express","2017-08-08","Franchise MSAKEN","MSK0013F",5,"SOLD","Tunis Entrepot DCGP"]
["892160100122555558","ASLOGHM","043006000003","CARTE SIM 4G PRE MULTI SIM","2017-08-08","Franchise MSAKEN","MSK0013F",1,"SOLD","Tunis Entrepot DCGP"]
["","ASLOGHM","044004000010","Recharge Express","2017-08-15","Franchise MSAKEN","MSK0013F",5,"SOLD","Tunis Entrepot DCGP"]
["","ABLOUNA","044004000010","Recharge Express","2017-08-15","Franchise MSAKEN","MSK0013F",5,"SOLD","Tunis Entrepot DCGP"]
["892160100123469081","ASLOGHM","043001000114","CARTE PREACTIVEE VD","2017-08-15","Franchise MSAKEN","MSK0013F",1,"SOLD","Tunis Entrepot DCGP"]
["892160100123469082","ASLOGHM","043001000114","CARTE PREACTIVEE VD","2017-08-15","Franchise MSAKEN","MSK0013F",1,"SOLD","Tunis Entrepot DCGP"]
["892160100123469154","ABLOUNA","043001000114","CARTE PREACTIVEE VD","2017-08-15","Franchise MSAKEN","MSK0013F",1,"SOLD","Tunis Entrepot DCGP"]
["","SIGHW","999100001003","SERVICE TRANSFERT CONTACT","2017-08-14","Franchise MSAKEN","MSK0013F",1,"SOLD","Tunis Entrepot DCGP"]
["","RIGRAIET","044004000010","Recharge Express","2017-08-14","Franchise MSAKEN","MSK0013F",5,"SOLD","Tunis Entrepot DCGP"]
["892160100122555733","RIGRAIET","043006000003","CARTE SIM 4G PRE MULTI SIM","2017-08-14","Franchise MSAKEN","MSK0013F",1,"SOLD","Tunis Entrepot DCGP"]
["","RIGRAIET","044004000010","Recharge Express","2017-08-14","Franchise MSAKEN","MSK0013F",10,"SOLD","Tunis Entrepot DCGP"]
["892160100122555714","RIGRAIET","043006000003","CARTE SIM 4G PRE MULTI SIM","2017-08-14","Franchise MSAKEN","MSK0013F",1,"SOLD","Tunis Entrepot DCGP"]
["","RIGRAIET","044004000010","Recharge Express","2017-08-14","Franchise MSAKEN","MSK0013F",5,"SOLD","Tunis Entrepot DCGP"]
["","RIGRAIET","044004000010","Recharge Express","2017-08-14","Franchise MSAKEN","MSK0013F",30,"SOLD","Tunis Entrepot DCGP"]
["","RIGRAIET","044004000010","Recharge Express","2017-08-14","Franchise MSAKEN","MSK0013F",10,"SOLD","Tunis Entrepot DCGP"]
["892160100122555736","RIGRAIET","043006000003","CARTE SIM 4G PRE MULTI SIM","2017-08-14","Franchise MSAKEN","MSK0013F",1,"SOLD","Tunis Entrepot DCGP"]
["","RIGRAIET","044004000010","Recharge Express","2017-08-14","Franchise MSAKEN","MSK0013F",10,"SOLD","Tunis Entrepot DCGP"]
["892160100122555740","ASLOGHM","043006000003","CARTE SIM 4G PRE MULTI SIM","2017-08-11","Franchise MSAKEN","MSK0013F",1,"SOLD","Tunis Entrepot DCGP"]
["","SIGHW","044004000010","Recharge Express","2017-08-14","Franchise MSAKEN","MSK0013F",12,"SOLD","Tunis Entrepot DCGP"]
["892160100122554919","SIGHW","043006000003","CARTE SIM 4G PRE MULTI SIM","2017-08-14","Franchise MSAKEN","MSK0013F",1,"SOLD","Tunis Entrepot DCGP"]
["892160100122554920","SIGHW","043006000003","CARTE SIM 4G PRE MULTI SIM","2017-08-14","Franchise MSAKEN","MSK0013F",1,"SOLD","Tunis Entrepot DCGP"]
["","SIGHW","044004000010","Recharge Express","2017-08-14","Franchise MSAKEN","MSK0013F",10,"SOLD","Tunis Entrepot DCGP"]
["","SIGHW","044004000010","Recharge Express","2017-08-14","Franchise MSAKEN","MSK0013F",18,"SOLD","Tunis Entrepot DCGP"]
["892160100123469110","ABLOUNA","043001000114","CARTE PREACTIVEE VD","2017-08-15","Franchise MSAKEN","MSK0013F",1,"SOLD","Tunis Entrepot DCGP"]
["892160100122554944","ASLOGHM","043006000003","CARTE SIM 4G PRE MULTI SIM","2017-08-15","Franchise MSAKEN","MSK0013F",1,"SOLD","Tunis Entrepot DCGP"]
["","SIGHW","999100001003","SERVICE TRANSFERT CONTACT","2017-08-11","Franchise MSAKEN","MSK0013F",1,"SOLD","Tunis Entrepot DCGP"]
["892160100122555582","SIGHW","043006000003","CARTE SIM 4G PRE MULTI SIM","2017-08-09","Franchise MSAKEN","MSK0013F",1,"SOLD","Tunis Entrepot DCGP"]
["892160100123469164","ABLOUNA","043001000114","CARTE PREACTIVEE VD","2017-08-14","Franchise MSAKEN","MSK0013F",1,"SOLD","Tunis Entrepot DCGP"]
["","RIGRAIET","999100001003","SERVICE TRANSFERT CONTACT","2017-08-14","Franchise MSAKEN","MSK0013F",1,"SOLD","Tunis Entrepot DCGP"]
["892160100124728458","SIGHW","043007000004","CARTE SIM 4G DATA MULTI SIM","2017-08-14","Franchise MSAKEN","MSK0013F",1,"SOLD","Tunis Entrepot DCGP"]
["892160100122555680","ASLOGHM","043006000003","CARTE SIM 4G PRE MULTI SIM","2017-08-14","Franchise MSAKEN","MSK0013F",1,"SOLD","Tunis Entrepot DCGP"]
["892160100124729171","ASLOGHM","043007000004","CARTE SIM 4G DATA MULTI SIM","2017-08-11","Franchise MSAKEN","MSK0013F",1,"SOLD","Tunis Entrepot DCGP"]
["892160100122554874","RIGRAIET","043006000003","CARTE SIM 4G PRE MULTI SIM","2017-08-11","Franchise MSAKEN","MSK0013F",1,"SOLD","Tunis Entrepot DCGP"]
["892160100122554885","ASLOGHM","043006000003","CARTE SIM 4G PRE MULTI SIM","2017-08-12","Franchise MSAKEN","MSK0013F",1,"SOLD","Tunis Entrepot DCGP"]
["892160100122554851","SIGHW","043006000003","CARTE SIM 4G PRE MULTI SIM","2017-08-10","Franchise MSAKEN","MSK0013F",1,"SOLD","Tunis Entrepot DCGP"]
["892160100122554850","SIGHW","043006000003","CARTE SIM 4G PRE MULTI SIM","2017-08-10","Franchise MSAKEN","MSK0013F",1,"SOLD","Tunis Entrepot DCGP"]
["","RIGRAIET","044004000010","Recharge Express","2017-08-11","Franchise MSAKEN","MSK0013F",5,"SOLD","Tunis Entrepot DCGP"]
["892160100122555698","RIGRAIET","043006000003","CARTE SIM 4G PRE MULTI SIM","2017-08-11","Franchise MSAKEN","MSK0013F",1,"SOLD","Tunis Entrepot DCGP"]
["892160100124729163","RIGRAIET","043007000004","CARTE SIM 4G DATA MULTI SIM","2017-08-10","Franchise MSAKEN","MSK0013F",1,"SOLD","Tunis Entrepot DCGP"]
["892160100124729169","ASLOGHM","043007000004","CARTE SIM 4G DATA MULTI SIM","2017-08-10","Franchise MSAKEN","MSK0013F",1,"SOLD","Tunis Entrepot DCGP"]
["","ASLOGHM","044004000010","Recharge Express","2017-08-15","Franchise MSAKEN","MSK0013F",30,"SOLD","Tunis Entrepot DCGP"]
["","ASLOGHM","044004000010","Recharge Express","2017-08-10","Franchise MSAKEN","MSK0013F",5,"SOLD","Tunis Entrepot DCGP"]
["","ASLOGHM","044004000010","Recharge Express","2017-08-10","Franchise MSAKEN","MSK0013F",2,"SOLD","Tunis Entrepot DCGP"]
["","ABLOUNA","044004000010","Recharge Express","2017-08-15","Franchise MSAKEN","MSK0013F",5,"SOLD","Tunis Entrepot DCGP"]
["892160100124729159","ASLOGHM","043007000004","CARTE SIM 4G DATA MULTI SIM","2017-08-14","Franchise MSAKEN","MSK0013F",1,"SOLD","Tunis Entrepot DCGP"]
["892160100122554849","SIGHW","043006000003","CARTE SIM 4G PRE MULTI SIM","2017-08-10","Franchise MSAKEN","MSK0013F",1,"SOLD","Tunis Entrepot DCGP"]
["892160100122555580","ASLOGHM","043006000003","CARTE SIM 4G PRE MULTI SIM","2017-08-09","Franchise MSAKEN","MSK0013F",1,"SOLD","Tunis Entrepot DCGP"]
["892160100122555747","ASLOGHM","043006000003","CARTE SIM 4G PRE MULTI SIM","2017-08-10","Franchise MSAKEN","MSK0013F",1,"SOLD","Tunis Entrepot DCGP"]
["","RIGRAIET","999100001003","SERVICE TRANSFERT CONTACT","2017-08-12","Franchise MSAKEN","MSK0013F",1,"SOLD","Tunis Entrepot DCGP"]
["","SIGHW","044004000010","Recharge Express","2017-08-10","Franchise MSAKEN","MSK0013F",25,"SOLD","Tunis Entrepot DCGP"]
["2168006000754","ASLOGHM","047006000161","Orange Wifi dock","2017-08-10","Franchise MSAKEN","MSK0013F",1,"SOLD","Tunis Entrepot DCGP"]
["867424023061397","ASLOGHM","046002000034","CLE 3G E3531","2017-08-10","Franchise MSAKEN","MSK0013F",1,"SOLD","Tunis Entrepot DCGP"]
["892160100124729170","ASLOGHM","043007000004","CARTE SIM 4G DATA MULTI SIM","2017-08-10","Franchise MSAKEN","MSK0013F",1,"SOLD","Tunis Entrepot DCGP"]
["892160100124729124","ASLOGHM","043007000004","CARTE SIM 4G DATA MULTI SIM","2017-08-09","Franchise MSAKEN","MSK0013F",1,"SOLD","Tunis Entrepot DCGP"]
["","ASLOGHM","044004000010","Recharge Express","2017-08-15","Franchise MSAKEN","MSK0013F",10,"SOLD","Tunis Entrepot DCGP"]
["892160100122554947","ASLOGHM","043006000003","CARTE SIM 4G PRE MULTI SIM","2017-08-15","Franchise MSAKEN","MSK0013F",1,"SOLD","Tunis Entrepot DCGP"]
["","ASLOGHM","044004000010","Recharge Express","2017-08-09","Franchise MSAKEN","MSK0013F",5,"SOLD","Tunis Entrepot DCGP"]
["892160100122555676","RIGRAIET","043006000003","CARTE SIM 4G PRE MULTI SIM","2017-08-12","Franchise MSAKEN","MSK0013F",1,"SOLD","Tunis Entrepot DCGP"]
["","SIGHW","044004000010","Recharge Express","2017-08-12","Franchise MSAKEN","MSK0013F",5,"SOLD","Tunis Entrepot DCGP"]
["892160100122554861","SIGHW","043006000003","CARTE SIM 4G PRE MULTI SIM","2017-08-10","Franchise MSAKEN","MSK0013F",1,"SOLD","Tunis Entrepot DCGP"]
["863605032642110","SIGHW","085001000011","FLYBOX B310","2017-08-10","Franchise MSAKEN","MSK0013F",1,"SOLD","Tunis Entrepot DCGP"]
["892160100206713356","SIGHW","043008000001","CARTE SIM 4G FLYBOX","2017-08-10","Franchise MSAKEN","MSK0013F",1,"SOLD","Tunis Entrepot DCGP"]
["867424023064615","SIGHW","046002000034","CLE 3G E3531","2017-08-11","Franchise MSAKEN","MSK0013F",1,"SOLD","Tunis Entrepot DCGP"]
["892160100124728444","SIGHW","043007000004","CARTE SIM 4G DATA MULTI SIM","2017-08-11","Franchise MSAKEN","MSK0013F",1,"SOLD","Tunis Entrepot DCGP"]
["892160100122554898","SIGHW","043006000003","CARTE SIM 4G PRE MULTI SIM","2017-08-11","Franchise MSAKEN","MSK0013F",1,"SOLD","Tunis Entrepot DCGP"]
["","SIGHW","044004000010","Recharge Express","2017-08-11","Franchise MSAKEN","MSK0013F",5,"SOLD","Tunis Entrepot DCGP"]
["892160100122554888","SIGHW","043006000003","CARTE SIM 4G PRE MULTI SIM","2017-08-11","Franchise MSAKEN","MSK0013F",1,"SOLD","Tunis Entrepot DCGP"]
["","SIGHW","044004000010","Recharge Express","2017-08-11","Franchise MSAKEN","MSK0013F",6,"SOLD","Tunis Entrepot DCGP"]
["","SIGHW","044004000010","Recharge Express","2017-08-14","Franchise MSAKEN","MSK0013F",30,"SOLD","Tunis Entrepot DCGP"]
["892160100122555575","ABLOUNA","043006000003","CARTE SIM 4G PRE MULTI SIM","2017-08-10","Franchise MSAKEN","MSK0013F",1,"SOLD","Tunis Entrepot DCGP"]
["892160100122555690","RIGRAIET","043006000003","CARTE SIM 4G PRE MULTI SIM","2017-08-11","Franchise MSAKEN","MSK0013F",1,"SOLD","Tunis Entrepot DCGP"]
["892160100124729172","RIGRAIET","043007000004","CARTE SIM 4G DATA MULTI SIM","2017-08-10","Franchise MSAKEN","MSK0013F",1,"SOLD","Tunis Entrepot DCGP"]
["892160100124729166","ASLOGHM","043007000004","CARTE SIM 4G DATA MULTI SIM","2017-08-10","Franchise MSAKEN","MSK0013F",1,"SOLD","Tunis Entrepot DCGP"]
["","RIGRAIET","044004000010","Recharge Express","2017-08-11","Franchise MSAKEN","MSK0013F",10,"SOLD","Tunis Entrepot DCGP"]
["892160100124729138","ASLOGHM","043007000004","CARTE SIM 4G DATA MULTI SIM","2017-08-11","Franchise MSAKEN","MSK0013F",1,"SOLD","Tunis Entrepot DCGP"]
["","ABLOUNA","044004000010","Recharge Express","2017-08-09","Franchise MSAKEN","MSK0013F",15,"SOLD","Tunis Entrepot DCGP"]
["864526526789804","RIGRAIET","079001000057","Orange TAB 7 - 4G NOIR","2017-08-14","Franchise MSAKEN","MSK0013F",1,"SOLD","Tunis Entrepot DCGP"]
["","ABLOUNA","044004000010","Recharge Express","2017-08-11","Franchise MSAKEN","MSK0013F",30,"SOLD","Tunis Entrepot DCGP"]
["892160100122555730","RIGRAIET","043006000003","CARTE SIM 4G PRE MULTI SIM","2017-08-14","Franchise MSAKEN","MSK0013F",1,"SOLD","Tunis Entrepot DCGP"]
["2168006000771","ASLOGHM","047006000161","Orange Wifi dock","2017-08-11","Franchise MSAKEN","MSK0013F",1,"SOLD","Tunis Entrepot DCGP"]
["867424023081445","ASLOGHM","046002000034","CLE 3G E3531","2017-08-11","Franchise MSAKEN","MSK0013F",1,"SOLD","Tunis Entrepot DCGP"]
["892160100124729137","ASLOGHM","043007000004","CARTE SIM 4G DATA MULTI SIM","2017-08-11","Franchise MSAKEN","MSK0013F",1,"SOLD","Tunis Entrepot DCGP"]
["892160100122555735","RIGRAIET","043006000003","CARTE SIM 4G PRE MULTI SIM","2017-08-14","Franchise MSAKEN","MSK0013F",1,"SOLD","Tunis Entrepot DCGP"]
["","RIGRAIET","044004000010","Recharge Express","2017-08-14","Franchise MSAKEN","MSK0013F",24,"SOLD","Tunis Entrepot DCGP"]
["892160100122555732","RIGRAIET","043006000003","CARTE SIM 4G PRE MULTI SIM","2017-08-14","Franchise MSAKEN","MSK0013F",1,"SOLD","Tunis Entrepot DCGP"]
["","RIGRAIET","044004000010","Recharge Express","2017-08-09","Franchise MSAKEN","MSK0013F",3,"SOLD","Tunis Entrepot DCGP"]
["357243076228019","SIGHW","046002000056","AIRBOX 4G MW40","2017-08-12","Franchise MSAKEN","MSK0013F",1,"SOLD","Tunis Entrepot DCGP"]
["892160100124729141","SIGHW","043007000004","CARTE SIM 4G DATA MULTI SIM","2017-08-12","Franchise MSAKEN","MSK0013F",1,"SOLD","Tunis Entrepot DCGP"]
["","ASLOGHM","044004000010","Recharge Express","2017-08-12","Franchise MSAKEN","MSK0013F",12,"SOLD","Tunis Entrepot DCGP"]
["892160100122554914","SIGHW","043006000003","CARTE SIM 4G PRE MULTI SIM","2017-08-14","Franchise MSAKEN","MSK0013F",1,"SOLD","Tunis Entrepot DCGP"]
["867424023065778","RIGRAIET","046002000034","CLE 3G E3531","2017-08-14","Franchise MSAKEN","MSK0013F",1,"SOLD","Tunis Entrepot DCGP"]
["892160100124728457","RIGRAIET","043007000004","CARTE SIM 4G DATA MULTI SIM","2017-08-14","Franchise MSAKEN","MSK0013F",1,"SOLD","Tunis Entrepot DCGP"]
["892160100122554891","SIGHW","043006000003","CARTE SIM 4G PRE MULTI SIM","2017-08-11","Franchise MSAKEN","MSK0013F",1,"SOLD","Tunis Entrepot DCGP"]
["892160100122555669","SIGHW","043006000003","CARTE SIM 4G PRE MULTI SIM","2017-08-12","Franchise MSAKEN","MSK0013F",1,"SOLD","Tunis Entrepot DCGP"]
["892160100122555668","SIGHW","043006000003","CARTE SIM 4G PRE MULTI SIM","2017-08-12","Franchise MSAKEN","MSK0013F",1,"SOLD","Tunis Entrepot DCGP"]
["","ASLOGHM","044004000010","Recharge Express","2017-08-09","Franchise MSAKEN","MSK0013F",12,"SOLD","Tunis Entrepot DCGP"]
["","RIGRAIET","999100001003","SERVICE TRANSFERT CONTACT","2017-08-14","Franchise MSAKEN","MSK0013F",2,"SOLD","Tunis Entrepot DCGP"]
["892160100122555705","ABLOUNA","043006000003","CARTE SIM 4G PRE MULTI SIM","2017-08-11","Franchise MSAKEN","MSK0013F",1,"SOLD","Tunis Entrepot DCGP"]
["892160100122555601","RIGRAIET","043006000003","CARTE SIM 4G PRE MULTI SIM","2017-08-09","Franchise MSAKEN","MSK0013F",1,"SOLD","Tunis Entrepot DCGP"]
["892160100122555686","ASLOGHM","043006000003","CARTE SIM 4G PRE MULTI SIM","2017-08-14","Franchise MSAKEN","MSK0013F",1,"SOLD","Tunis Entrepot DCGP"]
["","ABLOUNA","044004000010","Recharge Express","2017-08-12","Franchise MSAKEN","MSK0013F",10,"SOLD","Tunis Entrepot DCGP"]
["","ABLOUNA","044004000010","Recharge Express","2017-08-14","Franchise MSAKEN","MSK0013F",2,"SOLD","Tunis Entrepot DCGP"]
["","RIGRAIET","044004000010","Recharge Express","2017-08-12","Franchise MSAKEN","MSK0013F",5,"SOLD","Tunis Entrepot DCGP"]
["","SIGHW","044004000010","Recharge Express","2017-08-11","Franchise MSAKEN","MSK0013F",10,"SOLD","Tunis Entrepot DCGP"]
["","ABLOUNA","044004000010","Recharge Express","2017-08-10","Franchise MSAKEN","MSK0013F",5,"SOLD","Tunis Entrepot DCGP"]
["892160100122555703","ABLOUNA","043006000003","CARTE SIM 4G PRE MULTI SIM","2017-08-11","Franchise MSAKEN","MSK0013F",1,"SOLD","Tunis Entrepot DCGP"]
["","ASLOGHM","044004000010","Recharge Express","2017-08-14","Franchise MSAKEN","MSK0013F",5,"SOLD","Tunis Entrepot DCGP"]
["892160100124729164","ASLOGHM","043007000004","CARTE SIM 4G DATA MULTI SIM","2017-08-10","Franchise MSAKEN","MSK0013F",1,"SOLD","Tunis Entrepot DCGP"]
["","SIGHW","044004000010","Recharge Express","2017-08-12","Franchise MSAKEN","MSK0013F",2,"SOLD","Tunis Entrepot DCGP"]
["358218087924169","RIGRAIET","045001074003","SAMSUNG GRAND PRIME + GOLD","2017-08-11","Franchise MSAKEN","MSK0013F",1,"SOLD","Tunis Entrepot DCGP"]
["892160100122554876","RIGRAIET","043006000003","CARTE SIM 4G PRE MULTI SIM","2017-08-10","Franchise MSAKEN","MSK0013F",1,"SOLD","Tunis Entrepot DCGP"]
["867424023061959","ABLOUNA","046002000034","CLE 3G E3531","2017-08-10","Franchise MSAKEN","MSK0013F",1,"SOLD","Tunis Entrepot DCGP"]
["892160100124729173","ABLOUNA","043007000004","CARTE SIM 4G DATA MULTI SIM","2017-08-10","Franchise MSAKEN","MSK0013F",1,"SOLD","Tunis Entrepot DCGP"]
["","SIGHW","044004000010","Recharge Express","2017-08-12","Franchise MSAKEN","MSK0013F",20,"SOLD","Tunis Entrepot DCGP"]
["","RIGRAIET","044004000010","Recharge Express","2017-08-12","Franchise MSAKEN","MSK0013F",5,"SOLD","Tunis Entrepot DCGP"]
["892160100122554882","ABLOUNA","043006000003","CARTE SIM 4G PRE MULTI SIM","2017-08-10","Franchise MSAKEN","MSK0013F",1,"SOLD","Tunis Entrepot DCGP"]
["","ABLOUNA","044004000010","Recharge Express","2017-08-10","Franchise MSAKEN","MSK0013F",2,"SOLD","Tunis Entrepot DCGP"]
["892160100122555604","SIGHW","043006000003","CARTE SIM 4G PRE MULTI SIM","2017-08-09","Franchise MSAKEN","MSK0013F",1,"SOLD","Tunis Entrepot DCGP"]
["892160100122555583","SIGHW","043006000003","CARTE SIM 4G PRE MULTI SIM","2017-08-09","Franchise MSAKEN","MSK0013F",1,"SOLD","Tunis Entrepot DCGP"]
["892160100124729125","SIGHW","043007000004","CARTE SIM 4G DATA MULTI SIM","2017-08-09","Franchise MSAKEN","MSK0013F",1,"SOLD","Tunis Entrepot DCGP"]
["863605032642623","ABLOUNA","085001000011","FLYBOX B310","2017-08-12","Franchise MSAKEN","MSK0013F",1,"SOLD","Tunis Entrepot DCGP"]
["892160100206713352","ABLOUNA","043008000001","CARTE SIM 4G FLYBOX","2017-08-12","Franchise MSAKEN","MSK0013F",1,"SOLD","Tunis Entrepot DCGP"]
["892160100122554857","SIGHW","043006000003","CARTE SIM 4G PRE MULTI SIM","2017-08-10","Franchise MSAKEN","MSK0013F",1,"SOLD","Tunis Entrepot DCGP"]
["TG6K17020002834","RIGRAIET","188003000016","Modem Huawei HG532","2017-08-09","Franchise MSAKEN","MSK0013F",1,"SOLD","Tunis Entrepot DCGP"]
["892160100122555554","ABLOUNA","043006000003","CARTE SIM 4G PRE MULTI SIM","2017-08-08","Franchise MSAKEN","MSK0013F",1,"SOLD","Tunis Entrepot DCGP"]
["","SIGHW","044004000010","Recharge Express","2017-08-12","Franchise MSAKEN","MSK0013F",5,"SOLD","Tunis Entrepot DCGP"]
["892160100124728455","SIGHW","043007000004","CARTE SIM 4G DATA MULTI SIM","2017-08-12","Franchise MSAKEN","MSK0013F",1,"SOLD","Tunis Entrepot DCGP"]
["","SIGHW","999100001003","SERVICE TRANSFERT CONTACT","2017-08-10","Franchise MSAKEN","MSK0013F",1,"SOLD","Tunis Entrepot DCGP"]
["892160100122555720","RIGRAIET","043006000003","CARTE SIM 4G PRE MULTI SIM","2017-08-14","Franchise MSAKEN","MSK0013F",1,"SOLD","Tunis Entrepot DCGP"]
["892160100122555719","RIGRAIET","043006000003","CARTE SIM 4G PRE MULTI SIM","2017-08-14","Franchise MSAKEN","MSK0013F",1,"SOLD","Tunis Entrepot DCGP"]
["892160100122554904","RIGRAIET","043006000003","CARTE SIM 4G PRE MULTI SIM","2017-08-11","Franchise MSAKEN","MSK0013F",1,"SOLD","Tunis Entrepot DCGP"]
["863605032642631","SIGHW","085001000011","FLYBOX B310","2017-08-11","Franchise MSAKEN","MSK0013F",1,"SOLD","Tunis Entrepot DCGP"]
["892160100206713353","SIGHW","043008000001","CARTE SIM 4G FLYBOX","2017-08-11","Franchise MSAKEN","MSK0013F",1,"SOLD","Tunis Entrepot DCGP"]
["","ABLOUNA","044004000010","Recharge Express","2017-08-11","Franchise MSAKEN","MSK0013F",5,"SOLD","Tunis Entrepot DCGP"]
["","ASLOGHM","044004000010","Recharge Express","2017-08-14","Franchise MSAKEN","MSK0013F",5,"SOLD","Tunis Entrepot DCGP"]
["","ABLOUNA","044004000010","Recharge Express","2017-08-14","Franchise MSAKEN","MSK0013F",12,"SOLD","Tunis Entrepot DCGP"]
["","ASLOGHM","044004000010","Recharge Express","2017-08-08","Franchise MSAKEN","MSK0013F",5,"SOLD","Tunis Entrepot DCGP"]
["892160100122555578","ASLOGHM","043006000003","CARTE SIM 4G PRE MULTI SIM","2017-08-08","Franchise MSAKEN","MSK0013F",1,"SOLD","Tunis Entrepot DCGP"]
["892160100124728420","ASLOGHM","043007000004","CARTE SIM 4G DATA MULTI SIM","2017-08-08","Franchise MSAKEN","MSK0013F",1,"SOLD","Tunis Entrepot DCGP"]
["863605032642789","RIGRAIET","085001000011","FLYBOX B310","2017-08-14","Franchise MSAKEN","MSK0013F",1,"SOLD","Tunis Entrepot DCGP"]
["","SIGHW","999100001003","SERVICE TRANSFERT CONTACT","2017-08-14","Franchise MSAKEN","MSK0013F",1,"SOLD","Tunis Entrepot DCGP"]
["892160100124729123","ASLOGHM","043007000004","CARTE SIM 4G DATA MULTI SIM","2017-08-09","Franchise MSAKEN","MSK0013F",1,"SOLD","Tunis Entrepot DCGP"]
["892160100124728446","ASLOGHM","043007000004","CARTE SIM 4G DATA MULTI SIM","2017-08-11","Franchise MSAKEN","MSK0013F",1,"SOLD","Tunis Entrepot DCGP"]
["892160100122555701","ABLOUNA","043006000003","CARTE SIM 4G PRE MULTI SIM","2017-08-11","Franchise MSAKEN","MSK0013F",1,"SOLD","Tunis Entrepot DCGP"]
["892160100122554943","ASLOGHM","043006000003","CARTE SIM 4G PRE MULTI SIM","2017-08-15","Franchise MSAKEN","MSK0013F",1,"SOLD","Tunis Entrepot DCGP"]
["","SIGHW","044004000010","Recharge Express","2017-08-09","Franchise MSAKEN","MSK0013F",12,"SOLD","Tunis Entrepot DCGP"]
["892160100124729129","SIGHW","043007000004","CARTE SIM 4G DATA MULTI SIM","2017-08-09","Franchise MSAKEN","MSK0013F",1,"SOLD","Tunis Entrepot DCGP"]
["","SIGHW","044004000010","Recharge Express","2017-08-03","Franchise MSAKEN","MSK0013F",10,"SOLD","Tunis Entrepot DCGP"]
["892160100122555271","SIGHW","043006000003","CARTE SIM 4G PRE MULTI SIM","2017-08-03","Franchise MSAKEN","MSK0013F",1,"SOLD","Tunis Entrepot DCGP"]
["","ABLOUNA","047006000255","SANGLE PVC PORTABLE","2017-08-04","Franchise MSAKEN","MSK0013F",1,"SOLD","Tunis Entrepot DCGP"]
["359715029786605","ABLOUNA","046002000060","DOMINO E5220 WHITE","2017-08-04","Franchise MSAKEN","MSK0013F",1,"SOLD","Tunis Entrepot DCGP"]
["892160100124728674","ABLOUNA","043007000004","CARTE SIM 4G DATA MULTI SIM","2017-08-04","Franchise MSAKEN","MSK0013F",1,"SOLD","Tunis Entrepot DCGP"]
["","ASLOGHM","044004000010","Recharge Express","2017-08-04","Franchise MSAKEN","MSK0013F",20,"SOLD","Tunis Entrepot DCGP"]
["892160100124729461","SIGHW","043007000004","CARTE SIM 4G DATA MULTI SIM","2017-08-03","Franchise MSAKEN","MSK0013F",1,"SOLD","Tunis Entrepot DCGP"]
["","ABLOUNA","044004000010","Recharge Express","2017-08-02","Franchise MSAKEN","MSK0013F",5,"SOLD","Tunis Entrepot DCGP"]
["892160100122555334","ASLOGHM","043006000003","CARTE SIM 4G PRE MULTI SIM","2017-08-04","Franchise MSAKEN","MSK0013F",1,"SOLD","Tunis Entrepot DCGP"]
["","SIGHW","044004000010","Recharge Express","2017-08-01","Franchise MSAKEN","MSK0013F",5,"SOLD","Tunis Entrepot DCGP"]
["892160100124729336","ABLOUNA","043007000004","CARTE SIM 4G DATA MULTI SIM","2017-08-04","Franchise MSAKEN","MSK0013F",1,"SOLD","Tunis Entrepot DCGP"]
["892160100122555290","SIGHW","043006000003","CARTE SIM 4G PRE MULTI SIM","2017-08-04","Franchise MSAKEN","MSK0013F",1,"SOLD","Tunis Entrepot DCGP"]
["TG6K17020003053","RIGRAIET","188003000016","Modem Huawei HG532","2017-08-01","Franchise MSAKEN","MSK0013F",1,"SOLD","Tunis Entrepot DCGP"]
["","ASLOGHM","044004000010","Recharge Express","2017-08-01","Franchise MSAKEN","MSK0013F",5,"SOLD","Tunis Entrepot DCGP"]
["","ASLOGHM","044004000010","Recharge Express","2017-08-01","Franchise MSAKEN","MSK0013F",5,"SOLD","Tunis Entrepot DCGP"]
["","ASLOGHM","044004000010","Recharge Express","2017-08-01","Franchise MSAKEN","MSK0013F",5,"SOLD","Tunis Entrepot DCGP"]
["","RIGRAIET","044004000010","Recharge Express","2017-08-01","Franchise MSAKEN","MSK0013F",5,"SOLD","Tunis Entrepot DCGP"]
["892160100122555453","ASLOGHM","043006000003","CARTE SIM 4G PRE MULTI SIM","2017-08-01","Franchise MSAKEN","MSK0013F",1,"SOLD","Tunis Entrepot DCGP"]
["892160100122555324","ABLOUNA","043006000003","CARTE SIM 4G PRE MULTI SIM","2017-08-04","Franchise MSAKEN","MSK0013F",1,"SOLD","Tunis Entrepot DCGP"]
["892160100124728672","ABLOUNA","043007000004","CARTE SIM 4G DATA MULTI SIM","2017-08-04","Franchise MSAKEN","MSK0013F",1,"SOLD","Tunis Entrepot DCGP"]
["892160100122555455","ASLOGHM","043006000003","CARTE SIM 4G PRE MULTI SIM","2017-08-01","Franchise MSAKEN","MSK0013F",1,"SOLD","Tunis Entrepot DCGP"]
["","ABLOUNA","044004000010","Recharge Express","2017-08-01","Franchise MSAKEN","MSK0013F",10,"SOLD","Tunis Entrepot DCGP"]
["892160100124728661","ABLOUNA","043007000004","CARTE SIM 4G DATA MULTI SIM","2017-08-03","Franchise MSAKEN","MSK0013F",1,"SOLD","Tunis Entrepot DCGP"]
["","SIGHW","044004000010","Recharge Express","2017-08-03","Franchise MSAKEN","MSK0013F",5,"SOLD","Tunis Entrepot DCGP"]
["892160100122555307","SIGHW","043006000003","CARTE SIM 4G PRE MULTI SIM","2017-08-04","Franchise MSAKEN","MSK0013F",1,"SOLD","Tunis Entrepot DCGP"]
["892160100123782013","ASLOGHM","043007000004","CARTE SIM 4G DATA MULTI SIM","2017-08-03","Franchise MSAKEN","MSK0013F",1,"SOLD","Tunis Entrepot DCGP"]
["892160100122555523","ABLOUNA","043006000003","CARTE SIM 4G PRE MULTI SIM","2017-08-03","Franchise MSAKEN","MSK0013F",1,"SOLD","Tunis Entrepot DCGP"]
["","ASLOGHM","044004000010","Recharge Express","2017-08-02","Franchise MSAKEN","MSK0013F",5,"SOLD","Tunis Entrepot DCGP"]
["2168006000773","ASLOGHM","047006000161","Orange Wifi dock","2017-08-02","Franchise MSAKEN","MSK0013F",1,"SOLD","Tunis Entrepot DCGP"]
["867424023085776","ASLOGHM","046002000034","CLE 3G E3531","2017-08-02","Franchise MSAKEN","MSK0013F",1,"SOLD","Tunis Entrepot DCGP"]
["892160100123782006","ASLOGHM","043007000004","CARTE SIM 4G DATA MULTI SIM","2017-08-02","Franchise MSAKEN","MSK0013F",1,"SOLD","Tunis Entrepot DCGP"]
["892160100122555553","ABLOUNA","043006000003","CARTE SIM 4G PRE MULTI SIM","2017-08-08","Franchise MSAKEN","MSK0013F",1,"SOLD","Tunis Entrepot DCGP"]
["892160100123469112","ABLOUNA","043001000114","CARTE PREACTIVEE VD","2017-08-08","Franchise MSAKEN","MSK0013F",1,"SOLD","Tunis Entrepot DCGP"]
["","ABLOUNA","044004000010","Recharge Express","2017-08-08","Franchise MSAKEN","MSK0013F",5,"SOLD","Tunis Entrepot DCGP"]
["892160100122555566","RIGRAIET","043006000003","CARTE SIM 4G PRE MULTI SIM","2017-08-08","Franchise MSAKEN","MSK0013F",1,"SOLD","Tunis Entrepot DCGP"]
["","ASLOGHM","044004000010","Recharge Express","2017-08-05","Franchise MSAKEN","MSK0013F",5,"SOLD","Tunis Entrepot DCGP"]
["892160100122555592","ASLOGHM","043006000003","CARTE SIM 4G PRE MULTI SIM","2017-08-07","Franchise MSAKEN","MSK0013F",1,"SOLD","Tunis Entrepot DCGP"]
["863605032619563","ASLOGHM","085001000011","FLYBOX B310","2017-08-07","Franchise MSAKEN","MSK0013F",1,"SOLD","Tunis Entrepot DCGP"]
["892160100206713358","ASLOGHM","043008000001","CARTE SIM 4G FLYBOX","2017-08-07","Franchise MSAKEN","MSK0013F",1,"SOLD","Tunis Entrepot DCGP"]
["892160100122555299","ASLOGHM","043006000003","CARTE SIM 4G PRE MULTI SIM","2017-08-03","Franchise MSAKEN","MSK0013F",1,"SOLD","Tunis Entrepot DCGP"]
["892160100122555471","SIGHW","043006000003","CARTE SIM 4G PRE MULTI SIM","2017-08-03","Franchise MSAKEN","MSK0013F",1,"SOLD","Tunis Entrepot DCGP"]
["892160100122555470","SIGHW","043006000003","CARTE SIM 4G PRE MULTI SIM","2017-08-03","Franchise MSAKEN","MSK0013F",1,"SOLD","Tunis Entrepot DCGP"]
["869470011681439","SIGHW","046002000060","DOMINO E5220 WHITE","2017-08-08","Franchise MSAKEN","MSK0013F",1,"SOLD","Tunis Entrepot DCGP"]
["892160100124728416","SIGHW","043007000004","CARTE SIM 4G DATA MULTI SIM","2017-08-08","Franchise MSAKEN","MSK0013F",1,"SOLD","Tunis Entrepot DCGP"]
["","SIGHW","044004000010","Recharge Express","2017-08-08","Franchise MSAKEN","MSK0013F",5,"SOLD","Tunis Entrepot DCGP"]
["869907027306683","ABLOUNA","046002000041","CLE 4G E3372H","2017-08-04","Franchise MSAKEN","MSK0013F",1,"SOLD","Tunis Entrepot DCGP"]
["892160100124728673","ABLOUNA","043007000004","CARTE SIM 4G DATA MULTI SIM","2017-08-04","Franchise MSAKEN","MSK0013F",1,"SOLD","Tunis Entrepot DCGP"]
["","SIGHW","044004000010","Recharge Express","2017-08-08","Franchise MSAKEN","MSK0013F",25,"SOLD","Tunis Entrepot DCGP"]
["892160100124728415","ABLOUNA","043007000004","CARTE SIM 4G DATA MULTI SIM","2017-08-08","Franchise MSAKEN","MSK0013F",1,"SOLD","Tunis Entrepot DCGP"]
["892160100122555599","SIGHW","043006000003","CARTE SIM 4G PRE MULTI SIM","2017-08-08","Franchise MSAKEN","MSK0013F",1,"SOLD","Tunis Entrepot DCGP"]
["356803083669959","SIGHW","083003015001","NOKIA 3 DS Matte Black","2017-08-08","Franchise MSAKEN","MSK0013F",1,"SOLD","Tunis Entrepot DCGP"]
["892160100122555598","SIGHW","043006000003","CARTE SIM 4G PRE MULTI SIM","2017-08-08","Franchise MSAKEN","MSK0013F",1,"SOLD","Tunis Entrepot DCGP"]
["892160100122555562","SIGHW","043006000003","CARTE SIM 4G PRE MULTI SIM","2017-08-08","Franchise MSAKEN","MSK0013F",1,"SOLD","Tunis Entrepot DCGP"]
["","ASLOGHM","044004000010","Recharge Express","2017-08-04","Franchise MSAKEN","MSK0013F",10,"SOLD","Tunis Entrepot DCGP"]
["892160100122555281","ASLOGHM","043006000003","CARTE SIM 4G PRE MULTI SIM","2017-08-05","Franchise MSAKEN","MSK0013F",1,"SOLD","Tunis Entrepot DCGP"]
["892160100122555342","ASLOGHM","043006000003","CARTE SIM 4G PRE MULTI SIM","2017-08-05","Franchise MSAKEN","MSK0013F",1,"SOLD","Tunis Entrepot DCGP"]
["892160100124728678","ABLOUNA","043007000004","CARTE SIM 4G DATA MULTI SIM","2017-08-05","Franchise MSAKEN","MSK0013F",1,"SOLD","Tunis Entrepot DCGP"]
["892160100122555563","SIGHW","043006000003","CARTE SIM 4G PRE MULTI SIM","2017-08-08","Franchise MSAKEN","MSK0013F",1,"SOLD","Tunis Entrepot DCGP"]
["","RIGRAIET","044004000010","Recharge Express","2017-08-08","Franchise MSAKEN","MSK0013F",5,"SOLD","Tunis Entrepot DCGP"]
["892160100124729110","RIGRAIET","043007000004","CARTE SIM 4G DATA MULTI SIM","2017-08-07","Franchise MSAKEN","MSK0013F",1,"SOLD","Tunis Entrepot DCGP"]
["","SIGHW","044004000010","Recharge Express","2017-08-08","Franchise MSAKEN","MSK0013F",30,"SOLD","Tunis Entrepot DCGP"]
["","ABLOUNA","044004000010","Recharge Express","2017-08-07","Franchise MSAKEN","MSK0013F",5,"SOLD","Tunis Entrepot DCGP"]
["","ABLOUNA","044004000010","Recharge Express","2017-08-05","Franchise MSAKEN","MSK0013F",10,"SOLD","Tunis Entrepot DCGP"]
["892160100122555616","SIGHW","043006000003","CARTE SIM 4G PRE MULTI SIM","2017-08-07","Franchise MSAKEN","MSK0013F",1,"SOLD","Tunis Entrepot DCGP"]
["892160100122555613","SIGHW","043006000003","CARTE SIM 4G PRE MULTI SIM","2017-08-07","Franchise MSAKEN","MSK0013F",1,"SOLD","Tunis Entrepot DCGP"]
["","ABLOUNA","044004000010","Recharge Express","2017-08-08","Franchise MSAKEN","MSK0013F",5,"SOLD","Tunis Entrepot DCGP"]
["","SIGHW","044004000010","Recharge Express","2017-08-03","Franchise MSAKEN","MSK0013F",20,"SOLD","Tunis Entrepot DCGP"]
["892160100122555549","ABLOUNA","043006000003","CARTE SIM 4G PRE MULTI SIM","2017-08-07","Franchise MSAKEN","MSK0013F",1,"SOLD","Tunis Entrepot DCGP"]
["","ABLOUNA","044004000010","Recharge Express","2017-08-04","Franchise MSAKEN","MSK0013F",12,"SOLD","Tunis Entrepot DCGP"]
["863605032619555","ABLOUNA","085001000011","FLYBOX B310","2017-08-04","Franchise MSAKEN","MSK0013F",1,"SOLD","Tunis Entrepot DCGP"]
["892160100206713360","ABLOUNA","043008000001","CARTE SIM 4G FLYBOX","2017-08-04","Franchise MSAKEN","MSK0013F",1,"SOLD","Tunis Entrepot DCGP"]
["","SIGHW","044004000010","Recharge Express","2017-08-04","Franchise MSAKEN","MSK0013F",5,"SOLD","Tunis Entrepot DCGP"]
["892160100122555643","RIGRAIET","043006000003","CARTE SIM 4G PRE MULTI SIM","2017-08-07","Franchise MSAKEN","MSK0013F",1,"SOLD","Tunis Entrepot DCGP"]
["","SIGHW","999100001003","SERVICE TRANSFERT CONTACT","2017-08-08","Franchise MSAKEN","MSK0013F",1,"SOLD","Tunis Entrepot DCGP"]
["892160100122555586","ASLOGHM","043006000003","CARTE SIM 4G PRE MULTI SIM","2017-08-08","Franchise MSAKEN","MSK0013F",1,"SOLD","Tunis Entrepot DCGP"]
["","SIGHW","044004000010","Recharge Express","2017-08-08","Franchise MSAKEN","MSK0013F",5,"SOLD","Tunis Entrepot DCGP"]
["","SIGHW","044004000010","Recharge Express","2017-08-08","Franchise MSAKEN","MSK0013F",5,"SOLD","Tunis Entrepot DCGP"]
["892160100122555328","SIGHW","043006000003","CARTE SIM 4G PRE MULTI SIM","2017-08-08","Franchise MSAKEN","MSK0013F",1,"SOLD","Tunis Entrepot DCGP"]
["","SIGHW","999100002001","ASSURANCE CASSE","2017-08-04","Franchise MSAKEN","MSK0013F",1,"SOLD","Tunis Entrepot DCGP"]
["356319081397444","SIGHW","083001051004","SAMSUNG A3 2017 BLUE","2017-08-04","Franchise MSAKEN","MSK0013F",1,"SOLD","Tunis Entrepot DCGP"]
["892160100122555280","SIGHW","043006000003","CARTE SIM 4G PRE MULTI SIM","2017-08-04","Franchise MSAKEN","MSK0013F",1,"SOLD","Tunis Entrepot DCGP"]
["","SIGHW","044004000010","Recharge Express","2017-08-05","Franchise MSAKEN","MSK0013F",5,"SOLD","Tunis Entrepot DCGP"]
["892160100122555552","ABLOUNA","043006000003","CARTE SIM 4G PRE MULTI SIM","2017-08-08","Franchise MSAKEN","MSK0013F",1,"SOLD","Tunis Entrepot DCGP"]
["","SIGHW","044004000010","Recharge Express","2017-08-07","Franchise MSAKEN","MSK0013F",5,"SOLD","Tunis Entrepot DCGP"]
["892160100123469170","SIGHW","043001000114","CARTE PREACTIVEE VD","2017-08-07","Franchise MSAKEN","MSK0013F",1,"SOLD","Tunis Entrepot DCGP"]
["892160100122555629","RIGRAIET","043006000003","CARTE SIM 4G PRE MULTI SIM","2017-08-07","Franchise MSAKEN","MSK0013F",1,"SOLD","Tunis Entrepot DCGP"]
["892160100124729117","SIGHW","043007000004","CARTE SIM 4G DATA MULTI SIM","2017-08-07","Franchise MSAKEN","MSK0013F",1,"SOLD","Tunis Entrepot DCGP"]
["892160100122555636","ASLOGHM","043006000003","CARTE SIM 4G PRE MULTI SIM","2017-08-07","Franchise MSAKEN","MSK0013F",1,"SOLD","Tunis Entrepot DCGP"]
["892160100122555264","ABLOUNA","043006000003","CARTE SIM 4G PRE MULTI SIM","2017-08-02","Franchise MSAKEN","MSK0013F",1,"SOLD","Tunis Entrepot DCGP"]
["","ASLOGHM","044004000010","Recharge Express","2017-08-02","Franchise MSAKEN","MSK0013F",5,"SOLD","Tunis Entrepot DCGP"]
["892160100122555256","ASLOGHM","043006000003","CARTE SIM 4G PRE MULTI SIM","2017-08-02","Franchise MSAKEN","MSK0013F",1,"SOLD","Tunis Entrepot DCGP"]
["892160100122555505","ASLOGHM","043006000003","CARTE SIM 4G PRE MULTI SIM","2017-08-02","Franchise MSAKEN","MSK0013F",1,"SOLD","Tunis Entrepot DCGP"]
["892160100122555502","ASLOGHM","043006000003","CARTE SIM 4G PRE MULTI SIM","2017-08-02","Franchise MSAKEN","MSK0013F",1,"SOLD","Tunis Entrepot DCGP"]
["","ASLOGHM","044004000010","Recharge Express","2017-08-05","Franchise MSAKEN","MSK0013F",5,"SOLD","Tunis Entrepot DCGP"]
["892160100122555326","ASLOGHM","043006000003","CARTE SIM 4G PRE MULTI SIM","2017-08-05","Franchise MSAKEN","MSK0013F",1,"SOLD","Tunis Entrepot DCGP"]
["","SIGHW","044004000010","Recharge Express","2017-08-08","Franchise MSAKEN","MSK0013F",10,"SOLD","Tunis Entrepot DCGP"]
["865205021205660","ABLOUNA","046002000060","DOMINO E5220 WHITE","2017-08-03","Franchise MSAKEN","MSK0013F",1,"SOLD","Tunis Entrepot DCGP"]
["892160100124729339","ABLOUNA","043007000004","CARTE SIM 4G DATA MULTI SIM","2017-08-03","Franchise MSAKEN","MSK0013F",1,"SOLD","Tunis Entrepot DCGP"]
["892160100122555550","ABLOUNA","043006000003","CARTE SIM 4G PRE MULTI SIM","2017-08-07","Franchise MSAKEN","MSK0013F",1,"SOLD","Tunis Entrepot DCGP"]
["892160100122555260","ABLOUNA","043006000003","CARTE SIM 4G PRE MULTI SIM","2017-08-03","Franchise MSAKEN","MSK0013F",1,"SOLD","Tunis Entrepot DCGP"]
["","SIGHW","044004000010","Recharge Express","2017-08-04","Franchise MSAKEN","MSK0013F",5,"SOLD","Tunis Entrepot DCGP"]
["","SIGHW","044004000010","Recharge Express","2017-08-04","Franchise MSAKEN","MSK0013F",5,"SOLD","Tunis Entrepot DCGP"]
["892160100122555622","SIGHW","043006000003","CARTE SIM 4G PRE MULTI SIM","2017-08-07","Franchise MSAKEN","MSK0013F",1,"SOLD","Tunis Entrepot DCGP"]
["","SIGHW","044004000010","Recharge Express","2017-08-01","Franchise MSAKEN","MSK0013F",10,"SOLD","Tunis Entrepot DCGP"]
["","RIGRAIET","999100001003","SERVICE TRANSFERT CONTACT","2017-08-01","Franchise MSAKEN","MSK0013F",1,"SOLD","Tunis Entrepot DCGP"]
["","RIGRAIET","044004000010","Recharge Express","2017-08-01","Franchise MSAKEN","MSK0013F",5,"SOLD","Tunis Entrepot DCGP"]
["","SIGHW","999100001003","SERVICE TRANSFERT CONTACT","2017-08-08","Franchise MSAKEN","MSK0013F",1,"SOLD","Tunis Entrepot DCGP"]
["892160100122555561","ASLOGHM","043006000003","CARTE SIM 4G PRE MULTI SIM","2017-08-08","Franchise MSAKEN","MSK0013F",1,"SOLD","Tunis Entrepot DCGP"]
["892160100122555335","ASLOGHM","043006000003","CARTE SIM 4G PRE MULTI SIM","2017-08-05","Franchise MSAKEN","MSK0013F",1,"SOLD","Tunis Entrepot DCGP"]
["892160100123469144","ABLOUNA","043001000114","CARTE PREACTIVEE VD","2017-08-05","Franchise MSAKEN","MSK0013F",1,"SOLD","Tunis Entrepot DCGP"]
["","SIGHW","044004000010","Recharge Express","2017-08-02","Franchise MSAKEN","MSK0013F",10,"SOLD","Tunis Entrepot DCGP"]
["","ASLOGHM","044004000010","Recharge Express","2017-08-02","Franchise MSAKEN","MSK0013F",30,"SOLD","Tunis Entrepot DCGP"]
["","SIGHW","044004000010","Recharge Express","2017-08-03","Franchise MSAKEN","MSK0013F",5,"SOLD","Tunis Entrepot DCGP"]
["892160100122555276","SIGHW","043006000003","CARTE SIM 4G PRE MULTI SIM","2017-08-03","Franchise MSAKEN","MSK0013F",1,"SOLD","Tunis Entrepot DCGP"]
["892160100122555277","SIGHW","043006000003","CARTE SIM 4G PRE MULTI SIM","2017-08-03","Franchise MSAKEN","MSK0013F",1,"SOLD","Tunis Entrepot DCGP"]
["","ASLOGHM","044004000010","Recharge Express","2017-08-04","Franchise MSAKEN","MSK0013F",9,"SOLD","Tunis Entrepot DCGP"]
["","RIGRAIET","044004000010","Recharge Express","2017-08-07","Franchise MSAKEN","MSK0013F",6,"SOLD","Tunis Entrepot DCGP"]
["892160100122555330","RIGRAIET","043006000003","CARTE SIM 4G PRE MULTI SIM","2017-08-07","Franchise MSAKEN","MSK0013F",1,"SOLD","Tunis Entrepot DCGP"]
["892160100122555596","RIGRAIET","043006000003","CARTE SIM 4G PRE MULTI SIM","2017-08-08","Franchise MSAKEN","MSK0013F",1,"SOLD","Tunis Entrepot DCGP"]
["","ABLOUNA","044004000010","Recharge Express","2017-08-01","Franchise MSAKEN","MSK0013F",1,"SOLD","Tunis Entrepot DCGP"]
["","ABLOUNA","044004000010","Recharge Express","2017-08-08","Franchise MSAKEN","MSK0013F",18,"SOLD","Tunis Entrepot DCGP"]
["892160100124728413","RIGRAIET","043007000004","CARTE SIM 4G DATA MULTI SIM","2017-08-08","Franchise MSAKEN","MSK0013F",1,"SOLD","Tunis Entrepot DCGP"]
["869907027306113","RIGRAIET","046002000041","CLE 4G E3372H","2017-08-08","Franchise MSAKEN","MSK0013F",1,"SOLD","Tunis Entrepot DCGP"]
["892160100123469147","ABLOUNA","043001000114","CARTE PREACTIVEE VD","2017-08-05","Franchise MSAKEN","MSK0013F",1,"SOLD","Tunis Entrepot DCGP"]
["892160100123469148","ABLOUNA","043001000114","CARTE PREACTIVEE VD","2017-08-05","Franchise MSAKEN","MSK0013F",1,"SOLD","Tunis Entrepot DCGP"]
["","ABLOUNA","044004000010","Recharge Express","2017-08-08","Franchise MSAKEN","MSK0013F",5,"SOLD","Tunis Entrepot DCGP"]
["892160100122555595","SIGHW","043006000003","CARTE SIM 4G PRE MULTI SIM","2017-08-08","Franchise MSAKEN","MSK0013F",1,"SOLD","Tunis Entrepot DCGP"]
["","SIGHW","044004000010","Recharge Express","2017-08-05","Franchise MSAKEN","MSK0013F",5,"SOLD","Tunis Entrepot DCGP"]
["892160100122555333","SIGHW","043006000003","CARTE SIM 4G PRE MULTI SIM","2017-08-05","Franchise MSAKEN","MSK0013F",1,"SOLD","Tunis Entrepot DCGP"]
["892160100123469143","ASLOGHM","043001000114","CARTE PREACTIVEE VD","2017-08-08","Franchise MSAKEN","MSK0013F",1,"SOLD","Tunis Entrepot DCGP"]
["892160100123469142","ASLOGHM","043001000114","CARTE PREACTIVEE VD","2017-08-08","Franchise MSAKEN","MSK0013F",1,"SOLD","Tunis Entrepot DCGP"]
["867424023061611","SIGHW","046002000034","CLE 3G E3531","2017-08-08","Franchise MSAKEN","MSK0013F",1,"SOLD","Tunis Entrepot DCGP"]
["892160100124728408","SIGHW","043007000004","CARTE SIM 4G DATA MULTI SIM","2017-08-08","Franchise MSAKEN","MSK0013F",1,"SOLD","Tunis Entrepot DCGP"]
["","ABLOUNA","044004000010","Recharge Express","2017-08-03","Franchise MSAKEN","MSK0013F",2,"SOLD","Tunis Entrepot DCGP"]
["","ABLOUNA","044004000010","Recharge Express","2017-08-03","Franchise MSAKEN","MSK0013F",2,"SOLD","Tunis Entrepot DCGP"]
["","SIGHW","044004000010","Recharge Express","2017-08-04","Franchise MSAKEN","MSK0013F",5,"SOLD","Tunis Entrepot DCGP"]
["","SIGHW","999100001003","SERVICE TRANSFERT CONTACT","2017-08-04","Franchise MSAKEN","MSK0013F",1,"SOLD","Tunis Entrepot DCGP"]
["","ABLOUNA","044004000010","Recharge Express","2017-08-08","Franchise MSAKEN","MSK0013F",9,"SOLD","Tunis Entrepot DCGP"]
["","ASLOGHM","044004000010","Recharge Express","2017-08-08","Franchise MSAKEN","MSK0013F",12,"SOLD","Tunis Entrepot DCGP"]
["","SIGHW","044004000010","Recharge Express","2017-08-07","Franchise MSAKEN","MSK0013F",20,"SOLD","Tunis Entrepot DCGP"]
["892160100123469146","SIGHW","043001000114","CARTE PREACTIVEE VD","2017-08-07","Franchise MSAKEN","MSK0013F",1,"SOLD","Tunis Entrepot DCGP"]
["892160100122555600","SIGHW","043006000003","CARTE SIM 4G PRE MULTI SIM","2017-08-08","Franchise MSAKEN","MSK0013F",1,"SOLD","Tunis Entrepot DCGP"]
["892160100122555619","SIGHW","043006000003","CARTE SIM 4G PRE MULTI SIM","2017-08-07","Franchise MSAKEN","MSK0013F",1,"SOLD","Tunis Entrepot DCGP"]
["","ABLOUNA","044004000010","Recharge Express","2017-08-07","Franchise MSAKEN","MSK0013F",15,"SOLD","Tunis Entrepot DCGP"]
["","SIGHW","044004000010","Recharge Express","2017-08-07","Franchise MSAKEN","MSK0013F",5,"SOLD","Tunis Entrepot DCGP"]
["","SIGHW","999100001003","SERVICE TRANSFERT CONTACT","2017-08-07","Franchise MSAKEN","MSK0013F",1,"SOLD","Tunis Entrepot DCGP"]
["892160100122555615","SIGHW","043006000003","CARTE SIM 4G PRE MULTI SIM","2017-08-07","Franchise MSAKEN","MSK0013F",1,"SOLD","Tunis Entrepot DCGP"]
["892160100124728412","SIGHW","043007000004","CARTE SIM 4G DATA MULTI SIM","2017-08-08","Franchise MSAKEN","MSK0013F",1,"SOLD","Tunis Entrepot DCGP"]
["892160100122555565","SIGHW","043006000003","CARTE SIM 4G PRE MULTI SIM","2017-08-08","Franchise MSAKEN","MSK0013F",1,"SOLD","Tunis Entrepot DCGP"]
["892160100122555309","ABLOUNA","043006000003","CARTE SIM 4G PRE MULTI SIM","2017-08-03","Franchise MSAKEN","MSK0013F",1,"SOLD","Tunis Entrepot DCGP"]
["892160100124729119","SIGHW","043007000004","CARTE SIM 4G DATA MULTI SIM","2017-08-08","Franchise MSAKEN","MSK0013F",1,"SOLD","Tunis Entrepot DCGP"]
["892160100122555618","SIGHW","043006000003","CARTE SIM 4G PRE MULTI SIM","2017-08-07","Franchise MSAKEN","MSK0013F",1,"SOLD","Tunis Entrepot DCGP"]
["892160100122555642","RIGRAIET","043006000003","CARTE SIM 4G PRE MULTI SIM","2017-08-07","Franchise MSAKEN","MSK0013F",1,"SOLD","Tunis Entrepot DCGP"]
["892160100122555648","SIGHW","043006000003","CARTE SIM 4G PRE MULTI SIM","2017-08-07","Franchise MSAKEN","MSK0013F",1,"SOLD","Tunis Entrepot DCGP"]
["","ABLOUNA","044004000010","Recharge Express","2017-08-04","Franchise MSAKEN","MSK0013F",5,"SOLD","Tunis Entrepot DCGP"]
["865205020674973","RIGRAIET","046002000060","DOMINO E5220 WHITE","2017-08-01","Franchise MSAKEN","MSK0013F",1,"SOLD","Tunis Entrepot DCGP"]
["892160100123782634","RIGRAIET","043007000004","CARTE SIM 4G DATA MULTI SIM","2017-08-01","Franchise MSAKEN","MSK0013F",1,"SOLD","Tunis Entrepot DCGP"]
["892160100124729112","ASLOGHM","043007000004","CARTE SIM 4G DATA MULTI SIM","2017-08-07","Franchise MSAKEN","MSK0013F",1,"SOLD","Tunis Entrepot DCGP"]
["892160100122555639","ASLOGHM","043006000003","CARTE SIM 4G PRE MULTI SIM","2017-08-07","Franchise MSAKEN","MSK0013F",1,"SOLD","Tunis Entrepot DCGP"]
["","ASLOGHM","044004000010","Recharge Express","2017-08-04","Franchise MSAKEN","MSK0013F",20,"SOLD","Tunis Entrepot DCGP"]
["892160100122555315","ABLOUNA","043006000003","CARTE SIM 4G PRE MULTI SIM","2017-08-04","Franchise MSAKEN","MSK0013F",1,"SOLD","Tunis Entrepot DCGP"]
["892160100122555564","SIGHW","043006000003","CARTE SIM 4G PRE MULTI SIM","2017-08-08","Franchise MSAKEN","MSK0013F",1,"SOLD","Tunis Entrepot DCGP"]
["892160100124729113","ASLOGHM","043007000004","CARTE SIM 4G DATA MULTI SIM","2017-08-07","Franchise MSAKEN","MSK0013F",1,"SOLD","Tunis Entrepot DCGP"]
["892160100122555590","ASLOGHM","043006000003","CARTE SIM 4G PRE MULTI SIM","2017-08-08","Franchise MSAKEN","MSK0013F",1,"SOLD","Tunis Entrepot DCGP"]
["892160100124728414","SIGHW","043007000004","CARTE SIM 4G DATA MULTI SIM","2017-08-08","Franchise MSAKEN","MSK0013F",1,"SOLD","Tunis Entrepot DCGP"]
["","SIGHW","044004000010","Recharge Express","2017-08-08","Franchise MSAKEN","MSK0013F",5,"SOLD","Tunis Entrepot DCGP"]
["892160100122555329","SIGHW","043006000003","CARTE SIM 4G PRE MULTI SIM","2017-08-07","Franchise MSAKEN","MSK0013F",1,"SOLD","Tunis Entrepot DCGP"]
["892160100122555527","ABLOUNA","043006000003","CARTE SIM 4G PRE MULTI SIM","2017-08-03","Franchise MSAKEN","MSK0013F",1,"SOLD","Tunis Entrepot DCGP"]
["357360080066654","SIGHW","083025001001","SERVICOM EASY 3 BLACK RED","2017-08-08","Franchise MSAKEN","MSK0013F",1,"SOLD","Tunis Entrepot DCGP"]
["892160100122555591","SIGHW","043006000003","CARTE SIM 4G PRE MULTI SIM","2017-08-08","Franchise MSAKEN","MSK0013F",1,"SOLD","Tunis Entrepot DCGP"]
["892160100122555611","RIGRAIET","043006000003","CARTE SIM 4G PRE MULTI SIM","2017-08-07","Franchise MSAKEN","MSK0013F",1,"SOLD","Tunis Entrepot DCGP"]
["","RIGRAIET","999100001003","SERVICE TRANSFERT CONTACT","2017-08-01","Franchise MSAKEN","MSK0013F",1,"SOLD","Tunis Entrepot DCGP"]
["2168006000749","SIGHW","047006000161","Orange Wifi dock","2017-08-05","Franchise MSAKEN","MSK0013F",1,"SOLD","Tunis Entrepot DCGP"]
["867424023063997","SIGHW","046002000034","CLE 3G E3531","2017-08-05","Franchise MSAKEN","MSK0013F",1,"SOLD","Tunis Entrepot DCGP"]
["892160100124729102","SIGHW","043007000004","CARTE SIM 4G DATA MULTI SIM","2017-08-05","Franchise MSAKEN","MSK0013F",1,"SOLD","Tunis Entrepot DCGP"]
["","ASLOGHM","044004000010","Recharge Express","2017-08-07","Franchise MSAKEN","MSK0013F",5,"SOLD","Tunis Entrepot DCGP"]
["TG6K17020002849","ASLOGHM","188003000016","Modem Huawei HG532","2017-08-07","Franchise MSAKEN","MSK0013F",1,"SOLD","Tunis Entrepot DCGP"]
["862716031774035","SIGHW","045013018001","HUAWEI Y3-II BLACK","2017-08-05","Franchise MSAKEN","MSK0013F",1,"SOLD","Tunis Entrepot DCGP"]
["892160100122555634","SIGHW","043006000003","CARTE SIM 4G PRE MULTI SIM","2017-08-05","Franchise MSAKEN","MSK0013F",1,"SOLD","Tunis Entrepot DCGP"]
["","ABLOUNA","044004000010","Recharge Express","2017-08-05","Franchise MSAKEN","MSK0013F",15,"SOLD","Tunis Entrepot DCGP"]
["892160100122555597","SIGHW","043006000003","CARTE SIM 4G PRE MULTI SIM","2017-08-08","Franchise MSAKEN","MSK0013F",1,"SOLD","Tunis Entrepot DCGP"]
["892160100122555250","SIGHW","043006000003","CARTE SIM 4G PRE MULTI SIM","2017-08-03","Franchise MSAKEN","MSK0013F",1,"SOLD","Tunis Entrepot DCGP"]
["","RIGRAIET","044004000010","Recharge Express","2017-08-08","Franchise MSAKEN","MSK0013F",5,"SOLD","Tunis Entrepot DCGP"]
["","SIGHW","044004000010","Recharge Express","2017-08-01","Franchise MSAKEN","MSK0013F",5,"SOLD","Tunis Entrepot DCGP"]
["","SIGHW","044004000010","Recharge Express","2017-08-07","Franchise MSAKEN","MSK0013F",5,"SOLD","Tunis Entrepot DCGP"]
["","SIGHW","999100001003","SERVICE TRANSFERT CONTACT","2017-08-07","Franchise MSAKEN","MSK0013F",1,"SOLD","Tunis Entrepot DCGP"]
["892160100122555647","SIGHW","043006000003","CARTE SIM 4G PRE MULTI SIM","2017-08-07","Franchise MSAKEN","MSK0013F",1,"SOLD","Tunis Entrepot DCGP"]
["892160100122555496","SIGHW","043006000003","CARTE SIM 4G PRE MULTI SIM","2017-08-01","Franchise MSAKEN","MSK0013F",1,"SOLD","Tunis Entrepot DCGP"]
["","SIGHW","044004000010","Recharge Express","2017-08-07","Franchise MSAKEN","MSK0013F",30,"SOLD","Tunis Entrepot DCGP"]
["892160100124728405","ABLOUNA","043007000004","CARTE SIM 4G DATA MULTI SIM","2017-08-07","Franchise MSAKEN","MSK0013F",1,"SOLD","Tunis Entrepot DCGP"]
["865205021630578","ABLOUNA","046002000060","DOMINO E5220 WHITE","2017-08-05","Franchise MSAKEN","MSK0013F",1,"SOLD","Tunis Entrepot DCGP"]
["892160100124729107","ABLOUNA","043007000004","CARTE SIM 4G DATA MULTI SIM","2017-08-05","Franchise MSAKEN","MSK0013F",1,"SOLD","Tunis Entrepot DCGP"]
["892160100122555477","ABLOUNA","043006000003","CARTE SIM 4G PRE MULTI SIM","2017-08-05","Franchise MSAKEN","MSK0013F",1,"SOLD","Tunis Entrepot DCGP"]
["","ASLOGHM","044004000010","Recharge Express","2017-08-05","Franchise MSAKEN","MSK0013F",20,"SOLD","Tunis Entrepot DCGP"]
["","ABLOUNA","044004000010","Recharge Express","2017-08-05","Franchise MSAKEN","MSK0013F",5,"SOLD","Tunis Entrepot DCGP"]
["892160100123782633","RIGRAIET","043007000004","CARTE SIM 4G DATA MULTI SIM","2017-08-01","Franchise MSAKEN","MSK0013F",1,"SOLD","Tunis Entrepot DCGP"]
["","SIGHW","044004000010","Recharge Express","2017-08-07","Franchise MSAKEN","MSK0013F",30,"SOLD","Tunis Entrepot DCGP"]
["","ASLOGHM","044004000010","Recharge Express","2017-08-04","Franchise MSAKEN","MSK0013F",20,"SOLD","Tunis Entrepot DCGP"]
["892160100122555488","SIGHW","043006000003","CARTE SIM 4G PRE MULTI SIM","2017-08-02","Franchise MSAKEN","MSK0013F",1,"SOLD","Tunis Entrepot DCGP"]
["","ABLOUNA","044004000010","Recharge Express","2017-08-01","Franchise MSAKEN","MSK0013F",5,"SOLD","Tunis Entrepot DCGP"]
["892160100124729111","ASLOGHM","043007000004","CARTE SIM 4G DATA MULTI SIM","2017-08-07","Franchise MSAKEN","MSK0013F",1,"SOLD","Tunis Entrepot DCGP"]
["892160100122555491","SIGHW","043006000003","CARTE SIM 4G PRE MULTI SIM","2017-08-02","Franchise MSAKEN","MSK0013F",1,"SOLD","Tunis Entrepot DCGP"]
["3173088003356","RIGRAIET","047006000161","Orange Wifi dock","2017-08-07","Franchise MSAKEN","MSK0013F",1,"SOLD","Tunis Entrepot DCGP"]
["867424023061942","RIGRAIET","046002000034","CLE 3G E3531","2017-08-07","Franchise MSAKEN","MSK0013F",1,"SOLD","Tunis Entrepot DCGP"]
["892160100124728401","RIGRAIET","043007000004","CARTE SIM 4G DATA MULTI SIM","2017-08-07","Franchise MSAKEN","MSK0013F",1,"SOLD","Tunis Entrepot DCGP"]
["","ASLOGHM","044004000010","Recharge Express","2017-08-07","Franchise MSAKEN","MSK0013F",10,"SOLD","Tunis Entrepot DCGP"]
["892160100122555637","ASLOGHM","043006000003","CARTE SIM 4G PRE MULTI SIM","2017-08-07","Franchise MSAKEN","MSK0013F",1,"SOLD","Tunis Entrepot DCGP"]
["","ASLOGHM","044004000010","Recharge Express","2017-08-07","Franchise MSAKEN","MSK0013F",5,"SOLD","Tunis Entrepot DCGP"]
["","ASLOGHM","044004000010","Recharge Express","2017-08-07","Franchise MSAKEN","MSK0013F",5,"SOLD","Tunis Entrepot DCGP"]
["892160100122555624","ASLOGHM","043006000003","CARTE SIM 4G PRE MULTI SIM","2017-08-07","Franchise MSAKEN","MSK0013F",1,"SOLD","Tunis Entrepot DCGP"]
["892160100122555625","ASLOGHM","043006000003","CARTE SIM 4G PRE MULTI SIM","2017-08-07","Franchise MSAKEN","MSK0013F",1,"SOLD","Tunis Entrepot DCGP"]
["892160100123469132","ABLOUNA","043001000114","CARTE PREACTIVEE VD","2017-08-02","Franchise MSAKEN","MSK0013F",1,"SOLD","Tunis Entrepot DCGP"]
["892160100122555510","RIGRAIET","043006000003","CARTE SIM 4G PRE MULTI SIM","2017-08-01","Franchise MSAKEN","MSK0013F",1,"SOLD","Tunis Entrepot DCGP"]
["","ASLOGHM","044004000010","Recharge Express","2017-08-07","Franchise MSAKEN","MSK0013F",10,"SOLD","Tunis Entrepot DCGP"]
["892160100122555623","ASLOGHM","043006000003","CARTE SIM 4G PRE MULTI SIM","2017-08-07","Franchise MSAKEN","MSK0013F",1,"SOLD","Tunis Entrepot DCGP"]
["","ASLOGHM","044004000010","Recharge Express","2017-08-05","Franchise MSAKEN","MSK0013F",5,"SOLD","Tunis Entrepot DCGP"]
["892160100122555472","SIGHW","043006000003","CARTE SIM 4G PRE MULTI SIM","2017-08-02","Franchise MSAKEN","MSK0013F",1,"SOLD","Tunis Entrepot DCGP"]
["","ABLOUNA","044004000010","Recharge Express","2017-08-02","Franchise MSAKEN","MSK0013F",7,"SOLD","Tunis Entrepot DCGP"]
["892160100122555346","ASLOGHM","043006000003","CARTE SIM 4G PRE MULTI SIM","2017-08-04","Franchise MSAKEN","MSK0013F",1,"SOLD","Tunis Entrepot DCGP"]
["","SIGHW","044004000010","Recharge Express","2017-08-02","Franchise MSAKEN","MSK0013F",5,"SOLD","Tunis Entrepot DCGP"]
["","ABLOUNA","044004000010","Recharge Express","2017-08-02","Franchise MSAKEN","MSK0013F",20,"SOLD","Tunis Entrepot DCGP"]
["892160100122555278","SIGHW","043006000003","CARTE SIM 4G PRE MULTI SIM","2017-08-03","Franchise MSAKEN","MSK0013F",1,"SOLD","Tunis Entrepot DCGP"]
["","SIGHW","044004000010","Recharge Express","2017-08-03","Franchise MSAKEN","MSK0013F",1,"SOLD","Tunis Entrepot DCGP"]
["","ASLOGHM","044004000010","Recharge Express","2017-08-03","Franchise MSAKEN","MSK0013F",1,"SOLD","Tunis Entrepot DCGP"]
["892160100122555480","ABLOUNA","043006000003","CARTE SIM 4G PRE MULTI SIM","2017-08-02","Franchise MSAKEN","MSK0013F",1,"SOLD","Tunis Entrepot DCGP"]
["2168006000752","ABLOUNA","047006000161","Orange Wifi dock","2017-08-02","Franchise MSAKEN","MSK0013F",1,"SOLD","Tunis Entrepot DCGP"]
["867424023066552","ABLOUNA","046002000034","CLE 3G E3531","2017-08-02","Franchise MSAKEN","MSK0013F",1,"SOLD","Tunis Entrepot DCGP"]
["892160100123781996","ABLOUNA","043007000004","CARTE SIM 4G DATA MULTI SIM","2017-08-02","Franchise MSAKEN","MSK0013F",1,"SOLD","Tunis Entrepot DCGP"]
["865205021638290","ASLOGHM","046002000060","DOMINO E5220 WHITE","2017-08-02","Franchise MSAKEN","MSK0013F",1,"SOLD","Tunis Entrepot DCGP"]
["892160100123781997","ASLOGHM","043007000004","CARTE SIM 4G DATA MULTI SIM","2017-08-02","Franchise MSAKEN","MSK0013F",1,"SOLD","Tunis Entrepot DCGP"]
["","ASLOGHM","044004000010","Recharge Express","2017-08-07","Franchise MSAKEN","MSK0013F",5,"SOLD","Tunis Entrepot DCGP"]
["892160100123782005","ASLOGHM","043007000004","CARTE SIM 4G DATA MULTI SIM","2017-08-02","Franchise MSAKEN","MSK0013F",1,"SOLD","Tunis Entrepot DCGP"]
["","ASLOGHM","044004000010","Recharge Express","2017-08-02","Franchise MSAKEN","MSK0013F",12,"SOLD","Tunis Entrepot DCGP"]
["","SIGHW","044004000010","Recharge Express","2017-08-03","Franchise MSAKEN","MSK0013F",5,"SOLD","Tunis Entrepot DCGP"]
["892160100122555308","SIGHW","043006000003","CARTE SIM 4G PRE MULTI SIM","2017-08-03","Franchise MSAKEN","MSK0013F",1,"SOLD","Tunis Entrepot DCGP"]
["","RIGRAIET","044004000010","Recharge Express","2017-08-07","Franchise MSAKEN","MSK0013F",5,"SOLD","Tunis Entrepot DCGP"]
["","SIGHW","044004000010","Recharge Express","2017-08-07","Franchise MSAKEN","MSK0013F",5,"SOLD","Tunis Entrepot DCGP"]
["TG6K17020002819","ASLOGHM","188003000016","Modem Huawei HG532","2017-08-02","Franchise MSAKEN","MSK0013F",1,"SOLD","Tunis Entrepot DCGP"]
["","SIGHW","044004000010","Recharge Express","2017-08-07","Franchise MSAKEN","MSK0013F",1,"SOLD","Tunis Entrepot DCGP"]
["892160100122555332","SIGHW","043006000003","CARTE SIM 4G PRE MULTI SIM","2017-08-07","Franchise MSAKEN","MSK0013F",1,"SOLD","Tunis Entrepot DCGP"]
["892160100124728403","ABLOUNA","043007000004","CARTE SIM 4G DATA MULTI SIM","2017-08-07","Franchise MSAKEN","MSK0013F",1,"SOLD","Tunis Entrepot DCGP"]
["869470011700304","ABLOUNA","046002000060","DOMINO E5220 WHITE","2017-08-07","Franchise MSAKEN","MSK0013F",1,"SOLD","Tunis Entrepot DCGP"]
["892160100124728402","ABLOUNA","043007000004","CARTE SIM 4G DATA MULTI SIM","2017-08-07","Franchise MSAKEN","MSK0013F",1,"SOLD","Tunis Entrepot DCGP"]
["","SIGHW","044004000010","Recharge Express","2017-08-01","Franchise MSAKEN","MSK0013F",30,"SOLD","Tunis Entrepot DCGP"]
["","SIGHW","999100001003","SERVICE TRANSFERT CONTACT","2017-08-04","Franchise MSAKEN","MSK0013F",1,"SOLD","Tunis Entrepot DCGP"]
["","SIGHW","044004000010","Recharge Express","2017-08-04","Franchise MSAKEN","MSK0013F",20,"SOLD","Tunis Entrepot DCGP"]
["892160100122555288","SIGHW","043006000003","CARTE SIM 4G PRE MULTI SIM","2017-08-04","Franchise MSAKEN","MSK0013F",1,"SOLD","Tunis Entrepot DCGP"]
["865205023050130","SIGHW","046002000060","DOMINO E5220 WHITE","2017-08-08","Franchise MSAKEN","MSK0013F",1,"SOLD","Tunis Entrepot DCGP"]
["892160100124728411","SIGHW","043007000004","CARTE SIM 4G DATA MULTI SIM","2017-08-08","Franchise MSAKEN","MSK0013F",1,"SOLD","Tunis Entrepot DCGP"]
["","ASLOGHM","044004000010","Recharge Express","2017-08-07","Franchise MSAKEN","MSK0013F",12,"SOLD","Tunis Entrepot DCGP"]
["892160100122555556","RIGRAIET","043006000003","CARTE SIM 4G PRE MULTI SIM","2017-08-08","Franchise MSAKEN","MSK0013F",1,"SOLD","Tunis Entrepot DCGP"]
["","SIGHW","044004000010","Recharge Express","2017-08-08","Franchise MSAKEN","MSK0013F",10,"SOLD","Tunis Entrepot DCGP"]
["","ASLOGHM","044004000010","Recharge Express","2017-08-08","Franchise MSAKEN","MSK0013F",30,"SOLD","Tunis Entrepot DCGP"]
["892160100122555555","RIGRAIET","043006000003","CARTE SIM 4G PRE MULTI SIM","2017-08-08","Franchise MSAKEN","MSK0013F",1,"SOLD","Tunis Entrepot DCGP"]
["","SIGHW","044004000010","Recharge Express","2017-08-07","Franchise MSAKEN","MSK0013F",25,"SOLD","Tunis Entrepot DCGP"]
["892160100122555475","ABLOUNA","043006000003","CARTE SIM 4G PRE MULTI SIM","2017-08-01","Franchise MSAKEN","MSK0013F",1,"SOLD","Tunis Entrepot DCGP"]
["","SIGHW","044004000010","Recharge Express","2017-08-07","Franchise MSAKEN","MSK0013F",1,"SOLD","Tunis Entrepot DCGP"]
["","ABLOUNA","044004000010","Recharge Express","2017-08-04","Franchise MSAKEN","MSK0013F",10,"SOLD","Tunis Entrepot DCGP"]
["892160100122555268","SIGHW","043006000003","CARTE SIM 4G PRE MULTI SIM","2017-08-03","Franchise MSAKEN","MSK0013F",1,"SOLD","Tunis Entrepot DCGP"]
["","ABLOUNA","044004000010","Recharge Express","2017-08-05","Franchise MSAKEN","MSK0013F",1,"SOLD","Tunis Entrepot DCGP"]
["892160100124729104","ABLOUNA","043007000004","CARTE SIM 4G DATA MULTI SIM","2017-08-05","Franchise MSAKEN","MSK0013F",1,"SOLD","Tunis Entrepot DCGP"]
["","SIGHW","999100001003","SERVICE TRANSFERT CONTACT","2017-08-07","Franchise MSAKEN","MSK0013F",1,"SOLD","Tunis Entrepot DCGP"]
["892160100124729109","SIGHW","043007000004","CARTE SIM 4G DATA MULTI SIM","2017-08-07","Franchise MSAKEN","MSK0013F",1,"SOLD","Tunis Entrepot DCGP"]
["892160100122555251","ASLOGHM","043006000003","CARTE SIM 4G PRE MULTI SIM","2017-08-02","Franchise MSAKEN","MSK0013F",1,"SOLD","Tunis Entrepot DCGP"]
["892160100123782007","ASLOGHM","043007000004","CARTE SIM 4G DATA MULTI SIM","2017-08-02","Franchise MSAKEN","MSK0013F",1,"SOLD","Tunis Entrepot DCGP"]
["","ASLOGHM","044004000010","Recharge Express","2017-08-07","Franchise MSAKEN","MSK0013F",1,"SOLD","Tunis Entrepot DCGP"]
["892160100122555630","ASLOGHM","043006000003","CARTE SIM 4G PRE MULTI SIM","2017-08-07","Franchise MSAKEN","MSK0013F",1,"SOLD","Tunis Entrepot DCGP"]
["892160100124729118","SIGHW","043007000004","CARTE SIM 4G DATA MULTI SIM","2017-08-07","Franchise MSAKEN","MSK0013F",1,"SOLD","Tunis Entrepot DCGP"]
["892160100122555620","SIGHW","043006000003","CARTE SIM 4G PRE MULTI SIM","2017-08-07","Franchise MSAKEN","MSK0013F",1,"SOLD","Tunis Entrepot DCGP"]
["892160100122555608","RIGRAIET","043006000003","CARTE SIM 4G PRE MULTI SIM","2017-08-08","Franchise MSAKEN","MSK0013F",1,"SOLD","Tunis Entrepot DCGP"]
["892160100122555297","ASLOGHM","043006000003","CARTE SIM 4G PRE MULTI SIM","2017-08-03","Franchise MSAKEN","MSK0013F",1,"SOLD","Tunis Entrepot DCGP"]
["892160100122555635","SIGHW","043006000003","CARTE SIM 4G PRE MULTI SIM","2017-08-05","Franchise MSAKEN","MSK0013F",1,"SOLD","Tunis Entrepot DCGP"]
["","RIGRAIET","044004000010","Recharge Express","2017-08-07","Franchise MSAKEN","MSK0013F",10,"SOLD","Tunis Entrepot DCGP"]
["892160100122555628","RIGRAIET","043006000003","CARTE SIM 4G PRE MULTI SIM","2017-08-07","Franchise MSAKEN","MSK0013F",1,"SOLD","Tunis Entrepot DCGP"]
["352145081653666","SIGHW","045019001002","TECNO N9 WHITE","2017-08-07","Franchise MSAKEN","MSK0013F",1,"SOLD","Tunis Entrepot DCGP"]
["892160100122555626","SIGHW","043006000003","CARTE SIM 4G PRE MULTI SIM","2017-08-07","Franchise MSAKEN","MSK0013F",1,"SOLD","Tunis Entrepot DCGP"]
["892160100122555627","RIGRAIET","043006000003","CARTE SIM 4G PRE MULTI SIM","2017-08-07","Franchise MSAKEN","MSK0013F",1,"SOLD","Tunis Entrepot DCGP"]
["","RIGRAIET","044004000010","Recharge Express","2017-08-07","Franchise MSAKEN","MSK0013F",30,"SOLD","Tunis Entrepot DCGP"]
["892160100122555593","ASLOGHM","043006000003","CARTE SIM 4G PRE MULTI SIM","2017-08-07","Franchise MSAKEN","MSK0013F",1,"SOLD","Tunis Entrepot DCGP"]
["892160100122555588","ASLOGHM","043006000003","CARTE SIM 4G PRE MULTI SIM","2017-08-07","Franchise MSAKEN","MSK0013F",1,"SOLD","Tunis Entrepot DCGP"]
["865205021176150","ABLOUNA","046002000060","DOMINO E5220 WHITE","2017-08-03","Franchise MSAKEN","MSK0013F",1,"SOLD","Tunis Entrepot DCGP"]
["892160100124729333","ABLOUNA","043007000004","CARTE SIM 4G DATA MULTI SIM","2017-08-03","Franchise MSAKEN","MSK0013F",1,"SOLD","Tunis Entrepot DCGP"]
["","SIGHW","044004000010","Recharge Express","2017-08-03","Franchise MSAKEN","MSK0013F",5,"SOLD","Tunis Entrepot DCGP"]
["","ASLOGHM","044004000010","Recharge Express","2017-08-04","Franchise MSAKEN","MSK0013F",3,"SOLD","Tunis Entrepot DCGP"]
["869907027306873","SIGHW","046002000041","CLE 4G E3372H","2017-08-03","Franchise MSAKEN","MSK0013F",1,"SOLD","Tunis Entrepot DCGP"]
["892160100123782639","SIGHW","043007000004","CARTE SIM 4G DATA MULTI SIM","2017-08-03","Franchise MSAKEN","MSK0013F",1,"SOLD","Tunis Entrepot DCGP"]
["892160100122555317","ABLOUNA","043006000003","CARTE SIM 4G PRE MULTI SIM","2017-08-07","Franchise MSAKEN","MSK0013F",1,"SOLD","Tunis Entrepot DCGP"]
["TG6K17020002854","RIGRAIET","188003000016","Modem Huawei HG532","2017-08-07","Franchise MSAKEN","MSK0013F",1,"SOLD","Tunis Entrepot DCGP"]
["892160100123781998","ABLOUNA","043007000004","CARTE SIM 4G DATA MULTI SIM","2017-08-02","Franchise MSAKEN","MSK0013F",1,"SOLD","Tunis Entrepot DCGP"]
["892160100122555331","SIGHW","043006000003","CARTE SIM 4G PRE MULTI SIM","2017-08-07","Franchise MSAKEN","MSK0013F",1,"SOLD","Tunis Entrepot DCGP"]
["","ASLOGHM","044004000010","Recharge Express","2017-08-08","Franchise MSAKEN","MSK0013F",10,"SOLD","Tunis Entrepot DCGP"]
["892160100124728671","ASLOGHM","043007000004","CARTE SIM 4G DATA MULTI SIM","2017-08-04","Franchise MSAKEN","MSK0013F",1,"SOLD","Tunis Entrepot DCGP"]
["892160100122555293","ASLOGHM","043006000003","CARTE SIM 4G PRE MULTI SIM","2017-08-04","Franchise MSAKEN","MSK0013F",1,"SOLD","Tunis Entrepot DCGP"]
["","ABLOUNA","044004000010","Recharge Express","2017-08-05","Franchise MSAKEN","MSK0013F",1,"SOLD","Tunis Entrepot DCGP"]
["892160100122555322","ABLOUNA","043006000003","CARTE SIM 4G PRE MULTI SIM","2017-08-05","Franchise MSAKEN","MSK0013F",1,"SOLD","Tunis Entrepot DCGP"]
["892160100122555345","ASLOGHM","043006000003","CARTE SIM 4G PRE MULTI SIM","2017-08-05","Franchise MSAKEN","MSK0013F",1,"SOLD","Tunis Entrepot DCGP"]
["892160100124728404","ABLOUNA","043007000004","CARTE SIM 4G DATA MULTI SIM","2017-08-07","Franchise MSAKEN","MSK0013F",1,"SOLD","Tunis Entrepot DCGP"]
["865205021335848","RIGRAIET","046002000060","DOMINO E5220 WHITE","2017-08-01","Franchise MSAKEN","MSK0013F",1,"SOLD","Tunis Entrepot DCGP"]
["892160100123782628","RIGRAIET","043007000004","CARTE SIM 4G DATA MULTI SIM","2017-08-01","Franchise MSAKEN","MSK0013F",1,"SOLD","Tunis Entrepot DCGP"]
["","ABLOUNA","044004000010","Recharge Express","2017-08-05","Franchise MSAKEN","MSK0013F",1,"SOLD","Tunis Entrepot DCGP"]
["865205022182371","RIGRAIET","046002000060","DOMINO E5220 WHITE","2017-08-08","Franchise MSAKEN","MSK0013F",1,"SOLD","Tunis Entrepot DCGP"]
["892160100124728410","RIGRAIET","043007000004","CARTE SIM 4G DATA MULTI SIM","2017-08-08","Franchise MSAKEN","MSK0013F",1,"SOLD","Tunis Entrepot DCGP"]
["892160100122555589","ASLOGHM","043006000003","CARTE SIM 4G PRE MULTI SIM","2017-08-08","Franchise MSAKEN","MSK0013F",1,"SOLD","Tunis Entrepot DCGP"]
["865205022196991","SIGHW","046002000060","DOMINO E5220 WHITE","2017-08-04","Franchise MSAKEN","MSK0013F",1,"SOLD","Tunis Entrepot DCGP"]
["892160100124728666","SIGHW","043007000004","CARTE SIM 4G DATA MULTI SIM","2017-08-04","Franchise MSAKEN","MSK0013F",1,"SOLD","Tunis Entrepot DCGP"]
["","RIGRAIET","999100001003","SERVICE TRANSFERT CONTACT","2017-08-01","Franchise MSAKEN","MSK0013F",1,"SOLD","Tunis Entrepot DCGP"]
["892160100122555474","SIGHW","043006000003","CARTE SIM 4G PRE MULTI SIM","2017-08-02","Franchise MSAKEN","MSK0013F",1,"SOLD","Tunis Entrepot DCGP"]
["892160100122555310","ABLOUNA","043006000003","CARTE SIM 4G PRE MULTI SIM","2017-08-03","Franchise MSAKEN","MSK0013F",1,"SOLD","Tunis Entrepot DCGP"]
["","ABLOUNA","044004000010","Recharge Express","2017-08-03","Franchise MSAKEN","MSK0013F",7,"SOLD","Tunis Entrepot DCGP"]
["892160100122555274","SIGHW","043006000003","CARTE SIM 4G PRE MULTI SIM","2017-08-03","Franchise MSAKEN","MSK0013F",1,"SOLD","Tunis Entrepot DCGP"]
["892160100122555249","SIGHW","043006000003","CARTE SIM 4G PRE MULTI SIM","2017-08-04","Franchise MSAKEN","MSK0013F",1,"SOLD","Tunis Entrepot DCGP"]
["","SIGHW","044004000010","Recharge Express","2017-08-02","Franchise MSAKEN","MSK0013F",5,"SOLD","Tunis Entrepot DCGP"]
["892160100123782640","SIGHW","043007000004","CARTE SIM 4G DATA MULTI SIM","2017-08-01","Franchise MSAKEN","MSK0013F",1,"SOLD","Tunis Entrepot DCGP"]
["","ABLOUNA","044004000010","Recharge Express","2017-08-05","Franchise MSAKEN","MSK0013F",5,"SOLD","Tunis Entrepot DCGP"]
["892160100124729108","SIGHW","043007000004","CARTE SIM 4G DATA MULTI SIM","2017-08-07","Franchise MSAKEN","MSK0013F",1,"SOLD","Tunis Entrepot DCGP"]
["892160100122555257","ABLOUNA","043006000003","CARTE SIM 4G PRE MULTI SIM","2017-08-03","Franchise MSAKEN","MSK0013F",1,"SOLD","Tunis Entrepot DCGP"]
["","ABLOUNA","044004000010","Recharge Express","2017-08-04","Franchise MSAKEN","MSK0013F",5,"SOLD","Tunis Entrepot DCGP"]
["","SIGHW","044004000010","Recharge Express","2017-08-08","Franchise MSAKEN","MSK0013F",5,"SOLD","Tunis Entrepot DCGP"]
["892160100122555640","SIGHW","043006000003","CARTE SIM 4G PRE MULTI SIM","2017-08-08","Franchise MSAKEN","MSK0013F",1,"SOLD","Tunis Entrepot DCGP"]
["892160100122555321","ABLOUNA","043006000003","CARTE SIM 4G PRE MULTI SIM","2017-08-05","Franchise MSAKEN","MSK0013F",1,"SOLD","Tunis Entrepot DCGP"]
["","SIGHW","044004000010","Recharge Express","2017-08-07","Franchise MSAKEN","MSK0013F",5,"SOLD","Tunis Entrepot DCGP"]
["892160100122555617","SIGHW","043006000003","CARTE SIM 4G PRE MULTI SIM","2017-08-07","Franchise MSAKEN","MSK0013F",1,"SOLD","Tunis Entrepot DCGP"]
["","ASLOGHM","044004000010","Recharge Express","2017-08-07","Franchise MSAKEN","MSK0013F",1,"SOLD","Tunis Entrepot DCGP"]
["","ABLOUNA","044004000010","Recharge Express","2017-08-05","Franchise MSAKEN","MSK0013F",10,"SOLD","Tunis Entrepot DCGP"]
["867424023062098","ASLOGHM","046002000034","CLE 3G E3531","2017-08-08","Franchise MSAKEN","MSK0013F",1,"SOLD","Tunis Entrepot DCGP"]
["892160100124729120","ASLOGHM","043007000004","CARTE SIM 4G DATA MULTI SIM","2017-08-08","Franchise MSAKEN","MSK0013F",1,"SOLD","Tunis Entrepot DCGP"]
["892160100124728409","RIGRAIET","043007000004","CARTE SIM 4G DATA MULTI SIM","2017-08-08","Franchise MSAKEN","MSK0013F",1,"SOLD","Tunis Entrepot DCGP"]
["892160100117566056","SIGHW","043006000007","CARTE SIM 4G POST MULTI SIM","2017-08-04","Franchise MSAKEN","MSK0013F",1,"SOLD","Tunis Entrepot DCGP"]
["892160100117566154","SIGHW","043006000007","CARTE SIM 4G POST MULTI SIM","2017-08-04","Franchise MSAKEN","MSK0013F",1,"SOLD","Tunis Entrepot DCGP"]
["892160100117566155","SIGHW","043006000007","CARTE SIM 4G POST MULTI SIM","2017-08-04","Franchise MSAKEN","MSK0013F",1,"SOLD","Tunis Entrepot DCGP"]
["892160100117566153","SIGHW","043006000007","CARTE SIM 4G POST MULTI SIM","2017-08-04","Franchise MSAKEN","MSK0013F",1,"SOLD","Tunis Entrepot DCGP"]
["","ABLOUNA","044004000010","Recharge Express","2017-08-01","Franchise MSAKEN","MSK0013F",5,"SOLD","Tunis Entrepot DCGP"]
["892160100122555541","RIGRAIET","043006000003","CARTE SIM 4G PRE MULTI SIM","2017-08-01","Franchise MSAKEN","MSK0013F",1,"SOLD","Tunis Entrepot DCGP"]
["","SIGHW","044004000010","Recharge Express","2017-08-07","Franchise MSAKEN","MSK0013F",5,"SOLD","Tunis Entrepot DCGP"]
["","ASLOGHM","044004000010","Recharge Express","2017-08-01","Franchise MSAKEN","MSK0013F",1,"SOLD","Tunis Entrepot DCGP"]
["892160100123469130","ABLOUNA","043001000114","CARTE PREACTIVEE VD","2017-08-01","Franchise MSAKEN","MSK0013F",1,"SOLD","Tunis Entrepot DCGP"]
["","RIGRAIET","044004000010","Recharge Express","2017-08-01","Franchise MSAKEN","MSK0013F",30,"SOLD","Tunis Entrepot DCGP"]
["","RIGRAIET","044004000010","Recharge Express","2017-08-08","Franchise MSAKEN","MSK0013F",10,"SOLD","Tunis Entrepot DCGP"]
["865205021721856","ABLOUNA","046002000060","DOMINO E5220 WHITE","2017-08-04","Franchise MSAKEN","MSK0013F",1,"SOLD","Tunis Entrepot DCGP"]
["892160100124728664","ABLOUNA","043007000004","CARTE SIM 4G DATA MULTI SIM","2017-08-04","Franchise MSAKEN","MSK0013F",1,"SOLD","Tunis Entrepot DCGP"]
["892160100122555289","SIGHW","043006000003","CARTE SIM 4G PRE MULTI SIM","2017-08-04","Franchise MSAKEN","MSK0013F",1,"SOLD","Tunis Entrepot DCGP"]
["","ASLOGHM","044004000010","Recharge Express","2017-08-05","Franchise MSAKEN","MSK0013F",9,"SOLD","Tunis Entrepot DCGP"]
["892160100124728406","RIGRAIET","043007000004","CARTE SIM 4G DATA MULTI SIM","2017-08-08","Franchise MSAKEN","MSK0013F",1,"SOLD","Tunis Entrepot DCGP"]
["892160100122555641","SIGHW","043006000003","CARTE SIM 4G PRE MULTI SIM","2017-08-08","Franchise MSAKEN","MSK0013F",1,"SOLD","Tunis Entrepot DCGP"]
["892160100124729114","RIGRAIET","043007000004","CARTE SIM 4G DATA MULTI SIM","2017-08-07","Franchise MSAKEN","MSK0013F",1,"SOLD","Tunis Entrepot DCGP"]
["","SIGHW","044004000010","Recharge Express","2017-08-07","Franchise MSAKEN","MSK0013F",25,"SOLD","Tunis Entrepot DCGP"]
["","RIGRAIET","044004000010","Recharge Express","2017-08-07","Franchise MSAKEN","MSK0013F",5,"SOLD","Tunis Entrepot DCGP"]
["","RIGRAIET","044004000010","Recharge Express","2017-08-07","Franchise MSAKEN","MSK0013F",3,"SOLD","Tunis Entrepot DCGP"]
["","ASLOGHM","044004000010","Recharge Express","2017-08-08","Franchise MSAKEN","MSK0013F",20,"SOLD","Tunis Entrepot DCGP"]
["892160100122555585","ASLOGHM","043006000003","CARTE SIM 4G PRE MULTI SIM","2017-08-08","Franchise MSAKEN","MSK0013F",1,"SOLD","Tunis Entrepot DCGP"]
["892160100124728407","SIGHW","043007000004","CARTE SIM 4G DATA MULTI SIM","2017-08-08","Franchise MSAKEN","MSK0013F",1,"SOLD","Tunis Entrepot DCGP"]
["892160100122555318","ABLOUNA","043006000003","CARTE SIM 4G PRE MULTI SIM","2017-08-05","Franchise MSAKEN","MSK0013F",1,"SOLD","Tunis Entrepot DCGP"]
["892160100122555284","SIGHW","043006000003","CARTE SIM 4G PRE MULTI SIM","2017-08-04","Franchise MSAKEN","MSK0013F",1,"SOLD","Tunis Entrepot DCGP"]
["892160100122555621","SIGHW","043006000003","CARTE SIM 4G PRE MULTI SIM","2017-08-07","Franchise MSAKEN","MSK0013F",1,"SOLD","Tunis Entrepot DCGP"]
["","ABLOUNA","044004000010","Recharge Express","2017-08-07","Franchise MSAKEN","MSK0013F",5,"SOLD","Tunis Entrepot DCGP"]
["892160100123469141","ABLOUNA","043001000114","CARTE PREACTIVEE VD","2017-08-07","Franchise MSAKEN","MSK0013F",1,"SOLD","Tunis Entrepot DCGP"]
["","SIGHW","044004000010","Recharge Express","2017-08-07","Franchise MSAKEN","MSK0013F",30,"SOLD","Tunis Entrepot DCGP"]
["892160100122555587","ASLOGHM","043006000003","CARTE SIM 4G PRE MULTI SIM","2017-08-08","Franchise MSAKEN","MSK0013F",1,"SOLD","Tunis Entrepot DCGP"]
["","SIGHW","044004000010","Recharge Express","2017-08-07","Franchise MSAKEN","MSK0013F",5,"SOLD","Tunis Entrepot DCGP"]
["892160100122555483","ABLOUNA","043006000003","CARTE SIM 4G PRE MULTI SIM","2017-08-01","Franchise MSAKEN","MSK0013F",1,"SOLD","Tunis Entrepot DCGP"]
["892160100122555594","RIGRAIET","043006000003","CARTE SIM 4G PRE MULTI SIM","2017-08-07","Franchise MSAKEN","MSK0013F",1,"SOLD","Tunis Entrepot DCGP"]
["","SIGHW","044004000010","Recharge Express","2017-08-07","Franchise MSAKEN","MSK0013F",15,"SOLD","Tunis Entrepot DCGP"]
["","SIGHW","044004000010","Recharge Express","2017-08-07","Franchise MSAKEN","MSK0013F",5,"SOLD","Tunis Entrepot DCGP"]
["","ABLOUNA","044004000010","Recharge Express","2017-08-07","Franchise MSAKEN","MSK0013F",12,"SOLD","Tunis Entrepot DCGP"]
["892160100124729116","SIGHW","043007000004","CARTE SIM 4G DATA MULTI SIM","2017-08-07","Franchise MSAKEN","MSK0013F",1,"SOLD","Tunis Entrepot DCGP"]
["892160100122555348","ASLOGHM","043006000003","CARTE SIM 4G PRE MULTI SIM","2017-08-05","Franchise MSAKEN","MSK0013F",1,"SOLD","Tunis Entrepot DCGP"]
["892160100122555266","SIGHW","043006000003","CARTE SIM 4G PRE MULTI SIM","2017-08-03","Franchise MSAKEN","MSK0013F",1,"SOLD","Tunis Entrepot DCGP"]
["","SIGHW","044004000010","Recharge Express","2017-08-03","Franchise MSAKEN","MSK0013F",10,"SOLD","Tunis Entrepot DCGP"]
["","ASLOGHM","044004000010","Recharge Express","2017-08-03","Franchise MSAKEN","MSK0013F",4,"SOLD","Tunis Entrepot DCGP"]
["892160100122555484","ABLOUNA","043006000003","CARTE SIM 4G PRE MULTI SIM","2017-08-01","Franchise MSAKEN","MSK0013F",1,"SOLD","Tunis Entrepot DCGP"]
["892160100122555520","SIGHW","043006000003","CARTE SIM 4G PRE MULTI SIM","2017-08-01","Franchise MSAKEN","MSK0013F",1,"SOLD","Tunis Entrepot DCGP"]
["","ASLOGHM","044004000010","Recharge Express","2017-08-07","Franchise MSAKEN","MSK0013F",25,"SOLD","Tunis Entrepot DCGP"]
["863605032650584","ASLOGHM","085001000011","FLYBOX B310","2017-08-07","Franchise MSAKEN","MSK0013F",1,"SOLD","Tunis Entrepot DCGP"]
["892160100206713359","ASLOGHM","043008000001","CARTE SIM 4G FLYBOX","2017-08-07","Franchise MSAKEN","MSK0013F",1,"SOLD","Tunis Entrepot DCGP"]
["","ASLOGHM","044004000010","Recharge Express","2017-08-03","Franchise MSAKEN","MSK0013F",5,"SOLD","Tunis Entrepot DCGP"]
["892160100123782011","ASLOGHM","043007000004","CARTE SIM 4G DATA MULTI SIM","2017-08-03","Franchise MSAKEN","MSK0013F",1,"SOLD","Tunis Entrepot DCGP"]
["","ASLOGHM","044004000010","Recharge Express","2017-08-05","Franchise MSAKEN","MSK0013F",10,"SOLD","Tunis Entrepot DCGP"]
["","ABLOUNA","044004000010","Recharge Express","2017-08-01","Franchise MSAKEN","MSK0013F",10,"SOLD","Tunis Entrepot DCGP"]
["892160100122555283","ASLOGHM","043006000003","CARTE SIM 4G PRE MULTI SIM","2017-08-04","Franchise MSAKEN","MSK0013F",1,"SOLD","Tunis Entrepot DCGP"]
["","SIGHW","044004000010","Recharge Express","2017-08-01","Franchise MSAKEN","MSK0013F",12,"SOLD","Tunis Entrepot DCGP"]
["","RIGRAIET","999100001003","SERVICE TRANSFERT CONTACT","2017-08-08","Franchise MSAKEN","MSK0013F",1,"SOLD","Tunis Entrepot DCGP"]
["","ABLOUNA","044004000010","Recharge Express","2017-08-07","Franchise MSAKEN","MSK0013F",12,"SOLD","Tunis Entrepot DCGP"]
["","SIGHW","044004000010","Recharge Express","2017-08-05","Franchise MSAKEN","MSK0013F",12,"SOLD","Tunis Entrepot DCGP"]
["892160100123469145","ABLOUNA","043001000114","CARTE PREACTIVEE VD","2017-08-05","Franchise MSAKEN","MSK0013F",1,"SOLD","Tunis Entrepot DCGP"]
["892160100122555584","ASLOGHM","043006000003","CARTE SIM 4G PRE MULTI SIM","2017-08-07","Franchise MSAKEN","MSK0013F",1,"SOLD","Tunis Entrepot DCGP"]
["","SIGHW","999100001003","SERVICE TRANSFERT CONTACT","2017-08-04","Franchise MSAKEN","MSK0013F",1,"SOLD","Tunis Entrepot DCGP"]
["892160100122555303","SIGHW","043006000003","CARTE SIM 4G PRE MULTI SIM","2017-08-04","Franchise MSAKEN","MSK0013F",1,"SOLD","Tunis Entrepot DCGP"]
["892160100122555311","ABLOUNA","043006000003","CARTE SIM 4G PRE MULTI SIM","2017-08-04","Franchise MSAKEN","MSK0013F",1,"SOLD","Tunis Entrepot DCGP"]
["","SIGHW","044004000010","Recharge Express","2017-08-02","Franchise MSAKEN","MSK0013F",5,"SOLD","Tunis Entrepot DCGP"]
["","SIGHW","044004000010","Recharge Express","2017-08-07","Franchise MSAKEN","MSK0013F",12,"SOLD","Tunis Entrepot DCGP"]
["","RIGRAIET","044004000010","Recharge Express","2017-08-07","Franchise MSAKEN","MSK0013F",30,"SOLD","Tunis Entrepot DCGP"]
["","ASLOGHM","044004000010","Recharge Express","2017-08-07","Franchise MSAKEN","MSK0013F",20,"SOLD","Tunis Entrepot DCGP"]
["892160100122555518","SIGHW","043006000003","CARTE SIM 4G PRE MULTI SIM","2017-08-01","Franchise MSAKEN","MSK0013F",1,"SOLD","Tunis Entrepot DCGP"]
["892160100122555320","ABLOUNA","043006000003","CARTE SIM 4G PRE MULTI SIM","2017-08-05","Franchise MSAKEN","MSK0013F",1,"SOLD","Tunis Entrepot DCGP"]
["","ASLOGHM","044004000010","Recharge Express","2017-08-04","Franchise MSAKEN","MSK0013F",5,"SOLD","Tunis Entrepot DCGP"]
["892160100122555340","ASLOGHM","043006000003","CARTE SIM 4G PRE MULTI SIM","2017-08-04","Franchise MSAKEN","MSK0013F",1,"SOLD","Tunis Entrepot DCGP"]
["892160100124728676","ASLOGHM","043007000004","CARTE SIM 4G DATA MULTI SIM","2017-08-04","Franchise MSAKEN","MSK0013F",1,"SOLD","Tunis Entrepot DCGP"]
["","ASLOGHM","044004000010","Recharge Express","2017-08-04","Franchise MSAKEN","MSK0013F",10,"SOLD","Tunis Entrepot DCGP"]
["892160100122555337","ASLOGHM","043006000003","CARTE SIM 4G PRE MULTI SIM","2017-08-04","Franchise MSAKEN","MSK0013F",1,"SOLD","Tunis Entrepot DCGP"]
["892160100122555338","ASLOGHM","043006000003","CARTE SIM 4G PRE MULTI SIM","2017-08-04","Franchise MSAKEN","MSK0013F",1,"SOLD","Tunis Entrepot DCGP"]
["892160100122555336","ASLOGHM","043006000003","CARTE SIM 4G PRE MULTI SIM","2017-08-04","Franchise MSAKEN","MSK0013F",1,"SOLD","Tunis Entrepot DCGP"]
["892160100122555614","SIGHW","043006000003","CARTE SIM 4G PRE MULTI SIM","2017-08-07","Franchise MSAKEN","MSK0013F",1,"SOLD","Tunis Entrepot DCGP"]
["","ASLOGHM","044004000010","Recharge Express","2017-08-07","Franchise MSAKEN","MSK0013F",5,"SOLD","Tunis Entrepot DCGP"]
["892160100124728680","ASLOGHM","043007000004","CARTE SIM 4G DATA MULTI SIM","2017-08-05","Franchise MSAKEN","MSK0013F",1,"SOLD","Tunis Entrepot DCGP"]
["892160100122555298","ASLOGHM","043006000003","CARTE SIM 4G PRE MULTI SIM","2017-08-03","Franchise MSAKEN","MSK0013F",1,"SOLD","Tunis Entrepot DCGP"]
["892160100122555514","SIGHW","043006000003","CARTE SIM 4G PRE MULTI SIM","2017-08-01","Franchise MSAKEN","MSK0013F",1,"SOLD","Tunis Entrepot DCGP"]
["892160100122555347","SIGHW","043006000003","CARTE SIM 4G PRE MULTI SIM","2017-08-04","Franchise MSAKEN","MSK0013F",1,"SOLD","Tunis Entrepot DCGP"]
["863980039354674","SIGHW","045013024001","HUAWEI HUAWEI Y6-II BLACK","2017-08-04","Franchise MSAKEN","MSK0013F",1,"SOLD","Tunis Entrepot DCGP"]
["892160100122555509","RIGRAIET","043006000003","CARTE SIM 4G PRE MULTI SIM","2017-08-01","Franchise MSAKEN","MSK0013F",1,"SOLD","Tunis Entrepot DCGP"]
["352770077425165","SIGHW","045022002001","ORANGE IT 2110","2017-08-02","Franchise MSAKEN","MSK0013F",1,"SOLD","Tunis Entrepot DCGP"]
["892160100122555473","SIGHW","043006000003","CARTE SIM 4G PRE MULTI SIM","2017-08-02","Franchise MSAKEN","MSK0013F",1,"SOLD","Tunis Entrepot DCGP"]
["","ABLOUNA","044004000010","Recharge Express","2017-08-01","Franchise MSAKEN","MSK0013F",20,"SOLD","Tunis Entrepot DCGP"]
["892160100122555499","ASLOGHM","043006000003","CARTE SIM 4G PRE MULTI SIM","2017-08-01","Franchise MSAKEN","MSK0013F",1,"SOLD","Tunis Entrepot DCGP"]
["892160100124728679","ASLOGHM","043007000004","CARTE SIM 4G DATA MULTI SIM","2017-08-05","Franchise MSAKEN","MSK0013F",1,"SOLD","Tunis Entrepot DCGP"]
["","ABLOUNA","044004000010","Recharge Express","2017-08-05","Franchise MSAKEN","MSK0013F",30,"SOLD","Tunis Entrepot DCGP"]
["","ABLOUNA","044004000010","Recharge Express","2017-08-05","Franchise MSAKEN","MSK0013F",5,"SOLD","Tunis Entrepot DCGP"]
["867424023073467","ASLOGHM","046002000034","CLE 3G E3531","2017-08-03","Franchise MSAKEN","MSK0013F",1,"SOLD","Tunis Entrepot DCGP"]
["892160100123782010","ASLOGHM","043007000004","CARTE SIM 4G DATA MULTI SIM","2017-08-03","Franchise MSAKEN","MSK0013F",1,"SOLD","Tunis Entrepot DCGP"]
["","SIGHW","044004000010","Recharge Express","2017-08-01","Franchise MSAKEN","MSK0013F",5,"SOLD","Tunis Entrepot DCGP"]
["865205020959119","SIGHW","046002000060","DOMINO E5220 WHITE","2017-08-01","Franchise MSAKEN","MSK0013F",1,"SOLD","Tunis Entrepot DCGP"]
["892160100123782020","SIGHW","043007000004","CARTE SIM 4G DATA MULTI SIM","2017-08-01","Franchise MSAKEN","MSK0013F",1,"SOLD","Tunis Entrepot DCGP"]
["892160100123469140","ABLOUNA","043001000114","CARTE PREACTIVEE VD","2017-08-07","Franchise MSAKEN","MSK0013F",1,"SOLD","Tunis Entrepot DCGP"]
["892160100123469139","ABLOUNA","043001000114","CARTE PREACTIVEE VD","2017-08-07","Franchise MSAKEN","MSK0013F",1,"SOLD","Tunis Entrepot DCGP"]
["357055085089376","SIGHW","083001053002","SAMSUNG J7 Prime 4G GOLD","2017-08-05","Franchise MSAKEN","MSK0013F",1,"SOLD","Tunis Entrepot DCGP"]
["892160100122555632","SIGHW","043006000003","CARTE SIM 4G PRE MULTI SIM","2017-08-05","Franchise MSAKEN","MSK0013F",1,"SOLD","Tunis Entrepot DCGP"]
["892160100122555528","ABLOUNA","043006000003","CARTE SIM 4G PRE MULTI SIM","2017-08-05","Franchise MSAKEN","MSK0013F",1,"SOLD","Tunis Entrepot DCGP"]
["892160100122555476","ABLOUNA","043006000003","CARTE SIM 4G PRE MULTI SIM","2017-08-05","Franchise MSAKEN","MSK0013F",1,"SOLD","Tunis Entrepot DCGP"]
["892160100122555522","ABLOUNA","043006000003","CARTE SIM 4G PRE MULTI SIM","2017-08-01","Franchise MSAKEN","MSK0013F",1,"SOLD","Tunis Entrepot DCGP"]
["","ASLOGHM","044004000010","Recharge Express","2017-08-02","Franchise MSAKEN","MSK0013F",30,"SOLD","Tunis Entrepot DCGP"]
["892160100122555513","RIGRAIET","043006000003","CARTE SIM 4G PRE MULTI SIM","2017-08-01","Franchise MSAKEN","MSK0013F",1,"SOLD","Tunis Entrepot DCGP"]
["","ABLOUNA","044004000010","Recharge Express","2017-08-01","Franchise MSAKEN","MSK0013F",10,"SOLD","Tunis Entrepot DCGP"]
["","ASLOGHM","044004000010","Recharge Express","2017-08-01","Franchise MSAKEN","MSK0013F",5,"SOLD","Tunis Entrepot DCGP"]
["892160100122555452","ASLOGHM","043006000003","CARTE SIM 4G PRE MULTI SIM","2017-08-01","Franchise MSAKEN","MSK0013F",1,"SOLD","Tunis Entrepot DCGP"]
["892160100122555450","ASLOGHM","043006000003","CARTE SIM 4G PRE MULTI SIM","2017-08-01","Franchise MSAKEN","MSK0013F",1,"SOLD","Tunis Entrepot DCGP"]
["892160100122555451","ASLOGHM","043006000003","CARTE SIM 4G PRE MULTI SIM","2017-08-01","Franchise MSAKEN","MSK0013F",1,"SOLD","Tunis Entrepot DCGP"]
["","ABLOUNA","044004000010","Recharge Express","2017-08-01","Franchise MSAKEN","MSK0013F",5,"SOLD","Tunis Entrepot DCGP"]
["","ABLOUNA","044004000010","Recharge Express","2017-08-05","Franchise MSAKEN","MSK0013F",5,"SOLD","Tunis Entrepot DCGP"]
["892160100123469149","ABLOUNA","043001000114","CARTE PREACTIVEE VD","2017-08-05","Franchise MSAKEN","MSK0013F",1,"SOLD","Tunis Entrepot DCGP"]
["892160100122555524","ABLOUNA","043006000003","CARTE SIM 4G PRE MULTI SIM","2017-08-01","Franchise MSAKEN","MSK0013F",1,"SOLD","Tunis Entrepot DCGP"]
["892160100122555294","ASLOGHM","043006000003","CARTE SIM 4G PRE MULTI SIM","2017-08-03","Franchise MSAKEN","MSK0013F",1,"SOLD","Tunis Entrepot DCGP"]
["892160100124729337","ABLOUNA","043007000004","CARTE SIM 4G DATA MULTI SIM","2017-08-03","Franchise MSAKEN","MSK0013F",1,"SOLD","Tunis Entrepot DCGP"]
["892160100122555644","RIGRAIET","043006000003","CARTE SIM 4G PRE MULTI SIM","2017-08-07","Franchise MSAKEN","MSK0013F",1,"SOLD","Tunis Entrepot DCGP"]
["","RIGRAIET","044004000010","Recharge Express","2017-08-07","Franchise MSAKEN","MSK0013F",20,"SOLD","Tunis Entrepot DCGP"]
["892160100122555633","SIGHW","043006000003","CARTE SIM 4G PRE MULTI SIM","2017-08-05","Franchise MSAKEN","MSK0013F",1,"SOLD","Tunis Entrepot DCGP"]
["892160100123469134","ABLOUNA","043001000114","CARTE PREACTIVEE VD","2017-08-05","Franchise MSAKEN","MSK0013F",1,"SOLD","Tunis Entrepot DCGP"]
["864526526789770","SIGHW","079001000057","Orange TAB 7 - 4G NOIR","2017-08-05","Franchise MSAKEN","MSK0013F",1,"SOLD","Tunis Entrepot DCGP"]
["892160100124729103","SIGHW","043007000004","CARTE SIM 4G DATA MULTI SIM","2017-08-05","Franchise MSAKEN","MSK0013F",1,"SOLD","Tunis Entrepot DCGP"]
["","SIGHW","044004000010","Recharge Express","2017-08-05","Franchise MSAKEN","MSK0013F",1,"SOLD","Tunis Entrepot DCGP"]
["","ASLOGHM","044004000010","Recharge Express","2017-08-05","Franchise MSAKEN","MSK0013F",30,"SOLD","Tunis Entrepot DCGP"]
["892160100122555262","ABLOUNA","043006000003","CARTE SIM 4G PRE MULTI SIM","2017-08-03","Franchise MSAKEN","MSK0013F",1,"SOLD","Tunis Entrepot DCGP"]
["892160100122555253","SIGHW","043006000003","CARTE SIM 4G PRE MULTI SIM","2017-08-03","Franchise MSAKEN","MSK0013F",1,"SOLD","Tunis Entrepot DCGP"]
["","SIGHW","044004000010","Recharge Express","2017-08-03","Franchise MSAKEN","MSK0013F",2,"SOLD","Tunis Entrepot DCGP"]
["","ASLOGHM","044004000010","Recharge Express","2017-08-03","Franchise MSAKEN","MSK0013F",1,"SOLD","Tunis Entrepot DCGP"]
["892160100122555252","ASLOGHM","043006000003","CARTE SIM 4G PRE MULTI SIM","2017-08-03","Franchise MSAKEN","MSK0013F",1,"SOLD","Tunis Entrepot DCGP"]
["","SIGHW","044004000010","Recharge Express","2017-08-07","Franchise MSAKEN","MSK0013F",10,"SOLD","Tunis Entrepot DCGP"]
["892160100124729115","SIGHW","043007000004","CARTE SIM 4G DATA MULTI SIM","2017-08-07","Franchise MSAKEN","MSK0013F",1,"SOLD","Tunis Entrepot DCGP"]
["892160100122555612","RIGRAIET","043006000003","CARTE SIM 4G PRE MULTI SIM","2017-08-07","Franchise MSAKEN","MSK0013F",1,"SOLD","Tunis Entrepot DCGP"]
["865205021653067","SIGHW","046002000060","DOMINO E5220 WHITE","2017-08-02","Franchise MSAKEN","MSK0013F",1,"SOLD","Tunis Entrepot DCGP"]
["892160100123782016","SIGHW","043007000004","CARTE SIM 4G DATA MULTI SIM","2017-08-02","Franchise MSAKEN","MSK0013F",1,"SOLD","Tunis Entrepot DCGP"]
["","SIGHW","044004000010","Recharge Express","2017-08-07","Franchise MSAKEN","MSK0013F",5,"SOLD","Tunis Entrepot DCGP"]
["892160100122555645","SIGHW","043006000003","CARTE SIM 4G PRE MULTI SIM","2017-08-07","Franchise MSAKEN","MSK0013F",1,"SOLD","Tunis Entrepot DCGP"]
["","SIGHW","044004000010","Recharge Express","2017-08-07","Franchise MSAKEN","MSK0013F",30,"SOLD","Tunis Entrepot DCGP"]
["892160100122555646","SIGHW","043006000003","CARTE SIM 4G PRE MULTI SIM","2017-08-07","Franchise MSAKEN","MSK0013F",1,"SOLD","Tunis Entrepot DCGP"]
["892160100122555323","ABLOUNA","043006000003","CARTE SIM 4G PRE MULTI SIM","2017-08-05","Franchise MSAKEN","MSK0013F",1,"SOLD","Tunis Entrepot DCGP"]
["","ABLOUNA","044004000010","Recharge Express","2017-08-05","Franchise MSAKEN","MSK0013F",10,"SOLD","Tunis Entrepot DCGP"]
["","ASLOGHM","044004000010","Recharge Express","2017-08-05","Franchise MSAKEN","MSK0013F",10,"SOLD","Tunis Entrepot DCGP"]
["","RIGRAIET","044004000010","Recharge Express","2017-08-01","Franchise MSAKEN","MSK0013F",12,"SOLD","Tunis Entrepot DCGP"]
["","ASLOGHM","044004000010","Recharge Express","2017-08-02","Franchise MSAKEN","MSK0013F",10,"SOLD","Tunis Entrepot DCGP"]
["","ABLOUNA","044004000010","Recharge Express","2017-08-01","Franchise MSAKEN","MSK0013F",1,"SOLD","Tunis Entrepot DCGP"]
["","SIGHW","044004000010","Recharge Express","2017-08-05","Franchise MSAKEN","MSK0013F",10,"SOLD","Tunis Entrepot DCGP"]
["892160100122555316","ABLOUNA","043006000003","CARTE SIM 4G PRE MULTI SIM","2017-08-05","Franchise MSAKEN","MSK0013F",1,"SOLD","Tunis Entrepot DCGP"]
["892160100122555489","SIGHW","043006000003","CARTE SIM 4G PRE MULTI SIM","2017-08-02","Franchise MSAKEN","MSK0013F",1,"SOLD","Tunis Entrepot DCGP"]
["892160100122555490","SIGHW","043006000003","CARTE SIM 4G PRE MULTI SIM","2017-08-02","Franchise MSAKEN","MSK0013F",1,"SOLD","Tunis Entrepot DCGP"]
["892160100123782004","SIGHW","043007000004","CARTE SIM 4G DATA MULTI SIM","2017-08-02","Franchise MSAKEN","MSK0013F",1,"SOLD","Tunis Entrepot DCGP"]
["892160100122555638","ASLOGHM","043006000003","CARTE SIM 4G PRE MULTI SIM","2017-08-07","Franchise MSAKEN","MSK0013F",1,"SOLD","Tunis Entrepot DCGP"]
["","ASLOGHM","044004000010","Recharge Express","2017-08-04","Franchise MSAKEN","MSK0013F",5,"SOLD","Tunis Entrepot DCGP"]
["892160100122555341","ASLOGHM","043006000003","CARTE SIM 4G PRE MULTI SIM","2017-08-04","Franchise MSAKEN","MSK0013F",1,"SOLD","Tunis Entrepot DCGP"]
["","ABLOUNA","044004000010","Recharge Express","2017-08-04","Franchise MSAKEN","MSK0013F",10,"SOLD","Tunis Entrepot DCGP"]
["","ABLOUNA","044004000010","Recharge Express","2017-08-04","Franchise MSAKEN","MSK0013F",8,"SOLD","Tunis Entrepot DCGP"]
["892160100122555339","ASLOGHM","043006000003","CARTE SIM 4G PRE MULTI SIM","2017-08-04","Franchise MSAKEN","MSK0013F",1,"SOLD","Tunis Entrepot DCGP"]
["892160100124728675","ASLOGHM","043007000004","CARTE SIM 4G DATA MULTI SIM","2017-08-04","Franchise MSAKEN","MSK0013F",1,"SOLD","Tunis Entrepot DCGP"]
["","ASLOGHM","044004000010","Recharge Express","2017-08-04","Franchise MSAKEN","MSK0013F",30,"SOLD","Tunis Entrepot DCGP"]
["892160100122555314","ABLOUNA","043006000003","CARTE SIM 4G PRE MULTI SIM","2017-08-04","Franchise MSAKEN","MSK0013F",1,"SOLD","Tunis Entrepot DCGP"]
["","SIGHW","044004000010","Recharge Express","2017-08-04","Franchise MSAKEN","MSK0013F",5,"SOLD","Tunis Entrepot DCGP"]
["892160100124728669","SIGHW","043007000004","CARTE SIM 4G DATA MULTI SIM","2017-08-04","Franchise MSAKEN","MSK0013F",1,"SOLD","Tunis Entrepot DCGP"]
["892160100122555493","RIGRAIET","043006000003","CARTE SIM 4G PRE MULTI SIM","2017-08-02","Franchise MSAKEN","MSK0013F",1,"SOLD","Tunis Entrepot DCGP"]
["TG6K17020002856","SIGHW","188003000016","Modem Huawei HG532","2017-08-05","Franchise MSAKEN","MSK0013F",1,"SOLD","Tunis Entrepot DCGP"]
["","ASLOGHM","044004000010","Recharge Express","2017-08-04","Franchise MSAKEN","MSK0013F",5,"SOLD","Tunis Entrepot DCGP"]
["","RIGRAIET","999100001003","SERVICE TRANSFERT CONTACT","2017-08-02","Franchise MSAKEN","MSK0013F",1,"SOLD","Tunis Entrepot DCGP"]
["892160100122555492","RIGRAIET","043006000003","CARTE SIM 4G PRE MULTI SIM","2017-08-02","Franchise MSAKEN","MSK0013F",1,"SOLD","Tunis Entrepot DCGP"]
["","SIGHW","044004000010","Recharge Express","2017-08-05","Franchise MSAKEN","MSK0013F",5,"SOLD","Tunis Entrepot DCGP"]
["","SIGHW","999100001003","SERVICE TRANSFERT CONTACT","2017-08-05","Franchise MSAKEN","MSK0013F",1,"SOLD","Tunis Entrepot DCGP"]
["","SIGHW","044004000010","Recharge Express","2017-08-04","Franchise MSAKEN","MSK0013F",5,"SOLD","Tunis Entrepot DCGP"]
["892160100122555279","SIGHW","043006000003","CARTE SIM 4G PRE MULTI SIM","2017-08-04","Franchise MSAKEN","MSK0013F",1,"SOLD","Tunis Entrepot DCGP"]
["","RIGRAIET","044004000010","Recharge Express","2017-08-08","Franchise MSAKEN","MSK0013F",12,"SOLD","Tunis Entrepot DCGP"]
["865205023041295","ASLOGHM","046002000060","DOMINO E5220 WHITE","2017-08-05","Franchise MSAKEN","MSK0013F",1,"SOLD","Tunis Entrepot DCGP"]
["892160100124729101","ASLOGHM","043007000004","CARTE SIM 4G DATA MULTI SIM","2017-08-05","Franchise MSAKEN","MSK0013F",1,"SOLD","Tunis Entrepot DCGP"]
["892160100122555495","RIGRAIET","043006000003","CARTE SIM 4G PRE MULTI SIM","2017-08-02","Franchise MSAKEN","MSK0013F",1,"SOLD","Tunis Entrepot DCGP"]
["","RIGRAIET","044004000010","Recharge Express","2017-08-01","Franchise MSAKEN","MSK0013F",2,"SOLD","Tunis Entrepot DCGP"]
["","ABLOUNA","044004000010","Recharge Express","2017-08-01","Franchise MSAKEN","MSK0013F",4,"SOLD","Tunis Entrepot DCGP"]
["","SIGHW","044004000010","Recharge Express","2017-08-05","Franchise MSAKEN","MSK0013F",10,"SOLD","Tunis Entrepot DCGP"]
["357360080136564","SIGHW","083025001001","SERVICOM EASY 3 BLACK RED","2017-08-05","Franchise MSAKEN","MSK0013F",1,"SOLD","Tunis Entrepot DCGP"]
["892160100122555325","SIGHW","043006000003","CARTE SIM 4G PRE MULTI SIM","2017-08-05","Franchise MSAKEN","MSK0013F",1,"SOLD","Tunis Entrepot DCGP"]
["","SIGHW","044004000010","Recharge Express","2017-08-05","Franchise MSAKEN","MSK0013F",5,"SOLD","Tunis Entrepot DCGP"]
["","SIGHW","044004000010","Recharge Express","2017-08-05","Franchise MSAKEN","MSK0013F",5,"SOLD","Tunis Entrepot DCGP"]
["","RIGRAIET","044004000010","Recharge Express","2017-08-08","Franchise MSAKEN","MSK0013F",12,"SOLD","Tunis Entrepot DCGP"]
["","SIGHW","044004000010","Recharge Express","2017-08-03","Franchise MSAKEN","MSK0013F",40,"SOLD","Tunis Entrepot DCGP"]
["892160100122555295","ASLOGHM","043006000003","CARTE SIM 4G PRE MULTI SIM","2017-08-03","Franchise MSAKEN","MSK0013F",1,"SOLD","Tunis Entrepot DCGP"]
["869907027305198","SIGHW","046002000041","CLE 4G E3372H","2017-08-02","Franchise MSAKEN","MSK0013F",1,"SOLD","Tunis Entrepot DCGP"]
["892160100123782003","SIGHW","043007000004","CARTE SIM 4G DATA MULTI SIM","2017-08-02","Franchise MSAKEN","MSK0013F",1,"SOLD","Tunis Entrepot DCGP"]
["865205022025505","ABLOUNA","046002000060","DOMINO E5220 WHITE","2017-08-03","Franchise MSAKEN","MSK0013F",1,"SOLD","Tunis Entrepot DCGP"]
["892160100124729332","ABLOUNA","043007000004","CARTE SIM 4G DATA MULTI SIM","2017-08-03","Franchise MSAKEN","MSK0013F",1,"SOLD","Tunis Entrepot DCGP"]
["892160100124729106","ABLOUNA","043007000004","CARTE SIM 4G DATA MULTI SIM","2017-08-05","Franchise MSAKEN","MSK0013F",1,"SOLD","Tunis Entrepot DCGP"]
["869470011918153","ABLOUNA","046002000060","DOMINO E5220 WHITE","2017-08-05","Franchise MSAKEN","MSK0013F",1,"SOLD","Tunis Entrepot DCGP"]
["892160100124729105","ABLOUNA","043007000004","CARTE SIM 4G DATA MULTI SIM","2017-08-05","Franchise MSAKEN","MSK0013F",1,"SOLD","Tunis Entrepot DCGP"]
["892160100122555631","SIGHW","043006000003","CARTE SIM 4G PRE MULTI SIM","2017-08-05","Franchise MSAKEN","MSK0013F",1,"SOLD","Tunis Entrepot DCGP"]
["TG6K17020002855","SIGHW","188003000016","Modem Huawei HG532","2017-08-05","Franchise MSAKEN","MSK0013F",1,"SOLD","Tunis Entrepot DCGP"]
["892160100123469118","ABLOUNA","043001000114","CARTE PREACTIVEE VD","2017-08-01","Franchise MSAKEN","MSK0013F",1,"SOLD","Tunis Entrepot DCGP"]
["892160100123469117","ABLOUNA","043001000114","CARTE PREACTIVEE VD","2017-08-01","Franchise MSAKEN","MSK0013F",1,"SOLD","Tunis Entrepot DCGP"]
["892160100122555327","ASLOGHM","043006000003","CARTE SIM 4G PRE MULTI SIM","2017-08-05","Franchise MSAKEN","MSK0013F",1,"SOLD","Tunis Entrepot DCGP"]
["","ASLOGHM","044004000010","Recharge Express","2017-08-05","Franchise MSAKEN","MSK0013F",20,"SOLD","Tunis Entrepot DCGP"]
["","SIGHW","999100001003","SERVICE TRANSFERT CONTACT","2017-08-01","Franchise MSAKEN","MSK0013F",1,"SOLD","Tunis Entrepot DCGP"]
["892160100122555497","SIGHW","043006000003","CARTE SIM 4G PRE MULTI SIM","2017-08-01","Franchise MSAKEN","MSK0013F",1,"SOLD","Tunis Entrepot DCGP"]
["","ABLOUNA","044004000010","Recharge Express","2017-08-04","Franchise MSAKEN","MSK0013F",5,"SOLD","Tunis Entrepot DCGP"]
["","ABLOUNA","044004000010","Recharge Express","2017-08-04","Franchise MSAKEN","MSK0013F",5,"SOLD","Tunis Entrepot DCGP"]
["892160100123782017","SIGHW","043007000004","CARTE SIM 4G DATA MULTI SIM","2017-08-02","Franchise MSAKEN","MSK0013F",1,"SOLD","Tunis Entrepot DCGP"]
["892160100122555300","ASLOGHM","043006000003","CARTE SIM 4G PRE MULTI SIM","2017-08-03","Franchise MSAKEN","MSK0013F",1,"SOLD","Tunis Entrepot DCGP"]
["892160100122555501","ASLOGHM","043006000003","CARTE SIM 4G PRE MULTI SIM","2017-08-02","Franchise MSAKEN","MSK0013F",1,"SOLD","Tunis Entrepot DCGP"]
["","ASLOGHM","044004000010","Recharge Express","2017-08-04","Franchise MSAKEN","MSK0013F",10,"SOLD","Tunis Entrepot DCGP"]
["892160100122555301","SIGHW","043006000003","CARTE SIM 4G PRE MULTI SIM","2017-08-04","Franchise MSAKEN","MSK0013F",1,"SOLD","Tunis Entrepot DCGP"]
["892160100124729335","SIGHW","043007000004","CARTE SIM 4G DATA MULTI SIM","2017-08-04","Franchise MSAKEN","MSK0013F",1,"SOLD","Tunis Entrepot DCGP"]
["","ASLOGHM","044004000010","Recharge Express","2017-08-04","Franchise MSAKEN","MSK0013F",5,"SOLD","Tunis Entrepot DCGP"]
["352770077454884","ASLOGHM","045022002001","ORANGE IT 2110","2017-08-01","Franchise MSAKEN","MSK0013F",1,"SOLD","Tunis Entrepot DCGP"]
["892160100122555454","ASLOGHM","043006000003","CARTE SIM 4G PRE MULTI SIM","2017-08-01","Franchise MSAKEN","MSK0013F",1,"SOLD","Tunis Entrepot DCGP"]
["","ASLOGHM","044004000010","Recharge Express","2017-08-05","Franchise MSAKEN","MSK0013F",20,"SOLD","Tunis Entrepot DCGP"]
["865205023050072","SIGHW","046002000060","DOMINO E5220 WHITE","2017-08-04","Franchise MSAKEN","MSK0013F",1,"SOLD","Tunis Entrepot DCGP"]
["892160100124728665","SIGHW","043007000004","CARTE SIM 4G DATA MULTI SIM","2017-08-04","Franchise MSAKEN","MSK0013F",1,"SOLD","Tunis Entrepot DCGP"]
["","ABLOUNA","044004000010","Recharge Express","2017-08-04","Franchise MSAKEN","MSK0013F",5,"SOLD","Tunis Entrepot DCGP"]
["","ABLOUNA","044004000010","Recharge Express","2017-08-04","Franchise MSAKEN","MSK0013F",5,"SOLD","Tunis Entrepot DCGP"]
["892160100124729334","SIGHW","043007000004","CARTE SIM 4G DATA MULTI SIM","2017-08-04","Franchise MSAKEN","MSK0013F",1,"SOLD","Tunis Entrepot DCGP"]
["359715029794062","ABLOUNA","046002000060","DOMINO E5220 WHITE","2017-08-03","Franchise MSAKEN","MSK0013F",1,"SOLD","Tunis Entrepot DCGP"]
["892160100124729340","ABLOUNA","043007000004","CARTE SIM 4G DATA MULTI SIM","2017-08-03","Franchise MSAKEN","MSK0013F",1,"SOLD","Tunis Entrepot DCGP"]
["892160100112803504","SIGHW","043002000005","CARTE SIM POSTPAYEE 2FF/3FF","2017-08-01","Franchise MSAKEN","MSK0013F",1,"SOLD","Tunis Entrepot DCGP"]
["892160100122555519","SIGHW","043006000003","CARTE SIM 4G PRE MULTI SIM","2017-08-01","Franchise MSAKEN","MSK0013F",1,"SOLD","Tunis Entrepot DCGP"]
["892160100122555292","ASLOGHM","043006000003","CARTE SIM 4G PRE MULTI SIM","2017-08-04","Franchise MSAKEN","MSK0013F",1,"SOLD","Tunis Entrepot DCGP"]
["","ABLOUNA","044004000010","Recharge Express","2017-08-04","Franchise MSAKEN","MSK0013F",22,"SOLD","Tunis Entrepot DCGP"]
["892160100122555319","ABLOUNA","043006000003","CARTE SIM 4G PRE MULTI SIM","2017-08-04","Franchise MSAKEN","MSK0013F",1,"SOLD","Tunis Entrepot DCGP"]
["892160100122555343","ASLOGHM","043006000003","CARTE SIM 4G PRE MULTI SIM","2017-08-05","Franchise MSAKEN","MSK0013F",1,"SOLD","Tunis Entrepot DCGP"]
["","ASLOGHM","044004000010","Recharge Express","2017-08-05","Franchise MSAKEN","MSK0013F",12,"SOLD","Tunis Entrepot DCGP"]
["","ABLOUNA","044004000010","Recharge Express","2017-08-05","Franchise MSAKEN","MSK0013F",5,"SOLD","Tunis Entrepot DCGP"]
["892160100123469168","ABLOUNA","043001000114","CARTE PREACTIVEE VD","2017-08-05","Franchise MSAKEN","MSK0013F",1,"SOLD","Tunis Entrepot DCGP"]
["892160100122555344","ASLOGHM","043006000003","CARTE SIM 4G PRE MULTI SIM","2017-08-05","Franchise MSAKEN","MSK0013F",1,"SOLD","Tunis Entrepot DCGP"]
["892160100122555282","ASLOGHM","043006000003","CARTE SIM 4G PRE MULTI SIM","2017-08-04","Franchise MSAKEN","MSK0013F",1,"SOLD","Tunis Entrepot DCGP"]
["","ASLOGHM","044004000010","Recharge Express","2017-08-04","Franchise MSAKEN","MSK0013F",5,"SOLD","Tunis Entrepot DCGP"]
["","ASLOGHM","044004000010","Recharge Express","2017-08-04","Franchise MSAKEN","MSK0013F",10,"SOLD","Tunis Entrepot DCGP"]
["892160100123782012","SIGHW","043007000004","CARTE SIM 4G DATA MULTI SIM","2017-08-02","Franchise MSAKEN","MSK0013F",1,"SOLD","Tunis Entrepot DCGP"]
["","ABLOUNA","044004000010","Recharge Express","2017-08-03","Franchise MSAKEN","MSK0013F",5,"SOLD","Tunis Entrepot DCGP"]
["","ASLOGHM","044004000010","Recharge Express","2017-08-05","Franchise MSAKEN","MSK0013F",30,"SOLD","Tunis Entrepot DCGP"]
["2168006000734","ASLOGHM","047006000161","Orange Wifi dock","2017-08-05","Franchise MSAKEN","MSK0013F",1,"SOLD","Tunis Entrepot DCGP"]
["867424023073376","ASLOGHM","046002000034","CLE 3G E3531","2017-08-05","Franchise MSAKEN","MSK0013F",1,"SOLD","Tunis Entrepot DCGP"]
["892160100124728677","ASLOGHM","043007000004","CARTE SIM 4G DATA MULTI SIM","2017-08-05","Franchise MSAKEN","MSK0013F",1,"SOLD","Tunis Entrepot DCGP"]
["892160100123469162","ABLOUNA","043001000114","CARTE PREACTIVEE VD","2017-08-04","Franchise MSAKEN","MSK0013F",1,"SOLD","Tunis Entrepot DCGP"]
["892160100123469167","ABLOUNA","043001000114","CARTE PREACTIVEE VD","2017-08-04","Franchise MSAKEN","MSK0013F",1,"SOLD","Tunis Entrepot DCGP"]
["892160100122555312","ABLOUNA","043006000003","CARTE SIM 4G PRE MULTI SIM","2017-08-04","Franchise MSAKEN","MSK0013F",1,"SOLD","Tunis Entrepot DCGP"]
["","SIGHW","999100001003","SERVICE TRANSFERT CONTACT","2017-08-01","Franchise MSAKEN","MSK0013F",1,"SOLD","Tunis Entrepot DCGP"]
["","ABLOUNA","044004000010","Recharge Express","2017-08-03","Franchise MSAKEN","MSK0013F",10,"SOLD","Tunis Entrepot DCGP"]
["892160100122555287","SIGHW","043006000003","CARTE SIM 4G PRE MULTI SIM","2017-08-03","Franchise MSAKEN","MSK0013F",1,"SOLD","Tunis Entrepot DCGP"]
["","ASLOGHM","044004000010","Recharge Express","2017-08-03","Franchise MSAKEN","MSK0013F",5,"SOLD","Tunis Entrepot DCGP"]
["892160100122555516","SIGHW","043006000003","CARTE SIM 4G PRE MULTI SIM","2017-08-01","Franchise MSAKEN","MSK0013F",1,"SOLD","Tunis Entrepot DCGP"]
["357243073646098","ABLOUNA","046002000056","AIRBOX 4G MW40","2017-08-01","Franchise MSAKEN","MSK0013F",1,"SOLD","Tunis Entrepot DCGP"]
["892160100123782630","ABLOUNA","043007000004","CARTE SIM 4G DATA MULTI SIM","2017-08-01","Franchise MSAKEN","MSK0013F",1,"SOLD","Tunis Entrepot DCGP"]
["892160100122555296","ASLOGHM","043006000003","CARTE SIM 4G PRE MULTI SIM","2017-08-04","Franchise MSAKEN","MSK0013F",1,"SOLD","Tunis Entrepot DCGP"]
["892160100122555291","ASLOGHM","043006000003","CARTE SIM 4G PRE MULTI SIM","2017-08-04","Franchise MSAKEN","MSK0013F",1,"SOLD","Tunis Entrepot DCGP"]
["892160100122555285","SIGHW","043006000003","CARTE SIM 4G PRE MULTI SIM","2017-08-04","Franchise MSAKEN","MSK0013F",1,"SOLD","Tunis Entrepot DCGP"]
["","SIGHW","044004000010","Recharge Express","2017-08-03","Franchise MSAKEN","MSK0013F",5,"SOLD","Tunis Entrepot DCGP"]
["892160100122555275","SIGHW","043006000003","CARTE SIM 4G PRE MULTI SIM","2017-08-03","Franchise MSAKEN","MSK0013F",1,"SOLD","Tunis Entrepot DCGP"]
["892160100122555272","SIGHW","043006000003","CARTE SIM 4G PRE MULTI SIM","2017-08-03","Franchise MSAKEN","MSK0013F",1,"SOLD","Tunis Entrepot DCGP"]
["892160100122555273","SIGHW","043006000003","CARTE SIM 4G PRE MULTI SIM","2017-08-03","Franchise MSAKEN","MSK0013F",1,"SOLD","Tunis Entrepot DCGP"]
["TG6K17020002843","SIGHW","188003000016","Modem Huawei HG532","2017-08-03","Franchise MSAKEN","MSK0013F",1,"SOLD","Tunis Entrepot DCGP"]
["357243073645876","SIGHW","046002000056","AIRBOX 4G MW40","2017-08-01","Franchise MSAKEN","MSK0013F",1,"SOLD","Tunis Entrepot DCGP"]
["892160100123782625","SIGHW","043007000004","CARTE SIM 4G DATA MULTI SIM","2017-08-01","Franchise MSAKEN","MSK0013F",1,"SOLD","Tunis Entrepot DCGP"]
["","RIGRAIET","044004000010","Recharge Express","2017-08-01","Franchise MSAKEN","MSK0013F",3,"SOLD","Tunis Entrepot DCGP"]
["","ABLOUNA","044004000010","Recharge Express","2017-08-01","Franchise MSAKEN","MSK0013F",5,"SOLD","Tunis Entrepot DCGP"]
["865205021212070","ABLOUNA","046002000060","DOMINO E5220 WHITE","2017-08-04","Franchise MSAKEN","MSK0013F",1,"SOLD","Tunis Entrepot DCGP"]
["892160100124728667","ABLOUNA","043007000004","CARTE SIM 4G DATA MULTI SIM","2017-08-04","Franchise MSAKEN","MSK0013F",1,"SOLD","Tunis Entrepot DCGP"]
["","ASLOGHM","044004000010","Recharge Express","2017-08-03","Franchise MSAKEN","MSK0013F",12,"SOLD","Tunis Entrepot DCGP"]
["892160100122555255","ASLOGHM","043006000003","CARTE SIM 4G PRE MULTI SIM","2017-08-02","Franchise MSAKEN","MSK0013F",1,"SOLD","Tunis Entrepot DCGP"]
["892160100123782000","ABLOUNA","043007000004","CARTE SIM 4G DATA MULTI SIM","2017-08-02","Franchise MSAKEN","MSK0013F",1,"SOLD","Tunis Entrepot DCGP"]
["892160100123782001","ASLOGHM","043007000004","CARTE SIM 4G DATA MULTI SIM","2017-08-02","Franchise MSAKEN","MSK0013F",1,"SOLD","Tunis Entrepot DCGP"]
["892160100122555529","ABLOUNA","043006000003","CARTE SIM 4G PRE MULTI SIM","2017-08-01","Franchise MSAKEN","MSK0013F",1,"SOLD","Tunis Entrepot DCGP"]
["892160100122555269","SIGHW","043006000003","CARTE SIM 4G PRE MULTI SIM","2017-08-03","Franchise MSAKEN","MSK0013F",1,"SOLD","Tunis Entrepot DCGP"]
["","SIGHW","044004000010","Recharge Express","2017-08-03","Franchise MSAKEN","MSK0013F",10,"SOLD","Tunis Entrepot DCGP"]
["892160100122555270","SIGHW","043006000003","CARTE SIM 4G PRE MULTI SIM","2017-08-03","Franchise MSAKEN","MSK0013F",1,"SOLD","Tunis Entrepot DCGP"]
["863605032642805","SIGHW","085001000011","FLYBOX B310","2017-08-03","Franchise MSAKEN","MSK0013F",1,"SOLD","Tunis Entrepot DCGP"]
["892160100206712307","SIGHW","043008000001","CARTE SIM 4G FLYBOX","2017-08-03","Franchise MSAKEN","MSK0013F",1,"SOLD","Tunis Entrepot DCGP"]
["","ABLOUNA","044004000010","Recharge Express","2017-08-02","Franchise MSAKEN","MSK0013F",5,"SOLD","Tunis Entrepot DCGP"]
["892160100122555481","ABLOUNA","043006000003","CARTE SIM 4G PRE MULTI SIM","2017-08-02","Franchise MSAKEN","MSK0013F",1,"SOLD","Tunis Entrepot DCGP"]
["","ASLOGHM","044004000010","Recharge Express","2017-08-02","Franchise MSAKEN","MSK0013F",5,"SOLD","Tunis Entrepot DCGP"]
["892160100122555479","ABLOUNA","043006000003","CARTE SIM 4G PRE MULTI SIM","2017-08-01","Franchise MSAKEN","MSK0013F",1,"SOLD","Tunis Entrepot DCGP"]
["892160100122555482","ABLOUNA","043006000003","CARTE SIM 4G PRE MULTI SIM","2017-08-01","Franchise MSAKEN","MSK0013F",1,"SOLD","Tunis Entrepot DCGP"]
["","SIGHW","044004000010","Recharge Express","2017-08-01","Franchise MSAKEN","MSK0013F",5,"SOLD","Tunis Entrepot DCGP"]
["","SIGHW","044004000010","Recharge Express","2017-08-01","Franchise MSAKEN","MSK0013F",5,"SOLD","Tunis Entrepot DCGP"]
["892160100122555313","ABLOUNA","043006000003","CARTE SIM 4G PRE MULTI SIM","2017-08-04","Franchise MSAKEN","MSK0013F",1,"SOLD","Tunis Entrepot DCGP"]
["892160100123469152","ABLOUNA","043001000114","CARTE PREACTIVEE VD","2017-08-03","Franchise MSAKEN","MSK0013F",1,"SOLD","Tunis Entrepot DCGP"]
["892160100123469150","ABLOUNA","043001000114","CARTE PREACTIVEE VD","2017-08-03","Franchise MSAKEN","MSK0013F",1,"SOLD","Tunis Entrepot DCGP"]
["","SIGHW","044004000010","Recharge Express","2017-08-01","Franchise MSAKEN","MSK0013F",5,"SOLD","Tunis Entrepot DCGP"]
["892160100122555485","SIGHW","043006000003","CARTE SIM 4G PRE MULTI SIM","2017-08-01","Franchise MSAKEN","MSK0013F",1,"SOLD","Tunis Entrepot DCGP"]
["892160100123782014","SIGHW","043007000004","CARTE SIM 4G DATA MULTI SIM","2017-08-01","Franchise MSAKEN","MSK0013F",1,"SOLD","Tunis Entrepot DCGP"]
["892160100122555263","ABLOUNA","043006000003","CARTE SIM 4G PRE MULTI SIM","2017-08-02","Franchise MSAKEN","MSK0013F",1,"SOLD","Tunis Entrepot DCGP"]
["892160100123469133","ABLOUNA","043001000114","CARTE PREACTIVEE VD","2017-08-02","Franchise MSAKEN","MSK0013F",1,"SOLD","Tunis Entrepot DCGP"]
["867424023067311","ASLOGHM","046002000034","CLE 3G E3531","2017-08-02","Franchise MSAKEN","MSK0013F",1,"SOLD","Tunis Entrepot DCGP"]
["892160100123782019","ASLOGHM","043007000004","CARTE SIM 4G DATA MULTI SIM","2017-08-02","Franchise MSAKEN","MSK0013F",1,"SOLD","Tunis Entrepot DCGP"]
["892160100122555506","ASLOGHM","043006000003","CARTE SIM 4G PRE MULTI SIM","2017-08-02","Franchise MSAKEN","MSK0013F",1,"SOLD","Tunis Entrepot DCGP"]
["892160100122555304","SIGHW","043006000003","CARTE SIM 4G PRE MULTI SIM","2017-08-04","Franchise MSAKEN","MSK0013F",1,"SOLD","Tunis Entrepot DCGP"]
["892160100122555468","SIGHW","043006000003","CARTE SIM 4G PRE MULTI SIM","2017-08-03","Franchise MSAKEN","MSK0013F",1,"SOLD","Tunis Entrepot DCGP"]
["892160100122555302","SIGHW","043006000003","CARTE SIM 4G PRE MULTI SIM","2017-08-04","Franchise MSAKEN","MSK0013F",1,"SOLD","Tunis Entrepot DCGP"]
["","ABLOUNA","044004000010","Recharge Express","2017-08-02","Franchise MSAKEN","MSK0013F",9,"SOLD","Tunis Entrepot DCGP"]
["892160100122555517","RIGRAIET","043006000003","CARTE SIM 4G PRE MULTI SIM","2017-08-01","Franchise MSAKEN","MSK0013F",1,"SOLD","Tunis Entrepot DCGP"]
["","ABLOUNA","044004000010","Recharge Express","2017-08-04","Franchise MSAKEN","MSK0013F",10,"SOLD","Tunis Entrepot DCGP"]
["","SIGHW","044004000010","Recharge Express","2017-08-03","Franchise MSAKEN","MSK0013F",5,"SOLD","Tunis Entrepot DCGP"]
["","ABLOUNA","044004000010","Recharge Express","2017-08-04","Franchise MSAKEN","MSK0013F",10,"SOLD","Tunis Entrepot DCGP"]
["892160100124728668","SIGHW","043007000004","CARTE SIM 4G DATA MULTI SIM","2017-08-04","Franchise MSAKEN","MSK0013F",1,"SOLD","Tunis Entrepot DCGP"]
["869470011922528","ABLOUNA","046002000060","DOMINO E5220 WHITE","2017-08-01","Franchise MSAKEN","MSK0013F",1,"SOLD","Tunis Entrepot DCGP"]
["892160100123782002","ABLOUNA","043007000004","CARTE SIM 4G DATA MULTI SIM","2017-08-01","Franchise MSAKEN","MSK0013F",1,"SOLD","Tunis Entrepot DCGP"]
["","ABLOUNA","044004000010","Recharge Express","2017-08-01","Franchise MSAKEN","MSK0013F",30,"SOLD","Tunis Entrepot DCGP"]
["892160100122555498","SIGHW","043006000003","CARTE SIM 4G PRE MULTI SIM","2017-08-01","Franchise MSAKEN","MSK0013F",1,"SOLD","Tunis Entrepot DCGP"]
["","SIGHW","044004000010","Recharge Express","2017-08-01","Franchise MSAKEN","MSK0013F",12,"SOLD","Tunis Entrepot DCGP"]
["892160100122555508","RIGRAIET","043006000003","CARTE SIM 4G PRE MULTI SIM","2017-08-01","Franchise MSAKEN","MSK0013F",1,"SOLD","Tunis Entrepot DCGP"]
["TG6K17020001149","ABLOUNA","188003000016","Modem Huawei HG532","2017-08-02","Franchise MSAKEN","MSK0013F",1,"SOLD","Tunis Entrepot DCGP"]
["","SIGHW","044004000010","Recharge Express","2017-08-02","Franchise MSAKEN","MSK0013F",9,"SOLD","Tunis Entrepot DCGP"]
["892160100122555507","RIGRAIET","043006000003","CARTE SIM 4G PRE MULTI SIM","2017-08-01","Franchise MSAKEN","MSK0013F",1,"SOLD","Tunis Entrepot DCGP"]
["892160100122555525","ASLOGHM","043006000003","CARTE SIM 4G PRE MULTI SIM","2017-08-01","Franchise MSAKEN","MSK0013F",1,"SOLD","Tunis Entrepot DCGP"]
["892160100122555449","ASLOGHM","043006000003","CARTE SIM 4G PRE MULTI SIM","2017-08-01","Franchise MSAKEN","MSK0013F",1,"SOLD","Tunis Entrepot DCGP"]
["","RIGRAIET","044004000010","Recharge Express","2017-08-01","Franchise MSAKEN","MSK0013F",1,"SOLD","Tunis Entrepot DCGP"]
["869907027305263","ABLOUNA","046002000041","CLE 4G E3372H","2017-08-01","Franchise MSAKEN","MSK0013F",1,"SOLD","Tunis Entrepot DCGP"]
["892160100123782626","ABLOUNA","043007000004","CARTE SIM 4G DATA MULTI SIM","2017-08-01","Franchise MSAKEN","MSK0013F",1,"SOLD","Tunis Entrepot DCGP"]
["892160100123469161","ABLOUNA","043001000114","CARTE PREACTIVEE VD","2017-08-04","Franchise MSAKEN","MSK0013F",1,"SOLD","Tunis Entrepot DCGP"]
["","ASLOGHM","044004000010","Recharge Express","2017-08-04","Franchise MSAKEN","MSK0013F",5,"SOLD","Tunis Entrepot DCGP"]
["","ASLOGHM","044004000010","Recharge Express","2017-08-04","Franchise MSAKEN","MSK0013F",25,"SOLD","Tunis Entrepot DCGP"]
["","SIGHW","044004000010","Recharge Express","2017-08-01","Franchise MSAKEN","MSK0013F",12,"SOLD","Tunis Entrepot DCGP"]
["865205023047227","ASLOGHM","046002000060","DOMINO E5220 WHITE","2017-08-04","Franchise MSAKEN","MSK0013F",1,"SOLD","Tunis Entrepot DCGP"]
["892160100124728670","ASLOGHM","043007000004","CARTE SIM 4G DATA MULTI SIM","2017-08-04","Franchise MSAKEN","MSK0013F",1,"SOLD","Tunis Entrepot DCGP"]
["","ASLOGHM","044004000010","Recharge Express","2017-08-04","Franchise MSAKEN","MSK0013F",5,"SOLD","Tunis Entrepot DCGP"]
["","ABLOUNA","044004000010","Recharge Express","2017-08-02","Franchise MSAKEN","MSK0013F",5,"SOLD","Tunis Entrepot DCGP"]
["892160100122555305","SIGHW","043006000003","CARTE SIM 4G PRE MULTI SIM","2017-08-04","Franchise MSAKEN","MSK0013F",1,"SOLD","Tunis Entrepot DCGP"]
["","SIGHW","044004000010","Recharge Express","2017-08-03","Franchise MSAKEN","MSK0013F",5,"SOLD","Tunis Entrepot DCGP"]
["892160100124729338","SIGHW","043007000004","CARTE SIM 4G DATA MULTI SIM","2017-08-03","Franchise MSAKEN","MSK0013F",1,"SOLD","Tunis Entrepot DCGP"]
["892160100122555286","SIGHW","043006000003","CARTE SIM 4G PRE MULTI SIM","2017-08-04","Franchise MSAKEN","MSK0013F",1,"SOLD","Tunis Entrepot DCGP"]
["892160100122555306","SIGHW","043006000003","CARTE SIM 4G PRE MULTI SIM","2017-08-04","Franchise MSAKEN","MSK0013F",1,"SOLD","Tunis Entrepot DCGP"]
["","SIGHW","044004000010","Recharge Express","2017-08-03","Franchise MSAKEN","MSK0013F",5,"SOLD","Tunis Entrepot DCGP"]
["892160100122555467","SIGHW","043006000003","CARTE SIM 4G PRE MULTI SIM","2017-08-03","Franchise MSAKEN","MSK0013F",1,"SOLD","Tunis Entrepot DCGP"]
["357243073649563","ASLOGHM","046002000056","AIRBOX 4G MW40","2017-08-03","Franchise MSAKEN","MSK0013F",1,"SOLD","Tunis Entrepot DCGP"]
["892160100124728662","ASLOGHM","043007000004","CARTE SIM 4G DATA MULTI SIM","2017-08-03","Franchise MSAKEN","MSK0013F",1,"SOLD","Tunis Entrepot DCGP"]
["892160100122555254","ASLOGHM","043006000003","CARTE SIM 4G PRE MULTI SIM","2017-08-03","Franchise MSAKEN","MSK0013F",1,"SOLD","Tunis Entrepot DCGP"]
["892160100122555469","SIGHW","043006000003","CARTE SIM 4G PRE MULTI SIM","2017-08-03","Franchise MSAKEN","MSK0013F",1,"SOLD","Tunis Entrepot DCGP"]
["","RIGRAIET","044004000010","Recharge Express","2017-08-01","Franchise MSAKEN","MSK0013F",1,"SOLD","Tunis Entrepot DCGP"]
["865205022047442","ABLOUNA","046002000060","DOMINO E5220 WHITE","2017-08-03","Franchise MSAKEN","MSK0013F",1,"SOLD","Tunis Entrepot DCGP"]
["892160100124728663","ABLOUNA","043007000004","CARTE SIM 4G DATA MULTI SIM","2017-08-03","Franchise MSAKEN","MSK0013F",1,"SOLD","Tunis Entrepot DCGP"]
["892160100122555265","SIGHW","043006000003","CARTE SIM 4G PRE MULTI SIM","2017-08-03","Franchise MSAKEN","MSK0013F",1,"SOLD","Tunis Entrepot DCGP"]
["892160100123782009","ASLOGHM","043007000004","CARTE SIM 4G DATA MULTI SIM","2017-08-03","Franchise MSAKEN","MSK0013F",1,"SOLD","Tunis Entrepot DCGP"]
["892160100123782008","SIGHW","043007000004","CARTE SIM 4G DATA MULTI SIM","2017-08-03","Franchise MSAKEN","MSK0013F",1,"SOLD","Tunis Entrepot DCGP"]
["892160100122555258","ABLOUNA","043006000003","CARTE SIM 4G PRE MULTI SIM","2017-08-03","Franchise MSAKEN","MSK0013F",1,"SOLD","Tunis Entrepot DCGP"]
["","ASLOGHM","044004000010","Recharge Express","2017-08-03","Franchise MSAKEN","MSK0013F",22,"SOLD","Tunis Entrepot DCGP"]
["892160100122555267","SIGHW","043006000003","CARTE SIM 4G PRE MULTI SIM","2017-08-03","Franchise MSAKEN","MSK0013F",1,"SOLD","Tunis Entrepot DCGP"]
["892160100123781999","ABLOUNA","043007000004","CARTE SIM 4G DATA MULTI SIM","2017-08-02","Franchise MSAKEN","MSK0013F",1,"SOLD","Tunis Entrepot DCGP"]
["","SIGHW","999100001003","SERVICE TRANSFERT CONTACT","2017-08-03","Franchise MSAKEN","MSK0013F",1,"SOLD","Tunis Entrepot DCGP"]
["892160100206712303","ABLOUNA","043008000001","CARTE SIM 4G FLYBOX","2017-08-01","Franchise MSAKEN","MSK0013F",1,"SOLD","Tunis Entrepot DCGP"]
["863605032619373","ABLOUNA","085001000011","FLYBOX B310","2017-08-01","Franchise MSAKEN","MSK0013F",1,"SOLD","Tunis Entrepot DCGP"]
["","ASLOGHM","044004000010","Recharge Express","2017-08-01","Franchise MSAKEN","MSK0013F",1,"SOLD","Tunis Entrepot DCGP"]
["","ASLOGHM","044004000010","Recharge Express","2017-08-02","Franchise MSAKEN","MSK0013F",2,"SOLD","Tunis Entrepot DCGP"]
["892160100123760357","RIGRAIET","043006000003","CARTE SIM 4G PRE MULTI SIM","2017-08-01","Franchise MSAKEN","MSK0013F",1,"SOLD","Tunis Entrepot DCGP"]
["892160100122555521","ABLOUNA","043006000003","CARTE SIM 4G PRE MULTI SIM","2017-08-01","Franchise MSAKEN","MSK0013F",1,"SOLD","Tunis Entrepot DCGP"]
["892160100123469123","RIGRAIET","043001000114","CARTE PREACTIVEE VD","2017-08-01","Franchise MSAKEN","MSK0013F",1,"SOLD","Tunis Entrepot DCGP"]
["","ABLOUNA","044004000010","Recharge Express","2017-08-02","Franchise MSAKEN","MSK0013F",24,"SOLD","Tunis Entrepot DCGP"]
["892160100122555494","RIGRAIET","043006000003","CARTE SIM 4G PRE MULTI SIM","2017-08-02","Franchise MSAKEN","MSK0013F",1,"SOLD","Tunis Entrepot DCGP"]
["892160100122555504","ASLOGHM","043006000003","CARTE SIM 4G PRE MULTI SIM","2017-08-02","Franchise MSAKEN","MSK0013F",1,"SOLD","Tunis Entrepot DCGP"]
["","RIGRAIET","999100001003","SERVICE TRANSFERT CONTACT","2017-08-02","Franchise MSAKEN","MSK0013F",1,"SOLD","Tunis Entrepot DCGP"]
["892160100122555486","SIGHW","043006000003","CARTE SIM 4G PRE MULTI SIM","2017-08-02","Franchise MSAKEN","MSK0013F",1,"SOLD","Tunis Entrepot DCGP"]
["892160100122555487","SIGHW","043006000003","CARTE SIM 4G PRE MULTI SIM","2017-08-02","Franchise MSAKEN","MSK0013F",1,"SOLD","Tunis Entrepot DCGP"]
["","SIGHW","044004000010","Recharge Express","2017-08-01","Franchise MSAKEN","MSK0013F",10,"SOLD","Tunis Entrepot DCGP"]
["892160100123782018","SIGHW","043007000004","CARTE SIM 4G DATA MULTI SIM","2017-08-01","Franchise MSAKEN","MSK0013F",1,"SOLD","Tunis Entrepot DCGP"]
["","SIGHW","999100001003","SERVICE TRANSFERT CONTACT","2017-08-03","Franchise MSAKEN","MSK0013F",1,"SOLD","Tunis Entrepot DCGP"]
["892160100122555512","RIGRAIET","043006000003","CARTE SIM 4G PRE MULTI SIM","2017-08-01","Franchise MSAKEN","MSK0013F",1,"SOLD","Tunis Entrepot DCGP"]
["","ABLOUNA","044004000010","Recharge Express","2017-08-02","Franchise MSAKEN","MSK0013F",1,"SOLD","Tunis Entrepot DCGP"]
["","ASLOGHM","044004000010","Recharge Express","2017-08-02","Franchise MSAKEN","MSK0013F",12,"SOLD","Tunis Entrepot DCGP"]
["865205020963434","ASLOGHM","046002000060","DOMINO E5220 WHITE","2017-08-01","Franchise MSAKEN","MSK0013F",1,"SOLD","Tunis Entrepot DCGP"]
["892160100123782642","ASLOGHM","043007000004","CARTE SIM 4G DATA MULTI SIM","2017-08-01","Franchise MSAKEN","MSK0013F",1,"SOLD","Tunis Entrepot DCGP"]
["869470013077685","SIGHW","046002000060","DOMINO E5220 WHITE","2017-08-01","Franchise MSAKEN","MSK0013F",1,"SOLD","Tunis Entrepot DCGP"]
["892160100123782015","SIGHW","043007000004","CARTE SIM 4G DATA MULTI SIM","2017-08-01","Franchise MSAKEN","MSK0013F",1,"SOLD","Tunis Entrepot DCGP"]
["","SIGHW","044004000010","Recharge Express","2017-08-02","Franchise MSAKEN","MSK0013F",1,"SOLD","Tunis Entrepot DCGP"]
["","SIGHW","044004000010","Recharge Express","2017-08-03","Franchise MSAKEN","MSK0013F",40,"SOLD","Tunis Entrepot DCGP"]
["892160100122555515","SIGHW","043006000003","CARTE SIM 4G PRE MULTI SIM","2017-08-01","Franchise MSAKEN","MSK0013F",1,"SOLD","Tunis Entrepot DCGP"]
["2168006000741","SIGHW","047006000161","Orange Wifi dock","2017-08-01","Franchise MSAKEN","MSK0013F",1,"SOLD","Tunis Entrepot DCGP"]
["867424023067865","SIGHW","046002000034","CLE 3G E3531","2017-08-01","Franchise MSAKEN","MSK0013F",1,"SOLD","Tunis Entrepot DCGP"]
["892160100123782641","SIGHW","043007000004","CARTE SIM 4G DATA MULTI SIM","2017-08-01","Franchise MSAKEN","MSK0013F",1,"SOLD","Tunis Entrepot DCGP"]
["869907027306659","RIGRAIET","046002000041","CLE 4G E3372H","2017-08-01","Franchise MSAKEN","MSK0013F",1,"SOLD","Tunis Entrepot DCGP"]
["892160100123782623","RIGRAIET","043007000004","CARTE SIM 4G DATA MULTI SIM","2017-08-01","Franchise MSAKEN","MSK0013F",1,"SOLD","Tunis Entrepot DCGP"]
["","SIGHW","044004000010","Recharge Express","2017-08-01","Franchise MSAKEN","MSK0013F",5,"SOLD","Tunis Entrepot DCGP"]
["892160100123469158","SIGHW","043001000114","CARTE PREACTIVEE VD","2017-08-01","Franchise MSAKEN","MSK0013F",1,"SOLD","Tunis Entrepot DCGP"]
["892160100123469157","SIGHW","043001000114","CARTE PREACTIVEE VD","2017-08-01","Franchise MSAKEN","MSK0013F",1,"SOLD","Tunis Entrepot DCGP"]
["892160100123469156","SIGHW","043001000114","CARTE PREACTIVEE VD","2017-08-01","Franchise MSAKEN","MSK0013F",1,"SOLD","Tunis Entrepot DCGP"]
["892160100122555526","ABLOUNA","043006000003","CARTE SIM 4G PRE MULTI SIM","2017-08-01","Franchise MSAKEN","MSK0013F",1,"SOLD","Tunis Entrepot DCGP"]
["","SIGHW","044004000010","Recharge Express","2017-08-01","Franchise MSAKEN","MSK0013F",1,"SOLD","Tunis Entrepot DCGP"]
["892160100122555500","ASLOGHM","043006000003","CARTE SIM 4G PRE MULTI SIM","2017-08-02","Franchise MSAKEN","MSK0013F",1,"SOLD","Tunis Entrepot DCGP"]
["","ABLOUNA","044004000010","Recharge Express","2017-08-02","Franchise MSAKEN","MSK0013F",5,"SOLD","Tunis Entrepot DCGP"]
["892160100122555261","ABLOUNA","043006000003","CARTE SIM 4G PRE MULTI SIM","2017-08-02","Franchise MSAKEN","MSK0013F",1,"SOLD","Tunis Entrepot DCGP"]
["892160100122555511","RIGRAIET","043006000003","CARTE SIM 4G PRE MULTI SIM","2017-08-01","Franchise MSAKEN","MSK0013F",1,"SOLD","Tunis Entrepot DCGP"]
["","ASLOGHM","044004000010","Recharge Express","2017-08-02","Franchise MSAKEN","MSK0013F",5,"SOLD","Tunis Entrepot DCGP"]
["892160100122555503","RIGRAIET","043006000003","CARTE SIM 4G PRE MULTI SIM","2017-08-02","Franchise MSAKEN","MSK0013F",1,"SOLD","Tunis Entrepot DCGP"]
["TG6K17020002851","RIGRAIET","188003000016","Modem Huawei HG532","2017-08-02","Franchise MSAKEN","MSK0013F",1,"SOLD","Tunis Entrepot DCGP"]
["","SIGHW","044004000010","Recharge Express","2017-08-01","Franchise MSAKEN","MSK0013F",30,"SOLD","Tunis Entrepot DCGP"]
["357243073650090","RIGRAIET","046002000056","AIRBOX 4G MW40","2017-08-11","Franchise MSAKEN","MSK0013F",1,"SOLD","Franchise Sousse 1"]
["357243074444923","SIGHW","046002000056","AIRBOX 4G MW40","2017-08-11","Franchise MSAKEN","MSK0013F",1,"SOLD","Franchise Sousse 1"]
["357243074470985","RIGRAIET","046002000056","AIRBOX 4G MW40","2017-08-10","Franchise MSAKEN","MSK0013F",1,"SOLD","Franchise Sousse 1"]
["TG4566688888","HanenX","046002000056","Modem Huawei HG532","2017-08-10","Franchise MSAKEN","MSK0013F",1,"SOLD","Franchise Sousse 1"]

{"sheet":"Doucher contrats","index":8,"n_rows":1156,"n_cols":5,"rows_kept":1156,"cut":false,"hidden":false,"merged":[]}
[null,"OK",{"$f":"VLOOKUP(A1,Contrats!A:C,3,0)","v":{"$error":"#N/A"}},{"$f":"VLOOKUP(A1,Contrats!A:C,2,0)","v":{"$error":"#N/A"}},{"$f":"VLOOKUP(A1,Contrats!A:H,5,0)","v":{"$error":"#N/A"}}]
[null,"OK",{"$f":"VLOOKUP(A2,Contrats!A:C,3,0)","v":{"$error":"#N/A"}},{"$f":"VLOOKUP(A2,Contrats!A:C,2,0)","v":{"$error":"#N/A"}},{"$f":"VLOOKUP(A2,Contrats!A:H,5,0)","v":{"$error":"#N/A"}}]
[null,"OK",{"$f":"VLOOKUP(A3,Contrats!A:C,3,0)","v":{"$error":"#N/A"}},{"$f":"VLOOKUP(A3,Contrats!A:C,2,0)","v":{"$error":"#N/A"}},{"$f":"VLOOKUP(A3,Contrats!A:H,5,0)","v":{"$error":"#N/A"}}]
[null,"OK",{"$f":"VLOOKUP(A4,Contrats!A:C,3,0)","v":{"$error":"#N/A"}},{"$f":"VLOOKUP(A4,Contrats!A:C,2,0)","v":{"$error":"#N/A"}},{"$f":"VLOOKUP(A4,Contrats!A:H,5,0)","v":{"$error":"#N/A"}}]
[null,"OK",{"$f":"VLOOKUP(A5,Contrats!A:C,3,0)","v":{"$error":"#N/A"}},{"$f":"VLOOKUP(A5,Contrats!A:C,2,0)","v":{"$error":"#N/A"}},{"$f":"VLOOKUP(A5,Contrats!A:H,5,0)","v":{"$error":"#N/A"}}]
[null,"OK",{"$f":"VLOOKUP(A6,Contrats!A:C,3,0)","v":{"$error":"#N/A"}},{"$f":"VLOOKUP(A6,Contrats!A:C,2,0)","v":{"$error":"#N/A"}},{"$f":"VLOOKUP(A6,Contrats!A:H,5,0)","v":{"$error":"#N/A"}}]
[null,"OK",{"$f":"VLOOKUP(A7,Contrats!A:C,3,0)","v":{"$error":"#N/A"}},{"$f":"VLOOKUP(A7,Contrats!A:C,2,0)","v":{"$error":"#N/A"}},{"$f":"VLOOKUP(A7,Contrats!A:H,5,0)","v":{"$error":"#N/A"}}]
[null,"OK",{"$f":"VLOOKUP(A8,Contrats!A:C,3,0)","v":{"$error":"#N/A"}},{"$f":"VLOOKUP(A8,Contrats!A:C,2,0)","v":{"$error":"#N/A"}},{"$f":"VLOOKUP(A8,Contrats!A:H,5,0)","v":{"$error":"#N/A"}}]
[null,"OK",{"$f":"VLOOKUP(A9,Contrats!A:C,3,0)","v":{"$error":"#N/A"}},{"$f":"VLOOKUP(A9,Contrats!A:C,2,0)","v":{"$error":"#N/A"}},{"$f":"VLOOKUP(A9,Contrats!A:H,5,0)","v":{"$error":"#N/A"}}]
[null,"OK",{"$f":"VLOOKUP(A10,Contrats!A:C,3,0)","v":{"$error":"#N/A"}},{"$f":"VLOOKUP(A10,Contrats!A:C,2,0)","v":{"$error":"#N/A"}},{"$f":"VLOOKUP(A10,Contrats!A:H,5,0)","v":{"$error":"#N/A"}}]
[null,"OK",{"$f":"VLOOKUP(A11,Contrats!A:C,3,0)","v":{"$error":"#N/A"}},{"$f":"VLOOKUP(A11,Contrats!A:C,2,0)","v":{"$error":"#N/A"}},{"$f":"VLOOKUP(A11,Contrats!A:H,5,0)","v":{"$error":"#N/A"}}]
[null,"OK",{"$f":"VLOOKUP(A12,Contrats!A:C,3,0)","v":{"$error":"#N/A"}},{"$f":"VLOOKUP(A12,Contrats!A:C,2,0)","v":{"$error":"#N/A"}},{"$f":"VLOOKUP(A12,Contrats!A:H,5,0)","v":{"$error":"#N/A"}}]
[null,"OK",{"$f":"VLOOKUP(A13,Contrats!A:C,3,0)","v":{"$error":"#N/A"}},{"$f":"VLOOKUP(A13,Contrats!A:C,2,0)","v":{"$error":"#N/A"}},{"$f":"VLOOKUP(A13,Contrats!A:H,5,0)","v":{"$error":"#N/A"}}]
[null,"OK",{"$f":"VLOOKUP(A14,Contrats!A:C,3,0)","v":{"$error":"#N/A"}},{"$f":"VLOOKUP(A14,Contrats!A:C,2,0)","v":{"$error":"#N/A"}},{"$f":"VLOOKUP(A14,Contrats!A:H,5,0)","v":{"$error":"#N/A"}}]
[null,"OK",{"$f":"VLOOKUP(A15,Contrats!A:C,3,0)","v":{"$error":"#N/A"}},{"$f":"VLOOKUP(A15,Contrats!A:C,2,0)","v":{"$error":"#N/A"}},{"$f":"VLOOKUP(A15,Contrats!A:H,5,0)","v":{"$error":"#N/A"}}]
[null,"OK",{"$f":"VLOOKUP(A16,Contrats!A:C,3,0)","v":{"$error":"#N/A"}},{"$f":"VLOOKUP(A16,Contrats!A:C,2,0)","v":{"$error":"#N/A"}},{"$f":"VLOOKUP(A16,Contrats!A:H,5,0)","v":{"$error":"#N/A"}}]
[null,"OK",{"$f":"VLOOKUP(A17,Contrats!A:C,3,0)","v":{"$error":"#N/A"}},{"$f":"VLOOKUP(A17,Contrats!A:C,2,0)","v":{"$error":"#N/A"}},{"$f":"VLOOKUP(A17,Contrats!A:H,5,0)","v":{"$error":"#N/A"}}]
[null,"OK",{"$f":"VLOOKUP(A18,Contrats!A:C,3,0)","v":{"$error":"#N/A"}},{"$f":"VLOOKUP(A18,Contrats!A:C,2,0)","v":{"$error":"#N/A"}},{"$f":"VLOOKUP(A18,Contrats!A:H,5,0)","v":{"$error":"#N/A"}}]
[null,"OK",{"$f":"VLOOKUP(A19,Contrats!A:C,3,0)","v":{"$error":"#N/A"}},{"$f":"VLOOKUP(A19,Contrats!A:C,2,0)","v":{"$error":"#N/A"}},{"$f":"VLOOKUP(A19,Contrats!A:H,5,0)","v":{"$error":"#N/A"}}]
[null,"OK",{"$f":"VLOOKUP(A20,Contrats!A:C,3,0)","v":{"$error":"#N/A"}},{"$f":"VLOOKUP(A20,Contrats!A:C,2,0)","v":{"$error":"#N/A"}},{"$f":"VLOOKUP(A20,Contrats!A:H,5,0)","v":{"$error":"#N/A"}}]
[null,"OK",{"$f":"VLOOKUP(A21,Contrats!A:C,3,0)","v":{"$error":"#N/A"}},{"$f":"VLOOKUP(A21,Contrats!A:C,2,0)","v":{"$error":"#N/A"}},{"$f":"VLOOKUP(A21,Contrats!A:H,5,0)","v":{"$error":"#N/A"}}]
[null,"OK",{"$f":"VLOOKUP(A22,Contrats!A:C,3,0)","v":{"$error":"#N/A"}},{"$f":"VLOOKUP(A22,Contrats!A:C,2,0)","v":{"$error":"#N/A"}},{"$f":"VLOOKUP(A22,Contrats!A:H,5,0)","v":{"$error":"#N/A"}}]
[null,"OK",{"$f":"VLOOKUP(A23,Contrats!A:C,3,0)","v":{"$error":"#N/A"}},{"$f":"VLOOKUP(A23,Contrats!A:C,2,0)","v":{"$error":"#N/A"}},{"$f":"VLOOKUP(A23,Contrats!A:H,5,0)","v":{"$error":"#N/A"}}]
[null,"OK",{"$f":"VLOOKUP(A24,Contrats!A:C,3,0)","v":{"$error":"#N/A"}},{"$f":"VLOOKUP(A24,Contrats!A:C,2,0)","v":{"$error":"#N/A"}},{"$f":"VLOOKUP(A24,Contrats!A:H,5,0)","v":{"$error":"#N/A"}}]
[null,"OK",{"$f":"VLOOKUP(A25,Contrats!A:C,3,0)","v":{"$error":"#N/A"}},{"$f":"VLOOKUP(A25,Contrats!A:C,2,0)","v":{"$error":"#N/A"}},{"$f":"VLOOKUP(A25,Contrats!A:H,5,0)","v":{"$error":"#N/A"}}]
[null,"OK",{"$f":"VLOOKUP(A26,Contrats!A:C,3,0)","v":{"$error":"#N/A"}},{"$f":"VLOOKUP(A26,Contrats!A:C,2,0)","v":{"$error":"#N/A"}},{"$f":"VLOOKUP(A26,Contrats!A:H,5,0)","v":{"$error":"#N/A"}}]
[null,"OK",{"$f":"VLOOKUP(A27,Contrats!A:C,3,0)","v":{"$error":"#N/A"}},{"$f":"VLOOKUP(A27,Contrats!A:C,2,0)","v":{"$error":"#N/A"}},{"$f":"VLOOKUP(A27,Contrats!A:H,5,0)","v":{"$error":"#N/A"}}]
[null,"OK",{"$f":"VLOOKUP(A28,Contrats!A:C,3,0)","v":{"$error":"#N/A"}},{"$f":"VLOOKUP(A28,Contrats!A:C,2,0)","v":{"$error":"#N/A"}},{"$f":"VLOOKUP(A28,Contrats!A:H,5,0)","v":{"$error":"#N/A"}}]
[null,"OK",{"$f":"VLOOKUP(A29,Contrats!A:C,3,0)","v":{"$error":"#N/A"}},{"$f":"VLOOKUP(A29,Contrats!A:C,2,0)","v":{"$error":"#N/A"}},{"$f":"VLOOKUP(A29,Contrats!A:H,5,0)","v":{"$error":"#N/A"}}]
[null,"OK",{"$f":"VLOOKUP(A30,Contrats!A:C,3,0)","v":{"$error":"#N/A"}},{"$f":"VLOOKUP(A30,Contrats!A:C,2,0)","v":{"$error":"#N/A"}},{"$f":"VLOOKUP(A30,Contrats!A:H,5,0)","v":{"$error":"#N/A"}}]
[null,"OK",{"$f":"VLOOKUP(A31,Contrats!A:C,3,0)","v":{"$error":"#N/A"}},{"$f":"VLOOKUP(A31,Contrats!A:C,2,0)","v":{"$error":"#N/A"}},{"$f":"VLOOKUP(A31,Contrats!A:H,5,0)","v":{"$error":"#N/A"}}]
[null,"OK",{"$f":"VLOOKUP(A32,Contrats!A:C,3,0)","v":{"$error":"#N/A"}},{"$f":"VLOOKUP(A32,Contrats!A:C,2,0)","v":{"$error":"#N/A"}},{"$f":"VLOOKUP(A32,Contrats!A:H,5,0)","v":{"$error":"#N/A"}}]
[null,"OK",{"$f":"VLOOKUP(A33,Contrats!A:C,3,0)","v":{"$error":"#N/A"}},{"$f":"VLOOKUP(A33,Contrats!A:C,2,0)","v":{"$error":"#N/A"}},{"$f":"VLOOKUP(A33,Contrats!A:H,5,0)","v":{"$error":"#N/A"}}]
[null,"OK",{"$f":"VLOOKUP(A34,Contrats!A:C,3,0)","v":{"$error":"#N/A"}},{"$f":"VLOOKUP(A34,Contrats!A:C,2,0)","v":{"$error":"#N/A"}},{"$f":"VLOOKUP(A34,Contrats!A:H,5,0)","v":{"$error":"#N/A"}}]
[null,"OK",{"$f":"VLOOKUP(A35,Contrats!A:C,3,0)","v":{"$error":"#N/A"}},{"$f":"VLOOKUP(A35,Contrats!A:C,2,0)","v":{"$error":"#N/A"}},{"$f":"VLOOKUP(A35,Contrats!A:H,5,0)","v":{"$error":"#N/A"}}]
[null,"OK",{"$f":"VLOOKUP(A36,Contrats!A:C,3,0)","v":{"$error":"#N/A"}},{"$f":"VLOOKUP(A36,Contrats!A:C,2,0)","v":{"$error":"#N/A"}},{"$f":"VLOOKUP(A36,Contrats!A:H,5,0)","v":{"$error":"#N/A"}}]
[null,"OK",{"$f":"VLOOKUP(A37,Contrats!A:C,3,0)","v":{"$error":"#N/A"}},{"$f":"VLOOKUP(A37,Contrats!A:C,2,0)","v":{"$error":"#N/A"}},{"$f":"VLOOKUP(A37,Contrats!A:H,5,0)","v":{"$error":"#N/A"}}]
[null,"OK",{"$f":"VLOOKUP(A38,Contrats!A:C,3,0)","v":{"$error":"#N/A"}},{"$f":"VLOOKUP(A38,Contrats!A:C,2,0)","v":{"$error":"#N/A"}},{"$f":"VLOOKUP(A38,Contrats!A:H,5,0)","v":{"$error":"#N/A"}}]
[null,"OK",{"$f":"VLOOKUP(A39,Contrats!A:C,3,0)","v":{"$error":"#N/A"}},{"$f":"VLOOKUP(A39,Contrats!A:C,2,0)","v":{"$error":"#N/A"}},{"$f":"VLOOKUP(A39,Contrats!A:H,5,0)","v":{"$error":"#N/A"}}]
[null,"OK",{"$f":"VLOOKUP(A40,Contrats!A:C,3,0)","v":{"$error":"#N/A"}},{"$f":"VLOOKUP(A40,Contrats!A:C,2,0)","v":{"$error":"#N/A"}},{"$f":"VLOOKUP(A40,Contrats!A:H,5,0)","v":{"$error":"#N/A"}}]
[null,"OK",{"$f":"VLOOKUP(A41,Contrats!A:C,3,0)","v":{"$error":"#N/A"}},{"$f":"VLOOKUP(A41,Contrats!A:C,2,0)","v":{"$error":"#N/A"}},{"$f":"VLOOKUP(A41,Contrats!A:H,5,0)","v":{"$error":"#N/A"}}]
[null,"OK",{"$f":"VLOOKUP(A42,Contrats!A:C,3,0)","v":{"$error":"#N/A"}},{"$f":"VLOOKUP(A42,Contrats!A:C,2,0)","v":{"$error":"#N/A"}},{"$f":"VLOOKUP(A42,Contrats!A:H,5,0)","v":{"$error":"#N/A"}}]
[null,"OK",{"$f":"VLOOKUP(A43,Contrats!A:C,3,0)","v":{"$error":"#N/A"}},{"$f":"VLOOKUP(A43,Contrats!A:C,2,0)","v":{"$error":"#N/A"}},{"$f":"VLOOKUP(A43,Contrats!A:H,5,0)","v":{"$error":"#N/A"}}]
[null,"OK",{"$f":"VLOOKUP(A44,Contrats!A:C,3,0)","v":{"$error":"#N/A"}},{"$f":"VLOOKUP(A44,Contrats!A:C,2,0)","v":{"$error":"#N/A"}},{"$f":"VLOOKUP(A44,Contrats!A:H,5,0)","v":{"$error":"#N/A"}}]
[null,"OK",{"$f":"VLOOKUP(A45,Contrats!A:C,3,0)","v":{"$error":"#N/A"}},{"$f":"VLOOKUP(A45,Contrats!A:C,2,0)","v":{"$error":"#N/A"}},{"$f":"VLOOKUP(A45,Contrats!A:H,5,0)","v":{"$error":"#N/A"}}]
[null,"OK",{"$f":"VLOOKUP(A46,Contrats!A:C,3,0)","v":{"$error":"#N/A"}},{"$f":"VLOOKUP(A46,Contrats!A:C,2,0)","v":{"$error":"#N/A"}},{"$f":"VLOOKUP(A46,Contrats!A:H,5,0)","v":{"$error":"#N/A"}}]
[null,"OK",{"$f":"VLOOKUP(A47,Contrats!A:C,3,0)","v":{"$error":"#N/A"}},{"$f":"VLOOKUP(A47,Contrats!A:C,2,0)","v":{"$error":"#N/A"}},{"$f":"VLOOKUP(A47,Contrats!A:H,5,0)","v":{"$error":"#N/A"}}]
[null,"OK",{"$f":"VLOOKUP(A48,Contrats!A:C,3,0)","v":{"$error":"#N/A"}},{"$f":"VLOOKUP(A48,Contrats!A:C,2,0)","v":{"$error":"#N/A"}},{"$f":"VLOOKUP(A48,Contrats!A:H,5,0)","v":{"$error":"#N/A"}}]
[null,"OK",{"$f":"VLOOKUP(A49,Contrats!A:C,3,0)","v":{"$error":"#N/A"}},{"$f":"VLOOKUP(A49,Contrats!A:C,2,0)","v":{"$error":"#N/A"}},{"$f":"VLOOKUP(A49,Contrats!A:H,5,0)","v":{"$error":"#N/A"}}]
[null,"OK",{"$f":"VLOOKUP(A50,Contrats!A:C,3,0)","v":{"$error":"#N/A"}},{"$f":"VLOOKUP(A50,Contrats!A:C,2,0)","v":{"$error":"#N/A"}},{"$f":"VLOOKUP(A50,Contrats!A:H,5,0)","v":{"$error":"#N/A"}}]
[null,"OK",{"$f":"VLOOKUP(A51,Contrats!A:C,3,0)","v":{"$error":"#N/A"}},{"$f":"VLOOKUP(A51,Contrats!A:C,2,0)","v":{"$error":"#N/A"}},{"$f":"VLOOKUP(A51,Contrats!A:H,5,0)","v":{"$error":"#N/A"}}]
[null,"OK",{"$f":"VLOOKUP(A52,Contrats!A:C,3,0)","v":{"$error":"#N/A"}},{"$f":"VLOOKUP(A52,Contrats!A:C,2,0)","v":{"$error":"#N/A"}},{"$f":"VLOOKUP(A52,Contrats!A:H,5,0)","v":{"$error":"#N/A"}}]
[null,"OK",{"$f":"VLOOKUP(A53,Contrats!A:C,3,0)","v":{"$error":"#N/A"}},{"$f":"VLOOKUP(A53,Contrats!A:C,2,0)","v":{"$error":"#N/A"}},{"$f":"VLOOKUP(A53,Contrats!A:H,5,0)","v":{"$error":"#N/A"}}]
[null,"OK",{"$f":"VLOOKUP(A54,Contrats!A:C,3,0)","v":{"$error":"#N/A"}},{"$f":"VLOOKUP(A54,Contrats!A:C,2,0)","v":{"$error":"#N/A"}},{"$f":"VLOOKUP(A54,Contrats!A:H,5,0)","v":{"$error":"#N/A"}}]
[null,"OK",{"$f":"VLOOKUP(A55,Contrats!A:C,3,0)","v":{"$error":"#N/A"}},{"$f":"VLOOKUP(A55,Contrats!A:C,2,0)","v":{"$error":"#N/A"}},{"$f":"VLOOKUP(A55,Contrats!A:H,5,0)","v":{"$error":"#N/A"}}]
[null,"OK",{"$f":"VLOOKUP(A56,Contrats!A:C,3,0)","v":{"$error":"#N/A"}},{"$f":"VLOOKUP(A56,Contrats!A:C,2,0)","v":{"$error":"#N/A"}},{"$f":"VLOOKUP(A56,Contrats!A:H,5,0)","v":{"$error":"#N/A"}}]
[null,"OK",{"$f":"VLOOKUP(A57,Contrats!A:C,3,0)","v":{"$error":"#N/A"}},{"$f":"VLOOKUP(A57,Contrats!A:C,2,0)","v":{"$error":"#N/A"}},{"$f":"VLOOKUP(A57,Contrats!A:H,5,0)","v":{"$error":"#N/A"}}]
[null,"OK",{"$f":"VLOOKUP(A58,Contrats!A:C,3,0)","v":{"$error":"#N/A"}},{"$f":"VLOOKUP(A58,Contrats!A:C,2,0)","v":{"$error":"#N/A"}},{"$f":"VLOOKUP(A58,Contrats!A:H,5,0)","v":{"$error":"#N/A"}}]
[null,"OK",{"$f":"VLOOKUP(A59,Contrats!A:C,3,0)","v":{"$error":"#N/A"}},{"$f":"VLOOKUP(A59,Contrats!A:C,2,0)","v":{"$error":"#N/A"}},{"$f":"VLOOKUP(A59,Contrats!A:H,5,0)","v":{"$error":"#N/A"}}]
[null,"OK",{"$f":"VLOOKUP(A60,Contrats!A:C,3,0)","v":{"$error":"#N/A"}},{"$f":"VLOOKUP(A60,Contrats!A:C,2,0)","v":{"$error":"#N/A"}},{"$f":"VLOOKUP(A60,Contrats!A:H,5,0)","v":{"$error":"#N/A"}}]
[null,"OK",{"$f":"VLOOKUP(A61,Contrats!A:C,3,0)","v":{"$error":"#N/A"}},{"$f":"VLOOKUP(A61,Contrats!A:C,2,0)","v":{"$error":"#N/A"}},{"$f":"VLOOKUP(A61,Contrats!A:H,5,0)","v":{"$error":"#N/A"}}]
[null,"OK",{"$f":"VLOOKUP(A62,Contrats!A:C,3,0)","v":{"$error":"#N/A"}},{"$f":"VLOOKUP(A62,Contrats!A:C,2,0)","v":{"$error":"#N/A"}},{"$f":"VLOOKUP(A62,Contrats!A:H,5,0)","v":{"$error":"#N/A"}}]
[null,"OK",{"$f":"VLOOKUP(A63,Contrats!A:C,3,0)","v":{"$error":"#N/A"}},{"$f":"VLOOKUP(A63,Contrats!A:C,2,0)","v":{"$error":"#N/A"}},{"$f":"VLOOKUP(A63,Contrats!A:H,5,0)","v":{"$error":"#N/A"}}]
[null,"OK",{"$f":"VLOOKUP(A64,Contrats!A:C,3,0)","v":{"$error":"#N/A"}},{"$f":"VLOOKUP(A64,Contrats!A:C,2,0)","v":{"$error":"#N/A"}},{"$f":"VLOOKUP(A64,Contrats!A:H,5,0)","v":{"$error":"#N/A"}}]
[null,"OK",{"$f":"VLOOKUP(A65,Contrats!A:C,3,0)","v":{"$error":"#N/A"}},{"$f":"VLOOKUP(A65,Contrats!A:C,2,0)","v":{"$error":"#N/A"}},{"$f":"VLOOKUP(A65,Contrats!A:H,5,0)","v":{"$error":"#N/A"}}]
[null,"OK",{"$f":"VLOOKUP(A66,Contrats!A:C,3,0)","v":{"$error":"#N/A"}},{"$f":"VLOOKUP(A66,Contrats!A:C,2,0)","v":{"$error":"#N/A"}},{"$f":"VLOOKUP(A66,Contrats!A:H,5,0)","v":{"$error":"#N/A"}}]
[null,"OK",{"$f":"VLOOKUP(A67,Contrats!A:C,3,0)","v":{"$error":"#N/A"}},{"$f":"VLOOKUP(A67,Contrats!A:C,2,0)","v":{"$error":"#N/A"}},{"$f":"VLOOKUP(A67,Contrats!A:H,5,0)","v":{"$error":"#N/A"}}]
[null,"OK",{"$f":"VLOOKUP(A68,Contrats!A:C,3,0)","v":{"$error":"#N/A"}},{"$f":"VLOOKUP(A68,Contrats!A:C,2,0)","v":{"$error":"#N/A"}},{"$f":"VLOOKUP(A68,Contrats!A:H,5,0)","v":{"$error":"#N/A"}}]
[null,"OK",{"$f":"VLOOKUP(A69,Contrats!A:C,3,0)","v":{"$error":"#N/A"}},{"$f":"VLOOKUP(A69,Contrats!A:C,2,0)","v":{"$error":"#N/A"}},{"$f":"VLOOKUP(A69,Contrats!A:H,5,0)","v":{"$error":"#N/A"}}]
[null,"OK",{"$f":"VLOOKUP(A70,Contrats!A:C,3,0)","v":{"$error":"#N/A"}},{"$f":"VLOOKUP(A70,Contrats!A:C,2,0)","v":{"$error":"#N/A"}},{"$f":"VLOOKUP(A70,Contrats!A:H,5,0)","v":{"$error":"#N/A"}}]
[null,"OK",{"$f":"VLOOKUP(A71,Contrats!A:C,3,0)","v":{"$error":"#N/A"}},{"$f":"VLOOKUP(A71,Contrats!A:C,2,0)","v":{"$error":"#N/A"}},{"$f":"VLOOKUP(A71,Contrats!A:H,5,0)","v":{"$error":"#N/A"}}]
[null,"OK",{"$f":"VLOOKUP(A72,Contrats!A:C,3,0)","v":{"$error":"#N/A"}},{"$f":"VLOOKUP(A72,Contrats!A:C,2,0)","v":{"$error":"#N/A"}},{"$f":"VLOOKUP(A72,Contrats!A:H,5,0)","v":{"$error":"#N/A"}}]
[null,"OK",{"$f":"VLOOKUP(A73,Contrats!A:C,3,0)","v":{"$error":"#N/A"}},{"$f":"VLOOKUP(A73,Contrats!A:C,2,0)","v":{"$error":"#N/A"}},{"$f":"VLOOKUP(A73,Contrats!A:H,5,0)","v":{"$error":"#N/A"}}]
[null,"OK",{"$f":"VLOOKUP(A74,Contrats!A:C,3,0)","v":{"$error":"#N/A"}},{"$f":"VLOOKUP(A74,Contrats!A:C,2,0)","v":{"$error":"#N/A"}},{"$f":"VLOOKUP(A74,Contrats!A:H,5,0)","v":{"$error":"#N/A"}}]
[null,"OK",{"$f":"VLOOKUP(A75,Contrats!A:C,3,0)","v":{"$error":"#N/A"}},{"$f":"VLOOKUP(A75,Contrats!A:C,2,0)","v":{"$error":"#N/A"}},{"$f":"VLOOKUP(A75,Contrats!A:H,5,0)","v":{"$error":"#N/A"}}]
[null,"OK",{"$f":"VLOOKUP(A76,Contrats!A:C,3,0)","v":{"$error":"#N/A"}},{"$f":"VLOOKUP(A76,Contrats!A:C,2,0)","v":{"$error":"#N/A"}},{"$f":"VLOOKUP(A76,Contrats!A:H,5,0)","v":{"$error":"#N/A"}}]
[null,"OK",{"$f":"VLOOKUP(A77,Contrats!A:C,3,0)","v":{"$error":"#N/A"}},{"$f":"VLOOKUP(A77,Contrats!A:C,2,0)","v":{"$error":"#N/A"}},{"$f":"VLOOKUP(A77,Contrats!A:H,5,0)","v":{"$error":"#N/A"}}]
[null,"OK",{"$f":"VLOOKUP(A78,Contrats!A:C,3,0)","v":{"$error":"#N/A"}},{"$f":"VLOOKUP(A78,Contrats!A:C,2,0)","v":{"$error":"#N/A"}},{"$f":"VLOOKUP(A78,Contrats!A:H,5,0)","v":{"$error":"#N/A"}}]
[null,"OK",{"$f":"VLOOKUP(A79,Contrats!A:C,3,0)","v":{"$error":"#N/A"}},{"$f":"VLOOKUP(A79,Contrats!A:C,2,0)","v":{"$error":"#N/A"}},{"$f":"VLOOKUP(A79,Contrats!A:H,5,0)","v":{"$error":"#N/A"}}]
[null,"OK",{"$f":"VLOOKUP(A80,Contrats!A:C,3,0)","v":{"$error":"#N/A"}},{"$f":"VLOOKUP(A80,Contrats!A:C,2,0)","v":{"$error":"#N/A"}},{"$f":"VLOOKUP(A80,Contrats!A:H,5,0)","v":{"$error":"#N/A"}}]
[null,"OK",{"$f":"VLOOKUP(A81,Contrats!A:C,3,0)","v":{"$error":"#N/A"}},{"$f":"VLOOKUP(A81,Contrats!A:C,2,0)","v":{"$error":"#N/A"}},{"$f":"VLOOKUP(A81,Contrats!A:H,5,0)","v":{"$error":"#N/A"}}]
[null,"OK",{"$f":"VLOOKUP(A82,Contrats!A:C,3,0)","v":{"$error":"#N/A"}},{"$f":"VLOOKUP(A82,Contrats!A:C,2,0)","v":{"$error":"#N/A"}},{"$f":"VLOOKUP(A82,Contrats!A:H,5,0)","v":{"$error":"#N/A"}}]
[null,"OK",{"$f":"VLOOKUP(A83,Contrats!A:C,3,0)","v":{"$error":"#N/A"}},{"$f":"VLOOKUP(A83,Contrats!A:C,2,0)","v":{"$error":"#N/A"}},{"$f":"VLOOKUP(A83,Contrats!A:H,5,0)","v":{"$error":"#N/A"}}]
[null,"OK",{"$f":"VLOOKUP(A84,Contrats!A:C,3,0)","v":{"$error":"#N/A"}},{"$f":"VLOOKUP(A84,Contrats!A:C,2,0)","v":{"$error":"#N/A"}},{"$f":"VLOOKUP(A84,Contrats!A:H,5,0)","v":{"$error":"#N/A"}}]
[null,"OK",{"$f":"VLOOKUP(A85,Contrats!A:C,3,0)","v":{"$error":"#N/A"}},{"$f":"VLOOKUP(A85,Contrats!A:C,2,0)","v":{"$error":"#N/A"}},{"$f":"VLOOKUP(A85,Contrats!A:H,5,0)","v":{"$error":"#N/A"}}]
[null,"OK",{"$f":"VLOOKUP(A86,Contrats!A:C,3,0)","v":{"$error":"#N/A"}},{"$f":"VLOOKUP(A86,Contrats!A:C,2,0)","v":{"$error":"#N/A"}},{"$f":"VLOOKUP(A86,Contrats!A:H,5,0)","v":{"$error":"#N/A"}}]
[null,"OK",{"$f":"VLOOKUP(A87,Contrats!A:C,3,0)","v":{"$error":"#N/A"}},{"$f":"VLOOKUP(A87,Contrats!A:C,2,0)","v":{"$error":"#N/A"}},{"$f":"VLOOKUP(A87,Contrats!A:H,5,0)","v":{"$error":"#N/A"}}]
[null,"OK",{"$f":"VLOOKUP(A88,Contrats!A:C,3,0)","v":{"$error":"#N/A"}},{"$f":"VLOOKUP(A88,Contrats!A:C,2,0)","v":{"$error":"#N/A"}},{"$f":"VLOOKUP(A88,Contrats!A:H,5,0)","v":{"$error":"#N/A"}}]
[null,"OK",{"$f":"VLOOKUP(A89,Contrats!A:C,3,0)","v":{"$error":"#N/A"}},{"$f":"VLOOKUP(A89,Contrats!A:C,2,0)","v":{"$error":"#N/A"}},{"$f":"VLOOKUP(A89,Contrats!A:H,5,0)","v":{"$error":"#N/A"}}]
[null,"OK",{"$f":"VLOOKUP(A90,Contrats!A:C,3,0)","v":{"$error":"#N/A"}},{"$f":"VLOOKUP(A90,Contrats!A:C,2,0)","v":{"$error":"#N/A"}},{"$f":"VLOOKUP(A90,Contrats!A:H,5,0)","v":{"$error":"#N/A"}}]
[null,"OK",{"$f":"VLOOKUP(A91,Contrats!A:C,3,0)","v":{"$error":"#N/A"}},{"$f":"VLOOKUP(A91,Contrats!A:C,2,0)","v":{"$error":"#N/A"}},{"$f":"VLOOKUP(A91,Contrats!A:H,5,0)","v":{"$error":"#N/A"}}]
[null,"OK",{"$f":"VLOOKUP(A92,Contrats!A:C,3,0)","v":{"$error":"#N/A"}},{"$f":"VLOOKUP(A92,Contrats!A:C,2,0)","v":{"$error":"#N/A"}},{"$f":"VLOOKUP(A92,Contrats!A:H,5,0)","v":{"$error":"#N/A"}}]
[null,"OK",{"$f":"VLOOKUP(A93,Contrats!A:C,3,0)","v":{"$error":"#N/A"}},{"$f":"VLOOKUP(A93,Contrats!A:C,2,0)","v":{"$error":"#N/A"}},{"$f":"VLOOKUP(A93,Contrats!A:H,5,0)","v":{"$error":"#N/A"}}]
[null,"OK",{"$f":"VLOOKUP(A94,Contrats!A:C,3,0)","v":{"$error":"#N/A"}},{"$f":"VLOOKUP(A94,Contrats!A:C,2,0)","v":{"$error":"#N/A"}},{"$f":"VLOOKUP(A94,Contrats!A:H,5,0)","v":{"$error":"#N/A"}}]
[null,"OK",{"$f":"VLOOKUP(A95,Contrats!A:C,3,0)","v":{"$error":"#N/A"}},{"$f":"VLOOKUP(A95,Contrats!A:C,2,0)","v":{"$error":"#N/A"}},{"$f":"VLOOKUP(A95,Contrats!A:H,5,0)","v":{"$error":"#N/A"}}]
[null,"OK",{"$f":"VLOOKUP(A96,Contrats!A:C,3,0)","v":{"$error":"#N/A"}},{"$f":"VLOOKUP(A96,Contrats!A:C,2,0)","v":{"$error":"#N/A"}},{"$f":"VLOOKUP(A96,Contrats!A:H,5,0)","v":{"$error":"#N/A"}}]
[null,"OK",{"$f":"VLOOKUP(A97,Contrats!A:C,3,0)","v":{"$error":"#N/A"}},{"$f":"VLOOKUP(A97,Contrats!A:C,2,0)","v":{"$error":"#N/A"}},{"$f":"VLOOKUP(A97,Contrats!A:H,5,0)","v":{"$error":"#N/A"}}]
[null,"OK",{"$f":"VLOOKUP(A98,Contrats!A:C,3,0)","v":{"$error":"#N/A"}},{"$f":"VLOOKUP(A98,Contrats!A:C,2,0)","v":{"$error":"#N/A"}},{"$f":"VLOOKUP(A98,Contrats!A:H,5,0)","v":{"$error":"#N/A"}}]
[null,"OK",{"$f":"VLOOKUP(A99,Contrats!A:C,3,0)","v":{"$error":"#N/A"}},{"$f":"VLOOKUP(A99,Contrats!A:C,2,0)","v":{"$error":"#N/A"}},{"$f":"VLOOKUP(A99,Contrats!A:H,5,0)","v":{"$error":"#N/A"}}]
[null,"OK",{"$f":"VLOOKUP(A100,Contrats!A:C,3,0)","v":{"$error":"#N/A"}},{"$f":"VLOOKUP(A100,Contrats!A:C,2,0)","v":{"$error":"#N/A"}},{"$f":"VLOOKUP(A100,Contrats!A:H,5,0)","v":{"$error":"#N/A"}}]
[null,"OK",{"$f":"VLOOKUP(A101,Contrats!A:C,3,0)","v":{"$error":"#N/A"}},{"$f":"VLOOKUP(A101,Contrats!A:C,2,0)","v":{"$error":"#N/A"}},{"$f":"VLOOKUP(A101,Contrats!A:H,5,0)","v":{"$error":"#N/A"}}]
[null,"OK",{"$f":"VLOOKUP(A102,Contrats!A:C,3,0)","v":{"$error":"#N/A"}},{"$f":"VLOOKUP(A102,Contrats!A:C,2,0)","v":{"$error":"#N/A"}},{"$f":"VLOOKUP(A102,Contrats!A:H,5,0)","v":{"$error":"#N/A"}}]
[null,"OK",{"$f":"VLOOKUP(A103,Contrats!A:C,3,0)","v":{"$error":"#N/A"}},{"$f":"VLOOKUP(A103,Contrats!A:C,2,0)","v":{"$error":"#N/A"}},{"$f":"VLOOKUP(A103,Contrats!A:H,5,0)","v":{"$error":"#N/A"}}]
[null,"OK",{"$f":"VLOOKUP(A104,Contrats!A:C,3,0)","v":{"$error":"#N/A"}},{"$f":"VLOOKUP(A104,Contrats!A:C,2,0)","v":{"$error":"#N/A"}},{"$f":"VLOOKUP(A104,Contrats!A:H,5,0)","v":{"$error":"#N/A"}}]
[null,"OK",{"$f":"VLOOKUP(A105,Contrats!A:C,3,0)","v":{"$error":"#N/A"}},{"$f":"VLOOKUP(A105,Contrats!A:C,2,0)","v":{"$error":"#N/A"}},{"$f":"VLOOKUP(A105,Contrats!A:H,5,0)","v":{"$error":"#N/A"}}]
[null,"OK",{"$f":"VLOOKUP(A106,Contrats!A:C,3,0)","v":{"$error":"#N/A"}},{"$f":"VLOOKUP(A106,Contrats!A:C,2,0)","v":{"$error":"#N/A"}},{"$f":"VLOOKUP(A106,Contrats!A:H,5,0)","v":{"$error":"#N/A"}}]
[null,"OK",{"$f":"VLOOKUP(A107,Contrats!A:C,3,0)","v":{"$error":"#N/A"}},{"$f":"VLOOKUP(A107,Contrats!A:C,2,0)","v":{"$error":"#N/A"}},{"$f":"VLOOKUP(A107,Contrats!A:H,5,0)","v":{"$error":"#N/A"}}]
[null,"OK",{"$f":"VLOOKUP(A108,Contrats!A:C,3,0)","v":{"$error":"#N/A"}},{"$f":"VLOOKUP(A108,Contrats!A:C,2,0)","v":{"$error":"#N/A"}},{"$f":"VLOOKUP(A108,Contrats!A:H,5,0)","v":{"$error":"#N/A"}}]
[null,"OK",{"$f":"VLOOKUP(A109,Contrats!A:C,3,0)","v":{"$error":"#N/A"}},{"$f":"VLOOKUP(A109,Contrats!A:C,2,0)","v":{"$error":"#N/A"}},{"$f":"VLOOKUP(A109,Contrats!A:H,5,0)","v":{"$error":"#N/A"}}]
[null,"OK",{"$f":"VLOOKUP(A110,Contrats!A:C,3,0)","v":{"$error":"#N/A"}},{"$f":"VLOOKUP(A110,Contrats!A:C,2,0)","v":{"$error":"#N/A"}},{"$f":"VLOOKUP(A110,Contrats!A:H,5,0)","v":{"$error":"#N/A"}}]
[null,"OK",{"$f":"VLOOKUP(A111,Contrats!A:C,3,0)","v":{"$error":"#N/A"}},{"$f":"VLOOKUP(A111,Contrats!A:C,2,0)","v":{"$error":"#N/A"}},{"$f":"VLOOKUP(A111,Contrats!A:H,5,0)","v":{"$error":"#N/A"}}]
[null,"OK",{"$f":"VLOOKUP(A112,Contrats!A:C,3,0)","v":{"$error":"#N/A"}},{"$f":"VLOOKUP(A112,Contrats!A:C,2,0)","v":{"$error":"#N/A"}},{"$f":"VLOOKUP(A112,Contrats!A:H,5,0)","v":{"$error":"#N/A"}}]
[null,"OK",{"$f":"VLOOKUP(A113,Contrats!A:C,3,0)","v":{"$error":"#N/A"}},{"$f":"VLOOKUP(A113,Contrats!A:C,2,0)","v":{"$error":"#N/A"}},{"$f":"VLOOKUP(A113,Contrats!A:H,5,0)","v":{"$error":"#N/A"}}]
[null,"OK",{"$f":"VLOOKUP(A114,Contrats!A:C,3,0)","v":{"$error":"#N/A"}},{"$f":"VLOOKUP(A114,Contrats!A:C,2,0)","v":{"$error":"#N/A"}},{"$f":"VLOOKUP(A114,Contrats!A:H,5,0)","v":{"$error":"#N/A"}}]
[null,"OK",{"$f":"VLOOKUP(A115,Contrats!A:C,3,0)","v":{"$error":"#N/A"}},{"$f":"VLOOKUP(A115,Contrats!A:C,2,0)","v":{"$error":"#N/A"}},{"$f":"VLOOKUP(A115,Contrats!A:H,5,0)","v":{"$error":"#N/A"}}]
[null,"OK",{"$f":"VLOOKUP(A116,Contrats!A:C,3,0)","v":{"$error":"#N/A"}},{"$f":"VLOOKUP(A116,Contrats!A:C,2,0)","v":{"$error":"#N/A"}},{"$f":"VLOOKUP(A116,Contrats!A:H,5,0)","v":{"$error":"#N/A"}}]
[null,"OK",{"$f":"VLOOKUP(A117,Contrats!A:C,3,0)","v":{"$error":"#N/A"}},{"$f":"VLOOKUP(A117,Contrats!A:C,2,0)","v":{"$error":"#N/A"}},{"$f":"VLOOKUP(A117,Contrats!A:H,5,0)","v":{"$error":"#N/A"}}]
[null,"OK",{"$f":"VLOOKUP(A118,Contrats!A:C,3,0)","v":{"$error":"#N/A"}},{"$f":"VLOOKUP(A118,Contrats!A:C,2,0)","v":{"$error":"#N/A"}},{"$f":"VLOOKUP(A118,Contrats!A:H,5,0)","v":{"$error":"#N/A"}}]
[null,"OK",{"$f":"VLOOKUP(A119,Contrats!A:C,3,0)","v":{"$error":"#N/A"}},{"$f":"VLOOKUP(A119,Contrats!A:C,2,0)","v":{"$error":"#N/A"}},{"$f":"VLOOKUP(A119,Contrats!A:H,5,0)","v":{"$error":"#N/A"}}]
[null,"OK",{"$f":"VLOOKUP(A120,Contrats!A:C,3,0)","v":{"$error":"#N/A"}},{"$f":"VLOOKUP(A120,Contrats!A:C,2,0)","v":{"$error":"#N/A"}},{"$f":"VLOOKUP(A120,Contrats!A:H,5,0)","v":{"$error":"#N/A"}}]
[null,"OK",{"$f":"VLOOKUP(A121,Contrats!A:C,3,0)","v":{"$error":"#N/A"}},{"$f":"VLOOKUP(A121,Contrats!A:C,2,0)","v":{"$error":"#N/A"}},{"$f":"VLOOKUP(A121,Contrats!A:H,5,0)","v":{"$error":"#N/A"}}]
[null,"OK",{"$f":"VLOOKUP(A122,Contrats!A:C,3,0)","v":{"$error":"#N/A"}},{"$f":"VLOOKUP(A122,Contrats!A:C,2,0)","v":{"$error":"#N/A"}},{"$f":"VLOOKUP(A122,Contrats!A:H,5,0)","v":{"$error":"#N/A"}}]
[null,"OK",{"$f":"VLOOKUP(A123,Contrats!A:C,3,0)","v":{"$error":"#N/A"}},{"$f":"VLOOKUP(A123,Contrats!A:C,2,0)","v":{"$error":"#N/A"}},{"$f":"VLOOKUP(A123,Contrats!A:H,5,0)","v":{"$error":"#N/A"}}]
[null,"OK",{"$f":"VLOOKUP(A124,Contrats!A:C,3,0)","v":{"$error":"#N/A"}},{"$f":"VLOOKUP(A124,Contrats!A:C,2,0)","v":{"$error":"#N/A"}},{"$f":"VLOOKUP(A124,Contrats!A:H,5,0)","v":{"$error":"#N/A"}}]
[null,"OK",{"$f":"VLOOKUP(A125,Contrats!A:C,3,0)","v":{"$error":"#N/A"}},{"$f":"VLOOKUP(A125,Contrats!A:C,2,0)","v":{"$error":"#N/A"}},{"$f":"VLOOKUP(A125,Contrats!A:H,5,0)","v":{"$error":"#N/A"}}]
[null,"OK",{"$f":"VLOOKUP(A126,Contrats!A:C,3,0)","v":{"$error":"#N/A"}},{"$f":"VLOOKUP(A126,Contrats!A:C,2,0)","v":{"$error":"#N/A"}},{"$f":"VLOOKUP(A126,Contrats!A:H,5,0)","v":{"$error":"#N/A"}}]
[null,"OK",{"$f":"VLOOKUP(A127,Contrats!A:C,3,0)","v":{"$error":"#N/A"}},{"$f":"VLOOKUP(A127,Contrats!A:C,2,0)","v":{"$error":"#N/A"}},{"$f":"VLOOKUP(A127,Contrats!A:H,5,0)","v":{"$error":"#N/A"}}]
[null,"OK",{"$f":"VLOOKUP(A128,Contrats!A:C,3,0)","v":{"$error":"#N/A"}},{"$f":"VLOOKUP(A128,Contrats!A:C,2,0)","v":{"$error":"#N/A"}},{"$f":"VLOOKUP(A128,Contrats!A:H,5,0)","v":{"$error":"#N/A"}}]
[null,"OK",{"$f":"VLOOKUP(A129,Contrats!A:C,3,0)","v":{"$error":"#N/A"}},{"$f":"VLOOKUP(A129,Contrats!A:C,2,0)","v":{"$error":"#N/A"}},{"$f":"VLOOKUP(A129,Contrats!A:H,5,0)","v":{"$error":"#N/A"}}]
[null,"OK",{"$f":"VLOOKUP(A130,Contrats!A:C,3,0)","v":{"$error":"#N/A"}},{"$f":"VLOOKUP(A130,Contrats!A:C,2,0)","v":{"$error":"#N/A"}},{"$f":"VLOOKUP(A130,Contrats!A:H,5,0)","v":{"$error":"#N/A"}}]
[null,"OK",{"$f":"VLOOKUP(A131,Contrats!A:C,3,0)","v":{"$error":"#N/A"}},{"$f":"VLOOKUP(A131,Contrats!A:C,2,0)","v":{"$error":"#N/A"}},{"$f":"VLOOKUP(A131,Contrats!A:H,5,0)","v":{"$error":"#N/A"}}]
[null,"OK",{"$f":"VLOOKUP(A132,Contrats!A:C,3,0)","v":{"$error":"#N/A"}},{"$f":"VLOOKUP(A132,Contrats!A:C,2,0)","v":{"$error":"#N/A"}},{"$f":"VLOOKUP(A132,Contrats!A:H,5,0)","v":{"$error":"#N/A"}}]
[null,"OK",{"$f":"VLOOKUP(A133,Contrats!A:C,3,0)","v":{"$error":"#N/A"}},{"$f":"VLOOKUP(A133,Contrats!A:C,2,0)","v":{"$error":"#N/A"}},{"$f":"VLOOKUP(A133,Contrats!A:H,5,0)","v":{"$error":"#N/A"}}]
[null,"OK",{"$f":"VLOOKUP(A134,Contrats!A:C,3,0)","v":{"$error":"#N/A"}},{"$f":"VLOOKUP(A134,Contrats!A:C,2,0)","v":{"$error":"#N/A"}},{"$f":"VLOOKUP(A134,Contrats!A:H,5,0)","v":{"$error":"#N/A"}}]
[null,"OK",{"$f":"VLOOKUP(A135,Contrats!A:C,3,0)","v":{"$error":"#N/A"}},{"$f":"VLOOKUP(A135,Contrats!A:C,2,0)","v":{"$error":"#N/A"}},{"$f":"VLOOKUP(A135,Contrats!A:H,5,0)","v":{"$error":"#N/A"}}]
[null,"OK",{"$f":"VLOOKUP(A136,Contrats!A:C,3,0)","v":{"$error":"#N/A"}},{"$f":"VLOOKUP(A136,Contrats!A:C,2,0)","v":{"$error":"#N/A"}},{"$f":"VLOOKUP(A136,Contrats!A:H,5,0)","v":{"$error":"#N/A"}}]
[null,"OK",{"$f":"VLOOKUP(A137,Contrats!A:C,3,0)","v":{"$error":"#N/A"}},{"$f":"VLOOKUP(A137,Contrats!A:C,2,0)","v":{"$error":"#N/A"}},{"$f":"VLOOKUP(A137,Contrats!A:H,5,0)","v":{"$error":"#N/A"}}]
[null,"OK",{"$f":"VLOOKUP(A138,Contrats!A:C,3,0)","v":{"$error":"#N/A"}},{"$f":"VLOOKUP(A138,Contrats!A:C,2,0)","v":{"$error":"#N/A"}},{"$f":"VLOOKUP(A138,Contrats!A:H,5,0)","v":{"$error":"#N/A"}}]
[null,"OK",{"$f":"VLOOKUP(A139,Contrats!A:C,3,0)","v":{"$error":"#N/A"}},{"$f":"VLOOKUP(A139,Contrats!A:C,2,0)","v":{"$error":"#N/A"}},{"$f":"VLOOKUP(A139,Contrats!A:H,5,0)","v":{"$error":"#N/A"}}]
[null,"OK",{"$f":"VLOOKUP(A140,Contrats!A:C,3,0)","v":{"$error":"#N/A"}},{"$f":"VLOOKUP(A140,Contrats!A:C,2,0)","v":{"$error":"#N/A"}},{"$f":"VLOOKUP(A140,Contrats!A:H,5,0)","v":{"$error":"#N/A"}}]
[null,"OK",{"$f":"VLOOKUP(A141,Contrats!A:C,3,0)","v":{"$error":"#N/A"}},{"$f":"VLOOKUP(A141,Contrats!A:C,2,0)","v":{"$error":"#N/A"}},{"$f":"VLOOKUP(A141,Contrats!A:H,5,0)","v":{"$error":"#N/A"}}]
[null,"OK",{"$f":"VLOOKUP(A142,Contrats!A:C,3,0)","v":{"$error":"#N/A"}},{"$f":"VLOOKUP(A142,Contrats!A:C,2,0)","v":{"$error":"#N/A"}},{"$f":"VLOOKUP(A142,Contrats!A:H,5,0)","v":{"$error":"#N/A"}}]
[null,"OK",{"$f":"VLOOKUP(A143,Contrats!A:C,3,0)","v":{"$error":"#N/A"}},{"$f":"VLOOKUP(A143,Contrats!A:C,2,0)","v":{"$error":"#N/A"}},{"$f":"VLOOKUP(A143,Contrats!A:H,5,0)","v":{"$error":"#N/A"}}]
[null,"OK",{"$f":"VLOOKUP(A144,Contrats!A:C,3,0)","v":{"$error":"#N/A"}},{"$f":"VLOOKUP(A144,Contrats!A:C,2,0)","v":{"$error":"#N/A"}},{"$f":"VLOOKUP(A144,Contrats!A:H,5,0)","v":{"$error":"#N/A"}}]
[null,"OK",{"$f":"VLOOKUP(A145,Contrats!A:C,3,0)","v":{"$error":"#N/A"}},{"$f":"VLOOKUP(A145,Contrats!A:C,2,0)","v":{"$error":"#N/A"}},{"$f":"VLOOKUP(A145,Contrats!A:H,5,0)","v":{"$error":"#N/A"}}]
[null,"OK",{"$f":"VLOOKUP(A146,Contrats!A:C,3,0)","v":{"$error":"#N/A"}},{"$f":"VLOOKUP(A146,Contrats!A:C,2,0)","v":{"$error":"#N/A"}},{"$f":"VLOOKUP(A146,Contrats!A:H,5,0)","v":{"$error":"#N/A"}}]
[null,"OK",{"$f":"VLOOKUP(A147,Contrats!A:C,3,0)","v":{"$error":"#N/A"}},{"$f":"VLOOKUP(A147,Contrats!A:C,2,0)","v":{"$error":"#N/A"}},{"$f":"VLOOKUP(A147,Contrats!A:H,5,0)","v":{"$error":"#N/A"}}]
[null,"OK",{"$f":"VLOOKUP(A148,Contrats!A:C,3,0)","v":{"$error":"#N/A"}},{"$f":"VLOOKUP(A148,Contrats!A:C,2,0)","v":{"$error":"#N/A"}},{"$f":"VLOOKUP(A148,Contrats!A:H,5,0)","v":{"$error":"#N/A"}}]
[null,"OK",{"$f":"VLOOKUP(A149,Contrats!A:C,3,0)","v":{"$error":"#N/A"}},{"$f":"VLOOKUP(A149,Contrats!A:C,2,0)","v":{"$error":"#N/A"}},{"$f":"VLOOKUP(A149,Contrats!A:H,5,0)","v":{"$error":"#N/A"}}]
[null,"OK",{"$f":"VLOOKUP(A150,Contrats!A:C,3,0)","v":{"$error":"#N/A"}},{"$f":"VLOOKUP(A150,Contrats!A:C,2,0)","v":{"$error":"#N/A"}},{"$f":"VLOOKUP(A150,Contrats!A:H,5,0)","v":{"$error":"#N/A"}}]
[null,"OK",{"$f":"VLOOKUP(A151,Contrats!A:C,3,0)","v":{"$error":"#N/A"}},{"$f":"VLOOKUP(A151,Contrats!A:C,2,0)","v":{"$error":"#N/A"}},{"$f":"VLOOKUP(A151,Contrats!A:H,5,0)","v":{"$error":"#N/A"}}]
[null,"OK",{"$f":"VLOOKUP(A152,Contrats!A:C,3,0)","v":{"$error":"#N/A"}},{"$f":"VLOOKUP(A152,Contrats!A:C,2,0)","v":{"$error":"#N/A"}},{"$f":"VLOOKUP(A152,Contrats!A:H,5,0)","v":{"$error":"#N/A"}}]
[null,"OK",{"$f":"VLOOKUP(A153,Contrats!A:C,3,0)","v":{"$error":"#N/A"}},{"$f":"VLOOKUP(A153,Contrats!A:C,2,0)","v":{"$error":"#N/A"}},{"$f":"VLOOKUP(A153,Contrats!A:H,5,0)","v":{"$error":"#N/A"}}]
[null,"OK",{"$f":"VLOOKUP(A154,Contrats!A:C,3,0)","v":{"$error":"#N/A"}},{"$f":"VLOOKUP(A154,Contrats!A:C,2,0)","v":{"$error":"#N/A"}},{"$f":"VLOOKUP(A154,Contrats!A:H,5,0)","v":{"$error":"#N/A"}}]
[null,"OK",{"$f":"VLOOKUP(A155,Contrats!A:C,3,0)","v":{"$error":"#N/A"}},{"$f":"VLOOKUP(A155,Contrats!A:C,2,0)","v":{"$error":"#N/A"}},{"$f":"VLOOKUP(A155,Contrats!A:H,5,0)","v":{"$error":"#N/A"}}]
[null,"OK",{"$f":"VLOOKUP(A156,Contrats!A:C,3,0)","v":{"$error":"#N/A"}},{"$f":"VLOOKUP(A156,Contrats!A:C,2,0)","v":{"$error":"#N/A"}},{"$f":"VLOOKUP(A156,Contrats!A:H,5,0)","v":{"$error":"#N/A"}}]
[null,"OK",{"$f":"VLOOKUP(A157,Contrats!A:C,3,0)","v":{"$error":"#N/A"}},{"$f":"VLOOKUP(A157,Contrats!A:C,2,0)","v":{"$error":"#N/A"}},{"$f":"VLOOKUP(A157,Contrats!A:H,5,0)","v":{"$error":"#N/A"}}]
[null,"OK",{"$f":"VLOOKUP(A158,Contrats!A:C,3,0)","v":{"$error":"#N/A"}},{"$f":"VLOOKUP(A158,Contrats!A:C,2,0)","v":{"$error":"#N/A"}},{"$f":"VLOOKUP(A158,Contrats!A:H,5,0)","v":{"$error":"#N/A"}}]
[null,"OK",{"$f":"VLOOKUP(A159,Contrats!A:C,3,0)","v":{"$error":"#N/A"}},{"$f":"VLOOKUP(A159,Contrats!A:C,2,0)","v":{"$error":"#N/A"}},{"$f":"VLOOKUP(A159,Contrats!A:H,5,0)","v":{"$error":"#N/A"}}]
[null,"OK",{"$f":"VLOOKUP(A160,Contrats!A:C,3,0)","v":{"$error":"#N/A"}},{"$f":"VLOOKUP(A160,Contrats!A:C,2,0)","v":{"$error":"#N/A"}},{"$f":"VLOOKUP(A160,Contrats!A:H,5,0)","v":{"$error":"#N/A"}}]
[null,"OK",{"$f":"VLOOKUP(A161,Contrats!A:C,3,0)","v":{"$error":"#N/A"}},{"$f":"VLOOKUP(A161,Contrats!A:C,2,0)","v":{"$error":"#N/A"}},{"$f":"VLOOKUP(A161,Contrats!A:H,5,0)","v":{"$error":"#N/A"}}]
[null,"OK",{"$f":"VLOOKUP(A162,Contrats!A:C,3,0)","v":{"$error":"#N/A"}},{"$f":"VLOOKUP(A162,Contrats!A:C,2,0)","v":{"$error":"#N/A"}},{"$f":"VLOOKUP(A162,Contrats!A:H,5,0)","v":{"$error":"#N/A"}}]
[null,"OK",{"$f":"VLOOKUP(A163,Contrats!A:C,3,0)","v":{"$error":"#N/A"}},{"$f":"VLOOKUP(A163,Contrats!A:C,2,0)","v":{"$error":"#N/A"}},{"$f":"VLOOKUP(A163,Contrats!A:H,5,0)","v":{"$error":"#N/A"}}]
[null,"OK",{"$f":"VLOOKUP(A164,Contrats!A:C,3,0)","v":{"$error":"#N/A"}},{"$f":"VLOOKUP(A164,Contrats!A:C,2,0)","v":{"$error":"#N/A"}},{"$f":"VLOOKUP(A164,Contrats!A:H,5,0)","v":{"$error":"#N/A"}}]
[null,"OK",{"$f":"VLOOKUP(A165,Contrats!A:C,3,0)","v":{"$error":"#N/A"}},{"$f":"VLOOKUP(A165,Contrats!A:C,2,0)","v":{"$error":"#N/A"}},{"$f":"VLOOKUP(A165,Contrats!A:H,5,0)","v":{"$error":"#N/A"}}]
[null,"OK",{"$f":"VLOOKUP(A166,Contrats!A:C,3,0)","v":{"$error":"#N/A"}},{"$f":"VLOOKUP(A166,Contrats!A:C,2,0)","v":{"$error":"#N/A"}},{"$f":"VLOOKUP(A166,Contrats!A:H,5,0)","v":{"$error":"#N/A"}}]
[null,"OK",{"$f":"VLOOKUP(A167,Contrats!A:C,3,0)","v":{"$error":"#N/A"}},{"$f":"VLOOKUP(A167,Contrats!A:C,2,0)","v":{"$error":"#N/A"}},{"$f":"VLOOKUP(A167,Contrats!A:H,5,0)","v":{"$error":"#N/A"}}]
[null,"OK",{"$f":"VLOOKUP(A168,Contrats!A:C,3,0)","v":{"$error":"#N/A"}},{"$f":"VLOOKUP(A168,Contrats!A:C,2,0)","v":{"$error":"#N/A"}},{"$f":"VLOOKUP(A168,Contrats!A:H,5,0)","v":{"$error":"#N/A"}}]
[null,"OK",{"$f":"VLOOKUP(A169,Contrats!A:C,3,0)","v":{"$error":"#N/A"}},{"$f":"VLOOKUP(A169,Contrats!A:C,2,0)","v":{"$error":"#N/A"}},{"$f":"VLOOKUP(A169,Contrats!A:H,5,0)","v":{"$error":"#N/A"}}]
[null,"OK",{"$f":"VLOOKUP(A170,Contrats!A:C,3,0)","v":{"$error":"#N/A"}},{"$f":"VLOOKUP(A170,Contrats!A:C,2,0)","v":{"$error":"#N/A"}},{"$f":"VLOOKUP(A170,Contrats!A:H,5,0)","v":{"$error":"#N/A"}}]
[null,"OK",{"$f":"VLOOKUP(A171,Contrats!A:C,3,0)","v":{"$error":"#N/A"}},{"$f":"VLOOKUP(A171,Contrats!A:C,2,0)","v":{"$error":"#N/A"}},{"$f":"VLOOKUP(A171,Contrats!A:H,5,0)","v":{"$error":"#N/A"}}]
[null,"OK",{"$f":"VLOOKUP(A172,Contrats!A:C,3,0)","v":{"$error":"#N/A"}},{"$f":"VLOOKUP(A172,Contrats!A:C,2,0)","v":{"$error":"#N/A"}},{"$f":"VLOOKUP(A172,Contrats!A:H,5,0)","v":{"$error":"#N/A"}}]
[null,"OK",{"$f":"VLOOKUP(A173,Contrats!A:C,3,0)","v":{"$error":"#N/A"}},{"$f":"VLOOKUP(A173,Contrats!A:C,2,0)","v":{"$error":"#N/A"}},{"$f":"VLOOKUP(A173,Contrats!A:H,5,0)","v":{"$error":"#N/A"}}]
[null,"OK",{"$f":"VLOOKUP(A174,Contrats!A:C,3,0)","v":{"$error":"#N/A"}},{"$f":"VLOOKUP(A174,Contrats!A:C,2,0)","v":{"$error":"#N/A"}},{"$f":"VLOOKUP(A174,Contrats!A:H,5,0)","v":{"$error":"#N/A"}}]
[null,"OK",{"$f":"VLOOKUP(A175,Contrats!A:C,3,0)","v":{"$error":"#N/A"}},{"$f":"VLOOKUP(A175,Contrats!A:C,2,0)","v":{"$error":"#N/A"}},{"$f":"VLOOKUP(A175,Contrats!A:H,5,0)","v":{"$error":"#N/A"}}]
[null,"OK",{"$f":"VLOOKUP(A176,Contrats!A:C,3,0)","v":{"$error":"#N/A"}},{"$f":"VLOOKUP(A176,Contrats!A:C,2,0)","v":{"$error":"#N/A"}},{"$f":"VLOOKUP(A176,Contrats!A:H,5,0)","v":{"$error":"#N/A"}}]
[null,"OK",{"$f":"VLOOKUP(A177,Contrats!A:C,3,0)","v":{"$error":"#N/A"}},{"$f":"VLOOKUP(A177,Contrats!A:C,2,0)","v":{"$error":"#N/A"}},{"$f":"VLOOKUP(A177,Contrats!A:H,5,0)","v":{"$error":"#N/A"}}]
[null,"OK",{"$f":"VLOOKUP(A178,Contrats!A:C,3,0)","v":{"$error":"#N/A"}},{"$f":"VLOOKUP(A178,Contrats!A:C,2,0)","v":{"$error":"#N/A"}},{"$f":"VLOOKUP(A178,Contrats!A:H,5,0)","v":{"$error":"#N/A"}}]
[null,"OK",{"$f":"VLOOKUP(A179,Contrats!A:C,3,0)","v":{"$error":"#N/A"}},{"$f":"VLOOKUP(A179,Contrats!A:C,2,0)","v":{"$error":"#N/A"}},{"$f":"VLOOKUP(A179,Contrats!A:H,5,0)","v":{"$error":"#N/A"}}]
[null,"OK",{"$f":"VLOOKUP(A180,Contrats!A:C,3,0)","v":{"$error":"#N/A"}},{"$f":"VLOOKUP(A180,Contrats!A:C,2,0)","v":{"$error":"#N/A"}},{"$f":"VLOOKUP(A180,Contrats!A:H,5,0)","v":{"$error":"#N/A"}}]
[null,"OK",{"$f":"VLOOKUP(A181,Contrats!A:C,3,0)","v":{"$error":"#N/A"}},{"$f":"VLOOKUP(A181,Contrats!A:C,2,0)","v":{"$error":"#N/A"}},{"$f":"VLOOKUP(A181,Contrats!A:H,5,0)","v":{"$error":"#N/A"}}]
[null,"OK",{"$f":"VLOOKUP(A182,Contrats!A:C,3,0)","v":{"$error":"#N/A"}},{"$f":"VLOOKUP(A182,Contrats!A:C,2,0)","v":{"$error":"#N/A"}},{"$f":"VLOOKUP(A182,Contrats!A:H,5,0)","v":{"$error":"#N/A"}}]
[null,"OK",{"$f":"VLOOKUP(A183,Contrats!A:C,3,0)","v":{"$error":"#N/A"}},{"$f":"VLOOKUP(A183,Contrats!A:C,2,0)","v":{"$error":"#N/A"}},{"$f":"VLOOKUP(A183,Contrats!A:H,5,0)","v":{"$error":"#N/A"}}]
[null,"OK",{"$f":"VLOOKUP(A184,Contrats!A:C,3,0)","v":{"$error":"#N/A"}},{"$f":"VLOOKUP(A184,Contrats!A:C,2,0)","v":{"$error":"#N/A"}},{"$f":"VLOOKUP(A184,Contrats!A:H,5,0)","v":{"$error":"#N/A"}}]
[null,"OK",{"$f":"VLOOKUP(A185,Contrats!A:C,3,0)","v":{"$error":"#N/A"}},{"$f":"VLOOKUP(A185,Contrats!A:C,2,0)","v":{"$error":"#N/A"}},{"$f":"VLOOKUP(A185,Contrats!A:H,5,0)","v":{"$error":"#N/A"}}]
[null,"OK",{"$f":"VLOOKUP(A186,Contrats!A:C,3,0)","v":{"$error":"#N/A"}},{"$f":"VLOOKUP(A186,Contrats!A:C,2,0)","v":{"$error":"#N/A"}},{"$f":"VLOOKUP(A186,Contrats!A:H,5,0)","v":{"$error":"#N/A"}}]
[null,"OK",{"$f":"VLOOKUP(A187,Contrats!A:C,3,0)","v":{"$error":"#N/A"}},{"$f":"VLOOKUP(A187,Contrats!A:C,2,0)","v":{"$error":"#N/A"}},{"$f":"VLOOKUP(A187,Contrats!A:H,5,0)","v":{"$error":"#N/A"}}]
[null,"OK",{"$f":"VLOOKUP(A188,Contrats!A:C,3,0)","v":{"$error":"#N/A"}},{"$f":"VLOOKUP(A188,Contrats!A:C,2,0)","v":{"$error":"#N/A"}},{"$f":"VLOOKUP(A188,Contrats!A:H,5,0)","v":{"$error":"#N/A"}}]
[null,"OK",{"$f":"VLOOKUP(A189,Contrats!A:C,3,0)","v":{"$error":"#N/A"}},{"$f":"VLOOKUP(A189,Contrats!A:C,2,0)","v":{"$error":"#N/A"}},{"$f":"VLOOKUP(A189,Contrats!A:H,5,0)","v":{"$error":"#N/A"}}]
[null,"OK",{"$f":"VLOOKUP(A190,Contrats!A:C,3,0)","v":{"$error":"#N/A"}},{"$f":"VLOOKUP(A190,Contrats!A:C,2,0)","v":{"$error":"#N/A"}},{"$f":"VLOOKUP(A190,Contrats!A:H,5,0)","v":{"$error":"#N/A"}}]
[null,"OK",{"$f":"VLOOKUP(A191,Contrats!A:C,3,0)","v":{"$error":"#N/A"}},{"$f":"VLOOKUP(A191,Contrats!A:C,2,0)","v":{"$error":"#N/A"}},{"$f":"VLOOKUP(A191,Contrats!A:H,5,0)","v":{"$error":"#N/A"}}]
[null,"OK",{"$f":"VLOOKUP(A192,Contrats!A:C,3,0)","v":{"$error":"#N/A"}},{"$f":"VLOOKUP(A192,Contrats!A:C,2,0)","v":{"$error":"#N/A"}},{"$f":"VLOOKUP(A192,Contrats!A:H,5,0)","v":{"$error":"#N/A"}}]
[null,"OK",{"$f":"VLOOKUP(A193,Contrats!A:C,3,0)","v":{"$error":"#N/A"}},{"$f":"VLOOKUP(A193,Contrats!A:C,2,0)","v":{"$error":"#N/A"}},{"$f":"VLOOKUP(A193,Contrats!A:H,5,0)","v":{"$error":"#N/A"}}]
[null,"OK",{"$f":"VLOOKUP(A194,Contrats!A:C,3,0)","v":{"$error":"#N/A"}},{"$f":"VLOOKUP(A194,Contrats!A:C,2,0)","v":{"$error":"#N/A"}},{"$f":"VLOOKUP(A194,Contrats!A:H,5,0)","v":{"$error":"#N/A"}}]
[null,"OK",{"$f":"VLOOKUP(A195,Contrats!A:C,3,0)","v":{"$error":"#N/A"}},{"$f":"VLOOKUP(A195,Contrats!A:C,2,0)","v":{"$error":"#N/A"}},{"$f":"VLOOKUP(A195,Contrats!A:H,5,0)","v":{"$error":"#N/A"}}]
[null,"OK",{"$f":"VLOOKUP(A196,Contrats!A:C,3,0)","v":{"$error":"#N/A"}},{"$f":"VLOOKUP(A196,Contrats!A:C,2,0)","v":{"$error":"#N/A"}},{"$f":"VLOOKUP(A196,Contrats!A:H,5,0)","v":{"$error":"#N/A"}}]
[null,"OK",{"$f":"VLOOKUP(A197,Contrats!A:C,3,0)","v":{"$error":"#N/A"}},{"$f":"VLOOKUP(A197,Contrats!A:C,2,0)","v":{"$error":"#N/A"}},{"$f":"VLOOKUP(A197,Contrats!A:H,5,0)","v":{"$error":"#N/A"}}]
[null,"OK",{"$f":"VLOOKUP(A198,Contrats!A:C,3,0)","v":{"$error":"#N/A"}},{"$f":"VLOOKUP(A198,Contrats!A:C,2,0)","v":{"$error":"#N/A"}},{"$f":"VLOOKUP(A198,Contrats!A:H,5,0)","v":{"$error":"#N/A"}}]
[null,"OK",{"$f":"VLOOKUP(A199,Contrats!A:C,3,0)","v":{"$error":"#N/A"}},{"$f":"VLOOKUP(A199,Contrats!A:C,2,0)","v":{"$error":"#N/A"}},{"$f":"VLOOKUP(A199,Contrats!A:H,5,0)","v":{"$error":"#N/A"}}]
[null,"OK",{"$f":"VLOOKUP(A200,Contrats!A:C,3,0)","v":{"$error":"#N/A"}},{"$f":"VLOOKUP(A200,Contrats!A:C,2,0)","v":{"$error":"#N/A"}},{"$f":"VLOOKUP(A200,Contrats!A:H,5,0)","v":{"$error":"#N/A"}}]
[null,"OK",{"$f":"VLOOKUP(A201,Contrats!A:C,3,0)","v":{"$error":"#N/A"}},{"$f":"VLOOKUP(A201,Contrats!A:C,2,0)","v":{"$error":"#N/A"}},{"$f":"VLOOKUP(A201,Contrats!A:H,5,0)","v":{"$error":"#N/A"}}]
[null,"OK",{"$f":"VLOOKUP(A202,Contrats!A:C,3,0)","v":{"$error":"#N/A"}},{"$f":"VLOOKUP(A202,Contrats!A:C,2,0)","v":{"$error":"#N/A"}},{"$f":"VLOOKUP(A202,Contrats!A:H,5,0)","v":{"$error":"#N/A"}}]
[null,"OK",{"$f":"VLOOKUP(A203,Contrats!A:C,3,0)","v":{"$error":"#N/A"}},{"$f":"VLOOKUP(A203,Contrats!A:C,2,0)","v":{"$error":"#N/A"}},{"$f":"VLOOKUP(A203,Contrats!A:H,5,0)","v":{"$error":"#N/A"}}]
[null,"OK",{"$f":"VLOOKUP(A204,Contrats!A:C,3,0)","v":{"$error":"#N/A"}},{"$f":"VLOOKUP(A204,Contrats!A:C,2,0)","v":{"$error":"#N/A"}},{"$f":"VLOOKUP(A204,Contrats!A:H,5,0)","v":{"$error":"#N/A"}}]
[null,"OK",{"$f":"VLOOKUP(A205,Contrats!A:C,3,0)","v":{"$error":"#N/A"}},{"$f":"VLOOKUP(A205,Contrats!A:C,2,0)","v":{"$error":"#N/A"}},{"$f":"VLOOKUP(A205,Contrats!A:H,5,0)","v":{"$error":"#N/A"}}]
[null,"OK",{"$f":"VLOOKUP(A206,Contrats!A:C,3,0)","v":{"$error":"#N/A"}},{"$f":"VLOOKUP(A206,Contrats!A:C,2,0)","v":{"$error":"#N/A"}},{"$f":"VLOOKUP(A206,Contrats!A:H,5,0)","v":{"$error":"#N/A"}}]
[null,"OK",{"$f":"VLOOKUP(A207,Contrats!A:C,3,0)","v":{"$error":"#N/A"}},{"$f":"VLOOKUP(A207,Contrats!A:C,2,0)","v":{"$error":"#N/A"}},{"$f":"VLOOKUP(A207,Contrats!A:H,5,0)","v":{"$error":"#N/A"}}]
[null,"OK",{"$f":"VLOOKUP(A208,Contrats!A:C,3,0)","v":{"$error":"#N/A"}},{"$f":"VLOOKUP(A208,Contrats!A:C,2,0)","v":{"$error":"#N/A"}},{"$f":"VLOOKUP(A208,Contrats!A:H,5,0)","v":{"$error":"#N/A"}}]
[null,"OK",{"$f":"VLOOKUP(A209,Contrats!A:C,3,0)","v":{"$error":"#N/A"}},{"$f":"VLOOKUP(A209,Contrats!A:C,2,0)","v":{"$error":"#N/A"}},{"$f":"VLOOKUP(A209,Contrats!A:H,5,0)","v":{"$error":"#N/A"}}]
[null,"OK",{"$f":"VLOOKUP(A210,Contrats!A:C,3,0)","v":{"$error":"#N/A"}},{"$f":"VLOOKUP(A210,Contrats!A:C,2,0)","v":{"$error":"#N/A"}},{"$f":"VLOOKUP(A210,Contrats!A:H,5,0)","v":{"$error":"#N/A"}}]
[null,"OK",{"$f":"VLOOKUP(A211,Contrats!A:C,3,0)","v":{"$error":"#N/A"}},{"$f":"VLOOKUP(A211,Contrats!A:C,2,0)","v":{"$error":"#N/A"}},{"$f":"VLOOKUP(A211,Contrats!A:H,5,0)","v":{"$error":"#N/A"}}]
[null,"OK",{"$f":"VLOOKUP(A212,Contrats!A:C,3,0)","v":{"$error":"#N/A"}},{"$f":"VLOOKUP(A212,Contrats!A:C,2,0)","v":{"$error":"#N/A"}},{"$f":"VLOOKUP(A212,Contrats!A:H,5,0)","v":{"$error":"#N/A"}}]
[null,"OK",{"$f":"VLOOKUP(A213,Contrats!A:C,3,0)","v":{"$error":"#N/A"}},{"$f":"VLOOKUP(A213,Contrats!A:C,2,0)","v":{"$error":"#N/A"}},{"$f":"VLOOKUP(A213,Contrats!A:H,5,0)","v":{"$error":"#N/A"}}]
[null,"OK",{"$f":"VLOOKUP(A214,Contrats!A:C,3,0)","v":{"$error":"#N/A"}},{"$f":"VLOOKUP(A214,Contrats!A:C,2,0)","v":{"$error":"#N/A"}},{"$f":"VLOOKUP(A214,Contrats!A:H,5,0)","v":{"$error":"#N/A"}}]
[null,"OK",{"$f":"VLOOKUP(A215,Contrats!A:C,3,0)","v":{"$error":"#N/A"}},{"$f":"VLOOKUP(A215,Contrats!A:C,2,0)","v":{"$error":"#N/A"}},{"$f":"VLOOKUP(A215,Contrats!A:H,5,0)","v":{"$error":"#N/A"}}]
[null,"OK",{"$f":"VLOOKUP(A216,Contrats!A:C,3,0)","v":{"$error":"#N/A"}},{"$f":"VLOOKUP(A216,Contrats!A:C,2,0)","v":{"$error":"#N/A"}},{"$f":"VLOOKUP(A216,Contrats!A:H,5,0)","v":{"$error":"#N/A"}}]
[null,"OK",{"$f":"VLOOKUP(A217,Contrats!A:C,3,0)","v":{"$error":"#N/A"}},{"$f":"VLOOKUP(A217,Contrats!A:C,2,0)","v":{"$error":"#N/A"}},{"$f":"VLOOKUP(A217,Contrats!A:H,5,0)","v":{"$error":"#N/A"}}]
[null,"OK",{"$f":"VLOOKUP(A218,Contrats!A:C,3,0)","v":{"$error":"#N/A"}},{"$f":"VLOOKUP(A218,Contrats!A:C,2,0)","v":{"$error":"#N/A"}},{"$f":"VLOOKUP(A218,Contrats!A:H,5,0)","v":{"$error":"#N/A"}}]
[null,"OK",{"$f":"VLOOKUP(A219,Contrats!A:C,3,0)","v":{"$error":"#N/A"}},{"$f":"VLOOKUP(A219,Contrats!A:C,2,0)","v":{"$error":"#N/A"}},{"$f":"VLOOKUP(A219,Contrats!A:H,5,0)","v":{"$error":"#N/A"}}]
[null,"OK",{"$f":"VLOOKUP(A220,Contrats!A:C,3,0)","v":{"$error":"#N/A"}},{"$f":"VLOOKUP(A220,Contrats!A:C,2,0)","v":{"$error":"#N/A"}},{"$f":"VLOOKUP(A220,Contrats!A:H,5,0)","v":{"$error":"#N/A"}}]
[null,"OK",{"$f":"VLOOKUP(A221,Contrats!A:C,3,0)","v":{"$error":"#N/A"}},{"$f":"VLOOKUP(A221,Contrats!A:C,2,0)","v":{"$error":"#N/A"}},{"$f":"VLOOKUP(A221,Contrats!A:H,5,0)","v":{"$error":"#N/A"}}]
[null,"OK",{"$f":"VLOOKUP(A222,Contrats!A:C,3,0)","v":{"$error":"#N/A"}},{"$f":"VLOOKUP(A222,Contrats!A:C,2,0)","v":{"$error":"#N/A"}},{"$f":"VLOOKUP(A222,Contrats!A:H,5,0)","v":{"$error":"#N/A"}}]
[null,"OK",{"$f":"VLOOKUP(A223,Contrats!A:C,3,0)","v":{"$error":"#N/A"}},{"$f":"VLOOKUP(A223,Contrats!A:C,2,0)","v":{"$error":"#N/A"}},{"$f":"VLOOKUP(A223,Contrats!A:H,5,0)","v":{"$error":"#N/A"}}]
[null,"OK",{"$f":"VLOOKUP(A224,Contrats!A:C,3,0)","v":{"$error":"#N/A"}},{"$f":"VLOOKUP(A224,Contrats!A:C,2,0)","v":{"$error":"#N/A"}},{"$f":"VLOOKUP(A224,Contrats!A:H,5,0)","v":{"$error":"#N/A"}}]
[null,"OK",{"$f":"VLOOKUP(A225,Contrats!A:C,3,0)","v":{"$error":"#N/A"}},{"$f":"VLOOKUP(A225,Contrats!A:C,2,0)","v":{"$error":"#N/A"}},{"$f":"VLOOKUP(A225,Contrats!A:H,5,0)","v":{"$error":"#N/A"}}]
[null,"OK",{"$f":"VLOOKUP(A226,Contrats!A:C,3,0)","v":{"$error":"#N/A"}},{"$f":"VLOOKUP(A226,Contrats!A:C,2,0)","v":{"$error":"#N/A"}},{"$f":"VLOOKUP(A226,Contrats!A:H,5,0)","v":{"$error":"#N/A"}}]
[null,"OK",{"$f":"VLOOKUP(A227,Contrats!A:C,3,0)","v":{"$error":"#N/A"}},{"$f":"VLOOKUP(A227,Contrats!A:C,2,0)","v":{"$error":"#N/A"}},{"$f":"VLOOKUP(A227,Contrats!A:H,5,0)","v":{"$error":"#N/A"}}]
[null,"OK",{"$f":"VLOOKUP(A228,Contrats!A:C,3,0)","v":{"$error":"#N/A"}},{"$f":"VLOOKUP(A228,Contrats!A:C,2,0)","v":{"$error":"#N/A"}},{"$f":"VLOOKUP(A228,Contrats!A:H,5,0)","v":{"$error":"#N/A"}}]
[null,"OK",{"$f":"VLOOKUP(A229,Contrats!A:C,3,0)","v":{"$error":"#N/A"}},{"$f":"VLOOKUP(A229,Contrats!A:C,2,0)","v":{"$error":"#N/A"}},{"$f":"VLOOKUP(A229,Contrats!A:H,5,0)","v":{"$error":"#N/A"}}]
[null,"OK",{"$f":"VLOOKUP(A230,Contrats!A:C,3,0)","v":{"$error":"#N/A"}},{"$f":"VLOOKUP(A230,Contrats!A:C,2,0)","v":{"$error":"#N/A"}},{"$f":"VLOOKUP(A230,Contrats!A:H,5,0)","v":{"$error":"#N/A"}}]
[null,"OK",{"$f":"VLOOKUP(A231,Contrats!A:C,3,0)","v":{"$error":"#N/A"}},{"$f":"VLOOKUP(A231,Contrats!A:C,2,0)","v":{"$error":"#N/A"}},{"$f":"VLOOKUP(A231,Contrats!A:H,5,0)","v":{"$error":"#N/A"}}]
[null,"OK",{"$f":"VLOOKUP(A232,Contrats!A:C,3,0)","v":{"$error":"#N/A"}},{"$f":"VLOOKUP(A232,Contrats!A:C,2,0)","v":{"$error":"#N/A"}},{"$f":"VLOOKUP(A232,Contrats!A:H,5,0)","v":{"$error":"#N/A"}}]
[null,"OK",{"$f":"VLOOKUP(A233,Contrats!A:C,3,0)","v":{"$error":"#N/A"}},{"$f":"VLOOKUP(A233,Contrats!A:C,2,0)","v":{"$error":"#N/A"}},{"$f":"VLOOKUP(A233,Contrats!A:H,5,0)","v":{"$error":"#N/A"}}]
[null,"OK",{"$f":"VLOOKUP(A234,Contrats!A:C,3,0)","v":{"$error":"#N/A"}},{"$f":"VLOOKUP(A234,Contrats!A:C,2,0)","v":{"$error":"#N/A"}},{"$f":"VLOOKUP(A234,Contrats!A:H,5,0)","v":{"$error":"#N/A"}}]
[null,"OK",{"$f":"VLOOKUP(A235,Contrats!A:C,3,0)","v":{"$error":"#N/A"}},{"$f":"VLOOKUP(A235,Contrats!A:C,2,0)","v":{"$error":"#N/A"}},{"$f":"VLOOKUP(A235,Contrats!A:H,5,0)","v":{"$error":"#N/A"}}]
[null,"OK",{"$f":"VLOOKUP(A236,Contrats!A:C,3,0)","v":{"$error":"#N/A"}},{"$f":"VLOOKUP(A236,Contrats!A:C,2,0)","v":{"$error":"#N/A"}},{"$f":"VLOOKUP(A236,Contrats!A:H,5,0)","v":{"$error":"#N/A"}}]
[null,"OK",{"$f":"VLOOKUP(A237,Contrats!A:C,3,0)","v":{"$error":"#N/A"}},{"$f":"VLOOKUP(A237,Contrats!A:C,2,0)","v":{"$error":"#N/A"}},{"$f":"VLOOKUP(A237,Contrats!A:H,5,0)","v":{"$error":"#N/A"}}]
[null,"OK",{"$f":"VLOOKUP(A238,Contrats!A:C,3,0)","v":{"$error":"#N/A"}},{"$f":"VLOOKUP(A238,Contrats!A:C,2,0)","v":{"$error":"#N/A"}},{"$f":"VLOOKUP(A238,Contrats!A:H,5,0)","v":{"$error":"#N/A"}}]
[null,"OK",{"$f":"VLOOKUP(A239,Contrats!A:C,3,0)","v":{"$error":"#N/A"}},{"$f":"VLOOKUP(A239,Contrats!A:C,2,0)","v":{"$error":"#N/A"}},{"$f":"VLOOKUP(A239,Contrats!A:H,5,0)","v":{"$error":"#N/A"}}]
[null,"OK",{"$f":"VLOOKUP(A240,Contrats!A:C,3,0)","v":{"$error":"#N/A"}},{"$f":"VLOOKUP(A240,Contrats!A:C,2,0)","v":{"$error":"#N/A"}},{"$f":"VLOOKUP(A240,Contrats!A:H,5,0)","v":{"$error":"#N/A"}}]
[null,"OK",{"$f":"VLOOKUP(A241,Contrats!A:C,3,0)","v":{"$error":"#N/A"}},{"$f":"VLOOKUP(A241,Contrats!A:C,2,0)","v":{"$error":"#N/A"}},{"$f":"VLOOKUP(A241,Contrats!A:H,5,0)","v":{"$error":"#N/A"}}]
[null,"OK",{"$f":"VLOOKUP(A242,Contrats!A:C,3,0)","v":{"$error":"#N/A"}},{"$f":"VLOOKUP(A242,Contrats!A:C,2,0)","v":{"$error":"#N/A"}},{"$f":"VLOOKUP(A242,Contrats!A:H,5,0)","v":{"$error":"#N/A"}}]
[null,"OK",{"$f":"VLOOKUP(A243,Contrats!A:C,3,0)","v":{"$error":"#N/A"}},{"$f":"VLOOKUP(A243,Contrats!A:C,2,0)","v":{"$error":"#N/A"}},{"$f":"VLOOKUP(A243,Contrats!A:H,5,0)","v":{"$error":"#N/A"}}]
[null,"OK",{"$f":"VLOOKUP(A244,Contrats!A:C,3,0)","v":{"$error":"#N/A"}},{"$f":"VLOOKUP(A244,Contrats!A:C,2,0)","v":{"$error":"#N/A"}},{"$f":"VLOOKUP(A244,Contrats!A:H,5,0)","v":{"$error":"#N/A"}}]
[null,"OK",{"$f":"VLOOKUP(A245,Contrats!A:C,3,0)","v":{"$error":"#N/A"}},{"$f":"VLOOKUP(A245,Contrats!A:C,2,0)","v":{"$error":"#N/A"}},{"$f":"VLOOKUP(A245,Contrats!A:H,5,0)","v":{"$error":"#N/A"}}]
[null,"OK",{"$f":"VLOOKUP(A246,Contrats!A:C,3,0)","v":{"$error":"#N/A"}},{"$f":"VLOOKUP(A246,Contrats!A:C,2,0)","v":{"$error":"#N/A"}},{"$f":"VLOOKUP(A246,Contrats!A:H,5,0)","v":{"$error":"#N/A"}}]
[null,"OK",{"$f":"VLOOKUP(A247,Contrats!A:C,3,0)","v":{"$error":"#N/A"}},{"$f":"VLOOKUP(A247,Contrats!A:C,2,0)","v":{"$error":"#N/A"}},{"$f":"VLOOKUP(A247,Contrats!A:H,5,0)","v":{"$error":"#N/A"}}]
[null,"OK",{"$f":"VLOOKUP(A248,Contrats!A:C,3,0)","v":{"$error":"#N/A"}},{"$f":"VLOOKUP(A248,Contrats!A:C,2,0)","v":{"$error":"#N/A"}},{"$f":"VLOOKUP(A248,Contrats!A:H,5,0)","v":{"$error":"#N/A"}}]
[null,"OK",{"$f":"VLOOKUP(A249,Contrats!A:C,3,0)","v":{"$error":"#N/A"}},{"$f":"VLOOKUP(A249,Contrats!A:C,2,0)","v":{"$error":"#N/A"}},{"$f":"VLOOKUP(A249,Contrats!A:H,5,0)","v":{"$error":"#N/A"}}]
[null,"OK",{"$f":"VLOOKUP(A250,Contrats!A:C,3,0)","v":{"$error":"#N/A"}},{"$f":"VLOOKUP(A250,Contrats!A:C,2,0)","v":{"$error":"#N/A"}},{"$f":"VLOOKUP(A250,Contrats!A:H,5,0)","v":{"$error":"#N/A"}}]
[null,"OK",{"$f":"VLOOKUP(A251,Contrats!A:C,3,0)","v":{"$error":"#N/A"}},{"$f":"VLOOKUP(A251,Contrats!A:C,2,0)","v":{"$error":"#N/A"}},{"$f":"VLOOKUP(A251,Contrats!A:H,5,0)","v":{"$error":"#N/A"}}]
[null,"OK",{"$f":"VLOOKUP(A252,Contrats!A:C,3,0)","v":{"$error":"#N/A"}},{"$f":"VLOOKUP(A252,Contrats!A:C,2,0)","v":{"$error":"#N/A"}},{"$f":"VLOOKUP(A252,Contrats!A:H,5,0)","v":{"$error":"#N/A"}}]
[null,"OK",{"$f":"VLOOKUP(A253,Contrats!A:C,3,0)","v":{"$error":"#N/A"}},{"$f":"VLOOKUP(A253,Contrats!A:C,2,0)","v":{"$error":"#N/A"}},{"$f":"VLOOKUP(A253,Contrats!A:H,5,0)","v":{"$error":"#N/A"}}]
[null,"OK",{"$f":"VLOOKUP(A254,Contrats!A:C,3,0)","v":{"$error":"#N/A"}},{"$f":"VLOOKUP(A254,Contrats!A:C,2,0)","v":{"$error":"#N/A"}},{"$f":"VLOOKUP(A254,Contrats!A:H,5,0)","v":{"$error":"#N/A"}}]
[null,"OK",{"$f":"VLOOKUP(A255,Contrats!A:C,3,0)","v":{"$error":"#N/A"}},{"$f":"VLOOKUP(A255,Contrats!A:C,2,0)","v":{"$error":"#N/A"}},{"$f":"VLOOKUP(A255,Contrats!A:H,5,0)","v":{"$error":"#N/A"}}]
[null,"OK",{"$f":"VLOOKUP(A256,Contrats!A:C,3,0)","v":{"$error":"#N/A"}},{"$f":"VLOOKUP(A256,Contrats!A:C,2,0)","v":{"$error":"#N/A"}},{"$f":"VLOOKUP(A256,Contrats!A:H,5,0)","v":{"$error":"#N/A"}}]
[null,"OK",{"$f":"VLOOKUP(A257,Contrats!A:C,3,0)","v":{"$error":"#N/A"}},{"$f":"VLOOKUP(A257,Contrats!A:C,2,0)","v":{"$error":"#N/A"}},{"$f":"VLOOKUP(A257,Contrats!A:H,5,0)","v":{"$error":"#N/A"}}]
[null,"OK",{"$f":"VLOOKUP(A258,Contrats!A:C,3,0)","v":{"$error":"#N/A"}},{"$f":"VLOOKUP(A258,Contrats!A:C,2,0)","v":{"$error":"#N/A"}},{"$f":"VLOOKUP(A258,Contrats!A:H,5,0)","v":{"$error":"#N/A"}}]
[null,"OK",{"$f":"VLOOKUP(A259,Contrats!A:C,3,0)","v":{"$error":"#N/A"}},{"$f":"VLOOKUP(A259,Contrats!A:C,2,0)","v":{"$error":"#N/A"}},{"$f":"VLOOKUP(A259,Contrats!A:H,5,0)","v":{"$error":"#N/A"}}]
[null,"OK",{"$f":"VLOOKUP(A260,Contrats!A:C,3,0)","v":{"$error":"#N/A"}},{"$f":"VLOOKUP(A260,Contrats!A:C,2,0)","v":{"$error":"#N/A"}},{"$f":"VLOOKUP(A260,Contrats!A:H,5,0)","v":{"$error":"#N/A"}}]
[null,"OK",{"$f":"VLOOKUP(A261,Contrats!A:C,3,0)","v":{"$error":"#N/A"}},{"$f":"VLOOKUP(A261,Contrats!A:C,2,0)","v":{"$error":"#N/A"}},{"$f":"VLOOKUP(A261,Contrats!A:H,5,0)","v":{"$error":"#N/A"}}]
[null,"OK",{"$f":"VLOOKUP(A262,Contrats!A:C,3,0)","v":{"$error":"#N/A"}},{"$f":"VLOOKUP(A262,Contrats!A:C,2,0)","v":{"$error":"#N/A"}},{"$f":"VLOOKUP(A262,Contrats!A:H,5,0)","v":{"$error":"#N/A"}}]
[null,"OK",{"$f":"VLOOKUP(A263,Contrats!A:C,3,0)","v":{"$error":"#N/A"}},{"$f":"VLOOKUP(A263,Contrats!A:C,2,0)","v":{"$error":"#N/A"}},{"$f":"VLOOKUP(A263,Contrats!A:H,5,0)","v":{"$error":"#N/A"}}]
[null,"OK",{"$f":"VLOOKUP(A264,Contrats!A:C,3,0)","v":{"$error":"#N/A"}},{"$f":"VLOOKUP(A264,Contrats!A:C,2,0)","v":{"$error":"#N/A"}},{"$f":"VLOOKUP(A264,Contrats!A:H,5,0)","v":{"$error":"#N/A"}}]
[null,"OK",{"$f":"VLOOKUP(A265,Contrats!A:C,3,0)","v":{"$error":"#N/A"}},{"$f":"VLOOKUP(A265,Contrats!A:C,2,0)","v":{"$error":"#N/A"}},{"$f":"VLOOKUP(A265,Contrats!A:H,5,0)","v":{"$error":"#N/A"}}]
[null,"OK",{"$f":"VLOOKUP(A266,Contrats!A:C,3,0)","v":{"$error":"#N/A"}},{"$f":"VLOOKUP(A266,Contrats!A:C,2,0)","v":{"$error":"#N/A"}},{"$f":"VLOOKUP(A266,Contrats!A:H,5,0)","v":{"$error":"#N/A"}}]
[null,"OK",{"$f":"VLOOKUP(A267,Contrats!A:C,3,0)","v":{"$error":"#N/A"}},{"$f":"VLOOKUP(A267,Contrats!A:C,2,0)","v":{"$error":"#N/A"}},{"$f":"VLOOKUP(A267,Contrats!A:H,5,0)","v":{"$error":"#N/A"}}]
[null,"OK",{"$f":"VLOOKUP(A268,Contrats!A:C,3,0)","v":{"$error":"#N/A"}},{"$f":"VLOOKUP(A268,Contrats!A:C,2,0)","v":{"$error":"#N/A"}},{"$f":"VLOOKUP(A268,Contrats!A:H,5,0)","v":{"$error":"#N/A"}}]
[null,"OK",{"$f":"VLOOKUP(A269,Contrats!A:C,3,0)","v":{"$error":"#N/A"}},{"$f":"VLOOKUP(A269,Contrats!A:C,2,0)","v":{"$error":"#N/A"}},{"$f":"VLOOKUP(A269,Contrats!A:H,5,0)","v":{"$error":"#N/A"}}]
[null,"OK",{"$f":"VLOOKUP(A270,Contrats!A:C,3,0)","v":{"$error":"#N/A"}},{"$f":"VLOOKUP(A270,Contrats!A:C,2,0)","v":{"$error":"#N/A"}},{"$f":"VLOOKUP(A270,Contrats!A:H,5,0)","v":{"$error":"#N/A"}}]
[null,"OK",{"$f":"VLOOKUP(A271,Contrats!A:C,3,0)","v":{"$error":"#N/A"}},{"$f":"VLOOKUP(A271,Contrats!A:C,2,0)","v":{"$error":"#N/A"}},{"$f":"VLOOKUP(A271,Contrats!A:H,5,0)","v":{"$error":"#N/A"}}]
[null,"OK",{"$f":"VLOOKUP(A272,Contrats!A:C,3,0)","v":{"$error":"#N/A"}},{"$f":"VLOOKUP(A272,Contrats!A:C,2,0)","v":{"$error":"#N/A"}},{"$f":"VLOOKUP(A272,Contrats!A:H,5,0)","v":{"$error":"#N/A"}}]
[null,"OK",{"$f":"VLOOKUP(A273,Contrats!A:C,3,0)","v":{"$error":"#N/A"}},{"$f":"VLOOKUP(A273,Contrats!A:C,2,0)","v":{"$error":"#N/A"}},{"$f":"VLOOKUP(A273,Contrats!A:H,5,0)","v":{"$error":"#N/A"}}]
[null,"OK",{"$f":"VLOOKUP(A274,Contrats!A:C,3,0)","v":{"$error":"#N/A"}},{"$f":"VLOOKUP(A274,Contrats!A:C,2,0)","v":{"$error":"#N/A"}},{"$f":"VLOOKUP(A274,Contrats!A:H,5,0)","v":{"$error":"#N/A"}}]
[null,"OK",{"$f":"VLOOKUP(A275,Contrats!A:C,3,0)","v":{"$error":"#N/A"}},{"$f":"VLOOKUP(A275,Contrats!A:C,2,0)","v":{"$error":"#N/A"}},{"$f":"VLOOKUP(A275,Contrats!A:H,5,0)","v":{"$error":"#N/A"}}]
[null,"OK",{"$f":"VLOOKUP(A276,Contrats!A:C,3,0)","v":{"$error":"#N/A"}},{"$f":"VLOOKUP(A276,Contrats!A:C,2,0)","v":{"$error":"#N/A"}},{"$f":"VLOOKUP(A276,Contrats!A:H,5,0)","v":{"$error":"#N/A"}}]
[null,"OK",{"$f":"VLOOKUP(A277,Contrats!A:C,3,0)","v":{"$error":"#N/A"}},{"$f":"VLOOKUP(A277,Contrats!A:C,2,0)","v":{"$error":"#N/A"}},{"$f":"VLOOKUP(A277,Contrats!A:H,5,0)","v":{"$error":"#N/A"}}]
[null,"OK",{"$f":"VLOOKUP(A278,Contrats!A:C,3,0)","v":{"$error":"#N/A"}},{"$f":"VLOOKUP(A278,Contrats!A:C,2,0)","v":{"$error":"#N/A"}},{"$f":"VLOOKUP(A278,Contrats!A:H,5,0)","v":{"$error":"#N/A"}}]
[null,"OK",{"$f":"VLOOKUP(A279,Contrats!A:C,3,0)","v":{"$error":"#N/A"}},{"$f":"VLOOKUP(A279,Contrats!A:C,2,0)","v":{"$error":"#N/A"}},{"$f":"VLOOKUP(A279,Contrats!A:H,5,0)","v":{"$error":"#N/A"}}]
[null,"OK",{"$f":"VLOOKUP(A280,Contrats!A:C,3,0)","v":{"$error":"#N/A"}},{"$f":"VLOOKUP(A280,Contrats!A:C,2,0)","v":{"$error":"#N/A"}},{"$f":"VLOOKUP(A280,Contrats!A:H,5,0)","v":{"$error":"#N/A"}}]
[null,"OK",{"$f":"VLOOKUP(A281,Contrats!A:C,3,0)","v":{"$error":"#N/A"}},{"$f":"VLOOKUP(A281,Contrats!A:C,2,0)","v":{"$error":"#N/A"}},{"$f":"VLOOKUP(A281,Contrats!A:H,5,0)","v":{"$error":"#N/A"}}]
[null,"OK",{"$f":"VLOOKUP(A282,Contrats!A:C,3,0)","v":{"$error":"#N/A"}},{"$f":"VLOOKUP(A282,Contrats!A:C,2,0)","v":{"$error":"#N/A"}},{"$f":"VLOOKUP(A282,Contrats!A:H,5,0)","v":{"$error":"#N/A"}}]
[null,"OK",{"$f":"VLOOKUP(A283,Contrats!A:C,3,0)","v":{"$error":"#N/A"}},{"$f":"VLOOKUP(A283,Contrats!A:C,2,0)","v":{"$error":"#N/A"}},{"$f":"VLOOKUP(A283,Contrats!A:H,5,0)","v":{"$error":"#N/A"}}]
[null,"OK",{"$f":"VLOOKUP(A284,Contrats!A:C,3,0)","v":{"$error":"#N/A"}},{"$f":"VLOOKUP(A284,Contrats!A:C,2,0)","v":{"$error":"#N/A"}},{"$f":"VLOOKUP(A284,Contrats!A:H,5,0)","v":{"$error":"#N/A"}}]
[null,"OK",{"$f":"VLOOKUP(A285,Contrats!A:C,3,0)","v":{"$error":"#N/A"}},{"$f":"VLOOKUP(A285,Contrats!A:C,2,0)","v":{"$error":"#N/A"}},{"$f":"VLOOKUP(A285,Contrats!A:H,5,0)","v":{"$error":"#N/A"}}]
[null,"OK",{"$f":"VLOOKUP(A286,Contrats!A:C,3,0)","v":{"$error":"#N/A"}},{"$f":"VLOOKUP(A286,Contrats!A:C,2,0)","v":{"$error":"#N/A"}},{"$f":"VLOOKUP(A286,Contrats!A:H,5,0)","v":{"$error":"#N/A"}}]
[null,"OK",{"$f":"VLOOKUP(A287,Contrats!A:C,3,0)","v":{"$error":"#N/A"}},{"$f":"VLOOKUP(A287,Contrats!A:C,2,0)","v":{"$error":"#N/A"}},{"$f":"VLOOKUP(A287,Contrats!A:H,5,0)","v":{"$error":"#N/A"}}]
[null,"OK",{"$f":"VLOOKUP(A288,Contrats!A:C,3,0)","v":{"$error":"#N/A"}},{"$f":"VLOOKUP(A288,Contrats!A:C,2,0)","v":{"$error":"#N/A"}},{"$f":"VLOOKUP(A288,Contrats!A:H,5,0)","v":{"$error":"#N/A"}}]
[null,"OK",{"$f":"VLOOKUP(A289,Contrats!A:C,3,0)","v":{"$error":"#N/A"}},{"$f":"VLOOKUP(A289,Contrats!A:C,2,0)","v":{"$error":"#N/A"}},{"$f":"VLOOKUP(A289,Contrats!A:H,5,0)","v":{"$error":"#N/A"}}]
[null,"OK",{"$f":"VLOOKUP(A290,Contrats!A:C,3,0)","v":{"$error":"#N/A"}},{"$f":"VLOOKUP(A290,Contrats!A:C,2,0)","v":{"$error":"#N/A"}},{"$f":"VLOOKUP(A290,Contrats!A:H,5,0)","v":{"$error":"#N/A"}}]
[null,"OK",{"$f":"VLOOKUP(A291,Contrats!A:C,3,0)","v":{"$error":"#N/A"}},{"$f":"VLOOKUP(A291,Contrats!A:C,2,0)","v":{"$error":"#N/A"}},{"$f":"VLOOKUP(A291,Contrats!A:H,5,0)","v":{"$error":"#N/A"}}]
[null,"OK",{"$f":"VLOOKUP(A292,Contrats!A:C,3,0)","v":{"$error":"#N/A"}},{"$f":"VLOOKUP(A292,Contrats!A:C,2,0)","v":{"$error":"#N/A"}},{"$f":"VLOOKUP(A292,Contrats!A:H,5,0)","v":{"$error":"#N/A"}}]
[null,"OK",{"$f":"VLOOKUP(A293,Contrats!A:C,3,0)","v":{"$error":"#N/A"}},{"$f":"VLOOKUP(A293,Contrats!A:C,2,0)","v":{"$error":"#N/A"}},{"$f":"VLOOKUP(A293,Contrats!A:H,5,0)","v":{"$error":"#N/A"}}]
[null,"OK",{"$f":"VLOOKUP(A294,Contrats!A:C,3,0)","v":{"$error":"#N/A"}},{"$f":"VLOOKUP(A294,Contrats!A:C,2,0)","v":{"$error":"#N/A"}},{"$f":"VLOOKUP(A294,Contrats!A:H,5,0)","v":{"$error":"#N/A"}}]
[null,"OK",{"$f":"VLOOKUP(A295,Contrats!A:C,3,0)","v":{"$error":"#N/A"}},{"$f":"VLOOKUP(A295,Contrats!A:C,2,0)","v":{"$error":"#N/A"}},{"$f":"VLOOKUP(A295,Contrats!A:H,5,0)","v":{"$error":"#N/A"}}]
[null,"OK",{"$f":"VLOOKUP(A296,Contrats!A:C,3,0)","v":{"$error":"#N/A"}},{"$f":"VLOOKUP(A296,Contrats!A:C,2,0)","v":{"$error":"#N/A"}},{"$f":"VLOOKUP(A296,Contrats!A:H,5,0)","v":{"$error":"#N/A"}}]
[null,"OK",{"$f":"VLOOKUP(A297,Contrats!A:C,3,0)","v":{"$error":"#N/A"}},{"$f":"VLOOKUP(A297,Contrats!A:C,2,0)","v":{"$error":"#N/A"}},{"$f":"VLOOKUP(A297,Contrats!A:H,5,0)","v":{"$error":"#N/A"}}]
[null,"OK",{"$f":"VLOOKUP(A298,Contrats!A:C,3,0)","v":{"$error":"#N/A"}},{"$f":"VLOOKUP(A298,Contrats!A:C,2,0)","v":{"$error":"#N/A"}},{"$f":"VLOOKUP(A298,Contrats!A:H,5,0)","v":{"$error":"#N/A"}}]
[null,"OK",{"$f":"VLOOKUP(A299,Contrats!A:C,3,0)","v":{"$error":"#N/A"}},{"$f":"VLOOKUP(A299,Contrats!A:C,2,0)","v":{"$error":"#N/A"}},{"$f":"VLOOKUP(A299,Contrats!A:H,5,0)","v":{"$error":"#N/A"}}]
[null,"OK",{"$f":"VLOOKUP(A300,Contrats!A:C,3,0)","v":{"$error":"#N/A"}},{"$f":"VLOOKUP(A300,Contrats!A:C,2,0)","v":{"$error":"#N/A"}},{"$f":"VLOOKUP(A300,Contrats!A:H,5,0)","v":{"$error":"#N/A"}}]
[null,"OK",{"$f":"VLOOKUP(A301,Contrats!A:C,3,0)","v":{"$error":"#N/A"}},{"$f":"VLOOKUP(A301,Contrats!A:C,2,0)","v":{"$error":"#N/A"}},{"$f":"VLOOKUP(A301,Contrats!A:H,5,0)","v":{"$error":"#N/A"}}]
[null,"OK",{"$f":"VLOOKUP(A302,Contrats!A:C,3,0)","v":{"$error":"#N/A"}},{"$f":"VLOOKUP(A302,Contrats!A:C,2,0)","v":{"$error":"#N/A"}},{"$f":"VLOOKUP(A302,Contrats!A:H,5,0)","v":{"$error":"#N/A"}}]
[null,"OK",{"$f":"VLOOKUP(A303,Contrats!A:C,3,0)","v":{"$error":"#N/A"}},{"$f":"VLOOKUP(A303,Contrats!A:C,2,0)","v":{"$error":"#N/A"}},{"$f":"VLOOKUP(A303,Contrats!A:H,5,0)","v":{"$error":"#N/A"}}]
[null,"OK",{"$f":"VLOOKUP(A304,Contrats!A:C,3,0)","v":{"$error":"#N/A"}},{"$f":"VLOOKUP(A304,Contrats!A:C,2,0)","v":{"$error":"#N/A"}},{"$f":"VLOOKUP(A304,Contrats!A:H,5,0)","v":{"$error":"#N/A"}}]
[null,"OK",{"$f":"VLOOKUP(A305,Contrats!A:C,3,0)","v":{"$error":"#N/A"}},{"$f":"VLOOKUP(A305,Contrats!A:C,2,0)","v":{"$error":"#N/A"}},{"$f":"VLOOKUP(A305,Contrats!A:H,5,0)","v":{"$error":"#N/A"}}]
[null,"OK",{"$f":"VLOOKUP(A306,Contrats!A:C,3,0)","v":{"$error":"#N/A"}},{"$f":"VLOOKUP(A306,Contrats!A:C,2,0)","v":{"$error":"#N/A"}},{"$f":"VLOOKUP(A306,Contrats!A:H,5,0)","v":{"$error":"#N/A"}}]
[null,"OK",{"$f":"VLOOKUP(A307,Contrats!A:C,3,0)","v":{"$error":"#N/A"}},{"$f":"VLOOKUP(A307,Contrats!A:C,2,0)","v":{"$error":"#N/A"}},{"$f":"VLOOKUP(A307,Contrats!A:H,5,0)","v":{"$error":"#N/A"}}]
[null,"OK",{"$f":"VLOOKUP(A308,Contrats!A:C,3,0)","v":{"$error":"#N/A"}},{"$f":"VLOOKUP(A308,Contrats!A:C,2,0)","v":{"$error":"#N/A"}},{"$f":"VLOOKUP(A308,Contrats!A:H,5,0)","v":{"$error":"#N/A"}}]
[null,"OK",{"$f":"VLOOKUP(A309,Contrats!A:C,3,0)","v":{"$error":"#N/A"}},{"$f":"VLOOKUP(A309,Contrats!A:C,2,0)","v":{"$error":"#N/A"}},{"$f":"VLOOKUP(A309,Contrats!A:H,5,0)","v":{"$error":"#N/A"}}]
[null,"OK",{"$f":"VLOOKUP(A310,Contrats!A:C,3,0)","v":{"$error":"#N/A"}},{"$f":"VLOOKUP(A310,Contrats!A:C,2,0)","v":{"$error":"#N/A"}},{"$f":"VLOOKUP(A310,Contrats!A:H,5,0)","v":{"$error":"#N/A"}}]
[null,"OK",{"$f":"VLOOKUP(A311,Contrats!A:C,3,0)","v":{"$error":"#N/A"}},{"$f":"VLOOKUP(A311,Contrats!A:C,2,0)","v":{"$error":"#N/A"}},{"$f":"VLOOKUP(A311,Contrats!A:H,5,0)","v":{"$error":"#N/A"}}]
[null,"OK",{"$f":"VLOOKUP(A312,Contrats!A:C,3,0)","v":{"$error":"#N/A"}},{"$f":"VLOOKUP(A312,Contrats!A:C,2,0)","v":{"$error":"#N/A"}},{"$f":"VLOOKUP(A312,Contrats!A:H,5,0)","v":{"$error":"#N/A"}}]
[null,"OK",{"$f":"VLOOKUP(A313,Contrats!A:C,3,0)","v":{"$error":"#N/A"}},{"$f":"VLOOKUP(A313,Contrats!A:C,2,0)","v":{"$error":"#N/A"}},{"$f":"VLOOKUP(A313,Contrats!A:H,5,0)","v":{"$error":"#N/A"}}]
[null,"OK",{"$f":"VLOOKUP(A314,Contrats!A:C,3,0)","v":{"$error":"#N/A"}},{"$f":"VLOOKUP(A314,Contrats!A:C,2,0)","v":{"$error":"#N/A"}},{"$f":"VLOOKUP(A314,Contrats!A:H,5,0)","v":{"$error":"#N/A"}}]
[null,"OK",{"$f":"VLOOKUP(A315,Contrats!A:C,3,0)","v":{"$error":"#N/A"}},{"$f":"VLOOKUP(A315,Contrats!A:C,2,0)","v":{"$error":"#N/A"}},{"$f":"VLOOKUP(A315,Contrats!A:H,5,0)","v":{"$error":"#N/A"}}]
[null,"OK",{"$f":"VLOOKUP(A316,Contrats!A:C,3,0)","v":{"$error":"#N/A"}},{"$f":"VLOOKUP(A316,Contrats!A:C,2,0)","v":{"$error":"#N/A"}},{"$f":"VLOOKUP(A316,Contrats!A:H,5,0)","v":{"$error":"#N/A"}}]
[null,"OK",{"$f":"VLOOKUP(A317,Contrats!A:C,3,0)","v":{"$error":"#N/A"}},{"$f":"VLOOKUP(A317,Contrats!A:C,2,0)","v":{"$error":"#N/A"}},{"$f":"VLOOKUP(A317,Contrats!A:H,5,0)","v":{"$error":"#N/A"}}]
[null,"OK",{"$f":"VLOOKUP(A318,Contrats!A:C,3,0)","v":{"$error":"#N/A"}},{"$f":"VLOOKUP(A318,Contrats!A:C,2,0)","v":{"$error":"#N/A"}},{"$f":"VLOOKUP(A318,Contrats!A:H,5,0)","v":{"$error":"#N/A"}}]
[null,"OK",{"$f":"VLOOKUP(A319,Contrats!A:C,3,0)","v":{"$error":"#N/A"}},{"$f":"VLOOKUP(A319,Contrats!A:C,2,0)","v":{"$error":"#N/A"}},{"$f":"VLOOKUP(A319,Contrats!A:H,5,0)","v":{"$error":"#N/A"}}]
[null,"OK",{"$f":"VLOOKUP(A320,Contrats!A:C,3,0)","v":{"$error":"#N/A"}},{"$f":"VLOOKUP(A320,Contrats!A:C,2,0)","v":{"$error":"#N/A"}},{"$f":"VLOOKUP(A320,Contrats!A:H,5,0)","v":{"$error":"#N/A"}}]
[null,"OK",{"$f":"VLOOKUP(A321,Contrats!A:C,3,0)","v":{"$error":"#N/A"}},{"$f":"VLOOKUP(A321,Contrats!A:C,2,0)","v":{"$error":"#N/A"}},{"$f":"VLOOKUP(A321,Contrats!A:H,5,0)","v":{"$error":"#N/A"}}]
[null,"OK",{"$f":"VLOOKUP(A322,Contrats!A:C,3,0)","v":{"$error":"#N/A"}},{"$f":"VLOOKUP(A322,Contrats!A:C,2,0)","v":{"$error":"#N/A"}},{"$f":"VLOOKUP(A322,Contrats!A:H,5,0)","v":{"$error":"#N/A"}}]
[null,"OK",{"$f":"VLOOKUP(A323,Contrats!A:C,3,0)","v":{"$error":"#N/A"}},{"$f":"VLOOKUP(A323,Contrats!A:C,2,0)","v":{"$error":"#N/A"}},{"$f":"VLOOKUP(A323,Contrats!A:H,5,0)","v":{"$error":"#N/A"}}]
[null,"OK",{"$f":"VLOOKUP(A324,Contrats!A:C,3,0)","v":{"$error":"#N/A"}},{"$f":"VLOOKUP(A324,Contrats!A:C,2,0)","v":{"$error":"#N/A"}},{"$f":"VLOOKUP(A324,Contrats!A:H,5,0)","v":{"$error":"#N/A"}}]
[null,"OK",{"$f":"VLOOKUP(A325,Contrats!A:C,3,0)","v":{"$error":"#N/A"}},{"$f":"VLOOKUP(A325,Contrats!A:C,2,0)","v":{"$error":"#N/A"}},{"$f":"VLOOKUP(A325,Contrats!A:H,5,0)","v":{"$error":"#N/A"}}]
[null,"OK",{"$f":"VLOOKUP(A326,Contrats!A:C,3,0)","v":{"$error":"#N/A"}},{"$f":"VLOOKUP(A326,Contrats!A:C,2,0)","v":{"$error":"#N/A"}},{"$f":"VLOOKUP(A326,Contrats!A:H,5,0)","v":{"$error":"#N/A"}}]
[null,"OK",{"$f":"VLOOKUP(A327,Contrats!A:C,3,0)","v":{"$error":"#N/A"}},{"$f":"VLOOKUP(A327,Contrats!A:C,2,0)","v":{"$error":"#N/A"}},{"$f":"VLOOKUP(A327,Contrats!A:H,5,0)","v":{"$error":"#N/A"}}]
[null,"OK",{"$f":"VLOOKUP(A328,Contrats!A:C,3,0)","v":{"$error":"#N/A"}},{"$f":"VLOOKUP(A328,Contrats!A:C,2,0)","v":{"$error":"#N/A"}},{"$f":"VLOOKUP(A328,Contrats!A:H,5,0)","v":{"$error":"#N/A"}}]
[null,"OK",{"$f":"VLOOKUP(A329,Contrats!A:C,3,0)","v":{"$error":"#N/A"}},{"$f":"VLOOKUP(A329,Contrats!A:C,2,0)","v":{"$error":"#N/A"}},{"$f":"VLOOKUP(A329,Contrats!A:H,5,0)","v":{"$error":"#N/A"}}]
[null,"OK",{"$f":"VLOOKUP(A330,Contrats!A:C,3,0)","v":{"$error":"#N/A"}},{"$f":"VLOOKUP(A330,Contrats!A:C,2,0)","v":{"$error":"#N/A"}},{"$f":"VLOOKUP(A330,Contrats!A:H,5,0)","v":{"$error":"#N/A"}}]
[null,"OK",{"$f":"VLOOKUP(A331,Contrats!A:C,3,0)","v":{"$error":"#N/A"}},{"$f":"VLOOKUP(A331,Contrats!A:C,2,0)","v":{"$error":"#N/A"}},{"$f":"VLOOKUP(A331,Contrats!A:H,5,0)","v":{"$error":"#N/A"}}]
[null,"OK",{"$f":"VLOOKUP(A332,Contrats!A:C,3,0)","v":{"$error":"#N/A"}},{"$f":"VLOOKUP(A332,Contrats!A:C,2,0)","v":{"$error":"#N/A"}},{"$f":"VLOOKUP(A332,Contrats!A:H,5,0)","v":{"$error":"#N/A"}}]
[null,"OK",{"$f":"VLOOKUP(A333,Contrats!A:C,3,0)","v":{"$error":"#N/A"}},{"$f":"VLOOKUP(A333,Contrats!A:C,2,0)","v":{"$error":"#N/A"}},{"$f":"VLOOKUP(A333,Contrats!A:H,5,0)","v":{"$error":"#N/A"}}]
[null,"OK",{"$f":"VLOOKUP(A334,Contrats!A:C,3,0)","v":{"$error":"#N/A"}},{"$f":"VLOOKUP(A334,Contrats!A:C,2,0)","v":{"$error":"#N/A"}},{"$f":"VLOOKUP(A334,Contrats!A:H,5,0)","v":{"$error":"#N/A"}}]
[null,"OK",{"$f":"VLOOKUP(A335,Contrats!A:C,3,0)","v":{"$error":"#N/A"}},{"$f":"VLOOKUP(A335,Contrats!A:C,2,0)","v":{"$error":"#N/A"}},{"$f":"VLOOKUP(A335,Contrats!A:H,5,0)","v":{"$error":"#N/A"}}]
[null,"OK",{"$f":"VLOOKUP(A336,Contrats!A:C,3,0)","v":{"$error":"#N/A"}},{"$f":"VLOOKUP(A336,Contrats!A:C,2,0)","v":{"$error":"#N/A"}},{"$f":"VLOOKUP(A336,Contrats!A:H,5,0)","v":{"$error":"#N/A"}}]
[null,"OK",{"$f":"VLOOKUP(A337,Contrats!A:C,3,0)","v":{"$error":"#N/A"}},{"$f":"VLOOKUP(A337,Contrats!A:C,2,0)","v":{"$error":"#N/A"}},{"$f":"VLOOKUP(A337,Contrats!A:H,5,0)","v":{"$error":"#N/A"}}]
[null,"OK",{"$f":"VLOOKUP(A338,Contrats!A:C,3,0)","v":{"$error":"#N/A"}},{"$f":"VLOOKUP(A338,Contrats!A:C,2,0)","v":{"$error":"#N/A"}},{"$f":"VLOOKUP(A338,Contrats!A:H,5,0)","v":{"$error":"#N/A"}}]
[null,"OK",{"$f":"VLOOKUP(A339,Contrats!A:C,3,0)","v":{"$error":"#N/A"}},{"$f":"VLOOKUP(A339,Contrats!A:C,2,0)","v":{"$error":"#N/A"}},{"$f":"VLOOKUP(A339,Contrats!A:H,5,0)","v":{"$error":"#N/A"}}]
[null,"OK",{"$f":"VLOOKUP(A340,Contrats!A:C,3,0)","v":{"$error":"#N/A"}},{"$f":"VLOOKUP(A340,Contrats!A:C,2,0)","v":{"$error":"#N/A"}},{"$f":"VLOOKUP(A340,Contrats!A:H,5,0)","v":{"$error":"#N/A"}}]
[null,"OK",{"$f":"VLOOKUP(A341,Contrats!A:C,3,0)","v":{"$error":"#N/A"}},{"$f":"VLOOKUP(A341,Contrats!A:C,2,0)","v":{"$error":"#N/A"}},{"$f":"VLOOKUP(A341,Contrats!A:H,5,0)","v":{"$error":"#N/A"}}]
[null,"OK",{"$f":"VLOOKUP(A342,Contrats!A:C,3,0)","v":{"$error":"#N/A"}},{"$f":"VLOOKUP(A342,Contrats!A:C,2,0)","v":{"$error":"#N/A"}},{"$f":"VLOOKUP(A342,Contrats!A:H,5,0)","v":{"$error":"#N/A"}}]
[null,"OK",{"$f":"VLOOKUP(A343,Contrats!A:C,3,0)","v":{"$error":"#N/A"}},{"$f":"VLOOKUP(A343,Contrats!A:C,2,0)","v":{"$error":"#N/A"}},{"$f":"VLOOKUP(A343,Contrats!A:H,5,0)","v":{"$error":"#N/A"}}]
[null,"OK",{"$f":"VLOOKUP(A344,Contrats!A:C,3,0)","v":{"$error":"#N/A"}},{"$f":"VLOOKUP(A344,Contrats!A:C,2,0)","v":{"$error":"#N/A"}},{"$f":"VLOOKUP(A344,Contrats!A:H,5,0)","v":{"$error":"#N/A"}}]
[null,"OK",{"$f":"VLOOKUP(A345,Contrats!A:C,3,0)","v":{"$error":"#N/A"}},{"$f":"VLOOKUP(A345,Contrats!A:C,2,0)","v":{"$error":"#N/A"}},{"$f":"VLOOKUP(A345,Contrats!A:H,5,0)","v":{"$error":"#N/A"}}]
[null,"OK",{"$f":"VLOOKUP(A346,Contrats!A:C,3,0)","v":{"$error":"#N/A"}},{"$f":"VLOOKUP(A346,Contrats!A:C,2,0)","v":{"$error":"#N/A"}},{"$f":"VLOOKUP(A346,Contrats!A:H,5,0)","v":{"$error":"#N/A"}}]
[null,"OK",{"$f":"VLOOKUP(A347,Contrats!A:C,3,0)","v":{"$error":"#N/A"}},{"$f":"VLOOKUP(A347,Contrats!A:C,2,0)","v":{"$error":"#N/A"}},{"$f":"VLOOKUP(A347,Contrats!A:H,5,0)","v":{"$error":"#N/A"}}]
[null,"OK",{"$f":"VLOOKUP(A348,Contrats!A:C,3,0)","v":{"$error":"#N/A"}},{"$f":"VLOOKUP(A348,Contrats!A:C,2,0)","v":{"$error":"#N/A"}},{"$f":"VLOOKUP(A348,Contrats!A:H,5,0)","v":{"$error":"#N/A"}}]
[null,"OK",{"$f":"VLOOKUP(A349,Contrats!A:C,3,0)","v":{"$error":"#N/A"}},{"$f":"VLOOKUP(A349,Contrats!A:C,2,0)","v":{"$error":"#N/A"}},{"$f":"VLOOKUP(A349,Contrats!A:H,5,0)","v":{"$error":"#N/A"}}]
[null,"OK",{"$f":"VLOOKUP(A350,Contrats!A:C,3,0)","v":{"$error":"#N/A"}},{"$f":"VLOOKUP(A350,Contrats!A:C,2,0)","v":{"$error":"#N/A"}},{"$f":"VLOOKUP(A350,Contrats!A:H,5,0)","v":{"$error":"#N/A"}}]
[null,"OK",{"$f":"VLOOKUP(A351,Contrats!A:C,3,0)","v":{"$error":"#N/A"}},{"$f":"VLOOKUP(A351,Contrats!A:C,2,0)","v":{"$error":"#N/A"}},{"$f":"VLOOKUP(A351,Contrats!A:H,5,0)","v":{"$error":"#N/A"}}]
[null,"OK",{"$f":"VLOOKUP(A352,Contrats!A:C,3,0)","v":{"$error":"#N/A"}},{"$f":"VLOOKUP(A352,Contrats!A:C,2,0)","v":{"$error":"#N/A"}},{"$f":"VLOOKUP(A352,Contrats!A:H,5,0)","v":{"$error":"#N/A"}}]
[null,"OK",{"$f":"VLOOKUP(A353,Contrats!A:C,3,0)","v":{"$error":"#N/A"}},{"$f":"VLOOKUP(A353,Contrats!A:C,2,0)","v":{"$error":"#N/A"}},{"$f":"VLOOKUP(A353,Contrats!A:H,5,0)","v":{"$error":"#N/A"}}]
[null,"OK",{"$f":"VLOOKUP(A354,Contrats!A:C,3,0)","v":{"$error":"#N/A"}},{"$f":"VLOOKUP(A354,Contrats!A:C,2,0)","v":{"$error":"#N/A"}},{"$f":"VLOOKUP(A354,Contrats!A:H,5,0)","v":{"$error":"#N/A"}}]
[null,"OK",{"$f":"VLOOKUP(A355,Contrats!A:C,3,0)","v":{"$error":"#N/A"}},{"$f":"VLOOKUP(A355,Contrats!A:C,2,0)","v":{"$error":"#N/A"}},{"$f":"VLOOKUP(A355,Contrats!A:H,5,0)","v":{"$error":"#N/A"}}]
[null,"OK",{"$f":"VLOOKUP(A356,Contrats!A:C,3,0)","v":{"$error":"#N/A"}},{"$f":"VLOOKUP(A356,Contrats!A:C,2,0)","v":{"$error":"#N/A"}},{"$f":"VLOOKUP(A356,Contrats!A:H,5,0)","v":{"$error":"#N/A"}}]
[null,"OK",{"$f":"VLOOKUP(A357,Contrats!A:C,3,0)","v":{"$error":"#N/A"}},{"$f":"VLOOKUP(A357,Contrats!A:C,2,0)","v":{"$error":"#N/A"}},{"$f":"VLOOKUP(A357,Contrats!A:H,5,0)","v":{"$error":"#N/A"}}]
[null,"OK",{"$f":"VLOOKUP(A358,Contrats!A:C,3,0)","v":{"$error":"#N/A"}},{"$f":"VLOOKUP(A358,Contrats!A:C,2,0)","v":{"$error":"#N/A"}},{"$f":"VLOOKUP(A358,Contrats!A:H,5,0)","v":{"$error":"#N/A"}}]
[null,"OK",{"$f":"VLOOKUP(A359,Contrats!A:C,3,0)","v":{"$error":"#N/A"}},{"$f":"VLOOKUP(A359,Contrats!A:C,2,0)","v":{"$error":"#N/A"}},{"$f":"VLOOKUP(A359,Contrats!A:H,5,0)","v":{"$error":"#N/A"}}]
[null,"OK",{"$f":"VLOOKUP(A360,Contrats!A:C,3,0)","v":{"$error":"#N/A"}},{"$f":"VLOOKUP(A360,Contrats!A:C,2,0)","v":{"$error":"#N/A"}},{"$f":"VLOOKUP(A360,Contrats!A:H,5,0)","v":{"$error":"#N/A"}}]
[null,"OK",{"$f":"VLOOKUP(A361,Contrats!A:C,3,0)","v":{"$error":"#N/A"}},{"$f":"VLOOKUP(A361,Contrats!A:C,2,0)","v":{"$error":"#N/A"}},{"$f":"VLOOKUP(A361,Contrats!A:H,5,0)","v":{"$error":"#N/A"}}]
[null,"OK",{"$f":"VLOOKUP(A362,Contrats!A:C,3,0)","v":{"$error":"#N/A"}},{"$f":"VLOOKUP(A362,Contrats!A:C,2,0)","v":{"$error":"#N/A"}},{"$f":"VLOOKUP(A362,Contrats!A:H,5,0)","v":{"$error":"#N/A"}}]
[null,"OK",{"$f":"VLOOKUP(A363,Contrats!A:C,3,0)","v":{"$error":"#N/A"}},{"$f":"VLOOKUP(A363,Contrats!A:C,2,0)","v":{"$error":"#N/A"}},{"$f":"VLOOKUP(A363,Contrats!A:H,5,0)","v":{"$error":"#N/A"}}]
[null,"OK",{"$f":"VLOOKUP(A364,Contrats!A:C,3,0)","v":{"$error":"#N/A"}},{"$f":"VLOOKUP(A364,Contrats!A:C,2,0)","v":{"$error":"#N/A"}},{"$f":"VLOOKUP(A364,Contrats!A:H,5,0)","v":{"$error":"#N/A"}}]
[null,"OK",{"$f":"VLOOKUP(A365,Contrats!A:C,3,0)","v":{"$error":"#N/A"}},{"$f":"VLOOKUP(A365,Contrats!A:C,2,0)","v":{"$error":"#N/A"}},{"$f":"VLOOKUP(A365,Contrats!A:H,5,0)","v":{"$error":"#N/A"}}]
[null,"OK",{"$f":"VLOOKUP(A366,Contrats!A:C,3,0)","v":{"$error":"#N/A"}},{"$f":"VLOOKUP(A366,Contrats!A:C,2,0)","v":{"$error":"#N/A"}},{"$f":"VLOOKUP(A366,Contrats!A:H,5,0)","v":{"$error":"#N/A"}}]
[null,"OK",{"$f":"VLOOKUP(A367,Contrats!A:C,3,0)","v":{"$error":"#N/A"}},{"$f":"VLOOKUP(A367,Contrats!A:C,2,0)","v":{"$error":"#N/A"}},{"$f":"VLOOKUP(A367,Contrats!A:H,5,0)","v":{"$error":"#N/A"}}]
[null,"OK",{"$f":"VLOOKUP(A368,Contrats!A:C,3,0)","v":{"$error":"#N/A"}},{"$f":"VLOOKUP(A368,Contrats!A:C,2,0)","v":{"$error":"#N/A"}},{"$f":"VLOOKUP(A368,Contrats!A:H,5,0)","v":{"$error":"#N/A"}}]
[null,"OK",{"$f":"VLOOKUP(A369,Contrats!A:C,3,0)","v":{"$error":"#N/A"}},{"$f":"VLOOKUP(A369,Contrats!A:C,2,0)","v":{"$error":"#N/A"}},{"$f":"VLOOKUP(A369,Contrats!A:H,5,0)","v":{"$error":"#N/A"}}]
[null,"OK",{"$f":"VLOOKUP(A370,Contrats!A:C,3,0)","v":{"$error":"#N/A"}},{"$f":"VLOOKUP(A370,Contrats!A:C,2,0)","v":{"$error":"#N/A"}},{"$f":"VLOOKUP(A370,Contrats!A:H,5,0)","v":{"$error":"#N/A"}}]
[null,"OK",{"$f":"VLOOKUP(A371,Contrats!A:C,3,0)","v":{"$error":"#N/A"}},{"$f":"VLOOKUP(A371,Contrats!A:C,2,0)","v":{"$error":"#N/A"}},{"$f":"VLOOKUP(A371,Contrats!A:H,5,0)","v":{"$error":"#N/A"}}]
[null,"OK",{"$f":"VLOOKUP(A372,Contrats!A:C,3,0)","v":{"$error":"#N/A"}},{"$f":"VLOOKUP(A372,Contrats!A:C,2,0)","v":{"$error":"#N/A"}},{"$f":"VLOOKUP(A372,Contrats!A:H,5,0)","v":{"$error":"#N/A"}}]
[null,"OK",{"$f":"VLOOKUP(A373,Contrats!A:C,3,0)","v":{"$error":"#N/A"}},{"$f":"VLOOKUP(A373,Contrats!A:C,2,0)","v":{"$error":"#N/A"}},{"$f":"VLOOKUP(A373,Contrats!A:H,5,0)","v":{"$error":"#N/A"}}]
[null,"OK",{"$f":"VLOOKUP(A374,Contrats!A:C,3,0)","v":{"$error":"#N/A"}},{"$f":"VLOOKUP(A374,Contrats!A:C,2,0)","v":{"$error":"#N/A"}},{"$f":"VLOOKUP(A374,Contrats!A:H,5,0)","v":{"$error":"#N/A"}}]
[null,"OK",{"$f":"VLOOKUP(A375,Contrats!A:C,3,0)","v":{"$error":"#N/A"}},{"$f":"VLOOKUP(A375,Contrats!A:C,2,0)","v":{"$error":"#N/A"}},{"$f":"VLOOKUP(A375,Contrats!A:H,5,0)","v":{"$error":"#N/A"}}]
[null,"OK",{"$f":"VLOOKUP(A376,Contrats!A:C,3,0)","v":{"$error":"#N/A"}},{"$f":"VLOOKUP(A376,Contrats!A:C,2,0)","v":{"$error":"#N/A"}},{"$f":"VLOOKUP(A376,Contrats!A:H,5,0)","v":{"$error":"#N/A"}}]
[null,"OK",{"$f":"VLOOKUP(A377,Contrats!A:C,3,0)","v":{"$error":"#N/A"}},{"$f":"VLOOKUP(A377,Contrats!A:C,2,0)","v":{"$error":"#N/A"}},{"$f":"VLOOKUP(A377,Contrats!A:H,5,0)","v":{"$error":"#N/A"}}]
[null,"OK",{"$f":"VLOOKUP(A378,Contrats!A:C,3,0)","v":{"$error":"#N/A"}},{"$f":"VLOOKUP(A378,Contrats!A:C,2,0)","v":{"$error":"#N/A"}},{"$f":"VLOOKUP(A378,Contrats!A:H,5,0)","v":{"$error":"#N/A"}}]
[null,"OK",{"$f":"VLOOKUP(A379,Contrats!A:C,3,0)","v":{"$error":"#N/A"}},{"$f":"VLOOKUP(A379,Contrats!A:C,2,0)","v":{"$error":"#N/A"}},{"$f":"VLOOKUP(A379,Contrats!A:H,5,0)","v":{"$error":"#N/A"}}]
[null,"OK",{"$f":"VLOOKUP(A380,Contrats!A:C,3,0)","v":{"$error":"#N/A"}},{"$f":"VLOOKUP(A380,Contrats!A:C,2,0)","v":{"$error":"#N/A"}},{"$f":"VLOOKUP(A380,Contrats!A:H,5,0)","v":{"$error":"#N/A"}}]
[null,"OK",{"$f":"VLOOKUP(A381,Contrats!A:C,3,0)","v":{"$error":"#N/A"}},{"$f":"VLOOKUP(A381,Contrats!A:C,2,0)","v":{"$error":"#N/A"}},{"$f":"VLOOKUP(A381,Contrats!A:H,5,0)","v":{"$error":"#N/A"}}]
[null,"OK",{"$f":"VLOOKUP(A382,Contrats!A:C,3,0)","v":{"$error":"#N/A"}},{"$f":"VLOOKUP(A382,Contrats!A:C,2,0)","v":{"$error":"#N/A"}},{"$f":"VLOOKUP(A382,Contrats!A:H,5,0)","v":{"$error":"#N/A"}}]
[null,"OK",{"$f":"VLOOKUP(A383,Contrats!A:C,3,0)","v":{"$error":"#N/A"}},{"$f":"VLOOKUP(A383,Contrats!A:C,2,0)","v":{"$error":"#N/A"}},{"$f":"VLOOKUP(A383,Contrats!A:H,5,0)","v":{"$error":"#N/A"}}]
[null,"OK",{"$f":"VLOOKUP(A384,Contrats!A:C,3,0)","v":{"$error":"#N/A"}},{"$f":"VLOOKUP(A384,Contrats!A:C,2,0)","v":{"$error":"#N/A"}},{"$f":"VLOOKUP(A384,Contrats!A:H,5,0)","v":{"$error":"#N/A"}}]
[null,"OK",{"$f":"VLOOKUP(A385,Contrats!A:C,3,0)","v":{"$error":"#N/A"}},{"$f":"VLOOKUP(A385,Contrats!A:C,2,0)","v":{"$error":"#N/A"}},{"$f":"VLOOKUP(A385,Contrats!A:H,5,0)","v":{"$error":"#N/A"}}]
[null,"OK",{"$f":"VLOOKUP(A386,Contrats!A:C,3,0)","v":{"$error":"#N/A"}},{"$f":"VLOOKUP(A386,Contrats!A:C,2,0)","v":{"$error":"#N/A"}},{"$f":"VLOOKUP(A386,Contrats!A:H,5,0)","v":{"$error":"#N/A"}}]
[null,"OK",{"$f":"VLOOKUP(A387,Contrats!A:C,3,0)","v":{"$error":"#N/A"}},{"$f":"VLOOKUP(A387,Contrats!A:C,2,0)","v":{"$error":"#N/A"}},{"$f":"VLOOKUP(A387,Contrats!A:H,5,0)","v":{"$error":"#N/A"}}]
[null,"OK",{"$f":"VLOOKUP(A388,Contrats!A:C,3,0)","v":{"$error":"#N/A"}},{"$f":"VLOOKUP(A388,Contrats!A:C,2,0)","v":{"$error":"#N/A"}},{"$f":"VLOOKUP(A388,Contrats!A:H,5,0)","v":{"$error":"#N/A"}}]
[null,"OK",{"$f":"VLOOKUP(A389,Contrats!A:C,3,0)","v":{"$error":"#N/A"}},{"$f":"VLOOKUP(A389,Contrats!A:C,2,0)","v":{"$error":"#N/A"}},{"$f":"VLOOKUP(A389,Contrats!A:H,5,0)","v":{"$error":"#N/A"}}]
[null,"OK",{"$f":"VLOOKUP(A390,Contrats!A:C,3,0)","v":{"$error":"#N/A"}},{"$f":"VLOOKUP(A390,Contrats!A:C,2,0)","v":{"$error":"#N/A"}},{"$f":"VLOOKUP(A390,Contrats!A:H,5,0)","v":{"$error":"#N/A"}}]
[null,"OK",{"$f":"VLOOKUP(A391,Contrats!A:C,3,0)","v":{"$error":"#N/A"}},{"$f":"VLOOKUP(A391,Contrats!A:C,2,0)","v":{"$error":"#N/A"}},{"$f":"VLOOKUP(A391,Contrats!A:H,5,0)","v":{"$error":"#N/A"}}]
[null,"OK",{"$f":"VLOOKUP(A392,Contrats!A:C,3,0)","v":{"$error":"#N/A"}},{"$f":"VLOOKUP(A392,Contrats!A:C,2,0)","v":{"$error":"#N/A"}},{"$f":"VLOOKUP(A392,Contrats!A:H,5,0)","v":{"$error":"#N/A"}}]
[null,"OK",{"$f":"VLOOKUP(A393,Contrats!A:C,3,0)","v":{"$error":"#N/A"}},{"$f":"VLOOKUP(A393,Contrats!A:C,2,0)","v":{"$error":"#N/A"}},{"$f":"VLOOKUP(A393,Contrats!A:H,5,0)","v":{"$error":"#N/A"}}]
[null,"OK",{"$f":"VLOOKUP(A394,Contrats!A:C,3,0)","v":{"$error":"#N/A"}},{"$f":"VLOOKUP(A394,Contrats!A:C,2,0)","v":{"$error":"#N/A"}},{"$f":"VLOOKUP(A394,Contrats!A:H,5,0)","v":{"$error":"#N/A"}}]
[null,"OK",{"$f":"VLOOKUP(A395,Contrats!A:C,3,0)","v":{"$error":"#N/A"}},{"$f":"VLOOKUP(A395,Contrats!A:C,2,0)","v":{"$error":"#N/A"}},{"$f":"VLOOKUP(A395,Contrats!A:H,5,0)","v":{"$error":"#N/A"}}]
[null,"OK",{"$f":"VLOOKUP(A396,Contrats!A:C,3,0)","v":{"$error":"#N/A"}},{"$f":"VLOOKUP(A396,Contrats!A:C,2,0)","v":{"$error":"#N/A"}},{"$f":"VLOOKUP(A396,Contrats!A:H,5,0)","v":{"$error":"#N/A"}}]
[null,"OK",{"$f":"VLOOKUP(A397,Contrats!A:C,3,0)","v":{"$error":"#N/A"}},{"$f":"VLOOKUP(A397,Contrats!A:C,2,0)","v":{"$error":"#N/A"}},{"$f":"VLOOKUP(A397,Contrats!A:H,5,0)","v":{"$error":"#N/A"}}]
[null,"OK",{"$f":"VLOOKUP(A398,Contrats!A:C,3,0)","v":{"$error":"#N/A"}},{"$f":"VLOOKUP(A398,Contrats!A:C,2,0)","v":{"$error":"#N/A"}},{"$f":"VLOOKUP(A398,Contrats!A:H,5,0)","v":{"$error":"#N/A"}}]
[null,"OK",{"$f":"VLOOKUP(A399,Contrats!A:C,3,0)","v":{"$error":"#N/A"}},{"$f":"VLOOKUP(A399,Contrats!A:C,2,0)","v":{"$error":"#N/A"}},{"$f":"VLOOKUP(A399,Contrats!A:H,5,0)","v":{"$error":"#N/A"}}]
[null,"OK",{"$f":"VLOOKUP(A400,Contrats!A:C,3,0)","v":{"$error":"#N/A"}},{"$f":"VLOOKUP(A400,Contrats!A:C,2,0)","v":{"$error":"#N/A"}},{"$f":"VLOOKUP(A400,Contrats!A:H,5,0)","v":{"$error":"#N/A"}}]
[null,"OK",{"$f":"VLOOKUP(A401,Contrats!A:C,3,0)","v":{"$error":"#N/A"}},{"$f":"VLOOKUP(A401,Contrats!A:C,2,0)","v":{"$error":"#N/A"}},{"$f":"VLOOKUP(A401,Contrats!A:H,5,0)","v":{"$error":"#N/A"}}]
[null,"OK",{"$f":"VLOOKUP(A402,Contrats!A:C,3,0)","v":{"$error":"#N/A"}},{"$f":"VLOOKUP(A402,Contrats!A:C,2,0)","v":{"$error":"#N/A"}},{"$f":"VLOOKUP(A402,Contrats!A:H,5,0)","v":{"$error":"#N/A"}}]
[null,"OK",{"$f":"VLOOKUP(A403,Contrats!A:C,3,0)","v":{"$error":"#N/A"}},{"$f":"VLOOKUP(A403,Contrats!A:C,2,0)","v":{"$error":"#N/A"}},{"$f":"VLOOKUP(A403,Contrats!A:H,5,0)","v":{"$error":"#N/A"}}]
[null,"OK",{"$f":"VLOOKUP(A404,Contrats!A:C,3,0)","v":{"$error":"#N/A"}},{"$f":"VLOOKUP(A404,Contrats!A:C,2,0)","v":{"$error":"#N/A"}},{"$f":"VLOOKUP(A404,Contrats!A:H,5,0)","v":{"$error":"#N/A"}}]
[null,"OK",{"$f":"VLOOKUP(A405,Contrats!A:C,3,0)","v":{"$error":"#N/A"}},{"$f":"VLOOKUP(A405,Contrats!A:C,2,0)","v":{"$error":"#N/A"}},{"$f":"VLOOKUP(A405,Contrats!A:H,5,0)","v":{"$error":"#N/A"}}]
[null,"OK",{"$f":"VLOOKUP(A406,Contrats!A:C,3,0)","v":{"$error":"#N/A"}},{"$f":"VLOOKUP(A406,Contrats!A:C,2,0)","v":{"$error":"#N/A"}},{"$f":"VLOOKUP(A406,Contrats!A:H,5,0)","v":{"$error":"#N/A"}}]
[null,"OK",{"$f":"VLOOKUP(A407,Contrats!A:C,3,0)","v":{"$error":"#N/A"}},{"$f":"VLOOKUP(A407,Contrats!A:C,2,0)","v":{"$error":"#N/A"}},{"$f":"VLOOKUP(A407,Contrats!A:H,5,0)","v":{"$error":"#N/A"}}]
[null,"OK",{"$f":"VLOOKUP(A408,Contrats!A:C,3,0)","v":{"$error":"#N/A"}},{"$f":"VLOOKUP(A408,Contrats!A:C,2,0)","v":{"$error":"#N/A"}},{"$f":"VLOOKUP(A408,Contrats!A:H,5,0)","v":{"$error":"#N/A"}}]
[null,"OK",{"$f":"VLOOKUP(A409,Contrats!A:C,3,0)","v":{"$error":"#N/A"}},{"$f":"VLOOKUP(A409,Contrats!A:C,2,0)","v":{"$error":"#N/A"}},{"$f":"VLOOKUP(A409,Contrats!A:H,5,0)","v":{"$error":"#N/A"}}]
[null,"OK",{"$f":"VLOOKUP(A410,Contrats!A:C,3,0)","v":{"$error":"#N/A"}},{"$f":"VLOOKUP(A410,Contrats!A:C,2,0)","v":{"$error":"#N/A"}},{"$f":"VLOOKUP(A410,Contrats!A:H,5,0)","v":{"$error":"#N/A"}}]
[null,"OK",{"$f":"VLOOKUP(A411,Contrats!A:C,3,0)","v":{"$error":"#N/A"}},{"$f":"VLOOKUP(A411,Contrats!A:C,2,0)","v":{"$error":"#N/A"}},{"$f":"VLOOKUP(A411,Contrats!A:H,5,0)","v":{"$error":"#N/A"}}]
[null,"OK",{"$f":"VLOOKUP(A412,Contrats!A:C,3,0)","v":{"$error":"#N/A"}},{"$f":"VLOOKUP(A412,Contrats!A:C,2,0)","v":{"$error":"#N/A"}},{"$f":"VLOOKUP(A412,Contrats!A:H,5,0)","v":{"$error":"#N/A"}}]
[null,"OK",{"$f":"VLOOKUP(A413,Contrats!A:C,3,0)","v":{"$error":"#N/A"}},{"$f":"VLOOKUP(A413,Contrats!A:C,2,0)","v":{"$error":"#N/A"}},{"$f":"VLOOKUP(A413,Contrats!A:H,5,0)","v":{"$error":"#N/A"}}]
[null,"OK",{"$f":"VLOOKUP(A414,Contrats!A:C,3,0)","v":{"$error":"#N/A"}},{"$f":"VLOOKUP(A414,Contrats!A:C,2,0)","v":{"$error":"#N/A"}},{"$f":"VLOOKUP(A414,Contrats!A:H,5,0)","v":{"$error":"#N/A"}}]
[null,"OK",{"$f":"VLOOKUP(A415,Contrats!A:C,3,0)","v":{"$error":"#N/A"}},{"$f":"VLOOKUP(A415,Contrats!A:C,2,0)","v":{"$error":"#N/A"}},{"$f":"VLOOKUP(A415,Contrats!A:H,5,0)","v":{"$error":"#N/A"}}]
[null,"OK",{"$f":"VLOOKUP(A416,Contrats!A:C,3,0)","v":{"$error":"#N/A"}},{"$f":"VLOOKUP(A416,Contrats!A:C,2,0)","v":{"$error":"#N/A"}},{"$f":"VLOOKUP(A416,Contrats!A:H,5,0)","v":{"$error":"#N/A"}}]
[null,"OK",{"$f":"VLOOKUP(A417,Contrats!A:C,3,0)","v":{"$error":"#N/A"}},{"$f":"VLOOKUP(A417,Contrats!A:C,2,0)","v":{"$error":"#N/A"}},{"$f":"VLOOKUP(A417,Contrats!A:H,5,0)","v":{"$error":"#N/A"}}]
[null,"OK",{"$f":"VLOOKUP(A418,Contrats!A:C,3,0)","v":{"$error":"#N/A"}},{"$f":"VLOOKUP(A418,Contrats!A:C,2,0)","v":{"$error":"#N/A"}},{"$f":"VLOOKUP(A418,Contrats!A:H,5,0)","v":{"$error":"#N/A"}}]
[null,"OK",{"$f":"VLOOKUP(A419,Contrats!A:C,3,0)","v":{"$error":"#N/A"}},{"$f":"VLOOKUP(A419,Contrats!A:C,2,0)","v":{"$error":"#N/A"}},{"$f":"VLOOKUP(A419,Contrats!A:H,5,0)","v":{"$error":"#N/A"}}]
[null,"OK",{"$f":"VLOOKUP(A420,Contrats!A:C,3,0)","v":{"$error":"#N/A"}},{"$f":"VLOOKUP(A420,Contrats!A:C,2,0)","v":{"$error":"#N/A"}},{"$f":"VLOOKUP(A420,Contrats!A:H,5,0)","v":{"$error":"#N/A"}}]
[null,"OK",{"$f":"VLOOKUP(A421,Contrats!A:C,3,0)","v":{"$error":"#N/A"}},{"$f":"VLOOKUP(A421,Contrats!A:C,2,0)","v":{"$error":"#N/A"}},{"$f":"VLOOKUP(A421,Contrats!A:H,5,0)","v":{"$error":"#N/A"}}]
[null,"JUSTIF",{"$f":"VLOOKUP(A422,Contrats!A:C,3,0)","v":{"$error":"#N/A"}},{"$f":"VLOOKUP(A422,Contrats!A:C,2,0)","v":{"$error":"#N/A"}},{"$f":"VLOOKUP(A422,Contrats!A:H,5,0)","v":{"$error":"#N/A"}}]
[null,"JUSTIF",{"$f":"VLOOKUP(A423,Contrats!A:C,3,0)","v":{"$error":"#N/A"}},{"$f":"VLOOKUP(A423,Contrats!A:C,2,0)","v":{"$error":"#N/A"}},{"$f":"VLOOKUP(A423,Contrats!A:H,5,0)","v":{"$error":"#N/A"}}]
[null,"OK",{"$f":"VLOOKUP(A424,Contrats!A:C,3,0)","v":{"$error":"#N/A"}},{"$f":"VLOOKUP(A424,Contrats!A:C,2,0)","v":{"$error":"#N/A"}},{"$f":"VLOOKUP(A424,Contrats!A:H,5,0)","v":{"$error":"#N/A"}}]
[null,"OK",{"$f":"VLOOKUP(A425,Contrats!A:C,3,0)","v":{"$error":"#N/A"}},{"$f":"VLOOKUP(A425,Contrats!A:C,2,0)","v":{"$error":"#N/A"}},{"$f":"VLOOKUP(A425,Contrats!A:H,5,0)","v":{"$error":"#N/A"}}]
[null,"OK",{"$f":"VLOOKUP(A426,Contrats!A:C,3,0)","v":{"$error":"#N/A"}},{"$f":"VLOOKUP(A426,Contrats!A:C,2,0)","v":{"$error":"#N/A"}},{"$f":"VLOOKUP(A426,Contrats!A:H,5,0)","v":{"$error":"#N/A"}}]
[null,"OK",{"$f":"VLOOKUP(A427,Contrats!A:C,3,0)","v":{"$error":"#N/A"}},{"$f":"VLOOKUP(A427,Contrats!A:C,2,0)","v":{"$error":"#N/A"}},{"$f":"VLOOKUP(A427,Contrats!A:H,5,0)","v":{"$error":"#N/A"}}]
[null,"OK",{"$f":"VLOOKUP(A428,Contrats!A:C,3,0)","v":{"$error":"#N/A"}},{"$f":"VLOOKUP(A428,Contrats!A:C,2,0)","v":{"$error":"#N/A"}},{"$f":"VLOOKUP(A428,Contrats!A:H,5,0)","v":{"$error":"#N/A"}}]
[null,"OK",{"$f":"VLOOKUP(A429,Contrats!A:C,3,0)","v":{"$error":"#N/A"}},{"$f":"VLOOKUP(A429,Contrats!A:C,2,0)","v":{"$error":"#N/A"}},{"$f":"VLOOKUP(A429,Contrats!A:H,5,0)","v":{"$error":"#N/A"}}]
[null,"OK",{"$f":"VLOOKUP(A430,Contrats!A:C,3,0)","v":{"$error":"#N/A"}},{"$f":"VLOOKUP(A430,Contrats!A:C,2,0)","v":{"$error":"#N/A"}},{"$f":"VLOOKUP(A430,Contrats!A:H,5,0)","v":{"$error":"#N/A"}}]
[null,"OK",{"$f":"VLOOKUP(A431,Contrats!A:C,3,0)","v":{"$error":"#N/A"}},{"$f":"VLOOKUP(A431,Contrats!A:C,2,0)","v":{"$error":"#N/A"}},{"$f":"VLOOKUP(A431,Contrats!A:H,5,0)","v":{"$error":"#N/A"}}]
[null,"OK",{"$f":"VLOOKUP(A432,Contrats!A:C,3,0)","v":{"$error":"#N/A"}},{"$f":"VLOOKUP(A432,Contrats!A:C,2,0)","v":{"$error":"#N/A"}},{"$f":"VLOOKUP(A432,Contrats!A:H,5,0)","v":{"$error":"#N/A"}}]
[null,"OK",{"$f":"VLOOKUP(A433,Contrats!A:C,3,0)","v":{"$error":"#N/A"}},{"$f":"VLOOKUP(A433,Contrats!A:C,2,0)","v":{"$error":"#N/A"}},{"$f":"VLOOKUP(A433,Contrats!A:H,5,0)","v":{"$error":"#N/A"}}]
[null,"OK",{"$f":"VLOOKUP(A434,Contrats!A:C,3,0)","v":{"$error":"#N/A"}},{"$f":"VLOOKUP(A434,Contrats!A:C,2,0)","v":{"$error":"#N/A"}},{"$f":"VLOOKUP(A434,Contrats!A:H,5,0)","v":{"$error":"#N/A"}}]
[null,"OK",{"$f":"VLOOKUP(A435,Contrats!A:C,3,0)","v":{"$error":"#N/A"}},{"$f":"VLOOKUP(A435,Contrats!A:C,2,0)","v":{"$error":"#N/A"}},{"$f":"VLOOKUP(A435,Contrats!A:H,5,0)","v":{"$error":"#N/A"}}]
[null,"OK",{"$f":"VLOOKUP(A436,Contrats!A:C,3,0)","v":{"$error":"#N/A"}},{"$f":"VLOOKUP(A436,Contrats!A:C,2,0)","v":{"$error":"#N/A"}},{"$f":"VLOOKUP(A436,Contrats!A:H,5,0)","v":{"$error":"#N/A"}}]
[null,"OK",{"$f":"VLOOKUP(A437,Contrats!A:C,3,0)","v":{"$error":"#N/A"}},{"$f":"VLOOKUP(A437,Contrats!A:C,2,0)","v":{"$error":"#N/A"}},{"$f":"VLOOKUP(A437,Contrats!A:H,5,0)","v":{"$error":"#N/A"}}]
[null,"OK",{"$f":"VLOOKUP(A438,Contrats!A:C,3,0)","v":{"$error":"#N/A"}},{"$f":"VLOOKUP(A438,Contrats!A:C,2,0)","v":{"$error":"#N/A"}},{"$f":"VLOOKUP(A438,Contrats!A:H,5,0)","v":{"$error":"#N/A"}}]
[null,"OK",{"$f":"VLOOKUP(A439,Contrats!A:C,3,0)","v":{"$error":"#N/A"}},{"$f":"VLOOKUP(A439,Contrats!A:C,2,0)","v":{"$error":"#N/A"}},{"$f":"VLOOKUP(A439,Contrats!A:H,5,0)","v":{"$error":"#N/A"}}]
[null,"OK",{"$f":"VLOOKUP(A440,Contrats!A:C,3,0)","v":{"$error":"#N/A"}},{"$f":"VLOOKUP(A440,Contrats!A:C,2,0)","v":{"$error":"#N/A"}},{"$f":"VLOOKUP(A440,Contrats!A:H,5,0)","v":{"$error":"#N/A"}}]
[null,"OK",{"$f":"VLOOKUP(A441,Contrats!A:C,3,0)","v":{"$error":"#N/A"}},{"$f":"VLOOKUP(A441,Contrats!A:C,2,0)","v":{"$error":"#N/A"}},{"$f":"VLOOKUP(A441,Contrats!A:H,5,0)","v":{"$error":"#N/A"}}]
[null,"OK",{"$f":"VLOOKUP(A442,Contrats!A:C,3,0)","v":{"$error":"#N/A"}},{"$f":"VLOOKUP(A442,Contrats!A:C,2,0)","v":{"$error":"#N/A"}},{"$f":"VLOOKUP(A442,Contrats!A:H,5,0)","v":{"$error":"#N/A"}}]
[null,"OK",{"$f":"VLOOKUP(A443,Contrats!A:C,3,0)","v":{"$error":"#N/A"}},{"$f":"VLOOKUP(A443,Contrats!A:C,2,0)","v":{"$error":"#N/A"}},{"$f":"VLOOKUP(A443,Contrats!A:H,5,0)","v":{"$error":"#N/A"}}]
[null,"OK",{"$f":"VLOOKUP(A444,Contrats!A:C,3,0)","v":{"$error":"#N/A"}},{"$f":"VLOOKUP(A444,Contrats!A:C,2,0)","v":{"$error":"#N/A"}},{"$f":"VLOOKUP(A444,Contrats!A:H,5,0)","v":{"$error":"#N/A"}}]
[null,"OK",{"$f":"VLOOKUP(A445,Contrats!A:C,3,0)","v":{"$error":"#N/A"}},{"$f":"VLOOKUP(A445,Contrats!A:C,2,0)","v":{"$error":"#N/A"}},{"$f":"VLOOKUP(A445,Contrats!A:H,5,0)","v":{"$error":"#N/A"}}]
[null,"OK",{"$f":"VLOOKUP(A446,Contrats!A:C,3,0)","v":{"$error":"#N/A"}},{"$f":"VLOOKUP(A446,Contrats!A:C,2,0)","v":{"$error":"#N/A"}},{"$f":"VLOOKUP(A446,Contrats!A:H,5,0)","v":{"$error":"#N/A"}}]
[null,"OK",{"$f":"VLOOKUP(A447,Contrats!A:C,3,0)","v":{"$error":"#N/A"}},{"$f":"VLOOKUP(A447,Contrats!A:C,2,0)","v":{"$error":"#N/A"}},{"$f":"VLOOKUP(A447,Contrats!A:H,5,0)","v":{"$error":"#N/A"}}]
[null,"OK",{"$f":"VLOOKUP(A448,Contrats!A:C,3,0)","v":{"$error":"#N/A"}},{"$f":"VLOOKUP(A448,Contrats!A:C,2,0)","v":{"$error":"#N/A"}},{"$f":"VLOOKUP(A448,Contrats!A:H,5,0)","v":{"$error":"#N/A"}}]
[null,"OK",{"$f":"VLOOKUP(A449,Contrats!A:C,3,0)","v":{"$error":"#N/A"}},{"$f":"VLOOKUP(A449,Contrats!A:C,2,0)","v":{"$error":"#N/A"}},{"$f":"VLOOKUP(A449,Contrats!A:H,5,0)","v":{"$error":"#N/A"}}]
[null,"OK",{"$f":"VLOOKUP(A450,Contrats!A:C,3,0)","v":{"$error":"#N/A"}},{"$f":"VLOOKUP(A450,Contrats!A:C,2,0)","v":{"$error":"#N/A"}},{"$f":"VLOOKUP(A450,Contrats!A:H,5,0)","v":{"$error":"#N/A"}}]
[null,"OK",{"$f":"VLOOKUP(A451,Contrats!A:C,3,0)","v":{"$error":"#N/A"}},{"$f":"VLOOKUP(A451,Contrats!A:C,2,0)","v":{"$error":"#N/A"}},{"$f":"VLOOKUP(A451,Contrats!A:H,5,0)","v":{"$error":"#N/A"}}]
[null,"OK",{"$f":"VLOOKUP(A452,Contrats!A:C,3,0)","v":{"$error":"#N/A"}},{"$f":"VLOOKUP(A452,Contrats!A:C,2,0)","v":{"$error":"#N/A"}},{"$f":"VLOOKUP(A452,Contrats!A:H,5,0)","v":{"$error":"#N/A"}}]
[null,"OK",{"$f":"VLOOKUP(A453,Contrats!A:C,3,0)","v":{"$error":"#N/A"}},{"$f":"VLOOKUP(A453,Contrats!A:C,2,0)","v":{"$error":"#N/A"}},{"$f":"VLOOKUP(A453,Contrats!A:H,5,0)","v":{"$error":"#N/A"}}]
[null,"OK",{"$f":"VLOOKUP(A454,Contrats!A:C,3,0)","v":{"$error":"#N/A"}},{"$f":"VLOOKUP(A454,Contrats!A:C,2,0)","v":{"$error":"#N/A"}},{"$f":"VLOOKUP(A454,Contrats!A:H,5,0)","v":{"$error":"#N/A"}}]
[null,"OK",{"$f":"VLOOKUP(A455,Contrats!A:C,3,0)","v":{"$error":"#N/A"}},{"$f":"VLOOKUP(A455,Contrats!A:C,2,0)","v":{"$error":"#N/A"}},{"$f":"VLOOKUP(A455,Contrats!A:H,5,0)","v":{"$error":"#N/A"}}]
[null,"OK",{"$f":"VLOOKUP(A456,Contrats!A:C,3,0)","v":{"$error":"#N/A"}},{"$f":"VLOOKUP(A456,Contrats!A:C,2,0)","v":{"$error":"#N/A"}},{"$f":"VLOOKUP(A456,Contrats!A:H,5,0)","v":{"$error":"#N/A"}}]
[null,"OK",{"$f":"VLOOKUP(A457,Contrats!A:C,3,0)","v":{"$error":"#N/A"}},{"$f":"VLOOKUP(A457,Contrats!A:C,2,0)","v":{"$error":"#N/A"}},{"$f":"VLOOKUP(A457,Contrats!A:H,5,0)","v":{"$error":"#N/A"}}]
[null,"OK",{"$f":"VLOOKUP(A458,Contrats!A:C,3,0)","v":{"$error":"#N/A"}},{"$f":"VLOOKUP(A458,Contrats!A:C,2,0)","v":{"$error":"#N/A"}},{"$f":"VLOOKUP(A458,Contrats!A:H,5,0)","v":{"$error":"#N/A"}}]
[null,"OK",{"$f":"VLOOKUP(A459,Contrats!A:C,3,0)","v":{"$error":"#N/A"}},{"$f":"VLOOKUP(A459,Contrats!A:C,2,0)","v":{"$error":"#N/A"}},{"$f":"VLOOKUP(A459,Contrats!A:H,5,0)","v":{"$error":"#N/A"}}]
[null,"OK",{"$f":"VLOOKUP(A460,Contrats!A:C,3,0)","v":{"$error":"#N/A"}},{"$f":"VLOOKUP(A460,Contrats!A:C,2,0)","v":{"$error":"#N/A"}},{"$f":"VLOOKUP(A460,Contrats!A:H,5,0)","v":{"$error":"#N/A"}}]
[null,"OK",{"$f":"VLOOKUP(A461,Contrats!A:C,3,0)","v":{"$error":"#N/A"}},{"$f":"VLOOKUP(A461,Contrats!A:C,2,0)","v":{"$error":"#N/A"}},{"$f":"VLOOKUP(A461,Contrats!A:H,5,0)","v":{"$error":"#N/A"}}]
[null,"OK",{"$f":"VLOOKUP(A462,Contrats!A:C,3,0)","v":{"$error":"#N/A"}},{"$f":"VLOOKUP(A462,Contrats!A:C,2,0)","v":{"$error":"#N/A"}},{"$f":"VLOOKUP(A462,Contrats!A:H,5,0)","v":{"$error":"#N/A"}}]
[null,"OK",{"$f":"VLOOKUP(A463,Contrats!A:C,3,0)","v":{"$error":"#N/A"}},{"$f":"VLOOKUP(A463,Contrats!A:C,2,0)","v":{"$error":"#N/A"}},{"$f":"VLOOKUP(A463,Contrats!A:H,5,0)","v":{"$error":"#N/A"}}]
[null,"OK",{"$f":"VLOOKUP(A464,Contrats!A:C,3,0)","v":{"$error":"#N/A"}},{"$f":"VLOOKUP(A464,Contrats!A:C,2,0)","v":{"$error":"#N/A"}},{"$f":"VLOOKUP(A464,Contrats!A:H,5,0)","v":{"$error":"#N/A"}}]
[null,"OK",{"$f":"VLOOKUP(A465,Contrats!A:C,3,0)","v":{"$error":"#N/A"}},{"$f":"VLOOKUP(A465,Contrats!A:C,2,0)","v":{"$error":"#N/A"}},{"$f":"VLOOKUP(A465,Contrats!A:H,5,0)","v":{"$error":"#N/A"}}]
[null,"OK",{"$f":"VLOOKUP(A466,Contrats!A:C,3,0)","v":{"$error":"#N/A"}},{"$f":"VLOOKUP(A466,Contrats!A:C,2,0)","v":{"$error":"#N/A"}},{"$f":"VLOOKUP(A466,Contrats!A:H,5,0)","v":{"$error":"#N/A"}}]
[null,"OK",{"$f":"VLOOKUP(A467,Contrats!A:C,3,0)","v":{"$error":"#N/A"}},{"$f":"VLOOKUP(A467,Contrats!A:C,2,0)","v":{"$error":"#N/A"}},{"$f":"VLOOKUP(A467,Contrats!A:H,5,0)","v":{"$error":"#N/A"}}]
[null,"OK",{"$f":"VLOOKUP(A468,Contrats!A:C,3,0)","v":{"$error":"#N/A"}},{"$f":"VLOOKUP(A468,Contrats!A:C,2,0)","v":{"$error":"#N/A"}},{"$f":"VLOOKUP(A468,Contrats!A:H,5,0)","v":{"$error":"#N/A"}}]
[null,"OK",{"$f":"VLOOKUP(A469,Contrats!A:C,3,0)","v":{"$error":"#N/A"}},{"$f":"VLOOKUP(A469,Contrats!A:C,2,0)","v":{"$error":"#N/A"}},{"$f":"VLOOKUP(A469,Contrats!A:H,5,0)","v":{"$error":"#N/A"}}]
[null,"OK",{"$f":"VLOOKUP(A470,Contrats!A:C,3,0)","v":{"$error":"#N/A"}},{"$f":"VLOOKUP(A470,Contrats!A:C,2,0)","v":{"$error":"#N/A"}},{"$f":"VLOOKUP(A470,Contrats!A:H,5,0)","v":{"$error":"#N/A"}}]
[null,"OK",{"$f":"VLOOKUP(A471,Contrats!A:C,3,0)","v":{"$error":"#N/A"}},{"$f":"VLOOKUP(A471,Contrats!A:C,2,0)","v":{"$error":"#N/A"}},{"$f":"VLOOKUP(A471,Contrats!A:H,5,0)","v":{"$error":"#N/A"}}]
[null,"OK",{"$f":"VLOOKUP(A472,Contrats!A:C,3,0)","v":{"$error":"#N/A"}},{"$f":"VLOOKUP(A472,Contrats!A:C,2,0)","v":{"$error":"#N/A"}},{"$f":"VLOOKUP(A472,Contrats!A:H,5,0)","v":{"$error":"#N/A"}}]
[null,"OK",{"$f":"VLOOKUP(A473,Contrats!A:C,3,0)","v":{"$error":"#N/A"}},{"$f":"VLOOKUP(A473,Contrats!A:C,2,0)","v":{"$error":"#N/A"}},{"$f":"VLOOKUP(A473,Contrats!A:H,5,0)","v":{"$error":"#N/A"}}]
[null,"OK",{"$f":"VLOOKUP(A474,Contrats!A:C,3,0)","v":{"$error":"#N/A"}},{"$f":"VLOOKUP(A474,Contrats!A:C,2,0)","v":{"$error":"#N/A"}},{"$f":"VLOOKUP(A474,Contrats!A:H,5,0)","v":{"$error":"#N/A"}}]
[null,"OK",{"$f":"VLOOKUP(A475,Contrats!A:C,3,0)","v":{"$error":"#N/A"}},{"$f":"VLOOKUP(A475,Contrats!A:C,2,0)","v":{"$error":"#N/A"}},{"$f":"VLOOKUP(A475,Contrats!A:H,5,0)","v":{"$error":"#N/A"}}]
[null,"OK",{"$f":"VLOOKUP(A476,Contrats!A:C,3,0)","v":{"$error":"#N/A"}},{"$f":"VLOOKUP(A476,Contrats!A:C,2,0)","v":{"$error":"#N/A"}},{"$f":"VLOOKUP(A476,Contrats!A:H,5,0)","v":{"$error":"#N/A"}}]
[null,"OK",{"$f":"VLOOKUP(A477,Contrats!A:C,3,0)","v":{"$error":"#N/A"}},{"$f":"VLOOKUP(A477,Contrats!A:C,2,0)","v":{"$error":"#N/A"}},{"$f":"VLOOKUP(A477,Contrats!A:H,5,0)","v":{"$error":"#N/A"}}]
[null,"OK",{"$f":"VLOOKUP(A478,Contrats!A:C,3,0)","v":{"$error":"#N/A"}},{"$f":"VLOOKUP(A478,Contrats!A:C,2,0)","v":{"$error":"#N/A"}},{"$f":"VLOOKUP(A478,Contrats!A:H,5,0)","v":{"$error":"#N/A"}}]
[null,"OK",{"$f":"VLOOKUP(A479,Contrats!A:C,3,0)","v":{"$error":"#N/A"}},{"$f":"VLOOKUP(A479,Contrats!A:C,2,0)","v":{"$error":"#N/A"}},{"$f":"VLOOKUP(A479,Contrats!A:H,5,0)","v":{"$error":"#N/A"}}]
[null,"OK",{"$f":"VLOOKUP(A480,Contrats!A:C,3,0)","v":{"$error":"#N/A"}},{"$f":"VLOOKUP(A480,Contrats!A:C,2,0)","v":{"$error":"#N/A"}},{"$f":"VLOOKUP(A480,Contrats!A:H,5,0)","v":{"$error":"#N/A"}}]
[null,"OK",{"$f":"VLOOKUP(A481,Contrats!A:C,3,0)","v":{"$error":"#N/A"}},{"$f":"VLOOKUP(A481,Contrats!A:C,2,0)","v":{"$error":"#N/A"}},{"$f":"VLOOKUP(A481,Contrats!A:H,5,0)","v":{"$error":"#N/A"}}]
[null,"OK",{"$f":"VLOOKUP(A482,Contrats!A:C,3,0)","v":{"$error":"#N/A"}},{"$f":"VLOOKUP(A482,Contrats!A:C,2,0)","v":{"$error":"#N/A"}},{"$f":"VLOOKUP(A482,Contrats!A:H,5,0)","v":{"$error":"#N/A"}}]
[null,"OK",{"$f":"VLOOKUP(A483,Contrats!A:C,3,0)","v":{"$error":"#N/A"}},{"$f":"VLOOKUP(A483,Contrats!A:C,2,0)","v":{"$error":"#N/A"}},{"$f":"VLOOKUP(A483,Contrats!A:H,5,0)","v":{"$error":"#N/A"}}]
[null,"OK",{"$f":"VLOOKUP(A484,Contrats!A:C,3,0)","v":{"$error":"#N/A"}},{"$f":"VLOOKUP(A484,Contrats!A:C,2,0)","v":{"$error":"#N/A"}},{"$f":"VLOOKUP(A484,Contrats!A:H,5,0)","v":{"$error":"#N/A"}}]
[null,"OK",{"$f":"VLOOKUP(A485,Contrats!A:C,3,0)","v":{"$error":"#N/A"}},{"$f":"VLOOKUP(A485,Contrats!A:C,2,0)","v":{"$error":"#N/A"}},{"$f":"VLOOKUP(A485,Contrats!A:H,5,0)","v":{"$error":"#N/A"}}]
[null,"OK",{"$f":"VLOOKUP(A486,Contrats!A:C,3,0)","v":{"$error":"#N/A"}},{"$f":"VLOOKUP(A486,Contrats!A:C,2,0)","v":{"$error":"#N/A"}},{"$f":"VLOOKUP(A486,Contrats!A:H,5,0)","v":{"$error":"#N/A"}}]
[null,"OK",{"$f":"VLOOKUP(A487,Contrats!A:C,3,0)","v":{"$error":"#N/A"}},{"$f":"VLOOKUP(A487,Contrats!A:C,2,0)","v":{"$error":"#N/A"}},{"$f":"VLOOKUP(A487,Contrats!A:H,5,0)","v":{"$error":"#N/A"}}]
[null,"OK",{"$f":"VLOOKUP(A488,Contrats!A:C,3,0)","v":{"$error":"#N/A"}},{"$f":"VLOOKUP(A488,Contrats!A:C,2,0)","v":{"$error":"#N/A"}},{"$f":"VLOOKUP(A488,Contrats!A:H,5,0)","v":{"$error":"#N/A"}}]
[null,"OK",{"$f":"VLOOKUP(A489,Contrats!A:C,3,0)","v":{"$error":"#N/A"}},{"$f":"VLOOKUP(A489,Contrats!A:C,2,0)","v":{"$error":"#N/A"}},{"$f":"VLOOKUP(A489,Contrats!A:H,5,0)","v":{"$error":"#N/A"}}]
[null,"OK",{"$f":"VLOOKUP(A490,Contrats!A:C,3,0)","v":{"$error":"#N/A"}},{"$f":"VLOOKUP(A490,Contrats!A:C,2,0)","v":{"$error":"#N/A"}},{"$f":"VLOOKUP(A490,Contrats!A:H,5,0)","v":{"$error":"#N/A"}}]
[null,"OK",{"$f":"VLOOKUP(A491,Contrats!A:C,3,0)","v":{"$error":"#N/A"}},{"$f":"VLOOKUP(A491,Contrats!A:C,2,0)","v":{"$error":"#N/A"}},{"$f":"VLOOKUP(A491,Contrats!A:H,5,0)","v":{"$error":"#N/A"}}]
[null,"OK",{"$f":"VLOOKUP(A492,Contrats!A:C,3,0)","v":{"$error":"#N/A"}},{"$f":"VLOOKUP(A492,Contrats!A:C,2,0)","v":{"$error":"#N/A"}},{"$f":"VLOOKUP(A492,Contrats!A:H,5,0)","v":{"$error":"#N/A"}}]
[null,"OK",{"$f":"VLOOKUP(A493,Contrats!A:C,3,0)","v":{"$error":"#N/A"}},{"$f":"VLOOKUP(A493,Contrats!A:C,2,0)","v":{"$error":"#N/A"}},{"$f":"VLOOKUP(A493,Contrats!A:H,5,0)","v":{"$error":"#N/A"}}]
[null,"OK",{"$f":"VLOOKUP(A494,Contrats!A:C,3,0)","v":{"$error":"#N/A"}},{"$f":"VLOOKUP(A494,Contrats!A:C,2,0)","v":{"$error":"#N/A"}},{"$f":"VLOOKUP(A494,Contrats!A:H,5,0)","v":{"$error":"#N/A"}}]
[null,"OK",{"$f":"VLOOKUP(A495,Contrats!A:C,3,0)","v":{"$error":"#N/A"}},{"$f":"VLOOKUP(A495,Contrats!A:C,2,0)","v":{"$error":"#N/A"}},{"$f":"VLOOKUP(A495,Contrats!A:H,5,0)","v":{"$error":"#N/A"}}]
[null,"OK",{"$f":"VLOOKUP(A496,Contrats!A:C,3,0)","v":{"$error":"#N/A"}},{"$f":"VLOOKUP(A496,Contrats!A:C,2,0)","v":{"$error":"#N/A"}},{"$f":"VLOOKUP(A496,Contrats!A:H,5,0)","v":{"$error":"#N/A"}}]
[null,"OK",{"$f":"VLOOKUP(A497,Contrats!A:C,3,0)","v":{"$error":"#N/A"}},{"$f":"VLOOKUP(A497,Contrats!A:C,2,0)","v":{"$error":"#N/A"}},{"$f":"VLOOKUP(A497,Contrats!A:H,5,0)","v":{"$error":"#N/A"}}]
[null,"OK",{"$f":"VLOOKUP(A498,Contrats!A:C,3,0)","v":{"$error":"#N/A"}},{"$f":"VLOOKUP(A498,Contrats!A:C,2,0)","v":{"$error":"#N/A"}},{"$f":"VLOOKUP(A498,Contrats!A:H,5,0)","v":{"$error":"#N/A"}}]
[null,"OK",{"$f":"VLOOKUP(A499,Contrats!A:C,3,0)","v":{"$error":"#N/A"}},{"$f":"VLOOKUP(A499,Contrats!A:C,2,0)","v":{"$error":"#N/A"}},{"$f":"VLOOKUP(A499,Contrats!A:H,5,0)","v":{"$error":"#N/A"}}]
[null,"OK",{"$f":"VLOOKUP(A500,Contrats!A:C,3,0)","v":{"$error":"#N/A"}},{"$f":"VLOOKUP(A500,Contrats!A:C,2,0)","v":{"$error":"#N/A"}},{"$f":"VLOOKUP(A500,Contrats!A:H,5,0)","v":{"$error":"#N/A"}}]
[null,"OK",{"$f":"VLOOKUP(A501,Contrats!A:C,3,0)","v":{"$error":"#N/A"}},{"$f":"VLOOKUP(A501,Contrats!A:C,2,0)","v":{"$error":"#N/A"}},{"$f":"VLOOKUP(A501,Contrats!A:H,5,0)","v":{"$error":"#N/A"}}]
[null,"OK",{"$f":"VLOOKUP(A502,Contrats!A:C,3,0)","v":{"$error":"#N/A"}},{"$f":"VLOOKUP(A502,Contrats!A:C,2,0)","v":{"$error":"#N/A"}},{"$f":"VLOOKUP(A502,Contrats!A:H,5,0)","v":{"$error":"#N/A"}}]
[null,"OK",{"$f":"VLOOKUP(A503,Contrats!A:C,3,0)","v":{"$error":"#N/A"}},{"$f":"VLOOKUP(A503,Contrats!A:C,2,0)","v":{"$error":"#N/A"}},{"$f":"VLOOKUP(A503,Contrats!A:H,5,0)","v":{"$error":"#N/A"}}]
[null,"OK",{"$f":"VLOOKUP(A504,Contrats!A:C,3,0)","v":{"$error":"#N/A"}},{"$f":"VLOOKUP(A504,Contrats!A:C,2,0)","v":{"$error":"#N/A"}},{"$f":"VLOOKUP(A504,Contrats!A:H,5,0)","v":{"$error":"#N/A"}}]
[null,"OK",{"$f":"VLOOKUP(A505,Contrats!A:C,3,0)","v":{"$error":"#N/A"}},{"$f":"VLOOKUP(A505,Contrats!A:C,2,0)","v":{"$error":"#N/A"}},{"$f":"VLOOKUP(A505,Contrats!A:H,5,0)","v":{"$error":"#N/A"}}]
[null,"OK",{"$f":"VLOOKUP(A506,Contrats!A:C,3,0)","v":{"$error":"#N/A"}},{"$f":"VLOOKUP(A506,Contrats!A:C,2,0)","v":{"$error":"#N/A"}},{"$f":"VLOOKUP(A506,Contrats!A:H,5,0)","v":{"$error":"#N/A"}}]
[null,"OK",{"$f":"VLOOKUP(A507,Contrats!A:C,3,0)","v":{"$error":"#N/A"}},{"$f":"VLOOKUP(A507,Contrats!A:C,2,0)","v":{"$error":"#N/A"}},{"$f":"VLOOKUP(A507,Contrats!A:H,5,0)","v":{"$error":"#N/A"}}]
[null,"OK",{"$f":"VLOOKUP(A508,Contrats!A:C,3,0)","v":{"$error":"#N/A"}},{"$f":"VLOOKUP(A508,Contrats!A:C,2,0)","v":{"$error":"#N/A"}},{"$f":"VLOOKUP(A508,Contrats!A:H,5,0)","v":{"$error":"#N/A"}}]
[null,"OK",{"$f":"VLOOKUP(A509,Contrats!A:C,3,0)","v":{"$error":"#N/A"}},{"$f":"VLOOKUP(A509,Contrats!A:C,2,0)","v":{"$error":"#N/A"}},{"$f":"VLOOKUP(A509,Contrats!A:H,5,0)","v":{"$error":"#N/A"}}]
[null,"OK",{"$f":"VLOOKUP(A510,Contrats!A:C,3,0)","v":{"$error":"#N/A"}},{"$f":"VLOOKUP(A510,Contrats!A:C,2,0)","v":{"$error":"#N/A"}},{"$f":"VLOOKUP(A510,Contrats!A:H,5,0)","v":{"$error":"#N/A"}}]
[null,"OK",{"$f":"VLOOKUP(A511,Contrats!A:C,3,0)","v":{"$error":"#N/A"}},{"$f":"VLOOKUP(A511,Contrats!A:C,2,0)","v":{"$error":"#N/A"}},{"$f":"VLOOKUP(A511,Contrats!A:H,5,0)","v":{"$error":"#N/A"}}]
[null,"OK",{"$f":"VLOOKUP(A512,Contrats!A:C,3,0)","v":{"$error":"#N/A"}},{"$f":"VLOOKUP(A512,Contrats!A:C,2,0)","v":{"$error":"#N/A"}},{"$f":"VLOOKUP(A512,Contrats!A:H,5,0)","v":{"$error":"#N/A"}}]
[null,"OK",{"$f":"VLOOKUP(A513,Contrats!A:C,3,0)","v":{"$error":"#N/A"}},{"$f":"VLOOKUP(A513,Contrats!A:C,2,0)","v":{"$error":"#N/A"}},{"$f":"VLOOKUP(A513,Contrats!A:H,5,0)","v":{"$error":"#N/A"}}]
[null,"OK",{"$f":"VLOOKUP(A514,Contrats!A:C,3,0)","v":{"$error":"#N/A"}},{"$f":"VLOOKUP(A514,Contrats!A:C,2,0)","v":{"$error":"#N/A"}},{"$f":"VLOOKUP(A514,Contrats!A:H,5,0)","v":{"$error":"#N/A"}}]
[null,"OK",{"$f":"VLOOKUP(A515,Contrats!A:C,3,0)","v":{"$error":"#N/A"}},{"$f":"VLOOKUP(A515,Contrats!A:C,2,0)","v":{"$error":"#N/A"}},{"$f":"VLOOKUP(A515,Contrats!A:H,5,0)","v":{"$error":"#N/A"}}]
[null,"OK",{"$f":"VLOOKUP(A516,Contrats!A:C,3,0)","v":{"$error":"#N/A"}},{"$f":"VLOOKUP(A516,Contrats!A:C,2,0)","v":{"$error":"#N/A"}},{"$f":"VLOOKUP(A516,Contrats!A:H,5,0)","v":{"$error":"#N/A"}}]
[null,"OK",{"$f":"VLOOKUP(A517,Contrats!A:C,3,0)","v":{"$error":"#N/A"}},{"$f":"VLOOKUP(A517,Contrats!A:C,2,0)","v":{"$error":"#N/A"}},{"$f":"VLOOKUP(A517,Contrats!A:H,5,0)","v":{"$error":"#N/A"}}]
[null,"OK",{"$f":"VLOOKUP(A518,Contrats!A:C,3,0)","v":{"$error":"#N/A"}},{"$f":"VLOOKUP(A518,Contrats!A:C,2,0)","v":{"$error":"#N/A"}},{"$f":"VLOOKUP(A518,Contrats!A:H,5,0)","v":{"$error":"#N/A"}}]
[null,"OK",{"$f":"VLOOKUP(A519,Contrats!A:C,3,0)","v":{"$error":"#N/A"}},{"$f":"VLOOKUP(A519,Contrats!A:C,2,0)","v":{"$error":"#N/A"}},{"$f":"VLOOKUP(A519,Contrats!A:H,5,0)","v":{"$error":"#N/A"}}]
[null,"OK",{"$f":"VLOOKUP(A520,Contrats!A:C,3,0)","v":{"$error":"#N/A"}},{"$f":"VLOOKUP(A520,Contrats!A:C,2,0)","v":{"$error":"#N/A"}},{"$f":"VLOOKUP(A520,Contrats!A:H,5,0)","v":{"$error":"#N/A"}}]
[null,"OK",{"$f":"VLOOKUP(A521,Contrats!A:C,3,0)","v":{"$error":"#N/A"}},{"$f":"VLOOKUP(A521,Contrats!A:C,2,0)","v":{"$error":"#N/A"}},{"$f":"VLOOKUP(A521,Contrats!A:H,5,0)","v":{"$error":"#N/A"}}]
[null,"OK",{"$f":"VLOOKUP(A522,Contrats!A:C,3,0)","v":{"$error":"#N/A"}},{"$f":"VLOOKUP(A522,Contrats!A:C,2,0)","v":{"$error":"#N/A"}},{"$f":"VLOOKUP(A522,Contrats!A:H,5,0)","v":{"$error":"#N/A"}}]
[null,"OK",{"$f":"VLOOKUP(A523,Contrats!A:C,3,0)","v":{"$error":"#N/A"}},{"$f":"VLOOKUP(A523,Contrats!A:C,2,0)","v":{"$error":"#N/A"}},{"$f":"VLOOKUP(A523,Contrats!A:H,5,0)","v":{"$error":"#N/A"}}]
[null,"OK",{"$f":"VLOOKUP(A524,Contrats!A:C,3,0)","v":{"$error":"#N/A"}},{"$f":"VLOOKUP(A524,Contrats!A:C,2,0)","v":{"$error":"#N/A"}},{"$f":"VLOOKUP(A524,Contrats!A:H,5,0)","v":{"$error":"#N/A"}}]
[null,"OK",{"$f":"VLOOKUP(A525,Contrats!A:C,3,0)","v":{"$error":"#N/A"}},{"$f":"VLOOKUP(A525,Contrats!A:C,2,0)","v":{"$error":"#N/A"}},{"$f":"VLOOKUP(A525,Contrats!A:H,5,0)","v":{"$error":"#N/A"}}]
[null,"OK",{"$f":"VLOOKUP(A526,Contrats!A:C,3,0)","v":{"$error":"#N/A"}},{"$f":"VLOOKUP(A526,Contrats!A:C,2,0)","v":{"$error":"#N/A"}},{"$f":"VLOOKUP(A526,Contrats!A:H,5,0)","v":{"$error":"#N/A"}}]
[null,"OK",{"$f":"VLOOKUP(A527,Contrats!A:C,3,0)","v":{"$error":"#N/A"}},{"$f":"VLOOKUP(A527,Contrats!A:C,2,0)","v":{"$error":"#N/A"}},{"$f":"VLOOKUP(A527,Contrats!A:H,5,0)","v":{"$error":"#N/A"}}]
[null,"OK",{"$f":"VLOOKUP(A528,Contrats!A:C,3,0)","v":{"$error":"#N/A"}},{"$f":"VLOOKUP(A528,Contrats!A:C,2,0)","v":{"$error":"#N/A"}},{"$f":"VLOOKUP(A528,Contrats!A:H,5,0)","v":{"$error":"#N/A"}}]
[null,"OK",{"$f":"VLOOKUP(A529,Contrats!A:C,3,0)","v":{"$error":"#N/A"}},{"$f":"VLOOKUP(A529,Contrats!A:C,2,0)","v":{"$error":"#N/A"}},{"$f":"VLOOKUP(A529,Contrats!A:H,5,0)","v":{"$error":"#N/A"}}]
[null,"OK",{"$f":"VLOOKUP(A530,Contrats!A:C,3,0)","v":{"$error":"#N/A"}},{"$f":"VLOOKUP(A530,Contrats!A:C,2,0)","v":{"$error":"#N/A"}},{"$f":"VLOOKUP(A530,Contrats!A:H,5,0)","v":{"$error":"#N/A"}}]
[null,"OK",{"$f":"VLOOKUP(A531,Contrats!A:C,3,0)","v":{"$error":"#N/A"}},{"$f":"VLOOKUP(A531,Contrats!A:C,2,0)","v":{"$error":"#N/A"}},{"$f":"VLOOKUP(A531,Contrats!A:H,5,0)","v":{"$error":"#N/A"}}]
[null,"OK",{"$f":"VLOOKUP(A532,Contrats!A:C,3,0)","v":{"$error":"#N/A"}},{"$f":"VLOOKUP(A532,Contrats!A:C,2,0)","v":{"$error":"#N/A"}},{"$f":"VLOOKUP(A532,Contrats!A:H,5,0)","v":{"$error":"#N/A"}}]
[null,"OK",{"$f":"VLOOKUP(A533,Contrats!A:C,3,0)","v":{"$error":"#N/A"}},{"$f":"VLOOKUP(A533,Contrats!A:C,2,0)","v":{"$error":"#N/A"}},{"$f":"VLOOKUP(A533,Contrats!A:H,5,0)","v":{"$error":"#N/A"}}]
[null,"OK",{"$f":"VLOOKUP(A534,Contrats!A:C,3,0)","v":{"$error":"#N/A"}},{"$f":"VLOOKUP(A534,Contrats!A:C,2,0)","v":{"$error":"#N/A"}},{"$f":"VLOOKUP(A534,Contrats!A:H,5,0)","v":{"$error":"#N/A"}}]
[null,"OK",{"$f":"VLOOKUP(A535,Contrats!A:C,3,0)","v":{"$error":"#N/A"}},{"$f":"VLOOKUP(A535,Contrats!A:C,2,0)","v":{"$error":"#N/A"}},{"$f":"VLOOKUP(A535,Contrats!A:H,5,0)","v":{"$error":"#N/A"}}]
[null,"OK",{"$f":"VLOOKUP(A536,Contrats!A:C,3,0)","v":{"$error":"#N/A"}},{"$f":"VLOOKUP(A536,Contrats!A:C,2,0)","v":{"$error":"#N/A"}},{"$f":"VLOOKUP(A536,Contrats!A:H,5,0)","v":{"$error":"#N/A"}}]
[null,"OK",{"$f":"VLOOKUP(A537,Contrats!A:C,3,0)","v":{"$error":"#N/A"}},{"$f":"VLOOKUP(A537,Contrats!A:C,2,0)","v":{"$error":"#N/A"}},{"$f":"VLOOKUP(A537,Contrats!A:H,5,0)","v":{"$error":"#N/A"}}]
[null,"OK",{"$f":"VLOOKUP(A538,Contrats!A:C,3,0)","v":{"$error":"#N/A"}},{"$f":"VLOOKUP(A538,Contrats!A:C,2,0)","v":{"$error":"#N/A"}},{"$f":"VLOOKUP(A538,Contrats!A:H,5,0)","v":{"$error":"#N/A"}}]
[null,"OK",{"$f":"VLOOKUP(A539,Contrats!A:C,3,0)","v":{"$error":"#N/A"}},{"$f":"VLOOKUP(A539,Contrats!A:C,2,0)","v":{"$error":"#N/A"}},{"$f":"VLOOKUP(A539,Contrats!A:H,5,0)","v":{"$error":"#N/A"}}]
[null,"OK",{"$f":"VLOOKUP(A540,Contrats!A:C,3,0)","v":{"$error":"#N/A"}},{"$f":"VLOOKUP(A540,Contrats!A:C,2,0)","v":{"$error":"#N/A"}},{"$f":"VLOOKUP(A540,Contrats!A:H,5,0)","v":{"$error":"#N/A"}}]
[null,"OK",{"$f":"VLOOKUP(A541,Contrats!A:C,3,0)","v":{"$error":"#N/A"}},{"$f":"VLOOKUP(A541,Contrats!A:C,2,0)","v":{"$error":"#N/A"}},{"$f":"VLOOKUP(A541,Contrats!A:H,5,0)","v":{"$error":"#N/A"}}]
[null,"OK",{"$f":"VLOOKUP(A542,Contrats!A:C,3,0)","v":{"$error":"#N/A"}},{"$f":"VLOOKUP(A542,Contrats!A:C,2,0)","v":{"$error":"#N/A"}},{"$f":"VLOOKUP(A542,Contrats!A:H,5,0)","v":{"$error":"#N/A"}}]
[null,"OK",{"$f":"VLOOKUP(A543,Contrats!A:C,3,0)","v":{"$error":"#N/A"}},{"$f":"VLOOKUP(A543,Contrats!A:C,2,0)","v":{"$error":"#N/A"}},{"$f":"VLOOKUP(A543,Contrats!A:H,5,0)","v":{"$error":"#N/A"}}]
[null,"OK",{"$f":"VLOOKUP(A544,Contrats!A:C,3,0)","v":{"$error":"#N/A"}},{"$f":"VLOOKUP(A544,Contrats!A:C,2,0)","v":{"$error":"#N/A"}},{"$f":"VLOOKUP(A544,Contrats!A:H,5,0)","v":{"$error":"#N/A"}}]
[null,"OK",{"$f":"VLOOKUP(A545,Contrats!A:C,3,0)","v":{"$error":"#N/A"}},{"$f":"VLOOKUP(A545,Contrats!A:C,2,0)","v":{"$error":"#N/A"}},{"$f":"VLOOKUP(A545,Contrats!A:H,5,0)","v":{"$error":"#N/A"}}]
[null,"OK",{"$f":"VLOOKUP(A546,Contrats!A:C,3,0)","v":{"$error":"#N/A"}},{"$f":"VLOOKUP(A546,Contrats!A:C,2,0)","v":{"$error":"#N/A"}},{"$f":"VLOOKUP(A546,Contrats!A:H,5,0)","v":{"$error":"#N/A"}}]
[null,"OK",{"$f":"VLOOKUP(A547,Contrats!A:C,3,0)","v":{"$error":"#N/A"}},{"$f":"VLOOKUP(A547,Contrats!A:C,2,0)","v":{"$error":"#N/A"}},{"$f":"VLOOKUP(A547,Contrats!A:H,5,0)","v":{"$error":"#N/A"}}]
[null,"OK",{"$f":"VLOOKUP(A548,Contrats!A:C,3,0)","v":{"$error":"#N/A"}},{"$f":"VLOOKUP(A548,Contrats!A:C,2,0)","v":{"$error":"#N/A"}},{"$f":"VLOOKUP(A548,Contrats!A:H,5,0)","v":{"$error":"#N/A"}}]
[null,"OK",{"$f":"VLOOKUP(A549,Contrats!A:C,3,0)","v":{"$error":"#N/A"}},{"$f":"VLOOKUP(A549,Contrats!A:C,2,0)","v":{"$error":"#N/A"}},{"$f":"VLOOKUP(A549,Contrats!A:H,5,0)","v":{"$error":"#N/A"}}]
[null,"OK",{"$f":"VLOOKUP(A550,Contrats!A:C,3,0)","v":{"$error":"#N/A"}},{"$f":"VLOOKUP(A550,Contrats!A:C,2,0)","v":{"$error":"#N/A"}},{"$f":"VLOOKUP(A550,Contrats!A:H,5,0)","v":{"$error":"#N/A"}}]
[null,"OK",{"$f":"VLOOKUP(A551,Contrats!A:C,3,0)","v":{"$error":"#N/A"}},{"$f":"VLOOKUP(A551,Contrats!A:C,2,0)","v":{"$error":"#N/A"}},{"$f":"VLOOKUP(A551,Contrats!A:H,5,0)","v":{"$error":"#N/A"}}]
[null,"OK",{"$f":"VLOOKUP(A552,Contrats!A:C,3,0)","v":{"$error":"#N/A"}},{"$f":"VLOOKUP(A552,Contrats!A:C,2,0)","v":{"$error":"#N/A"}},{"$f":"VLOOKUP(A552,Contrats!A:H,5,0)","v":{"$error":"#N/A"}}]
[null,"OK",{"$f":"VLOOKUP(A553,Contrats!A:C,3,0)","v":{"$error":"#N/A"}},{"$f":"VLOOKUP(A553,Contrats!A:C,2,0)","v":{"$error":"#N/A"}},{"$f":"VLOOKUP(A553,Contrats!A:H,5,0)","v":{"$error":"#N/A"}}]
[null,"OK",{"$f":"VLOOKUP(A554,Contrats!A:C,3,0)","v":{"$error":"#N/A"}},{"$f":"VLOOKUP(A554,Contrats!A:C,2,0)","v":{"$error":"#N/A"}},{"$f":"VLOOKUP(A554,Contrats!A:H,5,0)","v":{"$error":"#N/A"}}]
[null,"OK",{"$f":"VLOOKUP(A555,Contrats!A:C,3,0)","v":{"$error":"#N/A"}},{"$f":"VLOOKUP(A555,Contrats!A:C,2,0)","v":{"$error":"#N/A"}},{"$f":"VLOOKUP(A555,Contrats!A:H,5,0)","v":{"$error":"#N/A"}}]
[null,"OK",{"$f":"VLOOKUP(A556,Contrats!A:C,3,0)","v":{"$error":"#N/A"}},{"$f":"VLOOKUP(A556,Contrats!A:C,2,0)","v":{"$error":"#N/A"}},{"$f":"VLOOKUP(A556,Contrats!A:H,5,0)","v":{"$error":"#N/A"}}]
[null,"OK",{"$f":"VLOOKUP(A557,Contrats!A:C,3,0)","v":{"$error":"#N/A"}},{"$f":"VLOOKUP(A557,Contrats!A:C,2,0)","v":{"$error":"#N/A"}},{"$f":"VLOOKUP(A557,Contrats!A:H,5,0)","v":{"$error":"#N/A"}}]
[null,"OK",{"$f":"VLOOKUP(A558,Contrats!A:C,3,0)","v":{"$error":"#N/A"}},{"$f":"VLOOKUP(A558,Contrats!A:C,2,0)","v":{"$error":"#N/A"}},{"$f":"VLOOKUP(A558,Contrats!A:H,5,0)","v":{"$error":"#N/A"}}]
[null,"OK",{"$f":"VLOOKUP(A559,Contrats!A:C,3,0)","v":{"$error":"#N/A"}},{"$f":"VLOOKUP(A559,Contrats!A:C,2,0)","v":{"$error":"#N/A"}},{"$f":"VLOOKUP(A559,Contrats!A:H,5,0)","v":{"$error":"#N/A"}}]
[null,"OK",{"$f":"VLOOKUP(A560,Contrats!A:C,3,0)","v":{"$error":"#N/A"}},{"$f":"VLOOKUP(A560,Contrats!A:C,2,0)","v":{"$error":"#N/A"}},{"$f":"VLOOKUP(A560,Contrats!A:H,5,0)","v":{"$error":"#N/A"}}]
[null,"OK",{"$f":"VLOOKUP(A561,Contrats!A:C,3,0)","v":{"$error":"#N/A"}},{"$f":"VLOOKUP(A561,Contrats!A:C,2,0)","v":{"$error":"#N/A"}},{"$f":"VLOOKUP(A561,Contrats!A:H,5,0)","v":{"$error":"#N/A"}}]
[null,"OK",{"$f":"VLOOKUP(A562,Contrats!A:C,3,0)","v":{"$error":"#N/A"}},{"$f":"VLOOKUP(A562,Contrats!A:C,2,0)","v":{"$error":"#N/A"}},{"$f":"VLOOKUP(A562,Contrats!A:H,5,0)","v":{"$error":"#N/A"}}]
[null,"OK",{"$f":"VLOOKUP(A563,Contrats!A:C,3,0)","v":{"$error":"#N/A"}},{"$f":"VLOOKUP(A563,Contrats!A:C,2,0)","v":{"$error":"#N/A"}},{"$f":"VLOOKUP(A563,Contrats!A:H,5,0)","v":{"$error":"#N/A"}}]
[null,"OK",{"$f":"VLOOKUP(A564,Contrats!A:C,3,0)","v":{"$error":"#N/A"}},{"$f":"VLOOKUP(A564,Contrats!A:C,2,0)","v":{"$error":"#N/A"}},{"$f":"VLOOKUP(A564,Contrats!A:H,5,0)","v":{"$error":"#N/A"}}]
[null,"OK",{"$f":"VLOOKUP(A565,Contrats!A:C,3,0)","v":{"$error":"#N/A"}},{"$f":"VLOOKUP(A565,Contrats!A:C,2,0)","v":{"$error":"#N/A"}},{"$f":"VLOOKUP(A565,Contrats!A:H,5,0)","v":{"$error":"#N/A"}}]
[null,"OK",{"$f":"VLOOKUP(A566,Contrats!A:C,3,0)","v":{"$error":"#N/A"}},{"$f":"VLOOKUP(A566,Contrats!A:C,2,0)","v":{"$error":"#N/A"}},{"$f":"VLOOKUP(A566,Contrats!A:H,5,0)","v":{"$error":"#N/A"}}]
[null,"OK",{"$f":"VLOOKUP(A567,Contrats!A:C,3,0)","v":{"$error":"#N/A"}},{"$f":"VLOOKUP(A567,Contrats!A:C,2,0)","v":{"$error":"#N/A"}},{"$f":"VLOOKUP(A567,Contrats!A:H,5,0)","v":{"$error":"#N/A"}}]
[null,"OK",{"$f":"VLOOKUP(A568,Contrats!A:C,3,0)","v":{"$error":"#N/A"}},{"$f":"VLOOKUP(A568,Contrats!A:C,2,0)","v":{"$error":"#N/A"}},{"$f":"VLOOKUP(A568,Contrats!A:H,5,0)","v":{"$error":"#N/A"}}]
[null,"OK",{"$f":"VLOOKUP(A569,Contrats!A:C,3,0)","v":{"$error":"#N/A"}},{"$f":"VLOOKUP(A569,Contrats!A:C,2,0)","v":{"$error":"#N/A"}},{"$f":"VLOOKUP(A569,Contrats!A:H,5,0)","v":{"$error":"#N/A"}}]
[null,"OK",{"$f":"VLOOKUP(A570,Contrats!A:C,3,0)","v":{"$error":"#N/A"}},{"$f":"VLOOKUP(A570,Contrats!A:C,2,0)","v":{"$error":"#N/A"}},{"$f":"VLOOKUP(A570,Contrats!A:H,5,0)","v":{"$error":"#N/A"}}]
[null,"OK",{"$f":"VLOOKUP(A571,Contrats!A:C,3,0)","v":{"$error":"#N/A"}},{"$f":"VLOOKUP(A571,Contrats!A:C,2,0)","v":{"$error":"#N/A"}},{"$f":"VLOOKUP(A571,Contrats!A:H,5,0)","v":{"$error":"#N/A"}}]
[null,"OK",{"$f":"VLOOKUP(A572,Contrats!A:C,3,0)","v":{"$error":"#N/A"}},{"$f":"VLOOKUP(A572,Contrats!A:C,2,0)","v":{"$error":"#N/A"}},{"$f":"VLOOKUP(A572,Contrats!A:H,5,0)","v":{"$error":"#N/A"}}]
[null,"OK",{"$f":"VLOOKUP(A573,Contrats!A:C,3,0)","v":{"$error":"#N/A"}},{"$f":"VLOOKUP(A573,Contrats!A:C,2,0)","v":{"$error":"#N/A"}},{"$f":"VLOOKUP(A573,Contrats!A:H,5,0)","v":{"$error":"#N/A"}}]
[null,"OK",{"$f":"VLOOKUP(A574,Contrats!A:C,3,0)","v":{"$error":"#N/A"}},{"$f":"VLOOKUP(A574,Contrats!A:C,2,0)","v":{"$error":"#N/A"}},{"$f":"VLOOKUP(A574,Contrats!A:H,5,0)","v":{"$error":"#N/A"}}]
[null,"OK",{"$f":"VLOOKUP(A575,Contrats!A:C,3,0)","v":{"$error":"#N/A"}},{"$f":"VLOOKUP(A575,Contrats!A:C,2,0)","v":{"$error":"#N/A"}},{"$f":"VLOOKUP(A575,Contrats!A:H,5,0)","v":{"$error":"#N/A"}}]
[null,"OK",{"$f":"VLOOKUP(A576,Contrats!A:C,3,0)","v":{"$error":"#N/A"}},{"$f":"VLOOKUP(A576,Contrats!A:C,2,0)","v":{"$error":"#N/A"}},{"$f":"VLOOKUP(A576,Contrats!A:H,5,0)","v":{"$error":"#N/A"}}]
[null,"OK",{"$f":"VLOOKUP(A577,Contrats!A:C,3,0)","v":{"$error":"#N/A"}},{"$f":"VLOOKUP(A577,Contrats!A:C,2,0)","v":{"$error":"#N/A"}},{"$f":"VLOOKUP(A577,Contrats!A:H,5,0)","v":{"$error":"#N/A"}}]
[null,"OK",{"$f":"VLOOKUP(A578,Contrats!A:C,3,0)","v":{"$error":"#N/A"}},{"$f":"VLOOKUP(A578,Contrats!A:C,2,0)","v":{"$error":"#N/A"}},{"$f":"VLOOKUP(A578,Contrats!A:H,5,0)","v":{"$error":"#N/A"}}]
[null,"OK",{"$f":"VLOOKUP(A579,Contrats!A:C,3,0)","v":{"$error":"#N/A"}},{"$f":"VLOOKUP(A579,Contrats!A:C,2,0)","v":{"$error":"#N/A"}},{"$f":"VLOOKUP(A579,Contrats!A:H,5,0)","v":{"$error":"#N/A"}}]
[null,"OK",{"$f":"VLOOKUP(A580,Contrats!A:C,3,0)","v":{"$error":"#N/A"}},{"$f":"VLOOKUP(A580,Contrats!A:C,2,0)","v":{"$error":"#N/A"}},{"$f":"VLOOKUP(A580,Contrats!A:H,5,0)","v":{"$error":"#N/A"}}]
[null,"OK",{"$f":"VLOOKUP(A581,Contrats!A:C,3,0)","v":{"$error":"#N/A"}},{"$f":"VLOOKUP(A581,Contrats!A:C,2,0)","v":{"$error":"#N/A"}},{"$f":"VLOOKUP(A581,Contrats!A:H,5,0)","v":{"$error":"#N/A"}}]
[null,"OK",{"$f":"VLOOKUP(A582,Contrats!A:C,3,0)","v":{"$error":"#N/A"}},{"$f":"VLOOKUP(A582,Contrats!A:C,2,0)","v":{"$error":"#N/A"}},{"$f":"VLOOKUP(A582,Contrats!A:H,5,0)","v":{"$error":"#N/A"}}]
[null,"OK",{"$f":"VLOOKUP(A583,Contrats!A:C,3,0)","v":{"$error":"#N/A"}},{"$f":"VLOOKUP(A583,Contrats!A:C,2,0)","v":{"$error":"#N/A"}},{"$f":"VLOOKUP(A583,Contrats!A:H,5,0)","v":{"$error":"#N/A"}}]
[null,"OK",{"$f":"VLOOKUP(A584,Contrats!A:C,3,0)","v":{"$error":"#N/A"}},{"$f":"VLOOKUP(A584,Contrats!A:C,2,0)","v":{"$error":"#N/A"}},{"$f":"VLOOKUP(A584,Contrats!A:H,5,0)","v":{"$error":"#N/A"}}]
[null,"OK",{"$f":"VLOOKUP(A585,Contrats!A:C,3,0)","v":{"$error":"#N/A"}},{"$f":"VLOOKUP(A585,Contrats!A:C,2,0)","v":{"$error":"#N/A"}},{"$f":"VLOOKUP(A585,Contrats!A:H,5,0)","v":{"$error":"#N/A"}}]
[null,"OK",{"$f":"VLOOKUP(A586,Contrats!A:C,3,0)","v":{"$error":"#N/A"}},{"$f":"VLOOKUP(A586,Contrats!A:C,2,0)","v":{"$error":"#N/A"}},{"$f":"VLOOKUP(A586,Contrats!A:H,5,0)","v":{"$error":"#N/A"}}]
[null,"OK",{"$f":"VLOOKUP(A587,Contrats!A:C,3,0)","v":{"$error":"#N/A"}},{"$f":"VLOOKUP(A587,Contrats!A:C,2,0)","v":{"$error":"#N/A"}},{"$f":"VLOOKUP(A587,Contrats!A:H,5,0)","v":{"$error":"#N/A"}}]
[null,"OK",{"$f":"VLOOKUP(A588,Contrats!A:C,3,0)","v":{"$error":"#N/A"}},{"$f":"VLOOKUP(A588,Contrats!A:C,2,0)","v":{"$error":"#N/A"}},{"$f":"VLOOKUP(A588,Contrats!A:H,5,0)","v":{"$error":"#N/A"}}]
[null,"OK",{"$f":"VLOOKUP(A589,Contrats!A:C,3,0)","v":{"$error":"#N/A"}},{"$f":"VLOOKUP(A589,Contrats!A:C,2,0)","v":{"$error":"#N/A"}},{"$f":"VLOOKUP(A589,Contrats!A:H,5,0)","v":{"$error":"#N/A"}}]
[null,"OK",{"$f":"VLOOKUP(A590,Contrats!A:C,3,0)","v":{"$error":"#N/A"}},{"$f":"VLOOKUP(A590,Contrats!A:C,2,0)","v":{"$error":"#N/A"}},{"$f":"VLOOKUP(A590,Contrats!A:H,5,0)","v":{"$error":"#N/A"}}]
[null,"OK",{"$f":"VLOOKUP(A591,Contrats!A:C,3,0)","v":{"$error":"#N/A"}},{"$f":"VLOOKUP(A591,Contrats!A:C,2,0)","v":{"$error":"#N/A"}},{"$f":"VLOOKUP(A591,Contrats!A:H,5,0)","v":{"$error":"#N/A"}}]
[null,"OK",{"$f":"VLOOKUP(A592,Contrats!A:C,3,0)","v":{"$error":"#N/A"}},{"$f":"VLOOKUP(A592,Contrats!A:C,2,0)","v":{"$error":"#N/A"}},{"$f":"VLOOKUP(A592,Contrats!A:H,5,0)","v":{"$error":"#N/A"}}]
[null,"OK",{"$f":"VLOOKUP(A593,Contrats!A:C,3,0)","v":{"$error":"#N/A"}},{"$f":"VLOOKUP(A593,Contrats!A:C,2,0)","v":{"$error":"#N/A"}},{"$f":"VLOOKUP(A593,Contrats!A:H,5,0)","v":{"$error":"#N/A"}}]
[null,"OK",{"$f":"VLOOKUP(A594,Contrats!A:C,3,0)","v":{"$error":"#N/A"}},{"$f":"VLOOKUP(A594,Contrats!A:C,2,0)","v":{"$error":"#N/A"}},{"$f":"VLOOKUP(A594,Contrats!A:H,5,0)","v":{"$error":"#N/A"}}]
[null,"OK",{"$f":"VLOOKUP(A595,Contrats!A:C,3,0)","v":{"$error":"#N/A"}},{"$f":"VLOOKUP(A595,Contrats!A:C,2,0)","v":{"$error":"#N/A"}},{"$f":"VLOOKUP(A595,Contrats!A:H,5,0)","v":{"$error":"#N/A"}}]
[null,"OK",{"$f":"VLOOKUP(A596,Contrats!A:C,3,0)","v":{"$error":"#N/A"}},{"$f":"VLOOKUP(A596,Contrats!A:C,2,0)","v":{"$error":"#N/A"}},{"$f":"VLOOKUP(A596,Contrats!A:H,5,0)","v":{"$error":"#N/A"}}]
[null,"OK",{"$f":"VLOOKUP(A597,Contrats!A:C,3,0)","v":{"$error":"#N/A"}},{"$f":"VLOOKUP(A597,Contrats!A:C,2,0)","v":{"$error":"#N/A"}},{"$f":"VLOOKUP(A597,Contrats!A:H,5,0)","v":{"$error":"#N/A"}}]
[null,"OK",{"$f":"VLOOKUP(A598,Contrats!A:C,3,0)","v":{"$error":"#N/A"}},{"$f":"VLOOKUP(A598,Contrats!A:C,2,0)","v":{"$error":"#N/A"}},{"$f":"VLOOKUP(A598,Contrats!A:H,5,0)","v":{"$error":"#N/A"}}]
[null,"OK",{"$f":"VLOOKUP(A599,Contrats!A:C,3,0)","v":{"$error":"#N/A"}},{"$f":"VLOOKUP(A599,Contrats!A:C,2,0)","v":{"$error":"#N/A"}},{"$f":"VLOOKUP(A599,Contrats!A:H,5,0)","v":{"$error":"#N/A"}}]
[null,"OK",{"$f":"VLOOKUP(A600,Contrats!A:C,3,0)","v":{"$error":"#N/A"}},{"$f":"VLOOKUP(A600,Contrats!A:C,2,0)","v":{"$error":"#N/A"}},{"$f":"VLOOKUP(A600,Contrats!A:H,5,0)","v":{"$error":"#N/A"}}]
[null,"OK",{"$f":"VLOOKUP(A601,Contrats!A:C,3,0)","v":{"$error":"#N/A"}},{"$f":"VLOOKUP(A601,Contrats!A:C,2,0)","v":{"$error":"#N/A"}},{"$f":"VLOOKUP(A601,Contrats!A:H,5,0)","v":{"$error":"#N/A"}}]
[null,"OK",{"$f":"VLOOKUP(A602,Contrats!A:C,3,0)","v":{"$error":"#N/A"}},{"$f":"VLOOKUP(A602,Contrats!A:C,2,0)","v":{"$error":"#N/A"}},{"$f":"VLOOKUP(A602,Contrats!A:H,5,0)","v":{"$error":"#N/A"}}]
[null,"OK",{"$f":"VLOOKUP(A603,Contrats!A:C,3,0)","v":{"$error":"#N/A"}},{"$f":"VLOOKUP(A603,Contrats!A:C,2,0)","v":{"$error":"#N/A"}},{"$f":"VLOOKUP(A603,Contrats!A:H,5,0)","v":{"$error":"#N/A"}}]
[null,"OK",{"$f":"VLOOKUP(A604,Contrats!A:C,3,0)","v":{"$error":"#N/A"}},{"$f":"VLOOKUP(A604,Contrats!A:C,2,0)","v":{"$error":"#N/A"}},{"$f":"VLOOKUP(A604,Contrats!A:H,5,0)","v":{"$error":"#N/A"}}]
[null,"OK",{"$f":"VLOOKUP(A605,Contrats!A:C,3,0)","v":{"$error":"#N/A"}},{"$f":"VLOOKUP(A605,Contrats!A:C,2,0)","v":{"$error":"#N/A"}},{"$f":"VLOOKUP(A605,Contrats!A:H,5,0)","v":{"$error":"#N/A"}}]
[null,"OK",{"$f":"VLOOKUP(A606,Contrats!A:C,3,0)","v":{"$error":"#N/A"}},{"$f":"VLOOKUP(A606,Contrats!A:C,2,0)","v":{"$error":"#N/A"}},{"$f":"VLOOKUP(A606,Contrats!A:H,5,0)","v":{"$error":"#N/A"}}]
[null,"OK",{"$f":"VLOOKUP(A607,Contrats!A:C,3,0)","v":{"$error":"#N/A"}},{"$f":"VLOOKUP(A607,Contrats!A:C,2,0)","v":{"$error":"#N/A"}},{"$f":"VLOOKUP(A607,Contrats!A:H,5,0)","v":{"$error":"#N/A"}}]
[null,"OK",{"$f":"VLOOKUP(A608,Contrats!A:C,3,0)","v":{"$error":"#N/A"}},{"$f":"VLOOKUP(A608,Contrats!A:C,2,0)","v":{"$error":"#N/A"}},{"$f":"VLOOKUP(A608,Contrats!A:H,5,0)","v":{"$error":"#N/A"}}]
[null,"OK",{"$f":"VLOOKUP(A609,Contrats!A:C,3,0)","v":{"$error":"#N/A"}},{"$f":"VLOOKUP(A609,Contrats!A:C,2,0)","v":{"$error":"#N/A"}},{"$f":"VLOOKUP(A609,Contrats!A:H,5,0)","v":{"$error":"#N/A"}}]
[null,"OK",{"$f":"VLOOKUP(A610,Contrats!A:C,3,0)","v":{"$error":"#N/A"}},{"$f":"VLOOKUP(A610,Contrats!A:C,2,0)","v":{"$error":"#N/A"}},{"$f":"VLOOKUP(A610,Contrats!A:H,5,0)","v":{"$error":"#N/A"}}]
[null,"OK",{"$f":"VLOOKUP(A611,Contrats!A:C,3,0)","v":{"$error":"#N/A"}},{"$f":"VLOOKUP(A611,Contrats!A:C,2,0)","v":{"$error":"#N/A"}},{"$f":"VLOOKUP(A611,Contrats!A:H,5,0)","v":{"$error":"#N/A"}}]
[null,"OK",{"$f":"VLOOKUP(A612,Contrats!A:C,3,0)","v":{"$error":"#N/A"}},{"$f":"VLOOKUP(A612,Contrats!A:C,2,0)","v":{"$error":"#N/A"}},{"$f":"VLOOKUP(A612,Contrats!A:H,5,0)","v":{"$error":"#N/A"}}]
[null,"OK",{"$f":"VLOOKUP(A613,Contrats!A:C,3,0)","v":{"$error":"#N/A"}},{"$f":"VLOOKUP(A613,Contrats!A:C,2,0)","v":{"$error":"#N/A"}},{"$f":"VLOOKUP(A613,Contrats!A:H,5,0)","v":{"$error":"#N/A"}}]
[null,"OK",{"$f":"VLOOKUP(A614,Contrats!A:C,3,0)","v":{"$error":"#N/A"}},{"$f":"VLOOKUP(A614,Contrats!A:C,2,0)","v":{"$error":"#N/A"}},{"$f":"VLOOKUP(A614,Contrats!A:H,5,0)","v":{"$error":"#N/A"}}]
[null,"OK",{"$f":"VLOOKUP(A615,Contrats!A:C,3,0)","v":{"$error":"#N/A"}},{"$f":"VLOOKUP(A615,Contrats!A:C,2,0)","v":{"$error":"#N/A"}},{"$f":"VLOOKUP(A615,Contrats!A:H,5,0)","v":{"$error":"#N/A"}}]
[null,"OK",{"$f":"VLOOKUP(A616,Contrats!A:C,3,0)","v":{"$error":"#N/A"}},{"$f":"VLOOKUP(A616,Contrats!A:C,2,0)","v":{"$error":"#N/A"}},{"$f":"VLOOKUP(A616,Contrats!A:H,5,0)","v":{"$error":"#N/A"}}]
[null,"OK",{"$f":"VLOOKUP(A617,Contrats!A:C,3,0)","v":{"$error":"#N/A"}},{"$f":"VLOOKUP(A617,Contrats!A:C,2,0)","v":{"$error":"#N/A"}},{"$f":"VLOOKUP(A617,Contrats!A:H,5,0)","v":{"$error":"#N/A"}}]
[null,"OK",{"$f":"VLOOKUP(A618,Contrats!A:C,3,0)","v":{"$error":"#N/A"}},{"$f":"VLOOKUP(A618,Contrats!A:C,2,0)","v":{"$error":"#N/A"}},{"$f":"VLOOKUP(A618,Contrats!A:H,5,0)","v":{"$error":"#N/A"}}]
[null,"OK",{"$f":"VLOOKUP(A619,Contrats!A:C,3,0)","v":{"$error":"#N/A"}},{"$f":"VLOOKUP(A619,Contrats!A:C,2,0)","v":{"$error":"#N/A"}},{"$f":"VLOOKUP(A619,Contrats!A:H,5,0)","v":{"$error":"#N/A"}}]
[null,"OK",{"$f":"VLOOKUP(A620,Contrats!A:C,3,0)","v":{"$error":"#N/A"}},{"$f":"VLOOKUP(A620,Contrats!A:C,2,0)","v":{"$error":"#N/A"}},{"$f":"VLOOKUP(A620,Contrats!A:H,5,0)","v":{"$error":"#N/A"}}]
[null,"OK",{"$f":"VLOOKUP(A621,Contrats!A:C,3,0)","v":{"$error":"#N/A"}},{"$f":"VLOOKUP(A621,Contrats!A:C,2,0)","v":{"$error":"#N/A"}},{"$f":"VLOOKUP(A621,Contrats!A:H,5,0)","v":{"$error":"#N/A"}}]
[null,"OK",{"$f":"VLOOKUP(A622,Contrats!A:C,3,0)","v":{"$error":"#N/A"}},{"$f":"VLOOKUP(A622,Contrats!A:C,2,0)","v":{"$error":"#N/A"}},{"$f":"VLOOKUP(A622,Contrats!A:H,5,0)","v":{"$error":"#N/A"}}]
[null,"OK",{"$f":"VLOOKUP(A623,Contrats!A:C,3,0)","v":{"$error":"#N/A"}},{"$f":"VLOOKUP(A623,Contrats!A:C,2,0)","v":{"$error":"#N/A"}},{"$f":"VLOOKUP(A623,Contrats!A:H,5,0)","v":{"$error":"#N/A"}}]
[null,"OK",{"$f":"VLOOKUP(A624,Contrats!A:C,3,0)","v":{"$error":"#N/A"}},{"$f":"VLOOKUP(A624,Contrats!A:C,2,0)","v":{"$error":"#N/A"}},{"$f":"VLOOKUP(A624,Contrats!A:H,5,0)","v":{"$error":"#N/A"}}]
[null,"OK",{"$f":"VLOOKUP(A625,Contrats!A:C,3,0)","v":{"$error":"#N/A"}},{"$f":"VLOOKUP(A625,Contrats!A:C,2,0)","v":{"$error":"#N/A"}},{"$f":"VLOOKUP(A625,Contrats!A:H,5,0)","v":{"$error":"#N/A"}}]
[null,"OK",{"$f":"VLOOKUP(A626,Contrats!A:C,3,0)","v":{"$error":"#N/A"}},{"$f":"VLOOKUP(A626,Contrats!A:C,2,0)","v":{"$error":"#N/A"}},{"$f":"VLOOKUP(A626,Contrats!A:H,5,0)","v":{"$error":"#N/A"}}]
[null,"OK",{"$f":"VLOOKUP(A627,Contrats!A:C,3,0)","v":{"$error":"#N/A"}},{"$f":"VLOOKUP(A627,Contrats!A:C,2,0)","v":{"$error":"#N/A"}},{"$f":"VLOOKUP(A627,Contrats!A:H,5,0)","v":{"$error":"#N/A"}}]
[null,"OK",{"$f":"VLOOKUP(A628,Contrats!A:C,3,0)","v":{"$error":"#N/A"}},{"$f":"VLOOKUP(A628,Contrats!A:C,2,0)","v":{"$error":"#N/A"}},{"$f":"VLOOKUP(A628,Contrats!A:H,5,0)","v":{"$error":"#N/A"}}]
[null,"OK",{"$f":"VLOOKUP(A629,Contrats!A:C,3,0)","v":{"$error":"#N/A"}},{"$f":"VLOOKUP(A629,Contrats!A:C,2,0)","v":{"$error":"#N/A"}},{"$f":"VLOOKUP(A629,Contrats!A:H,5,0)","v":{"$error":"#N/A"}}]
[null,"OK",{"$f":"VLOOKUP(A630,Contrats!A:C,3,0)","v":{"$error":"#N/A"}},{"$f":"VLOOKUP(A630,Contrats!A:C,2,0)","v":{"$error":"#N/A"}},{"$f":"VLOOKUP(A630,Contrats!A:H,5,0)","v":{"$error":"#N/A"}}]
[null,"OK",{"$f":"VLOOKUP(A631,Contrats!A:C,3,0)","v":{"$error":"#N/A"}},{"$f":"VLOOKUP(A631,Contrats!A:C,2,0)","v":{"$error":"#N/A"}},{"$f":"VLOOKUP(A631,Contrats!A:H,5,0)","v":{"$error":"#N/A"}}]
[null,"OK",{"$f":"VLOOKUP(A632,Contrats!A:C,3,0)","v":{"$error":"#N/A"}},{"$f":"VLOOKUP(A632,Contrats!A:C,2,0)","v":{"$error":"#N/A"}},{"$f":"VLOOKUP(A632,Contrats!A:H,5,0)","v":{"$error":"#N/A"}}]
[null,"OK",{"$f":"VLOOKUP(A633,Contrats!A:C,3,0)","v":{"$error":"#N/A"}},{"$f":"VLOOKUP(A633,Contrats!A:C,2,0)","v":{"$error":"#N/A"}},{"$f":"VLOOKUP(A633,Contrats!A:H,5,0)","v":{"$error":"#N/A"}}]
[null,"OK",{"$f":"VLOOKUP(A634,Contrats!A:C,3,0)","v":{"$error":"#N/A"}},{"$f":"VLOOKUP(A634,Contrats!A:C,2,0)","v":{"$error":"#N/A"}},{"$f":"VLOOKUP(A634,Contrats!A:H,5,0)","v":{"$error":"#N/A"}}]
[null,"OK",{"$f":"VLOOKUP(A635,Contrats!A:C,3,0)","v":{"$error":"#N/A"}},{"$f":"VLOOKUP(A635,Contrats!A:C,2,0)","v":{"$error":"#N/A"}},{"$f":"VLOOKUP(A635,Contrats!A:H,5,0)","v":{"$error":"#N/A"}}]
[null,"OK",{"$f":"VLOOKUP(A636,Contrats!A:C,3,0)","v":{"$error":"#N/A"}},{"$f":"VLOOKUP(A636,Contrats!A:C,2,0)","v":{"$error":"#N/A"}},{"$f":"VLOOKUP(A636,Contrats!A:H,5,0)","v":{"$error":"#N/A"}}]
[null,"OK",{"$f":"VLOOKUP(A637,Contrats!A:C,3,0)","v":{"$error":"#N/A"}},{"$f":"VLOOKUP(A637,Contrats!A:C,2,0)","v":{"$error":"#N/A"}},{"$f":"VLOOKUP(A637,Contrats!A:H,5,0)","v":{"$error":"#N/A"}}]
[null,"OK",{"$f":"VLOOKUP(A638,Contrats!A:C,3,0)","v":{"$error":"#N/A"}},{"$f":"VLOOKUP(A638,Contrats!A:C,2,0)","v":{"$error":"#N/A"}},{"$f":"VLOOKUP(A638,Contrats!A:H,5,0)","v":{"$error":"#N/A"}}]
[null,"OK",{"$f":"VLOOKUP(A639,Contrats!A:C,3,0)","v":{"$error":"#N/A"}},{"$f":"VLOOKUP(A639,Contrats!A:C,2,0)","v":{"$error":"#N/A"}},{"$f":"VLOOKUP(A639,Contrats!A:H,5,0)","v":{"$error":"#N/A"}}]
[null,"OK",{"$f":"VLOOKUP(A640,Contrats!A:C,3,0)","v":{"$error":"#N/A"}},{"$f":"VLOOKUP(A640,Contrats!A:C,2,0)","v":{"$error":"#N/A"}},{"$f":"VLOOKUP(A640,Contrats!A:H,5,0)","v":{"$error":"#N/A"}}]
[null,"OK",{"$f":"VLOOKUP(A641,Contrats!A:C,3,0)","v":{"$error":"#N/A"}},{"$f":"VLOOKUP(A641,Contrats!A:C,2,0)","v":{"$error":"#N/A"}},{"$f":"VLOOKUP(A641,Contrats!A:H,5,0)","v":{"$error":"#N/A"}}]
[null,"OK",{"$f":"VLOOKUP(A642,Contrats!A:C,3,0)","v":{"$error":"#N/A"}},{"$f":"VLOOKUP(A642,Contrats!A:C,2,0)","v":{"$error":"#N/A"}},{"$f":"VLOOKUP(A642,Contrats!A:H,5,0)","v":{"$error":"#N/A"}}]
[null,"OK",{"$f":"VLOOKUP(A643,Contrats!A:C,3,0)","v":{"$error":"#N/A"}},{"$f":"VLOOKUP(A643,Contrats!A:C,2,0)","v":{"$error":"#N/A"}},{"$f":"VLOOKUP(A643,Contrats!A:H,5,0)","v":{"$error":"#N/A"}}]
[null,"OK",{"$f":"VLOOKUP(A644,Contrats!A:C,3,0)","v":{"$error":"#N/A"}},{"$f":"VLOOKUP(A644,Contrats!A:C,2,0)","v":{"$error":"#N/A"}},{"$f":"VLOOKUP(A644,Contrats!A:H,5,0)","v":{"$error":"#N/A"}}]
[null,"OK",{"$f":"VLOOKUP(A645,Contrats!A:C,3,0)","v":{"$error":"#N/A"}},{"$f":"VLOOKUP(A645,Contrats!A:C,2,0)","v":{"$error":"#N/A"}},{"$f":"VLOOKUP(A645,Contrats!A:H,5,0)","v":{"$error":"#N/A"}}]
[null,"OK",{"$f":"VLOOKUP(A646,Contrats!A:C,3,0)","v":{"$error":"#N/A"}},{"$f":"VLOOKUP(A646,Contrats!A:C,2,0)","v":{"$error":"#N/A"}},{"$f":"VLOOKUP(A646,Contrats!A:H,5,0)","v":{"$error":"#N/A"}}]
[null,"OK",{"$f":"VLOOKUP(A647,Contrats!A:C,3,0)","v":{"$error":"#N/A"}},{"$f":"VLOOKUP(A647,Contrats!A:C,2,0)","v":{"$error":"#N/A"}},{"$f":"VLOOKUP(A647,Contrats!A:H,5,0)","v":{"$error":"#N/A"}}]
[null,"OK",{"$f":"VLOOKUP(A648,Contrats!A:C,3,0)","v":{"$error":"#N/A"}},{"$f":"VLOOKUP(A648,Contrats!A:C,2,0)","v":{"$error":"#N/A"}},{"$f":"VLOOKUP(A648,Contrats!A:H,5,0)","v":{"$error":"#N/A"}}]
[null,"OK",{"$f":"VLOOKUP(A649,Contrats!A:C,3,0)","v":{"$error":"#N/A"}},{"$f":"VLOOKUP(A649,Contrats!A:C,2,0)","v":{"$error":"#N/A"}},{"$f":"VLOOKUP(A649,Contrats!A:H,5,0)","v":{"$error":"#N/A"}}]
[null,"OK",{"$f":"VLOOKUP(A650,Contrats!A:C,3,0)","v":{"$error":"#N/A"}},{"$f":"VLOOKUP(A650,Contrats!A:C,2,0)","v":{"$error":"#N/A"}},{"$f":"VLOOKUP(A650,Contrats!A:H,5,0)","v":{"$error":"#N/A"}}]
[null,"OK",{"$f":"VLOOKUP(A651,Contrats!A:C,3,0)","v":{"$error":"#N/A"}},{"$f":"VLOOKUP(A651,Contrats!A:C,2,0)","v":{"$error":"#N/A"}},{"$f":"VLOOKUP(A651,Contrats!A:H,5,0)","v":{"$error":"#N/A"}}]
[null,"OK",{"$f":"VLOOKUP(A652,Contrats!A:C,3,0)","v":{"$error":"#N/A"}},{"$f":"VLOOKUP(A652,Contrats!A:C,2,0)","v":{"$error":"#N/A"}},{"$f":"VLOOKUP(A652,Contrats!A:H,5,0)","v":{"$error":"#N/A"}}]
[null,"OK",{"$f":"VLOOKUP(A653,Contrats!A:C,3,0)","v":{"$error":"#N/A"}},{"$f":"VLOOKUP(A653,Contrats!A:C,2,0)","v":{"$error":"#N/A"}},{"$f":"VLOOKUP(A653,Contrats!A:H,5,0)","v":{"$error":"#N/A"}}]
[null,"OK",{"$f":"VLOOKUP(A654,Contrats!A:C,3,0)","v":{"$error":"#N/A"}},{"$f":"VLOOKUP(A654,Contrats!A:C,2,0)","v":{"$error":"#N/A"}},{"$f":"VLOOKUP(A654,Contrats!A:H,5,0)","v":{"$error":"#N/A"}}]
[null,"OK",{"$f":"VLOOKUP(A655,Contrats!A:C,3,0)","v":{"$error":"#N/A"}},{"$f":"VLOOKUP(A655,Contrats!A:C,2,0)","v":{"$error":"#N/A"}},{"$f":"VLOOKUP(A655,Contrats!A:H,5,0)","v":{"$error":"#N/A"}}]
[null,"OK",{"$f":"VLOOKUP(A656,Contrats!A:C,3,0)","v":{"$error":"#N/A"}},{"$f":"VLOOKUP(A656,Contrats!A:C,2,0)","v":{"$error":"#N/A"}},{"$f":"VLOOKUP(A656,Contrats!A:H,5,0)","v":{"$error":"#N/A"}}]
[null,"OK",{"$f":"VLOOKUP(A657,Contrats!A:C,3,0)","v":{"$error":"#N/A"}},{"$f":"VLOOKUP(A657,Contrats!A:C,2,0)","v":{"$error":"#N/A"}},{"$f":"VLOOKUP(A657,Contrats!A:H,5,0)","v":{"$error":"#N/A"}}]
[null,"OK",{"$f":"VLOOKUP(A658,Contrats!A:C,3,0)","v":{"$error":"#N/A"}},{"$f":"VLOOKUP(A658,Contrats!A:C,2,0)","v":{"$error":"#N/A"}},{"$f":"VLOOKUP(A658,Contrats!A:H,5,0)","v":{"$error":"#N/A"}}]
[null,"OK",{"$f":"VLOOKUP(A659,Contrats!A:C,3,0)","v":{"$error":"#N/A"}},{"$f":"VLOOKUP(A659,Contrats!A:C,2,0)","v":{"$error":"#N/A"}},{"$f":"VLOOKUP(A659,Contrats!A:H,5,0)","v":{"$error":"#N/A"}}]
[null,"OK",{"$f":"VLOOKUP(A660,Contrats!A:C,3,0)","v":{"$error":"#N/A"}},{"$f":"VLOOKUP(A660,Contrats!A:C,2,0)","v":{"$error":"#N/A"}},{"$f":"VLOOKUP(A660,Contrats!A:H,5,0)","v":{"$error":"#N/A"}}]
[null,"OK",{"$f":"VLOOKUP(A661,Contrats!A:C,3,0)","v":{"$error":"#N/A"}},{"$f":"VLOOKUP(A661,Contrats!A:C,2,0)","v":{"$error":"#N/A"}},{"$f":"VLOOKUP(A661,Contrats!A:H,5,0)","v":{"$error":"#N/A"}}]
[null,"OK",{"$f":"VLOOKUP(A662,Contrats!A:C,3,0)","v":{"$error":"#N/A"}},{"$f":"VLOOKUP(A662,Contrats!A:C,2,0)","v":{"$error":"#N/A"}},{"$f":"VLOOKUP(A662,Contrats!A:H,5,0)","v":{"$error":"#N/A"}}]
[null,"OK",{"$f":"VLOOKUP(A663,Contrats!A:C,3,0)","v":{"$error":"#N/A"}},{"$f":"VLOOKUP(A663,Contrats!A:C,2,0)","v":{"$error":"#N/A"}},{"$f":"VLOOKUP(A663,Contrats!A:H,5,0)","v":{"$error":"#N/A"}}]
[null,"OK",{"$f":"VLOOKUP(A664,Contrats!A:C,3,0)","v":{"$error":"#N/A"}},{"$f":"VLOOKUP(A664,Contrats!A:C,2,0)","v":{"$error":"#N/A"}},{"$f":"VLOOKUP(A664,Contrats!A:H,5,0)","v":{"$error":"#N/A"}}]
[null,"OK",{"$f":"VLOOKUP(A665,Contrats!A:C,3,0)","v":{"$error":"#N/A"}},{"$f":"VLOOKUP(A665,Contrats!A:C,2,0)","v":{"$error":"#N/A"}},{"$f":"VLOOKUP(A665,Contrats!A:H,5,0)","v":{"$error":"#N/A"}}]
[null,"OK",{"$f":"VLOOKUP(A666,Contrats!A:C,3,0)","v":{"$error":"#N/A"}},{"$f":"VLOOKUP(A666,Contrats!A:C,2,0)","v":{"$error":"#N/A"}},{"$f":"VLOOKUP(A666,Contrats!A:H,5,0)","v":{"$error":"#N/A"}}]
[null,"OK",{"$f":"VLOOKUP(A667,Contrats!A:C,3,0)","v":{"$error":"#N/A"}},{"$f":"VLOOKUP(A667,Contrats!A:C,2,0)","v":{"$error":"#N/A"}},{"$f":"VLOOKUP(A667,Contrats!A:H,5,0)","v":{"$error":"#N/A"}}]
[null,"OK",{"$f":"VLOOKUP(A668,Contrats!A:C,3,0)","v":{"$error":"#N/A"}},{"$f":"VLOOKUP(A668,Contrats!A:C,2,0)","v":{"$error":"#N/A"}},{"$f":"VLOOKUP(A668,Contrats!A:H,5,0)","v":{"$error":"#N/A"}}]
[null,"OK",{"$f":"VLOOKUP(A669,Contrats!A:C,3,0)","v":{"$error":"#N/A"}},{"$f":"VLOOKUP(A669,Contrats!A:C,2,0)","v":{"$error":"#N/A"}},{"$f":"VLOOKUP(A669,Contrats!A:H,5,0)","v":{"$error":"#N/A"}}]
[null,"OK",{"$f":"VLOOKUP(A670,Contrats!A:C,3,0)","v":{"$error":"#N/A"}},{"$f":"VLOOKUP(A670,Contrats!A:C,2,0)","v":{"$error":"#N/A"}},{"$f":"VLOOKUP(A670,Contrats!A:H,5,0)","v":{"$error":"#N/A"}}]
[null,"OK",{"$f":"VLOOKUP(A671,Contrats!A:C,3,0)","v":{"$error":"#N/A"}},{"$f":"VLOOKUP(A671,Contrats!A:C,2,0)","v":{"$error":"#N/A"}},{"$f":"VLOOKUP(A671,Contrats!A:H,5,0)","v":{"$error":"#N/A"}}]
[null,"OK",{"$f":"VLOOKUP(A672,Contrats!A:C,3,0)","v":{"$error":"#N/A"}},{"$f":"VLOOKUP(A672,Contrats!A:C,2,0)","v":{"$error":"#N/A"}},{"$f":"VLOOKUP(A672,Contrats!A:H,5,0)","v":{"$error":"#N/A"}}]
[null,"OK",{"$f":"VLOOKUP(A673,Contrats!A:C,3,0)","v":{"$error":"#N/A"}},{"$f":"VLOOKUP(A673,Contrats!A:C,2,0)","v":{"$error":"#N/A"}},{"$f":"VLOOKUP(A673,Contrats!A:H,5,0)","v":{"$error":"#N/A"}}]
[null,"OK",{"$f":"VLOOKUP(A674,Contrats!A:C,3,0)","v":{"$error":"#N/A"}},{"$f":"VLOOKUP(A674,Contrats!A:C,2,0)","v":{"$error":"#N/A"}},{"$f":"VLOOKUP(A674,Contrats!A:H,5,0)","v":{"$error":"#N/A"}}]
[null,"OK",{"$f":"VLOOKUP(A675,Contrats!A:C,3,0)","v":{"$error":"#N/A"}},{"$f":"VLOOKUP(A675,Contrats!A:C,2,0)","v":{"$error":"#N/A"}},{"$f":"VLOOKUP(A675,Contrats!A:H,5,0)","v":{"$error":"#N/A"}}]
[null,"OK",{"$f":"VLOOKUP(A676,Contrats!A:C,3,0)","v":{"$error":"#N/A"}},{"$f":"VLOOKUP(A676,Contrats!A:C,2,0)","v":{"$error":"#N/A"}},{"$f":"VLOOKUP(A676,Contrats!A:H,5,0)","v":{"$error":"#N/A"}}]
[null,"OK",{"$f":"VLOOKUP(A677,Contrats!A:C,3,0)","v":{"$error":"#N/A"}},{"$f":"VLOOKUP(A677,Contrats!A:C,2,0)","v":{"$error":"#N/A"}},{"$f":"VLOOKUP(A677,Contrats!A:H,5,0)","v":{"$error":"#N/A"}}]
[null,"OK",{"$f":"VLOOKUP(A678,Contrats!A:C,3,0)","v":{"$error":"#N/A"}},{"$f":"VLOOKUP(A678,Contrats!A:C,2,0)","v":{"$error":"#N/A"}},{"$f":"VLOOKUP(A678,Contrats!A:H,5,0)","v":{"$error":"#N/A"}}]
[null,"OK",{"$f":"VLOOKUP(A679,Contrats!A:C,3,0)","v":{"$error":"#N/A"}},{"$f":"VLOOKUP(A679,Contrats!A:C,2,0)","v":{"$error":"#N/A"}},{"$f":"VLOOKUP(A679,Contrats!A:H,5,0)","v":{"$error":"#N/A"}}]
[null,"OK",{"$f":"VLOOKUP(A680,Contrats!A:C,3,0)","v":{"$error":"#N/A"}},{"$f":"VLOOKUP(A680,Contrats!A:C,2,0)","v":{"$error":"#N/A"}},{"$f":"VLOOKUP(A680,Contrats!A:H,5,0)","v":{"$error":"#N/A"}}]
[null,"OK",{"$f":"VLOOKUP(A681,Contrats!A:C,3,0)","v":{"$error":"#N/A"}},{"$f":"VLOOKUP(A681,Contrats!A:C,2,0)","v":{"$error":"#N/A"}},{"$f":"VLOOKUP(A681,Contrats!A:H,5,0)","v":{"$error":"#N/A"}}]
[null,"OK",{"$f":"VLOOKUP(A682,Contrats!A:C,3,0)","v":{"$error":"#N/A"}},{"$f":"VLOOKUP(A682,Contrats!A:C,2,0)","v":{"$error":"#N/A"}},{"$f":"VLOOKUP(A682,Contrats!A:H,5,0)","v":{"$error":"#N/A"}}]
[null,"OK",{"$f":"VLOOKUP(A683,Contrats!A:C,3,0)","v":{"$error":"#N/A"}},{"$f":"VLOOKUP(A683,Contrats!A:C,2,0)","v":{"$error":"#N/A"}},{"$f":"VLOOKUP(A683,Contrats!A:H,5,0)","v":{"$error":"#N/A"}}]
[null,"OK",{"$f":"VLOOKUP(A684,Contrats!A:C,3,0)","v":{"$error":"#N/A"}},{"$f":"VLOOKUP(A684,Contrats!A:C,2,0)","v":{"$error":"#N/A"}},{"$f":"VLOOKUP(A684,Contrats!A:H,5,0)","v":{"$error":"#N/A"}}]
[null,"OK",{"$f":"VLOOKUP(A685,Contrats!A:C,3,0)","v":{"$error":"#N/A"}},{"$f":"VLOOKUP(A685,Contrats!A:C,2,0)","v":{"$error":"#N/A"}},{"$f":"VLOOKUP(A685,Contrats!A:H,5,0)","v":{"$error":"#N/A"}}]
[null,"OK",{"$f":"VLOOKUP(A686,Contrats!A:C,3,0)","v":{"$error":"#N/A"}},{"$f":"VLOOKUP(A686,Contrats!A:C,2,0)","v":{"$error":"#N/A"}},{"$f":"VLOOKUP(A686,Contrats!A:H,5,0)","v":{"$error":"#N/A"}}]
[null,"OK",{"$f":"VLOOKUP(A687,Contrats!A:C,3,0)","v":{"$error":"#N/A"}},{"$f":"VLOOKUP(A687,Contrats!A:C,2,0)","v":{"$error":"#N/A"}},{"$f":"VLOOKUP(A687,Contrats!A:H,5,0)","v":{"$error":"#N/A"}}]
[null,"OK",{"$f":"VLOOKUP(A688,Contrats!A:C,3,0)","v":{"$error":"#N/A"}},{"$f":"VLOOKUP(A688,Contrats!A:C,2,0)","v":{"$error":"#N/A"}},{"$f":"VLOOKUP(A688,Contrats!A:H,5,0)","v":{"$error":"#N/A"}}]
[null,"OK",{"$f":"VLOOKUP(A689,Contrats!A:C,3,0)","v":{"$error":"#N/A"}},{"$f":"VLOOKUP(A689,Contrats!A:C,2,0)","v":{"$error":"#N/A"}},{"$f":"VLOOKUP(A689,Contrats!A:H,5,0)","v":{"$error":"#N/A"}}]
[null,"OK",{"$f":"VLOOKUP(A690,Contrats!A:C,3,0)","v":{"$error":"#N/A"}},{"$f":"VLOOKUP(A690,Contrats!A:C,2,0)","v":{"$error":"#N/A"}},{"$f":"VLOOKUP(A690,Contrats!A:H,5,0)","v":{"$error":"#N/A"}}]
[null,"OK",{"$f":"VLOOKUP(A691,Contrats!A:C,3,0)","v":{"$error":"#N/A"}},{"$f":"VLOOKUP(A691,Contrats!A:C,2,0)","v":{"$error":"#N/A"}},{"$f":"VLOOKUP(A691,Contrats!A:H,5,0)","v":{"$error":"#N/A"}}]
[null,"OK",{"$f":"VLOOKUP(A692,Contrats!A:C,3,0)","v":{"$error":"#N/A"}},{"$f":"VLOOKUP(A692,Contrats!A:C,2,0)","v":{"$error":"#N/A"}},{"$f":"VLOOKUP(A692,Contrats!A:H,5,0)","v":{"$error":"#N/A"}}]
[null,"OK",{"$f":"VLOOKUP(A693,Contrats!A:C,3,0)","v":{"$error":"#N/A"}},{"$f":"VLOOKUP(A693,Contrats!A:C,2,0)","v":{"$error":"#N/A"}},{"$f":"VLOOKUP(A693,Contrats!A:H,5,0)","v":{"$error":"#N/A"}}]
[null,"OK",{"$f":"VLOOKUP(A694,Contrats!A:C,3,0)","v":{"$error":"#N/A"}},{"$f":"VLOOKUP(A694,Contrats!A:C,2,0)","v":{"$error":"#N/A"}},{"$f":"VLOOKUP(A694,Contrats!A:H,5,0)","v":{"$error":"#N/A"}}]
[null,"OK",{"$f":"VLOOKUP(A695,Contrats!A:C,3,0)","v":{"$error":"#N/A"}},{"$f":"VLOOKUP(A695,Contrats!A:C,2,0)","v":{"$error":"#N/A"}},{"$f":"VLOOKUP(A695,Contrats!A:H,5,0)","v":{"$error":"#N/A"}}]
[null,"OK",{"$f":"VLOOKUP(A696,Contrats!A:C,3,0)","v":{"$error":"#N/A"}},{"$f":"VLOOKUP(A696,Contrats!A:C,2,0)","v":{"$error":"#N/A"}},{"$f":"VLOOKUP(A696,Contrats!A:H,5,0)","v":{"$error":"#N/A"}}]
[null,"OK",{"$f":"VLOOKUP(A697,Contrats!A:C,3,0)","v":{"$error":"#N/A"}},{"$f":"VLOOKUP(A697,Contrats!A:C,2,0)","v":{"$error":"#N/A"}},{"$f":"VLOOKUP(A697,Contrats!A:H,5,0)","v":{"$error":"#N/A"}}]
[null,"OK",{"$f":"VLOOKUP(A698,Contrats!A:C,3,0)","v":{"$error":"#N/A"}},{"$f":"VLOOKUP(A698,Contrats!A:C,2,0)","v":{"$error":"#N/A"}},{"$f":"VLOOKUP(A698,Contrats!A:H,5,0)","v":{"$error":"#N/A"}}]
[null,"OK",{"$f":"VLOOKUP(A699,Contrats!A:C,3,0)","v":{"$error":"#N/A"}},{"$f":"VLOOKUP(A699,Contrats!A:C,2,0)","v":{"$error":"#N/A"}},{"$f":"VLOOKUP(A699,Contrats!A:H,5,0)","v":{"$error":"#N/A"}}]
[null,"OK",{"$f":"VLOOKUP(A700,Contrats!A:C,3,0)","v":{"$error":"#N/A"}},{"$f":"VLOOKUP(A700,Contrats!A:C,2,0)","v":{"$error":"#N/A"}},{"$f":"VLOOKUP(A700,Contrats!A:H,5,0)","v":{"$error":"#N/A"}}]
[null,"OK",{"$f":"VLOOKUP(A701,Contrats!A:C,3,0)","v":{"$error":"#N/A"}},{"$f":"VLOOKUP(A701,Contrats!A:C,2,0)","v":{"$error":"#N/A"}},{"$f":"VLOOKUP(A701,Contrats!A:H,5,0)","v":{"$error":"#N/A"}}]
[null,"OK",{"$f":"VLOOKUP(A702,Contrats!A:C,3,0)","v":{"$error":"#N/A"}},{"$f":"VLOOKUP(A702,Contrats!A:C,2,0)","v":{"$error":"#N/A"}},{"$f":"VLOOKUP(A702,Contrats!A:H,5,0)","v":{"$error":"#N/A"}}]
[null,"OK",{"$f":"VLOOKUP(A703,Contrats!A:C,3,0)","v":{"$error":"#N/A"}},{"$f":"VLOOKUP(A703,Contrats!A:C,2,0)","v":{"$error":"#N/A"}},{"$f":"VLOOKUP(A703,Contrats!A:H,5,0)","v":{"$error":"#N/A"}}]
[null,"OK",{"$f":"VLOOKUP(A704,Contrats!A:C,3,0)","v":{"$error":"#N/A"}},{"$f":"VLOOKUP(A704,Contrats!A:C,2,0)","v":{"$error":"#N/A"}},{"$f":"VLOOKUP(A704,Contrats!A:H,5,0)","v":{"$error":"#N/A"}}]
[null,"OK",{"$f":"VLOOKUP(A705,Contrats!A:C,3,0)","v":{"$error":"#N/A"}},{"$f":"VLOOKUP(A705,Contrats!A:C,2,0)","v":{"$error":"#N/A"}},{"$f":"VLOOKUP(A705,Contrats!A:H,5,0)","v":{"$error":"#N/A"}}]
[null,"OK",{"$f":"VLOOKUP(A706,Contrats!A:C,3,0)","v":{"$error":"#N/A"}},{"$f":"VLOOKUP(A706,Contrats!A:C,2,0)","v":{"$error":"#N/A"}},{"$f":"VLOOKUP(A706,Contrats!A:H,5,0)","v":{"$error":"#N/A"}}]
[null,"OK",{"$f":"VLOOKUP(A707,Contrats!A:C,3,0)","v":{"$error":"#N/A"}},{"$f":"VLOOKUP(A707,Contrats!A:C,2,0)","v":{"$error":"#N/A"}},{"$f":"VLOOKUP(A707,Contrats!A:H,5,0)","v":{"$error":"#N/A"}}]
[null,"OK",{"$f":"VLOOKUP(A708,Contrats!A:C,3,0)","v":{"$error":"#N/A"}},{"$f":"VLOOKUP(A708,Contrats!A:C,2,0)","v":{"$error":"#N/A"}},{"$f":"VLOOKUP(A708,Contrats!A:H,5,0)","v":{"$error":"#N/A"}}]
[null,"OK",{"$f":"VLOOKUP(A709,Contrats!A:C,3,0)","v":{"$error":"#N/A"}},{"$f":"VLOOKUP(A709,Contrats!A:C,2,0)","v":{"$error":"#N/A"}},{"$f":"VLOOKUP(A709,Contrats!A:H,5,0)","v":{"$error":"#N/A"}}]
[null,"OK",{"$f":"VLOOKUP(A710,Contrats!A:C,3,0)","v":{"$error":"#N/A"}},{"$f":"VLOOKUP(A710,Contrats!A:C,2,0)","v":{"$error":"#N/A"}},{"$f":"VLOOKUP(A710,Contrats!A:H,5,0)","v":{"$error":"#N/A"}}]
[null,"OK",{"$f":"VLOOKUP(A711,Contrats!A:C,3,0)","v":{"$error":"#N/A"}},{"$f":"VLOOKUP(A711,Contrats!A:C,2,0)","v":{"$error":"#N/A"}},{"$f":"VLOOKUP(A711,Contrats!A:H,5,0)","v":{"$error":"#N/A"}}]
[null,"OK",{"$f":"VLOOKUP(A712,Contrats!A:C,3,0)","v":{"$error":"#N/A"}},{"$f":"VLOOKUP(A712,Contrats!A:C,2,0)","v":{"$error":"#N/A"}},{"$f":"VLOOKUP(A712,Contrats!A:H,5,0)","v":{"$error":"#N/A"}}]
[null,"OK",{"$f":"VLOOKUP(A713,Contrats!A:C,3,0)","v":{"$error":"#N/A"}},{"$f":"VLOOKUP(A713,Contrats!A:C,2,0)","v":{"$error":"#N/A"}},{"$f":"VLOOKUP(A713,Contrats!A:H,5,0)","v":{"$error":"#N/A"}}]
[null,"OK",{"$f":"VLOOKUP(A714,Contrats!A:C,3,0)","v":{"$error":"#N/A"}},{"$f":"VLOOKUP(A714,Contrats!A:C,2,0)","v":{"$error":"#N/A"}},{"$f":"VLOOKUP(A714,Contrats!A:H,5,0)","v":{"$error":"#N/A"}}]
[null,"OK",{"$f":"VLOOKUP(A715,Contrats!A:C,3,0)","v":{"$error":"#N/A"}},{"$f":"VLOOKUP(A715,Contrats!A:C,2,0)","v":{"$error":"#N/A"}},{"$f":"VLOOKUP(A715,Contrats!A:H,5,0)","v":{"$error":"#N/A"}}]
[null,"OK",{"$f":"VLOOKUP(A716,Contrats!A:C,3,0)","v":{"$error":"#N/A"}},{"$f":"VLOOKUP(A716,Contrats!A:C,2,0)","v":{"$error":"#N/A"}},{"$f":"VLOOKUP(A716,Contrats!A:H,5,0)","v":{"$error":"#N/A"}}]
[null,"OK",{"$f":"VLOOKUP(A717,Contrats!A:C,3,0)","v":{"$error":"#N/A"}},{"$f":"VLOOKUP(A717,Contrats!A:C,2,0)","v":{"$error":"#N/A"}},{"$f":"VLOOKUP(A717,Contrats!A:H,5,0)","v":{"$error":"#N/A"}}]
[null,"OK",{"$f":"VLOOKUP(A718,Contrats!A:C,3,0)","v":{"$error":"#N/A"}},{"$f":"VLOOKUP(A718,Contrats!A:C,2,0)","v":{"$error":"#N/A"}},{"$f":"VLOOKUP(A718,Contrats!A:H,5,0)","v":{"$error":"#N/A"}}]
[null,"OK",{"$f":"VLOOKUP(A719,Contrats!A:C,3,0)","v":{"$error":"#N/A"}},{"$f":"VLOOKUP(A719,Contrats!A:C,2,0)","v":{"$error":"#N/A"}},{"$f":"VLOOKUP(A719,Contrats!A:H,5,0)","v":{"$error":"#N/A"}}]
[null,"OK",{"$f":"VLOOKUP(A720,Contrats!A:C,3,0)","v":{"$error":"#N/A"}},{"$f":"VLOOKUP(A720,Contrats!A:C,2,0)","v":{"$error":"#N/A"}},{"$f":"VLOOKUP(A720,Contrats!A:H,5,0)","v":{"$error":"#N/A"}}]
[null,"OK",{"$f":"VLOOKUP(A721,Contrats!A:C,3,0)","v":{"$error":"#N/A"}},{"$f":"VLOOKUP(A721,Contrats!A:C,2,0)","v":{"$error":"#N/A"}},{"$f":"VLOOKUP(A721,Contrats!A:H,5,0)","v":{"$error":"#N/A"}}]
[null,"OK",{"$f":"VLOOKUP(A722,Contrats!A:C,3,0)","v":{"$error":"#N/A"}},{"$f":"VLOOKUP(A722,Contrats!A:C,2,0)","v":{"$error":"#N/A"}},{"$f":"VLOOKUP(A722,Contrats!A:H,5,0)","v":{"$error":"#N/A"}}]
[null,"OK",{"$f":"VLOOKUP(A723,Contrats!A:C,3,0)","v":{"$error":"#N/A"}},{"$f":"VLOOKUP(A723,Contrats!A:C,2,0)","v":{"$error":"#N/A"}},{"$f":"VLOOKUP(A723,Contrats!A:H,5,0)","v":{"$error":"#N/A"}}]
[null,"OK",{"$f":"VLOOKUP(A724,Contrats!A:C,3,0)","v":{"$error":"#N/A"}},{"$f":"VLOOKUP(A724,Contrats!A:C,2,0)","v":{"$error":"#N/A"}},{"$f":"VLOOKUP(A724,Contrats!A:H,5,0)","v":{"$error":"#N/A"}}]
[null,"OK",{"$f":"VLOOKUP(A725,Contrats!A:C,3,0)","v":{"$error":"#N/A"}},{"$f":"VLOOKUP(A725,Contrats!A:C,2,0)","v":{"$error":"#N/A"}},{"$f":"VLOOKUP(A725,Contrats!A:H,5,0)","v":{"$error":"#N/A"}}]
[null,"OK",{"$f":"VLOOKUP(A726,Contrats!A:C,3,0)","v":{"$error":"#N/A"}},{"$f":"VLOOKUP(A726,Contrats!A:C,2,0)","v":{"$error":"#N/A"}},{"$f":"VLOOKUP(A726,Contrats!A:H,5,0)","v":{"$error":"#N/A"}}]
[null,"OK",{"$f":"VLOOKUP(A727,Contrats!A:C,3,0)","v":{"$error":"#N/A"}},{"$f":"VLOOKUP(A727,Contrats!A:C,2,0)","v":{"$error":"#N/A"}},{"$f":"VLOOKUP(A727,Contrats!A:H,5,0)","v":{"$error":"#N/A"}}]
[null,"OK",{"$f":"VLOOKUP(A728,Contrats!A:C,3,0)","v":{"$error":"#N/A"}},{"$f":"VLOOKUP(A728,Contrats!A:C,2,0)","v":{"$error":"#N/A"}},{"$f":"VLOOKUP(A728,Contrats!A:H,5,0)","v":{"$error":"#N/A"}}]
[null,"OK",{"$f":"VLOOKUP(A729,Contrats!A:C,3,0)","v":{"$error":"#N/A"}},{"$f":"VLOOKUP(A729,Contrats!A:C,2,0)","v":{"$error":"#N/A"}},{"$f":"VLOOKUP(A729,Contrats!A:H,5,0)","v":{"$error":"#N/A"}}]
[null,"OK",{"$f":"VLOOKUP(A730,Contrats!A:C,3,0)","v":{"$error":"#N/A"}},{"$f":"VLOOKUP(A730,Contrats!A:C,2,0)","v":{"$error":"#N/A"}},{"$f":"VLOOKUP(A730,Contrats!A:H,5,0)","v":{"$error":"#N/A"}}]
[null,"OK",{"$f":"VLOOKUP(A731,Contrats!A:C,3,0)","v":{"$error":"#N/A"}},{"$f":"VLOOKUP(A731,Contrats!A:C,2,0)","v":{"$error":"#N/A"}},{"$f":"VLOOKUP(A731,Contrats!A:H,5,0)","v":{"$error":"#N/A"}}]
[null,"OK",{"$f":"VLOOKUP(A732,Contrats!A:C,3,0)","v":{"$error":"#N/A"}},{"$f":"VLOOKUP(A732,Contrats!A:C,2,0)","v":{"$error":"#N/A"}},{"$f":"VLOOKUP(A732,Contrats!A:H,5,0)","v":{"$error":"#N/A"}}]
[null,"OK",{"$f":"VLOOKUP(A733,Contrats!A:C,3,0)","v":{"$error":"#N/A"}},{"$f":"VLOOKUP(A733,Contrats!A:C,2,0)","v":{"$error":"#N/A"}},{"$f":"VLOOKUP(A733,Contrats!A:H,5,0)","v":{"$error":"#N/A"}}]
[null,"OK",{"$f":"VLOOKUP(A734,Contrats!A:C,3,0)","v":{"$error":"#N/A"}},{"$f":"VLOOKUP(A734,Contrats!A:C,2,0)","v":{"$error":"#N/A"}},{"$f":"VLOOKUP(A734,Contrats!A:H,5,0)","v":{"$error":"#N/A"}}]
[null,"OK",{"$f":"VLOOKUP(A735,Contrats!A:C,3,0)","v":{"$error":"#N/A"}},{"$f":"VLOOKUP(A735,Contrats!A:C,2,0)","v":{"$error":"#N/A"}},{"$f":"VLOOKUP(A735,Contrats!A:H,5,0)","v":{"$error":"#N/A"}}]
[null,"OK",{"$f":"VLOOKUP(A736,Contrats!A:C,3,0)","v":{"$error":"#N/A"}},{"$f":"VLOOKUP(A736,Contrats!A:C,2,0)","v":{"$error":"#N/A"}},{"$f":"VLOOKUP(A736,Contrats!A:H,5,0)","v":{"$error":"#N/A"}}]
[null,"OK",{"$f":"VLOOKUP(A737,Contrats!A:C,3,0)","v":{"$error":"#N/A"}},{"$f":"VLOOKUP(A737,Contrats!A:C,2,0)","v":{"$error":"#N/A"}},{"$f":"VLOOKUP(A737,Contrats!A:H,5,0)","v":{"$error":"#N/A"}}]
[null,"OK",{"$f":"VLOOKUP(A738,Contrats!A:C,3,0)","v":{"$error":"#N/A"}},{"$f":"VLOOKUP(A738,Contrats!A:C,2,0)","v":{"$error":"#N/A"}},{"$f":"VLOOKUP(A738,Contrats!A:H,5,0)","v":{"$error":"#N/A"}}]
[null,"OK",{"$f":"VLOOKUP(A739,Contrats!A:C,3,0)","v":{"$error":"#N/A"}},{"$f":"VLOOKUP(A739,Contrats!A:C,2,0)","v":{"$error":"#N/A"}},{"$f":"VLOOKUP(A739,Contrats!A:H,5,0)","v":{"$error":"#N/A"}}]
[null,"OK",{"$f":"VLOOKUP(A740,Contrats!A:C,3,0)","v":{"$error":"#N/A"}},{"$f":"VLOOKUP(A740,Contrats!A:C,2,0)","v":{"$error":"#N/A"}},{"$f":"VLOOKUP(A740,Contrats!A:H,5,0)","v":{"$error":"#N/A"}}]
[null,"OK",{"$f":"VLOOKUP(A741,Contrats!A:C,3,0)","v":{"$error":"#N/A"}},{"$f":"VLOOKUP(A741,Contrats!A:C,2,0)","v":{"$error":"#N/A"}},{"$f":"VLOOKUP(A741,Contrats!A:H,5,0)","v":{"$error":"#N/A"}}]
[null,"OK",{"$f":"VLOOKUP(A742,Contrats!A:C,3,0)","v":{"$error":"#N/A"}},{"$f":"VLOOKUP(A742,Contrats!A:C,2,0)","v":{"$error":"#N/A"}},{"$f":"VLOOKUP(A742,Contrats!A:H,5,0)","v":{"$error":"#N/A"}}]
[null,"OK",{"$f":"VLOOKUP(A743,Contrats!A:C,3,0)","v":{"$error":"#N/A"}},{"$f":"VLOOKUP(A743,Contrats!A:C,2,0)","v":{"$error":"#N/A"}},{"$f":"VLOOKUP(A743,Contrats!A:H,5,0)","v":{"$error":"#N/A"}}]
[null,"OK",{"$f":"VLOOKUP(A744,Contrats!A:C,3,0)","v":{"$error":"#N/A"}},{"$f":"VLOOKUP(A744,Contrats!A:C,2,0)","v":{"$error":"#N/A"}},{"$f":"VLOOKUP(A744,Contrats!A:H,5,0)","v":{"$error":"#N/A"}}]
[null,"OK",{"$f":"VLOOKUP(A745,Contrats!A:C,3,0)","v":{"$error":"#N/A"}},{"$f":"VLOOKUP(A745,Contrats!A:C,2,0)","v":{"$error":"#N/A"}},{"$f":"VLOOKUP(A745,Contrats!A:H,5,0)","v":{"$error":"#N/A"}}]
[null,"OK",{"$f":"VLOOKUP(A746,Contrats!A:C,3,0)","v":{"$error":"#N/A"}},{"$f":"VLOOKUP(A746,Contrats!A:C,2,0)","v":{"$error":"#N/A"}},{"$f":"VLOOKUP(A746,Contrats!A:H,5,0)","v":{"$error":"#N/A"}}]
[null,"OK",{"$f":"VLOOKUP(A747,Contrats!A:C,3,0)","v":{"$error":"#N/A"}},{"$f":"VLOOKUP(A747,Contrats!A:C,2,0)","v":{"$error":"#N/A"}},{"$f":"VLOOKUP(A747,Contrats!A:H,5,0)","v":{"$error":"#N/A"}}]
[null,"OK",{"$f":"VLOOKUP(A748,Contrats!A:C,3,0)","v":{"$error":"#N/A"}},{"$f":"VLOOKUP(A748,Contrats!A:C,2,0)","v":{"$error":"#N/A"}},{"$f":"VLOOKUP(A748,Contrats!A:H,5,0)","v":{"$error":"#N/A"}}]
[null,"OK",{"$f":"VLOOKUP(A749,Contrats!A:C,3,0)","v":{"$error":"#N/A"}},{"$f":"VLOOKUP(A749,Contrats!A:C,2,0)","v":{"$error":"#N/A"}},{"$f":"VLOOKUP(A749,Contrats!A:H,5,0)","v":{"$error":"#N/A"}}]
[null,"OK",{"$f":"VLOOKUP(A750,Contrats!A:C,3,0)","v":{"$error":"#N/A"}},{"$f":"VLOOKUP(A750,Contrats!A:C,2,0)","v":{"$error":"#N/A"}},{"$f":"VLOOKUP(A750,Contrats!A:H,5,0)","v":{"$error":"#N/A"}}]
[null,"OK",{"$f":"VLOOKUP(A751,Contrats!A:C,3,0)","v":{"$error":"#N/A"}},{"$f":"VLOOKUP(A751,Contrats!A:C,2,0)","v":{"$error":"#N/A"}},{"$f":"VLOOKUP(A751,Contrats!A:H,5,0)","v":{"$error":"#N/A"}}]
[null,"OK",{"$f":"VLOOKUP(A752,Contrats!A:C,3,0)","v":{"$error":"#N/A"}},{"$f":"VLOOKUP(A752,Contrats!A:C,2,0)","v":{"$error":"#N/A"}},{"$f":"VLOOKUP(A752,Contrats!A:H,5,0)","v":{"$error":"#N/A"}}]
[null,"OK",{"$f":"VLOOKUP(A753,Contrats!A:C,3,0)","v":{"$error":"#N/A"}},{"$f":"VLOOKUP(A753,Contrats!A:C,2,0)","v":{"$error":"#N/A"}},{"$f":"VLOOKUP(A753,Contrats!A:H,5,0)","v":{"$error":"#N/A"}}]
[null,"OK",{"$f":"VLOOKUP(A754,Contrats!A:C,3,0)","v":{"$error":"#N/A"}},{"$f":"VLOOKUP(A754,Contrats!A:C,2,0)","v":{"$error":"#N/A"}},{"$f":"VLOOKUP(A754,Contrats!A:H,5,0)","v":{"$error":"#N/A"}}]
[null,"OK",{"$f":"VLOOKUP(A755,Contrats!A:C,3,0)","v":{"$error":"#N/A"}},{"$f":"VLOOKUP(A755,Contrats!A:C,2,0)","v":{"$error":"#N/A"}},{"$f":"VLOOKUP(A755,Contrats!A:H,5,0)","v":{"$error":"#N/A"}}]
[null,"OK",{"$f":"VLOOKUP(A756,Contrats!A:C,3,0)","v":{"$error":"#N/A"}},{"$f":"VLOOKUP(A756,Contrats!A:C,2,0)","v":{"$error":"#N/A"}},{"$f":"VLOOKUP(A756,Contrats!A:H,5,0)","v":{"$error":"#N/A"}}]
[null,"OK",{"$f":"VLOOKUP(A757,Contrats!A:C,3,0)","v":{"$error":"#N/A"}},{"$f":"VLOOKUP(A757,Contrats!A:C,2,0)","v":{"$error":"#N/A"}},{"$f":"VLOOKUP(A757,Contrats!A:H,5,0)","v":{"$error":"#N/A"}}]
[null,"OK",{"$f":"VLOOKUP(A758,Contrats!A:C,3,0)","v":{"$error":"#N/A"}},{"$f":"VLOOKUP(A758,Contrats!A:C,2,0)","v":{"$error":"#N/A"}},{"$f":"VLOOKUP(A758,Contrats!A:H,5,0)","v":{"$error":"#N/A"}}]
[null,"OK",{"$f":"VLOOKUP(A759,Contrats!A:C,3,0)","v":{"$error":"#N/A"}},{"$f":"VLOOKUP(A759,Contrats!A:C,2,0)","v":{"$error":"#N/A"}},{"$f":"VLOOKUP(A759,Contrats!A:H,5,0)","v":{"$error":"#N/A"}}]
[null,"OK",{"$f":"VLOOKUP(A760,Contrats!A:C,3,0)","v":{"$error":"#N/A"}},{"$f":"VLOOKUP(A760,Contrats!A:C,2,0)","v":{"$error":"#N/A"}},{"$f":"VLOOKUP(A760,Contrats!A:H,5,0)","v":{"$error":"#N/A"}}]
[null,"OK",{"$f":"VLOOKUP(A761,Contrats!A:C,3,0)","v":{"$error":"#N/A"}},{"$f":"VLOOKUP(A761,Contrats!A:C,2,0)","v":{"$error":"#N/A"}},{"$f":"VLOOKUP(A761,Contrats!A:H,5,0)","v":{"$error":"#N/A"}}]
[null,"OK",{"$f":"VLOOKUP(A762,Contrats!A:C,3,0)","v":{"$error":"#N/A"}},{"$f":"VLOOKUP(A762,Contrats!A:C,2,0)","v":{"$error":"#N/A"}},{"$f":"VLOOKUP(A762,Contrats!A:H,5,0)","v":{"$error":"#N/A"}}]
[null,"OK",{"$f":"VLOOKUP(A763,Contrats!A:C,3,0)","v":{"$error":"#N/A"}},{"$f":"VLOOKUP(A763,Contrats!A:C,2,0)","v":{"$error":"#N/A"}},{"$f":"VLOOKUP(A763,Contrats!A:H,5,0)","v":{"$error":"#N/A"}}]
[null,"OK",{"$f":"VLOOKUP(A764,Contrats!A:C,3,0)","v":{"$error":"#N/A"}},{"$f":"VLOOKUP(A764,Contrats!A:C,2,0)","v":{"$error":"#N/A"}},{"$f":"VLOOKUP(A764,Contrats!A:H,5,0)","v":{"$error":"#N/A"}}]
[null,"OK",{"$f":"VLOOKUP(A765,Contrats!A:C,3,0)","v":{"$error":"#N/A"}},{"$f":"VLOOKUP(A765,Contrats!A:C,2,0)","v":{"$error":"#N/A"}},{"$f":"VLOOKUP(A765,Contrats!A:H,5,0)","v":{"$error":"#N/A"}}]
[null,"OK",{"$f":"VLOOKUP(A766,Contrats!A:C,3,0)","v":{"$error":"#N/A"}},{"$f":"VLOOKUP(A766,Contrats!A:C,2,0)","v":{"$error":"#N/A"}},{"$f":"VLOOKUP(A766,Contrats!A:H,5,0)","v":{"$error":"#N/A"}}]
[null,"OK",{"$f":"VLOOKUP(A767,Contrats!A:C,3,0)","v":{"$error":"#N/A"}},{"$f":"VLOOKUP(A767,Contrats!A:C,2,0)","v":{"$error":"#N/A"}},{"$f":"VLOOKUP(A767,Contrats!A:H,5,0)","v":{"$error":"#N/A"}}]
[null,"OK",{"$f":"VLOOKUP(A768,Contrats!A:C,3,0)","v":{"$error":"#N/A"}},{"$f":"VLOOKUP(A768,Contrats!A:C,2,0)","v":{"$error":"#N/A"}},{"$f":"VLOOKUP(A768,Contrats!A:H,5,0)","v":{"$error":"#N/A"}}]
[null,"OK",{"$f":"VLOOKUP(A769,Contrats!A:C,3,0)","v":{"$error":"#N/A"}},{"$f":"VLOOKUP(A769,Contrats!A:C,2,0)","v":{"$error":"#N/A"}},{"$f":"VLOOKUP(A769,Contrats!A:H,5,0)","v":{"$error":"#N/A"}}]
[null,"OK",{"$f":"VLOOKUP(A770,Contrats!A:C,3,0)","v":{"$error":"#N/A"}},{"$f":"VLOOKUP(A770,Contrats!A:C,2,0)","v":{"$error":"#N/A"}},{"$f":"VLOOKUP(A770,Contrats!A:H,5,0)","v":{"$error":"#N/A"}}]
[null,"OK",{"$f":"VLOOKUP(A771,Contrats!A:C,3,0)","v":{"$error":"#N/A"}},{"$f":"VLOOKUP(A771,Contrats!A:C,2,0)","v":{"$error":"#N/A"}},{"$f":"VLOOKUP(A771,Contrats!A:H,5,0)","v":{"$error":"#N/A"}}]
[null,"OK",{"$f":"VLOOKUP(A772,Contrats!A:C,3,0)","v":{"$error":"#N/A"}},{"$f":"VLOOKUP(A772,Contrats!A:C,2,0)","v":{"$error":"#N/A"}},{"$f":"VLOOKUP(A772,Contrats!A:H,5,0)","v":{"$error":"#N/A"}}]
[null,"OK",{"$f":"VLOOKUP(A773,Contrats!A:C,3,0)","v":{"$error":"#N/A"}},{"$f":"VLOOKUP(A773,Contrats!A:C,2,0)","v":{"$error":"#N/A"}},{"$f":"VLOOKUP(A773,Contrats!A:H,5,0)","v":{"$error":"#N/A"}}]
[null,"OK",{"$f":"VLOOKUP(A774,Contrats!A:C,3,0)","v":{"$error":"#N/A"}},{"$f":"VLOOKUP(A774,Contrats!A:C,2,0)","v":{"$error":"#N/A"}},{"$f":"VLOOKUP(A774,Contrats!A:H,5,0)","v":{"$error":"#N/A"}}]
[null,"OK",{"$f":"VLOOKUP(A775,Contrats!A:C,3,0)","v":{"$error":"#N/A"}},{"$f":"VLOOKUP(A775,Contrats!A:C,2,0)","v":{"$error":"#N/A"}},{"$f":"VLOOKUP(A775,Contrats!A:H,5,0)","v":{"$error":"#N/A"}}]
[null,"OK",{"$f":"VLOOKUP(A776,Contrats!A:C,3,0)","v":{"$error":"#N/A"}},{"$f":"VLOOKUP(A776,Contrats!A:C,2,0)","v":{"$error":"#N/A"}},{"$f":"VLOOKUP(A776,Contrats!A:H,5,0)","v":{"$error":"#N/A"}}]
[null,"OK",{"$f":"VLOOKUP(A777,Contrats!A:C,3,0)","v":{"$error":"#N/A"}},{"$f":"VLOOKUP(A777,Contrats!A:C,2,0)","v":{"$error":"#N/A"}},{"$f":"VLOOKUP(A777,Contrats!A:H,5,0)","v":{"$error":"#N/A"}}]
[null,"OK",{"$f":"VLOOKUP(A778,Contrats!A:C,3,0)","v":{"$error":"#N/A"}},{"$f":"VLOOKUP(A778,Contrats!A:C,2,0)","v":{"$error":"#N/A"}},{"$f":"VLOOKUP(A778,Contrats!A:H,5,0)","v":{"$error":"#N/A"}}]
[null,"OK",{"$f":"VLOOKUP(A779,Contrats!A:C,3,0)","v":{"$error":"#N/A"}},{"$f":"VLOOKUP(A779,Contrats!A:C,2,0)","v":{"$error":"#N/A"}},{"$f":"VLOOKUP(A779,Contrats!A:H,5,0)","v":{"$error":"#N/A"}}]
[null,"OK",{"$f":"VLOOKUP(A780,Contrats!A:C,3,0)","v":{"$error":"#N/A"}},{"$f":"VLOOKUP(A780,Contrats!A:C,2,0)","v":{"$error":"#N/A"}},{"$f":"VLOOKUP(A780,Contrats!A:H,5,0)","v":{"$error":"#N/A"}}]
[null,"OK",{"$f":"VLOOKUP(A781,Contrats!A:C,3,0)","v":{"$error":"#N/A"}},{"$f":"VLOOKUP(A781,Contrats!A:C,2,0)","v":{"$error":"#N/A"}},{"$f":"VLOOKUP(A781,Contrats!A:H,5,0)","v":{"$error":"#N/A"}}]
[null,"OK",{"$f":"VLOOKUP(A782,Contrats!A:C,3,0)","v":{"$error":"#N/A"}},{"$f":"VLOOKUP(A782,Contrats!A:C,2,0)","v":{"$error":"#N/A"}},{"$f":"VLOOKUP(A782,Contrats!A:H,5,0)","v":{"$error":"#N/A"}}]
[null,"OK",{"$f":"VLOOKUP(A783,Contrats!A:C,3,0)","v":{"$error":"#N/A"}},{"$f":"VLOOKUP(A783,Contrats!A:C,2,0)","v":{"$error":"#N/A"}},{"$f":"VLOOKUP(A783,Contrats!A:H,5,0)","v":{"$error":"#N/A"}}]
[null,"OK",{"$f":"VLOOKUP(A784,Contrats!A:C,3,0)","v":{"$error":"#N/A"}},{"$f":"VLOOKUP(A784,Contrats!A:C,2,0)","v":{"$error":"#N/A"}},{"$f":"VLOOKUP(A784,Contrats!A:H,5,0)","v":{"$error":"#N/A"}}]
[null,"OK",{"$f":"VLOOKUP(A785,Contrats!A:C,3,0)","v":{"$error":"#N/A"}},{"$f":"VLOOKUP(A785,Contrats!A:C,2,0)","v":{"$error":"#N/A"}},{"$f":"VLOOKUP(A785,Contrats!A:H,5,0)","v":{"$error":"#N/A"}}]
[null,"OK",{"$f":"VLOOKUP(A786,Contrats!A:C,3,0)","v":{"$error":"#N/A"}},{"$f":"VLOOKUP(A786,Contrats!A:C,2,0)","v":{"$error":"#N/A"}},{"$f":"VLOOKUP(A786,Contrats!A:H,5,0)","v":{"$error":"#N/A"}}]
[null,"OK",{"$f":"VLOOKUP(A787,Contrats!A:C,3,0)","v":{"$error":"#N/A"}},{"$f":"VLOOKUP(A787,Contrats!A:C,2,0)","v":{"$error":"#N/A"}},{"$f":"VLOOKUP(A787,Contrats!A:H,5,0)","v":{"$error":"#N/A"}}]
[null,"OK",{"$f":"VLOOKUP(A788,Contrats!A:C,3,0)","v":{"$error":"#N/A"}},{"$f":"VLOOKUP(A788,Contrats!A:C,2,0)","v":{"$error":"#N/A"}},{"$f":"VLOOKUP(A788,Contrats!A:H,5,0)","v":{"$error":"#N/A"}}]
[null,"OK",{"$f":"VLOOKUP(A789,Contrats!A:C,3,0)","v":{"$error":"#N/A"}},{"$f":"VLOOKUP(A789,Contrats!A:C,2,0)","v":{"$error":"#N/A"}},{"$f":"VLOOKUP(A789,Contrats!A:H,5,0)","v":{"$error":"#N/A"}}]
[null,"OK",{"$f":"VLOOKUP(A790,Contrats!A:C,3,0)","v":{"$error":"#N/A"}},{"$f":"VLOOKUP(A790,Contrats!A:C,2,0)","v":{"$error":"#N/A"}},{"$f":"VLOOKUP(A790,Contrats!A:H,5,0)","v":{"$error":"#N/A"}}]
[null,"OK",{"$f":"VLOOKUP(A791,Contrats!A:C,3,0)","v":{"$error":"#N/A"}},{"$f":"VLOOKUP(A791,Contrats!A:C,2,0)","v":{"$error":"#N/A"}},{"$f":"VLOOKUP(A791,Contrats!A:H,5,0)","v":{"$error":"#N/A"}}]
[null,"OK",{"$f":"VLOOKUP(A792,Contrats!A:C,3,0)","v":{"$error":"#N/A"}},{"$f":"VLOOKUP(A792,Contrats!A:C,2,0)","v":{"$error":"#N/A"}},{"$f":"VLOOKUP(A792,Contrats!A:H,5,0)","v":{"$error":"#N/A"}}]
[null,"OK",{"$f":"VLOOKUP(A793,Contrats!A:C,3,0)","v":{"$error":"#N/A"}},{"$f":"VLOOKUP(A793,Contrats!A:C,2,0)","v":{"$error":"#N/A"}},{"$f":"VLOOKUP(A793,Contrats!A:H,5,0)","v":{"$error":"#N/A"}}]
[null,"OK",{"$f":"VLOOKUP(A794,Contrats!A:C,3,0)","v":{"$error":"#N/A"}},{"$f":"VLOOKUP(A794,Contrats!A:C,2,0)","v":{"$error":"#N/A"}},{"$f":"VLOOKUP(A794,Contrats!A:H,5,0)","v":{"$error":"#N/A"}}]
[null,"OK",{"$f":"VLOOKUP(A795,Contrats!A:C,3,0)","v":{"$error":"#N/A"}},{"$f":"VLOOKUP(A795,Contrats!A:C,2,0)","v":{"$error":"#N/A"}},{"$f":"VLOOKUP(A795,Contrats!A:H,5,0)","v":{"$error":"#N/A"}}]
[null,"OK",{"$f":"VLOOKUP(A796,Contrats!A:C,3,0)","v":{"$error":"#N/A"}},{"$f":"VLOOKUP(A796,Contrats!A:C,2,0)","v":{"$error":"#N/A"}},{"$f":"VLOOKUP(A796,Contrats!A:H,5,0)","v":{"$error":"#N/A"}}]
[null,"OK",{"$f":"VLOOKUP(A797,Contrats!A:C,3,0)","v":{"$error":"#N/A"}},{"$f":"VLOOKUP(A797,Contrats!A:C,2,0)","v":{"$error":"#N/A"}},{"$f":"VLOOKUP(A797,Contrats!A:H,5,0)","v":{"$error":"#N/A"}}]
[null,"OK",{"$f":"VLOOKUP(A798,Contrats!A:C,3,0)","v":{"$error":"#N/A"}},{"$f":"VLOOKUP(A798,Contrats!A:C,2,0)","v":{"$error":"#N/A"}},{"$f":"VLOOKUP(A798,Contrats!A:H,5,0)","v":{"$error":"#N/A"}}]
[null,"OK",{"$f":"VLOOKUP(A799,Contrats!A:C,3,0)","v":{"$error":"#N/A"}},{"$f":"VLOOKUP(A799,Contrats!A:C,2,0)","v":{"$error":"#N/A"}},{"$f":"VLOOKUP(A799,Contrats!A:H,5,0)","v":{"$error":"#N/A"}}]
[null,"OK",{"$f":"VLOOKUP(A800,Contrats!A:C,3,0)","v":{"$error":"#N/A"}},{"$f":"VLOOKUP(A800,Contrats!A:C,2,0)","v":{"$error":"#N/A"}},{"$f":"VLOOKUP(A800,Contrats!A:H,5,0)","v":{"$error":"#N/A"}}]
[null,"OK",{"$f":"VLOOKUP(A801,Contrats!A:C,3,0)","v":{"$error":"#N/A"}},{"$f":"VLOOKUP(A801,Contrats!A:C,2,0)","v":{"$error":"#N/A"}},{"$f":"VLOOKUP(A801,Contrats!A:H,5,0)","v":{"$error":"#N/A"}}]
[null,"OK",{"$f":"VLOOKUP(A802,Contrats!A:C,3,0)","v":{"$error":"#N/A"}},{"$f":"VLOOKUP(A802,Contrats!A:C,2,0)","v":{"$error":"#N/A"}},{"$f":"VLOOKUP(A802,Contrats!A:H,5,0)","v":{"$error":"#N/A"}}]
[null,"OK",{"$f":"VLOOKUP(A803,Contrats!A:C,3,0)","v":{"$error":"#N/A"}},{"$f":"VLOOKUP(A803,Contrats!A:C,2,0)","v":{"$error":"#N/A"}},{"$f":"VLOOKUP(A803,Contrats!A:H,5,0)","v":{"$error":"#N/A"}}]
[null,"OK",{"$f":"VLOOKUP(A804,Contrats!A:C,3,0)","v":{"$error":"#N/A"}},{"$f":"VLOOKUP(A804,Contrats!A:C,2,0)","v":{"$error":"#N/A"}},{"$f":"VLOOKUP(A804,Contrats!A:H,5,0)","v":{"$error":"#N/A"}}]
[null,"OK",{"$f":"VLOOKUP(A805,Contrats!A:C,3,0)","v":{"$error":"#N/A"}},{"$f":"VLOOKUP(A805,Contrats!A:C,2,0)","v":{"$error":"#N/A"}},{"$f":"VLOOKUP(A805,Contrats!A:H,5,0)","v":{"$error":"#N/A"}}]
[null,"OK",{"$f":"VLOOKUP(A806,Contrats!A:C,3,0)","v":{"$error":"#N/A"}},{"$f":"VLOOKUP(A806,Contrats!A:C,2,0)","v":{"$error":"#N/A"}},{"$f":"VLOOKUP(A806,Contrats!A:H,5,0)","v":{"$error":"#N/A"}}]
[null,"OK",{"$f":"VLOOKUP(A807,Contrats!A:C,3,0)","v":{"$error":"#N/A"}},{"$f":"VLOOKUP(A807,Contrats!A:C,2,0)","v":{"$error":"#N/A"}},{"$f":"VLOOKUP(A807,Contrats!A:H,5,0)","v":{"$error":"#N/A"}}]
[null,"OK",{"$f":"VLOOKUP(A808,Contrats!A:C,3,0)","v":{"$error":"#N/A"}},{"$f":"VLOOKUP(A808,Contrats!A:C,2,0)","v":{"$error":"#N/A"}},{"$f":"VLOOKUP(A808,Contrats!A:H,5,0)","v":{"$error":"#N/A"}}]
[null,"OK",{"$f":"VLOOKUP(A809,Contrats!A:C,3,0)","v":{"$error":"#N/A"}},{"$f":"VLOOKUP(A809,Contrats!A:C,2,0)","v":{"$error":"#N/A"}},{"$f":"VLOOKUP(A809,Contrats!A:H,5,0)","v":{"$error":"#N/A"}}]
[null,"OK",{"$f":"VLOOKUP(A810,Contrats!A:C,3,0)","v":{"$error":"#N/A"}},{"$f":"VLOOKUP(A810,Contrats!A:C,2,0)","v":{"$error":"#N/A"}},{"$f":"VLOOKUP(A810,Contrats!A:H,5,0)","v":{"$error":"#N/A"}}]
[null,"OK",{"$f":"VLOOKUP(A811,Contrats!A:C,3,0)","v":{"$error":"#N/A"}},{"$f":"VLOOKUP(A811,Contrats!A:C,2,0)","v":{"$error":"#N/A"}},{"$f":"VLOOKUP(A811,Contrats!A:H,5,0)","v":{"$error":"#N/A"}}]
[null,"OK",{"$f":"VLOOKUP(A812,Contrats!A:C,3,0)","v":{"$error":"#N/A"}},{"$f":"VLOOKUP(A812,Contrats!A:C,2,0)","v":{"$error":"#N/A"}},{"$f":"VLOOKUP(A812,Contrats!A:H,5,0)","v":{"$error":"#N/A"}}]
[null,"OK",{"$f":"VLOOKUP(A813,Contrats!A:C,3,0)","v":{"$error":"#N/A"}},{"$f":"VLOOKUP(A813,Contrats!A:C,2,0)","v":{"$error":"#N/A"}},{"$f":"VLOOKUP(A813,Contrats!A:H,5,0)","v":{"$error":"#N/A"}}]
[null,"OK",{"$f":"VLOOKUP(A814,Contrats!A:C,3,0)","v":{"$error":"#N/A"}},{"$f":"VLOOKUP(A814,Contrats!A:C,2,0)","v":{"$error":"#N/A"}},{"$f":"VLOOKUP(A814,Contrats!A:H,5,0)","v":{"$error":"#N/A"}}]
[null,"OK",{"$f":"VLOOKUP(A815,Contrats!A:C,3,0)","v":{"$error":"#N/A"}},{"$f":"VLOOKUP(A815,Contrats!A:C,2,0)","v":{"$error":"#N/A"}},{"$f":"VLOOKUP(A815,Contrats!A:H,5,0)","v":{"$error":"#N/A"}}]
[null,"OK",{"$f":"VLOOKUP(A816,Contrats!A:C,3,0)","v":{"$error":"#N/A"}},{"$f":"VLOOKUP(A816,Contrats!A:C,2,0)","v":{"$error":"#N/A"}},{"$f":"VLOOKUP(A816,Contrats!A:H,5,0)","v":{"$error":"#N/A"}}]
[null,"OK",{"$f":"VLOOKUP(A817,Contrats!A:C,3,0)","v":{"$error":"#N/A"}},{"$f":"VLOOKUP(A817,Contrats!A:C,2,0)","v":{"$error":"#N/A"}},{"$f":"VLOOKUP(A817,Contrats!A:H,5,0)","v":{"$error":"#N/A"}}]
[null,"OK",{"$f":"VLOOKUP(A818,Contrats!A:C,3,0)","v":{"$error":"#N/A"}},{"$f":"VLOOKUP(A818,Contrats!A:C,2,0)","v":{"$error":"#N/A"}},{"$f":"VLOOKUP(A818,Contrats!A:H,5,0)","v":{"$error":"#N/A"}}]
[null,"OK",{"$f":"VLOOKUP(A819,Contrats!A:C,3,0)","v":{"$error":"#N/A"}},{"$f":"VLOOKUP(A819,Contrats!A:C,2,0)","v":{"$error":"#N/A"}},{"$f":"VLOOKUP(A819,Contrats!A:H,5,0)","v":{"$error":"#N/A"}}]
[null,"OK",{"$f":"VLOOKUP(A820,Contrats!A:C,3,0)","v":{"$error":"#N/A"}},{"$f":"VLOOKUP(A820,Contrats!A:C,2,0)","v":{"$error":"#N/A"}},{"$f":"VLOOKUP(A820,Contrats!A:H,5,0)","v":{"$error":"#N/A"}}]
[null,"OK",{"$f":"VLOOKUP(A821,Contrats!A:C,3,0)","v":{"$error":"#N/A"}},{"$f":"VLOOKUP(A821,Contrats!A:C,2,0)","v":{"$error":"#N/A"}},{"$f":"VLOOKUP(A821,Contrats!A:H,5,0)","v":{"$error":"#N/A"}}]
[null,"OK",{"$f":"VLOOKUP(A822,Contrats!A:C,3,0)","v":{"$error":"#N/A"}},{"$f":"VLOOKUP(A822,Contrats!A:C,2,0)","v":{"$error":"#N/A"}},{"$f":"VLOOKUP(A822,Contrats!A:H,5,0)","v":{"$error":"#N/A"}}]
[null,"OK",{"$f":"VLOOKUP(A823,Contrats!A:C,3,0)","v":{"$error":"#N/A"}},{"$f":"VLOOKUP(A823,Contrats!A:C,2,0)","v":{"$error":"#N/A"}},{"$f":"VLOOKUP(A823,Contrats!A:H,5,0)","v":{"$error":"#N/A"}}]
[null,"OK",{"$f":"VLOOKUP(A824,Contrats!A:C,3,0)","v":{"$error":"#N/A"}},{"$f":"VLOOKUP(A824,Contrats!A:C,2,0)","v":{"$error":"#N/A"}},{"$f":"VLOOKUP(A824,Contrats!A:H,5,0)","v":{"$error":"#N/A"}}]
[null,"OK",{"$f":"VLOOKUP(A825,Contrats!A:C,3,0)","v":{"$error":"#N/A"}},{"$f":"VLOOKUP(A825,Contrats!A:C,2,0)","v":{"$error":"#N/A"}},{"$f":"VLOOKUP(A825,Contrats!A:H,5,0)","v":{"$error":"#N/A"}}]
[null,"OK",{"$f":"VLOOKUP(A826,Contrats!A:C,3,0)","v":{"$error":"#N/A"}},{"$f":"VLOOKUP(A826,Contrats!A:C,2,0)","v":{"$error":"#N/A"}},{"$f":"VLOOKUP(A826,Contrats!A:H,5,0)","v":{"$error":"#N/A"}}]
[null,"OK",{"$f":"VLOOKUP(A827,Contrats!A:C,3,0)","v":{"$error":"#N/A"}},{"$f":"VLOOKUP(A827,Contrats!A:C,2,0)","v":{"$error":"#N/A"}},{"$f":"VLOOKUP(A827,Contrats!A:H,5,0)","v":{"$error":"#N/A"}}]
[null,"OK",{"$f":"VLOOKUP(A828,Contrats!A:C,3,0)","v":{"$error":"#N/A"}},{"$f":"VLOOKUP(A828,Contrats!A:C,2,0)","v":{"$error":"#N/A"}},{"$f":"VLOOKUP(A828,Contrats!A:H,5,0)","v":{"$error":"#N/A"}}]
[null,"OK",{"$f":"VLOOKUP(A829,Contrats!A:C,3,0)","v":{"$error":"#N/A"}},{"$f":"VLOOKUP(A829,Contrats!A:C,2,0)","v":{"$error":"#N/A"}},{"$f":"VLOOKUP(A829,Contrats!A:H,5,0)","v":{"$error":"#N/A"}}]
[null,"OK",{"$f":"VLOOKUP(A830,Contrats!A:C,3,0)","v":{"$error":"#N/A"}},{"$f":"VLOOKUP(A830,Contrats!A:C,2,0)","v":{"$error":"#N/A"}},{"$f":"VLOOKUP(A830,Contrats!A:H,5,0)","v":{"$error":"#N/A"}}]
[null,"OK",{"$f":"VLOOKUP(A831,Contrats!A:C,3,0)","v":{"$error":"#N/A"}},{"$f":"VLOOKUP(A831,Contrats!A:C,2,0)","v":{"$error":"#N/A"}},{"$f":"VLOOKUP(A831,Contrats!A:H,5,0)","v":{"$error":"#N/A"}}]
[null,"OK",{"$f":"VLOOKUP(A832,Contrats!A:C,3,0)","v":{"$error":"#N/A"}},{"$f":"VLOOKUP(A832,Contrats!A:C,2,0)","v":{"$error":"#N/A"}},{"$f":"VLOOKUP(A832,Contrats!A:H,5,0)","v":{"$error":"#N/A"}}]
[null,"OK",{"$f":"VLOOKUP(A833,Contrats!A:C,3,0)","v":{"$error":"#N/A"}},{"$f":"VLOOKUP(A833,Contrats!A:C,2,0)","v":{"$error":"#N/A"}},{"$f":"VLOOKUP(A833,Contrats!A:H,5,0)","v":{"$error":"#N/A"}}]
[null,"OK",{"$f":"VLOOKUP(A834,Contrats!A:C,3,0)","v":{"$error":"#N/A"}},{"$f":"VLOOKUP(A834,Contrats!A:C,2,0)","v":{"$error":"#N/A"}},{"$f":"VLOOKUP(A834,Contrats!A:H,5,0)","v":{"$error":"#N/A"}}]
[null,"OK",{"$f":"VLOOKUP(A835,Contrats!A:C,3,0)","v":{"$error":"#N/A"}},{"$f":"VLOOKUP(A835,Contrats!A:C,2,0)","v":{"$error":"#N/A"}},{"$f":"VLOOKUP(A835,Contrats!A:H,5,0)","v":{"$error":"#N/A"}}]
[null,"OK",{"$f":"VLOOKUP(A836,Contrats!A:C,3,0)","v":{"$error":"#N/A"}},{"$f":"VLOOKUP(A836,Contrats!A:C,2,0)","v":{"$error":"#N/A"}},{"$f":"VLOOKUP(A836,Contrats!A:H,5,0)","v":{"$error":"#N/A"}}]
[null,"OK",{"$f":"VLOOKUP(A837,Contrats!A:C,3,0)","v":{"$error":"#N/A"}},{"$f":"VLOOKUP(A837,Contrats!A:C,2,0)","v":{"$error":"#N/A"}},{"$f":"VLOOKUP(A837,Contrats!A:H,5,0)","v":{"$error":"#N/A"}}]
[null,"OK",{"$f":"VLOOKUP(A838,Contrats!A:C,3,0)","v":{"$error":"#N/A"}},{"$f":"VLOOKUP(A838,Contrats!A:C,2,0)","v":{"$error":"#N/A"}},{"$f":"VLOOKUP(A838,Contrats!A:H,5,0)","v":{"$error":"#N/A"}}]
[null,"OK",{"$f":"VLOOKUP(A839,Contrats!A:C,3,0)","v":{"$error":"#N/A"}},{"$f":"VLOOKUP(A839,Contrats!A:C,2,0)","v":{"$error":"#N/A"}},{"$f":"VLOOKUP(A839,Contrats!A:H,5,0)","v":{"$error":"#N/A"}}]
[null,"OK",{"$f":"VLOOKUP(A840,Contrats!A:C,3,0)","v":{"$error":"#N/A"}},{"$f":"VLOOKUP(A840,Contrats!A:C,2,0)","v":{"$error":"#N/A"}},{"$f":"VLOOKUP(A840,Contrats!A:H,5,0)","v":{"$error":"#N/A"}}]
[null,"OK",{"$f":"VLOOKUP(A841,Contrats!A:C,3,0)","v":{"$error":"#N/A"}},{"$f":"VLOOKUP(A841,Contrats!A:C,2,0)","v":{"$error":"#N/A"}},{"$f":"VLOOKUP(A841,Contrats!A:H,5,0)","v":{"$error":"#N/A"}}]
[null,"OK",{"$f":"VLOOKUP(A842,Contrats!A:C,3,0)","v":{"$error":"#N/A"}},{"$f":"VLOOKUP(A842,Contrats!A:C,2,0)","v":{"$error":"#N/A"}},{"$f":"VLOOKUP(A842,Contrats!A:H,5,0)","v":{"$error":"#N/A"}}]
[null,"OK",{"$f":"VLOOKUP(A843,Contrats!A:C,3,0)","v":{"$error":"#N/A"}},{"$f":"VLOOKUP(A843,Contrats!A:C,2,0)","v":{"$error":"#N/A"}},{"$f":"VLOOKUP(A843,Contrats!A:H,5,0)","v":{"$error":"#N/A"}}]
[null,"OK",{"$f":"VLOOKUP(A844,Contrats!A:C,3,0)","v":{"$error":"#N/A"}},{"$f":"VLOOKUP(A844,Contrats!A:C,2,0)","v":{"$error":"#N/A"}},{"$f":"VLOOKUP(A844,Contrats!A:H,5,0)","v":{"$error":"#N/A"}}]
[null,"OK",{"$f":"VLOOKUP(A845,Contrats!A:C,3,0)","v":{"$error":"#N/A"}},{"$f":"VLOOKUP(A845,Contrats!A:C,2,0)","v":{"$error":"#N/A"}},{"$f":"VLOOKUP(A845,Contrats!A:H,5,0)","v":{"$error":"#N/A"}}]
[null,"OK",{"$f":"VLOOKUP(A846,Contrats!A:C,3,0)","v":{"$error":"#N/A"}},{"$f":"VLOOKUP(A846,Contrats!A:C,2,0)","v":{"$error":"#N/A"}},{"$f":"VLOOKUP(A846,Contrats!A:H,5,0)","v":{"$error":"#N/A"}}]
[null,"OK",{"$f":"VLOOKUP(A847,Contrats!A:C,3,0)","v":{"$error":"#N/A"}},{"$f":"VLOOKUP(A847,Contrats!A:C,2,0)","v":{"$error":"#N/A"}},{"$f":"VLOOKUP(A847,Contrats!A:H,5,0)","v":{"$error":"#N/A"}}]
[null,"OK",{"$f":"VLOOKUP(A848,Contrats!A:C,3,0)","v":{"$error":"#N/A"}},{"$f":"VLOOKUP(A848,Contrats!A:C,2,0)","v":{"$error":"#N/A"}},{"$f":"VLOOKUP(A848,Contrats!A:H,5,0)","v":{"$error":"#N/A"}}]
[null,"OK",{"$f":"VLOOKUP(A849,Contrats!A:C,3,0)","v":{"$error":"#N/A"}},{"$f":"VLOOKUP(A849,Contrats!A:C,2,0)","v":{"$error":"#N/A"}},{"$f":"VLOOKUP(A849,Contrats!A:H,5,0)","v":{"$error":"#N/A"}}]
[null,"OK",{"$f":"VLOOKUP(A850,Contrats!A:C,3,0)","v":{"$error":"#N/A"}},{"$f":"VLOOKUP(A850,Contrats!A:C,2,0)","v":{"$error":"#N/A"}},{"$f":"VLOOKUP(A850,Contrats!A:H,5,0)","v":{"$error":"#N/A"}}]
[null,"OK",{"$f":"VLOOKUP(A851,Contrats!A:C,3,0)","v":{"$error":"#N/A"}},{"$f":"VLOOKUP(A851,Contrats!A:C,2,0)","v":{"$error":"#N/A"}},{"$f":"VLOOKUP(A851,Contrats!A:H,5,0)","v":{"$error":"#N/A"}}]
[null,"OK",{"$f":"VLOOKUP(A852,Contrats!A:C,3,0)","v":{"$error":"#N/A"}},{"$f":"VLOOKUP(A852,Contrats!A:C,2,0)","v":{"$error":"#N/A"}},{"$f":"VLOOKUP(A852,Contrats!A:H,5,0)","v":{"$error":"#N/A"}}]
[null,"OK",{"$f":"VLOOKUP(A853,Contrats!A:C,3,0)","v":{"$error":"#N/A"}},{"$f":"VLOOKUP(A853,Contrats!A:C,2,0)","v":{"$error":"#N/A"}},{"$f":"VLOOKUP(A853,Contrats!A:H,5,0)","v":{"$error":"#N/A"}}]
[null,"OK",{"$f":"VLOOKUP(A854,Contrats!A:C,3,0)","v":{"$error":"#N/A"}},{"$f":"VLOOKUP(A854,Contrats!A:C,2,0)","v":{"$error":"#N/A"}},{"$f":"VLOOKUP(A854,Contrats!A:H,5,0)","v":{"$error":"#N/A"}}]
[null,"OK",{"$f":"VLOOKUP(A855,Contrats!A:C,3,0)","v":{"$error":"#N/A"}},{"$f":"VLOOKUP(A855,Contrats!A:C,2,0)","v":{"$error":"#N/A"}},{"$f":"VLOOKUP(A855,Contrats!A:H,5,0)","v":{"$error":"#N/A"}}]
[null,"OK",{"$f":"VLOOKUP(A856,Contrats!A:C,3,0)","v":{"$error":"#N/A"}},{"$f":"VLOOKUP(A856,Contrats!A:C,2,0)","v":{"$error":"#N/A"}},{"$f":"VLOOKUP(A856,Contrats!A:H,5,0)","v":{"$error":"#N/A"}}]
[null,"OK",{"$f":"VLOOKUP(A857,Contrats!A:C,3,0)","v":{"$error":"#N/A"}},{"$f":"VLOOKUP(A857,Contrats!A:C,2,0)","v":{"$error":"#N/A"}},{"$f":"VLOOKUP(A857,Contrats!A:H,5,0)","v":{"$error":"#N/A"}}]
[null,"OK",{"$f":"VLOOKUP(A858,Contrats!A:C,3,0)","v":{"$error":"#N/A"}},{"$f":"VLOOKUP(A858,Contrats!A:C,2,0)","v":{"$error":"#N/A"}},{"$f":"VLOOKUP(A858,Contrats!A:H,5,0)","v":{"$error":"#N/A"}}]
[null,"OK",{"$f":"VLOOKUP(A859,Contrats!A:C,3,0)","v":{"$error":"#N/A"}},{"$f":"VLOOKUP(A859,Contrats!A:C,2,0)","v":{"$error":"#N/A"}},{"$f":"VLOOKUP(A859,Contrats!A:H,5,0)","v":{"$error":"#N/A"}}]
[null,"OK",{"$f":"VLOOKUP(A860,Contrats!A:C,3,0)","v":{"$error":"#N/A"}},{"$f":"VLOOKUP(A860,Contrats!A:C,2,0)","v":{"$error":"#N/A"}},{"$f":"VLOOKUP(A860,Contrats!A:H,5,0)","v":{"$error":"#N/A"}}]
[null,"OK",{"$f":"VLOOKUP(A861,Contrats!A:C,3,0)","v":{"$error":"#N/A"}},{"$f":"VLOOKUP(A861,Contrats!A:C,2,0)","v":{"$error":"#N/A"}},{"$f":"VLOOKUP(A861,Contrats!A:H,5,0)","v":{"$error":"#N/A"}}]
[null,"OK",{"$f":"VLOOKUP(A862,Contrats!A:C,3,0)","v":{"$error":"#N/A"}},{"$f":"VLOOKUP(A862,Contrats!A:C,2,0)","v":{"$error":"#N/A"}},{"$f":"VLOOKUP(A862,Contrats!A:H,5,0)","v":{"$error":"#N/A"}}]
[null,"OK",{"$f":"VLOOKUP(A863,Contrats!A:C,3,0)","v":{"$error":"#N/A"}},{"$f":"VLOOKUP(A863,Contrats!A:C,2,0)","v":{"$error":"#N/A"}},{"$f":"VLOOKUP(A863,Contrats!A:H,5,0)","v":{"$error":"#N/A"}}]
[null,"OK",{"$f":"VLOOKUP(A864,Contrats!A:C,3,0)","v":{"$error":"#N/A"}},{"$f":"VLOOKUP(A864,Contrats!A:C,2,0)","v":{"$error":"#N/A"}},{"$f":"VLOOKUP(A864,Contrats!A:H,5,0)","v":{"$error":"#N/A"}}]
[null,"OK",{"$f":"VLOOKUP(A865,Contrats!A:C,3,0)","v":{"$error":"#N/A"}},{"$f":"VLOOKUP(A865,Contrats!A:C,2,0)","v":{"$error":"#N/A"}},{"$f":"VLOOKUP(A865,Contrats!A:H,5,0)","v":{"$error":"#N/A"}}]
[null,"OK",{"$f":"VLOOKUP(A866,Contrats!A:C,3,0)","v":{"$error":"#N/A"}},{"$f":"VLOOKUP(A866,Contrats!A:C,2,0)","v":{"$error":"#N/A"}},{"$f":"VLOOKUP(A866,Contrats!A:H,5,0)","v":{"$error":"#N/A"}}]
[null,"OK",{"$f":"VLOOKUP(A867,Contrats!A:C,3,0)","v":{"$error":"#N/A"}},{"$f":"VLOOKUP(A867,Contrats!A:C,2,0)","v":{"$error":"#N/A"}},{"$f":"VLOOKUP(A867,Contrats!A:H,5,0)","v":{"$error":"#N/A"}}]
[null,"OK",{"$f":"VLOOKUP(A868,Contrats!A:C,3,0)","v":{"$error":"#N/A"}},{"$f":"VLOOKUP(A868,Contrats!A:C,2,0)","v":{"$error":"#N/A"}},{"$f":"VLOOKUP(A868,Contrats!A:H,5,0)","v":{"$error":"#N/A"}}]
[null,"OK",{"$f":"VLOOKUP(A869,Contrats!A:C,3,0)","v":{"$error":"#N/A"}},{"$f":"VLOOKUP(A869,Contrats!A:C,2,0)","v":{"$error":"#N/A"}},{"$f":"VLOOKUP(A869,Contrats!A:H,5,0)","v":{"$error":"#N/A"}}]
[null,"OK",{"$f":"VLOOKUP(A870,Contrats!A:C,3,0)","v":{"$error":"#N/A"}},{"$f":"VLOOKUP(A870,Contrats!A:C,2,0)","v":{"$error":"#N/A"}},{"$f":"VLOOKUP(A870,Contrats!A:H,5,0)","v":{"$error":"#N/A"}}]
[null,"OK",{"$f":"VLOOKUP(A871,Contrats!A:C,3,0)","v":{"$error":"#N/A"}},{"$f":"VLOOKUP(A871,Contrats!A:C,2,0)","v":{"$error":"#N/A"}},{"$f":"VLOOKUP(A871,Contrats!A:H,5,0)","v":{"$error":"#N/A"}}]
[null,"OK",{"$f":"VLOOKUP(A872,Contrats!A:C,3,0)","v":{"$error":"#N/A"}},{"$f":"VLOOKUP(A872,Contrats!A:C,2,0)","v":{"$error":"#N/A"}},{"$f":"VLOOKUP(A872,Contrats!A:H,5,0)","v":{"$error":"#N/A"}}]
[null,"OK",{"$f":"VLOOKUP(A873,Contrats!A:C,3,0)","v":{"$error":"#N/A"}},{"$f":"VLOOKUP(A873,Contrats!A:C,2,0)","v":{"$error":"#N/A"}},{"$f":"VLOOKUP(A873,Contrats!A:H,5,0)","v":{"$error":"#N/A"}}]
[null,"OK",{"$f":"VLOOKUP(A874,Contrats!A:C,3,0)","v":{"$error":"#N/A"}},{"$f":"VLOOKUP(A874,Contrats!A:C,2,0)","v":{"$error":"#N/A"}},{"$f":"VLOOKUP(A874,Contrats!A:H,5,0)","v":{"$error":"#N/A"}}]
[null,"OK",{"$f":"VLOOKUP(A875,Contrats!A:C,3,0)","v":{"$error":"#N/A"}},{"$f":"VLOOKUP(A875,Contrats!A:C,2,0)","v":{"$error":"#N/A"}},{"$f":"VLOOKUP(A875,Contrats!A:H,5,0)","v":{"$error":"#N/A"}}]
[null,"OK",{"$f":"VLOOKUP(A876,Contrats!A:C,3,0)","v":{"$error":"#N/A"}},{"$f":"VLOOKUP(A876,Contrats!A:C,2,0)","v":{"$error":"#N/A"}},{"$f":"VLOOKUP(A876,Contrats!A:H,5,0)","v":{"$error":"#N/A"}}]
[null,"OK",{"$f":"VLOOKUP(A877,Contrats!A:C,3,0)","v":{"$error":"#N/A"}},{"$f":"VLOOKUP(A877,Contrats!A:C,2,0)","v":{"$error":"#N/A"}},{"$f":"VLOOKUP(A877,Contrats!A:H,5,0)","v":{"$error":"#N/A"}}]
[null,"OK",{"$f":"VLOOKUP(A878,Contrats!A:C,3,0)","v":{"$error":"#N/A"}},{"$f":"VLOOKUP(A878,Contrats!A:C,2,0)","v":{"$error":"#N/A"}},{"$f":"VLOOKUP(A878,Contrats!A:H,5,0)","v":{"$error":"#N/A"}}]
[null,"OK",{"$f":"VLOOKUP(A879,Contrats!A:C,3,0)","v":{"$error":"#N/A"}},{"$f":"VLOOKUP(A879,Contrats!A:C,2,0)","v":{"$error":"#N/A"}},{"$f":"VLOOKUP(A879,Contrats!A:H,5,0)","v":{"$error":"#N/A"}}]
[null,"OK",{"$f":"VLOOKUP(A880,Contrats!A:C,3,0)","v":{"$error":"#N/A"}},{"$f":"VLOOKUP(A880,Contrats!A:C,2,0)","v":{"$error":"#N/A"}},{"$f":"VLOOKUP(A880,Contrats!A:H,5,0)","v":{"$error":"#N/A"}}]
[null,"OK",{"$f":"VLOOKUP(A881,Contrats!A:C,3,0)","v":{"$error":"#N/A"}},{"$f":"VLOOKUP(A881,Contrats!A:C,2,0)","v":{"$error":"#N/A"}},{"$f":"VLOOKUP(A881,Contrats!A:H,5,0)","v":{"$error":"#N/A"}}]
[null,"OK",{"$f":"VLOOKUP(A882,Contrats!A:C,3,0)","v":{"$error":"#N/A"}},{"$f":"VLOOKUP(A882,Contrats!A:C,2,0)","v":{"$error":"#N/A"}},{"$f":"VLOOKUP(A882,Contrats!A:H,5,0)","v":{"$error":"#N/A"}}]
[null,"OK",{"$f":"VLOOKUP(A883,Contrats!A:C,3,0)","v":{"$error":"#N/A"}},{"$f":"VLOOKUP(A883,Contrats!A:C,2,0)","v":{"$error":"#N/A"}},{"$f":"VLOOKUP(A883,Contrats!A:H,5,0)","v":{"$error":"#N/A"}}]
[null,"OK",{"$f":"VLOOKUP(A884,Contrats!A:C,3,0)","v":{"$error":"#N/A"}},{"$f":"VLOOKUP(A884,Contrats!A:C,2,0)","v":{"$error":"#N/A"}},{"$f":"VLOOKUP(A884,Contrats!A:H,5,0)","v":{"$error":"#N/A"}}]
[null,"OK",{"$f":"VLOOKUP(A885,Contrats!A:C,3,0)","v":{"$error":"#N/A"}},{"$f":"VLOOKUP(A885,Contrats!A:C,2,0)","v":{"$error":"#N/A"}},{"$f":"VLOOKUP(A885,Contrats!A:H,5,0)","v":{"$error":"#N/A"}}]
[null,"OK",{"$f":"VLOOKUP(A886,Contrats!A:C,3,0)","v":{"$error":"#N/A"}},{"$f":"VLOOKUP(A886,Contrats!A:C,2,0)","v":{"$error":"#N/A"}},{"$f":"VLOOKUP(A886,Contrats!A:H,5,0)","v":{"$error":"#N/A"}}]
[null,"OK",{"$f":"VLOOKUP(A887,Contrats!A:C,3,0)","v":{"$error":"#N/A"}},{"$f":"VLOOKUP(A887,Contrats!A:C,2,0)","v":{"$error":"#N/A"}},{"$f":"VLOOKUP(A887,Contrats!A:H,5,0)","v":{"$error":"#N/A"}}]
[null,"OK",{"$f":"VLOOKUP(A888,Contrats!A:C,3,0)","v":{"$error":"#N/A"}},{"$f":"VLOOKUP(A888,Contrats!A:C,2,0)","v":{"$error":"#N/A"}},{"$f":"VLOOKUP(A888,Contrats!A:H,5,0)","v":{"$error":"#N/A"}}]
[null,"OK",{"$f":"VLOOKUP(A889,Contrats!A:C,3,0)","v":{"$error":"#N/A"}},{"$f":"VLOOKUP(A889,Contrats!A:C,2,0)","v":{"$error":"#N/A"}},{"$f":"VLOOKUP(A889,Contrats!A:H,5,0)","v":{"$error":"#N/A"}}]
[null,"OK",{"$f":"VLOOKUP(A890,Contrats!A:C,3,0)","v":{"$error":"#N/A"}},{"$f":"VLOOKUP(A890,Contrats!A:C,2,0)","v":{"$error":"#N/A"}},{"$f":"VLOOKUP(A890,Contrats!A:H,5,0)","v":{"$error":"#N/A"}}]
[null,"OK",{"$f":"VLOOKUP(A891,Contrats!A:C,3,0)","v":{"$error":"#N/A"}},{"$f":"VLOOKUP(A891,Contrats!A:C,2,0)","v":{"$error":"#N/A"}},{"$f":"VLOOKUP(A891,Contrats!A:H,5,0)","v":{"$error":"#N/A"}}]
[null,"OK",{"$f":"VLOOKUP(A892,Contrats!A:C,3,0)","v":{"$error":"#N/A"}},{"$f":"VLOOKUP(A892,Contrats!A:C,2,0)","v":{"$error":"#N/A"}},{"$f":"VLOOKUP(A892,Contrats!A:H,5,0)","v":{"$error":"#N/A"}}]
[null,"OK",{"$f":"VLOOKUP(A893,Contrats!A:C,3,0)","v":{"$error":"#N/A"}},{"$f":"VLOOKUP(A893,Contrats!A:C,2,0)","v":{"$error":"#N/A"}},{"$f":"VLOOKUP(A893,Contrats!A:H,5,0)","v":{"$error":"#N/A"}}]
[null,"OK",{"$f":"VLOOKUP(A894,Contrats!A:C,3,0)","v":{"$error":"#N/A"}},{"$f":"VLOOKUP(A894,Contrats!A:C,2,0)","v":{"$error":"#N/A"}},{"$f":"VLOOKUP(A894,Contrats!A:H,5,0)","v":{"$error":"#N/A"}}]
[null,"OK",{"$f":"VLOOKUP(A895,Contrats!A:C,3,0)","v":{"$error":"#N/A"}},{"$f":"VLOOKUP(A895,Contrats!A:C,2,0)","v":{"$error":"#N/A"}},{"$f":"VLOOKUP(A895,Contrats!A:H,5,0)","v":{"$error":"#N/A"}}]
[null,"OK",{"$f":"VLOOKUP(A896,Contrats!A:C,3,0)","v":{"$error":"#N/A"}},{"$f":"VLOOKUP(A896,Contrats!A:C,2,0)","v":{"$error":"#N/A"}},{"$f":"VLOOKUP(A896,Contrats!A:H,5,0)","v":{"$error":"#N/A"}}]
[null,"OK",{"$f":"VLOOKUP(A897,Contrats!A:C,3,0)","v":{"$error":"#N/A"}},{"$f":"VLOOKUP(A897,Contrats!A:C,2,0)","v":{"$error":"#N/A"}},{"$f":"VLOOKUP(A897,Contrats!A:H,5,0)","v":{"$error":"#N/A"}}]
[null,"OK",{"$f":"VLOOKUP(A898,Contrats!A:C,3,0)","v":{"$error":"#N/A"}},{"$f":"VLOOKUP(A898,Contrats!A:C,2,0)","v":{"$error":"#N/A"}},{"$f":"VLOOKUP(A898,Contrats!A:H,5,0)","v":{"$error":"#N/A"}}]
[null,"OK",{"$f":"VLOOKUP(A899,Contrats!A:C,3,0)","v":{"$error":"#N/A"}},{"$f":"VLOOKUP(A899,Contrats!A:C,2,0)","v":{"$error":"#N/A"}},{"$f":"VLOOKUP(A899,Contrats!A:H,5,0)","v":{"$error":"#N/A"}}]
[null,"OK",{"$f":"VLOOKUP(A900,Contrats!A:C,3,0)","v":{"$error":"#N/A"}},{"$f":"VLOOKUP(A900,Contrats!A:C,2,0)","v":{"$error":"#N/A"}},{"$f":"VLOOKUP(A900,Contrats!A:H,5,0)","v":{"$error":"#N/A"}}]
[null,"OK",{"$f":"VLOOKUP(A901,Contrats!A:C,3,0)","v":{"$error":"#N/A"}},{"$f":"VLOOKUP(A901,Contrats!A:C,2,0)","v":{"$error":"#N/A"}},{"$f":"VLOOKUP(A901,Contrats!A:H,5,0)","v":{"$error":"#N/A"}}]
[null,"OK",{"$f":"VLOOKUP(A902,Contrats!A:C,3,0)","v":{"$error":"#N/A"}},{"$f":"VLOOKUP(A902,Contrats!A:C,2,0)","v":{"$error":"#N/A"}},{"$f":"VLOOKUP(A902,Contrats!A:H,5,0)","v":{"$error":"#N/A"}}]
[null,"OK",{"$f":"VLOOKUP(A903,Contrats!A:C,3,0)","v":{"$error":"#N/A"}},{"$f":"VLOOKUP(A903,Contrats!A:C,2,0)","v":{"$error":"#N/A"}},{"$f":"VLOOKUP(A903,Contrats!A:H,5,0)","v":{"$error":"#N/A"}}]
[null,"OK",{"$f":"VLOOKUP(A904,Contrats!A:C,3,0)","v":{"$error":"#N/A"}},{"$f":"VLOOKUP(A904,Contrats!A:C,2,0)","v":{"$error":"#N/A"}},{"$f":"VLOOKUP(A904,Contrats!A:H,5,0)","v":{"$error":"#N/A"}}]
[null,"OK",{"$f":"VLOOKUP(A905,Contrats!A:C,3,0)","v":{"$error":"#N/A"}},{"$f":"VLOOKUP(A905,Contrats!A:C,2,0)","v":{"$error":"#N/A"}},{"$f":"VLOOKUP(A905,Contrats!A:H,5,0)","v":{"$error":"#N/A"}}]
[null,"OK",{"$f":"VLOOKUP(A906,Contrats!A:C,3,0)","v":{"$error":"#N/A"}},{"$f":"VLOOKUP(A906,Contrats!A:C,2,0)","v":{"$error":"#N/A"}},{"$f":"VLOOKUP(A906,Contrats!A:H,5,0)","v":{"$error":"#N/A"}}]
[null,"OK",{"$f":"VLOOKUP(A907,Contrats!A:C,3,0)","v":{"$error":"#N/A"}},{"$f":"VLOOKUP(A907,Contrats!A:C,2,0)","v":{"$error":"#N/A"}},{"$f":"VLOOKUP(A907,Contrats!A:H,5,0)","v":{"$error":"#N/A"}}]
[null,"OK",{"$f":"VLOOKUP(A908,Contrats!A:C,3,0)","v":{"$error":"#N/A"}},{"$f":"VLOOKUP(A908,Contrats!A:C,2,0)","v":{"$error":"#N/A"}},{"$f":"VLOOKUP(A908,Contrats!A:H,5,0)","v":{"$error":"#N/A"}}]
[null,"OK",{"$f":"VLOOKUP(A909,Contrats!A:C,3,0)","v":{"$error":"#N/A"}},{"$f":"VLOOKUP(A909,Contrats!A:C,2,0)","v":{"$error":"#N/A"}},{"$f":"VLOOKUP(A909,Contrats!A:H,5,0)","v":{"$error":"#N/A"}}]
[null,"OK",{"$f":"VLOOKUP(A910,Contrats!A:C,3,0)","v":{"$error":"#N/A"}},{"$f":"VLOOKUP(A910,Contrats!A:C,2,0)","v":{"$error":"#N/A"}},{"$f":"VLOOKUP(A910,Contrats!A:H,5,0)","v":{"$error":"#N/A"}}]
[null,"OK",{"$f":"VLOOKUP(A911,Contrats!A:C,3,0)","v":{"$error":"#N/A"}},{"$f":"VLOOKUP(A911,Contrats!A:C,2,0)","v":{"$error":"#N/A"}},{"$f":"VLOOKUP(A911,Contrats!A:H,5,0)","v":{"$error":"#N/A"}}]
[null,"OK",{"$f":"VLOOKUP(A912,Contrats!A:C,3,0)","v":{"$error":"#N/A"}},{"$f":"VLOOKUP(A912,Contrats!A:C,2,0)","v":{"$error":"#N/A"}},{"$f":"VLOOKUP(A912,Contrats!A:H,5,0)","v":{"$error":"#N/A"}}]
[null,"OK",{"$f":"VLOOKUP(A913,Contrats!A:C,3,0)","v":{"$error":"#N/A"}},{"$f":"VLOOKUP(A913,Contrats!A:C,2,0)","v":{"$error":"#N/A"}},{"$f":"VLOOKUP(A913,Contrats!A:H,5,0)","v":{"$error":"#N/A"}}]
[null,"OK",{"$f":"VLOOKUP(A914,Contrats!A:C,3,0)","v":{"$error":"#N/A"}},{"$f":"VLOOKUP(A914,Contrats!A:C,2,0)","v":{"$error":"#N/A"}},{"$f":"VLOOKUP(A914,Contrats!A:H,5,0)","v":{"$error":"#N/A"}}]
[null,"OK",{"$f":"VLOOKUP(A915,Contrats!A:C,3,0)","v":{"$error":"#N/A"}},{"$f":"VLOOKUP(A915,Contrats!A:C,2,0)","v":{"$error":"#N/A"}},{"$f":"VLOOKUP(A915,Contrats!A:H,5,0)","v":{"$error":"#N/A"}}]
[null,"OK",{"$f":"VLOOKUP(A916,Contrats!A:C,3,0)","v":{"$error":"#N/A"}},{"$f":"VLOOKUP(A916,Contrats!A:C,2,0)","v":{"$error":"#N/A"}},{"$f":"VLOOKUP(A916,Contrats!A:H,5,0)","v":{"$error":"#N/A"}}]
[null,"OK",{"$f":"VLOOKUP(A917,Contrats!A:C,3,0)","v":{"$error":"#N/A"}},{"$f":"VLOOKUP(A917,Contrats!A:C,2,0)","v":{"$error":"#N/A"}},{"$f":"VLOOKUP(A917,Contrats!A:H,5,0)","v":{"$error":"#N/A"}}]
[null,"OK",{"$f":"VLOOKUP(A918,Contrats!A:C,3,0)","v":{"$error":"#N/A"}},{"$f":"VLOOKUP(A918,Contrats!A:C,2,0)","v":{"$error":"#N/A"}},{"$f":"VLOOKUP(A918,Contrats!A:H,5,0)","v":{"$error":"#N/A"}}]
[null,"OK",{"$f":"VLOOKUP(A919,Contrats!A:C,3,0)","v":{"$error":"#N/A"}},{"$f":"VLOOKUP(A919,Contrats!A:C,2,0)","v":{"$error":"#N/A"}},{"$f":"VLOOKUP(A919,Contrats!A:H,5,0)","v":{"$error":"#N/A"}}]
[null,"OK",{"$f":"VLOOKUP(A920,Contrats!A:C,3,0)","v":{"$error":"#N/A"}},{"$f":"VLOOKUP(A920,Contrats!A:C,2,0)","v":{"$error":"#N/A"}},{"$f":"VLOOKUP(A920,Contrats!A:H,5,0)","v":{"$error":"#N/A"}}]
[null,"OK",{"$f":"VLOOKUP(A921,Contrats!A:C,3,0)","v":{"$error":"#N/A"}},{"$f":"VLOOKUP(A921,Contrats!A:C,2,0)","v":{"$error":"#N/A"}},{"$f":"VLOOKUP(A921,Contrats!A:H,5,0)","v":{"$error":"#N/A"}}]
[null,"OK",{"$f":"VLOOKUP(A922,Contrats!A:C,3,0)","v":{"$error":"#N/A"}},{"$f":"VLOOKUP(A922,Contrats!A:C,2,0)","v":{"$error":"#N/A"}},{"$f":"VLOOKUP(A922,Contrats!A:H,5,0)","v":{"$error":"#N/A"}}]
[null,"OK",{"$f":"VLOOKUP(A923,Contrats!A:C,3,0)","v":{"$error":"#N/A"}},{"$f":"VLOOKUP(A923,Contrats!A:C,2,0)","v":{"$error":"#N/A"}},{"$f":"VLOOKUP(A923,Contrats!A:H,5,0)","v":{"$error":"#N/A"}}]
[null,"OK",{"$f":"VLOOKUP(A924,Contrats!A:C,3,0)","v":{"$error":"#N/A"}},{"$f":"VLOOKUP(A924,Contrats!A:C,2,0)","v":{"$error":"#N/A"}},{"$f":"VLOOKUP(A924,Contrats!A:H,5,0)","v":{"$error":"#N/A"}}]
[null,"OK",{"$f":"VLOOKUP(A925,Contrats!A:C,3,0)","v":{"$error":"#N/A"}},{"$f":"VLOOKUP(A925,Contrats!A:C,2,0)","v":{"$error":"#N/A"}},{"$f":"VLOOKUP(A925,Contrats!A:H,5,0)","v":{"$error":"#N/A"}}]
[null,"OK",{"$f":"VLOOKUP(A926,Contrats!A:C,3,0)","v":{"$error":"#N/A"}},{"$f":"VLOOKUP(A926,Contrats!A:C,2,0)","v":{"$error":"#N/A"}},{"$f":"VLOOKUP(A926,Contrats!A:H,5,0)","v":{"$error":"#N/A"}}]
[null,"OK",{"$f":"VLOOKUP(A927,Contrats!A:C,3,0)","v":{"$error":"#N/A"}},{"$f":"VLOOKUP(A927,Contrats!A:C,2,0)","v":{"$error":"#N/A"}},{"$f":"VLOOKUP(A927,Contrats!A:H,5,0)","v":{"$error":"#N/A"}}]
[null,"OK",{"$f":"VLOOKUP(A928,Contrats!A:C,3,0)","v":{"$error":"#N/A"}},{"$f":"VLOOKUP(A928,Contrats!A:C,2,0)","v":{"$error":"#N/A"}},{"$f":"VLOOKUP(A928,Contrats!A:H,5,0)","v":{"$error":"#N/A"}}]
[null,"OK",{"$f":"VLOOKUP(A929,Contrats!A:C,3,0)","v":{"$error":"#N/A"}},{"$f":"VLOOKUP(A929,Contrats!A:C,2,0)","v":{"$error":"#N/A"}},{"$f":"VLOOKUP(A929,Contrats!A:H,5,0)","v":{"$error":"#N/A"}}]
[null,"OK",{"$f":"VLOOKUP(A930,Contrats!A:C,3,0)","v":{"$error":"#N/A"}},{"$f":"VLOOKUP(A930,Contrats!A:C,2,0)","v":{"$error":"#N/A"}},{"$f":"VLOOKUP(A930,Contrats!A:H,5,0)","v":{"$error":"#N/A"}}]
[null,"OK",{"$f":"VLOOKUP(A931,Contrats!A:C,3,0)","v":{"$error":"#N/A"}},{"$f":"VLOOKUP(A931,Contrats!A:C,2,0)","v":{"$error":"#N/A"}},{"$f":"VLOOKUP(A931,Contrats!A:H,5,0)","v":{"$error":"#N/A"}}]
[null,"OK",{"$f":"VLOOKUP(A932,Contrats!A:C,3,0)","v":{"$error":"#N/A"}},{"$f":"VLOOKUP(A932,Contrats!A:C,2,0)","v":{"$error":"#N/A"}},{"$f":"VLOOKUP(A932,Contrats!A:H,5,0)","v":{"$error":"#N/A"}}]
[null,"OK",{"$f":"VLOOKUP(A933,Contrats!A:C,3,0)","v":{"$error":"#N/A"}},{"$f":"VLOOKUP(A933,Contrats!A:C,2,0)","v":{"$error":"#N/A"}},{"$f":"VLOOKUP(A933,Contrats!A:H,5,0)","v":{"$error":"#N/A"}}]
[null,"OK",{"$f":"VLOOKUP(A934,Contrats!A:C,3,0)","v":{"$error":"#N/A"}},{"$f":"VLOOKUP(A934,Contrats!A:C,2,0)","v":{"$error":"#N/A"}},{"$f":"VLOOKUP(A934,Contrats!A:H,5,0)","v":{"$error":"#N/A"}}]
[null,"OK",{"$f":"VLOOKUP(A935,Contrats!A:C,3,0)","v":{"$error":"#N/A"}},{"$f":"VLOOKUP(A935,Contrats!A:C,2,0)","v":{"$error":"#N/A"}},{"$f":"VLOOKUP(A935,Contrats!A:H,5,0)","v":{"$error":"#N/A"}}]
[null,"OK",{"$f":"VLOOKUP(A936,Contrats!A:C,3,0)","v":{"$error":"#N/A"}},{"$f":"VLOOKUP(A936,Contrats!A:C,2,0)","v":{"$error":"#N/A"}},{"$f":"VLOOKUP(A936,Contrats!A:H,5,0)","v":{"$error":"#N/A"}}]
[null,"OK",{"$f":"VLOOKUP(A937,Contrats!A:C,3,0)","v":{"$error":"#N/A"}},{"$f":"VLOOKUP(A937,Contrats!A:C,2,0)","v":{"$error":"#N/A"}},{"$f":"VLOOKUP(A937,Contrats!A:H,5,0)","v":{"$error":"#N/A"}}]
[null,"OK",{"$f":"VLOOKUP(A938,Contrats!A:C,3,0)","v":{"$error":"#N/A"}},{"$f":"VLOOKUP(A938,Contrats!A:C,2,0)","v":{"$error":"#N/A"}},{"$f":"VLOOKUP(A938,Contrats!A:H,5,0)","v":{"$error":"#N/A"}}]
[null,"OK",{"$f":"VLOOKUP(A939,Contrats!A:C,3,0)","v":{"$error":"#N/A"}},{"$f":"VLOOKUP(A939,Contrats!A:C,2,0)","v":{"$error":"#N/A"}},{"$f":"VLOOKUP(A939,Contrats!A:H,5,0)","v":{"$error":"#N/A"}}]
[null,"OK",{"$f":"VLOOKUP(A940,Contrats!A:C,3,0)","v":{"$error":"#N/A"}},{"$f":"VLOOKUP(A940,Contrats!A:C,2,0)","v":{"$error":"#N/A"}},{"$f":"VLOOKUP(A940,Contrats!A:H,5,0)","v":{"$error":"#N/A"}}]
[null,"OK",{"$f":"VLOOKUP(A941,Contrats!A:C,3,0)","v":{"$error":"#N/A"}},{"$f":"VLOOKUP(A941,Contrats!A:C,2,0)","v":{"$error":"#N/A"}},{"$f":"VLOOKUP(A941,Contrats!A:H,5,0)","v":{"$error":"#N/A"}}]
[null,"OK",{"$f":"VLOOKUP(A942,Contrats!A:C,3,0)","v":{"$error":"#N/A"}},{"$f":"VLOOKUP(A942,Contrats!A:C,2,0)","v":{"$error":"#N/A"}},{"$f":"VLOOKUP(A942,Contrats!A:H,5,0)","v":{"$error":"#N/A"}}]
[null,"OK",{"$f":"VLOOKUP(A943,Contrats!A:C,3,0)","v":{"$error":"#N/A"}},{"$f":"VLOOKUP(A943,Contrats!A:C,2,0)","v":{"$error":"#N/A"}},{"$f":"VLOOKUP(A943,Contrats!A:H,5,0)","v":{"$error":"#N/A"}}]
[null,"OK",{"$f":"VLOOKUP(A944,Contrats!A:C,3,0)","v":{"$error":"#N/A"}},{"$f":"VLOOKUP(A944,Contrats!A:C,2,0)","v":{"$error":"#N/A"}},{"$f":"VLOOKUP(A944,Contrats!A:H,5,0)","v":{"$error":"#N/A"}}]
[null,"OK",{"$f":"VLOOKUP(A945,Contrats!A:C,3,0)","v":{"$error":"#N/A"}},{"$f":"VLOOKUP(A945,Contrats!A:C,2,0)","v":{"$error":"#N/A"}},{"$f":"VLOOKUP(A945,Contrats!A:H,5,0)","v":{"$error":"#N/A"}}]
[null,"OK",{"$f":"VLOOKUP(A946,Contrats!A:C,3,0)","v":{"$error":"#N/A"}},{"$f":"VLOOKUP(A946,Contrats!A:C,2,0)","v":{"$error":"#N/A"}},{"$f":"VLOOKUP(A946,Contrats!A:H,5,0)","v":{"$error":"#N/A"}}]
[null,"OK",{"$f":"VLOOKUP(A947,Contrats!A:C,3,0)","v":{"$error":"#N/A"}},{"$f":"VLOOKUP(A947,Contrats!A:C,2,0)","v":{"$error":"#N/A"}},{"$f":"VLOOKUP(A947,Contrats!A:H,5,0)","v":{"$error":"#N/A"}}]
[null,"OK",{"$f":"VLOOKUP(A948,Contrats!A:C,3,0)","v":{"$error":"#N/A"}},{"$f":"VLOOKUP(A948,Contrats!A:C,2,0)","v":{"$error":"#N/A"}},{"$f":"VLOOKUP(A948,Contrats!A:H,5,0)","v":{"$error":"#N/A"}}]
[null,"OK",{"$f":"VLOOKUP(A949,Contrats!A:C,3,0)","v":{"$error":"#N/A"}},{"$f":"VLOOKUP(A949,Contrats!A:C,2,0)","v":{"$error":"#N/A"}},{"$f":"VLOOKUP(A949,Contrats!A:H,5,0)","v":{"$error":"#N/A"}}]
[null,"OK",{"$f":"VLOOKUP(A950,Contrats!A:C,3,0)","v":{"$error":"#N/A"}},{"$f":"VLOOKUP(A950,Contrats!A:C,2,0)","v":{"$error":"#N/A"}},{"$f":"VLOOKUP(A950,Contrats!A:H,5,0)","v":{"$error":"#N/A"}}]
[null,"OK",{"$f":"VLOOKUP(A951,Contrats!A:C,3,0)","v":{"$error":"#N/A"}},{"$f":"VLOOKUP(A951,Contrats!A:C,2,0)","v":{"$error":"#N/A"}},{"$f":"VLOOKUP(A951,Contrats!A:H,5,0)","v":{"$error":"#N/A"}}]
[null,"OK",{"$f":"VLOOKUP(A952,Contrats!A:C,3,0)","v":{"$error":"#N/A"}},{"$f":"VLOOKUP(A952,Contrats!A:C,2,0)","v":{"$error":"#N/A"}},{"$f":"VLOOKUP(A952,Contrats!A:H,5,0)","v":{"$error":"#N/A"}}]
[null,"OK",{"$f":"VLOOKUP(A953,Contrats!A:C,3,0)","v":{"$error":"#N/A"}},{"$f":"VLOOKUP(A953,Contrats!A:C,2,0)","v":{"$error":"#N/A"}},{"$f":"VLOOKUP(A953,Contrats!A:H,5,0)","v":{"$error":"#N/A"}}]
[null,"OK",{"$f":"VLOOKUP(A954,Contrats!A:C,3,0)","v":{"$error":"#N/A"}},{"$f":"VLOOKUP(A954,Contrats!A:C,2,0)","v":{"$error":"#N/A"}},{"$f":"VLOOKUP(A954,Contrats!A:H,5,0)","v":{"$error":"#N/A"}}]
[null,"OK",{"$f":"VLOOKUP(A955,Contrats!A:C,3,0)","v":{"$error":"#N/A"}},{"$f":"VLOOKUP(A955,Contrats!A:C,2,0)","v":{"$error":"#N/A"}},{"$f":"VLOOKUP(A955,Contrats!A:H,5,0)","v":{"$error":"#N/A"}}]
[null,"OK",{"$f":"VLOOKUP(A956,Contrats!A:C,3,0)","v":{"$error":"#N/A"}},{"$f":"VLOOKUP(A956,Contrats!A:C,2,0)","v":{"$error":"#N/A"}},{"$f":"VLOOKUP(A956,Contrats!A:H,5,0)","v":{"$error":"#N/A"}}]
[null,"OK",{"$f":"VLOOKUP(A957,Contrats!A:C,3,0)","v":{"$error":"#N/A"}},{"$f":"VLOOKUP(A957,Contrats!A:C,2,0)","v":{"$error":"#N/A"}},{"$f":"VLOOKUP(A957,Contrats!A:H,5,0)","v":{"$error":"#N/A"}}]
[null,"OK",{"$f":"VLOOKUP(A958,Contrats!A:C,3,0)","v":{"$error":"#N/A"}},{"$f":"VLOOKUP(A958,Contrats!A:C,2,0)","v":{"$error":"#N/A"}},{"$f":"VLOOKUP(A958,Contrats!A:H,5,0)","v":{"$error":"#N/A"}}]
[null,"OK",{"$f":"VLOOKUP(A959,Contrats!A:C,3,0)","v":{"$error":"#N/A"}},{"$f":"VLOOKUP(A959,Contrats!A:C,2,0)","v":{"$error":"#N/A"}},{"$f":"VLOOKUP(A959,Contrats!A:H,5,0)","v":{"$error":"#N/A"}}]
[null,"OK",{"$f":"VLOOKUP(A960,Contrats!A:C,3,0)","v":{"$error":"#N/A"}},{"$f":"VLOOKUP(A960,Contrats!A:C,2,0)","v":{"$error":"#N/A"}},{"$f":"VLOOKUP(A960,Contrats!A:H,5,0)","v":{"$error":"#N/A"}}]
[null,"OK",{"$f":"VLOOKUP(A961,Contrats!A:C,3,0)","v":{"$error":"#N/A"}},{"$f":"VLOOKUP(A961,Contrats!A:C,2,0)","v":{"$error":"#N/A"}},{"$f":"VLOOKUP(A961,Contrats!A:H,5,0)","v":{"$error":"#N/A"}}]
[null,"OK",{"$f":"VLOOKUP(A962,Contrats!A:C,3,0)","v":{"$error":"#N/A"}},{"$f":"VLOOKUP(A962,Contrats!A:C,2,0)","v":{"$error":"#N/A"}},{"$f":"VLOOKUP(A962,Contrats!A:H,5,0)","v":{"$error":"#N/A"}}]
[null,"OK",{"$f":"VLOOKUP(A963,Contrats!A:C,3,0)","v":{"$error":"#N/A"}},{"$f":"VLOOKUP(A963,Contrats!A:C,2,0)","v":{"$error":"#N/A"}},{"$f":"VLOOKUP(A963,Contrats!A:H,5,0)","v":{"$error":"#N/A"}}]
[null,"OK",{"$f":"VLOOKUP(A964,Contrats!A:C,3,0)","v":{"$error":"#N/A"}},{"$f":"VLOOKUP(A964,Contrats!A:C,2,0)","v":{"$error":"#N/A"}},{"$f":"VLOOKUP(A964,Contrats!A:H,5,0)","v":{"$error":"#N/A"}}]
[null,"OK",{"$f":"VLOOKUP(A965,Contrats!A:C,3,0)","v":{"$error":"#N/A"}},{"$f":"VLOOKUP(A965,Contrats!A:C,2,0)","v":{"$error":"#N/A"}},{"$f":"VLOOKUP(A965,Contrats!A:H,5,0)","v":{"$error":"#N/A"}}]
[null,"OK",{"$f":"VLOOKUP(A966,Contrats!A:C,3,0)","v":{"$error":"#N/A"}},{"$f":"VLOOKUP(A966,Contrats!A:C,2,0)","v":{"$error":"#N/A"}},{"$f":"VLOOKUP(A966,Contrats!A:H,5,0)","v":{"$error":"#N/A"}}]
[null,"OK",{"$f":"VLOOKUP(A967,Contrats!A:C,3,0)","v":{"$error":"#N/A"}},{"$f":"VLOOKUP(A967,Contrats!A:C,2,0)","v":{"$error":"#N/A"}},{"$f":"VLOOKUP(A967,Contrats!A:H,5,0)","v":{"$error":"#N/A"}}]
[null,"OK",{"$f":"VLOOKUP(A968,Contrats!A:C,3,0)","v":{"$error":"#N/A"}},{"$f":"VLOOKUP(A968,Contrats!A:C,2,0)","v":{"$error":"#N/A"}},{"$f":"VLOOKUP(A968,Contrats!A:H,5,0)","v":{"$error":"#N/A"}}]
[null,"OK",{"$f":"VLOOKUP(A969,Contrats!A:C,3,0)","v":{"$error":"#N/A"}},{"$f":"VLOOKUP(A969,Contrats!A:C,2,0)","v":{"$error":"#N/A"}},{"$f":"VLOOKUP(A969,Contrats!A:H,5,0)","v":{"$error":"#N/A"}}]
[null,"OK",{"$f":"VLOOKUP(A970,Contrats!A:C,3,0)","v":{"$error":"#N/A"}},{"$f":"VLOOKUP(A970,Contrats!A:C,2,0)","v":{"$error":"#N/A"}},{"$f":"VLOOKUP(A970,Contrats!A:H,5,0)","v":{"$error":"#N/A"}}]
[null,"OK",{"$f":"VLOOKUP(A971,Contrats!A:C,3,0)","v":{"$error":"#N/A"}},{"$f":"VLOOKUP(A971,Contrats!A:C,2,0)","v":{"$error":"#N/A"}},{"$f":"VLOOKUP(A971,Contrats!A:H,5,0)","v":{"$error":"#N/A"}}]
[null,"OK",{"$f":"VLOOKUP(A972,Contrats!A:C,3,0)","v":{"$error":"#N/A"}},{"$f":"VLOOKUP(A972,Contrats!A:C,2,0)","v":{"$error":"#N/A"}},{"$f":"VLOOKUP(A972,Contrats!A:H,5,0)","v":{"$error":"#N/A"}}]
[null,"OK",{"$f":"VLOOKUP(A973,Contrats!A:C,3,0)","v":{"$error":"#N/A"}},{"$f":"VLOOKUP(A973,Contrats!A:C,2,0)","v":{"$error":"#N/A"}},{"$f":"VLOOKUP(A973,Contrats!A:H,5,0)","v":{"$error":"#N/A"}}]
[null,"OK",{"$f":"VLOOKUP(A974,Contrats!A:C,3,0)","v":{"$error":"#N/A"}},{"$f":"VLOOKUP(A974,Contrats!A:C,2,0)","v":{"$error":"#N/A"}},{"$f":"VLOOKUP(A974,Contrats!A:H,5,0)","v":{"$error":"#N/A"}}]
[null,"OK",{"$f":"VLOOKUP(A975,Contrats!A:C,3,0)","v":{"$error":"#N/A"}},{"$f":"VLOOKUP(A975,Contrats!A:C,2,0)","v":{"$error":"#N/A"}},{"$f":"VLOOKUP(A975,Contrats!A:H,5,0)","v":{"$error":"#N/A"}}]
[null,"OK",{"$f":"VLOOKUP(A976,Contrats!A:C,3,0)","v":{"$error":"#N/A"}},{"$f":"VLOOKUP(A976,Contrats!A:C,2,0)","v":{"$error":"#N/A"}},{"$f":"VLOOKUP(A976,Contrats!A:H,5,0)","v":{"$error":"#N/A"}}]
[null,"OK",{"$f":"VLOOKUP(A977,Contrats!A:C,3,0)","v":{"$error":"#N/A"}},{"$f":"VLOOKUP(A977,Contrats!A:C,2,0)","v":{"$error":"#N/A"}},{"$f":"VLOOKUP(A977,Contrats!A:H,5,0)","v":{"$error":"#N/A"}}]
[null,"OK",{"$f":"VLOOKUP(A978,Contrats!A:C,3,0)","v":{"$error":"#N/A"}},{"$f":"VLOOKUP(A978,Contrats!A:C,2,0)","v":{"$error":"#N/A"}},{"$f":"VLOOKUP(A978,Contrats!A:H,5,0)","v":{"$error":"#N/A"}}]
[null,"OK",{"$f":"VLOOKUP(A979,Contrats!A:C,3,0)","v":{"$error":"#N/A"}},{"$f":"VLOOKUP(A979,Contrats!A:C,2,0)","v":{"$error":"#N/A"}},{"$f":"VLOOKUP(A979,Contrats!A:H,5,0)","v":{"$error":"#N/A"}}]
[null,"OK",{"$f":"VLOOKUP(A980,Contrats!A:C,3,0)","v":{"$error":"#N/A"}},{"$f":"VLOOKUP(A980,Contrats!A:C,2,0)","v":{"$error":"#N/A"}},{"$f":"VLOOKUP(A980,Contrats!A:H,5,0)","v":{"$error":"#N/A"}}]
[null,"OK",{"$f":"VLOOKUP(A981,Contrats!A:C,3,0)","v":{"$error":"#N/A"}},{"$f":"VLOOKUP(A981,Contrats!A:C,2,0)","v":{"$error":"#N/A"}},{"$f":"VLOOKUP(A981,Contrats!A:H,5,0)","v":{"$error":"#N/A"}}]
[null,"OK",{"$f":"VLOOKUP(A982,Contrats!A:C,3,0)","v":{"$error":"#N/A"}},{"$f":"VLOOKUP(A982,Contrats!A:C,2,0)","v":{"$error":"#N/A"}},{"$f":"VLOOKUP(A982,Contrats!A:H,5,0)","v":{"$error":"#N/A"}}]
[null,"OK",{"$f":"VLOOKUP(A983,Contrats!A:C,3,0)","v":{"$error":"#N/A"}},{"$f":"VLOOKUP(A983,Contrats!A:C,2,0)","v":{"$error":"#N/A"}},{"$f":"VLOOKUP(A983,Contrats!A:H,5,0)","v":{"$error":"#N/A"}}]
[null,"OK",{"$f":"VLOOKUP(A984,Contrats!A:C,3,0)","v":{"$error":"#N/A"}},{"$f":"VLOOKUP(A984,Contrats!A:C,2,0)","v":{"$error":"#N/A"}},{"$f":"VLOOKUP(A984,Contrats!A:H,5,0)","v":{"$error":"#N/A"}}]
[null,"OK",{"$f":"VLOOKUP(A985,Contrats!A:C,3,0)","v":{"$error":"#N/A"}},{"$f":"VLOOKUP(A985,Contrats!A:C,2,0)","v":{"$error":"#N/A"}},{"$f":"VLOOKUP(A985,Contrats!A:H,5,0)","v":{"$error":"#N/A"}}]
[null,"OK",{"$f":"VLOOKUP(A986,Contrats!A:C,3,0)","v":{"$error":"#N/A"}},{"$f":"VLOOKUP(A986,Contrats!A:C,2,0)","v":{"$error":"#N/A"}},{"$f":"VLOOKUP(A986,Contrats!A:H,5,0)","v":{"$error":"#N/A"}}]
[null,"OK",{"$f":"VLOOKUP(A987,Contrats!A:C,3,0)","v":{"$error":"#N/A"}},{"$f":"VLOOKUP(A987,Contrats!A:C,2,0)","v":{"$error":"#N/A"}},{"$f":"VLOOKUP(A987,Contrats!A:H,5,0)","v":{"$error":"#N/A"}}]
[null,"OK",{"$f":"VLOOKUP(A988,Contrats!A:C,3,0)","v":{"$error":"#N/A"}},{"$f":"VLOOKUP(A988,Contrats!A:C,2,0)","v":{"$error":"#N/A"}},{"$f":"VLOOKUP(A988,Contrats!A:H,5,0)","v":{"$error":"#N/A"}}]
[null,"OK",{"$f":"VLOOKUP(A989,Contrats!A:C,3,0)","v":{"$error":"#N/A"}},{"$f":"VLOOKUP(A989,Contrats!A:C,2,0)","v":{"$error":"#N/A"}},{"$f":"VLOOKUP(A989,Contrats!A:H,5,0)","v":{"$error":"#N/A"}}]
[null,"OK",{"$f":"VLOOKUP(A990,Contrats!A:C,3,0)","v":{"$error":"#N/A"}},{"$f":"VLOOKUP(A990,Contrats!A:C,2,0)","v":{"$error":"#N/A"}},{"$f":"VLOOKUP(A990,Contrats!A:H,5,0)","v":{"$error":"#N/A"}}]
[null,"OK",{"$f":"VLOOKUP(A991,Contrats!A:C,3,0)","v":{"$error":"#N/A"}},{"$f":"VLOOKUP(A991,Contrats!A:C,2,0)","v":{"$error":"#N/A"}},{"$f":"VLOOKUP(A991,Contrats!A:H,5,0)","v":{"$error":"#N/A"}}]
[null,"OK",{"$f":"VLOOKUP(A992,Contrats!A:C,3,0)","v":{"$error":"#N/A"}},{"$f":"VLOOKUP(A992,Contrats!A:C,2,0)","v":{"$error":"#N/A"}},{"$f":"VLOOKUP(A992,Contrats!A:H,5,0)","v":{"$error":"#N/A"}}]
[null,"OK",{"$f":"VLOOKUP(A993,Contrats!A:C,3,0)","v":{"$error":"#N/A"}},{"$f":"VLOOKUP(A993,Contrats!A:C,2,0)","v":{"$error":"#N/A"}},{"$f":"VLOOKUP(A993,Contrats!A:H,5,0)","v":{"$error":"#N/A"}}]
[null,"OK",{"$f":"VLOOKUP(A994,Contrats!A:C,3,0)","v":{"$error":"#N/A"}},{"$f":"VLOOKUP(A994,Contrats!A:C,2,0)","v":{"$error":"#N/A"}},{"$f":"VLOOKUP(A994,Contrats!A:H,5,0)","v":{"$error":"#N/A"}}]
[null,"OK",{"$f":"VLOOKUP(A995,Contrats!A:C,3,0)","v":{"$error":"#N/A"}},{"$f":"VLOOKUP(A995,Contrats!A:C,2,0)","v":{"$error":"#N/A"}},{"$f":"VLOOKUP(A995,Contrats!A:H,5,0)","v":{"$error":"#N/A"}}]
[null,"OK",{"$f":"VLOOKUP(A996,Contrats!A:C,3,0)","v":{"$error":"#N/A"}},{"$f":"VLOOKUP(A996,Contrats!A:C,2,0)","v":{"$error":"#N/A"}},{"$f":"VLOOKUP(A996,Contrats!A:H,5,0)","v":{"$error":"#N/A"}}]
[null,"OK",{"$f":"VLOOKUP(A997,Contrats!A:C,3,0)","v":{"$error":"#N/A"}},{"$f":"VLOOKUP(A997,Contrats!A:C,2,0)","v":{"$error":"#N/A"}},{"$f":"VLOOKUP(A997,Contrats!A:H,5,0)","v":{"$error":"#N/A"}}]
[null,"OK",{"$f":"VLOOKUP(A998,Contrats!A:C,3,0)","v":{"$error":"#N/A"}},{"$f":"VLOOKUP(A998,Contrats!A:C,2,0)","v":{"$error":"#N/A"}},{"$f":"VLOOKUP(A998,Contrats!A:H,5,0)","v":{"$error":"#N/A"}}]
[null,"OK",{"$f":"VLOOKUP(A999,Contrats!A:C,3,0)","v":{"$error":"#N/A"}},{"$f":"VLOOKUP(A999,Contrats!A:C,2,0)","v":{"$error":"#N/A"}},{"$f":"VLOOKUP(A999,Contrats!A:H,5,0)","v":{"$error":"#N/A"}}]
[null,"OK",{"$f":"VLOOKUP(A1000,Contrats!A:C,3,0)","v":{"$error":"#N/A"}},{"$f":"VLOOKUP(A1000,Contrats!A:C,2,0)","v":{"$error":"#N/A"}},{"$f":"VLOOKUP(A1000,Contrats!A:H,5,0)","v":{"$error":"#N/A"}}]
[null,"OK",{"$f":"VLOOKUP(A1001,Contrats!A:C,3,0)","v":{"$error":"#N/A"}},{"$f":"VLOOKUP(A1001,Contrats!A:C,2,0)","v":{"$error":"#N/A"}},{"$f":"VLOOKUP(A1001,Contrats!A:H,5,0)","v":{"$error":"#N/A"}}]
[null,"OK",{"$f":"VLOOKUP(A1002,Contrats!A:C,3,0)","v":{"$error":"#N/A"}},{"$f":"VLOOKUP(A1002,Contrats!A:C,2,0)","v":{"$error":"#N/A"}},{"$f":"VLOOKUP(A1002,Contrats!A:H,5,0)","v":{"$error":"#N/A"}}]
[null,"OK",{"$f":"VLOOKUP(A1003,Contrats!A:C,3,0)","v":{"$error":"#N/A"}},{"$f":"VLOOKUP(A1003,Contrats!A:C,2,0)","v":{"$error":"#N/A"}},{"$f":"VLOOKUP(A1003,Contrats!A:H,5,0)","v":{"$error":"#N/A"}}]
[null,"OK",{"$f":"VLOOKUP(A1004,Contrats!A:C,3,0)","v":{"$error":"#N/A"}},{"$f":"VLOOKUP(A1004,Contrats!A:C,2,0)","v":{"$error":"#N/A"}},{"$f":"VLOOKUP(A1004,Contrats!A:H,5,0)","v":{"$error":"#N/A"}}]
[null,"OK",{"$f":"VLOOKUP(A1005,Contrats!A:C,3,0)","v":{"$error":"#N/A"}},{"$f":"VLOOKUP(A1005,Contrats!A:C,2,0)","v":{"$error":"#N/A"}},{"$f":"VLOOKUP(A1005,Contrats!A:H,5,0)","v":{"$error":"#N/A"}}]
[null,"OK",{"$f":"VLOOKUP(A1006,Contrats!A:C,3,0)","v":{"$error":"#N/A"}},{"$f":"VLOOKUP(A1006,Contrats!A:C,2,0)","v":{"$error":"#N/A"}},{"$f":"VLOOKUP(A1006,Contrats!A:H,5,0)","v":{"$error":"#N/A"}}]
[null,"OK",{"$f":"VLOOKUP(A1007,Contrats!A:C,3,0)","v":{"$error":"#N/A"}},{"$f":"VLOOKUP(A1007,Contrats!A:C,2,0)","v":{"$error":"#N/A"}},{"$f":"VLOOKUP(A1007,Contrats!A:H,5,0)","v":{"$error":"#N/A"}}]
[null,"OK",{"$f":"VLOOKUP(A1008,Contrats!A:C,3,0)","v":{"$error":"#N/A"}},{"$f":"VLOOKUP(A1008,Contrats!A:C,2,0)","v":{"$error":"#N/A"}},{"$f":"VLOOKUP(A1008,Contrats!A:H,5,0)","v":{"$error":"#N/A"}}]
[null,"OK",{"$f":"VLOOKUP(A1009,Contrats!A:C,3,0)","v":{"$error":"#N/A"}},{"$f":"VLOOKUP(A1009,Contrats!A:C,2,0)","v":{"$error":"#N/A"}},{"$f":"VLOOKUP(A1009,Contrats!A:H,5,0)","v":{"$error":"#N/A"}}]
[null,"OK",{"$f":"VLOOKUP(A1010,Contrats!A:C,3,0)","v":{"$error":"#N/A"}},{"$f":"VLOOKUP(A1010,Contrats!A:C,2,0)","v":{"$error":"#N/A"}},{"$f":"VLOOKUP(A1010,Contrats!A:H,5,0)","v":{"$error":"#N/A"}}]
[null,"OK",{"$f":"VLOOKUP(A1011,Contrats!A:C,3,0)","v":{"$error":"#N/A"}},{"$f":"VLOOKUP(A1011,Contrats!A:C,2,0)","v":{"$error":"#N/A"}},{"$f":"VLOOKUP(A1011,Contrats!A:H,5,0)","v":{"$error":"#N/A"}}]
[null,"OK",{"$f":"VLOOKUP(A1012,Contrats!A:C,3,0)","v":{"$error":"#N/A"}},{"$f":"VLOOKUP(A1012,Contrats!A:C,2,0)","v":{"$error":"#N/A"}},{"$f":"VLOOKUP(A1012,Contrats!A:H,5,0)","v":{"$error":"#N/A"}}]
[null,"OK",{"$f":"VLOOKUP(A1013,Contrats!A:C,3,0)","v":{"$error":"#N/A"}},{"$f":"VLOOKUP(A1013,Contrats!A:C,2,0)","v":{"$error":"#N/A"}},{"$f":"VLOOKUP(A1013,Contrats!A:H,5,0)","v":{"$error":"#N/A"}}]
[null,"OK",{"$f":"VLOOKUP(A1014,Contrats!A:C,3,0)","v":{"$error":"#N/A"}},{"$f":"VLOOKUP(A1014,Contrats!A:C,2,0)","v":{"$error":"#N/A"}},{"$f":"VLOOKUP(A1014,Contrats!A:H,5,0)","v":{"$error":"#N/A"}}]
[null,"OK",{"$f":"VLOOKUP(A1015,Contrats!A:C,3,0)","v":{"$error":"#N/A"}},{"$f":"VLOOKUP(A1015,Contrats!A:C,2,0)","v":{"$error":"#N/A"}},{"$f":"VLOOKUP(A1015,Contrats!A:H,5,0)","v":{"$error":"#N/A"}}]
[null,"OK",{"$f":"VLOOKUP(A1016,Contrats!A:C,3,0)","v":{"$error":"#N/A"}},{"$f":"VLOOKUP(A1016,Contrats!A:C,2,0)","v":{"$error":"#N/A"}},{"$f":"VLOOKUP(A1016,Contrats!A:H,5,0)","v":{"$error":"#N/A"}}]
[null,"OK",{"$f":"VLOOKUP(A1017,Contrats!A:C,3,0)","v":{"$error":"#N/A"}},{"$f":"VLOOKUP(A1017,Contrats!A:C,2,0)","v":{"$error":"#N/A"}},{"$f":"VLOOKUP(A1017,Contrats!A:H,5,0)","v":{"$error":"#N/A"}}]
[null,"OK",{"$f":"VLOOKUP(A1018,Contrats!A:C,3,0)","v":{"$error":"#N/A"}},{"$f":"VLOOKUP(A1018,Contrats!A:C,2,0)","v":{"$error":"#N/A"}},{"$f":"VLOOKUP(A1018,Contrats!A:H,5,0)","v":{"$error":"#N/A"}}]
[null,"OK",{"$f":"VLOOKUP(A1019,Contrats!A:C,3,0)","v":{"$error":"#N/A"}},{"$f":"VLOOKUP(A1019,Contrats!A:C,2,0)","v":{"$error":"#N/A"}},{"$f":"VLOOKUP(A1019,Contrats!A:H,5,0)","v":{"$error":"#N/A"}}]
[null,"OK",{"$f":"VLOOKUP(A1020,Contrats!A:C,3,0)","v":{"$error":"#N/A"}},{"$f":"VLOOKUP(A1020,Contrats!A:C,2,0)","v":{"$error":"#N/A"}},{"$f":"VLOOKUP(A1020,Contrats!A:H,5,0)","v":{"$error":"#N/A"}}]
[null,"OK",{"$f":"VLOOKUP(A1021,Contrats!A:C,3,0)","v":{"$error":"#N/A"}},{"$f":"VLOOKUP(A1021,Contrats!A:C,2,0)","v":{"$error":"#N/A"}},{"$f":"VLOOKUP(A1021,Contrats!A:H,5,0)","v":{"$error":"#N/A"}}]
[null,"OK",{"$f":"VLOOKUP(A1022,Contrats!A:C,3,0)","v":{"$error":"#N/A"}},{"$f":"VLOOKUP(A1022,Contrats!A:C,2,0)","v":{"$error":"#N/A"}},{"$f":"VLOOKUP(A1022,Contrats!A:H,5,0)","v":{"$error":"#N/A"}}]
[null,"OK",{"$f":"VLOOKUP(A1023,Contrats!A:C,3,0)","v":{"$error":"#N/A"}},{"$f":"VLOOKUP(A1023,Contrats!A:C,2,0)","v":{"$error":"#N/A"}},{"$f":"VLOOKUP(A1023,Contrats!A:H,5,0)","v":{"$error":"#N/A"}}]
[null,"OK",{"$f":"VLOOKUP(A1024,Contrats!A:C,3,0)","v":{"$error":"#N/A"}},{"$f":"VLOOKUP(A1024,Contrats!A:C,2,0)","v":{"$error":"#N/A"}},{"$f":"VLOOKUP(A1024,Contrats!A:H,5,0)","v":{"$error":"#N/A"}}]
[null,"OK",{"$f":"VLOOKUP(A1025,Contrats!A:C,3,0)","v":{"$error":"#N/A"}},{"$f":"VLOOKUP(A1025,Contrats!A:C,2,0)","v":{"$error":"#N/A"}},{"$f":"VLOOKUP(A1025,Contrats!A:H,5,0)","v":{"$error":"#N/A"}}]
[null,"OK",{"$f":"VLOOKUP(A1026,Contrats!A:C,3,0)","v":{"$error":"#N/A"}},{"$f":"VLOOKUP(A1026,Contrats!A:C,2,0)","v":{"$error":"#N/A"}},{"$f":"VLOOKUP(A1026,Contrats!A:H,5,0)","v":{"$error":"#N/A"}}]
[null,"OK",{"$f":"VLOOKUP(A1027,Contrats!A:C,3,0)","v":{"$error":"#N/A"}},{"$f":"VLOOKUP(A1027,Contrats!A:C,2,0)","v":{"$error":"#N/A"}},{"$f":"VLOOKUP(A1027,Contrats!A:H,5,0)","v":{"$error":"#N/A"}}]
[null,"OK",{"$f":"VLOOKUP(A1028,Contrats!A:C,3,0)","v":{"$error":"#N/A"}},{"$f":"VLOOKUP(A1028,Contrats!A:C,2,0)","v":{"$error":"#N/A"}},{"$f":"VLOOKUP(A1028,Contrats!A:H,5,0)","v":{"$error":"#N/A"}}]
[null,"OK",{"$f":"VLOOKUP(A1029,Contrats!A:C,3,0)","v":{"$error":"#N/A"}},{"$f":"VLOOKUP(A1029,Contrats!A:C,2,0)","v":{"$error":"#N/A"}},{"$f":"VLOOKUP(A1029,Contrats!A:H,5,0)","v":{"$error":"#N/A"}}]
[null,"OK",{"$f":"VLOOKUP(A1030,Contrats!A:C,3,0)","v":{"$error":"#N/A"}},{"$f":"VLOOKUP(A1030,Contrats!A:C,2,0)","v":{"$error":"#N/A"}},{"$f":"VLOOKUP(A1030,Contrats!A:H,5,0)","v":{"$error":"#N/A"}}]
[null,"OK",{"$f":"VLOOKUP(A1031,Contrats!A:C,3,0)","v":{"$error":"#N/A"}},{"$f":"VLOOKUP(A1031,Contrats!A:C,2,0)","v":{"$error":"#N/A"}},{"$f":"VLOOKUP(A1031,Contrats!A:H,5,0)","v":{"$error":"#N/A"}}]
[null,"OK",{"$f":"VLOOKUP(A1032,Contrats!A:C,3,0)","v":{"$error":"#N/A"}},{"$f":"VLOOKUP(A1032,Contrats!A:C,2,0)","v":{"$error":"#N/A"}},{"$f":"VLOOKUP(A1032,Contrats!A:H,5,0)","v":{"$error":"#N/A"}}]
[null,"OK",{"$f":"VLOOKUP(A1033,Contrats!A:C,3,0)","v":{"$error":"#N/A"}},{"$f":"VLOOKUP(A1033,Contrats!A:C,2,0)","v":{"$error":"#N/A"}},{"$f":"VLOOKUP(A1033,Contrats!A:H,5,0)","v":{"$error":"#N/A"}}]
[null,"OK",{"$f":"VLOOKUP(A1034,Contrats!A:C,3,0)","v":{"$error":"#N/A"}},{"$f":"VLOOKUP(A1034,Contrats!A:C,2,0)","v":{"$error":"#N/A"}},{"$f":"VLOOKUP(A1034,Contrats!A:H,5,0)","v":{"$error":"#N/A"}}]
[null,"OK",{"$f":"VLOOKUP(A1035,Contrats!A:C,3,0)","v":{"$error":"#N/A"}},{"$f":"VLOOKUP(A1035,Contrats!A:C,2,0)","v":{"$error":"#N/A"}},{"$f":"VLOOKUP(A1035,Contrats!A:H,5,0)","v":{"$error":"#N/A"}}]
[null,"OK",{"$f":"VLOOKUP(A1036,Contrats!A:C,3,0)","v":{"$error":"#N/A"}},{"$f":"VLOOKUP(A1036,Contrats!A:C,2,0)","v":{"$error":"#N/A"}},{"$f":"VLOOKUP(A1036,Contrats!A:H,5,0)","v":{"$error":"#N/A"}}]
[null,"OK",{"$f":"VLOOKUP(A1037,Contrats!A:C,3,0)","v":{"$error":"#N/A"}},{"$f":"VLOOKUP(A1037,Contrats!A:C,2,0)","v":{"$error":"#N/A"}},{"$f":"VLOOKUP(A1037,Contrats!A:H,5,0)","v":{"$error":"#N/A"}}]
[null,"OK",{"$f":"VLOOKUP(A1038,Contrats!A:C,3,0)","v":{"$error":"#N/A"}},{"$f":"VLOOKUP(A1038,Contrats!A:C,2,0)","v":{"$error":"#N/A"}},{"$f":"VLOOKUP(A1038,Contrats!A:H,5,0)","v":{"$error":"#N/A"}}]
[null,"OK",{"$f":"VLOOKUP(A1039,Contrats!A:C,3,0)","v":{"$error":"#N/A"}},{"$f":"VLOOKUP(A1039,Contrats!A:C,2,0)","v":{"$error":"#N/A"}},{"$f":"VLOOKUP(A1039,Contrats!A:H,5,0)","v":{"$error":"#N/A"}}]
[null,"OK",{"$f":"VLOOKUP(A1040,Contrats!A:C,3,0)","v":{"$error":"#N/A"}},{"$f":"VLOOKUP(A1040,Contrats!A:C,2,0)","v":{"$error":"#N/A"}},{"$f":"VLOOKUP(A1040,Contrats!A:H,5,0)","v":{"$error":"#N/A"}}]
[null,"OK",{"$f":"VLOOKUP(A1041,Contrats!A:C,3,0)","v":{"$error":"#N/A"}},{"$f":"VLOOKUP(A1041,Contrats!A:C,2,0)","v":{"$error":"#N/A"}},{"$f":"VLOOKUP(A1041,Contrats!A:H,5,0)","v":{"$error":"#N/A"}}]
[null,"OK",{"$f":"VLOOKUP(A1042,Contrats!A:C,3,0)","v":{"$error":"#N/A"}},{"$f":"VLOOKUP(A1042,Contrats!A:C,2,0)","v":{"$error":"#N/A"}},{"$f":"VLOOKUP(A1042,Contrats!A:H,5,0)","v":{"$error":"#N/A"}}]
[null,"OK",{"$f":"VLOOKUP(A1043,Contrats!A:C,3,0)","v":{"$error":"#N/A"}},{"$f":"VLOOKUP(A1043,Contrats!A:C,2,0)","v":{"$error":"#N/A"}},{"$f":"VLOOKUP(A1043,Contrats!A:H,5,0)","v":{"$error":"#N/A"}}]
[null,"OK",{"$f":"VLOOKUP(A1044,Contrats!A:C,3,0)","v":{"$error":"#N/A"}},{"$f":"VLOOKUP(A1044,Contrats!A:C,2,0)","v":{"$error":"#N/A"}},{"$f":"VLOOKUP(A1044,Contrats!A:H,5,0)","v":{"$error":"#N/A"}}]
[null,"OK",{"$f":"VLOOKUP(A1045,Contrats!A:C,3,0)","v":{"$error":"#N/A"}},{"$f":"VLOOKUP(A1045,Contrats!A:C,2,0)","v":{"$error":"#N/A"}},{"$f":"VLOOKUP(A1045,Contrats!A:H,5,0)","v":{"$error":"#N/A"}}]
[null,"OK",{"$f":"VLOOKUP(A1046,Contrats!A:C,3,0)","v":{"$error":"#N/A"}},{"$f":"VLOOKUP(A1046,Contrats!A:C,2,0)","v":{"$error":"#N/A"}},{"$f":"VLOOKUP(A1046,Contrats!A:H,5,0)","v":{"$error":"#N/A"}}]
[null,"OK",{"$f":"VLOOKUP(A1047,Contrats!A:C,3,0)","v":{"$error":"#N/A"}},{"$f":"VLOOKUP(A1047,Contrats!A:C,2,0)","v":{"$error":"#N/A"}},{"$f":"VLOOKUP(A1047,Contrats!A:H,5,0)","v":{"$error":"#N/A"}}]
[null,"OK",{"$f":"VLOOKUP(A1048,Contrats!A:C,3,0)","v":{"$error":"#N/A"}},{"$f":"VLOOKUP(A1048,Contrats!A:C,2,0)","v":{"$error":"#N/A"}},{"$f":"VLOOKUP(A1048,Contrats!A:H,5,0)","v":{"$error":"#N/A"}}]
[null,"OK",{"$f":"VLOOKUP(A1049,Contrats!A:C,3,0)","v":{"$error":"#N/A"}},{"$f":"VLOOKUP(A1049,Contrats!A:C,2,0)","v":{"$error":"#N/A"}},{"$f":"VLOOKUP(A1049,Contrats!A:H,5,0)","v":{"$error":"#N/A"}}]
[null,"OK",{"$f":"VLOOKUP(A1050,Contrats!A:C,3,0)","v":{"$error":"#N/A"}},{"$f":"VLOOKUP(A1050,Contrats!A:C,2,0)","v":{"$error":"#N/A"}},{"$f":"VLOOKUP(A1050,Contrats!A:H,5,0)","v":{"$error":"#N/A"}}]
[null,"OK",{"$f":"VLOOKUP(A1051,Contrats!A:C,3,0)","v":{"$error":"#N/A"}},{"$f":"VLOOKUP(A1051,Contrats!A:C,2,0)","v":{"$error":"#N/A"}},{"$f":"VLOOKUP(A1051,Contrats!A:H,5,0)","v":{"$error":"#N/A"}}]
[null,"OK",{"$f":"VLOOKUP(A1052,Contrats!A:C,3,0)","v":{"$error":"#N/A"}},{"$f":"VLOOKUP(A1052,Contrats!A:C,2,0)","v":{"$error":"#N/A"}},{"$f":"VLOOKUP(A1052,Contrats!A:H,5,0)","v":{"$error":"#N/A"}}]
[null,"OK",{"$f":"VLOOKUP(A1053,Contrats!A:C,3,0)","v":{"$error":"#N/A"}},{"$f":"VLOOKUP(A1053,Contrats!A:C,2,0)","v":{"$error":"#N/A"}},{"$f":"VLOOKUP(A1053,Contrats!A:H,5,0)","v":{"$error":"#N/A"}}]
[null,"OK",{"$f":"VLOOKUP(A1054,Contrats!A:C,3,0)","v":{"$error":"#N/A"}},{"$f":"VLOOKUP(A1054,Contrats!A:C,2,0)","v":{"$error":"#N/A"}},{"$f":"VLOOKUP(A1054,Contrats!A:H,5,0)","v":{"$error":"#N/A"}}]
[null,"OK",{"$f":"VLOOKUP(A1055,Contrats!A:C,3,0)","v":{"$error":"#N/A"}},{"$f":"VLOOKUP(A1055,Contrats!A:C,2,0)","v":{"$error":"#N/A"}},{"$f":"VLOOKUP(A1055,Contrats!A:H,5,0)","v":{"$error":"#N/A"}}]
[null,"OK",{"$f":"VLOOKUP(A1056,Contrats!A:C,3,0)","v":{"$error":"#N/A"}},{"$f":"VLOOKUP(A1056,Contrats!A:C,2,0)","v":{"$error":"#N/A"}},{"$f":"VLOOKUP(A1056,Contrats!A:H,5,0)","v":{"$error":"#N/A"}}]
[null,"OK",{"$f":"VLOOKUP(A1057,Contrats!A:C,3,0)","v":{"$error":"#N/A"}},{"$f":"VLOOKUP(A1057,Contrats!A:C,2,0)","v":{"$error":"#N/A"}},{"$f":"VLOOKUP(A1057,Contrats!A:H,5,0)","v":{"$error":"#N/A"}}]
[null,"OK",{"$f":"VLOOKUP(A1058,Contrats!A:C,3,0)","v":{"$error":"#N/A"}},{"$f":"VLOOKUP(A1058,Contrats!A:C,2,0)","v":{"$error":"#N/A"}},{"$f":"VLOOKUP(A1058,Contrats!A:H,5,0)","v":{"$error":"#N/A"}}]
[null,"OK",{"$f":"VLOOKUP(A1059,Contrats!A:C,3,0)","v":{"$error":"#N/A"}},{"$f":"VLOOKUP(A1059,Contrats!A:C,2,0)","v":{"$error":"#N/A"}},{"$f":"VLOOKUP(A1059,Contrats!A:H,5,0)","v":{"$error":"#N/A"}}]
[null,"OK",{"$f":"VLOOKUP(A1060,Contrats!A:C,3,0)","v":{"$error":"#N/A"}},{"$f":"VLOOKUP(A1060,Contrats!A:C,2,0)","v":{"$error":"#N/A"}},{"$f":"VLOOKUP(A1060,Contrats!A:H,5,0)","v":{"$error":"#N/A"}}]
[null,"OK",{"$f":"VLOOKUP(A1061,Contrats!A:C,3,0)","v":{"$error":"#N/A"}},{"$f":"VLOOKUP(A1061,Contrats!A:C,2,0)","v":{"$error":"#N/A"}},{"$f":"VLOOKUP(A1061,Contrats!A:H,5,0)","v":{"$error":"#N/A"}}]
[null,"OK",{"$f":"VLOOKUP(A1062,Contrats!A:C,3,0)","v":{"$error":"#N/A"}},{"$f":"VLOOKUP(A1062,Contrats!A:C,2,0)","v":{"$error":"#N/A"}},{"$f":"VLOOKUP(A1062,Contrats!A:H,5,0)","v":{"$error":"#N/A"}}]
[null,"OK",{"$f":"VLOOKUP(A1063,Contrats!A:C,3,0)","v":{"$error":"#N/A"}},{"$f":"VLOOKUP(A1063,Contrats!A:C,2,0)","v":{"$error":"#N/A"}},{"$f":"VLOOKUP(A1063,Contrats!A:H,5,0)","v":{"$error":"#N/A"}}]
[null,"OK",{"$f":"VLOOKUP(A1064,Contrats!A:C,3,0)","v":{"$error":"#N/A"}},{"$f":"VLOOKUP(A1064,Contrats!A:C,2,0)","v":{"$error":"#N/A"}},{"$f":"VLOOKUP(A1064,Contrats!A:H,5,0)","v":{"$error":"#N/A"}}]
[null,"OK",{"$f":"VLOOKUP(A1065,Contrats!A:C,3,0)","v":{"$error":"#N/A"}},{"$f":"VLOOKUP(A1065,Contrats!A:C,2,0)","v":{"$error":"#N/A"}},{"$f":"VLOOKUP(A1065,Contrats!A:H,5,0)","v":{"$error":"#N/A"}}]
[null,"OK",{"$f":"VLOOKUP(A1066,Contrats!A:C,3,0)","v":{"$error":"#N/A"}},{"$f":"VLOOKUP(A1066,Contrats!A:C,2,0)","v":{"$error":"#N/A"}},{"$f":"VLOOKUP(A1066,Contrats!A:H,5,0)","v":{"$error":"#N/A"}}]
[null,"OK",{"$f":"VLOOKUP(A1067,Contrats!A:C,3,0)","v":{"$error":"#N/A"}},{"$f":"VLOOKUP(A1067,Contrats!A:C,2,0)","v":{"$error":"#N/A"}},{"$f":"VLOOKUP(A1067,Contrats!A:H,5,0)","v":{"$error":"#N/A"}}]
[null,"OK",{"$f":"VLOOKUP(A1068,Contrats!A:C,3,0)","v":{"$error":"#N/A"}},{"$f":"VLOOKUP(A1068,Contrats!A:C,2,0)","v":{"$error":"#N/A"}},{"$f":"VLOOKUP(A1068,Contrats!A:H,5,0)","v":{"$error":"#N/A"}}]
[null,"OK",{"$f":"VLOOKUP(A1069,Contrats!A:C,3,0)","v":{"$error":"#N/A"}},{"$f":"VLOOKUP(A1069,Contrats!A:C,2,0)","v":{"$error":"#N/A"}},{"$f":"VLOOKUP(A1069,Contrats!A:H,5,0)","v":{"$error":"#N/A"}}]
[null,"OK",{"$f":"VLOOKUP(A1070,Contrats!A:C,3,0)","v":{"$error":"#N/A"}},{"$f":"VLOOKUP(A1070,Contrats!A:C,2,0)","v":{"$error":"#N/A"}},{"$f":"VLOOKUP(A1070,Contrats!A:H,5,0)","v":{"$error":"#N/A"}}]
[null,"OK",{"$f":"VLOOKUP(A1071,Contrats!A:C,3,0)","v":{"$error":"#N/A"}},{"$f":"VLOOKUP(A1071,Contrats!A:C,2,0)","v":{"$error":"#N/A"}},{"$f":"VLOOKUP(A1071,Contrats!A:H,5,0)","v":{"$error":"#N/A"}}]
[null,"OK",{"$f":"VLOOKUP(A1072,Contrats!A:C,3,0)","v":{"$error":"#N/A"}},{"$f":"VLOOKUP(A1072,Contrats!A:C,2,0)","v":{"$error":"#N/A"}},{"$f":"VLOOKUP(A1072,Contrats!A:H,5,0)","v":{"$error":"#N/A"}}]
[null,"OK",{"$f":"VLOOKUP(A1073,Contrats!A:C,3,0)","v":{"$error":"#N/A"}},{"$f":"VLOOKUP(A1073,Contrats!A:C,2,0)","v":{"$error":"#N/A"}},{"$f":"VLOOKUP(A1073,Contrats!A:H,5,0)","v":{"$error":"#N/A"}}]
[null,"OK",{"$f":"VLOOKUP(A1074,Contrats!A:C,3,0)","v":{"$error":"#N/A"}},{"$f":"VLOOKUP(A1074,Contrats!A:C,2,0)","v":{"$error":"#N/A"}},{"$f":"VLOOKUP(A1074,Contrats!A:H,5,0)","v":{"$error":"#N/A"}}]
[null,"OK",{"$f":"VLOOKUP(A1075,Contrats!A:C,3,0)","v":{"$error":"#N/A"}},{"$f":"VLOOKUP(A1075,Contrats!A:C,2,0)","v":{"$error":"#N/A"}},{"$f":"VLOOKUP(A1075,Contrats!A:H,5,0)","v":{"$error":"#N/A"}}]
[null,"OK",{"$f":"VLOOKUP(A1076,Contrats!A:C,3,0)","v":{"$error":"#N/A"}},{"$f":"VLOOKUP(A1076,Contrats!A:C,2,0)","v":{"$error":"#N/A"}},{"$f":"VLOOKUP(A1076,Contrats!A:H,5,0)","v":{"$error":"#N/A"}}]
[null,"OK",{"$f":"VLOOKUP(A1077,Contrats!A:C,3,0)","v":{"$error":"#N/A"}},{"$f":"VLOOKUP(A1077,Contrats!A:C,2,0)","v":{"$error":"#N/A"}},{"$f":"VLOOKUP(A1077,Contrats!A:H,5,0)","v":{"$error":"#N/A"}}]
[null,"OK",{"$f":"VLOOKUP(A1078,Contrats!A:C,3,0)","v":{"$error":"#N/A"}},{"$f":"VLOOKUP(A1078,Contrats!A:C,2,0)","v":{"$error":"#N/A"}},{"$f":"VLOOKUP(A1078,Contrats!A:H,5,0)","v":{"$error":"#N/A"}}]
[null,"OK",{"$f":"VLOOKUP(A1079,Contrats!A:C,3,0)","v":{"$error":"#N/A"}},{"$f":"VLOOKUP(A1079,Contrats!A:C,2,0)","v":{"$error":"#N/A"}},{"$f":"VLOOKUP(A1079,Contrats!A:H,5,0)","v":{"$error":"#N/A"}}]
[null,"OK",{"$f":"VLOOKUP(A1080,Contrats!A:C,3,0)","v":{"$error":"#N/A"}},{"$f":"VLOOKUP(A1080,Contrats!A:C,2,0)","v":{"$error":"#N/A"}},{"$f":"VLOOKUP(A1080,Contrats!A:H,5,0)","v":{"$error":"#N/A"}}]
[null,"OK",{"$f":"VLOOKUP(A1081,Contrats!A:C,3,0)","v":{"$error":"#N/A"}},{"$f":"VLOOKUP(A1081,Contrats!A:C,2,0)","v":{"$error":"#N/A"}},{"$f":"VLOOKUP(A1081,Contrats!A:H,5,0)","v":{"$error":"#N/A"}}]
[null,"OK",{"$f":"VLOOKUP(A1082,Contrats!A:C,3,0)","v":{"$error":"#N/A"}},{"$f":"VLOOKUP(A1082,Contrats!A:C,2,0)","v":{"$error":"#N/A"}},{"$f":"VLOOKUP(A1082,Contrats!A:H,5,0)","v":{"$error":"#N/A"}}]
[null,"OK",{"$f":"VLOOKUP(A1083,Contrats!A:C,3,0)","v":{"$error":"#N/A"}},{"$f":"VLOOKUP(A1083,Contrats!A:C,2,0)","v":{"$error":"#N/A"}},{"$f":"VLOOKUP(A1083,Contrats!A:H,5,0)","v":{"$error":"#N/A"}}]
[null,"OK",{"$f":"VLOOKUP(A1084,Contrats!A:C,3,0)","v":{"$error":"#N/A"}},{"$f":"VLOOKUP(A1084,Contrats!A:C,2,0)","v":{"$error":"#N/A"}},{"$f":"VLOOKUP(A1084,Contrats!A:H,5,0)","v":{"$error":"#N/A"}}]
[null,"OK",{"$f":"VLOOKUP(A1085,Contrats!A:C,3,0)","v":{"$error":"#N/A"}},{"$f":"VLOOKUP(A1085,Contrats!A:C,2,0)","v":{"$error":"#N/A"}},{"$f":"VLOOKUP(A1085,Contrats!A:H,5,0)","v":{"$error":"#N/A"}}]
[null,"OK",{"$f":"VLOOKUP(A1086,Contrats!A:C,3,0)","v":{"$error":"#N/A"}},{"$f":"VLOOKUP(A1086,Contrats!A:C,2,0)","v":{"$error":"#N/A"}},{"$f":"VLOOKUP(A1086,Contrats!A:H,5,0)","v":{"$error":"#N/A"}}]
[null,"OK",{"$f":"VLOOKUP(A1087,Contrats!A:C,3,0)","v":{"$error":"#N/A"}},{"$f":"VLOOKUP(A1087,Contrats!A:C,2,0)","v":{"$error":"#N/A"}},{"$f":"VLOOKUP(A1087,Contrats!A:H,5,0)","v":{"$error":"#N/A"}}]
[null,"OK",{"$f":"VLOOKUP(A1088,Contrats!A:C,3,0)","v":{"$error":"#N/A"}},{"$f":"VLOOKUP(A1088,Contrats!A:C,2,0)","v":{"$error":"#N/A"}},{"$f":"VLOOKUP(A1088,Contrats!A:H,5,0)","v":{"$error":"#N/A"}}]
[null,"OK",{"$f":"VLOOKUP(A1089,Contrats!A:C,3,0)","v":{"$error":"#N/A"}},{"$f":"VLOOKUP(A1089,Contrats!A:C,2,0)","v":{"$error":"#N/A"}},{"$f":"VLOOKUP(A1089,Contrats!A:H,5,0)","v":{"$error":"#N/A"}}]
[null,"OK",{"$f":"VLOOKUP(A1090,Contrats!A:C,3,0)","v":{"$error":"#N/A"}},{"$f":"VLOOKUP(A1090,Contrats!A:C,2,0)","v":{"$error":"#N/A"}},{"$f":"VLOOKUP(A1090,Contrats!A:H,5,0)","v":{"$error":"#N/A"}}]
[null,"OK",{"$f":"VLOOKUP(A1091,Contrats!A:C,3,0)","v":{"$error":"#N/A"}},{"$f":"VLOOKUP(A1091,Contrats!A:C,2,0)","v":{"$error":"#N/A"}},{"$f":"VLOOKUP(A1091,Contrats!A:H,5,0)","v":{"$error":"#N/A"}}]
[null,"OK",{"$f":"VLOOKUP(A1092,Contrats!A:C,3,0)","v":{"$error":"#N/A"}},{"$f":"VLOOKUP(A1092,Contrats!A:C,2,0)","v":{"$error":"#N/A"}},{"$f":"VLOOKUP(A1092,Contrats!A:H,5,0)","v":{"$error":"#N/A"}}]
[null,"OK",{"$f":"VLOOKUP(A1093,Contrats!A:C,3,0)","v":{"$error":"#N/A"}},{"$f":"VLOOKUP(A1093,Contrats!A:C,2,0)","v":{"$error":"#N/A"}},{"$f":"VLOOKUP(A1093,Contrats!A:H,5,0)","v":{"$error":"#N/A"}}]
[null,"OK",{"$f":"VLOOKUP(A1094,Contrats!A:C,3,0)","v":{"$error":"#N/A"}},{"$f":"VLOOKUP(A1094,Contrats!A:C,2,0)","v":{"$error":"#N/A"}},{"$f":"VLOOKUP(A1094,Contrats!A:H,5,0)","v":{"$error":"#N/A"}}]
[null,"OK",{"$f":"VLOOKUP(A1095,Contrats!A:C,3,0)","v":{"$error":"#N/A"}},{"$f":"VLOOKUP(A1095,Contrats!A:C,2,0)","v":{"$error":"#N/A"}},{"$f":"VLOOKUP(A1095,Contrats!A:H,5,0)","v":{"$error":"#N/A"}}]
[null,"OK",{"$f":"VLOOKUP(A1096,Contrats!A:C,3,0)","v":{"$error":"#N/A"}},{"$f":"VLOOKUP(A1096,Contrats!A:C,2,0)","v":{"$error":"#N/A"}},{"$f":"VLOOKUP(A1096,Contrats!A:H,5,0)","v":{"$error":"#N/A"}}]
[null,"OK",{"$f":"VLOOKUP(A1097,Contrats!A:C,3,0)","v":{"$error":"#N/A"}},{"$f":"VLOOKUP(A1097,Contrats!A:C,2,0)","v":{"$error":"#N/A"}},{"$f":"VLOOKUP(A1097,Contrats!A:H,5,0)","v":{"$error":"#N/A"}}]
[null,"OK",{"$f":"VLOOKUP(A1098,Contrats!A:C,3,0)","v":{"$error":"#N/A"}},{"$f":"VLOOKUP(A1098,Contrats!A:C,2,0)","v":{"$error":"#N/A"}},{"$f":"VLOOKUP(A1098,Contrats!A:H,5,0)","v":{"$error":"#N/A"}}]
[null,"OK",{"$f":"VLOOKUP(A1099,Contrats!A:C,3,0)","v":{"$error":"#N/A"}},{"$f":"VLOOKUP(A1099,Contrats!A:C,2,0)","v":{"$error":"#N/A"}},{"$f":"VLOOKUP(A1099,Contrats!A:H,5,0)","v":{"$error":"#N/A"}}]
[null,"OK",{"$f":"VLOOKUP(A1100,Contrats!A:C,3,0)","v":{"$error":"#N/A"}},{"$f":"VLOOKUP(A1100,Contrats!A:C,2,0)","v":{"$error":"#N/A"}},{"$f":"VLOOKUP(A1100,Contrats!A:H,5,0)","v":{"$error":"#N/A"}}]
[null,"OK",{"$f":"VLOOKUP(A1101,Contrats!A:C,3,0)","v":{"$error":"#N/A"}},{"$f":"VLOOKUP(A1101,Contrats!A:C,2,0)","v":{"$error":"#N/A"}},{"$f":"VLOOKUP(A1101,Contrats!A:H,5,0)","v":{"$error":"#N/A"}}]
[null,"OK",{"$f":"VLOOKUP(A1102,Contrats!A:C,3,0)","v":{"$error":"#N/A"}},{"$f":"VLOOKUP(A1102,Contrats!A:C,2,0)","v":{"$error":"#N/A"}},{"$f":"VLOOKUP(A1102,Contrats!A:H,5,0)","v":{"$error":"#N/A"}}]
[null,"OK",{"$f":"VLOOKUP(A1103,Contrats!A:C,3,0)","v":{"$error":"#N/A"}},{"$f":"VLOOKUP(A1103,Contrats!A:C,2,0)","v":{"$error":"#N/A"}},{"$f":"VLOOKUP(A1103,Contrats!A:H,5,0)","v":{"$error":"#N/A"}}]
[null,"OK",{"$f":"VLOOKUP(A1104,Contrats!A:C,3,0)","v":{"$error":"#N/A"}},{"$f":"VLOOKUP(A1104,Contrats!A:C,2,0)","v":{"$error":"#N/A"}},{"$f":"VLOOKUP(A1104,Contrats!A:H,5,0)","v":{"$error":"#N/A"}}]
[null,"OK",{"$f":"VLOOKUP(A1105,Contrats!A:C,3,0)","v":{"$error":"#N/A"}},{"$f":"VLOOKUP(A1105,Contrats!A:C,2,0)","v":{"$error":"#N/A"}},{"$f":"VLOOKUP(A1105,Contrats!A:H,5,0)","v":{"$error":"#N/A"}}]
[null,"OK",{"$f":"VLOOKUP(A1106,Contrats!A:C,3,0)","v":{"$error":"#N/A"}},{"$f":"VLOOKUP(A1106,Contrats!A:C,2,0)","v":{"$error":"#N/A"}},{"$f":"VLOOKUP(A1106,Contrats!A:H,5,0)","v":{"$error":"#N/A"}}]
[null,"OK",{"$f":"VLOOKUP(A1107,Contrats!A:C,3,0)","v":{"$error":"#N/A"}},{"$f":"VLOOKUP(A1107,Contrats!A:C,2,0)","v":{"$error":"#N/A"}},{"$f":"VLOOKUP(A1107,Contrats!A:H,5,0)","v":{"$error":"#N/A"}}]
[null,"OK",{"$f":"VLOOKUP(A1108,Contrats!A:C,3,0)","v":{"$error":"#N/A"}},{"$f":"VLOOKUP(A1108,Contrats!A:C,2,0)","v":{"$error":"#N/A"}},{"$f":"VLOOKUP(A1108,Contrats!A:H,5,0)","v":{"$error":"#N/A"}}]
[null,"OK",{"$f":"VLOOKUP(A1109,Contrats!A:C,3,0)","v":{"$error":"#N/A"}},{"$f":"VLOOKUP(A1109,Contrats!A:C,2,0)","v":{"$error":"#N/A"}},{"$f":"VLOOKUP(A1109,Contrats!A:H,5,0)","v":{"$error":"#N/A"}}]
[null,"OK",{"$f":"VLOOKUP(A1110,Contrats!A:C,3,0)","v":{"$error":"#N/A"}},{"$f":"VLOOKUP(A1110,Contrats!A:C,2,0)","v":{"$error":"#N/A"}},{"$f":"VLOOKUP(A1110,Contrats!A:H,5,0)","v":{"$error":"#N/A"}}]
[null,"OK",{"$f":"VLOOKUP(A1111,Contrats!A:C,3,0)","v":{"$error":"#N/A"}},{"$f":"VLOOKUP(A1111,Contrats!A:C,2,0)","v":{"$error":"#N/A"}},{"$f":"VLOOKUP(A1111,Contrats!A:H,5,0)","v":{"$error":"#N/A"}}]
[null,"OK",{"$f":"VLOOKUP(A1112,Contrats!A:C,3,0)","v":{"$error":"#N/A"}},{"$f":"VLOOKUP(A1112,Contrats!A:C,2,0)","v":{"$error":"#N/A"}},{"$f":"VLOOKUP(A1112,Contrats!A:H,5,0)","v":{"$error":"#N/A"}}]
[null,"OK",{"$f":"VLOOKUP(A1113,Contrats!A:C,3,0)","v":{"$error":"#N/A"}},{"$f":"VLOOKUP(A1113,Contrats!A:C,2,0)","v":{"$error":"#N/A"}},{"$f":"VLOOKUP(A1113,Contrats!A:H,5,0)","v":{"$error":"#N/A"}}]
[null,"OK",{"$f":"VLOOKUP(A1114,Contrats!A:C,3,0)","v":{"$error":"#N/A"}},{"$f":"VLOOKUP(A1114,Contrats!A:C,2,0)","v":{"$error":"#N/A"}},{"$f":"VLOOKUP(A1114,Contrats!A:H,5,0)","v":{"$error":"#N/A"}}]
[null,"OK",{"$f":"VLOOKUP(A1115,Contrats!A:C,3,0)","v":{"$error":"#N/A"}},{"$f":"VLOOKUP(A1115,Contrats!A:C,2,0)","v":{"$error":"#N/A"}},{"$f":"VLOOKUP(A1115,Contrats!A:H,5,0)","v":{"$error":"#N/A"}}]
[null,"OK",{"$f":"VLOOKUP(A1116,Contrats!A:C,3,0)","v":{"$error":"#N/A"}},{"$f":"VLOOKUP(A1116,Contrats!A:C,2,0)","v":{"$error":"#N/A"}},{"$f":"VLOOKUP(A1116,Contrats!A:H,5,0)","v":{"$error":"#N/A"}}]
[null,"OK",{"$f":"VLOOKUP(A1117,Contrats!A:C,3,0)","v":{"$error":"#N/A"}},{"$f":"VLOOKUP(A1117,Contrats!A:C,2,0)","v":{"$error":"#N/A"}},{"$f":"VLOOKUP(A1117,Contrats!A:H,5,0)","v":{"$error":"#N/A"}}]
[null,"OK",{"$f":"VLOOKUP(A1118,Contrats!A:C,3,0)","v":{"$error":"#N/A"}},{"$f":"VLOOKUP(A1118,Contrats!A:C,2,0)","v":{"$error":"#N/A"}},{"$f":"VLOOKUP(A1118,Contrats!A:H,5,0)","v":{"$error":"#N/A"}}]
[null,"OK",{"$f":"VLOOKUP(A1119,Contrats!A:C,3,0)","v":{"$error":"#N/A"}},{"$f":"VLOOKUP(A1119,Contrats!A:C,2,0)","v":{"$error":"#N/A"}},{"$f":"VLOOKUP(A1119,Contrats!A:H,5,0)","v":{"$error":"#N/A"}}]
[null,"OK",{"$f":"VLOOKUP(A1120,Contrats!A:C,3,0)","v":{"$error":"#N/A"}},{"$f":"VLOOKUP(A1120,Contrats!A:C,2,0)","v":{"$error":"#N/A"}},{"$f":"VLOOKUP(A1120,Contrats!A:H,5,0)","v":{"$error":"#N/A"}}]
[null,"OK",{"$f":"VLOOKUP(A1121,Contrats!A:C,3,0)","v":{"$error":"#N/A"}},{"$f":"VLOOKUP(A1121,Contrats!A:C,2,0)","v":{"$error":"#N/A"}},{"$f":"VLOOKUP(A1121,Contrats!A:H,5,0)","v":{"$error":"#N/A"}}]
[null,"OK",{"$f":"VLOOKUP(A1122,Contrats!A:C,3,0)","v":{"$error":"#N/A"}},{"$f":"VLOOKUP(A1122,Contrats!A:C,2,0)","v":{"$error":"#N/A"}},{"$f":"VLOOKUP(A1122,Contrats!A:H,5,0)","v":{"$error":"#N/A"}}]
[null,"OK",{"$f":"VLOOKUP(A1123,Contrats!A:C,3,0)","v":{"$error":"#N/A"}},{"$f":"VLOOKUP(A1123,Contrats!A:C,2,0)","v":{"$error":"#N/A"}},{"$f":"VLOOKUP(A1123,Contrats!A:H,5,0)","v":{"$error":"#N/A"}}]
[null,"OK",{"$f":"VLOOKUP(A1124,Contrats!A:C,3,0)","v":{"$error":"#N/A"}},{"$f":"VLOOKUP(A1124,Contrats!A:C,2,0)","v":{"$error":"#N/A"}},{"$f":"VLOOKUP(A1124,Contrats!A:H,5,0)","v":{"$error":"#N/A"}}]
[null,"OK",{"$f":"VLOOKUP(A1125,Contrats!A:C,3,0)","v":{"$error":"#N/A"}},{"$f":"VLOOKUP(A1125,Contrats!A:C,2,0)","v":{"$error":"#N/A"}},{"$f":"VLOOKUP(A1125,Contrats!A:H,5,0)","v":{"$error":"#N/A"}}]
[null,"OK",{"$f":"VLOOKUP(A1126,Contrats!A:C,3,0)","v":{"$error":"#N/A"}},{"$f":"VLOOKUP(A1126,Contrats!A:C,2,0)","v":{"$error":"#N/A"}},{"$f":"VLOOKUP(A1126,Contrats!A:H,5,0)","v":{"$error":"#N/A"}}]
[null,"OK",{"$f":"VLOOKUP(A1127,Contrats!A:C,3,0)","v":{"$error":"#N/A"}},{"$f":"VLOOKUP(A1127,Contrats!A:C,2,0)","v":{"$error":"#N/A"}},{"$f":"VLOOKUP(A1127,Contrats!A:H,5,0)","v":{"$error":"#N/A"}}]
[null,"OK",{"$f":"VLOOKUP(A1128,Contrats!A:C,3,0)","v":{"$error":"#N/A"}},{"$f":"VLOOKUP(A1128,Contrats!A:C,2,0)","v":{"$error":"#N/A"}},{"$f":"VLOOKUP(A1128,Contrats!A:H,5,0)","v":{"$error":"#N/A"}}]
[null,"OK",{"$f":"VLOOKUP(A1129,Contrats!A:C,3,0)","v":{"$error":"#N/A"}},{"$f":"VLOOKUP(A1129,Contrats!A:C,2,0)","v":{"$error":"#N/A"}},{"$f":"VLOOKUP(A1129,Contrats!A:H,5,0)","v":{"$error":"#N/A"}}]
[null,"OK",{"$f":"VLOOKUP(A1130,Contrats!A:C,3,0)","v":{"$error":"#N/A"}},{"$f":"VLOOKUP(A1130,Contrats!A:C,2,0)","v":{"$error":"#N/A"}},{"$f":"VLOOKUP(A1130,Contrats!A:H,5,0)","v":{"$error":"#N/A"}}]
[null,"OK",{"$f":"VLOOKUP(A1131,Contrats!A:C,3,0)","v":{"$error":"#N/A"}},{"$f":"VLOOKUP(A1131,Contrats!A:C,2,0)","v":{"$error":"#N/A"}},{"$f":"VLOOKUP(A1131,Contrats!A:H,5,0)","v":{"$error":"#N/A"}}]
[null,"OK",{"$f":"VLOOKUP(A1132,Contrats!A:C,3,0)","v":{"$error":"#N/A"}},{"$f":"VLOOKUP(A1132,Contrats!A:C,2,0)","v":{"$error":"#N/A"}},{"$f":"VLOOKUP(A1132,Contrats!A:H,5,0)","v":{"$error":"#N/A"}}]
[null,"OK",{"$f":"VLOOKUP(A1133,Contrats!A:C,3,0)","v":{"$error":"#N/A"}},{"$f":"VLOOKUP(A1133,Contrats!A:C,2,0)","v":{"$error":"#N/A"}},{"$f":"VLOOKUP(A1133,Contrats!A:H,5,0)","v":{"$error":"#N/A"}}]
[null,"OK",{"$f":"VLOOKUP(A1134,Contrats!A:C,3,0)","v":{"$error":"#N/A"}},{"$f":"VLOOKUP(A1134,Contrats!A:C,2,0)","v":{"$error":"#N/A"}},{"$f":"VLOOKUP(A1134,Contrats!A:H,5,0)","v":{"$error":"#N/A"}}]
[null,"OK",{"$f":"VLOOKUP(A1135,Contrats!A:C,3,0)","v":{"$error":"#N/A"}},{"$f":"VLOOKUP(A1135,Contrats!A:C,2,0)","v":{"$error":"#N/A"}},{"$f":"VLOOKUP(A1135,Contrats!A:H,5,0)","v":{"$error":"#N/A"}}]
[null,"OK",{"$f":"VLOOKUP(A1136,Contrats!A:C,3,0)","v":{"$error":"#N/A"}},{"$f":"VLOOKUP(A1136,Contrats!A:C,2,0)","v":{"$error":"#N/A"}},{"$f":"VLOOKUP(A1136,Contrats!A:H,5,0)","v":{"$error":"#N/A"}}]
[null,"OK",{"$f":"VLOOKUP(A1137,Contrats!A:C,3,0)","v":{"$error":"#N/A"}},{"$f":"VLOOKUP(A1137,Contrats!A:C,2,0)","v":{"$error":"#N/A"}},{"$f":"VLOOKUP(A1137,Contrats!A:H,5,0)","v":{"$error":"#N/A"}}]
[null,"OK",{"$f":"VLOOKUP(A1138,Contrats!A:C,3,0)","v":{"$error":"#N/A"}},{"$f":"VLOOKUP(A1138,Contrats!A:C,2,0)","v":{"$error":"#N/A"}},{"$f":"VLOOKUP(A1138,Contrats!A:H,5,0)","v":{"$error":"#N/A"}}]
[null,"OK",{"$f":"VLOOKUP(A1139,Contrats!A:C,3,0)","v":{"$error":"#N/A"}},{"$f":"VLOOKUP(A1139,Contrats!A:C,2,0)","v":{"$error":"#N/A"}},{"$f":"VLOOKUP(A1139,Contrats!A:H,5,0)","v":{"$error":"#N/A"}}]
[null,"OK",{"$f":"VLOOKUP(A1140,Contrats!A:C,3,0)","v":{"$error":"#N/A"}},{"$f":"VLOOKUP(A1140,Contrats!A:C,2,0)","v":{"$error":"#N/A"}},{"$f":"VLOOKUP(A1140,Contrats!A:H,5,0)","v":{"$error":"#N/A"}}]
[null,"OK",{"$f":"VLOOKUP(A1141,Contrats!A:C,3,0)","v":{"$error":"#N/A"}},{"$f":"VLOOKUP(A1141,Contrats!A:C,2,0)","v":{"$error":"#N/A"}},{"$f":"VLOOKUP(A1141,Contrats!A:H,5,0)","v":{"$error":"#N/A"}}]
[null,"OK",{"$f":"VLOOKUP(A1142,Contrats!A:C,3,0)","v":{"$error":"#N/A"}},{"$f":"VLOOKUP(A1142,Contrats!A:C,2,0)","v":{"$error":"#N/A"}},{"$f":"VLOOKUP(A1142,Contrats!A:H,5,0)","v":{"$error":"#N/A"}}]
[null,"OK",{"$f":"VLOOKUP(A1143,Contrats!A:C,3,0)","v":{"$error":"#N/A"}},{"$f":"VLOOKUP(A1143,Contrats!A:C,2,0)","v":{"$error":"#N/A"}},{"$f":"VLOOKUP(A1143,Contrats!A:H,5,0)","v":{"$error":"#N/A"}}]
[null,"OK",{"$f":"VLOOKUP(A1144,Contrats!A:C,3,0)","v":{"$error":"#N/A"}},{"$f":"VLOOKUP(A1144,Contrats!A:C,2,0)","v":{"$error":"#N/A"}},{"$f":"VLOOKUP(A1144,Contrats!A:H,5,0)","v":{"$error":"#N/A"}}]
[null,"OK",{"$f":"VLOOKUP(A1145,Contrats!A:C,3,0)","v":{"$error":"#N/A"}},{"$f":"VLOOKUP(A1145,Contrats!A:C,2,0)","v":{"$error":"#N/A"}},{"$f":"VLOOKUP(A1145,Contrats!A:H,5,0)","v":{"$error":"#N/A"}}]
[null,"OK",{"$f":"VLOOKUP(A1146,Contrats!A:C,3,0)","v":{"$error":"#N/A"}},{"$f":"VLOOKUP(A1146,Contrats!A:C,2,0)","v":{"$error":"#N/A"}},{"$f":"VLOOKUP(A1146,Contrats!A:H,5,0)","v":{"$error":"#N/A"}}]
[null,"OK",{"$f":"VLOOKUP(A1147,Contrats!A:C,3,0)","v":{"$error":"#N/A"}},{"$f":"VLOOKUP(A1147,Contrats!A:C,2,0)","v":{"$error":"#N/A"}},{"$f":"VLOOKUP(A1147,Contrats!A:H,5,0)","v":{"$error":"#N/A"}}]
[null,"OK",{"$f":"VLOOKUP(A1148,Contrats!A:C,3,0)","v":{"$error":"#N/A"}},{"$f":"VLOOKUP(A1148,Contrats!A:C,2,0)","v":{"$error":"#N/A"}},{"$f":"VLOOKUP(A1148,Contrats!A:H,5,0)","v":{"$error":"#N/A"}}]
[null,"OK",{"$f":"VLOOKUP(A1149,Contrats!A:C,3,0)","v":{"$error":"#N/A"}},{"$f":"VLOOKUP(A1149,Contrats!A:C,2,0)","v":{"$error":"#N/A"}},{"$f":"VLOOKUP(A1149,Contrats!A:H,5,0)","v":{"$error":"#N/A"}}]
[null,"OK",{"$f":"VLOOKUP(A1150,Contrats!A:C,3,0)","v":{"$error":"#N/A"}},{"$f":"VLOOKUP(A1150,Contrats!A:C,2,0)","v":{"$error":"#N/A"}},{"$f":"VLOOKUP(A1150,Contrats!A:H,5,0)","v":{"$error":"#N/A"}}]
[null,"OK",{"$f":"VLOOKUP(A1151,Contrats!A:C,3,0)","v":{"$error":"#N/A"}},{"$f":"VLOOKUP(A1151,Contrats!A:C,2,0)","v":{"$error":"#N/A"}},{"$f":"VLOOKUP(A1151,Contrats!A:H,5,0)","v":{"$error":"#N/A"}}]
[null,"OK",{"$f":"VLOOKUP(A1152,Contrats!A:C,3,0)","v":{"$error":"#N/A"}},{"$f":"VLOOKUP(A1152,Contrats!A:C,2,0)","v":{"$error":"#N/A"}},{"$f":"VLOOKUP(A1152,Contrats!A:H,5,0)","v":{"$error":"#N/A"}}]
[null,"OK",{"$f":"VLOOKUP(A1153,Contrats!A:C,3,0)","v":{"$error":"#N/A"}},{"$f":"VLOOKUP(A1153,Contrats!A:C,2,0)","v":{"$error":"#N/A"}},{"$f":"VLOOKUP(A1153,Contrats!A:H,5,0)","v":{"$error":"#N/A"}}]
[null,"OK",{"$f":"VLOOKUP(A1154,Contrats!A:C,3,0)","v":{"$error":"#N/A"}},{"$f":"VLOOKUP(A1154,Contrats!A:C,2,0)","v":{"$error":"#N/A"}},{"$f":"VLOOKUP(A1154,Contrats!A:H,5,0)","v":{"$error":"#N/A"}}]
[null,"OK",{"$f":"VLOOKUP(A1155,Contrats!A:C,3,0)","v":{"$error":"#N/A"}},{"$f":"VLOOKUP(A1155,Contrats!A:C,2,0)","v":{"$error":"#N/A"}},{"$f":"VLOOKUP(A1155,Contrats!A:H,5,0)","v":{"$error":"#N/A"}}]
[null,"OK",{"$f":"VLOOKUP(A1156,Contrats!A:C,3,0)","v":{"$error":"#N/A"}},{"$f":"VLOOKUP(A1156,Contrats!A:C,2,0)","v":{"$error":"#N/A"}},{"$f":"VLOOKUP(A1156,Contrats!A:H,5,0)","v":{"$error":"#N/A"}}]

{"sheet":"equipe","index":9,"n_rows":6,"n_cols":2,"rows_kept":6,"cut":false,"hidden":true,"merged":[]}
["Abderahmen Bellalouna","ABLOUNA"]
["Asma Loghmari","ASLOGHM"]
["Rim graiet","RIGRAIET"]
["Siwar ghodbane","SIGHW"]
["Amina X","AmiraX"]
["Hanen X","HanenX"]

{"sheet":"Liste CC","index":10,"n_rows":7,"n_cols":2,"rows_kept":7,"cut":false,"hidden":true,"merged":[]}
["Nom et Prénom","LOG"]
["Abderahmen Bellalouna","ABLOUNA"]
["Asma Loghmari","ASLOGHM"]
["Rim graiet","RIGRAIET"]
["Siwar ghodbane","SIGHW"]
["Amina X","AmiraX"]
["Hanen X","HanenX"]

{"sheet":"CAES REJETES","index":11,"n_rows":11,"n_cols":9,"rows_kept":11,"cut":false,"hidden":false,"merged":[]}
["LOG"," NOM CC","NBRE DES CASES","NBRE REJETS","Taux","TAUX D'Atteinte",null," NOM CC","NBRE DES CASES"]
[null,null,0,0,{"$f":"100%-(D2/C2)","v":{"$error":"#DIV/0!"}},{"$f":"IF(E2>95%,100%,IF(E2<95%,IF(E2>90%,50%,0%)))","v":{"$error":"#DIV/0!"}},null,null,0]
[null,null,{"$f":"VLOOKUP(B3,H:I,2,0)","v":{"$error":"#N/A"}},0,{"$error":"#N/A"},{"$f":"IF(E3>95%,100%,IF(E3<95%,IF(E3>90%,50%,0%)))","v":{"$error":"#N/A"}},null,null,0]
[null,null,{"$error":"#N/A"},0,{"$error":"#N/A"},{"$error":"#N/A"},null,null,0]
[null,null,{"$error":"#N/A"},0,{"$error":"#N/A"},{"$error":"#N/A"},null,null,0]
[null,null,{"$error":"#N/A"},0,{"$error":"#N/A"},{"$error":"#N/A"},null,null,0]
[null,null,{"$error":"#N/A"},0,{"$error":"#N/A"},{"$error":"#N/A"},null,null,0]
[null,null,{"$error":"#N/A"},0,{"$error":"#N/A"},{"$error":"#N/A"},null,null,0]
[null,null,{"$error":"#N/A"},0,{"$error":"#N/A"},{"$error":"#N/A"},null,null,0]
[null,null,{"$error":"#N/A"},0,{"$error":"#N/A"},{"$error":"#N/A"},null,null,0]
[null,null,{"$error":"#N/A"},0,{"$error":"#N/A"},{"$error":"#N/A"},null,null,0]

{"sheet":"CATALOGUE SMARTPHONES","index":12,"n_rows":130,"n_cols":3,"rows_kept":130,"cut":false,"hidden":true,"merged":[]}
["Nom du produit","Code Produit","ETAT"]
["GALAXY STAR+ DS S7262 BLACK","083001003001","OK"]
["SAMSUNG J1 MINI Prime 4G BLACK","045001070001","OK"]
["HUAWEI GR5 2017 GOLD","083013025002","OK"]
["PORTABLE ALCATEL 908 F B.BLACK","045002000013","OK"]
["IPHONE 7 32 GO SILVER","045011022002","OK"]
["SAMSUNG S6 EDGE +  BLACK","083001033001","OK"]
["IPHONE 7 + 128 GO GOLD","045011023007","OK"]
["SAMSUNG S8 + VILOET","045001077003","OK"]
["SERVICOM EASY CLASS BLACK","083025003001","OK"]
["DORO 8031 4G GOLD","045020001003","OK"]
["ASUS ZENFONE 3 BLACK","083023004001","OK"]
["SAMSUNG A3 2016 4G BLACK","045001066001","OK"]
["HUAWEI G9 NOVA PLUS GREY","083013022002","OK"]
["LENOVO B GOLD","045017004003","OK"]
["HUAWEI GR3 2017 GOLD","083013024003","OK"]
["SAMSUNG  J5 WHITE","083001032002","OK"]
["OPPO F1S GOLD","083021005001","OK"]
["HUAWEI Y625 WHITE","083013005002","OK"]
["LENOVO A BLACK","083017001001","OK"]
["HUAWEI GR5 SILVER","045013017001","OK"]
["SAMSUNG  J5 BLACK","083001032001","OK"]
["SAMSUNG S8 VIOLET","045001076003","OK"]
["SAMSUNG GRAND PRIME + BLACK","045001074001","OK"]
["NOKIA 3 DS Tempered Blue","083003015003","OK"]
["IPHONE 7 32 GO GOLD","045011022003","OK"]
["OPPO A37 GOLD","083021004001","OK"]
["ORANGE RISE 30 WHITE","045002019002","OK"]
["HUAWEI GR3 2017 WHITE","083013024002","OK"]
["LENOVO MOTO Z BLACK","083017004001","OK"]
["DORO 8031 4G BLACK","083020001001","OK"]
["IPHONE 7 + 32 GO BLACK","045011023001","OK"]
["Samsung ACE 4 lite DS BLACK","083001012001","OK"]
["LENOVO A WHITE","083017001002","OK"]
["HUAWEI GR5 GRAY","045013017002","OK"]
["IPHONE 7 + 32 GO SILVER","045011023002","OK"]
["SAMSUNG J7 4G GOLD","083001039003","OK"]
["SERVICOM EASY PREMIUM WHiTE","083025004002","OK"]
["SAMSUNG A7 2016 4G PINK GOLD","045001064003","OK"]
["SAMSUNG A3 2016 4G WHITE","045001066002","OK"]
["SAMSUNG J1 MINI Prime 4G WHITE","045001070002","OK"]
["SAMSUNG A3 2016 4G GOLD","045001066004","OK"]
["HUAWEI GR3 2017 BLACK","083013024001","OK"]
["EVERTEK EVERSOLO GREY","083012002001","OK"]
["SAMSUNG E1202 EIDER DS I.BLEU","045001018001","OK"]
["IPHONE 7 + 32 GO ROSE GOLD","045011023004","OK"]
["SAMSUNG GALAXY TAB A 10' BLCK","086003000013","OK"]
["OPPO NEO 7 WHITE","083021002002","OK"]
["SERVICOM EASY PREMIUM BLACK","083025004001","OK"]
["SAMSUNG J3 4G GOLD","045001067003","OK"]
["SAMSUNG J1 MINI Prime 4G GOLD","045001070003","OK"]
["HUAWEI GR5 MINI SILVER","045013025002","OK"]
["HUAWEI GR5 MINI GOLD","045013025003","OK"]
["NOKIA X2 BLACK","045003043001","OK"]
["IPHONE 7 + 32 GO GOLD","045011023003","OK"]
["SAMSUNG GALAXY TAB A 10' WHTE","086003000014","OK"]
["SAMSUNG S8 + BLACK","045001077001","OK"]
["SAMSUNG A5 2016 4G BLACK","045001065001","OK"]
["DORO 8031 4G BLACK","045020001001","OK"]
["DORO 8031 4G WHITE","045020001002","OK"]
["HUAWEI GR5 MINI GREY","045013025001","OK"]
["SAMSUNG J1 MINI PRIME 3G BLACK","083001047001","OK"]
["SAMSUNG A5 2017 PEACH CLOUD","083001050004","OK"]
["SAMSUNG A3 2017 PEACH CLOUD","083001051003","OK"]
["SAMSUNG J7 4G WHITE","083001039002","OK"]
["SAMSUNG J5 Prime 4G BLACK","083001052001","OK"]
["EVERTEK MIRACLE POWER BLEU","083012004001","OK"]
["HUAWEI GR3 SILVER","045013023002","OK"]
["SAMSUNG A3 2016 4G PINK GOLD","083001040003","OK"]
["IPHONE 7 + 128 GO RED","045011023015","OK"]
["HUAWEI Y3-II BLACK","045013018001","OK"]
["IPHONE 7 32 GO ROSE GOLD","045011022004","OK"]
["ASUS ZENFONE GO BLACK","083023001002","OK"]
["HUAWEI G9 NOVA PLUS SILVER","083013022001","OK"]
["LENOVO MOTO Z WHITE","083017004002","OK"]
["LENOVO B BLACK","045017004001","OK"]
["LENOVO B WHITE","045017004002","OK"]
["ASUS ZENFONE GO RED","083023001004","OK"]
["SAMSUNG A3 2017 GOLD","083001051002","OK"]
["HUAWEI P9 LITE WHITE","045013021001","OK"]
["IPHONE 7 128 GO RED","045011022015","OK"]
["NOKIA 3 DS Matte Black","083003015001","OK"]
["ASUS ZENFONE3  max SILVER","083023002003","OK"]
["ASUS ZENFONE 3 LASER SILVER","083023003002","OK"]
["HUAWEI G9 NOVA PLUS GOLD","083013022003","OK"]
["LENOVO B RED","045017004004","OK"]
["SAMSUNG A3 2017 BLUE","083001051004","OK"]
["SAMSUNG J7 Prime 4G GOLD","083001053002","OK"]
["SAMSUNG J1 MINI PRIME 3G GOLD","083001047002","OK"]
["TECNO N9 WHITE","045019001002","OK"]
["TECNO N9 BLACK","045019001001","OK"]
["SAMSUNG  J5 GOLD","083001032003","OK"]
["POWERBANK POUR LUMIA 535","047006000170","OK"]
["HUAWEI MATE 9 GREY","083013023002","OK"]
["SAMSUNG J3 4G BLACK","045001067001","OK"]
["SAMSUNG GRAND PRIME + SILVER","045001074002","OK"]
["HUAWEI Y5-II BLACK","045013019001","OK"]
["HUAWEI Y5-II BLACK","045013019001","OK"]
["SAMSUNG GRAND PRIME + SILVER","045001074002","OK"]
["SAMSUNG GRAND PRIME + SILVER","045001074002","OK"]
["SAMSUNG S8 GOLD","045001076002","OK"]
["HUAWEI Y3-II WHITE","045013018002","OK"]
["HUAWEI HUAWEI Y6-II BLACK","045013024001","OK"]
["HUAWEI Y3-II WHITE","045013018002","OK"]
["HUAWEI Y5-II GOLD","045013019003","OK"]
["HUAWEI HUAWEI Y6-II WHITE","045013024002","OK"]
["ASUS ZENFONE 3 max GOLD","083023002002","OK"]
["HUAWEI Y5-II GOLD","045013019003","OK"]
["HUAWEI Y5-II GOLD","045013019003","OK"]
["SAMSUNG J5 Prime 4G GOLD","083001052002","OK"]
["HUAWEI Y5-II GOLD","045013019003","OK"]
["ASUS ZENFONE GO SILVER","083023001001","OK"]
["SAMSUNG S7 EDGE BLACK","045001059002","OK"]
["HUAWEI Y5-II GOLD","045013019003","OK"]
["SAMSUNG A5 2016 4G WHITE","045001065002","OK"]
["HUAWEI Y3-II WHITE","045013018002","OK"]
["HUAWEI HUAWEI Y6-II WHITE","045013024002","OK"]
["SAMSUNG S8 GOLD","045001076002","OK"]
["HUAWEI Y5-II GOLD","045013019003","OK"]
["HUAWEI Y3-II WHITE","045013018002","OK"]
["SAMSUNG GRAND PRIME + SILVER","045001074002","OK"]
["HUAWEI Y3-II WHITE","045013018002","OK"]
["SAMSUNG GRAND PRIME + SILVER","045001074002","OK"]
["HUAWEI Y3-II WHITE","045013018002","OK"]
["SAMSUNG GRAND PRIME + SILVER","045001074002","OK"]
["HUAWEI Y5-II GOLD","045013019003","OK"]
["SAMSUNG GRAND PRIME + GOLD","045001074003","OK"]
["SAMSUNG GRAND PRIME + GOLD","045001074003","OK"]
["SAMSUNG J1 ACE 4G WHITE","045001062001","OK"]
["SAMSUNG GRAND PRIME + GOLD","045001074003","OK"]

{"sheet":"Baréme Relax","index":13,"n_rows":12,"n_cols":4,"rows_kept":12,"cut":false,"hidden":true,"merged":[]}
["MODELE","PRODUCT_CODE","DESCRIPTION","POIDS"]
["ASSURANCE","999100002001","ASSURANCE CASSE","3"]
[null,"999100002002","ASSURANCE CASSE ET VOL","3"]
["moyenne des poids ",null,null,"3"]
["ORANGE EXPERT","999100001006","SVC PACK DEMARRAGE SMART TAB","2"]
[null,"999100003001","SVC ASSISTANCE PRO","0"]
["moyenne des poids ",null,null,"2"]
["TRANSFERT","999100001001","SVC SAUVEGARDE DONNEES","2"]
[null,"999100001002","SVC RESTAURATION DONNEES","2"]
[null,"999100001003","SERVICE TRANSFERT CONTACT","2"]
[null,"999100001004","SERVICE TRANSFERT DONNEES","2"]
[null,"999100001005","SVC TRANSFERT DONN + COPIE USB","3"]

{"sheet":"journal des ventes","index":14,"n_rows":1080,"n_cols":13,"rows_kept":1080,"cut":false,"hidden":true,"merged":[]}
["Utilisateur","Date","Ref produit","Nom produit","Quantité payée","Utilisateur","Quantité non payée","Prix de vente non payé","Quantité totale","Montant total","Marché","ETAT SMARTPHONE","Relax"]
["SIGHW","15 août 2017","P53327","Pack  - offre Pass","1","0,000","0","0,000",1,"0,000","Mobile",{"$f":"VLOOKUP(D2,'CATALOGUE SMARTPHONES'!A:C,3,0)","v":{"$error":"#N/A"}},{"$f":"IFERROR((VLOOKUP(C2,'Baréme Relax'!B:D,3,0)),0)","v":0}]
["ASLOGHM","15 août 2017","044004000010","Recharge Express","30","33,000","0","0,000",30,"33,000","Mobile",{"$f":"VLOOKUP(D3,'CATALOGUE SMARTPHONES'!A:C,3,0)","v":{"$error":"#N/A"}},{"$f":"IFERROR((VLOOKUP(C3,'Baréme Relax'!B:D,3,0)),0)","v":0}]
["ASLOGHM","15 août 2017","044004000010","Recharge Express","20","22,000","0","0,000",20,"22,000","Mobile",{"$f":"VLOOKUP(D4,'CATALOGUE SMARTPHONES'!A:C,3,0)","v":{"$error":"#N/A"}},{"$f":"IFERROR((VLOOKUP(C4,'Baréme Relax'!B:D,3,0)),0)","v":0}]
["RIGRAIET","15 août 2017","PRE21","Melle5er","1","0,000","0","0,000",1,"0,000","Mobile",{"$f":"VLOOKUP(D5,'CATALOGUE SMARTPHONES'!A:C,3,0)","v":{"$error":"#N/A"}},{"$f":"IFERROR((VLOOKUP(C5,'Baréme Relax'!B:D,3,0)),0)","v":0}]
["ASLOGHM","15 août 2017","PRE21","Melle5er","4","0,000","0","0,000",4,"0,000","Mobile",{"$f":"VLOOKUP(D6,'CATALOGUE SMARTPHONES'!A:C,3,0)","v":{"$error":"#N/A"}},{"$f":"IFERROR((VLOOKUP(C6,'Baréme Relax'!B:D,3,0)),0)","v":0}]
["ASLOGHM","15 août 2017","P56567","Pack Sim data - offre Simply  7,5 Go + illimité","1","0,000","0","0,000",1,"0,000","Mobile",{"$f":"VLOOKUP(D7,'CATALOGUE SMARTPHONES'!A:C,3,0)","v":{"$error":"#N/A"}},{"$f":"IFERROR((VLOOKUP(C7,'Baréme Relax'!B:D,3,0)),0)","v":0}]
["ASLOGHM","15 août 2017","PRE23","El Jam3ia Mobile","4","0,000","0","0,000",4,"0,000","Mobile",{"$f":"VLOOKUP(D8,'CATALOGUE SMARTPHONES'!A:C,3,0)","v":{"$error":"#N/A"}},{"$f":"IFERROR((VLOOKUP(C8,'Baréme Relax'!B:D,3,0)),0)","v":0}]
["ABLOUNA","15 août 2017","044004000010","Recharge Express","13","14,300","0","0,000",13,"14,300","Mobile",{"$f":"VLOOKUP(D9,'CATALOGUE SMARTPHONES'!A:C,3,0)","v":{"$error":"#N/A"}},{"$f":"IFERROR((VLOOKUP(C9,'Baréme Relax'!B:D,3,0)),0)","v":0}]
["ASLOGHM","15 août 2017","999100001003","SERVICE TRANSFERT CONTACT","1","3,000","0","0,000",1,"3,000","Mobile",{"$f":"VLOOKUP(D10,'CATALOGUE SMARTPHONES'!A:C,3,0)","v":{"$error":"#N/A"}},{"$f":"IFERROR((VLOOKUP(C10,'Baréme Relax'!B:D,3,0)),0)","v":"2"}]
["ASLOGHM","15 août 2017","PRE10","offre Pass","1","0,000","0","0,000",1,"0,000","Mobile",{"$f":"VLOOKUP(D11,'CATALOGUE SMARTPHONES'!A:C,3,0)","v":{"$error":"#N/A"}},{"$f":"IFERROR((VLOOKUP(C11,'Baréme Relax'!B:D,3,0)),0)","v":0}]
["ASLOGHM","15 août 2017","044004000010","Recharge Express","24","26,400","0","0,000",24,"26,400","Mobile",{"$f":"VLOOKUP(D12,'CATALOGUE SMARTPHONES'!A:C,3,0)","v":{"$error":"#N/A"}},{"$f":"IFERROR((VLOOKUP(C12,'Baréme Relax'!B:D,3,0)),0)","v":0}]
["ABLOUNA","15 août 2017","044004000010","Recharge Express","15","16,500","0","0,000",15,"16,500","Mobile",{"$f":"VLOOKUP(D13,'CATALOGUE SMARTPHONES'!A:C,3,0)","v":{"$error":"#N/A"}},{"$f":"IFERROR((VLOOKUP(C13,'Baréme Relax'!B:D,3,0)),0)","v":0}]
["SIGHW","15 août 2017","PRE10","offre Pass","1","0,000","0","0,000",1,"0,000","Mobile",{"$f":"VLOOKUP(D14,'CATALOGUE SMARTPHONES'!A:C,3,0)","v":{"$error":"#N/A"}},{"$f":"IFERROR((VLOOKUP(C14,'Baréme Relax'!B:D,3,0)),0)","v":0}]
["SIGHW","15 août 2017","PRE17","3alami","1","0,000","0","0,000",1,"0,000","Mobile",{"$f":"VLOOKUP(D15,'CATALOGUE SMARTPHONES'!A:C,3,0)","v":{"$error":"#N/A"}},{"$f":"IFERROR((VLOOKUP(C15,'Baréme Relax'!B:D,3,0)),0)","v":0}]
["ABLOUNA","15 août 2017","044004000010","Recharge Express","30","33,000","0","0,000",30,"33,000","Mobile",{"$f":"VLOOKUP(D16,'CATALOGUE SMARTPHONES'!A:C,3,0)","v":{"$error":"#N/A"}},{"$f":"IFERROR((VLOOKUP(C16,'Baréme Relax'!B:D,3,0)),0)","v":0}]
["ABLOUNA","15 août 2017","044004000010","Recharge Express","12","13,200","0","0,000",12,"13,200","Mobile",{"$f":"VLOOKUP(D17,'CATALOGUE SMARTPHONES'!A:C,3,0)","v":{"$error":"#N/A"}},{"$f":"IFERROR((VLOOKUP(C17,'Baréme Relax'!B:D,3,0)),0)","v":0}]
["ABLOUNA","15 août 2017","PRE03","offre Simply","1","0,000","0","0,000",1,"0,000","Mobile",{"$f":"VLOOKUP(D18,'CATALOGUE SMARTPHONES'!A:C,3,0)","v":{"$error":"#N/A"}},{"$f":"IFERROR((VLOOKUP(C18,'Baréme Relax'!B:D,3,0)),0)","v":0}]
["ASLOGHM","15 août 2017","P53327","Pack  - offre Pass","1","0,000","0","0,000",1,"0,000","Mobile",{"$f":"VLOOKUP(D19,'CATALOGUE SMARTPHONES'!A:C,3,0)","v":{"$error":"#N/A"}},{"$f":"IFERROR((VLOOKUP(C19,'Baréme Relax'!B:D,3,0)),0)","v":0}]
["SIGHW","15 août 2017","044004000010","Recharge Express","25","27,500","0","0,000",25,"27,500","Mobile",{"$f":"VLOOKUP(D20,'CATALOGUE SMARTPHONES'!A:C,3,0)","v":{"$error":"#N/A"}},{"$f":"IFERROR((VLOOKUP(C20,'Baréme Relax'!B:D,3,0)),0)","v":0}]
["ABLOUNA","15 août 2017","PRE23","El Jam3ia Mobile","8","0,000","0","0,000",8,"0,000","Mobile",{"$f":"VLOOKUP(D21,'CATALOGUE SMARTPHONES'!A:C,3,0)","v":{"$error":"#N/A"}},{"$f":"IFERROR((VLOOKUP(C21,'Baréme Relax'!B:D,3,0)),0)","v":0}]
["ASLOGHM","15 août 2017","044004000010","Recharge Express","30","33,000","0","0,000",30,"33,000","Mobile",{"$f":"VLOOKUP(D22,'CATALOGUE SMARTPHONES'!A:C,3,0)","v":{"$error":"#N/A"}},{"$f":"IFERROR((VLOOKUP(C22,'Baréme Relax'!B:D,3,0)),0)","v":0}]
["ABLOUNA","15 août 2017","044004000010","Recharge Express","60","66,000","0","0,000",60,"66,000","Mobile",{"$f":"VLOOKUP(D23,'CATALOGUE SMARTPHONES'!A:C,3,0)","v":{"$error":"#N/A"}},{"$f":"IFERROR((VLOOKUP(C23,'Baréme Relax'!B:D,3,0)),0)","v":0}]
["ABLOUNA","15 août 2017","PRE17","3alami","1","0,000","0","0,000",1,"0,000","Mobile",{"$f":"VLOOKUP(D24,'CATALOGUE SMARTPHONES'!A:C,3,0)","v":{"$error":"#N/A"}},{"$f":"IFERROR((VLOOKUP(C24,'Baréme Relax'!B:D,3,0)),0)","v":0}]
["ASLOGHM","15 août 2017","044004000010","Recharge Express","10","11,000","0","0,000",10,"11,000","Mobile",{"$f":"VLOOKUP(D25,'CATALOGUE SMARTPHONES'!A:C,3,0)","v":{"$error":"#N/A"}},{"$f":"IFERROR((VLOOKUP(C25,'Baréme Relax'!B:D,3,0)),0)","v":0}]
["ABLOUNA","15 août 2017","PRE21","Melle5er","3","0,000","0","0,000",3,"0,000","Mobile",{"$f":"VLOOKUP(D26,'CATALOGUE SMARTPHONES'!A:C,3,0)","v":{"$error":"#N/A"}},{"$f":"IFERROR((VLOOKUP(C26,'Baréme Relax'!B:D,3,0)),0)","v":0}]
["ABLOUNA","15 août 2017","P56567","Pack Sim data - offre Simply  7,5 Go + illimité","1","0,000","0","0,000",1,"0,000","Mobile",{"$f":"VLOOKUP(D27,'CATALOGUE SMARTPHONES'!A:C,3,0)","v":{"$error":"#N/A"}},{"$f":"IFERROR((VLOOKUP(C27,'Baréme Relax'!B:D,3,0)),0)","v":0}]
["ASLOGHM","15 août 2017","PRE03","offre Simply","1","0,000","0","0,000",1,"0,000","Mobile",{"$f":"VLOOKUP(D28,'CATALOGUE SMARTPHONES'!A:C,3,0)","v":{"$error":"#N/A"}},{"$f":"IFERROR((VLOOKUP(C28,'Baréme Relax'!B:D,3,0)),0)","v":0}]
["ASLOGHM","15 août 2017","044004000010","Recharge Express","15","16,500","0","0,000",15,"16,500","Mobile",{"$f":"VLOOKUP(D29,'CATALOGUE SMARTPHONES'!A:C,3,0)","v":{"$error":"#N/A"}},{"$f":"IFERROR((VLOOKUP(C29,'Baréme Relax'!B:D,3,0)),0)","v":0}]
["SIGHW","15 août 2017","043007000004","CARTE SIM 4G DATA MULTI SIM","1","5,000","0","0,000",1,"5,000","Mobile",{"$f":"VLOOKUP(D30,'CATALOGUE SMARTPHONES'!A:C,3,0)","v":{"$error":"#N/A"}},{"$f":"IFERROR((VLOOKUP(C30,'Baréme Relax'!B:D,3,0)),0)","v":0}]
["ASLOGHM","15 août 2017","043007000004","CARTE SIM 4G DATA MULTI SIM","1","5,000","0","0,000",1,"5,000","Mobile",{"$f":"VLOOKUP(D31,'CATALOGUE SMARTPHONES'!A:C,3,0)","v":{"$error":"#N/A"}},{"$f":"IFERROR((VLOOKUP(C31,'Baréme Relax'!B:D,3,0)),0)","v":0}]
["SIGHW","15 août 2017","043006000003","CARTE SIM 4G PRE MULTI SIM","1","0,000","0","0,000",1,"0,000","Mobile",{"$f":"VLOOKUP(D32,'CATALOGUE SMARTPHONES'!A:C,3,0)","v":{"$error":"#N/A"}},{"$f":"IFERROR((VLOOKUP(C32,'Baréme Relax'!B:D,3,0)),0)","v":0}]
["ABLOUNA","15 août 2017","043007000004","CARTE SIM 4G DATA MULTI SIM","1","30,000","0","0,000",1,"30,000","Mobile",{"$f":"VLOOKUP(D33,'CATALOGUE SMARTPHONES'!A:C,3,0)","v":{"$error":"#N/A"}},{"$f":"IFERROR((VLOOKUP(C33,'Baréme Relax'!B:D,3,0)),0)","v":0}]
["ABLOUNA","15 août 2017","043006000003","CARTE SIM 4G PRE MULTI SIM","5","0,000","0","0,000",5,"0,000","Mobile",{"$f":"VLOOKUP(D34,'CATALOGUE SMARTPHONES'!A:C,3,0)","v":{"$error":"#N/A"}},{"$f":"IFERROR((VLOOKUP(C34,'Baréme Relax'!B:D,3,0)),0)","v":0}]
["ABLOUNA","15 août 2017","188003000016","Modem Huawei HG532","1","0,000","0","0,000",1,"0,000","ADSL",{"$f":"VLOOKUP(D35,'CATALOGUE SMARTPHONES'!A:C,3,0)","v":{"$error":"#N/A"}},{"$f":"IFERROR((VLOOKUP(C35,'Baréme Relax'!B:D,3,0)),0)","v":0}]
["RIGRAIET","15 août 2017","043006000003","CARTE SIM 4G PRE MULTI SIM","1","0,000","0","0,000",1,"0,000","Mobile",{"$f":"VLOOKUP(D36,'CATALOGUE SMARTPHONES'!A:C,3,0)","v":{"$error":"#N/A"}},{"$f":"IFERROR((VLOOKUP(C36,'Baréme Relax'!B:D,3,0)),0)","v":0}]
["ASLOGHM","15 août 2017","043001000114","CARTE PREACTIVEE VD","4","12,000","0","0,000",4,"12,000","Mobile",{"$f":"VLOOKUP(D37,'CATALOGUE SMARTPHONES'!A:C,3,0)","v":{"$error":"#N/A"}},{"$f":"IFERROR((VLOOKUP(C37,'Baréme Relax'!B:D,3,0)),0)","v":0}]
["ASLOGHM","15 août 2017","043006000003","CARTE SIM 4G PRE MULTI SIM","2","0,000","0","0,000",2,"0,000","Mobile",{"$f":"VLOOKUP(D38,'CATALOGUE SMARTPHONES'!A:C,3,0)","v":{"$error":"#N/A"}},{"$f":"IFERROR((VLOOKUP(C38,'Baréme Relax'!B:D,3,0)),0)","v":0}]
["ASLOGHM","15 août 2017","043006000003","CARTE SIM 4G PRE MULTI SIM","1","3,000","0","0,000",1,"3,000","Mobile",{"$f":"VLOOKUP(D39,'CATALOGUE SMARTPHONES'!A:C,3,0)","v":{"$error":"#N/A"}},{"$f":"IFERROR((VLOOKUP(C39,'Baréme Relax'!B:D,3,0)),0)","v":0}]
["ASLOGHM","15 août 2017","043007000004","CARTE SIM 4G DATA MULTI SIM","1","30,000","0","0,000",1,"30,000","Mobile",{"$f":"VLOOKUP(D40,'CATALOGUE SMARTPHONES'!A:C,3,0)","v":{"$error":"#N/A"}},{"$f":"IFERROR((VLOOKUP(C40,'Baréme Relax'!B:D,3,0)),0)","v":0}]
["ABLOUNA","15 août 2017","043006000003","CARTE SIM 4G PRE MULTI SIM","1","3,000","0","0,000",1,"3,000","Mobile",{"$f":"VLOOKUP(D41,'CATALOGUE SMARTPHONES'!A:C,3,0)","v":{"$error":"#N/A"}},{"$f":"IFERROR((VLOOKUP(C41,'Baréme Relax'!B:D,3,0)),0)","v":0}]
["ASLOGHM","15 août 2017","043006000003","CARTE SIM 4G PRE MULTI SIM","3","15,000","0","0,000",3,"15,000","Mobile",{"$f":"VLOOKUP(D42,'CATALOGUE SMARTPHONES'!A:C,3,0)","v":{"$error":"#N/A"}},{"$f":"IFERROR((VLOOKUP(C42,'Baréme Relax'!B:D,3,0)),0)","v":0}]
["ABLOUNA","15 août 2017","043001000114","CARTE PREACTIVEE VD","8","24,000","0","0,000",8,"24,000","Mobile",{"$f":"VLOOKUP(D43,'CATALOGUE SMARTPHONES'!A:C,3,0)","v":{"$error":"#N/A"}},{"$f":"IFERROR((VLOOKUP(C43,'Baréme Relax'!B:D,3,0)),0)","v":0}]
["RIGRAIET","14 août 2017","044004000010","Recharge Express","30","33,000","0","0,000",30,"33,000","Mobile",{"$f":"VLOOKUP(D44,'CATALOGUE SMARTPHONES'!A:C,3,0)","v":{"$error":"#N/A"}},{"$f":"IFERROR((VLOOKUP(C44,'Baréme Relax'!B:D,3,0)),0)","v":0}]
["RIGRAIET","14 août 2017","PRE10","offre Pass","5","0,000","0","0,000",5,"0,000","Mobile",{"$f":"VLOOKUP(D45,'CATALOGUE SMARTPHONES'!A:C,3,0)","v":{"$error":"#N/A"}},{"$f":"IFERROR((VLOOKUP(C45,'Baréme Relax'!B:D,3,0)),0)","v":0}]
["RIGRAIET","14 août 2017","PRE21","Melle5er","6","0,000","0","0,000",6,"0,000","Mobile",{"$f":"VLOOKUP(D46,'CATALOGUE SMARTPHONES'!A:C,3,0)","v":{"$error":"#N/A"}},{"$f":"IFERROR((VLOOKUP(C46,'Baréme Relax'!B:D,3,0)),0)","v":0}]
["SIGHW","14 août 2017","PRE10","offre Pass","2","0,000","0","0,000",2,"0,000","Mobile",{"$f":"VLOOKUP(D47,'CATALOGUE SMARTPHONES'!A:C,3,0)","v":{"$error":"#N/A"}},{"$f":"IFERROR((VLOOKUP(C47,'Baréme Relax'!B:D,3,0)),0)","v":0}]
["RIGRAIET","14 août 2017","P53287"," Clé 3G E3531 é?Offre Pass é? Bonus Internet 3Go - 1 mois      ","1","0,000","0","0,000",1,"0,000","Mobile",{"$f":"VLOOKUP(D48,'CATALOGUE SMARTPHONES'!A:C,3,0)","v":{"$error":"#N/A"}},{"$f":"IFERROR((VLOOKUP(C48,'Baréme Relax'!B:D,3,0)),0)","v":0}]
["ABLOUNA","14 août 2017","PRE23","El Jam3ia Mobile","2","0,000","0","0,000",2,"0,000","Mobile",{"$f":"VLOOKUP(D49,'CATALOGUE SMARTPHONES'!A:C,3,0)","v":{"$error":"#N/A"}},{"$f":"IFERROR((VLOOKUP(C49,'Baréme Relax'!B:D,3,0)),0)","v":0}]
["ABLOUNA","14 août 2017","HYB13","Flybox home","1","0,000","0","0,000",1,"0,000","Mobile",{"$f":"VLOOKUP(D50,'CATALOGUE SMARTPHONES'!A:C,3,0)","v":{"$error":"#N/A"}},{"$f":"IFERROR((VLOOKUP(C50,'Baréme Relax'!B:D,3,0)),0)","v":0}]
["ABLOUNA","14 août 2017","044004000010","Recharge Express","5","5,500","0","0,000",5,"5,500","Mobile",{"$f":"VLOOKUP(D51,'CATALOGUE SMARTPHONES'!A:C,3,0)","v":{"$error":"#N/A"}},{"$f":"IFERROR((VLOOKUP(C51,'Baréme Relax'!B:D,3,0)),0)","v":0}]
["SIGHW","14 août 2017","044004000010","Recharge Express","10","11,000","0","0,000",10,"11,000","Mobile",{"$f":"VLOOKUP(D52,'CATALOGUE SMARTPHONES'!A:C,3,0)","v":{"$error":"#N/A"}},{"$f":"IFERROR((VLOOKUP(C52,'Baréme Relax'!B:D,3,0)),0)","v":0}]
["RIGRAIET","14 août 2017","999100001003","SERVICE TRANSFERT CONTACT","2","6,000","0","0,000",2,"6,000","Mobile",{"$f":"VLOOKUP(D53,'CATALOGUE SMARTPHONES'!A:C,3,0)","v":{"$error":"#N/A"}},{"$f":"IFERROR((VLOOKUP(C53,'Baréme Relax'!B:D,3,0)),0)","v":"2"}]
["RIGRAIET","14 août 2017","044004000010","Recharge Express","15","16,500","0","0,000",15,"16,500","Mobile",{"$f":"VLOOKUP(D54,'CATALOGUE SMARTPHONES'!A:C,3,0)","v":{"$error":"#N/A"}},{"$f":"IFERROR((VLOOKUP(C54,'Baréme Relax'!B:D,3,0)),0)","v":0}]
["ABLOUNA","14 août 2017","PRE21","Melle5er","2","0,000","0","0,000",2,"0,000","Mobile",{"$f":"VLOOKUP(D55,'CATALOGUE SMARTPHONES'!A:C,3,0)","v":{"$error":"#N/A"}},{"$f":"IFERROR((VLOOKUP(C55,'Baréme Relax'!B:D,3,0)),0)","v":0}]
["ASLOGHM","14 août 2017","PRE17","3alami","1","0,000","0","0,000",1,"0,000","Mobile",{"$f":"VLOOKUP(D56,'CATALOGUE SMARTPHONES'!A:C,3,0)","v":{"$error":"#N/A"}},{"$f":"IFERROR((VLOOKUP(C56,'Baréme Relax'!B:D,3,0)),0)","v":0}]
["RIGRAIET","14 août 2017","PRE03","offre Simply","1","0,000","0","0,000",1,"0,000","Mobile",{"$f":"VLOOKUP(D57,'CATALOGUE SMARTPHONES'!A:C,3,0)","v":{"$error":"#N/A"}},{"$f":"IFERROR((VLOOKUP(C57,'Baréme Relax'!B:D,3,0)),0)","v":0}]
["SIGHW","14 août 2017","999100001003","SERVICE TRANSFERT CONTACT","2","6,000","0","0,000",2,"6,000","Mobile",{"$f":"VLOOKUP(D58,'CATALOGUE SMARTPHONES'!A:C,3,0)","v":{"$error":"#N/A"}},{"$f":"IFERROR((VLOOKUP(C58,'Baréme Relax'!B:D,3,0)),0)","v":"2"}]
["SIGHW","14 août 2017","ADV2","Avance 2 mois","1","58,000","0","0,000",1,"58,000","Mobile",{"$f":"VLOOKUP(D59,'CATALOGUE SMARTPHONES'!A:C,3,0)","v":{"$error":"#N/A"}},{"$f":"IFERROR((VLOOKUP(C59,'Baréme Relax'!B:D,3,0)),0)","v":0}]
["RIGRAIET","14 août 2017","HYB13","Flybox home","1","0,000","0","0,000",1,"0,000","Mobile",{"$f":"VLOOKUP(D60,'CATALOGUE SMARTPHONES'!A:C,3,0)","v":{"$error":"#N/A"}},{"$f":"IFERROR((VLOOKUP(C60,'Baréme Relax'!B:D,3,0)),0)","v":0}]
["RIGRAIET","14 août 2017","044004000010","Recharge Express","25","27,500","0","0,000",25,"27,500","Mobile",{"$f":"VLOOKUP(D61,'CATALOGUE SMARTPHONES'!A:C,3,0)","v":{"$error":"#N/A"}},{"$f":"IFERROR((VLOOKUP(C61,'Baréme Relax'!B:D,3,0)),0)","v":0}]
["RIGRAIET","14 août 2017","044004000010","Recharge Express","30","33,000","0","0,000",30,"33,000","Mobile",{"$f":"VLOOKUP(D62,'CATALOGUE SMARTPHONES'!A:C,3,0)","v":{"$error":"#N/A"}},{"$f":"IFERROR((VLOOKUP(C62,'Baréme Relax'!B:D,3,0)),0)","v":0}]
["SIGHW","14 août 2017","PRE17","3alami","1","0,000","0","0,000",1,"0,000","Mobile",{"$f":"VLOOKUP(D63,'CATALOGUE SMARTPHONES'!A:C,3,0)","v":{"$error":"#N/A"}},{"$f":"IFERROR((VLOOKUP(C63,'Baréme Relax'!B:D,3,0)),0)","v":0}]
["SIGHW","14 août 2017","044004000010","Recharge Express","90","99,000","0","0,000",90,"99,000","Mobile",{"$f":"VLOOKUP(D64,'CATALOGUE SMARTPHONES'!A:C,3,0)","v":{"$error":"#N/A"}},{"$f":"IFERROR((VLOOKUP(C64,'Baréme Relax'!B:D,3,0)),0)","v":0}]
["ASLOGHM","14 août 2017","P56567","Pack Sim data - offre Simply  7,5 Go + illimité","2","0,000","0","0,000",2,"0,000","Mobile",{"$f":"VLOOKUP(D65,'CATALOGUE SMARTPHONES'!A:C,3,0)","v":{"$error":"#N/A"}},{"$f":"IFERROR((VLOOKUP(C65,'Baréme Relax'!B:D,3,0)),0)","v":0}]
["ASLOGHM","14 août 2017","044004000010","Recharge Express","9","9,900","0","0,000",9,"9,900","Mobile",{"$f":"VLOOKUP(D66,'CATALOGUE SMARTPHONES'!A:C,3,0)","v":{"$error":"#N/A"}},{"$f":"IFERROR((VLOOKUP(C66,'Baréme Relax'!B:D,3,0)),0)","v":0}]
["ASLOGHM","14 août 2017","084006000285","CLE USB SANDISK 8GB","1","6,900","0","0,000",1,"6,900","Mobile",{"$f":"VLOOKUP(D67,'CATALOGUE SMARTPHONES'!A:C,3,0)","v":{"$error":"#N/A"}},{"$f":"IFERROR((VLOOKUP(C67,'Baréme Relax'!B:D,3,0)),0)","v":0}]
["ASLOGHM","14 août 2017","047006000255","SANGLE PVC PORTABLE","1","2,200","0","0,000",1,"2,200","Mobile",{"$f":"VLOOKUP(D68,'CATALOGUE SMARTPHONES'!A:C,3,0)","v":{"$error":"#N/A"}},{"$f":"IFERROR((VLOOKUP(C68,'Baréme Relax'!B:D,3,0)),0)","v":0}]
["ABLOUNA","14 août 2017","044004000010","Recharge Express","2","2,200","0","0,000",2,"2,200","Mobile",{"$f":"VLOOKUP(D69,'CATALOGUE SMARTPHONES'!A:C,3,0)","v":{"$error":"#N/A"}},{"$f":"IFERROR((VLOOKUP(C69,'Baréme Relax'!B:D,3,0)),0)","v":0}]
["SIGHW","14 août 2017","044004000010","Recharge Express","15","16,500","0","0,000",15,"16,500","Mobile",{"$f":"VLOOKUP(D70,'CATALOGUE SMARTPHONES'!A:C,3,0)","v":{"$error":"#N/A"}},{"$f":"IFERROR((VLOOKUP(C70,'Baréme Relax'!B:D,3,0)),0)","v":0}]
["ABLOUNA","14 août 2017","044004000010","Recharge Express","15","16,500","0","0,000",15,"16,500","Mobile",{"$f":"VLOOKUP(D71,'CATALOGUE SMARTPHONES'!A:C,3,0)","v":{"$error":"#N/A"}},{"$f":"IFERROR((VLOOKUP(C71,'Baréme Relax'!B:D,3,0)),0)","v":0}]
["RIGRAIET","14 août 2017","P60645"," Pack R??engagement Orange TAB 7 _ 4G NOIR - Flybox home - 12 mois ","1","0,000","0","0,000",1,"0,000","Mobile",{"$f":"VLOOKUP(D72,'CATALOGUE SMARTPHONES'!A:C,3,0)","v":{"$error":"#N/A"}},{"$f":"IFERROR((VLOOKUP(C72,'Baréme Relax'!B:D,3,0)),0)","v":0}]
["RIGRAIET","14 août 2017","044004000010","Recharge Express","30","33,000","0","0,000",30,"33,000","Mobile",{"$f":"VLOOKUP(D73,'CATALOGUE SMARTPHONES'!A:C,3,0)","v":{"$error":"#N/A"}},{"$f":"IFERROR((VLOOKUP(C73,'Baréme Relax'!B:D,3,0)),0)","v":0}]
["SIGHW","14 août 2017","044004000010","Recharge Express","44","48,400","0","0,000",44,"48,400","Mobile",{"$f":"VLOOKUP(D74,'CATALOGUE SMARTPHONES'!A:C,3,0)","v":{"$error":"#N/A"}},{"$f":"IFERROR((VLOOKUP(C74,'Baréme Relax'!B:D,3,0)),0)","v":0}]
["ASLOGHM","14 août 2017","PRE13","Edawa5","2","0,000","0","0,000",2,"0,000","Mobile",{"$f":"VLOOKUP(D75,'CATALOGUE SMARTPHONES'!A:C,3,0)","v":{"$error":"#N/A"}},{"$f":"IFERROR((VLOOKUP(C75,'Baréme Relax'!B:D,3,0)),0)","v":0}]
["ASLOGHM","14 août 2017","PRE10","offre Pass","4","0,000","0","0,000",4,"0,000","Mobile",{"$f":"VLOOKUP(D76,'CATALOGUE SMARTPHONES'!A:C,3,0)","v":{"$error":"#N/A"}},{"$f":"IFERROR((VLOOKUP(C76,'Baréme Relax'!B:D,3,0)),0)","v":0}]
["ASLOGHM","14 août 2017","P53327","Pack  - offre Pass","4","0,000","0","0,000",4,"0,000","Mobile",{"$f":"VLOOKUP(D77,'CATALOGUE SMARTPHONES'!A:C,3,0)","v":{"$error":"#N/A"}},{"$f":"IFERROR((VLOOKUP(C77,'Baréme Relax'!B:D,3,0)),0)","v":0}]
["ASLOGHM","14 août 2017","PRE21","Melle5er","5","0,000","0","0,000",5,"0,000","Mobile",{"$f":"VLOOKUP(D78,'CATALOGUE SMARTPHONES'!A:C,3,0)","v":{"$error":"#N/A"}},{"$f":"IFERROR((VLOOKUP(C78,'Baréme Relax'!B:D,3,0)),0)","v":0}]
["SIGHW","14 août 2017","044004000010","Recharge Express","30","33,000","0","0,000",30,"33,000","Mobile",{"$f":"VLOOKUP(D79,'CATALOGUE SMARTPHONES'!A:C,3,0)","v":{"$error":"#N/A"}},{"$f":"IFERROR((VLOOKUP(C79,'Baréme Relax'!B:D,3,0)),0)","v":0}]
["SIGHW","14 août 2017","044004000010","Recharge Express","25","27,500","0","0,000",25,"27,500","Mobile",{"$f":"VLOOKUP(D80,'CATALOGUE SMARTPHONES'!A:C,3,0)","v":{"$error":"#N/A"}},{"$f":"IFERROR((VLOOKUP(C80,'Baréme Relax'!B:D,3,0)),0)","v":0}]
["RIGRAIET","14 août 2017","999100001003","SERVICE TRANSFERT CONTACT","2","6,000","0","0,000",2,"6,000","Mobile",{"$f":"VLOOKUP(D81,'CATALOGUE SMARTPHONES'!A:C,3,0)","v":{"$error":"#N/A"}},{"$f":"IFERROR((VLOOKUP(C81,'Baréme Relax'!B:D,3,0)),0)","v":"2"}]
["SIGHW","14 août 2017","P59928"," Pack 2 mois - Flybox MAX - internet + voix","1","0,000","0","0,000",1,"0,000","Mobile",{"$f":"VLOOKUP(D82,'CATALOGUE SMARTPHONES'!A:C,3,0)","v":{"$error":"#N/A"}},{"$f":"IFERROR((VLOOKUP(C82,'Baréme Relax'!B:D,3,0)),0)","v":0}]
["SIGHW","14 août 2017","044004000010","Recharge Express","40","44,000","0","0,000",40,"44,000","Mobile",{"$f":"VLOOKUP(D83,'CATALOGUE SMARTPHONES'!A:C,3,0)","v":{"$error":"#N/A"}},{"$f":"IFERROR((VLOOKUP(C83,'Baréme Relax'!B:D,3,0)),0)","v":0}]
["SIGHW","14 août 2017","P53327","Pack  - offre Pass","2","0,000","0","0,000",2,"0,000","Mobile",{"$f":"VLOOKUP(D84,'CATALOGUE SMARTPHONES'!A:C,3,0)","v":{"$error":"#N/A"}},{"$f":"IFERROR((VLOOKUP(C84,'Baréme Relax'!B:D,3,0)),0)","v":0}]
["ABLOUNA","14 août 2017","044004000010","Recharge Express","30","33,000","0","0,000",30,"33,000","Mobile",{"$f":"VLOOKUP(D85,'CATALOGUE SMARTPHONES'!A:C,3,0)","v":{"$error":"#N/A"}},{"$f":"IFERROR((VLOOKUP(C85,'Baréme Relax'!B:D,3,0)),0)","v":0}]
["ASLOGHM","14 août 2017","044004000010","Recharge Express","30","33,000","0","0,000",30,"33,000","Mobile",{"$f":"VLOOKUP(D86,'CATALOGUE SMARTPHONES'!A:C,3,0)","v":{"$error":"#N/A"}},{"$f":"IFERROR((VLOOKUP(C86,'Baréme Relax'!B:D,3,0)),0)","v":0}]
["SIGHW","14 août 2017","PRE03","offre Simply","1","0,000","0","0,000",1,"0,000","Mobile",{"$f":"VLOOKUP(D87,'CATALOGUE SMARTPHONES'!A:C,3,0)","v":{"$error":"#N/A"}},{"$f":"IFERROR((VLOOKUP(C87,'Baréme Relax'!B:D,3,0)),0)","v":0}]
["SIGHW","14 août 2017","P56567","Pack Sim data - offre Simply  7,5 Go + illimité","1","0,000","0","0,000",1,"0,000","Mobile",{"$f":"VLOOKUP(D88,'CATALOGUE SMARTPHONES'!A:C,3,0)","v":{"$error":"#N/A"}},{"$f":"IFERROR((VLOOKUP(C88,'Baréme Relax'!B:D,3,0)),0)","v":0}]
["ASLOGHM","14 août 2017","PRE03","offre Simply","2","0,000","0","0,000",2,"0,000","Mobile",{"$f":"VLOOKUP(D89,'CATALOGUE SMARTPHONES'!A:C,3,0)","v":{"$error":"#N/A"}},{"$f":"IFERROR((VLOOKUP(C89,'Baréme Relax'!B:D,3,0)),0)","v":0}]
["RIGRAIET","14 août 2017","PRE13","Edawa5","1","0,000","0","0,000",1,"0,000","Mobile",{"$f":"VLOOKUP(D90,'CATALOGUE SMARTPHONES'!A:C,3,0)","v":{"$error":"#N/A"}},{"$f":"IFERROR((VLOOKUP(C90,'Baréme Relax'!B:D,3,0)),0)","v":0}]
["RIGRAIET","14 août 2017","P53327","Pack  - offre Pass","3","0,000","0","0,000",3,"0,000","Mobile",{"$f":"VLOOKUP(D91,'CATALOGUE SMARTPHONES'!A:C,3,0)","v":{"$error":"#N/A"}},{"$f":"IFERROR((VLOOKUP(C91,'Baréme Relax'!B:D,3,0)),0)","v":0}]
["SIGHW","14 août 2017","PRE21","Melle5er","5","0,000","0","0,000",5,"0,000","Mobile",{"$f":"VLOOKUP(D92,'CATALOGUE SMARTPHONES'!A:C,3,0)","v":{"$error":"#N/A"}},{"$f":"IFERROR((VLOOKUP(C92,'Baréme Relax'!B:D,3,0)),0)","v":0}]
["RIGRAIET","14 août 2017","P50759","Pack Clé 4G - Offre Pass - Bonus internet 5 Go- 2 mois","1","0,000","0","0,000",1,"0,000","Mobile",{"$f":"VLOOKUP(D93,'CATALOGUE SMARTPHONES'!A:C,3,0)","v":{"$error":"#N/A"}},{"$f":"IFERROR((VLOOKUP(C93,'Baréme Relax'!B:D,3,0)),0)","v":0}]
["RIGRAIET","14 août 2017","044004000010","Recharge Express","24","26,400","0","0,000",24,"26,400","Mobile",{"$f":"VLOOKUP(D94,'CATALOGUE SMARTPHONES'!A:C,3,0)","v":{"$error":"#N/A"}},{"$f":"IFERROR((VLOOKUP(C94,'Baréme Relax'!B:D,3,0)),0)","v":0}]
["SIGHW","14 août 2017","044004000010","Recharge Express","18","19,800","0","0,000",18,"19,800","Mobile",{"$f":"VLOOKUP(D95,'CATALOGUE SMARTPHONES'!A:C,3,0)","v":{"$error":"#N/A"}},{"$f":"IFERROR((VLOOKUP(C95,'Baréme Relax'!B:D,3,0)),0)","v":0}]
["ABLOUNA","14 août 2017","044004000010","Recharge Express","24","26,400","0","0,000",24,"26,400","Mobile",{"$f":"VLOOKUP(D96,'CATALOGUE SMARTPHONES'!A:C,3,0)","v":{"$error":"#N/A"}},{"$f":"IFERROR((VLOOKUP(C96,'Baréme Relax'!B:D,3,0)),0)","v":0}]
["ABLOUNA","14 août 2017","044004000010","Recharge Express","30","33,000","0","0,000",30,"33,000","Mobile",{"$f":"VLOOKUP(D97,'CATALOGUE SMARTPHONES'!A:C,3,0)","v":{"$error":"#N/A"}},{"$f":"IFERROR((VLOOKUP(C97,'Baréme Relax'!B:D,3,0)),0)","v":0}]
["ABLOUNA","14 août 2017","P50371"," Pack FLYBOX B310 - FLYBOX B310-CARTE SIM 4G FLYBOX-Flybox home - 24 mois ","1","0,000","0","0,000",1,"0,000","Mobile",{"$f":"VLOOKUP(D98,'CATALOGUE SMARTPHONES'!A:C,3,0)","v":{"$error":"#N/A"}},{"$f":"IFERROR((VLOOKUP(C98,'Baréme Relax'!B:D,3,0)),0)","v":0}]
["SIGHW","14 août 2017","044004000010","Recharge Express","2","2,200","0","0,000",2,"2,200","Mobile",{"$f":"VLOOKUP(D99,'CATALOGUE SMARTPHONES'!A:C,3,0)","v":{"$error":"#N/A"}},{"$f":"IFERROR((VLOOKUP(C99,'Baréme Relax'!B:D,3,0)),0)","v":0}]
["SIGHW","14 août 2017","HYB35","Flybox MAX","1","0,000","0","0,000",1,"0,000","Mobile",{"$f":"VLOOKUP(D100,'CATALOGUE SMARTPHONES'!A:C,3,0)","v":{"$error":"#N/A"}},{"$f":"IFERROR((VLOOKUP(C100,'Baréme Relax'!B:D,3,0)),0)","v":0}]
["RIGRAIET","14 août 2017","044004000010","Recharge Express","12","13,200","0","0,000",12,"13,200","Mobile",{"$f":"VLOOKUP(D101,'CATALOGUE SMARTPHONES'!A:C,3,0)","v":{"$error":"#N/A"}},{"$f":"IFERROR((VLOOKUP(C101,'Baréme Relax'!B:D,3,0)),0)","v":0}]
["SIGHW","14 août 2017","044004000010","Recharge Express","24","26,400","0","0,000",24,"26,400","Mobile",{"$f":"VLOOKUP(D102,'CATALOGUE SMARTPHONES'!A:C,3,0)","v":{"$error":"#N/A"}},{"$f":"IFERROR((VLOOKUP(C102,'Baréme Relax'!B:D,3,0)),0)","v":0}]
["RIGRAIET","14 août 2017","P56567","Pack Sim data - offre Simply  7,5 Go + illimité","1","0,000","0","0,000",1,"0,000","Mobile",{"$f":"VLOOKUP(D103,'CATALOGUE SMARTPHONES'!A:C,3,0)","v":{"$error":"#N/A"}},{"$f":"IFERROR((VLOOKUP(C103,'Baréme Relax'!B:D,3,0)),0)","v":0}]
["SIGHW","14 août 2017","043007000004","CARTE SIM 4G DATA MULTI SIM","2","10,000","0","0,000",2,"10,000","Mobile",{"$f":"VLOOKUP(D104,'CATALOGUE SMARTPHONES'!A:C,3,0)","v":{"$error":"#N/A"}},{"$f":"IFERROR((VLOOKUP(C104,'Baréme Relax'!B:D,3,0)),0)","v":0}]
["SIGHW","14 août 2017","043006000003","CARTE SIM 4G PRE MULTI SIM","5","0,000","0","0,000",5,"0,000","Mobile",{"$f":"VLOOKUP(D105,'CATALOGUE SMARTPHONES'!A:C,3,0)","v":{"$error":"#N/A"}},{"$f":"IFERROR((VLOOKUP(C105,'Baréme Relax'!B:D,3,0)),0)","v":0}]
["ABLOUNA","14 août 2017","085001000011","FLYBOX B310","1","0,000","0","0,000",1,"0,000","Mobile",{"$f":"VLOOKUP(D106,'CATALOGUE SMARTPHONES'!A:C,3,0)","v":{"$error":"#N/A"}},{"$f":"IFERROR((VLOOKUP(C106,'Baréme Relax'!B:D,3,0)),0)","v":0}]
["RIGRAIET","14 août 2017","079001000057","Orange TAB 7 - 4G NOIR","1","69,000","0","0,000",1,"69,000","Mobile",{"$f":"VLOOKUP(D107,'CATALOGUE SMARTPHONES'!A:C,3,0)","v":{"$error":"#N/A"}},{"$f":"IFERROR((VLOOKUP(C107,'Baréme Relax'!B:D,3,0)),0)","v":0}]
["ASLOGHM","14 août 2017","043007000004","CARTE SIM 4G DATA MULTI SIM","2","60,000","0","0,000",2,"60,000","Mobile",{"$f":"VLOOKUP(D108,'CATALOGUE SMARTPHONES'!A:C,3,0)","v":{"$error":"#N/A"}},{"$f":"IFERROR((VLOOKUP(C108,'Baréme Relax'!B:D,3,0)),0)","v":0}]
["ASLOGHM","14 août 2017","043006000003","CARTE SIM 4G PRE MULTI SIM","7","0,000","0","0,000",7,"0,000","Mobile",{"$f":"VLOOKUP(D109,'CATALOGUE SMARTPHONES'!A:C,3,0)","v":{"$error":"#N/A"}},{"$f":"IFERROR((VLOOKUP(C109,'Baréme Relax'!B:D,3,0)),0)","v":0}]
["ASLOGHM","14 août 2017","043007000004","CARTE SIM 4G DATA MULTI SIM","4","20,000","0","0,000",4,"20,000","Mobile",{"$f":"VLOOKUP(D110,'CATALOGUE SMARTPHONES'!A:C,3,0)","v":{"$error":"#N/A"}},{"$f":"IFERROR((VLOOKUP(C110,'Baréme Relax'!B:D,3,0)),0)","v":0}]
["RIGRAIET","14 août 2017","043006000003","CARTE SIM 4G PRE MULTI SIM","8","0,000","0","0,000",8,"0,000","Mobile",{"$f":"VLOOKUP(D111,'CATALOGUE SMARTPHONES'!A:C,3,0)","v":{"$error":"#N/A"}},{"$f":"IFERROR((VLOOKUP(C111,'Baréme Relax'!B:D,3,0)),0)","v":0}]
["RIGRAIET","14 août 2017","043006000003","CARTE SIM 4G PRE MULTI SIM","1","3,000","0","0,000",1,"3,000","Mobile",{"$f":"VLOOKUP(D112,'CATALOGUE SMARTPHONES'!A:C,3,0)","v":{"$error":"#N/A"}},{"$f":"IFERROR((VLOOKUP(C112,'Baréme Relax'!B:D,3,0)),0)","v":0}]
["RIGRAIET","14 août 2017","083025001002","SERVICOM EASY 3 WHTE BLCK","1","39,900","0","0,000",1,"39,900","Mobile",{"$f":"VLOOKUP(D113,'CATALOGUE SMARTPHONES'!A:C,3,0)","v":{"$error":"#N/A"}},{"$f":"IFERROR((VLOOKUP(C113,'Baréme Relax'!B:D,3,0)),0)","v":0}]
["RIGRAIET","14 août 2017","043007000004","CARTE SIM 4G DATA MULTI SIM","1","30,000","0","0,000",1,"30,000","Mobile",{"$f":"VLOOKUP(D114,'CATALOGUE SMARTPHONES'!A:C,3,0)","v":{"$error":"#N/A"}},{"$f":"IFERROR((VLOOKUP(C114,'Baréme Relax'!B:D,3,0)),0)","v":0}]
["ASLOGHM","14 août 2017","043006000003","CARTE SIM 4G PRE MULTI SIM","1","3,000","0","0,000",1,"3,000","Mobile",{"$f":"VLOOKUP(D115,'CATALOGUE SMARTPHONES'!A:C,3,0)","v":{"$error":"#N/A"}},{"$f":"IFERROR((VLOOKUP(C115,'Baréme Relax'!B:D,3,0)),0)","v":0}]
["ABLOUNA","14 août 2017","043006000003","CARTE SIM 4G PRE MULTI SIM","1","5,000","0","0,000",1,"5,000","Mobile",{"$f":"VLOOKUP(D116,'CATALOGUE SMARTPHONES'!A:C,3,0)","v":{"$error":"#N/A"}},{"$f":"IFERROR((VLOOKUP(C116,'Baréme Relax'!B:D,3,0)),0)","v":0}]
["RIGRAIET","14 août 2017","043006000003","CARTE SIM 4G PRE MULTI SIM","4","20,000","0","0,000",4,"20,000","Mobile",{"$f":"VLOOKUP(D117,'CATALOGUE SMARTPHONES'!A:C,3,0)","v":{"$error":"#N/A"}},{"$f":"IFERROR((VLOOKUP(C117,'Baréme Relax'!B:D,3,0)),0)","v":0}]
["SIGHW","14 août 2017","043007000004","CARTE SIM 4G DATA MULTI SIM","1","30,000","0","0,000",1,"30,000","Mobile",{"$f":"VLOOKUP(D118,'CATALOGUE SMARTPHONES'!A:C,3,0)","v":{"$error":"#N/A"}},{"$f":"IFERROR((VLOOKUP(C118,'Baréme Relax'!B:D,3,0)),0)","v":0}]
["ABLOUNA","14 août 2017","043008000001","CARTE SIM 4G FLYBOX","1","0,000","0","0,000",1,"0,000","Mobile",{"$f":"VLOOKUP(D119,'CATALOGUE SMARTPHONES'!A:C,3,0)","v":{"$error":"#N/A"}},{"$f":"IFERROR((VLOOKUP(C119,'Baréme Relax'!B:D,3,0)),0)","v":0}]
["SIGHW","14 août 2017","043006000003","CARTE SIM 4G PRE MULTI SIM","3","9,000","0","0,000",3,"9,000","Mobile",{"$f":"VLOOKUP(D120,'CATALOGUE SMARTPHONES'!A:C,3,0)","v":{"$error":"#N/A"}},{"$f":"IFERROR((VLOOKUP(C120,'Baréme Relax'!B:D,3,0)),0)","v":0}]
["ABLOUNA","14 août 2017","043006000003","CARTE SIM 4G PRE MULTI SIM","1","0,000","0","0,000",1,"0,000","Mobile",{"$f":"VLOOKUP(D121,'CATALOGUE SMARTPHONES'!A:C,3,0)","v":{"$error":"#N/A"}},{"$f":"IFERROR((VLOOKUP(C121,'Baréme Relax'!B:D,3,0)),0)","v":0}]
["RIGRAIET","14 août 2017","046002000041","CLE 4G E3372H","1","0,000","0","0,000",1,"0,000","Mobile",{"$f":"VLOOKUP(D122,'CATALOGUE SMARTPHONES'!A:C,3,0)","v":{"$error":"#N/A"}},{"$f":"IFERROR((VLOOKUP(C122,'Baréme Relax'!B:D,3,0)),0)","v":0}]
["SIGHW","14 août 2017","043006000003","CARTE SIM 4G PRE MULTI SIM","3","15,000","0","0,000",3,"15,000","Mobile",{"$f":"VLOOKUP(D123,'CATALOGUE SMARTPHONES'!A:C,3,0)","v":{"$error":"#N/A"}},{"$f":"IFERROR((VLOOKUP(C123,'Baréme Relax'!B:D,3,0)),0)","v":0}]
["RIGRAIET","14 août 2017","085001000011","FLYBOX B310","1","0,000","0","0,000",1,"0,000","Mobile",{"$f":"VLOOKUP(D124,'CATALOGUE SMARTPHONES'!A:C,3,0)","v":{"$error":"#N/A"}},{"$f":"IFERROR((VLOOKUP(C124,'Baréme Relax'!B:D,3,0)),0)","v":0}]
["RIGRAIET","14 août 2017","046002000034","CLE 3G E3531","1","0,000","0","0,000",1,"0,000","Mobile",{"$f":"VLOOKUP(D125,'CATALOGUE SMARTPHONES'!A:C,3,0)","v":{"$error":"#N/A"}},{"$f":"IFERROR((VLOOKUP(C125,'Baréme Relax'!B:D,3,0)),0)","v":0}]
["SIGHW","14 août 2017","085001000011","FLYBOX B310","1","0,000","0","0,000",1,"0,000","Mobile",{"$f":"VLOOKUP(D126,'CATALOGUE SMARTPHONES'!A:C,3,0)","v":{"$error":"#N/A"}},{"$f":"IFERROR((VLOOKUP(C126,'Baréme Relax'!B:D,3,0)),0)","v":0}]
["RIGRAIET","14 août 2017","188003000016","Modem Huawei HG532","1","0,000","0","0,000",1,"0,000","ADSL",{"$f":"VLOOKUP(D127,'CATALOGUE SMARTPHONES'!A:C,3,0)","v":{"$error":"#N/A"}},{"$f":"IFERROR((VLOOKUP(C127,'Baréme Relax'!B:D,3,0)),0)","v":0}]
["ABLOUNA","14 août 2017","043001000114","CARTE PREACTIVEE VD","2","6,000","0","0,000",2,"6,000","Mobile",{"$f":"VLOOKUP(D128,'CATALOGUE SMARTPHONES'!A:C,3,0)","v":{"$error":"#N/A"}},{"$f":"IFERROR((VLOOKUP(C128,'Baréme Relax'!B:D,3,0)),0)","v":0}]
["ABLOUNA","14 août 2017","045022002001","ORANGE IT 2110","1","32,000","0","0,000",1,"32,000","Mobile",{"$f":"VLOOKUP(D129,'CATALOGUE SMARTPHONES'!A:C,3,0)","v":{"$error":"#N/A"}},{"$f":"IFERROR((VLOOKUP(C129,'Baréme Relax'!B:D,3,0)),0)","v":0}]
["ASLOGHM","14 août 2017","043006000003","CARTE SIM 4G PRE MULTI SIM","1","5,000","0","0,000",1,"5,000","Mobile",{"$f":"VLOOKUP(D130,'CATALOGUE SMARTPHONES'!A:C,3,0)","v":{"$error":"#N/A"}},{"$f":"IFERROR((VLOOKUP(C130,'Baréme Relax'!B:D,3,0)),0)","v":0}]
["RIGRAIET","14 août 2017","043007000004","CARTE SIM 4G DATA MULTI SIM","1","40,000","0","0,000",1,"40,000","Mobile",{"$f":"VLOOKUP(D131,'CATALOGUE SMARTPHONES'!A:C,3,0)","v":{"$error":"#N/A"}},{"$f":"IFERROR((VLOOKUP(C131,'Baréme Relax'!B:D,3,0)),0)","v":0}]
["RIGRAIET","14 août 2017","043007000004","CARTE SIM 4G DATA MULTI SIM","3","15,000","0","0,000",3,"15,000","Mobile",{"$f":"VLOOKUP(D132,'CATALOGUE SMARTPHONES'!A:C,3,0)","v":{"$error":"#N/A"}},{"$f":"IFERROR((VLOOKUP(C132,'Baréme Relax'!B:D,3,0)),0)","v":0}]
["RIGRAIET","14 août 2017","043007000004","CARTE SIM 4G DATA MULTI SIM","1","14,000","0","0,000",1,"14,000","Mobile",{"$f":"VLOOKUP(D133,'CATALOGUE SMARTPHONES'!A:C,3,0)","v":{"$error":"#N/A"}},{"$f":"IFERROR((VLOOKUP(C133,'Baréme Relax'!B:D,3,0)),0)","v":0}]
["RIGRAIET","14 août 2017","043008000001","CARTE SIM 4G FLYBOX","1","0,000","0","0,000",1,"0,000","Mobile",{"$f":"VLOOKUP(D134,'CATALOGUE SMARTPHONES'!A:C,3,0)","v":{"$error":"#N/A"}},{"$f":"IFERROR((VLOOKUP(C134,'Baréme Relax'!B:D,3,0)),0)","v":0}]
["SIGHW","14 août 2017","043008000001","CARTE SIM 4G FLYBOX","3","0,000","0","0,000",3,"0,000","Mobile",{"$f":"VLOOKUP(D135,'CATALOGUE SMARTPHONES'!A:C,3,0)","v":{"$error":"#N/A"}},{"$f":"IFERROR((VLOOKUP(C135,'Baréme Relax'!B:D,3,0)),0)","v":0}]
["ABLOUNA","12 août 2017","PRE10","offre Pass","1","0,000","0","0,000",1,"0,000","Mobile",{"$f":"VLOOKUP(D136,'CATALOGUE SMARTPHONES'!A:C,3,0)","v":{"$error":"#N/A"}},{"$f":"IFERROR((VLOOKUP(C136,'Baréme Relax'!B:D,3,0)),0)","v":0}]
["ABLOUNA","12 août 2017","P56567","Pack Sim data - offre Simply  7,5 Go + illimité","1","0,000","0","0,000",1,"0,000","Mobile",{"$f":"VLOOKUP(D137,'CATALOGUE SMARTPHONES'!A:C,3,0)","v":{"$error":"#N/A"}},{"$f":"IFERROR((VLOOKUP(C137,'Baréme Relax'!B:D,3,0)),0)","v":0}]
["SIGHW","12 août 2017","044004000010","Recharge Express","24","26,400","0","0,000",24,"26,400","Mobile",{"$f":"VLOOKUP(D138,'CATALOGUE SMARTPHONES'!A:C,3,0)","v":{"$error":"#N/A"}},{"$f":"IFERROR((VLOOKUP(C138,'Baréme Relax'!B:D,3,0)),0)","v":0}]
["ABLOUNA","12 août 2017","P60702"," Pack HUAWEI GR5 2017 GOLD -  forfait optima 50  -  12 mois   -  Avance 2 mois","1","0,000","0","0,000",1,"0,000","Mobile",{"$f":"VLOOKUP(D139,'CATALOGUE SMARTPHONES'!A:C,3,0)","v":{"$error":"#N/A"}},{"$f":"IFERROR((VLOOKUP(C139,'Baréme Relax'!B:D,3,0)),0)","v":0}]
["RIGRAIET","12 août 2017","P53327","Pack  - offre Pass","1","0,000","0","0,000",1,"0,000","Mobile",{"$f":"VLOOKUP(D140,'CATALOGUE SMARTPHONES'!A:C,3,0)","v":{"$error":"#N/A"}},{"$f":"IFERROR((VLOOKUP(C140,'Baréme Relax'!B:D,3,0)),0)","v":0}]
["ABLOUNA","12 août 2017","044004000010","Recharge Express","18","19,800","0","0,000",18,"19,800","Mobile",{"$f":"VLOOKUP(D141,'CATALOGUE SMARTPHONES'!A:C,3,0)","v":{"$error":"#N/A"}},{"$f":"IFERROR((VLOOKUP(C141,'Baréme Relax'!B:D,3,0)),0)","v":0}]
["SIGHW","12 août 2017","PRE10","offre Pass","4","0,000","0","0,000",4,"0,000","Mobile",{"$f":"VLOOKUP(D142,'CATALOGUE SMARTPHONES'!A:C,3,0)","v":{"$error":"#N/A"}},{"$f":"IFERROR((VLOOKUP(C142,'Baréme Relax'!B:D,3,0)),0)","v":0}]
["RIGRAIET","12 août 2017","ADV2","Avance 2 mois","1","58,000","0","0,000",1,"58,000","Mobile",{"$f":"VLOOKUP(D143,'CATALOGUE SMARTPHONES'!A:C,3,0)","v":{"$error":"#N/A"}},{"$f":"IFERROR((VLOOKUP(C143,'Baréme Relax'!B:D,3,0)),0)","v":0}]
["ABLOUNA","12 août 2017","PRE21","Melle5er","4","0,000","0","0,000",4,"0,000","Mobile",{"$f":"VLOOKUP(D144,'CATALOGUE SMARTPHONES'!A:C,3,0)","v":{"$error":"#N/A"}},{"$f":"IFERROR((VLOOKUP(C144,'Baréme Relax'!B:D,3,0)),0)","v":0}]
["RIGRAIET","12 août 2017","044004000010","Recharge Express","50","55,000","0","0,000",50,"55,000","Mobile",{"$f":"VLOOKUP(D145,'CATALOGUE SMARTPHONES'!A:C,3,0)","v":{"$error":"#N/A"}},{"$f":"IFERROR((VLOOKUP(C145,'Baréme Relax'!B:D,3,0)),0)","v":0}]
["RIGRAIET","12 août 2017","PRE10","offre Pass","1","0,000","0","0,000",1,"0,000","Mobile",{"$f":"VLOOKUP(D146,'CATALOGUE SMARTPHONES'!A:C,3,0)","v":{"$error":"#N/A"}},{"$f":"IFERROR((VLOOKUP(C146,'Baréme Relax'!B:D,3,0)),0)","v":0}]
["RIGRAIET","12 août 2017","044004000010","Recharge Express","2","2,200","0","0,000",2,"2,200","Mobile",{"$f":"VLOOKUP(D147,'CATALOGUE SMARTPHONES'!A:C,3,0)","v":{"$error":"#N/A"}},{"$f":"IFERROR((VLOOKUP(C147,'Baréme Relax'!B:D,3,0)),0)","v":0}]
["ASLOGHM","12 août 2017","044004000010","Recharge Express","30","33,000","0","0,000",30,"33,000","Mobile",{"$f":"VLOOKUP(D148,'CATALOGUE SMARTPHONES'!A:C,3,0)","v":{"$error":"#N/A"}},{"$f":"IFERROR((VLOOKUP(C148,'Baréme Relax'!B:D,3,0)),0)","v":0}]
["RIGRAIET","12 août 2017","044004000010","Recharge Express","25","27,500","0","0,000",25,"27,500","Mobile",{"$f":"VLOOKUP(D149,'CATALOGUE SMARTPHONES'!A:C,3,0)","v":{"$error":"#N/A"}},{"$f":"IFERROR((VLOOKUP(C149,'Baréme Relax'!B:D,3,0)),0)","v":0}]
["RIGRAIET","12 août 2017","HYB30","forfait mix 20","1","0,000","0","0,000",1,"0,000","Mobile",{"$f":"VLOOKUP(D150,'CATALOGUE SMARTPHONES'!A:C,3,0)","v":{"$error":"#N/A"}},{"$f":"IFERROR((VLOOKUP(C150,'Baréme Relax'!B:D,3,0)),0)","v":0}]
["ABLOUNA","12 août 2017","P60712"," Pack R??engagement HUAWEI GR5 2017 SILVER  - forfait optima 50 -  12 mois ","1","0,000","0","0,000",1,"0,000","Mobile",{"$f":"VLOOKUP(D151,'CATALOGUE SMARTPHONES'!A:C,3,0)","v":{"$error":"#N/A"}},{"$f":"IFERROR((VLOOKUP(C151,'Baréme Relax'!B:D,3,0)),0)","v":0}]
["SIGHW","12 août 2017","044004000010","Recharge Express","2","2,200","0","0,000",2,"2,200","Mobile",{"$f":"VLOOKUP(D152,'CATALOGUE SMARTPHONES'!A:C,3,0)","v":{"$error":"#N/A"}},{"$f":"IFERROR((VLOOKUP(C152,'Baréme Relax'!B:D,3,0)),0)","v":0}]
["SIGHW","12 août 2017","P61147"," Pack AIRBOX 4G MW40 - offre Simply - bonus internet 7,5Go + illimit?? ","1","0,000","0","0,000",1,"0,000","Mobile",{"$f":"VLOOKUP(D153,'CATALOGUE SMARTPHONES'!A:C,3,0)","v":{"$error":"#N/A"}},{"$f":"IFERROR((VLOOKUP(C153,'Baréme Relax'!B:D,3,0)),0)","v":0}]
["RIGRAIET","12 août 2017","PRE21","Melle5er","5","0,000","0","0,000",5,"0,000","Mobile",{"$f":"VLOOKUP(D154,'CATALOGUE SMARTPHONES'!A:C,3,0)","v":{"$error":"#N/A"}},{"$f":"IFERROR((VLOOKUP(C154,'Baréme Relax'!B:D,3,0)),0)","v":0}]
["ABLOUNA","12 août 2017","POS01","forfait optima 50","2","0,000","0","0,000",2,"0,000","Mobile",{"$f":"VLOOKUP(D155,'CATALOGUE SMARTPHONES'!A:C,3,0)","v":{"$error":"#N/A"}},{"$f":"IFERROR((VLOOKUP(C155,'Baréme Relax'!B:D,3,0)),0)","v":0}]
["SIGHW","12 août 2017","P4048","Pack Réengagement - forfait mix 15 - injection 1 Go - 12 mois","1","0,000","0","0,000",1,"0,000","Mobile",{"$f":"VLOOKUP(D156,'CATALOGUE SMARTPHONES'!A:C,3,0)","v":{"$error":"#N/A"}},{"$f":"IFERROR((VLOOKUP(C156,'Baréme Relax'!B:D,3,0)),0)","v":0}]
["ABLOUNA","12 août 2017","HYB35","Flybox MAX","1","0,000","0","0,000",1,"0,000","Mobile",{"$f":"VLOOKUP(D157,'CATALOGUE SMARTPHONES'!A:C,3,0)","v":{"$error":"#N/A"}},{"$f":"IFERROR((VLOOKUP(C157,'Baréme Relax'!B:D,3,0)),0)","v":0}]
["SIGHW","12 août 2017","044004000010","Recharge Express","20","22,000","0","0,000",20,"22,000","Mobile",{"$f":"VLOOKUP(D158,'CATALOGUE SMARTPHONES'!A:C,3,0)","v":{"$error":"#N/A"}},{"$f":"IFERROR((VLOOKUP(C158,'Baréme Relax'!B:D,3,0)),0)","v":0}]
["SIGHW","12 août 2017","044004000010","Recharge Express","20","22,000","0","0,000",20,"22,000","Mobile",{"$f":"VLOOKUP(D159,'CATALOGUE SMARTPHONES'!A:C,3,0)","v":{"$error":"#N/A"}},{"$f":"IFERROR((VLOOKUP(C159,'Baréme Relax'!B:D,3,0)),0)","v":0}]
["SIGHW","12 août 2017","P53327","Pack  - offre Pass","4","0,000","0","0,000",4,"0,000","Mobile",{"$f":"VLOOKUP(D160,'CATALOGUE SMARTPHONES'!A:C,3,0)","v":{"$error":"#N/A"}},{"$f":"IFERROR((VLOOKUP(C160,'Baréme Relax'!B:D,3,0)),0)","v":0}]
["ABLOUNA","12 août 2017","PRE03","offre Simply","1","0,000","0","0,000",1,"0,000","Mobile",{"$f":"VLOOKUP(D161,'CATALOGUE SMARTPHONES'!A:C,3,0)","v":{"$error":"#N/A"}},{"$f":"IFERROR((VLOOKUP(C161,'Baréme Relax'!B:D,3,0)),0)","v":0}]
["ABLOUNA","12 août 2017","ADV2","Avance 2 mois","1","110,000","0","0,000",1,"110,000","Mobile",{"$f":"VLOOKUP(D162,'CATALOGUE SMARTPHONES'!A:C,3,0)","v":{"$error":"#N/A"}},{"$f":"IFERROR((VLOOKUP(C162,'Baréme Relax'!B:D,3,0)),0)","v":0}]
["RIGRAIET","12 août 2017","999100001003","SERVICE TRANSFERT CONTACT","1","3,000","0","0,000",1,"3,000","Mobile",{"$f":"VLOOKUP(D163,'CATALOGUE SMARTPHONES'!A:C,3,0)","v":{"$error":"#N/A"}},{"$f":"IFERROR((VLOOKUP(C163,'Baréme Relax'!B:D,3,0)),0)","v":"2"}]
["ASLOGHM","12 août 2017","PRE21","Melle5er","3","0,000","0","0,000",3,"0,000","Mobile",{"$f":"VLOOKUP(D164,'CATALOGUE SMARTPHONES'!A:C,3,0)","v":{"$error":"#N/A"}},{"$f":"IFERROR((VLOOKUP(C164,'Baréme Relax'!B:D,3,0)),0)","v":0}]
["RIGRAIET","12 août 2017","P59928"," Pack 2 mois - Flybox MAX - internet + voix","1","0,000","0","0,000",1,"0,000","Mobile",{"$f":"VLOOKUP(D165,'CATALOGUE SMARTPHONES'!A:C,3,0)","v":{"$error":"#N/A"}},{"$f":"IFERROR((VLOOKUP(C165,'Baréme Relax'!B:D,3,0)),0)","v":0}]
["SIGHW","12 août 2017","HYB01","forfait mix 15","1","0,000","0","0,000",1,"0,000","Mobile",{"$f":"VLOOKUP(D166,'CATALOGUE SMARTPHONES'!A:C,3,0)","v":{"$error":"#N/A"}},{"$f":"IFERROR((VLOOKUP(C166,'Baréme Relax'!B:D,3,0)),0)","v":0}]
["RIGRAIET","12 août 2017","P4049","Pack Réengagement - forfait mix 20 - injection 1 Go - 12 mois ","1","0,000","0","0,000",1,"0,000","Mobile",{"$f":"VLOOKUP(D167,'CATALOGUE SMARTPHONES'!A:C,3,0)","v":{"$error":"#N/A"}},{"$f":"IFERROR((VLOOKUP(C167,'Baréme Relax'!B:D,3,0)),0)","v":0}]
["ASLOGHM","12 août 2017","044004000010","Recharge Express","5","5,500","0","0,000",5,"5,500","Mobile",{"$f":"VLOOKUP(D168,'CATALOGUE SMARTPHONES'!A:C,3,0)","v":{"$error":"#N/A"}},{"$f":"IFERROR((VLOOKUP(C168,'Baréme Relax'!B:D,3,0)),0)","v":0}]
["SIGHW","12 août 2017","044004000010","Recharge Express","15","16,500","0","0,000",15,"16,500","Mobile",{"$f":"VLOOKUP(D169,'CATALOGUE SMARTPHONES'!A:C,3,0)","v":{"$error":"#N/A"}},{"$f":"IFERROR((VLOOKUP(C169,'Baréme Relax'!B:D,3,0)),0)","v":0}]
["SIGHW","12 août 2017","PRE21","Melle5er","3","0,000","0","0,000",3,"0,000","Mobile",{"$f":"VLOOKUP(D170,'CATALOGUE SMARTPHONES'!A:C,3,0)","v":{"$error":"#N/A"}},{"$f":"IFERROR((VLOOKUP(C170,'Baréme Relax'!B:D,3,0)),0)","v":0}]
["SIGHW","12 août 2017","044004000010","Recharge Express","30","33,000","0","0,000",30,"33,000","Mobile",{"$f":"VLOOKUP(D171,'CATALOGUE SMARTPHONES'!A:C,3,0)","v":{"$error":"#N/A"}},{"$f":"IFERROR((VLOOKUP(C171,'Baréme Relax'!B:D,3,0)),0)","v":0}]
["ABLOUNA","12 août 2017","044004000010","Recharge Express","20","22,000","0","0,000",20,"22,000","Mobile",{"$f":"VLOOKUP(D172,'CATALOGUE SMARTPHONES'!A:C,3,0)","v":{"$error":"#N/A"}},{"$f":"IFERROR((VLOOKUP(C172,'Baréme Relax'!B:D,3,0)),0)","v":0}]
["RIGRAIET","12 août 2017","HYB35","Flybox MAX","1","0,000","0","0,000",1,"0,000","Mobile",{"$f":"VLOOKUP(D173,'CATALOGUE SMARTPHONES'!A:C,3,0)","v":{"$error":"#N/A"}},{"$f":"IFERROR((VLOOKUP(C173,'Baréme Relax'!B:D,3,0)),0)","v":0}]
["RIGRAIET","12 août 2017","044004000010","Recharge Express","20","22,000","0","0,000",20,"22,000","Mobile",{"$f":"VLOOKUP(D174,'CATALOGUE SMARTPHONES'!A:C,3,0)","v":{"$error":"#N/A"}},{"$f":"IFERROR((VLOOKUP(C174,'Baréme Relax'!B:D,3,0)),0)","v":0}]
["ASLOGHM","12 août 2017","044004000010","Recharge Express","36","39,600","0","0,000",36,"39,600","Mobile",{"$f":"VLOOKUP(D175,'CATALOGUE SMARTPHONES'!A:C,3,0)","v":{"$error":"#N/A"}},{"$f":"IFERROR((VLOOKUP(C175,'Baréme Relax'!B:D,3,0)),0)","v":0}]
["ABLOUNA","12 août 2017","044004000010","Recharge Express","5","5,500","0","0,000",5,"5,500","Mobile",{"$f":"VLOOKUP(D176,'CATALOGUE SMARTPHONES'!A:C,3,0)","v":{"$error":"#N/A"}},{"$f":"IFERROR((VLOOKUP(C176,'Baréme Relax'!B:D,3,0)),0)","v":0}]
["SIGHW","12 août 2017","044004000010","Recharge Express","10","11,000","0","0,000",10,"11,000","Mobile",{"$f":"VLOOKUP(D177,'CATALOGUE SMARTPHONES'!A:C,3,0)","v":{"$error":"#N/A"}},{"$f":"IFERROR((VLOOKUP(C177,'Baréme Relax'!B:D,3,0)),0)","v":0}]
["SIGHW","12 août 2017","PRE17","3alami","3","0,000","0","0,000",3,"0,000","Mobile",{"$f":"VLOOKUP(D178,'CATALOGUE SMARTPHONES'!A:C,3,0)","v":{"$error":"#N/A"}},{"$f":"IFERROR((VLOOKUP(C178,'Baréme Relax'!B:D,3,0)),0)","v":0}]
["ASLOGHM","12 août 2017","999100001003","SERVICE TRANSFERT CONTACT","1","3,000","0","0,000",1,"3,000","Mobile",{"$f":"VLOOKUP(D179,'CATALOGUE SMARTPHONES'!A:C,3,0)","v":{"$error":"#N/A"}},{"$f":"IFERROR((VLOOKUP(C179,'Baréme Relax'!B:D,3,0)),0)","v":"2"}]
["ABLOUNA","12 août 2017","044004000010","Recharge Express","12","13,200","0","0,000",12,"13,200","Mobile",{"$f":"VLOOKUP(D180,'CATALOGUE SMARTPHONES'!A:C,3,0)","v":{"$error":"#N/A"}},{"$f":"IFERROR((VLOOKUP(C180,'Baréme Relax'!B:D,3,0)),0)","v":0}]
["RIGRAIET","12 août 2017","044004000010","Recharge Express","15","16,500","0","0,000",15,"16,500","Mobile",{"$f":"VLOOKUP(D181,'CATALOGUE SMARTPHONES'!A:C,3,0)","v":{"$error":"#N/A"}},{"$f":"IFERROR((VLOOKUP(C181,'Baréme Relax'!B:D,3,0)),0)","v":0}]
["ABLOUNA","12 août 2017","P59928"," Pack 2 mois - Flybox MAX - internet + voix","1","0,000","0","0,000",1,"0,000","Mobile",{"$f":"VLOOKUP(D182,'CATALOGUE SMARTPHONES'!A:C,3,0)","v":{"$error":"#N/A"}},{"$f":"IFERROR((VLOOKUP(C182,'Baréme Relax'!B:D,3,0)),0)","v":0}]
["ABLOUNA","12 août 2017","P53287"," Clé 3G E3531 é?Offre Pass é? Bonus Internet 3Go - 1 mois      ","1","0,000","0","0,000",1,"0,000","Mobile",{"$f":"VLOOKUP(D183,'CATALOGUE SMARTPHONES'!A:C,3,0)","v":{"$error":"#N/A"}},{"$f":"IFERROR((VLOOKUP(C183,'Baréme Relax'!B:D,3,0)),0)","v":0}]
["ABLOUNA","12 août 2017","044004000010","Recharge Express","1","1,100","0","0,000",1,"1,100","Mobile",{"$f":"VLOOKUP(D184,'CATALOGUE SMARTPHONES'!A:C,3,0)","v":{"$error":"#N/A"}},{"$f":"IFERROR((VLOOKUP(C184,'Baréme Relax'!B:D,3,0)),0)","v":0}]
["RIGRAIET","12 août 2017","044004000010","Recharge Express","1","1,100","0","0,000",1,"1,100","Mobile",{"$f":"VLOOKUP(D185,'CATALOGUE SMARTPHONES'!A:C,3,0)","v":{"$error":"#N/A"}},{"$f":"IFERROR((VLOOKUP(C185,'Baréme Relax'!B:D,3,0)),0)","v":0}]
["SIGHW","12 août 2017","PRE13","Edawa5","1","0,000","0","0,000",1,"0,000","Mobile",{"$f":"VLOOKUP(D186,'CATALOGUE SMARTPHONES'!A:C,3,0)","v":{"$error":"#N/A"}},{"$f":"IFERROR((VLOOKUP(C186,'Baréme Relax'!B:D,3,0)),0)","v":0}]
["ABLOUNA","12 août 2017","ADV2","Avance 2 mois","1","58,000","0","0,000",1,"58,000","Mobile",{"$f":"VLOOKUP(D187,'CATALOGUE SMARTPHONES'!A:C,3,0)","v":{"$error":"#N/A"}},{"$f":"IFERROR((VLOOKUP(C187,'Baréme Relax'!B:D,3,0)),0)","v":0}]
["RIGRAIET","12 août 2017","044004000010","Recharge Express","12","13,200","0","0,000",12,"13,200","Mobile",{"$f":"VLOOKUP(D188,'CATALOGUE SMARTPHONES'!A:C,3,0)","v":{"$error":"#N/A"}},{"$f":"IFERROR((VLOOKUP(C188,'Baréme Relax'!B:D,3,0)),0)","v":0}]
["SIGHW","12 août 2017","PRE03","offre Simply","1","0,000","0","0,000",1,"0,000","Mobile",{"$f":"VLOOKUP(D189,'CATALOGUE SMARTPHONES'!A:C,3,0)","v":{"$error":"#N/A"}},{"$f":"IFERROR((VLOOKUP(C189,'Baréme Relax'!B:D,3,0)),0)","v":0}]
["ABLOUNA","12 août 2017","083013025002","HUAWEI GR5 2017 GOLD","1","599,000","0","0,000",1,"599,000","Mobile",{"$f":"VLOOKUP(D190,'CATALOGUE SMARTPHONES'!A:C,3,0)","v":"OK"},{"$f":"IFERROR((VLOOKUP(C190,'Baréme Relax'!B:D,3,0)),0)","v":0}]
["RIGRAIET","12 août 2017","085001000011","FLYBOX B310","1","0,000","0","0,000",1,"0,000","Mobile",{"$f":"VLOOKUP(D191,'CATALOGUE SMARTPHONES'!A:C,3,0)","v":{"$error":"#N/A"}},{"$f":"IFERROR((VLOOKUP(C191,'Baréme Relax'!B:D,3,0)),0)","v":0}]
["SIGHW","12 août 2017","046002000056","AIRBOX 4G MW40","1","119,000","0","0,000",1,"119,000","Mobile",{"$f":"VLOOKUP(D192,'CATALOGUE SMARTPHONES'!A:C,3,0)","v":{"$error":"#N/A"}},{"$f":"IFERROR((VLOOKUP(C192,'Baréme Relax'!B:D,3,0)),0)","v":0}]
["RIGRAIET","12 août 2017","043006000003","CARTE SIM 4G PRE MULTI SIM","2","10,000","0","0,000",2,"10,000","Mobile",{"$f":"VLOOKUP(D193,'CATALOGUE SMARTPHONES'!A:C,3,0)","v":{"$error":"#N/A"}},{"$f":"IFERROR((VLOOKUP(C193,'Baréme Relax'!B:D,3,0)),0)","v":0}]
["RIGRAIET","12 août 2017","043008000001","CARTE SIM 4G FLYBOX","1","0,000","0","0,000",1,"0,000","Mobile",{"$f":"VLOOKUP(D194,'CATALOGUE SMARTPHONES'!A:C,3,0)","v":{"$error":"#N/A"}},{"$f":"IFERROR((VLOOKUP(C194,'Baréme Relax'!B:D,3,0)),0)","v":0}]
["RIGRAIET","12 août 2017","043006000003","CARTE SIM 4G PRE MULTI SIM","2","6,000","0","0,000",2,"6,000","Mobile",{"$f":"VLOOKUP(D195,'CATALOGUE SMARTPHONES'!A:C,3,0)","v":{"$error":"#N/A"}},{"$f":"IFERROR((VLOOKUP(C195,'Baréme Relax'!B:D,3,0)),0)","v":0}]
["SIGHW","12 août 2017","043007000004","CARTE SIM 4G DATA MULTI SIM","4","20,000","0","0,000",4,"20,000","Mobile",{"$f":"VLOOKUP(D196,'CATALOGUE SMARTPHONES'!A:C,3,0)","v":{"$error":"#N/A"}},{"$f":"IFERROR((VLOOKUP(C196,'Baréme Relax'!B:D,3,0)),0)","v":0}]
["RIGRAIET","12 août 2017","188003000016","Modem Huawei HG532","1","0,000","0","0,000",1,"0,000","ADSL",{"$f":"VLOOKUP(D197,'CATALOGUE SMARTPHONES'!A:C,3,0)","v":{"$error":"#N/A"}},{"$f":"IFERROR((VLOOKUP(C197,'Baréme Relax'!B:D,3,0)),0)","v":0}]
["SIGHW","12 août 2017","043007000004","CARTE SIM 4G DATA MULTI SIM","1","0,000","0","0,000",1,"0,000","Mobile",{"$f":"VLOOKUP(D198,'CATALOGUE SMARTPHONES'!A:C,3,0)","v":{"$error":"#N/A"}},{"$f":"IFERROR((VLOOKUP(C198,'Baréme Relax'!B:D,3,0)),0)","v":0}]
["SIGHW","12 août 2017","043006000003","CARTE SIM 4G PRE MULTI SIM","7","0,000","0","0,000",7,"0,000","Mobile",{"$f":"VLOOKUP(D199,'CATALOGUE SMARTPHONES'!A:C,3,0)","v":{"$error":"#N/A"}},{"$f":"IFERROR((VLOOKUP(C199,'Baréme Relax'!B:D,3,0)),0)","v":0}]
["ABLOUNA","12 août 2017","043006000003","CARTE SIM 4G PRE MULTI SIM","2","10,000","0","0,000",2,"10,000","Mobile",{"$f":"VLOOKUP(D200,'CATALOGUE SMARTPHONES'!A:C,3,0)","v":{"$error":"#N/A"}},{"$f":"IFERROR((VLOOKUP(C200,'Baréme Relax'!B:D,3,0)),0)","v":0}]
["RIGRAIET","12 août 2017","043007000004","CARTE SIM 4G DATA MULTI SIM","1","5,000","0","0,000",1,"5,000","Mobile",{"$f":"VLOOKUP(D201,'CATALOGUE SMARTPHONES'!A:C,3,0)","v":{"$error":"#N/A"}},{"$f":"IFERROR((VLOOKUP(C201,'Baréme Relax'!B:D,3,0)),0)","v":0}]
["ASLOGHM","12 août 2017","043006000003","CARTE SIM 4G PRE MULTI SIM","3","15,000","0","0,000",3,"15,000","Mobile",{"$f":"VLOOKUP(D202,'CATALOGUE SMARTPHONES'!A:C,3,0)","v":{"$error":"#N/A"}},{"$f":"IFERROR((VLOOKUP(C202,'Baréme Relax'!B:D,3,0)),0)","v":0}]
["ABLOUNA","12 août 2017","043006000003","CARTE SIM 4G PRE MULTI SIM","3","0,000","0","0,000",3,"0,000","Mobile",{"$f":"VLOOKUP(D203,'CATALOGUE SMARTPHONES'!A:C,3,0)","v":{"$error":"#N/A"}},{"$f":"IFERROR((VLOOKUP(C203,'Baréme Relax'!B:D,3,0)),0)","v":0}]
["ABLOUNA","12 août 2017","083013025001","HUAWEI GR5 2017 SILVER","1","549,000","0","0,000",1,"549,000","Mobile",{"$f":"VLOOKUP(D204,'CATALOGUE SMARTPHONES'!A:C,3,0)","v":{"$error":"#N/A"}},{"$f":"IFERROR((VLOOKUP(C204,'Baréme Relax'!B:D,3,0)),0)","v":0}]
["ABLOUNA","12 août 2017","043006000007","CARTE SIM 4G POST MULTI SIM","1","0,000","0","0,000",1,"0,000","Mobile",{"$f":"VLOOKUP(D205,'CATALOGUE SMARTPHONES'!A:C,3,0)","v":{"$error":"#N/A"}},{"$f":"IFERROR((VLOOKUP(C205,'Baréme Relax'!B:D,3,0)),0)","v":0}]
["RIGRAIET","12 août 2017","043006000003","CARTE SIM 4G PRE MULTI SIM","4","0,000","0","0,000",4,"0,000","Mobile",{"$f":"VLOOKUP(D206,'CATALOGUE SMARTPHONES'!A:C,3,0)","v":{"$error":"#N/A"}},{"$f":"IFERROR((VLOOKUP(C206,'Baréme Relax'!B:D,3,0)),0)","v":0}]
["ABLOUNA","12 août 2017","046002000034","CLE 3G E3531","1","0,000","0","0,000",1,"0,000","Mobile",{"$f":"VLOOKUP(D207,'CATALOGUE SMARTPHONES'!A:C,3,0)","v":{"$error":"#N/A"}},{"$f":"IFERROR((VLOOKUP(C207,'Baréme Relax'!B:D,3,0)),0)","v":0}]
["ABLOUNA","12 août 2017","043008000001","CARTE SIM 4G FLYBOX","1","0,000","0","0,000",1,"0,000","Mobile",{"$f":"VLOOKUP(D208,'CATALOGUE SMARTPHONES'!A:C,3,0)","v":{"$error":"#N/A"}},{"$f":"IFERROR((VLOOKUP(C208,'Baréme Relax'!B:D,3,0)),0)","v":0}]
["ASLOGHM","12 août 2017","043006000003","CARTE SIM 4G PRE MULTI SIM","2","0,000","0","0,000",2,"0,000","Mobile",{"$f":"VLOOKUP(D209,'CATALOGUE SMARTPHONES'!A:C,3,0)","v":{"$error":"#N/A"}},{"$f":"IFERROR((VLOOKUP(C209,'Baréme Relax'!B:D,3,0)),0)","v":0}]
["SIGHW","12 août 2017","043006000003","CARTE SIM 4G PRE MULTI SIM","2","10,000","0","0,000",2,"10,000","Mobile",{"$f":"VLOOKUP(D210,'CATALOGUE SMARTPHONES'!A:C,3,0)","v":{"$error":"#N/A"}},{"$f":"IFERROR((VLOOKUP(C210,'Baréme Relax'!B:D,3,0)),0)","v":0}]
["ABLOUNA","12 août 2017","043007000004","CARTE SIM 4G DATA MULTI SIM","1","14,000","0","0,000",1,"14,000","Mobile",{"$f":"VLOOKUP(D211,'CATALOGUE SMARTPHONES'!A:C,3,0)","v":{"$error":"#N/A"}},{"$f":"IFERROR((VLOOKUP(C211,'Baréme Relax'!B:D,3,0)),0)","v":0}]
["ABLOUNA","12 août 2017","085001000011","FLYBOX B310","1","0,000","0","0,000",1,"0,000","Mobile",{"$f":"VLOOKUP(D212,'CATALOGUE SMARTPHONES'!A:C,3,0)","v":{"$error":"#N/A"}},{"$f":"IFERROR((VLOOKUP(C212,'Baréme Relax'!B:D,3,0)),0)","v":0}]
["ABLOUNA","12 août 2017","043007000004","CARTE SIM 4G DATA MULTI SIM","1","30,000","0","0,000",1,"30,000","Mobile",{"$f":"VLOOKUP(D213,'CATALOGUE SMARTPHONES'!A:C,3,0)","v":{"$error":"#N/A"}},{"$f":"IFERROR((VLOOKUP(C213,'Baréme Relax'!B:D,3,0)),0)","v":0}]
["ASLOGHM","11 août 2017","P53327","Pack  - offre Pass","4","0,000","0","0,000",4,"0,000","Mobile",{"$f":"VLOOKUP(D214,'CATALOGUE SMARTPHONES'!A:C,3,0)","v":{"$error":"#N/A"}},{"$f":"IFERROR((VLOOKUP(C214,'Baréme Relax'!B:D,3,0)),0)","v":0}]
["ASLOGHM","11 août 2017","PRE03","offre Simply","4","0,000","0","0,000",4,"0,000","Mobile",{"$f":"VLOOKUP(D215,'CATALOGUE SMARTPHONES'!A:C,3,0)","v":{"$error":"#N/A"}},{"$f":"IFERROR((VLOOKUP(C215,'Baréme Relax'!B:D,3,0)),0)","v":0}]
["SIGHW","11 août 2017","P53327","Pack  - offre Pass","1","0,000","0","0,000",1,"0,000","Mobile",{"$f":"VLOOKUP(D216,'CATALOGUE SMARTPHONES'!A:C,3,0)","v":{"$error":"#N/A"}},{"$f":"IFERROR((VLOOKUP(C216,'Baréme Relax'!B:D,3,0)),0)","v":0}]
["ASLOGHM","11 août 2017","044004000010","Recharge Express","50","55,000","0","0,000",50,"55,000","Mobile",{"$f":"VLOOKUP(D217,'CATALOGUE SMARTPHONES'!A:C,3,0)","v":{"$error":"#N/A"}},{"$f":"IFERROR((VLOOKUP(C217,'Baréme Relax'!B:D,3,0)),0)","v":0}]
["SIGHW","11 août 2017","P59928"," Pack 2 mois - Flybox MAX - internet + voix","1","0,000","0","0,000",1,"0,000","Mobile",{"$f":"VLOOKUP(D218,'CATALOGUE SMARTPHONES'!A:C,3,0)","v":{"$error":"#N/A"}},{"$f":"IFERROR((VLOOKUP(C218,'Baréme Relax'!B:D,3,0)),0)","v":0}]
["ABLOUNA","11 août 2017","044004000010","Recharge Express","18","19,800","0","0,000",18,"19,800","Mobile",{"$f":"VLOOKUP(D219,'CATALOGUE SMARTPHONES'!A:C,3,0)","v":{"$error":"#N/A"}},{"$f":"IFERROR((VLOOKUP(C219,'Baréme Relax'!B:D,3,0)),0)","v":0}]
["SIGHW","11 août 2017","044004000010","Recharge Express","25","27,500","0","0,000",25,"27,500","Mobile",{"$f":"VLOOKUP(D220,'CATALOGUE SMARTPHONES'!A:C,3,0)","v":{"$error":"#N/A"}},{"$f":"IFERROR((VLOOKUP(C220,'Baréme Relax'!B:D,3,0)),0)","v":0}]
["ASLOGHM","11 août 2017","P56567","Pack Sim data - offre Simply  7,5 Go + illimité","2","0,000","0","0,000",2,"0,000","Mobile",{"$f":"VLOOKUP(D221,'CATALOGUE SMARTPHONES'!A:C,3,0)","v":{"$error":"#N/A"}},{"$f":"IFERROR((VLOOKUP(C221,'Baréme Relax'!B:D,3,0)),0)","v":0}]
["ASLOGHM","11 août 2017","P62599"," Pack Cle 3G E3531 + Orange Wifi dock - offre Simply 25 Go","2","0,000","0","0,000",2,"0,000","Mobile",{"$f":"VLOOKUP(D222,'CATALOGUE SMARTPHONES'!A:C,3,0)","v":{"$error":"#N/A"}},{"$f":"IFERROR((VLOOKUP(C222,'Baréme Relax'!B:D,3,0)),0)","v":0}]
["RIGRAIET","11 août 2017","P50329"," Pack Réengagement - forfait mix 15 Crédit 5DT - 12 mois","1","0,000","0","0,000",1,"0,000","Mobile",{"$f":"VLOOKUP(D223,'CATALOGUE SMARTPHONES'!A:C,3,0)","v":{"$error":"#N/A"}},{"$f":"IFERROR((VLOOKUP(C223,'Baréme Relax'!B:D,3,0)),0)","v":0}]
["RIGRAIET","11 août 2017","PRE24","Connecti","1","0,000","0","0,000",1,"0,000","Mobile",{"$f":"VLOOKUP(D224,'CATALOGUE SMARTPHONES'!A:C,3,0)","v":{"$error":"#N/A"}},{"$f":"IFERROR((VLOOKUP(C224,'Baréme Relax'!B:D,3,0)),0)","v":0}]
["ABLOUNA","11 août 2017","044004000010","Recharge Express","60","66,000","0","0,000",60,"66,000","Mobile",{"$f":"VLOOKUP(D225,'CATALOGUE SMARTPHONES'!A:C,3,0)","v":{"$error":"#N/A"}},{"$f":"IFERROR((VLOOKUP(C225,'Baréme Relax'!B:D,3,0)),0)","v":0}]
["SIGHW","11 août 2017","ADV2","Avance 2 mois","1","58,000","0","0,000",1,"58,000","Mobile",{"$f":"VLOOKUP(D226,'CATALOGUE SMARTPHONES'!A:C,3,0)","v":{"$error":"#N/A"}},{"$f":"IFERROR((VLOOKUP(C226,'Baréme Relax'!B:D,3,0)),0)","v":0}]
["ASLOGHM","11 août 2017","PRE10","offre Pass","4","0,000","0","0,000",4,"0,000","Mobile",{"$f":"VLOOKUP(D227,'CATALOGUE SMARTPHONES'!A:C,3,0)","v":{"$error":"#N/A"}},{"$f":"IFERROR((VLOOKUP(C227,'Baréme Relax'!B:D,3,0)),0)","v":0}]
["RIGRAIET","11 août 2017","P3079"," Pack de réengagement Flybox remise 20%","1","0,000","0","0,000",1,"0,000","Mobile",{"$f":"VLOOKUP(D228,'CATALOGUE SMARTPHONES'!A:C,3,0)","v":{"$error":"#N/A"}},{"$f":"IFERROR((VLOOKUP(C228,'Baréme Relax'!B:D,3,0)),0)","v":0}]
["ABLOUNA","11 août 2017","044004000010","Recharge Express","30","33,000","0","0,000",30,"33,000","Mobile",{"$f":"VLOOKUP(D229,'CATALOGUE SMARTPHONES'!A:C,3,0)","v":{"$error":"#N/A"}},{"$f":"IFERROR((VLOOKUP(C229,'Baréme Relax'!B:D,3,0)),0)","v":0}]
["RIGRAIET","11 août 2017","P56567","Pack Sim data - offre Simply  7,5 Go + illimité","2","0,000","0","0,000",2,"0,000","Mobile",{"$f":"VLOOKUP(D230,'CATALOGUE SMARTPHONES'!A:C,3,0)","v":{"$error":"#N/A"}},{"$f":"IFERROR((VLOOKUP(C230,'Baréme Relax'!B:D,3,0)),0)","v":0}]
["ABLOUNA","11 août 2017","PRE03","offre Simply","4","0,000","0","0,000",4,"0,000","Mobile",{"$f":"VLOOKUP(D231,'CATALOGUE SMARTPHONES'!A:C,3,0)","v":{"$error":"#N/A"}},{"$f":"IFERROR((VLOOKUP(C231,'Baréme Relax'!B:D,3,0)),0)","v":0}]
["SIGHW","11 août 2017","HYB12","Forfait clé 3G Intense","1","0,000","0","0,000",1,"0,000","Mobile",{"$f":"VLOOKUP(D232,'CATALOGUE SMARTPHONES'!A:C,3,0)","v":{"$error":"#N/A"}},{"$f":"IFERROR((VLOOKUP(C232,'Baréme Relax'!B:D,3,0)),0)","v":0}]
["SIGHW","11 août 2017","044004000010","Recharge Express","20","22,000","0","0,000",20,"22,000","Mobile",{"$f":"VLOOKUP(D233,'CATALOGUE SMARTPHONES'!A:C,3,0)","v":{"$error":"#N/A"}},{"$f":"IFERROR((VLOOKUP(C233,'Baréme Relax'!B:D,3,0)),0)","v":0}]
["RIGRAIET","11 août 2017","044004000010","Recharge Express","25","27,500","0","0,000",25,"27,500","Mobile",{"$f":"VLOOKUP(D234,'CATALOGUE SMARTPHONES'!A:C,3,0)","v":{"$error":"#N/A"}},{"$f":"IFERROR((VLOOKUP(C234,'Baréme Relax'!B:D,3,0)),0)","v":0}]
["RIGRAIET","11 août 2017","P61337"," Pack Pro  AIRBOX 4G MW40 - Forfait cl?? 3G Intense - 24 mois ","1","0,000","0","0,000",1,"0,000","Mobile",{"$f":"VLOOKUP(D235,'CATALOGUE SMARTPHONES'!A:C,3,0)","v":{"$error":"#N/A"}},{"$f":"IFERROR((VLOOKUP(C235,'Baréme Relax'!B:D,3,0)),0)","v":0}]
["ABLOUNA","11 août 2017","P56567","Pack Sim data - offre Simply  7,5 Go + illimité","1","0,000","0","0,000",1,"0,000","Mobile",{"$f":"VLOOKUP(D236,'CATALOGUE SMARTPHONES'!A:C,3,0)","v":{"$error":"#N/A"}},{"$f":"IFERROR((VLOOKUP(C236,'Baréme Relax'!B:D,3,0)),0)","v":0}]
["ASLOGHM","11 août 2017","HYB12","Forfait clé 3G Intense","1","0,000","0","0,000",1,"0,000","Mobile",{"$f":"VLOOKUP(D237,'CATALOGUE SMARTPHONES'!A:C,3,0)","v":{"$error":"#N/A"}},{"$f":"IFERROR((VLOOKUP(C237,'Baréme Relax'!B:D,3,0)),0)","v":0}]
["SIGHW","11 août 2017","HYB35","Flybox MAX","1","0,000","0","0,000",1,"0,000","Mobile",{"$f":"VLOOKUP(D238,'CATALOGUE SMARTPHONES'!A:C,3,0)","v":{"$error":"#N/A"}},{"$f":"IFERROR((VLOOKUP(C238,'Baréme Relax'!B:D,3,0)),0)","v":0}]
["RIGRAIET","11 août 2017","PRE21","Melle5er","5","0,000","0","0,000",5,"0,000","Mobile",{"$f":"VLOOKUP(D239,'CATALOGUE SMARTPHONES'!A:C,3,0)","v":{"$error":"#N/A"}},{"$f":"IFERROR((VLOOKUP(C239,'Baréme Relax'!B:D,3,0)),0)","v":0}]
["SIGHW","11 août 2017","044004000010","Recharge Express","20","22,000","0","0,000",20,"22,000","Mobile",{"$f":"VLOOKUP(D240,'CATALOGUE SMARTPHONES'!A:C,3,0)","v":{"$error":"#N/A"}},{"$f":"IFERROR((VLOOKUP(C240,'Baréme Relax'!B:D,3,0)),0)","v":0}]
["SIGHW","11 août 2017","999100001003","SERVICE TRANSFERT CONTACT","1","3,000","0","0,000",1,"3,000","Mobile",{"$f":"VLOOKUP(D241,'CATALOGUE SMARTPHONES'!A:C,3,0)","v":{"$error":"#N/A"}},{"$f":"IFERROR((VLOOKUP(C241,'Baréme Relax'!B:D,3,0)),0)","v":"2"}]
["RIGRAIET","11 août 2017","999100001003","SERVICE TRANSFERT CONTACT","4","12,000","0","0,000",4,"12,000","Mobile",{"$f":"VLOOKUP(D242,'CATALOGUE SMARTPHONES'!A:C,3,0)","v":{"$error":"#N/A"}},{"$f":"IFERROR((VLOOKUP(C242,'Baréme Relax'!B:D,3,0)),0)","v":"2"}]
["RIGRAIET","11 août 2017","044004000010","Recharge Express","12","13,200","0","0,000",12,"13,200","Mobile",{"$f":"VLOOKUP(D243,'CATALOGUE SMARTPHONES'!A:C,3,0)","v":{"$error":"#N/A"}},{"$f":"IFERROR((VLOOKUP(C243,'Baréme Relax'!B:D,3,0)),0)","v":0}]
["ABLOUNA","11 août 2017","PRE21","Melle5er","4","0,000","0","0,000",4,"0,000","Mobile",{"$f":"VLOOKUP(D244,'CATALOGUE SMARTPHONES'!A:C,3,0)","v":{"$error":"#N/A"}},{"$f":"IFERROR((VLOOKUP(C244,'Baréme Relax'!B:D,3,0)),0)","v":0}]
["RIGRAIET","11 août 2017","HYB13","Flybox home","1","0,000","0","0,000",1,"0,000","Mobile",{"$f":"VLOOKUP(D245,'CATALOGUE SMARTPHONES'!A:C,3,0)","v":{"$error":"#N/A"}},{"$f":"IFERROR((VLOOKUP(C245,'Baréme Relax'!B:D,3,0)),0)","v":0}]
["SIGHW","11 août 2017","044004000010","Recharge Express","30","33,000","0","0,000",30,"33,000","Mobile",{"$f":"VLOOKUP(D246,'CATALOGUE SMARTPHONES'!A:C,3,0)","v":{"$error":"#N/A"}},{"$f":"IFERROR((VLOOKUP(C246,'Baréme Relax'!B:D,3,0)),0)","v":0}]
["RIGRAIET","11 août 2017","044004000010","Recharge Express","60","66,000","0","0,000",60,"66,000","Mobile",{"$f":"VLOOKUP(D247,'CATALOGUE SMARTPHONES'!A:C,3,0)","v":{"$error":"#N/A"}},{"$f":"IFERROR((VLOOKUP(C247,'Baréme Relax'!B:D,3,0)),0)","v":0}]
["ABLOUNA","11 août 2017","044004000010","Recharge Express","20","22,000","0","0,000",20,"22,000","Mobile",{"$f":"VLOOKUP(D248,'CATALOGUE SMARTPHONES'!A:C,3,0)","v":{"$error":"#N/A"}},{"$f":"IFERROR((VLOOKUP(C248,'Baréme Relax'!B:D,3,0)),0)","v":0}]
["ASLOGHM","11 août 2017","P3078","Pack de réengagement IEW Forfait remise 20%","1","0,000","0","0,000",1,"0,000","Mobile",{"$f":"VLOOKUP(D249,'CATALOGUE SMARTPHONES'!A:C,3,0)","v":{"$error":"#N/A"}},{"$f":"IFERROR((VLOOKUP(C249,'Baréme Relax'!B:D,3,0)),0)","v":0}]
["ASLOGHM","11 août 2017","044004000010","Recharge Express","12","13,200","0","0,000",12,"13,200","Mobile",{"$f":"VLOOKUP(D250,'CATALOGUE SMARTPHONES'!A:C,3,0)","v":{"$error":"#N/A"}},{"$f":"IFERROR((VLOOKUP(C250,'Baréme Relax'!B:D,3,0)),0)","v":0}]
["SIGHW","11 août 2017","PRE10","offre Pass","2","0,000","0","0,000",2,"0,000","Mobile",{"$f":"VLOOKUP(D251,'CATALOGUE SMARTPHONES'!A:C,3,0)","v":{"$error":"#N/A"}},{"$f":"IFERROR((VLOOKUP(C251,'Baréme Relax'!B:D,3,0)),0)","v":0}]
["RIGRAIET","11 août 2017","044004000010","Recharge Express","30","33,000","0","0,000",30,"33,000","Mobile",{"$f":"VLOOKUP(D252,'CATALOGUE SMARTPHONES'!A:C,3,0)","v":{"$error":"#N/A"}},{"$f":"IFERROR((VLOOKUP(C252,'Baréme Relax'!B:D,3,0)),0)","v":0}]
["RIGRAIET","11 août 2017","044004000010","Recharge Express","10","11,000","0","0,000",10,"11,000","Mobile",{"$f":"VLOOKUP(D253,'CATALOGUE SMARTPHONES'!A:C,3,0)","v":{"$error":"#N/A"}},{"$f":"IFERROR((VLOOKUP(C253,'Baréme Relax'!B:D,3,0)),0)","v":0}]
["RIGRAIET","11 août 2017","HYB01","forfait mix 15","1","0,000","0","0,000",1,"0,000","Mobile",{"$f":"VLOOKUP(D254,'CATALOGUE SMARTPHONES'!A:C,3,0)","v":{"$error":"#N/A"}},{"$f":"IFERROR((VLOOKUP(C254,'Baréme Relax'!B:D,3,0)),0)","v":0}]
["SIGHW","11 août 2017","ADV2","Avance 2 mois","1","50,000","0","0,000",1,"50,000","Mobile",{"$f":"VLOOKUP(D255,'CATALOGUE SMARTPHONES'!A:C,3,0)","v":{"$error":"#N/A"}},{"$f":"IFERROR((VLOOKUP(C255,'Baréme Relax'!B:D,3,0)),0)","v":0}]
["SIGHW","11 août 2017","P61141"," Pack AIRBOX 4G MW40 - Forfait cl?? 3G Intense - 12 mois  - Avance 2 mois","1","0,000","0","0,000",1,"0,000","Mobile",{"$f":"VLOOKUP(D256,'CATALOGUE SMARTPHONES'!A:C,3,0)","v":{"$error":"#N/A"}},{"$f":"IFERROR((VLOOKUP(C256,'Baréme Relax'!B:D,3,0)),0)","v":0}]
["SIGHW","11 août 2017","PRE21","Melle5er","5","0,000","0","0,000",5,"0,000","Mobile",{"$f":"VLOOKUP(D257,'CATALOGUE SMARTPHONES'!A:C,3,0)","v":{"$error":"#N/A"}},{"$f":"IFERROR((VLOOKUP(C257,'Baréme Relax'!B:D,3,0)),0)","v":0}]
["SIGHW","11 août 2017","P53287"," Clé 3G E3531 é?Offre Pass é? Bonus Internet 3Go - 1 mois      ","1","0,000","0","0,000",1,"0,000","Mobile",{"$f":"VLOOKUP(D258,'CATALOGUE SMARTPHONES'!A:C,3,0)","v":{"$error":"#N/A"}},{"$f":"IFERROR((VLOOKUP(C258,'Baréme Relax'!B:D,3,0)),0)","v":0}]
["SIGHW","11 août 2017","044004000010","Recharge Express","6","6,600","0","0,000",6,"6,600","Mobile",{"$f":"VLOOKUP(D259,'CATALOGUE SMARTPHONES'!A:C,3,0)","v":{"$error":"#N/A"}},{"$f":"IFERROR((VLOOKUP(C259,'Baréme Relax'!B:D,3,0)),0)","v":0}]
["RIGRAIET","11 août 2017","POSA2","ADSL HOME","1","125,900","0","0,000",1,"125,900","ADSL",{"$f":"VLOOKUP(D260,'CATALOGUE SMARTPHONES'!A:C,3,0)","v":{"$error":"#N/A"}},{"$f":"IFERROR((VLOOKUP(C260,'Baréme Relax'!B:D,3,0)),0)","v":0}]
["ASLOGHM","11 août 2017","044004000010","Recharge Express","40","44,000","0","0,000",40,"44,000","Mobile",{"$f":"VLOOKUP(D261,'CATALOGUE SMARTPHONES'!A:C,3,0)","v":{"$error":"#N/A"}},{"$f":"IFERROR((VLOOKUP(C261,'Baréme Relax'!B:D,3,0)),0)","v":0}]
["ASLOGHM","11 août 2017","PRE21","Melle5er","11","0,000","0","0,000",11,"0,000","Mobile",{"$f":"VLOOKUP(D262,'CATALOGUE SMARTPHONES'!A:C,3,0)","v":{"$error":"#N/A"}},{"$f":"IFERROR((VLOOKUP(C262,'Baréme Relax'!B:D,3,0)),0)","v":0}]
["ASLOGHM","11 août 2017","044004000010","Recharge Express","20","22,000","0","0,000",20,"22,000","Mobile",{"$f":"VLOOKUP(D263,'CATALOGUE SMARTPHONES'!A:C,3,0)","v":{"$error":"#N/A"}},{"$f":"IFERROR((VLOOKUP(C263,'Baréme Relax'!B:D,3,0)),0)","v":0}]
["RIGRAIET","11 août 2017","HYB12","Forfait clé 3G Intense","1","0,000","0","0,000",1,"0,000","Mobile",{"$f":"VLOOKUP(D264,'CATALOGUE SMARTPHONES'!A:C,3,0)","v":{"$error":"#N/A"}},{"$f":"IFERROR((VLOOKUP(C264,'Baréme Relax'!B:D,3,0)),0)","v":0}]
["ASLOGHM","11 août 2017","PRE17","3alami","1","0,000","0","0,000",1,"0,000","Mobile",{"$f":"VLOOKUP(D265,'CATALOGUE SMARTPHONES'!A:C,3,0)","v":{"$error":"#N/A"}},{"$f":"IFERROR((VLOOKUP(C265,'Baréme Relax'!B:D,3,0)),0)","v":0}]
["ABLOUNA","11 août 2017","PRE17","3alami","1","0,000","0","0,000",1,"0,000","Mobile",{"$f":"VLOOKUP(D266,'CATALOGUE SMARTPHONES'!A:C,3,0)","v":{"$error":"#N/A"}},{"$f":"IFERROR((VLOOKUP(C266,'Baréme Relax'!B:D,3,0)),0)","v":0}]
["RIGRAIET","11 août 2017","PRE03","offre Simply","2","0,000","0","0,000",2,"0,000","Mobile",{"$f":"VLOOKUP(D267,'CATALOGUE SMARTPHONES'!A:C,3,0)","v":{"$error":"#N/A"}},{"$f":"IFERROR((VLOOKUP(C267,'Baréme Relax'!B:D,3,0)),0)","v":0}]
["ABLOUNA","11 août 2017","P59924"," Pack Sim data  - offre Simply- bonus internet 1Go- 1 mois","3","0,000","0","0,000",3,"0,000","Mobile",{"$f":"VLOOKUP(D268,'CATALOGUE SMARTPHONES'!A:C,3,0)","v":{"$error":"#N/A"}},{"$f":"IFERROR((VLOOKUP(C268,'Baréme Relax'!B:D,3,0)),0)","v":0}]
["RIGRAIET","11 août 2017","043006000003","CARTE SIM 4G PRE MULTI SIM","5","15,000","0","0,000",5,"15,000","Mobile",{"$f":"VLOOKUP(D269,'CATALOGUE SMARTPHONES'!A:C,3,0)","v":{"$error":"#N/A"}},{"$f":"IFERROR((VLOOKUP(C269,'Baréme Relax'!B:D,3,0)),0)","v":0}]
["ABLOUNA","11 août 2017","043006000003","CARTE SIM 4G PRE MULTI SIM","1","5,000","0","0,000",1,"5,000","Mobile",{"$f":"VLOOKUP(D270,'CATALOGUE SMARTPHONES'!A:C,3,0)","v":{"$error":"#N/A"}},{"$f":"IFERROR((VLOOKUP(C270,'Baréme Relax'!B:D,3,0)),0)","v":0}]
["RIGRAIET","11 août 2017","043007000004","CARTE SIM 4G DATA MULTI SIM","2","60,000","0","0,000",2,"60,000","Mobile",{"$f":"VLOOKUP(D271,'CATALOGUE SMARTPHONES'!A:C,3,0)","v":{"$error":"#N/A"}},{"$f":"IFERROR((VLOOKUP(C271,'Baréme Relax'!B:D,3,0)),0)","v":0}]
["RIGRAIET","11 août 2017","045001074003","SAMSUNG GRAND PRIME + GOLD","1","379,000","0","0,000",1,"379,000","Mobile",{"$f":"VLOOKUP(D272,'CATALOGUE SMARTPHONES'!A:C,3,0)","v":"OK"},{"$f":"IFERROR((VLOOKUP(C272,'Baréme Relax'!B:D,3,0)),0)","v":0}]
["SIGHW","11 août 2017","043006000003","CARTE SIM 4G PRE MULTI SIM","2","10,000","0","0,000",2,"10,000","Mobile",{"$f":"VLOOKUP(D273,'CATALOGUE SMARTPHONES'!A:C,3,0)","v":{"$error":"#N/A"}},{"$f":"IFERROR((VLOOKUP(C273,'Baréme Relax'!B:D,3,0)),0)","v":0}]
["RIGRAIET","11 août 2017","046002000056","AIRBOX 4G MW40","1","0,000","0","0,000",1,"0,000","Mobile",{"$f":"VLOOKUP(D274,'CATALOGUE SMARTPHONES'!A:C,3,0)","v":{"$error":"#N/A"}},{"$f":"IFERROR((VLOOKUP(C274,'Baréme Relax'!B:D,3,0)),0)","v":0}]
["RIGRAIET","11 août 2017","043007000004","CARTE SIM 4G DATA MULTI SIM","1","0,000","0","0,000",1,"0,000","Mobile",{"$f":"VLOOKUP(D275,'CATALOGUE SMARTPHONES'!A:C,3,0)","v":{"$error":"#N/A"}},{"$f":"IFERROR((VLOOKUP(C275,'Baréme Relax'!B:D,3,0)),0)","v":0}]
["RIGRAIET","11 août 2017","188003000016","Modem Huawei HG532","2","0,000","0","0,000",2,"0,000","ADSL",{"$f":"VLOOKUP(D276,'CATALOGUE SMARTPHONES'!A:C,3,0)","v":{"$error":"#N/A"}},{"$f":"IFERROR((VLOOKUP(C276,'Baréme Relax'!B:D,3,0)),0)","v":0}]
["ABLOUNA","11 août 2017","043007000004","CARTE SIM 4G DATA MULTI SIM","3","15,000","0","0,000",3,"15,000","Mobile",{"$f":"VLOOKUP(D277,'CATALOGUE SMARTPHONES'!A:C,3,0)","v":{"$error":"#N/A"}},{"$f":"IFERROR((VLOOKUP(C277,'Baréme Relax'!B:D,3,0)),0)","v":0}]
["RIGRAIET","11 août 2017","043006000003","CARTE SIM 4G PRE MULTI SIM","6","0,000","0","0,000",6,"0,000","Mobile",{"$f":"VLOOKUP(D278,'CATALOGUE SMARTPHONES'!A:C,3,0)","v":{"$error":"#N/A"}},{"$f":"IFERROR((VLOOKUP(C278,'Baréme Relax'!B:D,3,0)),0)","v":0}]
["SIGHW","11 août 2017","043006000003","CARTE SIM 4G PRE MULTI SIM","4","12,000","0","0,000",4,"12,000","Mobile",{"$f":"VLOOKUP(D279,'CATALOGUE SMARTPHONES'!A:C,3,0)","v":{"$error":"#N/A"}},{"$f":"IFERROR((VLOOKUP(C279,'Baréme Relax'!B:D,3,0)),0)","v":0}]
["SIGHW","11 août 2017","046002000034","CLE 3G E3531","1","0,000","0","0,000",1,"0,000","Mobile",{"$f":"VLOOKUP(D280,'CATALOGUE SMARTPHONES'!A:C,3,0)","v":{"$error":"#N/A"}},{"$f":"IFERROR((VLOOKUP(C280,'Baréme Relax'!B:D,3,0)),0)","v":0}]
["ASLOGHM","11 août 2017","043007000004","CARTE SIM 4G DATA MULTI SIM","2","60,000","0","0,000",2,"60,000","Mobile",{"$f":"VLOOKUP(D281,'CATALOGUE SMARTPHONES'!A:C,3,0)","v":{"$error":"#N/A"}},{"$f":"IFERROR((VLOOKUP(C281,'Baréme Relax'!B:D,3,0)),0)","v":0}]
["ABLOUNA","11 août 2017","045001074001","SAMSUNG GRAND PRIME + BLACK","1","379,000","0","0,000",1,"379,000","Mobile",{"$f":"VLOOKUP(D282,'CATALOGUE SMARTPHONES'!A:C,3,0)","v":"OK"},{"$f":"IFERROR((VLOOKUP(C282,'Baréme Relax'!B:D,3,0)),0)","v":0}]
["RIGRAIET","11 août 2017","043008000001","CARTE SIM 4G FLYBOX","1","0,000","0","0,000",1,"0,000","Mobile",{"$f":"VLOOKUP(D283,'CATALOGUE SMARTPHONES'!A:C,3,0)","v":{"$error":"#N/A"}},{"$f":"IFERROR((VLOOKUP(C283,'Baréme Relax'!B:D,3,0)),0)","v":0}]
["ASLOGHM","11 août 2017","043006000003","CARTE SIM 4G PRE MULTI SIM","8","0,000","0","0,000",8,"0,000","Mobile",{"$f":"VLOOKUP(D284,'CATALOGUE SMARTPHONES'!A:C,3,0)","v":{"$error":"#N/A"}},{"$f":"IFERROR((VLOOKUP(C284,'Baréme Relax'!B:D,3,0)),0)","v":0}]
["ASLOGHM","11 août 2017","043007000004","CARTE SIM 4G DATA MULTI SIM","4","20,000","0","0,000",4,"20,000","Mobile",{"$f":"VLOOKUP(D285,'CATALOGUE SMARTPHONES'!A:C,3,0)","v":{"$error":"#N/A"}},{"$f":"IFERROR((VLOOKUP(C285,'Baréme Relax'!B:D,3,0)),0)","v":0}]
["ASLOGHM","11 août 2017","047006000161","Orange Wifi dock","2","0,000","0","0,000",2,"0,000","Mobile",{"$f":"VLOOKUP(D286,'CATALOGUE SMARTPHONES'!A:C,3,0)","v":{"$error":"#N/A"}},{"$f":"IFERROR((VLOOKUP(C286,'Baréme Relax'!B:D,3,0)),0)","v":0}]
["ABLOUNA","11 août 2017","043006000003","CARTE SIM 4G PRE MULTI SIM","4","0,000","0","0,000",4,"0,000","Mobile",{"$f":"VLOOKUP(D287,'CATALOGUE SMARTPHONES'!A:C,3,0)","v":{"$error":"#N/A"}},{"$f":"IFERROR((VLOOKUP(C287,'Baréme Relax'!B:D,3,0)),0)","v":0}]
["RIGRAIET","11 août 2017","043006000003","CARTE SIM 4G PRE MULTI SIM","4","20,000","0","0,000",4,"20,000","Mobile",{"$f":"VLOOKUP(D288,'CATALOGUE SMARTPHONES'!A:C,3,0)","v":{"$error":"#N/A"}},{"$f":"IFERROR((VLOOKUP(C288,'Baréme Relax'!B:D,3,0)),0)","v":0}]
["SIGHW","11 août 2017","046002000056","AIRBOX 4G MW40","1","29,000","0","0,000",1,"29,000","Mobile",{"$f":"VLOOKUP(D289,'CATALOGUE SMARTPHONES'!A:C,3,0)","v":{"$error":"#N/A"}},{"$f":"IFERROR((VLOOKUP(C289,'Baréme Relax'!B:D,3,0)),0)","v":0}]
["SIGHW","11 août 2017","043006000003","CARTE SIM 4G PRE MULTI SIM","4","0,000","0","0,000",4,"0,000","Mobile",{"$f":"VLOOKUP(D290,'CATALOGUE SMARTPHONES'!A:C,3,0)","v":{"$error":"#N/A"}},{"$f":"IFERROR((VLOOKUP(C290,'Baréme Relax'!B:D,3,0)),0)","v":0}]
["ABLOUNA","11 août 2017","043006000003","CARTE SIM 4G PRE MULTI SIM","3","9,000","0","0,000",3,"9,000","Mobile",{"$f":"VLOOKUP(D291,'CATALOGUE SMARTPHONES'!A:C,3,0)","v":{"$error":"#N/A"}},{"$f":"IFERROR((VLOOKUP(C291,'Baréme Relax'!B:D,3,0)),0)","v":0}]
["SIGHW","11 août 2017","043008000001","CARTE SIM 4G FLYBOX","1","0,000","0","0,000",1,"0,000","Mobile",{"$f":"VLOOKUP(D292,'CATALOGUE SMARTPHONES'!A:C,3,0)","v":{"$error":"#N/A"}},{"$f":"IFERROR((VLOOKUP(C292,'Baréme Relax'!B:D,3,0)),0)","v":0}]
["ASLOGHM","11 août 2017","046002000034","CLE 3G E3531","2","78,000","0","0,000",2,"78,000","Mobile",{"$f":"VLOOKUP(D293,'CATALOGUE SMARTPHONES'!A:C,3,0)","v":{"$error":"#N/A"}},{"$f":"IFERROR((VLOOKUP(C293,'Baréme Relax'!B:D,3,0)),0)","v":0}]
["SIGHW","11 août 2017","043007000004","CARTE SIM 4G DATA MULTI SIM","1","14,000","0","0,000",1,"14,000","Mobile",{"$f":"VLOOKUP(D294,'CATALOGUE SMARTPHONES'!A:C,3,0)","v":{"$error":"#N/A"}},{"$f":"IFERROR((VLOOKUP(C294,'Baréme Relax'!B:D,3,0)),0)","v":0}]
["SIGHW","11 août 2017","043007000004","CARTE SIM 4G DATA MULTI SIM","1","5,000","0","0,000",1,"5,000","Mobile",{"$f":"VLOOKUP(D295,'CATALOGUE SMARTPHONES'!A:C,3,0)","v":{"$error":"#N/A"}},{"$f":"IFERROR((VLOOKUP(C295,'Baréme Relax'!B:D,3,0)),0)","v":0}]
["ASLOGHM","11 août 2017","043006000003","CARTE SIM 4G PRE MULTI SIM","5","25,000","0","0,000",5,"25,000","Mobile",{"$f":"VLOOKUP(D296,'CATALOGUE SMARTPHONES'!A:C,3,0)","v":{"$error":"#N/A"}},{"$f":"IFERROR((VLOOKUP(C296,'Baréme Relax'!B:D,3,0)),0)","v":0}]
["SIGHW","11 août 2017","188003000016","Modem Huawei HG532","1","0,000","0","0,000",1,"0,000","ADSL",{"$f":"VLOOKUP(D297,'CATALOGUE SMARTPHONES'!A:C,3,0)","v":{"$error":"#N/A"}},{"$f":"IFERROR((VLOOKUP(C297,'Baréme Relax'!B:D,3,0)),0)","v":0}]
["SIGHW","11 août 2017","085001000011","FLYBOX B310","1","0,000","0","0,000",1,"0,000","Mobile",{"$f":"VLOOKUP(D298,'CATALOGUE SMARTPHONES'!A:C,3,0)","v":{"$error":"#N/A"}},{"$f":"IFERROR((VLOOKUP(C298,'Baréme Relax'!B:D,3,0)),0)","v":0}]
["ASLOGHM","11 août 2017","043007000004","CARTE SIM 4G DATA MULTI SIM","2","0,000","0","0,000",2,"0,000","Mobile",{"$f":"VLOOKUP(D299,'CATALOGUE SMARTPHONES'!A:C,3,0)","v":{"$error":"#N/A"}},{"$f":"IFERROR((VLOOKUP(C299,'Baréme Relax'!B:D,3,0)),0)","v":0}]
["ASLOGHM","11 août 2017","043006000003","CARTE SIM 4G PRE MULTI SIM","2","6,000","0","0,000",2,"6,000","Mobile",{"$f":"VLOOKUP(D300,'CATALOGUE SMARTPHONES'!A:C,3,0)","v":{"$error":"#N/A"}},{"$f":"IFERROR((VLOOKUP(C300,'Baréme Relax'!B:D,3,0)),0)","v":0}]
["SIGHW","11 août 2017","043007000004","CARTE SIM 4G DATA MULTI SIM","2","0,000","0","0,000",2,"0,000","Mobile",{"$f":"VLOOKUP(D301,'CATALOGUE SMARTPHONES'!A:C,3,0)","v":{"$error":"#N/A"}},{"$f":"IFERROR((VLOOKUP(C301,'Baréme Relax'!B:D,3,0)),0)","v":0}]
["ABLOUNA","11 août 2017","188003000016","Modem Huawei HG532","1","0,000","0","0,000",1,"0,000","ADSL",{"$f":"VLOOKUP(D302,'CATALOGUE SMARTPHONES'!A:C,3,0)","v":{"$error":"#N/A"}},{"$f":"IFERROR((VLOOKUP(C302,'Baréme Relax'!B:D,3,0)),0)","v":0}]
["ABLOUNA","11 août 2017","043007000004","CARTE SIM 4G DATA MULTI SIM","1","30,000","0","0,000",1,"30,000","Mobile",{"$f":"VLOOKUP(D303,'CATALOGUE SMARTPHONES'!A:C,3,0)","v":{"$error":"#N/A"}},{"$f":"IFERROR((VLOOKUP(C303,'Baréme Relax'!B:D,3,0)),0)","v":0}]
["SIGHW","10 août 2017","P53327","Pack  - offre Pass","2","0,000","0","0,000",2,"0,000","Mobile",{"$f":"VLOOKUP(D304,'CATALOGUE SMARTPHONES'!A:C,3,0)","v":{"$error":"#N/A"}},{"$f":"IFERROR((VLOOKUP(C304,'Baréme Relax'!B:D,3,0)),0)","v":0}]
["SIGHW","10 août 2017","HYB29","Forfait clé 3G Access","1","0,000","0","0,000",1,"0,000","Mobile",{"$f":"VLOOKUP(D305,'CATALOGUE SMARTPHONES'!A:C,3,0)","v":{"$error":"#N/A"}},{"$f":"IFERROR((VLOOKUP(C305,'Baréme Relax'!B:D,3,0)),0)","v":0}]
["ABLOUNA","10 août 2017","044004000010","Recharge Express","50","55,000","0","0,000",50,"55,000","Mobile",{"$f":"VLOOKUP(D306,'CATALOGUE SMARTPHONES'!A:C,3,0)","v":{"$error":"#N/A"}},{"$f":"IFERROR((VLOOKUP(C306,'Baréme Relax'!B:D,3,0)),0)","v":0}]
["RIGRAIET","10 août 2017","PRE03","offre Simply","1","0,000","0","0,000",1,"0,000","Mobile",{"$f":"VLOOKUP(D307,'CATALOGUE SMARTPHONES'!A:C,3,0)","v":{"$error":"#N/A"}},{"$f":"IFERROR((VLOOKUP(C307,'Baréme Relax'!B:D,3,0)),0)","v":0}]
["RIGRAIET","10 août 2017","044004000010","Recharge Express","1","1,100","0","0,000",1,"1,100","Mobile",{"$f":"VLOOKUP(D308,'CATALOGUE SMARTPHONES'!A:C,3,0)","v":{"$error":"#N/A"}},{"$f":"IFERROR((VLOOKUP(C308,'Baréme Relax'!B:D,3,0)),0)","v":0}]
["ABLOUNA","10 août 2017","P59924"," Pack Sim data  - offre Simply- bonus internet 1Go- 1 mois","1","0,000","0","0,000",1,"0,000","Mobile",{"$f":"VLOOKUP(D309,'CATALOGUE SMARTPHONES'!A:C,3,0)","v":{"$error":"#N/A"}},{"$f":"IFERROR((VLOOKUP(C309,'Baréme Relax'!B:D,3,0)),0)","v":0}]
["ASLOGHM","10 août 2017","PRE10","offre Pass","4","0,000","0","0,000",4,"0,000","Mobile",{"$f":"VLOOKUP(D310,'CATALOGUE SMARTPHONES'!A:C,3,0)","v":{"$error":"#N/A"}},{"$f":"IFERROR((VLOOKUP(C310,'Baréme Relax'!B:D,3,0)),0)","v":0}]
["ASLOGHM","10 août 2017","044004000010","Recharge Express","10","11,000","0","0,000",10,"11,000","Mobile",{"$f":"VLOOKUP(D311,'CATALOGUE SMARTPHONES'!A:C,3,0)","v":{"$error":"#N/A"}},{"$f":"IFERROR((VLOOKUP(C311,'Baréme Relax'!B:D,3,0)),0)","v":0}]
["ASLOGHM","10 août 2017","PRE03","offre Simply","4","0,000","0","0,000",4,"0,000","Mobile",{"$f":"VLOOKUP(D312,'CATALOGUE SMARTPHONES'!A:C,3,0)","v":{"$error":"#N/A"}},{"$f":"IFERROR((VLOOKUP(C312,'Baréme Relax'!B:D,3,0)),0)","v":0}]
["SIGHW","10 août 2017","P3901","Pack de réengagement Forfait clé 3G Access remise 20%","1","0,000","0","0,000",1,"0,000","Mobile",{"$f":"VLOOKUP(D313,'CATALOGUE SMARTPHONES'!A:C,3,0)","v":{"$error":"#N/A"}},{"$f":"IFERROR((VLOOKUP(C313,'Baréme Relax'!B:D,3,0)),0)","v":0}]
["SIGHW","10 août 2017","HYB35","Flybox MAX","1","0,000","0","0,000",1,"0,000","Mobile",{"$f":"VLOOKUP(D314,'CATALOGUE SMARTPHONES'!A:C,3,0)","v":{"$error":"#N/A"}},{"$f":"IFERROR((VLOOKUP(C314,'Baréme Relax'!B:D,3,0)),0)","v":0}]
["ABLOUNA","10 août 2017","PRE17","3alami","1","0,000","0","0,000",1,"0,000","Mobile",{"$f":"VLOOKUP(D315,'CATALOGUE SMARTPHONES'!A:C,3,0)","v":{"$error":"#N/A"}},{"$f":"IFERROR((VLOOKUP(C315,'Baréme Relax'!B:D,3,0)),0)","v":0}]
["RIGRAIET","10 août 2017","P61147"," Pack AIRBOX 4G MW40 - offre Simply - bonus internet 7,5Go + illimit?? ","1","0,000","0","0,000",1,"0,000","Mobile",{"$f":"VLOOKUP(D316,'CATALOGUE SMARTPHONES'!A:C,3,0)","v":{"$error":"#N/A"}},{"$f":"IFERROR((VLOOKUP(C316,'Baréme Relax'!B:D,3,0)),0)","v":0}]
["ABLOUNA","10 août 2017","044004000010","Recharge Express","1","1,100","0","0,000",1,"1,100","Mobile",{"$f":"VLOOKUP(D317,'CATALOGUE SMARTPHONES'!A:C,3,0)","v":{"$error":"#N/A"}},{"$f":"IFERROR((VLOOKUP(C317,'Baréme Relax'!B:D,3,0)),0)","v":0}]
["ASLOGHM","10 août 2017","HYB13","Flybox home","1","0,000","0","0,000",1,"0,000","Mobile",{"$f":"VLOOKUP(D318,'CATALOGUE SMARTPHONES'!A:C,3,0)","v":{"$error":"#N/A"}},{"$f":"IFERROR((VLOOKUP(C318,'Baréme Relax'!B:D,3,0)),0)","v":0}]
["ABLOUNA","10 août 2017","P53287"," Clé 3G E3531 é?Offre Pass é? Bonus Internet 3Go - 1 mois      ","1","0,000","0","0,000",1,"0,000","Mobile",{"$f":"VLOOKUP(D319,'CATALOGUE SMARTPHONES'!A:C,3,0)","v":{"$error":"#N/A"}},{"$f":"IFERROR((VLOOKUP(C319,'Baréme Relax'!B:D,3,0)),0)","v":0}]
["RIGRAIET","10 août 2017","044004000010","Recharge Express","20","22,000","0","0,000",20,"22,000","Mobile",{"$f":"VLOOKUP(D320,'CATALOGUE SMARTPHONES'!A:C,3,0)","v":{"$error":"#N/A"}},{"$f":"IFERROR((VLOOKUP(C320,'Baréme Relax'!B:D,3,0)),0)","v":0}]
["ABLOUNA","10 août 2017","PRE13","Edawa5","1","0,000","0","0,000",1,"0,000","Mobile",{"$f":"VLOOKUP(D321,'CATALOGUE SMARTPHONES'!A:C,3,0)","v":{"$error":"#N/A"}},{"$f":"IFERROR((VLOOKUP(C321,'Baréme Relax'!B:D,3,0)),0)","v":0}]
["ASLOGHM","10 août 2017","PRE21","Melle5er","4","0,000","0","0,000",4,"0,000","Mobile",{"$f":"VLOOKUP(D322,'CATALOGUE SMARTPHONES'!A:C,3,0)","v":{"$error":"#N/A"}},{"$f":"IFERROR((VLOOKUP(C322,'Baréme Relax'!B:D,3,0)),0)","v":0}]
["SIGHW","10 août 2017","044004000010","Recharge Express","15","16,500","0","0,000",15,"16,500","Mobile",{"$f":"VLOOKUP(D323,'CATALOGUE SMARTPHONES'!A:C,3,0)","v":{"$error":"#N/A"}},{"$f":"IFERROR((VLOOKUP(C323,'Baréme Relax'!B:D,3,0)),0)","v":0}]
["RIGRAIET","10 août 2017","P59928"," Pack 2 mois - Flybox MAX - internet + voix","1","0,000","0","0,000",1,"0,000","Mobile",{"$f":"VLOOKUP(D324,'CATALOGUE SMARTPHONES'!A:C,3,0)","v":{"$error":"#N/A"}},{"$f":"IFERROR((VLOOKUP(C324,'Baréme Relax'!B:D,3,0)),0)","v":0}]
["SIGHW","10 août 2017","044004000010","Recharge Express","30","33,000","0","0,000",30,"33,000","Mobile",{"$f":"VLOOKUP(D325,'CATALOGUE SMARTPHONES'!A:C,3,0)","v":{"$error":"#N/A"}},{"$f":"IFERROR((VLOOKUP(C325,'Baréme Relax'!B:D,3,0)),0)","v":0}]
["ASLOGHM","10 août 2017","044004000010","Recharge Express","15","16,500","0","0,000",15,"16,500","Mobile",{"$f":"VLOOKUP(D326,'CATALOGUE SMARTPHONES'!A:C,3,0)","v":{"$error":"#N/A"}},{"$f":"IFERROR((VLOOKUP(C326,'Baréme Relax'!B:D,3,0)),0)","v":0}]
["ASLOGHM","10 août 2017","PRE13","Edawa5","2","0,000","0","0,000",2,"0,000","Mobile",{"$f":"VLOOKUP(D327,'CATALOGUE SMARTPHONES'!A:C,3,0)","v":{"$error":"#N/A"}},{"$f":"IFERROR((VLOOKUP(C327,'Baréme Relax'!B:D,3,0)),0)","v":0}]
["ASLOGHM","10 août 2017","P53327","Pack  - offre Pass","2","0,000","0","0,000",2,"0,000","Mobile",{"$f":"VLOOKUP(D328,'CATALOGUE SMARTPHONES'!A:C,3,0)","v":{"$error":"#N/A"}},{"$f":"IFERROR((VLOOKUP(C328,'Baréme Relax'!B:D,3,0)),0)","v":0}]
["ABLOUNA","10 août 2017","P62599"," Pack Cle 3G E3531 + Orange Wifi dock - offre Simply 25 Go","1","0,000","0","0,000",1,"0,000","Mobile",{"$f":"VLOOKUP(D329,'CATALOGUE SMARTPHONES'!A:C,3,0)","v":{"$error":"#N/A"}},{"$f":"IFERROR((VLOOKUP(C329,'Baréme Relax'!B:D,3,0)),0)","v":0}]
["ASLOGHM","10 août 2017","044004000010","Recharge Express","2","2,200","0","0,000",2,"2,200","Mobile",{"$f":"VLOOKUP(D330,'CATALOGUE SMARTPHONES'!A:C,3,0)","v":{"$error":"#N/A"}},{"$f":"IFERROR((VLOOKUP(C330,'Baréme Relax'!B:D,3,0)),0)","v":0}]
["ASLOGHM","10 août 2017","P3079"," Pack de réengagement Flybox remise 20%","1","0,000","0","0,000",1,"0,000","Mobile",{"$f":"VLOOKUP(D331,'CATALOGUE SMARTPHONES'!A:C,3,0)","v":{"$error":"#N/A"}},{"$f":"IFERROR((VLOOKUP(C331,'Baréme Relax'!B:D,3,0)),0)","v":0}]
["RIGRAIET","10 août 2017","ADV2","Avance 2 mois","1","58,000","0","0,000",1,"58,000","Mobile",{"$f":"VLOOKUP(D332,'CATALOGUE SMARTPHONES'!A:C,3,0)","v":{"$error":"#N/A"}},{"$f":"IFERROR((VLOOKUP(C332,'Baréme Relax'!B:D,3,0)),0)","v":0}]
["ABLOUNA","10 août 2017","044004000010","Recharge Express","24","26,400","0","0,000",24,"26,400","Mobile",{"$f":"VLOOKUP(D333,'CATALOGUE SMARTPHONES'!A:C,3,0)","v":{"$error":"#N/A"}},{"$f":"IFERROR((VLOOKUP(C333,'Baréme Relax'!B:D,3,0)),0)","v":0}]
["ASLOGHM","10 août 2017","P62599"," Pack Cle 3G E3531 + Orange Wifi dock - offre Simply 25 Go","1","0,000","0","0,000",1,"0,000","Mobile",{"$f":"VLOOKUP(D334,'CATALOGUE SMARTPHONES'!A:C,3,0)","v":{"$error":"#N/A"}},{"$f":"IFERROR((VLOOKUP(C334,'Baréme Relax'!B:D,3,0)),0)","v":0}]
["SIGHW","10 août 2017","ADV2","Avance 2 mois","1","58,000","0","0,000",1,"58,000","Mobile",{"$f":"VLOOKUP(D335,'CATALOGUE SMARTPHONES'!A:C,3,0)","v":{"$error":"#N/A"}},{"$f":"IFERROR((VLOOKUP(C335,'Baréme Relax'!B:D,3,0)),0)","v":0}]
["ASLOGHM","10 août 2017","P56567","Pack Sim data - offre Simply  7,5 Go + illimité","3","0,000","0","0,000",3,"0,000","Mobile",{"$f":"VLOOKUP(D336,'CATALOGUE SMARTPHONES'!A:C,3,0)","v":{"$error":"#N/A"}},{"$f":"IFERROR((VLOOKUP(C336,'Baréme Relax'!B:D,3,0)),0)","v":0}]
["RIGRAIET","10 août 2017","PRE10","offre Pass","3","0,000","0","0,000",3,"0,000","Mobile",{"$f":"VLOOKUP(D337,'CATALOGUE SMARTPHONES'!A:C,3,0)","v":{"$error":"#N/A"}},{"$f":"IFERROR((VLOOKUP(C337,'Baréme Relax'!B:D,3,0)),0)","v":0}]
["RIGRAIET","10 août 2017","P53327","Pack  - offre Pass","2","0,000","0","0,000",2,"0,000","Mobile",{"$f":"VLOOKUP(D338,'CATALOGUE SMARTPHONES'!A:C,3,0)","v":{"$error":"#N/A"}},{"$f":"IFERROR((VLOOKUP(C338,'Baréme Relax'!B:D,3,0)),0)","v":0}]
["SIGHW","10 août 2017","PRE13","Edawa5","6","0,000","0","0,000",6,"0,000","Mobile",{"$f":"VLOOKUP(D339,'CATALOGUE SMARTPHONES'!A:C,3,0)","v":{"$error":"#N/A"}},{"$f":"IFERROR((VLOOKUP(C339,'Baréme Relax'!B:D,3,0)),0)","v":0}]
["ASLOGHM","10 août 2017","P46890","PACK SIM DATA - 3G PASS - 1 MOIS","2","0,000","0","0,000",2,"0,000","Mobile",{"$f":"VLOOKUP(D340,'CATALOGUE SMARTPHONES'!A:C,3,0)","v":{"$error":"#N/A"}},{"$f":"IFERROR((VLOOKUP(C340,'Baréme Relax'!B:D,3,0)),0)","v":0}]
["ABLOUNA","10 août 2017","044004000010","Recharge Express","30","33,000","0","0,000",30,"33,000","Mobile",{"$f":"VLOOKUP(D341,'CATALOGUE SMARTPHONES'!A:C,3,0)","v":{"$error":"#N/A"}},{"$f":"IFERROR((VLOOKUP(C341,'Baréme Relax'!B:D,3,0)),0)","v":0}]
["SIGHW","10 août 2017","PRE03","offre Simply","2","0,000","0","0,000",2,"0,000","Mobile",{"$f":"VLOOKUP(D342,'CATALOGUE SMARTPHONES'!A:C,3,0)","v":{"$error":"#N/A"}},{"$f":"IFERROR((VLOOKUP(C342,'Baréme Relax'!B:D,3,0)),0)","v":0}]
["SIGHW","10 août 2017","P56567","Pack Sim data - offre Simply  7,5 Go + illimité","2","0,000","0","0,000",2,"0,000","Mobile",{"$f":"VLOOKUP(D343,'CATALOGUE SMARTPHONES'!A:C,3,0)","v":{"$error":"#N/A"}},{"$f":"IFERROR((VLOOKUP(C343,'Baréme Relax'!B:D,3,0)),0)","v":0}]
["RIGRAIET","10 août 2017","999100001003","SERVICE TRANSFERT CONTACT","1","3,000","0","0,000",1,"3,000","Mobile",{"$f":"VLOOKUP(D344,'CATALOGUE SMARTPHONES'!A:C,3,0)","v":{"$error":"#N/A"}},{"$f":"IFERROR((VLOOKUP(C344,'Baréme Relax'!B:D,3,0)),0)","v":"2"}]
["RIGRAIET","10 août 2017","P53287"," Clé 3G E3531 é?Offre Pass é? Bonus Internet 3Go - 1 mois      ","1","0,000","0","0,000",1,"0,000","Mobile",{"$f":"VLOOKUP(D345,'CATALOGUE SMARTPHONES'!A:C,3,0)","v":{"$error":"#N/A"}},{"$f":"IFERROR((VLOOKUP(C345,'Baréme Relax'!B:D,3,0)),0)","v":0}]
["RIGRAIET","10 août 2017","044004000010","Recharge Express","60","66,000","0","0,000",60,"66,000","Mobile",{"$f":"VLOOKUP(D346,'CATALOGUE SMARTPHONES'!A:C,3,0)","v":{"$error":"#N/A"}},{"$f":"IFERROR((VLOOKUP(C346,'Baréme Relax'!B:D,3,0)),0)","v":0}]
["RIGRAIET","10 août 2017","PRE21","Melle5er","5","0,000","0","0,000",5,"0,000","Mobile",{"$f":"VLOOKUP(D347,'CATALOGUE SMARTPHONES'!A:C,3,0)","v":{"$error":"#N/A"}},{"$f":"IFERROR((VLOOKUP(C347,'Baréme Relax'!B:D,3,0)),0)","v":0}]
["ASLOGHM","10 août 2017","044004000010","Recharge Express","36","39,600","0","0,000",36,"39,600","Mobile",{"$f":"VLOOKUP(D348,'CATALOGUE SMARTPHONES'!A:C,3,0)","v":{"$error":"#N/A"}},{"$f":"IFERROR((VLOOKUP(C348,'Baréme Relax'!B:D,3,0)),0)","v":0}]
["RIGRAIET","10 août 2017","HYB35","Flybox MAX","1","0,000","0","0,000",1,"0,000","Mobile",{"$f":"VLOOKUP(D349,'CATALOGUE SMARTPHONES'!A:C,3,0)","v":{"$error":"#N/A"}},{"$f":"IFERROR((VLOOKUP(C349,'Baréme Relax'!B:D,3,0)),0)","v":0}]
["SIGHW","10 août 2017","044004000010","Recharge Express","25","27,500","0","0,000",25,"27,500","Mobile",{"$f":"VLOOKUP(D350,'CATALOGUE SMARTPHONES'!A:C,3,0)","v":{"$error":"#N/A"}},{"$f":"IFERROR((VLOOKUP(C350,'Baréme Relax'!B:D,3,0)),0)","v":0}]
["RIGRAIET","10 août 2017","044004000010","Recharge Express","10","11,000","0","0,000",10,"11,000","Mobile",{"$f":"VLOOKUP(D351,'CATALOGUE SMARTPHONES'!A:C,3,0)","v":{"$error":"#N/A"}},{"$f":"IFERROR((VLOOKUP(C351,'Baréme Relax'!B:D,3,0)),0)","v":0}]
["ABLOUNA","10 août 2017","PRE10","offre Pass","1","0,000","0","0,000",1,"0,000","Mobile",{"$f":"VLOOKUP(D352,'CATALOGUE SMARTPHONES'!A:C,3,0)","v":{"$error":"#N/A"}},{"$f":"IFERROR((VLOOKUP(C352,'Baréme Relax'!B:D,3,0)),0)","v":0}]
["SIGHW","10 août 2017","POSA6","ADSL One","1","50,400","0","0,000",1,"50,400","ADSL",{"$f":"VLOOKUP(D353,'CATALOGUE SMARTPHONES'!A:C,3,0)","v":{"$error":"#N/A"}},{"$f":"IFERROR((VLOOKUP(C353,'Baréme Relax'!B:D,3,0)),0)","v":0}]
["SIGHW","10 août 2017","044004000010","Recharge Express","20","22,000","0","0,000",20,"22,000","Mobile",{"$f":"VLOOKUP(D354,'CATALOGUE SMARTPHONES'!A:C,3,0)","v":{"$error":"#N/A"}},{"$f":"IFERROR((VLOOKUP(C354,'Baréme Relax'!B:D,3,0)),0)","v":0}]
["SIGHW","10 août 2017","PRE24","Connecti","1","0,000","0","0,000",1,"0,000","Mobile",{"$f":"VLOOKUP(D355,'CATALOGUE SMARTPHONES'!A:C,3,0)","v":{"$error":"#N/A"}},{"$f":"IFERROR((VLOOKUP(C355,'Baréme Relax'!B:D,3,0)),0)","v":0}]
["SIGHW","10 août 2017","044004000010","Recharge Express","15","16,500","0","0,000",15,"16,500","Mobile",{"$f":"VLOOKUP(D356,'CATALOGUE SMARTPHONES'!A:C,3,0)","v":{"$error":"#N/A"}},{"$f":"IFERROR((VLOOKUP(C356,'Baréme Relax'!B:D,3,0)),0)","v":0}]
["SIGHW","10 août 2017","PRE10","offre Pass","3","0,000","0","0,000",3,"0,000","Mobile",{"$f":"VLOOKUP(D357,'CATALOGUE SMARTPHONES'!A:C,3,0)","v":{"$error":"#N/A"}},{"$f":"IFERROR((VLOOKUP(C357,'Baréme Relax'!B:D,3,0)),0)","v":0}]
["ABLOUNA","10 août 2017","044004000010","Recharge Express","45","49,500","0","0,000",45,"49,500","Mobile",{"$f":"VLOOKUP(D358,'CATALOGUE SMARTPHONES'!A:C,3,0)","v":{"$error":"#N/A"}},{"$f":"IFERROR((VLOOKUP(C358,'Baréme Relax'!B:D,3,0)),0)","v":0}]
["SIGHW","10 août 2017","999100001003","SERVICE TRANSFERT CONTACT","2","6,000","0","0,000",2,"6,000","Mobile",{"$f":"VLOOKUP(D359,'CATALOGUE SMARTPHONES'!A:C,3,0)","v":{"$error":"#N/A"}},{"$f":"IFERROR((VLOOKUP(C359,'Baréme Relax'!B:D,3,0)),0)","v":"2"}]
["ABLOUNA","10 août 2017","PRE21","Melle5er","5","0,000","0","0,000",5,"0,000","Mobile",{"$f":"VLOOKUP(D360,'CATALOGUE SMARTPHONES'!A:C,3,0)","v":{"$error":"#N/A"}},{"$f":"IFERROR((VLOOKUP(C360,'Baréme Relax'!B:D,3,0)),0)","v":0}]
["SIGHW","10 août 2017","PRE21","Melle5er","9","0,000","0","0,000",9,"0,000","Mobile",{"$f":"VLOOKUP(D361,'CATALOGUE SMARTPHONES'!A:C,3,0)","v":{"$error":"#N/A"}},{"$f":"IFERROR((VLOOKUP(C361,'Baréme Relax'!B:D,3,0)),0)","v":0}]
["SIGHW","10 août 2017","PRE17","3alami","4","0,000","0","0,000",4,"0,000","Mobile",{"$f":"VLOOKUP(D362,'CATALOGUE SMARTPHONES'!A:C,3,0)","v":{"$error":"#N/A"}},{"$f":"IFERROR((VLOOKUP(C362,'Baréme Relax'!B:D,3,0)),0)","v":0}]
["SIGHW","10 août 2017","P53287"," Clé 3G E3531 é?Offre Pass é? Bonus Internet 3Go - 1 mois      ","1","0,000","0","0,000",1,"0,000","Mobile",{"$f":"VLOOKUP(D363,'CATALOGUE SMARTPHONES'!A:C,3,0)","v":{"$error":"#N/A"}},{"$f":"IFERROR((VLOOKUP(C363,'Baréme Relax'!B:D,3,0)),0)","v":0}]
["SIGHW","10 août 2017","P59928"," Pack 2 mois - Flybox MAX - internet + voix","1","0,000","0","0,000",1,"0,000","Mobile",{"$f":"VLOOKUP(D364,'CATALOGUE SMARTPHONES'!A:C,3,0)","v":{"$error":"#N/A"}},{"$f":"IFERROR((VLOOKUP(C364,'Baréme Relax'!B:D,3,0)),0)","v":0}]
["ABLOUNA","10 août 2017","PRE03","offre Simply","2","0,000","0","0,000",2,"0,000","Mobile",{"$f":"VLOOKUP(D365,'CATALOGUE SMARTPHONES'!A:C,3,0)","v":{"$error":"#N/A"}},{"$f":"IFERROR((VLOOKUP(C365,'Baréme Relax'!B:D,3,0)),0)","v":0}]
["ABLOUNA","10 août 2017","044004000010","Recharge Express","2","2,200","0","0,000",2,"2,200","Mobile",{"$f":"VLOOKUP(D366,'CATALOGUE SMARTPHONES'!A:C,3,0)","v":{"$error":"#N/A"}},{"$f":"IFERROR((VLOOKUP(C366,'Baréme Relax'!B:D,3,0)),0)","v":0}]
["SIGHW","10 août 2017","188003000016","Modem Huawei HG532","1","0,000","0","0,000",1,"0,000","ADSL",{"$f":"VLOOKUP(D367,'CATALOGUE SMARTPHONES'!A:C,3,0)","v":{"$error":"#N/A"}},{"$f":"IFERROR((VLOOKUP(C367,'Baréme Relax'!B:D,3,0)),0)","v":0}]
["ASLOGHM","10 août 2017","043006000003","CARTE SIM 4G PRE MULTI SIM","1","3,000","0","0,000",1,"3,000","Mobile",{"$f":"VLOOKUP(D368,'CATALOGUE SMARTPHONES'!A:C,3,0)","v":{"$error":"#N/A"}},{"$f":"IFERROR((VLOOKUP(C368,'Baréme Relax'!B:D,3,0)),0)","v":0}]
["RIGRAIET","10 août 2017","043008000001","CARTE SIM 4G FLYBOX","1","0,000","0","0,000",1,"0,000","Mobile",{"$f":"VLOOKUP(D369,'CATALOGUE SMARTPHONES'!A:C,3,0)","v":{"$error":"#N/A"}},{"$f":"IFERROR((VLOOKUP(C369,'Baréme Relax'!B:D,3,0)),0)","v":0}]
["ABLOUNA","10 août 2017","043006000003","CARTE SIM 4G PRE MULTI SIM","2","10,000","0","0,000",2,"10,000","Mobile",{"$f":"VLOOKUP(D370,'CATALOGUE SMARTPHONES'!A:C,3,0)","v":{"$error":"#N/A"}},{"$f":"IFERROR((VLOOKUP(C370,'Baréme Relax'!B:D,3,0)),0)","v":0}]
["ABLOUNA","10 août 2017","043007000004","CARTE SIM 4G DATA MULTI SIM","1","0,000","0","0,000",1,"0,000","Mobile",{"$f":"VLOOKUP(D371,'CATALOGUE SMARTPHONES'!A:C,3,0)","v":{"$error":"#N/A"}},{"$f":"IFERROR((VLOOKUP(C371,'Baréme Relax'!B:D,3,0)),0)","v":0}]
["RIGRAIET","10 août 2017","046002000034","CLE 3G E3531","1","0,000","0","0,000",1,"0,000","Mobile",{"$f":"VLOOKUP(D372,'CATALOGUE SMARTPHONES'!A:C,3,0)","v":{"$error":"#N/A"}},{"$f":"IFERROR((VLOOKUP(C372,'Baréme Relax'!B:D,3,0)),0)","v":0}]
["RIGRAIET","10 août 2017","043006000003","CARTE SIM 4G PRE MULTI SIM","1","5,000","0","0,000",1,"5,000","Mobile",{"$f":"VLOOKUP(D373,'CATALOGUE SMARTPHONES'!A:C,3,0)","v":{"$error":"#N/A"}},{"$f":"IFERROR((VLOOKUP(C373,'Baréme Relax'!B:D,3,0)),0)","v":0}]
["ABLOUNA","10 août 2017","043006000003","CARTE SIM 4G PRE MULTI SIM","4","12,000","0","0,000",4,"12,000","Mobile",{"$f":"VLOOKUP(D374,'CATALOGUE SMARTPHONES'!A:C,3,0)","v":{"$error":"#N/A"}},{"$f":"IFERROR((VLOOKUP(C374,'Baréme Relax'!B:D,3,0)),0)","v":0}]
["ASLOGHM","10 août 2017","043007000004","CARTE SIM 4G DATA MULTI SIM","2","40,000","0","0,000",2,"40,000","Mobile",{"$f":"VLOOKUP(D375,'CATALOGUE SMARTPHONES'!A:C,3,0)","v":{"$error":"#N/A"}},{"$f":"IFERROR((VLOOKUP(C375,'Baréme Relax'!B:D,3,0)),0)","v":0}]
["ABLOUNA","10 août 2017","188003000016","Modem Huawei HG532","1","0,000","0","0,000",1,"0,000","ADSL",{"$f":"VLOOKUP(D376,'CATALOGUE SMARTPHONES'!A:C,3,0)","v":{"$error":"#N/A"}},{"$f":"IFERROR((VLOOKUP(C376,'Baréme Relax'!B:D,3,0)),0)","v":0}]
["SIGHW","10 août 2017","043007000004","CARTE SIM 4G DATA MULTI SIM","2","10,000","0","0,000",2,"10,000","Mobile",{"$f":"VLOOKUP(D377,'CATALOGUE SMARTPHONES'!A:C,3,0)","v":{"$error":"#N/A"}},{"$f":"IFERROR((VLOOKUP(C377,'Baréme Relax'!B:D,3,0)),0)","v":0}]
["RIGRAIET","10 août 2017","046002000056","AIRBOX 4G MW40","1","119,000","0","0,000",1,"119,000","Mobile",{"$f":"VLOOKUP(D378,'CATALOGUE SMARTPHONES'!A:C,3,0)","v":{"$error":"#N/A"}},{"$f":"IFERROR((VLOOKUP(C378,'Baréme Relax'!B:D,3,0)),0)","v":0}]
["ASLOGHM","10 août 2017","046002000034","CLE 3G E3531","1","39,000","0","0,000",1,"39,000","Mobile",{"$f":"VLOOKUP(D379,'CATALOGUE SMARTPHONES'!A:C,3,0)","v":{"$error":"#N/A"}},{"$f":"IFERROR((VLOOKUP(C379,'Baréme Relax'!B:D,3,0)),0)","v":0}]
["ASLOGHM","10 août 2017","047006000161","Orange Wifi dock","1","0,000","0","0,000",1,"0,000","Mobile",{"$f":"VLOOKUP(D380,'CATALOGUE SMARTPHONES'!A:C,3,0)","v":{"$error":"#N/A"}},{"$f":"IFERROR((VLOOKUP(C380,'Baréme Relax'!B:D,3,0)),0)","v":0}]
["ABLOUNA","10 août 2017","043007000004","CARTE SIM 4G DATA MULTI SIM","1","5,000","0","0,000",1,"5,000","Mobile",{"$f":"VLOOKUP(D381,'CATALOGUE SMARTPHONES'!A:C,3,0)","v":{"$error":"#N/A"}},{"$f":"IFERROR((VLOOKUP(C381,'Baréme Relax'!B:D,3,0)),0)","v":0}]
["ABLOUNA","10 août 2017","043006000003","CARTE SIM 4G PRE MULTI SIM","5","0,000","0","0,000",5,"0,000","Mobile",{"$f":"VLOOKUP(D382,'CATALOGUE SMARTPHONES'!A:C,3,0)","v":{"$error":"#N/A"}},{"$f":"IFERROR((VLOOKUP(C382,'Baréme Relax'!B:D,3,0)),0)","v":0}]
["RIGRAIET","10 août 2017","043006000003","CARTE SIM 4G PRE MULTI SIM","5","0,000","0","0,000",5,"0,000","Mobile",{"$f":"VLOOKUP(D383,'CATALOGUE SMARTPHONES'!A:C,3,0)","v":{"$error":"#N/A"}},{"$f":"IFERROR((VLOOKUP(C383,'Baréme Relax'!B:D,3,0)),0)","v":0}]
["ASLOGHM","10 août 2017","043006000003","CARTE SIM 4G PRE MULTI SIM","2","10,000","0","0,000",2,"10,000","Mobile",{"$f":"VLOOKUP(D384,'CATALOGUE SMARTPHONES'!A:C,3,0)","v":{"$error":"#N/A"}},{"$f":"IFERROR((VLOOKUP(C384,'Baréme Relax'!B:D,3,0)),0)","v":0}]
["ABLOUNA","10 août 2017","046002000034","CLE 3G E3531","1","39,000","0","0,000",1,"39,000","Mobile",{"$f":"VLOOKUP(D385,'CATALOGUE SMARTPHONES'!A:C,3,0)","v":{"$error":"#N/A"}},{"$f":"IFERROR((VLOOKUP(C385,'Baréme Relax'!B:D,3,0)),0)","v":0}]
["ABLOUNA","10 août 2017","047006000161","Orange Wifi dock","1","0,000","0","0,000",1,"0,000","Mobile",{"$f":"VLOOKUP(D386,'CATALOGUE SMARTPHONES'!A:C,3,0)","v":{"$error":"#N/A"}},{"$f":"IFERROR((VLOOKUP(C386,'Baréme Relax'!B:D,3,0)),0)","v":0}]
["SIGHW","10 août 2017","046002000034","CLE 3G E3531","1","0,000","0","0,000",1,"0,000","Mobile",{"$f":"VLOOKUP(D387,'CATALOGUE SMARTPHONES'!A:C,3,0)","v":{"$error":"#N/A"}},{"$f":"IFERROR((VLOOKUP(C387,'Baréme Relax'!B:D,3,0)),0)","v":0}]
["SIGHW","10 août 2017","043007000004","CARTE SIM 4G DATA MULTI SIM","1","14,000","0","0,000",1,"14,000","Mobile",{"$f":"VLOOKUP(D388,'CATALOGUE SMARTPHONES'!A:C,3,0)","v":{"$error":"#N/A"}},{"$f":"IFERROR((VLOOKUP(C388,'Baréme Relax'!B:D,3,0)),0)","v":0}]
["RIGRAIET","10 août 2017","085001000011","FLYBOX B310","1","0,000","0","0,000",1,"0,000","Mobile",{"$f":"VLOOKUP(D389,'CATALOGUE SMARTPHONES'!A:C,3,0)","v":{"$error":"#N/A"}},{"$f":"IFERROR((VLOOKUP(C389,'Baréme Relax'!B:D,3,0)),0)","v":0}]
["ABLOUNA","10 août 2017","046002000034","CLE 3G E3531","1","0,000","0","0,000",1,"0,000","Mobile",{"$f":"VLOOKUP(D390,'CATALOGUE SMARTPHONES'!A:C,3,0)","v":{"$error":"#N/A"}},{"$f":"IFERROR((VLOOKUP(C390,'Baréme Relax'!B:D,3,0)),0)","v":0}]
["ABLOUNA","10 août 2017","043007000004","CARTE SIM 4G DATA MULTI SIM","1","14,000","0","0,000",1,"14,000","Mobile",{"$f":"VLOOKUP(D391,'CATALOGUE SMARTPHONES'!A:C,3,0)","v":{"$error":"#N/A"}},{"$f":"IFERROR((VLOOKUP(C391,'Baréme Relax'!B:D,3,0)),0)","v":0}]
["ASLOGHM","10 août 2017","043006000003","CARTE SIM 4G PRE MULTI SIM","4","0,000","0","0,000",4,"0,000","Mobile",{"$f":"VLOOKUP(D392,'CATALOGUE SMARTPHONES'!A:C,3,0)","v":{"$error":"#N/A"}},{"$f":"IFERROR((VLOOKUP(C392,'Baréme Relax'!B:D,3,0)),0)","v":0}]
["RIGRAIET","10 août 2017","043007000004","CARTE SIM 4G DATA MULTI SIM","1","0,000","0","0,000",1,"0,000","Mobile",{"$f":"VLOOKUP(D393,'CATALOGUE SMARTPHONES'!A:C,3,0)","v":{"$error":"#N/A"}},{"$f":"IFERROR((VLOOKUP(C393,'Baréme Relax'!B:D,3,0)),0)","v":0}]
["RIGRAIET","10 août 2017","043007000004","CARTE SIM 4G DATA MULTI SIM","1","14,000","0","0,000",1,"14,000","Mobile",{"$f":"VLOOKUP(D394,'CATALOGUE SMARTPHONES'!A:C,3,0)","v":{"$error":"#N/A"}},{"$f":"IFERROR((VLOOKUP(C394,'Baréme Relax'!B:D,3,0)),0)","v":0}]
["ASLOGHM","10 août 2017","043007000004","CARTE SIM 4G DATA MULTI SIM","3","90,000","0","0,000",3,"90,000","Mobile",{"$f":"VLOOKUP(D395,'CATALOGUE SMARTPHONES'!A:C,3,0)","v":{"$error":"#N/A"}},{"$f":"IFERROR((VLOOKUP(C395,'Baréme Relax'!B:D,3,0)),0)","v":0}]
["SIGHW","10 août 2017","043007000004","CARTE SIM 4G DATA MULTI SIM","2","60,000","0","0,000",2,"60,000","Mobile",{"$f":"VLOOKUP(D396,'CATALOGUE SMARTPHONES'!A:C,3,0)","v":{"$error":"#N/A"}},{"$f":"IFERROR((VLOOKUP(C396,'Baréme Relax'!B:D,3,0)),0)","v":0}]
["SIGHW","10 août 2017","043006000003","CARTE SIM 4G PRE MULTI SIM","17","0,000","0","0,000",17,"0,000","Mobile",{"$f":"VLOOKUP(D397,'CATALOGUE SMARTPHONES'!A:C,3,0)","v":{"$error":"#N/A"}},{"$f":"IFERROR((VLOOKUP(C397,'Baréme Relax'!B:D,3,0)),0)","v":0}]
["RIGRAIET","10 août 2017","043006000003","CARTE SIM 4G PRE MULTI SIM","1","3,000","0","0,000",1,"3,000","Mobile",{"$f":"VLOOKUP(D398,'CATALOGUE SMARTPHONES'!A:C,3,0)","v":{"$error":"#N/A"}},{"$f":"IFERROR((VLOOKUP(C398,'Baréme Relax'!B:D,3,0)),0)","v":0}]
["RIGRAIET","10 août 2017","043007000004","CARTE SIM 4G DATA MULTI SIM","2","10,000","0","0,000",2,"10,000","Mobile",{"$f":"VLOOKUP(D399,'CATALOGUE SMARTPHONES'!A:C,3,0)","v":{"$error":"#N/A"}},{"$f":"IFERROR((VLOOKUP(C399,'Baréme Relax'!B:D,3,0)),0)","v":0}]
["ASLOGHM","10 août 2017","043007000004","CARTE SIM 4G DATA MULTI SIM","2","10,000","0","0,000",2,"10,000","Mobile",{"$f":"VLOOKUP(D400,'CATALOGUE SMARTPHONES'!A:C,3,0)","v":{"$error":"#N/A"}},{"$f":"IFERROR((VLOOKUP(C400,'Baréme Relax'!B:D,3,0)),0)","v":0}]
["SIGHW","10 août 2017","043008000001","CARTE SIM 4G FLYBOX","1","0,000","0","0,000",1,"0,000","Mobile",{"$f":"VLOOKUP(D401,'CATALOGUE SMARTPHONES'!A:C,3,0)","v":{"$error":"#N/A"}},{"$f":"IFERROR((VLOOKUP(C401,'Baréme Relax'!B:D,3,0)),0)","v":0}]
["SIGHW","10 août 2017","085001000011","FLYBOX B310","1","0,000","0","0,000",1,"0,000","Mobile",{"$f":"VLOOKUP(D402,'CATALOGUE SMARTPHONES'!A:C,3,0)","v":{"$error":"#N/A"}},{"$f":"IFERROR((VLOOKUP(C402,'Baréme Relax'!B:D,3,0)),0)","v":0}]
["ASLOGHM","10 août 2017","043007000004","CARTE SIM 4G DATA MULTI SIM","1","0,000","0","0,000",1,"0,000","Mobile",{"$f":"VLOOKUP(D403,'CATALOGUE SMARTPHONES'!A:C,3,0)","v":{"$error":"#N/A"}},{"$f":"IFERROR((VLOOKUP(C403,'Baréme Relax'!B:D,3,0)),0)","v":0}]
["SIGHW","10 août 2017","043006000003","CARTE SIM 4G PRE MULTI SIM","5","25,000","0","0,000",5,"25,000","Mobile",{"$f":"VLOOKUP(D404,'CATALOGUE SMARTPHONES'!A:C,3,0)","v":{"$error":"#N/A"}},{"$f":"IFERROR((VLOOKUP(C404,'Baréme Relax'!B:D,3,0)),0)","v":0}]
["RIGRAIET","10 août 2017","083025001003","SERVICOM EASY 3 BLEU","1","39,900","0","0,000",1,"39,900","Mobile",{"$f":"VLOOKUP(D405,'CATALOGUE SMARTPHONES'!A:C,3,0)","v":{"$error":"#N/A"}},{"$f":"IFERROR((VLOOKUP(C405,'Baréme Relax'!B:D,3,0)),0)","v":0}]
["SIGHW","9 août 2017","044004000010","Recharge Express","35","38,500","0","0,000",35,"38,500","Mobile",{"$f":"VLOOKUP(D406,'CATALOGUE SMARTPHONES'!A:C,3,0)","v":{"$error":"#N/A"}},{"$f":"IFERROR((VLOOKUP(C406,'Baréme Relax'!B:D,3,0)),0)","v":0}]
["RIGRAIET","9 août 2017","044004000010","Recharge Express","12","13,200","0","0,000",12,"13,200","Mobile",{"$f":"VLOOKUP(D407,'CATALOGUE SMARTPHONES'!A:C,3,0)","v":{"$error":"#N/A"}},{"$f":"IFERROR((VLOOKUP(C407,'Baréme Relax'!B:D,3,0)),0)","v":0}]
["ABLOUNA","9 août 2017","044004000010","Recharge Express","30","33,000","0","0,000",30,"33,000","Mobile",{"$f":"VLOOKUP(D408,'CATALOGUE SMARTPHONES'!A:C,3,0)","v":{"$error":"#N/A"}},{"$f":"IFERROR((VLOOKUP(C408,'Baréme Relax'!B:D,3,0)),0)","v":0}]
["SIGHW","9 août 2017","P53327","Pack  - offre Pass","4","0,000","0","0,000",4,"0,000","Mobile",{"$f":"VLOOKUP(D409,'CATALOGUE SMARTPHONES'!A:C,3,0)","v":{"$error":"#N/A"}},{"$f":"IFERROR((VLOOKUP(C409,'Baréme Relax'!B:D,3,0)),0)","v":0}]
["RIGRAIET","9 août 2017","PRE10","offre Pass","1","0,000","0","0,000",1,"0,000","Mobile",{"$f":"VLOOKUP(D410,'CATALOGUE SMARTPHONES'!A:C,3,0)","v":{"$error":"#N/A"}},{"$f":"IFERROR((VLOOKUP(C410,'Baréme Relax'!B:D,3,0)),0)","v":0}]
["ABLOUNA","9 août 2017","044004000010","Recharge Express","25","27,500","0","0,000",25,"27,500","Mobile",{"$f":"VLOOKUP(D411,'CATALOGUE SMARTPHONES'!A:C,3,0)","v":{"$error":"#N/A"}},{"$f":"IFERROR((VLOOKUP(C411,'Baréme Relax'!B:D,3,0)),0)","v":0}]
["RIGRAIET","9 août 2017","P61590"," Pack DOMINO E5220 WHITE - offre Simply 7,5Go + bonus 17,5Go","1","0,000","0","0,000",1,"0,000","Mobile",{"$f":"VLOOKUP(D412,'CATALOGUE SMARTPHONES'!A:C,3,0)","v":{"$error":"#N/A"}},{"$f":"IFERROR((VLOOKUP(C412,'Baréme Relax'!B:D,3,0)),0)","v":0}]
["SIGHW","9 août 2017","044004000010","Recharge Express","20","22,000","0","0,000",20,"22,000","Mobile",{"$f":"VLOOKUP(D413,'CATALOGUE SMARTPHONES'!A:C,3,0)","v":{"$error":"#N/A"}},{"$f":"IFERROR((VLOOKUP(C413,'Baréme Relax'!B:D,3,0)),0)","v":0}]
["RIGRAIET","9 août 2017","P53327","Pack  - offre Pass","1","0,000","0","0,000",1,"0,000","Mobile",{"$f":"VLOOKUP(D414,'CATALOGUE SMARTPHONES'!A:C,3,0)","v":{"$error":"#N/A"}},{"$f":"IFERROR((VLOOKUP(C414,'Baréme Relax'!B:D,3,0)),0)","v":0}]
["ASLOGHM","9 août 2017","P56567","Pack Sim data - offre Simply  7,5 Go + illimité","1","0,000","0","0,000",1,"0,000","Mobile",{"$f":"VLOOKUP(D415,'CATALOGUE SMARTPHONES'!A:C,3,0)","v":{"$error":"#N/A"}},{"$f":"IFERROR((VLOOKUP(C415,'Baréme Relax'!B:D,3,0)),0)","v":0}]
["RIGRAIET","9 août 2017","PRE03","offre Simply","1","0,000","0","0,000",1,"0,000","Mobile",{"$f":"VLOOKUP(D416,'CATALOGUE SMARTPHONES'!A:C,3,0)","v":{"$error":"#N/A"}},{"$f":"IFERROR((VLOOKUP(C416,'Baréme Relax'!B:D,3,0)),0)","v":0}]
["ABLOUNA","9 août 2017","PRE21","Melle5er","3","0,000","0","0,000",3,"0,000","Mobile",{"$f":"VLOOKUP(D417,'CATALOGUE SMARTPHONES'!A:C,3,0)","v":{"$error":"#N/A"}},{"$f":"IFERROR((VLOOKUP(C417,'Baréme Relax'!B:D,3,0)),0)","v":0}]
["ASLOGHM","9 août 2017","PRE21","Melle5er","4","0,000","0","0,000",4,"0,000","Mobile",{"$f":"VLOOKUP(D418,'CATALOGUE SMARTPHONES'!A:C,3,0)","v":{"$error":"#N/A"}},{"$f":"IFERROR((VLOOKUP(C418,'Baréme Relax'!B:D,3,0)),0)","v":0}]
["SIGHW","9 août 2017","044004000010","Recharge Express","10","11,000","0","0,000",10,"11,000","Mobile",{"$f":"VLOOKUP(D419,'CATALOGUE SMARTPHONES'!A:C,3,0)","v":{"$error":"#N/A"}},{"$f":"IFERROR((VLOOKUP(C419,'Baréme Relax'!B:D,3,0)),0)","v":0}]
["SIGHW","9 août 2017","PRE10","offre Pass","4","0,000","0","0,000",4,"0,000","Mobile",{"$f":"VLOOKUP(D420,'CATALOGUE SMARTPHONES'!A:C,3,0)","v":{"$error":"#N/A"}},{"$f":"IFERROR((VLOOKUP(C420,'Baréme Relax'!B:D,3,0)),0)","v":0}]
["SIGHW","9 août 2017","P62599"," Pack Cle 3G E3531 + Orange Wifi dock - offre Simply 25 Go","1","0,000","0","0,000",1,"0,000","Mobile",{"$f":"VLOOKUP(D421,'CATALOGUE SMARTPHONES'!A:C,3,0)","v":{"$error":"#N/A"}},{"$f":"IFERROR((VLOOKUP(C421,'Baréme Relax'!B:D,3,0)),0)","v":0}]
["ASLOGHM","9 août 2017","044004000010","Recharge Express","40","44,000","0","0,000",40,"44,000","Mobile",{"$f":"VLOOKUP(D422,'CATALOGUE SMARTPHONES'!A:C,3,0)","v":{"$error":"#N/A"}},{"$f":"IFERROR((VLOOKUP(C422,'Baréme Relax'!B:D,3,0)),0)","v":0}]
["SIGHW","9 août 2017","044004000010","Recharge Express","24","26,400","0","0,000",24,"26,400","Mobile",{"$f":"VLOOKUP(D423,'CATALOGUE SMARTPHONES'!A:C,3,0)","v":{"$error":"#N/A"}},{"$f":"IFERROR((VLOOKUP(C423,'Baréme Relax'!B:D,3,0)),0)","v":0}]
["RIGRAIET","9 août 2017","PRE12","Boouj","1","0,000","0","0,000",1,"0,000","Mobile",{"$f":"VLOOKUP(D424,'CATALOGUE SMARTPHONES'!A:C,3,0)","v":{"$error":"#N/A"}},{"$f":"IFERROR((VLOOKUP(C424,'Baréme Relax'!B:D,3,0)),0)","v":0}]
["RIGRAIET","9 août 2017","044004000010","Recharge Express","50","55,000","0","0,000",50,"55,000","Mobile",{"$f":"VLOOKUP(D425,'CATALOGUE SMARTPHONES'!A:C,3,0)","v":{"$error":"#N/A"}},{"$f":"IFERROR((VLOOKUP(C425,'Baréme Relax'!B:D,3,0)),0)","v":0}]
["SIGHW","9 août 2017","PRE21","Melle5er","6","0,000","0","0,000",6,"0,000","Mobile",{"$f":"VLOOKUP(D426,'CATALOGUE SMARTPHONES'!A:C,3,0)","v":{"$error":"#N/A"}},{"$f":"IFERROR((VLOOKUP(C426,'Baréme Relax'!B:D,3,0)),0)","v":0}]
["ABLOUNA","9 août 2017","PRE03","offre Simply","2","0,000","0","0,000",2,"0,000","Mobile",{"$f":"VLOOKUP(D427,'CATALOGUE SMARTPHONES'!A:C,3,0)","v":{"$error":"#N/A"}},{"$f":"IFERROR((VLOOKUP(C427,'Baréme Relax'!B:D,3,0)),0)","v":0}]
["ABLOUNA","9 août 2017","P56567","Pack Sim data - offre Simply  7,5 Go + illimité","2","0,000","0","0,000",2,"0,000","Mobile",{"$f":"VLOOKUP(D428,'CATALOGUE SMARTPHONES'!A:C,3,0)","v":{"$error":"#N/A"}},{"$f":"IFERROR((VLOOKUP(C428,'Baréme Relax'!B:D,3,0)),0)","v":0}]
["ASLOGHM","9 août 2017","044004000010","Recharge Express","10","11,000","0","0,000",10,"11,000","Mobile",{"$f":"VLOOKUP(D429,'CATALOGUE SMARTPHONES'!A:C,3,0)","v":{"$error":"#N/A"}},{"$f":"IFERROR((VLOOKUP(C429,'Baréme Relax'!B:D,3,0)),0)","v":0}]
["ABLOUNA","9 août 2017","044004000010","Recharge Express","10","11,000","0","0,000",10,"11,000","Mobile",{"$f":"VLOOKUP(D430,'CATALOGUE SMARTPHONES'!A:C,3,0)","v":{"$error":"#N/A"}},{"$f":"IFERROR((VLOOKUP(C430,'Baréme Relax'!B:D,3,0)),0)","v":0}]
["SIGHW","9 août 2017","PRE03","offre Simply","1","0,000","0","0,000",1,"0,000","Mobile",{"$f":"VLOOKUP(D431,'CATALOGUE SMARTPHONES'!A:C,3,0)","v":{"$error":"#N/A"}},{"$f":"IFERROR((VLOOKUP(C431,'Baréme Relax'!B:D,3,0)),0)","v":0}]
["ABLOUNA","9 août 2017","044004000010","Recharge Express","5","5,500","0","0,000",5,"5,500","Mobile",{"$f":"VLOOKUP(D432,'CATALOGUE SMARTPHONES'!A:C,3,0)","v":{"$error":"#N/A"}},{"$f":"IFERROR((VLOOKUP(C432,'Baréme Relax'!B:D,3,0)),0)","v":0}]
["ASLOGHM","9 août 2017","P53327","Pack  - offre Pass","1","0,000","0","0,000",1,"0,000","Mobile",{"$f":"VLOOKUP(D433,'CATALOGUE SMARTPHONES'!A:C,3,0)","v":{"$error":"#N/A"}},{"$f":"IFERROR((VLOOKUP(C433,'Baréme Relax'!B:D,3,0)),0)","v":0}]
["RIGRAIET","9 août 2017","P61615"," Pack NOKIA 3310 BLEU - Boouj","1","0,000","0","0,000",1,"0,000","Mobile",{"$f":"VLOOKUP(D434,'CATALOGUE SMARTPHONES'!A:C,3,0)","v":{"$error":"#N/A"}},{"$f":"IFERROR((VLOOKUP(C434,'Baréme Relax'!B:D,3,0)),0)","v":0}]
["RIGRAIET","9 août 2017","POSA2","ADSL HOME","1","178,600","0","0,000",1,"178,600","ADSL",{"$f":"VLOOKUP(D435,'CATALOGUE SMARTPHONES'!A:C,3,0)","v":{"$error":"#N/A"}},{"$f":"IFERROR((VLOOKUP(C435,'Baréme Relax'!B:D,3,0)),0)","v":0}]
["RIGRAIET","9 août 2017","044004000010","Recharge Express","3","3,300","0","0,000",3,"3,300","Mobile",{"$f":"VLOOKUP(D436,'CATALOGUE SMARTPHONES'!A:C,3,0)","v":{"$error":"#N/A"}},{"$f":"IFERROR((VLOOKUP(C436,'Baréme Relax'!B:D,3,0)),0)","v":0}]
["RIGRAIET","9 août 2017","044004000010","Recharge Express","30","33,000","0","0,000",30,"33,000","Mobile",{"$f":"VLOOKUP(D437,'CATALOGUE SMARTPHONES'!A:C,3,0)","v":{"$error":"#N/A"}},{"$f":"IFERROR((VLOOKUP(C437,'Baréme Relax'!B:D,3,0)),0)","v":0}]
["RIGRAIET","9 août 2017","PRE21","Melle5er","3","0,000","0","0,000",3,"0,000","Mobile",{"$f":"VLOOKUP(D438,'CATALOGUE SMARTPHONES'!A:C,3,0)","v":{"$error":"#N/A"}},{"$f":"IFERROR((VLOOKUP(C438,'Baréme Relax'!B:D,3,0)),0)","v":0}]
["ASLOGHM","9 août 2017","PRE10","offre Pass","1","0,000","0","0,000",1,"0,000","Mobile",{"$f":"VLOOKUP(D439,'CATALOGUE SMARTPHONES'!A:C,3,0)","v":{"$error":"#N/A"}},{"$f":"IFERROR((VLOOKUP(C439,'Baréme Relax'!B:D,3,0)),0)","v":0}]
["ASLOGHM","9 août 2017","044004000010","Recharge Express","24","26,400","0","0,000",24,"26,400","Mobile",{"$f":"VLOOKUP(D440,'CATALOGUE SMARTPHONES'!A:C,3,0)","v":{"$error":"#N/A"}},{"$f":"IFERROR((VLOOKUP(C440,'Baréme Relax'!B:D,3,0)),0)","v":0}]
["ASLOGHM","9 août 2017","PRE03","offre Simply","1","0,000","0","0,000",1,"0,000","Mobile",{"$f":"VLOOKUP(D441,'CATALOGUE SMARTPHONES'!A:C,3,0)","v":{"$error":"#N/A"}},{"$f":"IFERROR((VLOOKUP(C441,'Baréme Relax'!B:D,3,0)),0)","v":0}]
["ASLOGHM","9 août 2017","043007000004","CARTE SIM 4G DATA MULTI SIM","1","30,000","0","0,000",1,"30,000","Mobile",{"$f":"VLOOKUP(D442,'CATALOGUE SMARTPHONES'!A:C,3,0)","v":{"$error":"#N/A"}},{"$f":"IFERROR((VLOOKUP(C442,'Baréme Relax'!B:D,3,0)),0)","v":0}]
["RIGRAIET","9 août 2017","188003000016","Modem Huawei HG532","2","0,000","0","0,000",2,"0,000","ADSL",{"$f":"VLOOKUP(D443,'CATALOGUE SMARTPHONES'!A:C,3,0)","v":{"$error":"#N/A"}},{"$f":"IFERROR((VLOOKUP(C443,'Baréme Relax'!B:D,3,0)),0)","v":0}]
["ASLOGHM","9 août 2017","043006000003","CARTE SIM 4G PRE MULTI SIM","2","10,000","0","0,000",2,"10,000","Mobile",{"$f":"VLOOKUP(D444,'CATALOGUE SMARTPHONES'!A:C,3,0)","v":{"$error":"#N/A"}},{"$f":"IFERROR((VLOOKUP(C444,'Baréme Relax'!B:D,3,0)),0)","v":0}]
["ASLOGHM","9 août 2017","043006000003","CARTE SIM 4G PRE MULTI SIM","2","0,000","0","0,000",2,"0,000","Mobile",{"$f":"VLOOKUP(D445,'CATALOGUE SMARTPHONES'!A:C,3,0)","v":{"$error":"#N/A"}},{"$f":"IFERROR((VLOOKUP(C445,'Baréme Relax'!B:D,3,0)),0)","v":0}]
["ABLOUNA","9 août 2017","043006000003","CARTE SIM 4G PRE MULTI SIM","3","15,000","0","0,000",3,"15,000","Mobile",{"$f":"VLOOKUP(D446,'CATALOGUE SMARTPHONES'!A:C,3,0)","v":{"$error":"#N/A"}},{"$f":"IFERROR((VLOOKUP(C446,'Baréme Relax'!B:D,3,0)),0)","v":0}]
["RIGRAIET","9 août 2017","043006000003","CARTE SIM 4G PRE MULTI SIM","3","9,000","0","0,000",3,"9,000","Mobile",{"$f":"VLOOKUP(D447,'CATALOGUE SMARTPHONES'!A:C,3,0)","v":{"$error":"#N/A"}},{"$f":"IFERROR((VLOOKUP(C447,'Baréme Relax'!B:D,3,0)),0)","v":0}]
["RIGRAIET","9 août 2017","045003051001","NOKIA 3310 BLEU","1","139,000","0","0,000",1,"139,000","Mobile",{"$f":"VLOOKUP(D448,'CATALOGUE SMARTPHONES'!A:C,3,0)","v":{"$error":"#N/A"}},{"$f":"IFERROR((VLOOKUP(C448,'Baréme Relax'!B:D,3,0)),0)","v":0}]
["ABLOUNA","9 août 2017","043006000003","CARTE SIM 4G PRE MULTI SIM","1","3,000","0","0,000",1,"3,000","Mobile",{"$f":"VLOOKUP(D449,'CATALOGUE SMARTPHONES'!A:C,3,0)","v":{"$error":"#N/A"}},{"$f":"IFERROR((VLOOKUP(C449,'Baréme Relax'!B:D,3,0)),0)","v":0}]
["RIGRAIET","9 août 2017","046002000060","DOMINO E5220 WHITE","1","45,000","0","0,000",1,"45,000","Mobile",{"$f":"VLOOKUP(D450,'CATALOGUE SMARTPHONES'!A:C,3,0)","v":{"$error":"#N/A"}},{"$f":"IFERROR((VLOOKUP(C450,'Baréme Relax'!B:D,3,0)),0)","v":0}]
["SIGHW","9 août 2017","046002000034","CLE 3G E3531","1","39,000","0","0,000",1,"39,000","Mobile",{"$f":"VLOOKUP(D451,'CATALOGUE SMARTPHONES'!A:C,3,0)","v":{"$error":"#N/A"}},{"$f":"IFERROR((VLOOKUP(C451,'Baréme Relax'!B:D,3,0)),0)","v":0}]
["SIGHW","9 août 2017","047006000161","Orange Wifi dock","1","0,000","0","0,000",1,"0,000","Mobile",{"$f":"VLOOKUP(D452,'CATALOGUE SMARTPHONES'!A:C,3,0)","v":{"$error":"#N/A"}},{"$f":"IFERROR((VLOOKUP(C452,'Baréme Relax'!B:D,3,0)),0)","v":0}]
["ASLOGHM","9 août 2017","043007000004","CARTE SIM 4G DATA MULTI SIM","1","5,000","0","0,000",1,"5,000","Mobile",{"$f":"VLOOKUP(D453,'CATALOGUE SMARTPHONES'!A:C,3,0)","v":{"$error":"#N/A"}},{"$f":"IFERROR((VLOOKUP(C453,'Baréme Relax'!B:D,3,0)),0)","v":0}]
["SIGHW","9 août 2017","043006000003","CARTE SIM 4G PRE MULTI SIM","6","0,000","0","0,000",6,"0,000","Mobile",{"$f":"VLOOKUP(D454,'CATALOGUE SMARTPHONES'!A:C,3,0)","v":{"$error":"#N/A"}},{"$f":"IFERROR((VLOOKUP(C454,'Baréme Relax'!B:D,3,0)),0)","v":0}]
["SIGHW","9 août 2017","043007000004","CARTE SIM 4G DATA MULTI SIM","4","20,000","0","0,000",4,"20,000","Mobile",{"$f":"VLOOKUP(D455,'CATALOGUE SMARTPHONES'!A:C,3,0)","v":{"$error":"#N/A"}},{"$f":"IFERROR((VLOOKUP(C455,'Baréme Relax'!B:D,3,0)),0)","v":0}]
["RIGRAIET","9 août 2017","043006000003","CARTE SIM 4G PRE MULTI SIM","4","0,000","0","0,000",4,"0,000","Mobile",{"$f":"VLOOKUP(D456,'CATALOGUE SMARTPHONES'!A:C,3,0)","v":{"$error":"#N/A"}},{"$f":"IFERROR((VLOOKUP(C456,'Baréme Relax'!B:D,3,0)),0)","v":0}]
["SIGHW","9 août 2017","043007000004","CARTE SIM 4G DATA MULTI SIM","1","0,000","0","0,000",1,"0,000","Mobile",{"$f":"VLOOKUP(D457,'CATALOGUE SMARTPHONES'!A:C,3,0)","v":{"$error":"#N/A"}},{"$f":"IFERROR((VLOOKUP(C457,'Baréme Relax'!B:D,3,0)),0)","v":0}]
["RIGRAIET","9 août 2017","043007000004","CARTE SIM 4G DATA MULTI SIM","1","0,000","0","0,000",1,"0,000","Mobile",{"$f":"VLOOKUP(D458,'CATALOGUE SMARTPHONES'!A:C,3,0)","v":{"$error":"#N/A"}},{"$f":"IFERROR((VLOOKUP(C458,'Baréme Relax'!B:D,3,0)),0)","v":0}]
["RIGRAIET","9 août 2017","043007000004","CARTE SIM 4G DATA MULTI SIM","1","5,000","0","0,000",1,"5,000","Mobile",{"$f":"VLOOKUP(D459,'CATALOGUE SMARTPHONES'!A:C,3,0)","v":{"$error":"#N/A"}},{"$f":"IFERROR((VLOOKUP(C459,'Baréme Relax'!B:D,3,0)),0)","v":0}]
["ABLOUNA","9 août 2017","043007000004","CARTE SIM 4G DATA MULTI SIM","2","60,000","0","0,000",2,"60,000","Mobile",{"$f":"VLOOKUP(D460,'CATALOGUE SMARTPHONES'!A:C,3,0)","v":{"$error":"#N/A"}},{"$f":"IFERROR((VLOOKUP(C460,'Baréme Relax'!B:D,3,0)),0)","v":0}]
["ASLOGHM","8 août 2017","PRE23","El Jam3ia Mobile","2","0,000","0","0,000",2,"0,000","Mobile",{"$f":"VLOOKUP(D461,'CATALOGUE SMARTPHONES'!A:C,3,0)","v":{"$error":"#N/A"}},{"$f":"IFERROR((VLOOKUP(C461,'Baréme Relax'!B:D,3,0)),0)","v":0}]
["SIGHW","8 août 2017","P62430"," Pack NOKIA 3 DS Matte Black - forfait mix 50 - 12 mois  - Avance 2 mois","1","0,000","0","0,000",1,"0,000","Mobile",{"$f":"VLOOKUP(D462,'CATALOGUE SMARTPHONES'!A:C,3,0)","v":{"$error":"#N/A"}},{"$f":"IFERROR((VLOOKUP(C462,'Baréme Relax'!B:D,3,0)),0)","v":0}]
["RIGRAIET","8 août 2017","044004000010","Recharge Express","10","11,000","0","0,000",10,"11,000","Mobile",{"$f":"VLOOKUP(D463,'CATALOGUE SMARTPHONES'!A:C,3,0)","v":{"$error":"#N/A"}},{"$f":"IFERROR((VLOOKUP(C463,'Baréme Relax'!B:D,3,0)),0)","v":0}]
["ABLOUNA","8 août 2017","P59928"," Pack 2 mois - Flybox MAX - internet + voix","1","0,000","0","0,000",1,"0,000","Mobile",{"$f":"VLOOKUP(D464,'CATALOGUE SMARTPHONES'!A:C,3,0)","v":{"$error":"#N/A"}},{"$f":"IFERROR((VLOOKUP(C464,'Baréme Relax'!B:D,3,0)),0)","v":0}]
["ASLOGHM","8 août 2017","044004000010","Recharge Express","10","11,000","0","0,000",10,"11,000","Mobile",{"$f":"VLOOKUP(D465,'CATALOGUE SMARTPHONES'!A:C,3,0)","v":{"$error":"#N/A"}},{"$f":"IFERROR((VLOOKUP(C465,'Baréme Relax'!B:D,3,0)),0)","v":0}]
["ASLOGHM","8 août 2017","044004000010","Recharge Express","12","13,200","0","0,000",12,"13,200","Mobile",{"$f":"VLOOKUP(D466,'CATALOGUE SMARTPHONES'!A:C,3,0)","v":{"$error":"#N/A"}},{"$f":"IFERROR((VLOOKUP(C466,'Baréme Relax'!B:D,3,0)),0)","v":0}]
["ASLOGHM","8 août 2017","PRE03","offre Simply","3","0,000","0","0,000",3,"0,000","Mobile",{"$f":"VLOOKUP(D467,'CATALOGUE SMARTPHONES'!A:C,3,0)","v":{"$error":"#N/A"}},{"$f":"IFERROR((VLOOKUP(C467,'Baréme Relax'!B:D,3,0)),0)","v":0}]
["ASLOGHM","8 août 2017","PRE21","Melle5er","3","0,000","0","0,000",3,"0,000","Mobile",{"$f":"VLOOKUP(D468,'CATALOGUE SMARTPHONES'!A:C,3,0)","v":{"$error":"#N/A"}},{"$f":"IFERROR((VLOOKUP(C468,'Baréme Relax'!B:D,3,0)),0)","v":0}]
["ASLOGHM","8 août 2017","PRE17","3alami","2","0,000","0","0,000",2,"0,000","Mobile",{"$f":"VLOOKUP(D469,'CATALOGUE SMARTPHONES'!A:C,3,0)","v":{"$error":"#N/A"}},{"$f":"IFERROR((VLOOKUP(C469,'Baréme Relax'!B:D,3,0)),0)","v":0}]
["RIGRAIET","8 août 2017","044004000010","Recharge Express","24","26,400","0","0,000",24,"26,400","Mobile",{"$f":"VLOOKUP(D470,'CATALOGUE SMARTPHONES'!A:C,3,0)","v":{"$error":"#N/A"}},{"$f":"IFERROR((VLOOKUP(C470,'Baréme Relax'!B:D,3,0)),0)","v":0}]
["SIGHW","8 août 2017","HYB03","forfait mix 50","1","0,000","0","0,000",1,"0,000","Mobile",{"$f":"VLOOKUP(D471,'CATALOGUE SMARTPHONES'!A:C,3,0)","v":{"$error":"#N/A"}},{"$f":"IFERROR((VLOOKUP(C471,'Baréme Relax'!B:D,3,0)),0)","v":0}]
["SIGHW","8 août 2017","044004000010","Recharge Express","25","27,500","0","0,000",25,"27,500","Mobile",{"$f":"VLOOKUP(D472,'CATALOGUE SMARTPHONES'!A:C,3,0)","v":{"$error":"#N/A"}},{"$f":"IFERROR((VLOOKUP(C472,'Baréme Relax'!B:D,3,0)),0)","v":0}]
["ABLOUNA","8 août 2017","HYB35","Flybox MAX","1","0,000","0","0,000",1,"0,000","Mobile",{"$f":"VLOOKUP(D473,'CATALOGUE SMARTPHONES'!A:C,3,0)","v":{"$error":"#N/A"}},{"$f":"IFERROR((VLOOKUP(C473,'Baréme Relax'!B:D,3,0)),0)","v":0}]
["ABLOUNA","8 août 2017","PRE23","El Jam3ia Mobile","3","0,000","0","0,000",3,"0,000","Mobile",{"$f":"VLOOKUP(D474,'CATALOGUE SMARTPHONES'!A:C,3,0)","v":{"$error":"#N/A"}},{"$f":"IFERROR((VLOOKUP(C474,'Baréme Relax'!B:D,3,0)),0)","v":0}]
["ASLOGHM","8 août 2017","PRE10","offre Pass","2","0,000","0","0,000",2,"0,000","Mobile",{"$f":"VLOOKUP(D475,'CATALOGUE SMARTPHONES'!A:C,3,0)","v":{"$error":"#N/A"}},{"$f":"IFERROR((VLOOKUP(C475,'Baréme Relax'!B:D,3,0)),0)","v":0}]
["ASLOGHM","8 août 2017","P53327","Pack  - offre Pass","1","0,000","0","0,000",1,"0,000","Mobile",{"$f":"VLOOKUP(D476,'CATALOGUE SMARTPHONES'!A:C,3,0)","v":{"$error":"#N/A"}},{"$f":"IFERROR((VLOOKUP(C476,'Baréme Relax'!B:D,3,0)),0)","v":0}]
["SIGHW","8 août 2017","P56567","Pack Sim data - offre Simply  7,5 Go + illimité","1","0,000","0","0,000",1,"0,000","Mobile",{"$f":"VLOOKUP(D477,'CATALOGUE SMARTPHONES'!A:C,3,0)","v":{"$error":"#N/A"}},{"$f":"IFERROR((VLOOKUP(C477,'Baréme Relax'!B:D,3,0)),0)","v":0}]
["SIGHW","8 août 2017","PRE03","offre Simply","3","0,000","0","0,000",3,"0,000","Mobile",{"$f":"VLOOKUP(D478,'CATALOGUE SMARTPHONES'!A:C,3,0)","v":{"$error":"#N/A"}},{"$f":"IFERROR((VLOOKUP(C478,'Baréme Relax'!B:D,3,0)),0)","v":0}]
["SIGHW","8 août 2017","044004000010","Recharge Express","25","27,500","0","0,000",25,"27,500","Mobile",{"$f":"VLOOKUP(D479,'CATALOGUE SMARTPHONES'!A:C,3,0)","v":{"$error":"#N/A"}},{"$f":"IFERROR((VLOOKUP(C479,'Baréme Relax'!B:D,3,0)),0)","v":0}]
["RIGRAIET","8 août 2017","P51409"," Pack CLE 4G E3372H - CLE 4G E3372H-CARTE SIM 4G DATA MULTI SIM-Forfait clé 3G Intense - 12 mois ","1","0,000","0","0,000",1,"0,000","Mobile",{"$f":"VLOOKUP(D480,'CATALOGUE SMARTPHONES'!A:C,3,0)","v":{"$error":"#N/A"}},{"$f":"IFERROR((VLOOKUP(C480,'Baréme Relax'!B:D,3,0)),0)","v":0}]
["RIGRAIET","8 août 2017","PRE21","Melle5er","3","0,000","0","0,000",3,"0,000","Mobile",{"$f":"VLOOKUP(D481,'CATALOGUE SMARTPHONES'!A:C,3,0)","v":{"$error":"#N/A"}},{"$f":"IFERROR((VLOOKUP(C481,'Baréme Relax'!B:D,3,0)),0)","v":0}]
["RIGRAIET","8 août 2017","044004000010","Recharge Express","10","11,000","0","0,000",10,"11,000","Mobile",{"$f":"VLOOKUP(D482,'CATALOGUE SMARTPHONES'!A:C,3,0)","v":{"$error":"#N/A"}},{"$f":"IFERROR((VLOOKUP(C482,'Baréme Relax'!B:D,3,0)),0)","v":0}]
["RIGRAIET","8 août 2017","HYB12","Forfait clé 3G Intense","1","0,000","0","0,000",1,"0,000","Mobile",{"$f":"VLOOKUP(D483,'CATALOGUE SMARTPHONES'!A:C,3,0)","v":{"$error":"#N/A"}},{"$f":"IFERROR((VLOOKUP(C483,'Baréme Relax'!B:D,3,0)),0)","v":0}]
["SIGHW","8 août 2017","044004000010","Recharge Express","20","22,000","0","0,000",20,"22,000","Mobile",{"$f":"VLOOKUP(D484,'CATALOGUE SMARTPHONES'!A:C,3,0)","v":{"$error":"#N/A"}},{"$f":"IFERROR((VLOOKUP(C484,'Baréme Relax'!B:D,3,0)),0)","v":0}]
["ABLOUNA","8 août 2017","044004000010","Recharge Express","20","22,000","0","0,000",20,"22,000","Mobile",{"$f":"VLOOKUP(D485,'CATALOGUE SMARTPHONES'!A:C,3,0)","v":{"$error":"#N/A"}},{"$f":"IFERROR((VLOOKUP(C485,'Baréme Relax'!B:D,3,0)),0)","v":0}]
["ABLOUNA","8 août 2017","PRE17","3alami","1","0,000","0","0,000",1,"0,000","Mobile",{"$f":"VLOOKUP(D486,'CATALOGUE SMARTPHONES'!A:C,3,0)","v":{"$error":"#N/A"}},{"$f":"IFERROR((VLOOKUP(C486,'Baréme Relax'!B:D,3,0)),0)","v":0}]
["ABLOUNA","8 août 2017","044004000010","Recharge Express","7","7,700","0","0,000",7,"7,700","Mobile",{"$f":"VLOOKUP(D487,'CATALOGUE SMARTPHONES'!A:C,3,0)","v":{"$error":"#N/A"}},{"$f":"IFERROR((VLOOKUP(C487,'Baréme Relax'!B:D,3,0)),0)","v":0}]
["SIGHW","8 août 2017","044004000010","Recharge Express","30","33,000","0","0,000",30,"33,000","Mobile",{"$f":"VLOOKUP(D488,'CATALOGUE SMARTPHONES'!A:C,3,0)","v":{"$error":"#N/A"}},{"$f":"IFERROR((VLOOKUP(C488,'Baréme Relax'!B:D,3,0)),0)","v":0}]
["SIGHW","8 août 2017","PRE24","Connecti","1","0,000","0","0,000",1,"0,000","Mobile",{"$f":"VLOOKUP(D489,'CATALOGUE SMARTPHONES'!A:C,3,0)","v":{"$error":"#N/A"}},{"$f":"IFERROR((VLOOKUP(C489,'Baréme Relax'!B:D,3,0)),0)","v":0}]
["RIGRAIET","8 août 2017","999100001003","SERVICE TRANSFERT CONTACT","1","3,000","0","0,000",1,"3,000","Mobile",{"$f":"VLOOKUP(D490,'CATALOGUE SMARTPHONES'!A:C,3,0)","v":{"$error":"#N/A"}},{"$f":"IFERROR((VLOOKUP(C490,'Baréme Relax'!B:D,3,0)),0)","v":"2"}]
["RIGRAIET","8 août 2017","PRE10","offre Pass","2","0,000","0","0,000",2,"0,000","Mobile",{"$f":"VLOOKUP(D491,'CATALOGUE SMARTPHONES'!A:C,3,0)","v":{"$error":"#N/A"}},{"$f":"IFERROR((VLOOKUP(C491,'Baréme Relax'!B:D,3,0)),0)","v":0}]
["RIGRAIET","8 août 2017","P53327","Pack  - offre Pass","1","0,000","0","0,000",1,"0,000","Mobile",{"$f":"VLOOKUP(D492,'CATALOGUE SMARTPHONES'!A:C,3,0)","v":{"$error":"#N/A"}},{"$f":"IFERROR((VLOOKUP(C492,'Baréme Relax'!B:D,3,0)),0)","v":0}]
["SIGHW","8 août 2017","P61148"," Pack SERVICOM EASY MINI 3 BLACK RED - Melle5er","1","0,000","0","0,000",1,"0,000","Mobile",{"$f":"VLOOKUP(D493,'CATALOGUE SMARTPHONES'!A:C,3,0)","v":{"$error":"#N/A"}},{"$f":"IFERROR((VLOOKUP(C493,'Baréme Relax'!B:D,3,0)),0)","v":0}]
["ABLOUNA","8 août 2017","P56567","Pack Sim data - offre Simply  7,5 Go + illimité","1","0,000","0","0,000",1,"0,000","Mobile",{"$f":"VLOOKUP(D494,'CATALOGUE SMARTPHONES'!A:C,3,0)","v":{"$error":"#N/A"}},{"$f":"IFERROR((VLOOKUP(C494,'Baréme Relax'!B:D,3,0)),0)","v":0}]
["ASLOGHM","8 août 2017","P53287"," Clé 3G E3531 é?Offre Pass é? Bonus Internet 3Go - 1 mois      ","1","0,000","0","0,000",1,"0,000","Mobile",{"$f":"VLOOKUP(D495,'CATALOGUE SMARTPHONES'!A:C,3,0)","v":{"$error":"#N/A"}},{"$f":"IFERROR((VLOOKUP(C495,'Baréme Relax'!B:D,3,0)),0)","v":0}]
["RIGRAIET","8 août 2017","P46890","PACK SIM DATA - 3G PASS - 1 MOIS","1","0,000","0","0,000",1,"0,000","Mobile",{"$f":"VLOOKUP(D496,'CATALOGUE SMARTPHONES'!A:C,3,0)","v":{"$error":"#N/A"}},{"$f":"IFERROR((VLOOKUP(C496,'Baréme Relax'!B:D,3,0)),0)","v":0}]
["SIGHW","8 août 2017","P61590"," Pack DOMINO E5220 WHITE - offre Simply 7,5Go + bonus 17,5Go","2","0,000","0","0,000",2,"0,000","Mobile",{"$f":"VLOOKUP(D497,'CATALOGUE SMARTPHONES'!A:C,3,0)","v":{"$error":"#N/A"}},{"$f":"IFERROR((VLOOKUP(C497,'Baréme Relax'!B:D,3,0)),0)","v":0}]
["ASLOGHM","8 août 2017","044004000010","Recharge Express","60","66,000","0","0,000",60,"66,000","Mobile",{"$f":"VLOOKUP(D498,'CATALOGUE SMARTPHONES'!A:C,3,0)","v":{"$error":"#N/A"}},{"$f":"IFERROR((VLOOKUP(C498,'Baréme Relax'!B:D,3,0)),0)","v":0}]
["SIGHW","8 août 2017","ADV2","Avance 2 mois","1","110,000","0","0,000",1,"110,000","Mobile",{"$f":"VLOOKUP(D499,'CATALOGUE SMARTPHONES'!A:C,3,0)","v":{"$error":"#N/A"}},{"$f":"IFERROR((VLOOKUP(C499,'Baréme Relax'!B:D,3,0)),0)","v":0}]
["ABLOUNA","8 août 2017","044004000010","Recharge Express","10","9,320","0","0,000",10,"9,320","Mobile",{"$f":"VLOOKUP(D500,'CATALOGUE SMARTPHONES'!A:C,3,0)","v":{"$error":"#N/A"}},{"$f":"IFERROR((VLOOKUP(C500,'Baréme Relax'!B:D,3,0)),0)","v":0}]
["ASLOGHM","8 août 2017","044004000010","Recharge Express","40","44,000","0","0,000",40,"44,000","Mobile",{"$f":"VLOOKUP(D501,'CATALOGUE SMARTPHONES'!A:C,3,0)","v":{"$error":"#N/A"}},{"$f":"IFERROR((VLOOKUP(C501,'Baréme Relax'!B:D,3,0)),0)","v":0}]
["ABLOUNA","8 août 2017","PRE03","offre Simply","1","0,000","0","0,000",1,"0,000","Mobile",{"$f":"VLOOKUP(D502,'CATALOGUE SMARTPHONES'!A:C,3,0)","v":{"$error":"#N/A"}},{"$f":"IFERROR((VLOOKUP(C502,'Baréme Relax'!B:D,3,0)),0)","v":0}]
["ABLOUNA","8 août 2017","044004000010","Recharge Express","25","27,500","0","0,000",25,"27,500","Mobile",{"$f":"VLOOKUP(D503,'CATALOGUE SMARTPHONES'!A:C,3,0)","v":{"$error":"#N/A"}},{"$f":"IFERROR((VLOOKUP(C503,'Baréme Relax'!B:D,3,0)),0)","v":0}]
["ABLOUNA","8 août 2017","044004000010","Recharge Express","18","19,800","0","0,000",18,"19,800","Mobile",{"$f":"VLOOKUP(D504,'CATALOGUE SMARTPHONES'!A:C,3,0)","v":{"$error":"#N/A"}},{"$f":"IFERROR((VLOOKUP(C504,'Baréme Relax'!B:D,3,0)),0)","v":0}]
["SIGHW","8 août 2017","PRE21","Melle5er","7","0,000","0","0,000",7,"0,000","Mobile",{"$f":"VLOOKUP(D505,'CATALOGUE SMARTPHONES'!A:C,3,0)","v":{"$error":"#N/A"}},{"$f":"IFERROR((VLOOKUP(C505,'Baréme Relax'!B:D,3,0)),0)","v":0}]
["SIGHW","8 août 2017","PRE10","offre Pass","4","0,000","0","0,000",4,"0,000","Mobile",{"$f":"VLOOKUP(D506,'CATALOGUE SMARTPHONES'!A:C,3,0)","v":{"$error":"#N/A"}},{"$f":"IFERROR((VLOOKUP(C506,'Baréme Relax'!B:D,3,0)),0)","v":0}]
["SIGHW","8 août 2017","P53327","Pack  - offre Pass","3","0,000","0","0,000",3,"0,000","Mobile",{"$f":"VLOOKUP(D507,'CATALOGUE SMARTPHONES'!A:C,3,0)","v":{"$error":"#N/A"}},{"$f":"IFERROR((VLOOKUP(C507,'Baréme Relax'!B:D,3,0)),0)","v":0}]
["ABLOUNA","8 août 2017","PRE21","Melle5er","1","0,000","0","0,000",1,"0,000","Mobile",{"$f":"VLOOKUP(D508,'CATALOGUE SMARTPHONES'!A:C,3,0)","v":{"$error":"#N/A"}},{"$f":"IFERROR((VLOOKUP(C508,'Baréme Relax'!B:D,3,0)),0)","v":0}]
["ASLOGHM","8 août 2017","P56567","Pack Sim data - offre Simply  7,5 Go + illimité","2","0,000","0","0,000",2,"0,000","Mobile",{"$f":"VLOOKUP(D509,'CATALOGUE SMARTPHONES'!A:C,3,0)","v":{"$error":"#N/A"}},{"$f":"IFERROR((VLOOKUP(C509,'Baréme Relax'!B:D,3,0)),0)","v":0}]
["ASLOGHM","8 août 2017","044004000010","Recharge Express","10","11,000","0","0,000",10,"11,000","Mobile",{"$f":"VLOOKUP(D510,'CATALOGUE SMARTPHONES'!A:C,3,0)","v":{"$error":"#N/A"}},{"$f":"IFERROR((VLOOKUP(C510,'Baréme Relax'!B:D,3,0)),0)","v":0}]
["SIGHW","8 août 2017","999100001003","SERVICE TRANSFERT CONTACT","2","6,000","0","0,000",2,"6,000","Mobile",{"$f":"VLOOKUP(D511,'CATALOGUE SMARTPHONES'!A:C,3,0)","v":{"$error":"#N/A"}},{"$f":"IFERROR((VLOOKUP(C511,'Baréme Relax'!B:D,3,0)),0)","v":"2"}]
["ABLOUNA","8 août 2017","ADV2","Avance 2 mois","1","58,000","0","0,000",1,"58,000","Mobile",{"$f":"VLOOKUP(D512,'CATALOGUE SMARTPHONES'!A:C,3,0)","v":{"$error":"#N/A"}},{"$f":"IFERROR((VLOOKUP(C512,'Baréme Relax'!B:D,3,0)),0)","v":0}]
["ASLOGHM","8 août 2017","P61590"," Pack DOMINO E5220 WHITE - offre Simply 7,5Go + bonus 17,5Go","1","0,000","0","0,000",1,"0,000","Mobile",{"$f":"VLOOKUP(D513,'CATALOGUE SMARTPHONES'!A:C,3,0)","v":{"$error":"#N/A"}},{"$f":"IFERROR((VLOOKUP(C513,'Baréme Relax'!B:D,3,0)),0)","v":0}]
["SIGHW","8 août 2017","P53287"," Clé 3G E3531 é?Offre Pass é? Bonus Internet 3Go - 1 mois      ","1","0,000","0","0,000",1,"0,000","Mobile",{"$f":"VLOOKUP(D514,'CATALOGUE SMARTPHONES'!A:C,3,0)","v":{"$error":"#N/A"}},{"$f":"IFERROR((VLOOKUP(C514,'Baréme Relax'!B:D,3,0)),0)","v":0}]
["ABLOUNA","8 août 2017","044004000010","Recharge Express","9","9,900","0","0,000",9,"9,900","Mobile",{"$f":"VLOOKUP(D515,'CATALOGUE SMARTPHONES'!A:C,3,0)","v":{"$error":"#N/A"}},{"$f":"IFERROR((VLOOKUP(C515,'Baréme Relax'!B:D,3,0)),0)","v":0}]
["ASLOGHM","8 août 2017","PRE13","Edawa5","1","0,000","0","0,000",1,"0,000","Mobile",{"$f":"VLOOKUP(D516,'CATALOGUE SMARTPHONES'!A:C,3,0)","v":{"$error":"#N/A"}},{"$f":"IFERROR((VLOOKUP(C516,'Baréme Relax'!B:D,3,0)),0)","v":0}]
["RIGRAIET","8 août 2017","PRE03","offre Simply","1","0,000","0","0,000",1,"0,000","Mobile",{"$f":"VLOOKUP(D517,'CATALOGUE SMARTPHONES'!A:C,3,0)","v":{"$error":"#N/A"}},{"$f":"IFERROR((VLOOKUP(C517,'Baréme Relax'!B:D,3,0)),0)","v":0}]
["RIGRAIET","8 août 2017","P61590"," Pack DOMINO E5220 WHITE - offre Simply 7,5Go + bonus 17,5Go","1","0,000","0","0,000",1,"0,000","Mobile",{"$f":"VLOOKUP(D518,'CATALOGUE SMARTPHONES'!A:C,3,0)","v":{"$error":"#N/A"}},{"$f":"IFERROR((VLOOKUP(C518,'Baréme Relax'!B:D,3,0)),0)","v":0}]
["RIGRAIET","8 août 2017","043007000004","CARTE SIM 4G DATA MULTI SIM","2","0,000","0","0,000",2,"0,000","Mobile",{"$f":"VLOOKUP(D519,'CATALOGUE SMARTPHONES'!A:C,3,0)","v":{"$error":"#N/A"}},{"$f":"IFERROR((VLOOKUP(C519,'Baréme Relax'!B:D,3,0)),0)","v":0}]
["ABLOUNA","8 août 2017","043006000003","CARTE SIM 4G PRE MULTI SIM","3","9,000","0","0,000",3,"9,000","Mobile",{"$f":"VLOOKUP(D520,'CATALOGUE SMARTPHONES'!A:C,3,0)","v":{"$error":"#N/A"}},{"$f":"IFERROR((VLOOKUP(C520,'Baréme Relax'!B:D,3,0)),0)","v":0}]
["SIGHW","8 août 2017","083025001001","SERVICOM EASY 3 BLACK RED","1","33,000","0","0,000",1,"33,000","Mobile",{"$f":"VLOOKUP(D521,'CATALOGUE SMARTPHONES'!A:C,3,0)","v":{"$error":"#N/A"}},{"$f":"IFERROR((VLOOKUP(C521,'Baréme Relax'!B:D,3,0)),0)","v":0}]
["ABLOUNA","8 août 2017","043008000001","CARTE SIM 4G FLYBOX","1","0,000","0","0,000",1,"0,000","Mobile",{"$f":"VLOOKUP(D522,'CATALOGUE SMARTPHONES'!A:C,3,0)","v":{"$error":"#N/A"}},{"$f":"IFERROR((VLOOKUP(C522,'Baréme Relax'!B:D,3,0)),0)","v":0}]
["SIGHW","8 août 2017","043007000004","CARTE SIM 4G DATA MULTI SIM","2","0,000","0","0,000",2,"0,000","Mobile",{"$f":"VLOOKUP(D523,'CATALOGUE SMARTPHONES'!A:C,3,0)","v":{"$error":"#N/A"}},{"$f":"IFERROR((VLOOKUP(C523,'Baréme Relax'!B:D,3,0)),0)","v":0}]
["SIGHW","8 août 2017","083003015001","NOKIA 3 DS Matte Black","1","199,000","0","0,000",1,"199,000","Mobile",{"$f":"VLOOKUP(D524,'CATALOGUE SMARTPHONES'!A:C,3,0)","v":"OK"},{"$f":"IFERROR((VLOOKUP(C524,'Baréme Relax'!B:D,3,0)),0)","v":0}]
["ASLOGHM","8 août 2017","043007000004","CARTE SIM 4G DATA MULTI SIM","1","14,000","0","0,000",1,"14,000","Mobile",{"$f":"VLOOKUP(D525,'CATALOGUE SMARTPHONES'!A:C,3,0)","v":{"$error":"#N/A"}},{"$f":"IFERROR((VLOOKUP(C525,'Baréme Relax'!B:D,3,0)),0)","v":0}]
["SIGHW","8 août 2017","046002000034","CLE 3G E3531","1","0,000","0","0,000",1,"0,000","Mobile",{"$f":"VLOOKUP(D526,'CATALOGUE SMARTPHONES'!A:C,3,0)","v":{"$error":"#N/A"}},{"$f":"IFERROR((VLOOKUP(C526,'Baréme Relax'!B:D,3,0)),0)","v":0}]
["ABLOUNA","8 août 2017","085001000011","FLYBOX B310","1","0,000","0","0,000",1,"0,000","Mobile",{"$f":"VLOOKUP(D527,'CATALOGUE SMARTPHONES'!A:C,3,0)","v":{"$error":"#N/A"}},{"$f":"IFERROR((VLOOKUP(C527,'Baréme Relax'!B:D,3,0)),0)","v":0}]
["ASLOGHM","8 août 2017","043001000114","CARTE PREACTIVEE VD","2","6,000","0","0,000",2,"6,000","Mobile",{"$f":"VLOOKUP(D528,'CATALOGUE SMARTPHONES'!A:C,3,0)","v":{"$error":"#N/A"}},{"$f":"IFERROR((VLOOKUP(C528,'Baréme Relax'!B:D,3,0)),0)","v":0}]
["SIGHW","8 août 2017","043007000004","CARTE SIM 4G DATA MULTI SIM","1","30,000","0","0,000",1,"30,000","Mobile",{"$f":"VLOOKUP(D529,'CATALOGUE SMARTPHONES'!A:C,3,0)","v":{"$error":"#N/A"}},{"$f":"IFERROR((VLOOKUP(C529,'Baréme Relax'!B:D,3,0)),0)","v":0}]
["ASLOGHM","8 août 2017","043006000003","CARTE SIM 4G PRE MULTI SIM","3","9,000","0","0,000",3,"9,000","Mobile",{"$f":"VLOOKUP(D530,'CATALOGUE SMARTPHONES'!A:C,3,0)","v":{"$error":"#N/A"}},{"$f":"IFERROR((VLOOKUP(C530,'Baréme Relax'!B:D,3,0)),0)","v":0}]
["SIGHW","8 août 2017","043007000004","CARTE SIM 4G DATA MULTI SIM","1","14,000","0","0,000",1,"14,000","Mobile",{"$f":"VLOOKUP(D531,'CATALOGUE SMARTPHONES'!A:C,3,0)","v":{"$error":"#N/A"}},{"$f":"IFERROR((VLOOKUP(C531,'Baréme Relax'!B:D,3,0)),0)","v":0}]
["RIGRAIET","8 août 2017","043006000003","CARTE SIM 4G PRE MULTI SIM","3","0,000","0","0,000",3,"0,000","Mobile",{"$f":"VLOOKUP(D532,'CATALOGUE SMARTPHONES'!A:C,3,0)","v":{"$error":"#N/A"}},{"$f":"IFERROR((VLOOKUP(C532,'Baréme Relax'!B:D,3,0)),0)","v":0}]
["ABLOUNA","8 août 2017","043001000114","CARTE PREACTIVEE VD","3","9,000","0","0,000",3,"9,000","Mobile",{"$f":"VLOOKUP(D533,'CATALOGUE SMARTPHONES'!A:C,3,0)","v":{"$error":"#N/A"}},{"$f":"IFERROR((VLOOKUP(C533,'Baréme Relax'!B:D,3,0)),0)","v":0}]
["SIGHW","8 août 2017","043007000004","CARTE SIM 4G DATA MULTI SIM","3","15,000","0","0,000",3,"15,000","Mobile",{"$f":"VLOOKUP(D534,'CATALOGUE SMARTPHONES'!A:C,3,0)","v":{"$error":"#N/A"}},{"$f":"IFERROR((VLOOKUP(C534,'Baréme Relax'!B:D,3,0)),0)","v":0}]
["SIGHW","8 août 2017","043006000003","CARTE SIM 4G PRE MULTI SIM","9","0,000","0","0,000",9,"0,000","Mobile",{"$f":"VLOOKUP(D535,'CATALOGUE SMARTPHONES'!A:C,3,0)","v":{"$error":"#N/A"}},{"$f":"IFERROR((VLOOKUP(C535,'Baréme Relax'!B:D,3,0)),0)","v":0}]
["ASLOGHM","8 août 2017","043006000003","CARTE SIM 4G PRE MULTI SIM","4","20,000","0","0,000",4,"20,000","Mobile",{"$f":"VLOOKUP(D536,'CATALOGUE SMARTPHONES'!A:C,3,0)","v":{"$error":"#N/A"}},{"$f":"IFERROR((VLOOKUP(C536,'Baréme Relax'!B:D,3,0)),0)","v":0}]
["SIGHW","8 août 2017","043006000003","CARTE SIM 4G PRE MULTI SIM","2","10,000","0","0,000",2,"10,000","Mobile",{"$f":"VLOOKUP(D537,'CATALOGUE SMARTPHONES'!A:C,3,0)","v":{"$error":"#N/A"}},{"$f":"IFERROR((VLOOKUP(C537,'Baréme Relax'!B:D,3,0)),0)","v":0}]
["RIGRAIET","8 août 2017","043007000004","CARTE SIM 4G DATA MULTI SIM","1","5,000","0","0,000",1,"5,000","Mobile",{"$f":"VLOOKUP(D538,'CATALOGUE SMARTPHONES'!A:C,3,0)","v":{"$error":"#N/A"}},{"$f":"IFERROR((VLOOKUP(C538,'Baréme Relax'!B:D,3,0)),0)","v":0}]
["SIGHW","8 août 2017","046002000060","DOMINO E5220 WHITE","2","90,000","0","0,000",2,"90,000","Mobile",{"$f":"VLOOKUP(D539,'CATALOGUE SMARTPHONES'!A:C,3,0)","v":{"$error":"#N/A"}},{"$f":"IFERROR((VLOOKUP(C539,'Baréme Relax'!B:D,3,0)),0)","v":0}]
["RIGRAIET","8 août 2017","046002000041","CLE 4G E3372H","1","0,000","0","0,000",1,"0,000","Mobile",{"$f":"VLOOKUP(D540,'CATALOGUE SMARTPHONES'!A:C,3,0)","v":{"$error":"#N/A"}},{"$f":"IFERROR((VLOOKUP(C540,'Baréme Relax'!B:D,3,0)),0)","v":0}]
["ASLOGHM","8 août 2017","043006000003","CARTE SIM 4G PRE MULTI SIM","4","0,000","0","0,000",4,"0,000","Mobile",{"$f":"VLOOKUP(D541,'CATALOGUE SMARTPHONES'!A:C,3,0)","v":{"$error":"#N/A"}},{"$f":"IFERROR((VLOOKUP(C541,'Baréme Relax'!B:D,3,0)),0)","v":0}]
["ASLOGHM","8 août 2017","043007000004","CARTE SIM 4G DATA MULTI SIM","1","5,000","0","0,000",1,"5,000","Mobile",{"$f":"VLOOKUP(D542,'CATALOGUE SMARTPHONES'!A:C,3,0)","v":{"$error":"#N/A"}},{"$f":"IFERROR((VLOOKUP(C542,'Baréme Relax'!B:D,3,0)),0)","v":0}]
["ABLOUNA","8 août 2017","043006000003","CARTE SIM 4G PRE MULTI SIM","2","10,000","0","0,000",2,"10,000","Mobile",{"$f":"VLOOKUP(D543,'CATALOGUE SMARTPHONES'!A:C,3,0)","v":{"$error":"#N/A"}},{"$f":"IFERROR((VLOOKUP(C543,'Baréme Relax'!B:D,3,0)),0)","v":0}]
["ASLOGHM","8 août 2017","043007000004","CARTE SIM 4G DATA MULTI SIM","1","0,000","0","0,000",1,"0,000","Mobile",{"$f":"VLOOKUP(D544,'CATALOGUE SMARTPHONES'!A:C,3,0)","v":{"$error":"#N/A"}},{"$f":"IFERROR((VLOOKUP(C544,'Baréme Relax'!B:D,3,0)),0)","v":0}]
["ASLOGHM","8 août 2017","043007000004","CARTE SIM 4G DATA MULTI SIM","2","60,000","0","0,000",2,"60,000","Mobile",{"$f":"VLOOKUP(D545,'CATALOGUE SMARTPHONES'!A:C,3,0)","v":{"$error":"#N/A"}},{"$f":"IFERROR((VLOOKUP(C545,'Baréme Relax'!B:D,3,0)),0)","v":0}]
["ASLOGHM","8 août 2017","046002000034","CLE 3G E3531","1","0,000","0","0,000",1,"0,000","Mobile",{"$f":"VLOOKUP(D546,'CATALOGUE SMARTPHONES'!A:C,3,0)","v":{"$error":"#N/A"}},{"$f":"IFERROR((VLOOKUP(C546,'Baréme Relax'!B:D,3,0)),0)","v":0}]
["ABLOUNA","8 août 2017","043007000004","CARTE SIM 4G DATA MULTI SIM","1","30,000","0","0,000",1,"30,000","Mobile",{"$f":"VLOOKUP(D547,'CATALOGUE SMARTPHONES'!A:C,3,0)","v":{"$error":"#N/A"}},{"$f":"IFERROR((VLOOKUP(C547,'Baréme Relax'!B:D,3,0)),0)","v":0}]
["RIGRAIET","8 août 2017","046002000060","DOMINO E5220 WHITE","1","45,000","0","0,000",1,"45,000","Mobile",{"$f":"VLOOKUP(D548,'CATALOGUE SMARTPHONES'!A:C,3,0)","v":{"$error":"#N/A"}},{"$f":"IFERROR((VLOOKUP(C548,'Baréme Relax'!B:D,3,0)),0)","v":0}]
["RIGRAIET","8 août 2017","043006000003","CARTE SIM 4G PRE MULTI SIM","1","5,000","0","0,000",1,"5,000","Mobile",{"$f":"VLOOKUP(D549,'CATALOGUE SMARTPHONES'!A:C,3,0)","v":{"$error":"#N/A"}},{"$f":"IFERROR((VLOOKUP(C549,'Baréme Relax'!B:D,3,0)),0)","v":0}]
["RIGRAIET","8 août 2017","043006000003","CARTE SIM 4G PRE MULTI SIM","1","3,000","0","0,000",1,"3,000","Mobile",{"$f":"VLOOKUP(D550,'CATALOGUE SMARTPHONES'!A:C,3,0)","v":{"$error":"#N/A"}},{"$f":"IFERROR((VLOOKUP(C550,'Baréme Relax'!B:D,3,0)),0)","v":0}]
["ASLOGHM","8 août 2017","046002000060","DOMINO E5220 WHITE","1","45,000","0","0,000",1,"45,000","Mobile",{"$f":"VLOOKUP(D551,'CATALOGUE SMARTPHONES'!A:C,3,0)","v":{"$error":"#N/A"}},{"$f":"IFERROR((VLOOKUP(C551,'Baréme Relax'!B:D,3,0)),0)","v":0}]
["SIGHW","8 août 2017","043006000003","CARTE SIM 4G PRE MULTI SIM","2","6,000","0","0,000",2,"6,000","Mobile",{"$f":"VLOOKUP(D552,'CATALOGUE SMARTPHONES'!A:C,3,0)","v":{"$error":"#N/A"}},{"$f":"IFERROR((VLOOKUP(C552,'Baréme Relax'!B:D,3,0)),0)","v":0}]
["RIGRAIET","8 août 2017","043007000004","CARTE SIM 4G DATA MULTI SIM","1","20,000","0","0,000",1,"20,000","Mobile",{"$f":"VLOOKUP(D553,'CATALOGUE SMARTPHONES'!A:C,3,0)","v":{"$error":"#N/A"}},{"$f":"IFERROR((VLOOKUP(C553,'Baréme Relax'!B:D,3,0)),0)","v":0}]
["ASLOGHM","7 août 2017","P4049","Pack Réengagement - forfait mix 20 - injection 1 Go - 12 mois ","1","0,000","0","0,000",1,"0,000","Mobile",{"$f":"VLOOKUP(D554,'CATALOGUE SMARTPHONES'!A:C,3,0)","v":{"$error":"#N/A"}},{"$f":"IFERROR((VLOOKUP(C554,'Baréme Relax'!B:D,3,0)),0)","v":0}]
["ASLOGHM","7 août 2017","044004000010","Recharge Express","12","13,200","0","0,000",12,"13,200","Mobile",{"$f":"VLOOKUP(D555,'CATALOGUE SMARTPHONES'!A:C,3,0)","v":{"$error":"#N/A"}},{"$f":"IFERROR((VLOOKUP(C555,'Baréme Relax'!B:D,3,0)),0)","v":0}]
["ABLOUNA","7 août 2017","PRE23","El Jam3ia Mobile","3","0,000","0","0,000",3,"0,000","Mobile",{"$f":"VLOOKUP(D556,'CATALOGUE SMARTPHONES'!A:C,3,0)","v":{"$error":"#N/A"}},{"$f":"IFERROR((VLOOKUP(C556,'Baréme Relax'!B:D,3,0)),0)","v":0}]
["SIGHW","7 août 2017","P53327","Pack  - offre Pass","6","0,000","0","0,000",6,"0,000","Mobile",{"$f":"VLOOKUP(D557,'CATALOGUE SMARTPHONES'!A:C,3,0)","v":{"$error":"#N/A"}},{"$f":"IFERROR((VLOOKUP(C557,'Baréme Relax'!B:D,3,0)),0)","v":0}]
["ASLOGHM","7 août 2017","P53327","Pack  - offre Pass","2","0,000","0","0,000",2,"0,000","Mobile",{"$f":"VLOOKUP(D558,'CATALOGUE SMARTPHONES'!A:C,3,0)","v":{"$error":"#N/A"}},{"$f":"IFERROR((VLOOKUP(C558,'Baréme Relax'!B:D,3,0)),0)","v":0}]
["RIGRAIET","7 août 2017","PRE03","offre Simply","2","0,000","0","0,000",2,"0,000","Mobile",{"$f":"VLOOKUP(D559,'CATALOGUE SMARTPHONES'!A:C,3,0)","v":{"$error":"#N/A"}},{"$f":"IFERROR((VLOOKUP(C559,'Baréme Relax'!B:D,3,0)),0)","v":0}]
["ASLOGHM","7 août 2017","HYB35","Flybox MAX","2","0,000","0","0,000",2,"0,000","Mobile",{"$f":"VLOOKUP(D560,'CATALOGUE SMARTPHONES'!A:C,3,0)","v":{"$error":"#N/A"}},{"$f":"IFERROR((VLOOKUP(C560,'Baréme Relax'!B:D,3,0)),0)","v":0}]
["RIGRAIET","7 août 2017","P62599"," Pack Cle 3G E3531 + Orange Wifi dock - offre Simply 25 Go","1","0,000","0","0,000",1,"0,000","Mobile",{"$f":"VLOOKUP(D561,'CATALOGUE SMARTPHONES'!A:C,3,0)","v":{"$error":"#N/A"}},{"$f":"IFERROR((VLOOKUP(C561,'Baréme Relax'!B:D,3,0)),0)","v":0}]
["RIGRAIET","7 août 2017","044004000010","Recharge Express","10","11,000","0","0,000",10,"11,000","Mobile",{"$f":"VLOOKUP(D562,'CATALOGUE SMARTPHONES'!A:C,3,0)","v":{"$error":"#N/A"}},{"$f":"IFERROR((VLOOKUP(C562,'Baréme Relax'!B:D,3,0)),0)","v":0}]
["RIGRAIET","7 août 2017","044004000010","Recharge Express","60","66,000","0","0,000",60,"66,000","Mobile",{"$f":"VLOOKUP(D563,'CATALOGUE SMARTPHONES'!A:C,3,0)","v":{"$error":"#N/A"}},{"$f":"IFERROR((VLOOKUP(C563,'Baréme Relax'!B:D,3,0)),0)","v":0}]
["ASLOGHM","7 août 2017","044004000010","Recharge Express","25","27,500","0","0,000",25,"27,500","Mobile",{"$f":"VLOOKUP(D564,'CATALOGUE SMARTPHONES'!A:C,3,0)","v":{"$error":"#N/A"}},{"$f":"IFERROR((VLOOKUP(C564,'Baréme Relax'!B:D,3,0)),0)","v":0}]
["SIGHW","7 août 2017","PRE21","Melle5er","9","0,000","0","0,000",9,"0,000","Mobile",{"$f":"VLOOKUP(D565,'CATALOGUE SMARTPHONES'!A:C,3,0)","v":{"$error":"#N/A"}},{"$f":"IFERROR((VLOOKUP(C565,'Baréme Relax'!B:D,3,0)),0)","v":0}]
["ASLOGHM","7 août 2017","044004000010","Recharge Express","25","27,500","0","0,000",25,"27,500","Mobile",{"$f":"VLOOKUP(D566,'CATALOGUE SMARTPHONES'!A:C,3,0)","v":{"$error":"#N/A"}},{"$f":"IFERROR((VLOOKUP(C566,'Baréme Relax'!B:D,3,0)),0)","v":0}]
["ASLOGHM","7 août 2017","ADV2","Avance 2 mois","2","116,000","0","0,000",2,"116,000","Mobile",{"$f":"VLOOKUP(D567,'CATALOGUE SMARTPHONES'!A:C,3,0)","v":{"$error":"#N/A"}},{"$f":"IFERROR((VLOOKUP(C567,'Baréme Relax'!B:D,3,0)),0)","v":0}]
["ABLOUNA","7 août 2017","PRE03","offre Simply","3","0,000","0","0,000",3,"0,000","Mobile",{"$f":"VLOOKUP(D568,'CATALOGUE SMARTPHONES'!A:C,3,0)","v":{"$error":"#N/A"}},{"$f":"IFERROR((VLOOKUP(C568,'Baréme Relax'!B:D,3,0)),0)","v":0}]
["SIGHW","7 août 2017","044004000010","Recharge Express","15","16,500","0","0,000",15,"16,500","Mobile",{"$f":"VLOOKUP(D569,'CATALOGUE SMARTPHONES'!A:C,3,0)","v":{"$error":"#N/A"}},{"$f":"IFERROR((VLOOKUP(C569,'Baréme Relax'!B:D,3,0)),0)","v":0}]
["RIGRAIET","7 août 2017","PRE10","offre Pass","1","0,000","0","0,000",1,"0,000","Mobile",{"$f":"VLOOKUP(D570,'CATALOGUE SMARTPHONES'!A:C,3,0)","v":{"$error":"#N/A"}},{"$f":"IFERROR((VLOOKUP(C570,'Baréme Relax'!B:D,3,0)),0)","v":0}]
["SIGHW","7 août 2017","ADV1","Avance 1 mois","1","22,000","0","0,000",1,"22,000","Mobile",{"$f":"VLOOKUP(D571,'CATALOGUE SMARTPHONES'!A:C,3,0)","v":{"$error":"#N/A"}},{"$f":"IFERROR((VLOOKUP(C571,'Baréme Relax'!B:D,3,0)),0)","v":0}]
["SIGHW","7 août 2017","HYB30","forfait mix 20","1","0,000","0","0,000",1,"0,000","Mobile",{"$f":"VLOOKUP(D572,'CATALOGUE SMARTPHONES'!A:C,3,0)","v":{"$error":"#N/A"}},{"$f":"IFERROR((VLOOKUP(C572,'Baréme Relax'!B:D,3,0)),0)","v":0}]
["RIGRAIET","7 août 2017","044004000010","Recharge Express","20","22,000","0","0,000",20,"22,000","Mobile",{"$f":"VLOOKUP(D573,'CATALOGUE SMARTPHONES'!A:C,3,0)","v":{"$error":"#N/A"}},{"$f":"IFERROR((VLOOKUP(C573,'Baréme Relax'!B:D,3,0)),0)","v":0}]
["ABLOUNA","7 août 2017","044004000010","Recharge Express","15","16,500","0","0,000",15,"16,500","Mobile",{"$f":"VLOOKUP(D574,'CATALOGUE SMARTPHONES'!A:C,3,0)","v":{"$error":"#N/A"}},{"$f":"IFERROR((VLOOKUP(C574,'Baréme Relax'!B:D,3,0)),0)","v":0}]
["ASLOGHM","7 août 2017","PRE10","offre Pass","2","0,000","0","0,000",2,"0,000","Mobile",{"$f":"VLOOKUP(D575,'CATALOGUE SMARTPHONES'!A:C,3,0)","v":{"$error":"#N/A"}},{"$f":"IFERROR((VLOOKUP(C575,'Baréme Relax'!B:D,3,0)),0)","v":0}]
["ASLOGHM","7 août 2017","PRE03","offre Simply","1","0,000","0","0,000",1,"0,000","Mobile",{"$f":"VLOOKUP(D576,'CATALOGUE SMARTPHONES'!A:C,3,0)","v":{"$error":"#N/A"}},{"$f":"IFERROR((VLOOKUP(C576,'Baréme Relax'!B:D,3,0)),0)","v":0}]
["RIGRAIET","7 août 2017","044004000010","Recharge Express","6","6,600","0","0,000",6,"6,600","Mobile",{"$f":"VLOOKUP(D577,'CATALOGUE SMARTPHONES'!A:C,3,0)","v":{"$error":"#N/A"}},{"$f":"IFERROR((VLOOKUP(C577,'Baréme Relax'!B:D,3,0)),0)","v":0}]
["SIGHW","7 août 2017","PRE23","El Jam3ia Mobile","2","0,000","0","0,000",2,"0,000","Mobile",{"$f":"VLOOKUP(D578,'CATALOGUE SMARTPHONES'!A:C,3,0)","v":{"$error":"#N/A"}},{"$f":"IFERROR((VLOOKUP(C578,'Baréme Relax'!B:D,3,0)),0)","v":0}]
["SIGHW","7 août 2017","044004000010","Recharge Express","20","22,000","0","0,000",20,"22,000","Mobile",{"$f":"VLOOKUP(D579,'CATALOGUE SMARTPHONES'!A:C,3,0)","v":{"$error":"#N/A"}},{"$f":"IFERROR((VLOOKUP(C579,'Baréme Relax'!B:D,3,0)),0)","v":0}]
["SIGHW","7 août 2017","044004000010","Recharge Express","10","11,000","0","0,000",10,"11,000","Mobile",{"$f":"VLOOKUP(D580,'CATALOGUE SMARTPHONES'!A:C,3,0)","v":{"$error":"#N/A"}},{"$f":"IFERROR((VLOOKUP(C580,'Baréme Relax'!B:D,3,0)),0)","v":0}]
["ASLOGHM","7 août 2017","P59928"," Pack 2 mois - Flybox MAX - internet + voix","2","0,000","0","0,000",2,"0,000","Mobile",{"$f":"VLOOKUP(D581,'CATALOGUE SMARTPHONES'!A:C,3,0)","v":{"$error":"#N/A"}},{"$f":"IFERROR((VLOOKUP(C581,'Baréme Relax'!B:D,3,0)),0)","v":0}]
["SIGHW","7 août 2017","044004000010","Recharge Express","120","132,000","0","0,000",120,"132,000","Mobile",{"$f":"VLOOKUP(D582,'CATALOGUE SMARTPHONES'!A:C,3,0)","v":{"$error":"#N/A"}},{"$f":"IFERROR((VLOOKUP(C582,'Baréme Relax'!B:D,3,0)),0)","v":0}]
["SIGHW","7 août 2017","044004000010","Recharge Express","2","2,200","0","0,000",2,"2,200","Mobile",{"$f":"VLOOKUP(D583,'CATALOGUE SMARTPHONES'!A:C,3,0)","v":{"$error":"#N/A"}},{"$f":"IFERROR((VLOOKUP(C583,'Baréme Relax'!B:D,3,0)),0)","v":0}]
["RIGRAIET","7 août 2017","PRE19","Zen Plus","1","0,000","0","0,000",1,"0,000","Mobile",{"$f":"VLOOKUP(D584,'CATALOGUE SMARTPHONES'!A:C,3,0)","v":{"$error":"#N/A"}},{"$f":"IFERROR((VLOOKUP(C584,'Baréme Relax'!B:D,3,0)),0)","v":0}]
["RIGRAIET","7 août 2017","P53327","Pack  - offre Pass","1","0,000","0","0,000",1,"0,000","Mobile",{"$f":"VLOOKUP(D585,'CATALOGUE SMARTPHONES'!A:C,3,0)","v":{"$error":"#N/A"}},{"$f":"IFERROR((VLOOKUP(C585,'Baréme Relax'!B:D,3,0)),0)","v":0}]
["RIGRAIET","7 août 2017","044004000010","Recharge Express","3","3,300","0","0,000",3,"3,300","Mobile",{"$f":"VLOOKUP(D586,'CATALOGUE SMARTPHONES'!A:C,3,0)","v":{"$error":"#N/A"}},{"$f":"IFERROR((VLOOKUP(C586,'Baréme Relax'!B:D,3,0)),0)","v":0}]
["ASLOGHM","7 août 2017","044004000010","Recharge Express","20","22,000","0","0,000",20,"22,000","Mobile",{"$f":"VLOOKUP(D587,'CATALOGUE SMARTPHONES'!A:C,3,0)","v":{"$error":"#N/A"}},{"$f":"IFERROR((VLOOKUP(C587,'Baréme Relax'!B:D,3,0)),0)","v":0}]
["SIGHW","7 août 2017","PRE10","offre Pass","6","0,000","0","0,000",6,"0,000","Mobile",{"$f":"VLOOKUP(D588,'CATALOGUE SMARTPHONES'!A:C,3,0)","v":{"$error":"#N/A"}},{"$f":"IFERROR((VLOOKUP(C588,'Baréme Relax'!B:D,3,0)),0)","v":0}]
["SIGHW","7 août 2017","PRE17","3alami","2","0,000","0","0,000",2,"0,000","Mobile",{"$f":"VLOOKUP(D589,'CATALOGUE SMARTPHONES'!A:C,3,0)","v":{"$error":"#N/A"}},{"$f":"IFERROR((VLOOKUP(C589,'Baréme Relax'!B:D,3,0)),0)","v":0}]
["ASLOGHM","7 août 2017","P56567","Pack Sim data - offre Simply  7,5 Go + illimité","1","0,000","0","0,000",1,"0,000","Mobile",{"$f":"VLOOKUP(D590,'CATALOGUE SMARTPHONES'!A:C,3,0)","v":{"$error":"#N/A"}},{"$f":"IFERROR((VLOOKUP(C590,'Baréme Relax'!B:D,3,0)),0)","v":0}]
["RIGRAIET","7 août 2017","P56567","Pack Sim data - offre Simply  7,5 Go + illimité","1","0,000","0","0,000",1,"0,000","Mobile",{"$f":"VLOOKUP(D591,'CATALOGUE SMARTPHONES'!A:C,3,0)","v":{"$error":"#N/A"}},{"$f":"IFERROR((VLOOKUP(C591,'Baréme Relax'!B:D,3,0)),0)","v":0}]
["ASLOGHM","7 août 2017","PRE13","Edawa5","1","0,000","0","0,000",1,"0,000","Mobile",{"$f":"VLOOKUP(D592,'CATALOGUE SMARTPHONES'!A:C,3,0)","v":{"$error":"#N/A"}},{"$f":"IFERROR((VLOOKUP(C592,'Baréme Relax'!B:D,3,0)),0)","v":0}]
["ABLOUNA","7 août 2017","044004000010","Recharge Express","24","26,400","0","0,000",24,"26,400","Mobile",{"$f":"VLOOKUP(D593,'CATALOGUE SMARTPHONES'!A:C,3,0)","v":{"$error":"#N/A"}},{"$f":"IFERROR((VLOOKUP(C593,'Baréme Relax'!B:D,3,0)),0)","v":0}]
["ASLOGHM","7 août 2017","044004000010","Recharge Express","2","2,200","0","0,000",2,"2,200","Mobile",{"$f":"VLOOKUP(D594,'CATALOGUE SMARTPHONES'!A:C,3,0)","v":{"$error":"#N/A"}},{"$f":"IFERROR((VLOOKUP(C594,'Baréme Relax'!B:D,3,0)),0)","v":0}]
["RIGRAIET","7 août 2017","044004000010","Recharge Express","10","11,000","0","0,000",10,"11,000","Mobile",{"$f":"VLOOKUP(D595,'CATALOGUE SMARTPHONES'!A:C,3,0)","v":{"$error":"#N/A"}},{"$f":"IFERROR((VLOOKUP(C595,'Baréme Relax'!B:D,3,0)),0)","v":0}]
["SIGHW","7 août 2017","P60308"," Pack TECNO N9 WHITE -  forfait mix 20  -  12 mois   -  Avance 1 mois","1","0,000","0","0,000",1,"0,000","Mobile",{"$f":"VLOOKUP(D596,'CATALOGUE SMARTPHONES'!A:C,3,0)","v":{"$error":"#N/A"}},{"$f":"IFERROR((VLOOKUP(C596,'Baréme Relax'!B:D,3,0)),0)","v":0}]
["RIGRAIET","7 août 2017","POSA2","ADSL HOME","1","125,900","0","0,000",1,"125,900","ADSL",{"$f":"VLOOKUP(D597,'CATALOGUE SMARTPHONES'!A:C,3,0)","v":{"$error":"#N/A"}},{"$f":"IFERROR((VLOOKUP(C597,'Baréme Relax'!B:D,3,0)),0)","v":0}]
["RIGRAIET","7 août 2017","PRE21","Melle5er","6","0,000","0","0,000",6,"0,000","Mobile",{"$f":"VLOOKUP(D598,'CATALOGUE SMARTPHONES'!A:C,3,0)","v":{"$error":"#N/A"}},{"$f":"IFERROR((VLOOKUP(C598,'Baréme Relax'!B:D,3,0)),0)","v":0}]
["SIGHW","7 août 2017","044004000010","Recharge Express","45","49,500","0","0,000",45,"49,500","Mobile",{"$f":"VLOOKUP(D599,'CATALOGUE SMARTPHONES'!A:C,3,0)","v":{"$error":"#N/A"}},{"$f":"IFERROR((VLOOKUP(C599,'Baréme Relax'!B:D,3,0)),0)","v":0}]
["ASLOGHM","7 août 2017","PRE21","Melle5er","10","0,000","0","0,000",10,"0,000","Mobile",{"$f":"VLOOKUP(D600,'CATALOGUE SMARTPHONES'!A:C,3,0)","v":{"$error":"#N/A"}},{"$f":"IFERROR((VLOOKUP(C600,'Baréme Relax'!B:D,3,0)),0)","v":0}]
["ABLOUNA","7 août 2017","P61590"," Pack DOMINO E5220 WHITE - offre Simply 7,5Go + bonus 17,5Go","1","0,000","0","0,000",1,"0,000","Mobile",{"$f":"VLOOKUP(D601,'CATALOGUE SMARTPHONES'!A:C,3,0)","v":{"$error":"#N/A"}},{"$f":"IFERROR((VLOOKUP(C601,'Baréme Relax'!B:D,3,0)),0)","v":0}]
["SIGHW","7 août 2017","044004000010","Recharge Express","12","13,200","0","0,000",12,"13,200","Mobile",{"$f":"VLOOKUP(D602,'CATALOGUE SMARTPHONES'!A:C,3,0)","v":{"$error":"#N/A"}},{"$f":"IFERROR((VLOOKUP(C602,'Baréme Relax'!B:D,3,0)),0)","v":0}]
["SIGHW","7 août 2017","999100001003","SERVICE TRANSFERT CONTACT","3","9,000","0","0,000",3,"9,000","Mobile",{"$f":"VLOOKUP(D603,'CATALOGUE SMARTPHONES'!A:C,3,0)","v":{"$error":"#N/A"}},{"$f":"IFERROR((VLOOKUP(C603,'Baréme Relax'!B:D,3,0)),0)","v":"2"}]
["ASLOGHM","7 août 2017","POSA2","ADSL HOME","1","125,900","0","0,000",1,"125,900","ADSL",{"$f":"VLOOKUP(D604,'CATALOGUE SMARTPHONES'!A:C,3,0)","v":{"$error":"#N/A"}},{"$f":"IFERROR((VLOOKUP(C604,'Baréme Relax'!B:D,3,0)),0)","v":0}]
["ASLOGHM","7 août 2017","HYB30","forfait mix 20","1","0,000","0","0,000",1,"0,000","Mobile",{"$f":"VLOOKUP(D605,'CATALOGUE SMARTPHONES'!A:C,3,0)","v":{"$error":"#N/A"}},{"$f":"IFERROR((VLOOKUP(C605,'Baréme Relax'!B:D,3,0)),0)","v":0}]
["ABLOUNA","7 août 2017","044004000010","Recharge Express","10","11,000","0","0,000",10,"11,000","Mobile",{"$f":"VLOOKUP(D606,'CATALOGUE SMARTPHONES'!A:C,3,0)","v":{"$error":"#N/A"}},{"$f":"IFERROR((VLOOKUP(C606,'Baréme Relax'!B:D,3,0)),0)","v":0}]
["ASLOGHM","7 août 2017","044004000010","Recharge Express","20","22,000","0","0,000",20,"22,000","Mobile",{"$f":"VLOOKUP(D607,'CATALOGUE SMARTPHONES'!A:C,3,0)","v":{"$error":"#N/A"}},{"$f":"IFERROR((VLOOKUP(C607,'Baréme Relax'!B:D,3,0)),0)","v":0}]
["ABLOUNA","7 août 2017","P56567","Pack Sim data - offre Simply  7,5 Go + illimité","2","0,000","0","0,000",2,"0,000","Mobile",{"$f":"VLOOKUP(D608,'CATALOGUE SMARTPHONES'!A:C,3,0)","v":{"$error":"#N/A"}},{"$f":"IFERROR((VLOOKUP(C608,'Baréme Relax'!B:D,3,0)),0)","v":0}]
["SIGHW","7 août 2017","044004000010","Recharge Express","50","55,000","0","0,000",50,"55,000","Mobile",{"$f":"VLOOKUP(D609,'CATALOGUE SMARTPHONES'!A:C,3,0)","v":{"$error":"#N/A"}},{"$f":"IFERROR((VLOOKUP(C609,'Baréme Relax'!B:D,3,0)),0)","v":0}]
["SIGHW","7 août 2017","045019001002","TECNO N9 WHITE","1","159,000","0","0,000",1,"159,000","Mobile",{"$f":"VLOOKUP(D610,'CATALOGUE SMARTPHONES'!A:C,3,0)","v":"OK"},{"$f":"IFERROR((VLOOKUP(C610,'Baréme Relax'!B:D,3,0)),0)","v":0}]
["RIGRAIET","7 août 2017","043007000004","CARTE SIM 4G DATA MULTI SIM","1","5,000","0","0,000",1,"5,000","Mobile",{"$f":"VLOOKUP(D611,'CATALOGUE SMARTPHONES'!A:C,3,0)","v":{"$error":"#N/A"}},{"$f":"IFERROR((VLOOKUP(C611,'Baréme Relax'!B:D,3,0)),0)","v":0}]
["ASLOGHM","7 août 2017","043007000004","CARTE SIM 4G DATA MULTI SIM","2","10,000","0","0,000",2,"10,000","Mobile",{"$f":"VLOOKUP(D612,'CATALOGUE SMARTPHONES'!A:C,3,0)","v":{"$error":"#N/A"}},{"$f":"IFERROR((VLOOKUP(C612,'Baréme Relax'!B:D,3,0)),0)","v":0}]
["RIGRAIET","7 août 2017","043007000004","CARTE SIM 4G DATA MULTI SIM","1","0,000","0","0,000",1,"0,000","Mobile",{"$f":"VLOOKUP(D613,'CATALOGUE SMARTPHONES'!A:C,3,0)","v":{"$error":"#N/A"}},{"$f":"IFERROR((VLOOKUP(C613,'Baréme Relax'!B:D,3,0)),0)","v":0}]
["SIGHW","7 août 2017","043006000003","CARTE SIM 4G PRE MULTI SIM","10","0,000","0","0,000",10,"0,000","Mobile",{"$f":"VLOOKUP(D614,'CATALOGUE SMARTPHONES'!A:C,3,0)","v":{"$error":"#N/A"}},{"$f":"IFERROR((VLOOKUP(C614,'Baréme Relax'!B:D,3,0)),0)","v":0}]
["ASLOGHM","7 août 2017","085001000011","FLYBOX B310","2","0,000","0","0,000",2,"0,000","Mobile",{"$f":"VLOOKUP(D615,'CATALOGUE SMARTPHONES'!A:C,3,0)","v":{"$error":"#N/A"}},{"$f":"IFERROR((VLOOKUP(C615,'Baréme Relax'!B:D,3,0)),0)","v":0}]
["ABLOUNA","7 août 2017","043001000114","CARTE PREACTIVEE VD","3","9,000","0","0,000",3,"9,000","Mobile",{"$f":"VLOOKUP(D616,'CATALOGUE SMARTPHONES'!A:C,3,0)","v":{"$error":"#N/A"}},{"$f":"IFERROR((VLOOKUP(C616,'Baréme Relax'!B:D,3,0)),0)","v":0}]
["ASLOGHM","7 août 2017","043006000003","CARTE SIM 4G PRE MULTI SIM","1","3,000","0","0,000",1,"3,000","Mobile",{"$f":"VLOOKUP(D617,'CATALOGUE SMARTPHONES'!A:C,3,0)","v":{"$error":"#N/A"}},{"$f":"IFERROR((VLOOKUP(C617,'Baréme Relax'!B:D,3,0)),0)","v":0}]
["RIGRAIET","7 août 2017","046002000034","CLE 3G E3531","1","39,000","0","0,000",1,"39,000","Mobile",{"$f":"VLOOKUP(D618,'CATALOGUE SMARTPHONES'!A:C,3,0)","v":{"$error":"#N/A"}},{"$f":"IFERROR((VLOOKUP(C618,'Baréme Relax'!B:D,3,0)),0)","v":0}]
["RIGRAIET","7 août 2017","043006000003","CARTE SIM 4G PRE MULTI SIM","3","15,000","0","0,000",3,"15,000","Mobile",{"$f":"VLOOKUP(D619,'CATALOGUE SMARTPHONES'!A:C,3,0)","v":{"$error":"#N/A"}},{"$f":"IFERROR((VLOOKUP(C619,'Baréme Relax'!B:D,3,0)),0)","v":0}]
["RIGRAIET","7 août 2017","043006000003","CARTE SIM 4G PRE MULTI SIM","5","0,000","0","0,000",5,"0,000","Mobile",{"$f":"VLOOKUP(D620,'CATALOGUE SMARTPHONES'!A:C,3,0)","v":{"$error":"#N/A"}},{"$f":"IFERROR((VLOOKUP(C620,'Baréme Relax'!B:D,3,0)),0)","v":0}]
["ABLOUNA","7 août 2017","043006000003","CARTE SIM 4G PRE MULTI SIM","2","6,000","0","0,000",2,"6,000","Mobile",{"$f":"VLOOKUP(D621,'CATALOGUE SMARTPHONES'!A:C,3,0)","v":{"$error":"#N/A"}},{"$f":"IFERROR((VLOOKUP(C621,'Baréme Relax'!B:D,3,0)),0)","v":0}]
["ABLOUNA","7 août 2017","043006000003","CARTE SIM 4G PRE MULTI SIM","1","2,540","0","0,000",1,"2,540","Mobile",{"$f":"VLOOKUP(D622,'CATALOGUE SMARTPHONES'!A:C,3,0)","v":{"$error":"#N/A"}},{"$f":"IFERROR((VLOOKUP(C622,'Baréme Relax'!B:D,3,0)),0)","v":0}]
["ABLOUNA","7 août 2017","046002000060","DOMINO E5220 WHITE","1","45,000","0","0,000",1,"45,000","Mobile",{"$f":"VLOOKUP(D623,'CATALOGUE SMARTPHONES'!A:C,3,0)","v":{"$error":"#N/A"}},{"$f":"IFERROR((VLOOKUP(C623,'Baréme Relax'!B:D,3,0)),0)","v":0}]
["ABLOUNA","7 août 2017","043007000004","CARTE SIM 4G DATA MULTI SIM","1","0,000","0","0,000",1,"0,000","Mobile",{"$f":"VLOOKUP(D624,'CATALOGUE SMARTPHONES'!A:C,3,0)","v":{"$error":"#N/A"}},{"$f":"IFERROR((VLOOKUP(C624,'Baréme Relax'!B:D,3,0)),0)","v":0}]
["SIGHW","7 août 2017","043006000003","CARTE SIM 4G PRE MULTI SIM","5","25,000","0","0,000",5,"25,000","Mobile",{"$f":"VLOOKUP(D625,'CATALOGUE SMARTPHONES'!A:C,3,0)","v":{"$error":"#N/A"}},{"$f":"IFERROR((VLOOKUP(C625,'Baréme Relax'!B:D,3,0)),0)","v":0}]
["ASLOGHM","7 août 2017","188003000016","Modem Huawei HG532","1","0,000","0","0,000",1,"0,000","ADSL",{"$f":"VLOOKUP(D626,'CATALOGUE SMARTPHONES'!A:C,3,0)","v":{"$error":"#N/A"}},{"$f":"IFERROR((VLOOKUP(C626,'Baréme Relax'!B:D,3,0)),0)","v":0}]
["ASLOGHM","7 août 2017","043006000003","CARTE SIM 4G PRE MULTI SIM","7","0,000","0","0,000",7,"0,000","Mobile",{"$f":"VLOOKUP(D627,'CATALOGUE SMARTPHONES'!A:C,3,0)","v":{"$error":"#N/A"}},{"$f":"IFERROR((VLOOKUP(C627,'Baréme Relax'!B:D,3,0)),0)","v":0}]
["ABLOUNA","7 août 2017","043007000004","CARTE SIM 4G DATA MULTI SIM","2","60,000","0","0,000",2,"60,000","Mobile",{"$f":"VLOOKUP(D628,'CATALOGUE SMARTPHONES'!A:C,3,0)","v":{"$error":"#N/A"}},{"$f":"IFERROR((VLOOKUP(C628,'Baréme Relax'!B:D,3,0)),0)","v":0}]
["RIGRAIET","7 août 2017","043007000004","CARTE SIM 4G DATA MULTI SIM","1","30,000","0","0,000",1,"30,000","Mobile",{"$f":"VLOOKUP(D629,'CATALOGUE SMARTPHONES'!A:C,3,0)","v":{"$error":"#N/A"}},{"$f":"IFERROR((VLOOKUP(C629,'Baréme Relax'!B:D,3,0)),0)","v":0}]
["ASLOGHM","7 août 2017","043007000004","CARTE SIM 4G DATA MULTI SIM","1","30,000","0","0,000",1,"30,000","Mobile",{"$f":"VLOOKUP(D630,'CATALOGUE SMARTPHONES'!A:C,3,0)","v":{"$error":"#N/A"}},{"$f":"IFERROR((VLOOKUP(C630,'Baréme Relax'!B:D,3,0)),0)","v":0}]
["ASLOGHM","7 août 2017","043006000003","CARTE SIM 4G PRE MULTI SIM","4","20,000","0","0,000",4,"20,000","Mobile",{"$f":"VLOOKUP(D631,'CATALOGUE SMARTPHONES'!A:C,3,0)","v":{"$error":"#N/A"}},{"$f":"IFERROR((VLOOKUP(C631,'Baréme Relax'!B:D,3,0)),0)","v":0}]
["RIGRAIET","7 août 2017","188003000016","Modem Huawei HG532","1","0,000","0","0,000",1,"0,000","ADSL",{"$f":"VLOOKUP(D632,'CATALOGUE SMARTPHONES'!A:C,3,0)","v":{"$error":"#N/A"}},{"$f":"IFERROR((VLOOKUP(C632,'Baréme Relax'!B:D,3,0)),0)","v":0}]
["RIGRAIET","7 août 2017","047006000161","Orange Wifi dock","1","0,000","0","0,000",1,"0,000","Mobile",{"$f":"VLOOKUP(D633,'CATALOGUE SMARTPHONES'!A:C,3,0)","v":{"$error":"#N/A"}},{"$f":"IFERROR((VLOOKUP(C633,'Baréme Relax'!B:D,3,0)),0)","v":0}]
["RIGRAIET","7 août 2017","043006000003","CARTE SIM 4G PRE MULTI SIM","2","6,000","0","0,000",2,"6,000","Mobile",{"$f":"VLOOKUP(D634,'CATALOGUE SMARTPHONES'!A:C,3,0)","v":{"$error":"#N/A"}},{"$f":"IFERROR((VLOOKUP(C634,'Baréme Relax'!B:D,3,0)),0)","v":0}]
["SIGHW","7 août 2017","043007000004","CARTE SIM 4G DATA MULTI SIM","6","30,000","0","0,000",6,"30,000","Mobile",{"$f":"VLOOKUP(D635,'CATALOGUE SMARTPHONES'!A:C,3,0)","v":{"$error":"#N/A"}},{"$f":"IFERROR((VLOOKUP(C635,'Baréme Relax'!B:D,3,0)),0)","v":0}]
["ASLOGHM","7 août 2017","043008000001","CARTE SIM 4G FLYBOX","2","0,000","0","0,000",2,"0,000","Mobile",{"$f":"VLOOKUP(D636,'CATALOGUE SMARTPHONES'!A:C,3,0)","v":{"$error":"#N/A"}},{"$f":"IFERROR((VLOOKUP(C636,'Baréme Relax'!B:D,3,0)),0)","v":0}]
["SIGHW","7 août 2017","043006000003","CARTE SIM 4G PRE MULTI SIM","3","9,000","0","0,000",3,"9,000","Mobile",{"$f":"VLOOKUP(D637,'CATALOGUE SMARTPHONES'!A:C,3,0)","v":{"$error":"#N/A"}},{"$f":"IFERROR((VLOOKUP(C637,'Baréme Relax'!B:D,3,0)),0)","v":0}]
["ABLOUNA","7 août 2017","043007000004","CARTE SIM 4G DATA MULTI SIM","1","3,000","0","0,000",1,"3,000","Mobile",{"$f":"VLOOKUP(D638,'CATALOGUE SMARTPHONES'!A:C,3,0)","v":{"$error":"#N/A"}},{"$f":"IFERROR((VLOOKUP(C638,'Baréme Relax'!B:D,3,0)),0)","v":0}]
["SIGHW","7 août 2017","043001000114","CARTE PREACTIVEE VD","2","6,000","0","0,000",2,"6,000","Mobile",{"$f":"VLOOKUP(D639,'CATALOGUE SMARTPHONES'!A:C,3,0)","v":{"$error":"#N/A"}},{"$f":"IFERROR((VLOOKUP(C639,'Baréme Relax'!B:D,3,0)),0)","v":0}]
["SIGHW","5 août 2017","P61391"," Pack HUAWEI Y3_II BLACK - forfait mix 20 - 12 mois  - Avance 1 mois","1","0,000","0","0,000",1,"0,000","Mobile",{"$f":"VLOOKUP(D640,'CATALOGUE SMARTPHONES'!A:C,3,0)","v":{"$error":"#N/A"}},{"$f":"IFERROR((VLOOKUP(C640,'Baréme Relax'!B:D,3,0)),0)","v":0}]
["ASLOGHM","5 août 2017","P61590"," Pack DOMINO E5220 WHITE - offre Simply 7,5Go + bonus 17,5Go","1","0,000","0","0,000",1,"0,000","Mobile",{"$f":"VLOOKUP(D641,'CATALOGUE SMARTPHONES'!A:C,3,0)","v":{"$error":"#N/A"}},{"$f":"IFERROR((VLOOKUP(C641,'Baréme Relax'!B:D,3,0)),0)","v":0}]
["SIGHW","5 août 2017","HYB12","Forfait clé 3G Intense","1","0,000","0","0,000",1,"0,000","Mobile",{"$f":"VLOOKUP(D642,'CATALOGUE SMARTPHONES'!A:C,3,0)","v":{"$error":"#N/A"}},{"$f":"IFERROR((VLOOKUP(C642,'Baréme Relax'!B:D,3,0)),0)","v":0}]
["ABLOUNA","5 août 2017","PRE23","El Jam3ia Mobile","7","0,000","0","0,000",7,"0,000","Mobile",{"$f":"VLOOKUP(D643,'CATALOGUE SMARTPHONES'!A:C,3,0)","v":{"$error":"#N/A"}},{"$f":"IFERROR((VLOOKUP(C643,'Baréme Relax'!B:D,3,0)),0)","v":0}]
["ABLOUNA","5 août 2017","P56567","Pack Sim data - offre Simply  7,5 Go + illimité","2","0,000","0","0,000",2,"0,000","Mobile",{"$f":"VLOOKUP(D644,'CATALOGUE SMARTPHONES'!A:C,3,0)","v":{"$error":"#N/A"}},{"$f":"IFERROR((VLOOKUP(C644,'Baréme Relax'!B:D,3,0)),0)","v":0}]
["SIGHW","5 août 2017","044004000010","Recharge Express","25","27,500","0","0,000",25,"27,500","Mobile",{"$f":"VLOOKUP(D645,'CATALOGUE SMARTPHONES'!A:C,3,0)","v":{"$error":"#N/A"}},{"$f":"IFERROR((VLOOKUP(C645,'Baréme Relax'!B:D,3,0)),0)","v":0}]
["ASLOGHM","5 août 2017","044004000010","Recharge Express","20","22,000","0","0,000",20,"22,000","Mobile",{"$f":"VLOOKUP(D646,'CATALOGUE SMARTPHONES'!A:C,3,0)","v":{"$error":"#N/A"}},{"$f":"IFERROR((VLOOKUP(C646,'Baréme Relax'!B:D,3,0)),0)","v":0}]
["ASLOGHM","5 août 2017","P62599"," Pack Cle 3G E3531 + Orange Wifi dock - offre Simply 25 Go","1","0,000","0","0,000",1,"0,000","Mobile",{"$f":"VLOOKUP(D647,'CATALOGUE SMARTPHONES'!A:C,3,0)","v":{"$error":"#N/A"}},{"$f":"IFERROR((VLOOKUP(C647,'Baréme Relax'!B:D,3,0)),0)","v":0}]
["SIGHW","5 août 2017","ADV2","Avance 2 mois","1","110,000","0","0,000",1,"110,000","Mobile",{"$f":"VLOOKUP(D648,'CATALOGUE SMARTPHONES'!A:C,3,0)","v":{"$error":"#N/A"}},{"$f":"IFERROR((VLOOKUP(C648,'Baréme Relax'!B:D,3,0)),0)","v":0}]
["ABLOUNA","5 août 2017","PRE03","offre Simply","5","0,000","0","0,000",5,"0,000","Mobile",{"$f":"VLOOKUP(D649,'CATALOGUE SMARTPHONES'!A:C,3,0)","v":{"$error":"#N/A"}},{"$f":"IFERROR((VLOOKUP(C649,'Baréme Relax'!B:D,3,0)),0)","v":0}]
["ABLOUNA","5 août 2017","P61590"," Pack DOMINO E5220 WHITE - offre Simply 7,5Go + bonus 17,5Go","2","0,000","0","0,000",2,"0,000","Mobile",{"$f":"VLOOKUP(D650,'CATALOGUE SMARTPHONES'!A:C,3,0)","v":{"$error":"#N/A"}},{"$f":"IFERROR((VLOOKUP(C650,'Baréme Relax'!B:D,3,0)),0)","v":0}]
["ASLOGHM","5 août 2017","PRE03","offre Simply","3","0,000","0","0,000",3,"0,000","Mobile",{"$f":"VLOOKUP(D651,'CATALOGUE SMARTPHONES'!A:C,3,0)","v":{"$error":"#N/A"}},{"$f":"IFERROR((VLOOKUP(C651,'Baréme Relax'!B:D,3,0)),0)","v":0}]
["ASLOGHM","5 août 2017","044004000010","Recharge Express","12","13,200","0","0,000",12,"13,200","Mobile",{"$f":"VLOOKUP(D652,'CATALOGUE SMARTPHONES'!A:C,3,0)","v":{"$error":"#N/A"}},{"$f":"IFERROR((VLOOKUP(C652,'Baréme Relax'!B:D,3,0)),0)","v":0}]
["SIGHW","5 août 2017","P61148"," Pack SERVICOM EASY MINI 3 BLACK RED - Melle5er","1","0,000","0","0,000",1,"0,000","Mobile",{"$f":"VLOOKUP(D653,'CATALOGUE SMARTPHONES'!A:C,3,0)","v":{"$error":"#N/A"}},{"$f":"IFERROR((VLOOKUP(C653,'Baréme Relax'!B:D,3,0)),0)","v":0}]
["ASLOGHM","5 août 2017","PRE10","offre Pass","1","0,000","0","0,000",1,"0,000","Mobile",{"$f":"VLOOKUP(D654,'CATALOGUE SMARTPHONES'!A:C,3,0)","v":{"$error":"#N/A"}},{"$f":"IFERROR((VLOOKUP(C654,'Baréme Relax'!B:D,3,0)),0)","v":0}]
["ASLOGHM","5 août 2017","P53327","Pack  - offre Pass","1","0,000","0","0,000",1,"0,000","Mobile",{"$f":"VLOOKUP(D655,'CATALOGUE SMARTPHONES'!A:C,3,0)","v":{"$error":"#N/A"}},{"$f":"IFERROR((VLOOKUP(C655,'Baréme Relax'!B:D,3,0)),0)","v":0}]
["ABLOUNA","5 août 2017","PRE21","Melle5er","2","0,000","0","0,000",2,"0,000","Mobile",{"$f":"VLOOKUP(D656,'CATALOGUE SMARTPHONES'!A:C,3,0)","v":{"$error":"#N/A"}},{"$f":"IFERROR((VLOOKUP(C656,'Baréme Relax'!B:D,3,0)),0)","v":0}]
["ABLOUNA","5 août 2017","P59924"," Pack Sim data  - offre Simply- bonus internet 1Go- 1 mois","1","0,000","0","0,000",1,"0,000","Mobile",{"$f":"VLOOKUP(D657,'CATALOGUE SMARTPHONES'!A:C,3,0)","v":{"$error":"#N/A"}},{"$f":"IFERROR((VLOOKUP(C657,'Baréme Relax'!B:D,3,0)),0)","v":0}]
["SIGHW","5 août 2017","POSA6","ADSL One","1","50,400","0","0,000",1,"50,400","ADSL",{"$f":"VLOOKUP(D658,'CATALOGUE SMARTPHONES'!A:C,3,0)","v":{"$error":"#N/A"}},{"$f":"IFERROR((VLOOKUP(C658,'Baréme Relax'!B:D,3,0)),0)","v":0}]
["SIGHW","5 août 2017","999100001003","SERVICE TRANSFERT CONTACT","1","3,000","0","0,000",1,"3,000","Mobile",{"$f":"VLOOKUP(D659,'CATALOGUE SMARTPHONES'!A:C,3,0)","v":{"$error":"#N/A"}},{"$f":"IFERROR((VLOOKUP(C659,'Baréme Relax'!B:D,3,0)),0)","v":"2"}]
["ASLOGHM","5 août 2017","P56567","Pack Sim data - offre Simply  7,5 Go + illimité","1","0,000","0","0,000",1,"0,000","Mobile",{"$f":"VLOOKUP(D660,'CATALOGUE SMARTPHONES'!A:C,3,0)","v":{"$error":"#N/A"}},{"$f":"IFERROR((VLOOKUP(C660,'Baréme Relax'!B:D,3,0)),0)","v":0}]
["SIGHW","5 août 2017","P61427","Pack SAMSUNG J7 Prime 4G GOLD -  forfait mix 50  -  12 mois   -  Avance 2 mois","1","0,000","0","0,000",1,"0,000","Mobile",{"$f":"VLOOKUP(D661,'CATALOGUE SMARTPHONES'!A:C,3,0)","v":{"$error":"#N/A"}},{"$f":"IFERROR((VLOOKUP(C661,'Baréme Relax'!B:D,3,0)),0)","v":0}]
["ASLOGHM","5 août 2017","044004000010","Recharge Express","15","16,500","0","0,000",15,"16,500","Mobile",{"$f":"VLOOKUP(D662,'CATALOGUE SMARTPHONES'!A:C,3,0)","v":{"$error":"#N/A"}},{"$f":"IFERROR((VLOOKUP(C662,'Baréme Relax'!B:D,3,0)),0)","v":0}]
["SIGHW","5 août 2017","ADV1","Avance 1 mois","1","22,000","0","0,000",1,"22,000","Mobile",{"$f":"VLOOKUP(D663,'CATALOGUE SMARTPHONES'!A:C,3,0)","v":{"$error":"#N/A"}},{"$f":"IFERROR((VLOOKUP(C663,'Baréme Relax'!B:D,3,0)),0)","v":0}]
["ASLOGHM","5 août 2017","PRE21","Melle5er","3","0,000","0","0,000",3,"0,000","Mobile",{"$f":"VLOOKUP(D664,'CATALOGUE SMARTPHONES'!A:C,3,0)","v":{"$error":"#N/A"}},{"$f":"IFERROR((VLOOKUP(C664,'Baréme Relax'!B:D,3,0)),0)","v":0}]
["SIGHW","5 août 2017","PRE13","Edawa5","1","0,000","0","0,000",1,"0,000","Mobile",{"$f":"VLOOKUP(D665,'CATALOGUE SMARTPHONES'!A:C,3,0)","v":{"$error":"#N/A"}},{"$f":"IFERROR((VLOOKUP(C665,'Baréme Relax'!B:D,3,0)),0)","v":0}]
["ABLOUNA","5 août 2017","PRE17","3alami","2","0,000","0","0,000",2,"0,000","Mobile",{"$f":"VLOOKUP(D666,'CATALOGUE SMARTPHONES'!A:C,3,0)","v":{"$error":"#N/A"}},{"$f":"IFERROR((VLOOKUP(C666,'Baréme Relax'!B:D,3,0)),0)","v":0}]
["ASLOGHM","5 août 2017","044004000010","Recharge Express","60","66,000","0","0,000",60,"66,000","Mobile",{"$f":"VLOOKUP(D667,'CATALOGUE SMARTPHONES'!A:C,3,0)","v":{"$error":"#N/A"}},{"$f":"IFERROR((VLOOKUP(C667,'Baréme Relax'!B:D,3,0)),0)","v":0}]
["ABLOUNA","5 août 2017","044004000010","Recharge Express","15","16,500","0","0,000",15,"16,500","Mobile",{"$f":"VLOOKUP(D668,'CATALOGUE SMARTPHONES'!A:C,3,0)","v":{"$error":"#N/A"}},{"$f":"IFERROR((VLOOKUP(C668,'Baréme Relax'!B:D,3,0)),0)","v":0}]
["ABLOUNA","5 août 2017","044004000010","Recharge Express","30","33,000","0","0,000",30,"33,000","Mobile",{"$f":"VLOOKUP(D669,'CATALOGUE SMARTPHONES'!A:C,3,0)","v":{"$error":"#N/A"}},{"$f":"IFERROR((VLOOKUP(C669,'Baréme Relax'!B:D,3,0)),0)","v":0}]
["ABLOUNA","5 août 2017","044004000010","Recharge Express","3","3,300","0","0,000",3,"3,300","Mobile",{"$f":"VLOOKUP(D670,'CATALOGUE SMARTPHONES'!A:C,3,0)","v":{"$error":"#N/A"}},{"$f":"IFERROR((VLOOKUP(C670,'Baréme Relax'!B:D,3,0)),0)","v":0}]
["SIGHW","5 août 2017","ADV1","Avance 1 mois","1","25,000","0","0,000",1,"25,000","Mobile",{"$f":"VLOOKUP(D671,'CATALOGUE SMARTPHONES'!A:C,3,0)","v":{"$error":"#N/A"}},{"$f":"IFERROR((VLOOKUP(C671,'Baréme Relax'!B:D,3,0)),0)","v":0}]
["ASLOGHM","5 août 2017","044004000010","Recharge Express","60","66,000","0","0,000",60,"66,000","Mobile",{"$f":"VLOOKUP(D672,'CATALOGUE SMARTPHONES'!A:C,3,0)","v":{"$error":"#N/A"}},{"$f":"IFERROR((VLOOKUP(C672,'Baréme Relax'!B:D,3,0)),0)","v":0}]
["SIGHW","5 août 2017","HYB03","forfait mix 50","1","0,000","0","0,000",1,"0,000","Mobile",{"$f":"VLOOKUP(D673,'CATALOGUE SMARTPHONES'!A:C,3,0)","v":{"$error":"#N/A"}},{"$f":"IFERROR((VLOOKUP(C673,'Baréme Relax'!B:D,3,0)),0)","v":0}]
["SIGHW","5 août 2017","044004000010","Recharge Express","12","13,200","0","0,000",12,"13,200","Mobile",{"$f":"VLOOKUP(D674,'CATALOGUE SMARTPHONES'!A:C,3,0)","v":{"$error":"#N/A"}},{"$f":"IFERROR((VLOOKUP(C674,'Baréme Relax'!B:D,3,0)),0)","v":0}]
["ABLOUNA","5 août 2017","044004000010","Recharge Express","25","27,500","0","0,000",25,"27,500","Mobile",{"$f":"VLOOKUP(D675,'CATALOGUE SMARTPHONES'!A:C,3,0)","v":{"$error":"#N/A"}},{"$f":"IFERROR((VLOOKUP(C675,'Baréme Relax'!B:D,3,0)),0)","v":0}]
["SIGHW","5 août 2017","044004000010","Recharge Express","1","1,100","0","0,000",1,"1,100","Mobile",{"$f":"VLOOKUP(D676,'CATALOGUE SMARTPHONES'!A:C,3,0)","v":{"$error":"#N/A"}},{"$f":"IFERROR((VLOOKUP(C676,'Baréme Relax'!B:D,3,0)),0)","v":0}]
["ASLOGHM","5 août 2017","044004000010","Recharge Express","9","9,900","0","0,000",9,"9,900","Mobile",{"$f":"VLOOKUP(D677,'CATALOGUE SMARTPHONES'!A:C,3,0)","v":{"$error":"#N/A"}},{"$f":"IFERROR((VLOOKUP(C677,'Baréme Relax'!B:D,3,0)),0)","v":0}]
["SIGHW","5 août 2017","PRE03","offre Simply","1","0,000","0","0,000",1,"0,000","Mobile",{"$f":"VLOOKUP(D678,'CATALOGUE SMARTPHONES'!A:C,3,0)","v":{"$error":"#N/A"}},{"$f":"IFERROR((VLOOKUP(C678,'Baréme Relax'!B:D,3,0)),0)","v":0}]
["SIGHW","5 août 2017","P62599"," Pack Cle 3G E3531 + Orange Wifi dock - offre Simply 25 Go","1","0,000","0","0,000",1,"0,000","Mobile",{"$f":"VLOOKUP(D679,'CATALOGUE SMARTPHONES'!A:C,3,0)","v":{"$error":"#N/A"}},{"$f":"IFERROR((VLOOKUP(C679,'Baréme Relax'!B:D,3,0)),0)","v":0}]
["SIGHW","5 août 2017","HYB30","forfait mix 20","1","0,000","0","0,000",1,"0,000","Mobile",{"$f":"VLOOKUP(D680,'CATALOGUE SMARTPHONES'!A:C,3,0)","v":{"$error":"#N/A"}},{"$f":"IFERROR((VLOOKUP(C680,'Baréme Relax'!B:D,3,0)),0)","v":0}]
["SIGHW","5 août 2017","044004000010","Recharge Express","20","22,000","0","0,000",20,"22,000","Mobile",{"$f":"VLOOKUP(D681,'CATALOGUE SMARTPHONES'!A:C,3,0)","v":{"$error":"#N/A"}},{"$f":"IFERROR((VLOOKUP(C681,'Baréme Relax'!B:D,3,0)),0)","v":0}]
["SIGHW","5 août 2017","PRE21","Melle5er","3","0,000","0","0,000",3,"0,000","Mobile",{"$f":"VLOOKUP(D682,'CATALOGUE SMARTPHONES'!A:C,3,0)","v":{"$error":"#N/A"}},{"$f":"IFERROR((VLOOKUP(C682,'Baréme Relax'!B:D,3,0)),0)","v":0}]
["SIGHW","5 août 2017","P60641"," Pack Orange TAB 7 _ 4G NOIR - Forfait cl?? 3G Intense - 12 mois  - Avance 1 mois","1","0,000","0","0,000",1,"0,000","Mobile",{"$f":"VLOOKUP(D683,'CATALOGUE SMARTPHONES'!A:C,3,0)","v":{"$error":"#N/A"}},{"$f":"IFERROR((VLOOKUP(C683,'Baréme Relax'!B:D,3,0)),0)","v":0}]
["ABLOUNA","5 août 2017","044004000010","Recharge Express","30","33,000","0","0,000",30,"33,000","Mobile",{"$f":"VLOOKUP(D684,'CATALOGUE SMARTPHONES'!A:C,3,0)","v":{"$error":"#N/A"}},{"$f":"IFERROR((VLOOKUP(C684,'Baréme Relax'!B:D,3,0)),0)","v":0}]
["ASLOGHM","5 août 2017","043007000004","CARTE SIM 4G DATA MULTI SIM","2","0,000","0","0,000",2,"0,000","Mobile",{"$f":"VLOOKUP(D685,'CATALOGUE SMARTPHONES'!A:C,3,0)","v":{"$error":"#N/A"}},{"$f":"IFERROR((VLOOKUP(C685,'Baréme Relax'!B:D,3,0)),0)","v":0}]
["ASLOGHM","5 août 2017","043006000003","CARTE SIM 4G PRE MULTI SIM","3","0,000","0","0,000",3,"0,000","Mobile",{"$f":"VLOOKUP(D686,'CATALOGUE SMARTPHONES'!A:C,3,0)","v":{"$error":"#N/A"}},{"$f":"IFERROR((VLOOKUP(C686,'Baréme Relax'!B:D,3,0)),0)","v":0}]
["ASLOGHM","5 août 2017","043007000004","CARTE SIM 4G DATA MULTI SIM","1","5,000","0","0,000",1,"5,000","Mobile",{"$f":"VLOOKUP(D687,'CATALOGUE SMARTPHONES'!A:C,3,0)","v":{"$error":"#N/A"}},{"$f":"IFERROR((VLOOKUP(C687,'Baréme Relax'!B:D,3,0)),0)","v":0}]
["ABLOUNA","5 août 2017","043001000114","CARTE PREACTIVEE VD","7","21,000","0","0,000",7,"21,000","Mobile",{"$f":"VLOOKUP(D688,'CATALOGUE SMARTPHONES'!A:C,3,0)","v":{"$error":"#N/A"}},{"$f":"IFERROR((VLOOKUP(C688,'Baréme Relax'!B:D,3,0)),0)","v":0}]
["ABLOUNA","5 août 2017","043007000004","CARTE SIM 4G DATA MULTI SIM","1","5,000","0","0,000",1,"5,000","Mobile",{"$f":"VLOOKUP(D689,'CATALOGUE SMARTPHONES'!A:C,3,0)","v":{"$error":"#N/A"}},{"$f":"IFERROR((VLOOKUP(C689,'Baréme Relax'!B:D,3,0)),0)","v":0}]
["ABLOUNA","5 août 2017","043006000003","CARTE SIM 4G PRE MULTI SIM","3","15,000","0","0,000",3,"15,000","Mobile",{"$f":"VLOOKUP(D690,'CATALOGUE SMARTPHONES'!A:C,3,0)","v":{"$error":"#N/A"}},{"$f":"IFERROR((VLOOKUP(C690,'Baréme Relax'!B:D,3,0)),0)","v":0}]
["ABLOUNA","5 août 2017","043006000003","CARTE SIM 4G PRE MULTI SIM","5","15,000","0","0,000",5,"15,000","Mobile",{"$f":"VLOOKUP(D691,'CATALOGUE SMARTPHONES'!A:C,3,0)","v":{"$error":"#N/A"}},{"$f":"IFERROR((VLOOKUP(C691,'Baréme Relax'!B:D,3,0)),0)","v":0}]
["ABLOUNA","5 août 2017","043007000004","CARTE SIM 4G DATA MULTI SIM","2","0,000","0","0,000",2,"0,000","Mobile",{"$f":"VLOOKUP(D692,'CATALOGUE SMARTPHONES'!A:C,3,0)","v":{"$error":"#N/A"}},{"$f":"IFERROR((VLOOKUP(C692,'Baréme Relax'!B:D,3,0)),0)","v":0}]
["SIGHW","5 août 2017","047006000161","Orange Wifi dock","1","0,000","0","0,000",1,"0,000","Mobile",{"$f":"VLOOKUP(D693,'CATALOGUE SMARTPHONES'!A:C,3,0)","v":{"$error":"#N/A"}},{"$f":"IFERROR((VLOOKUP(C693,'Baréme Relax'!B:D,3,0)),0)","v":0}]
["SIGHW","5 août 2017","043006000003","CARTE SIM 4G PRE MULTI SIM","6","0,000","0","0,000",6,"0,000","Mobile",{"$f":"VLOOKUP(D694,'CATALOGUE SMARTPHONES'!A:C,3,0)","v":{"$error":"#N/A"}},{"$f":"IFERROR((VLOOKUP(C694,'Baréme Relax'!B:D,3,0)),0)","v":0}]
["ASLOGHM","5 août 2017","043007000004","CARTE SIM 4G DATA MULTI SIM","1","30,000","0","0,000",1,"30,000","Mobile",{"$f":"VLOOKUP(D695,'CATALOGUE SMARTPHONES'!A:C,3,0)","v":{"$error":"#N/A"}},{"$f":"IFERROR((VLOOKUP(C695,'Baréme Relax'!B:D,3,0)),0)","v":0}]
["ASLOGHM","5 août 2017","043006000003","CARTE SIM 4G PRE MULTI SIM","2","10,000","0","0,000",2,"10,000","Mobile",{"$f":"VLOOKUP(D696,'CATALOGUE SMARTPHONES'!A:C,3,0)","v":{"$error":"#N/A"}},{"$f":"IFERROR((VLOOKUP(C696,'Baréme Relax'!B:D,3,0)),0)","v":0}]
["SIGHW","5 août 2017","043006000003","CARTE SIM 4G PRE MULTI SIM","1","5,000","0","0,000",1,"5,000","Mobile",{"$f":"VLOOKUP(D697,'CATALOGUE SMARTPHONES'!A:C,3,0)","v":{"$error":"#N/A"}},{"$f":"IFERROR((VLOOKUP(C697,'Baréme Relax'!B:D,3,0)),0)","v":0}]
["ABLOUNA","5 août 2017","043007000004","CARTE SIM 4G DATA MULTI SIM","2","60,000","0","0,000",2,"60,000","Mobile",{"$f":"VLOOKUP(D698,'CATALOGUE SMARTPHONES'!A:C,3,0)","v":{"$error":"#N/A"}},{"$f":"IFERROR((VLOOKUP(C698,'Baréme Relax'!B:D,3,0)),0)","v":0}]
["SIGHW","5 août 2017","046002000034","CLE 3G E3531","1","39,000","0","0,000",1,"39,000","Mobile",{"$f":"VLOOKUP(D699,'CATALOGUE SMARTPHONES'!A:C,3,0)","v":{"$error":"#N/A"}},{"$f":"IFERROR((VLOOKUP(C699,'Baréme Relax'!B:D,3,0)),0)","v":0}]
["SIGHW","5 août 2017","079001000057","Orange TAB 7 - 4G NOIR","1","149,000","0","0,000",1,"149,000","Mobile",{"$f":"VLOOKUP(D700,'CATALOGUE SMARTPHONES'!A:C,3,0)","v":{"$error":"#N/A"}},{"$f":"IFERROR((VLOOKUP(C700,'Baréme Relax'!B:D,3,0)),0)","v":0}]
["SIGHW","5 août 2017","083001053002","SAMSUNG J7 Prime 4G GOLD","1","649,000","0","0,000",1,"649,000","Mobile",{"$f":"VLOOKUP(D701,'CATALOGUE SMARTPHONES'!A:C,3,0)","v":"OK"},{"$f":"IFERROR((VLOOKUP(C701,'Baréme Relax'!B:D,3,0)),0)","v":0}]
["ASLOGHM","5 août 2017","043006000003","CARTE SIM 4G PRE MULTI SIM","4","12,000","0","0,000",4,"12,000","Mobile",{"$f":"VLOOKUP(D702,'CATALOGUE SMARTPHONES'!A:C,3,0)","v":{"$error":"#N/A"}},{"$f":"IFERROR((VLOOKUP(C702,'Baréme Relax'!B:D,3,0)),0)","v":0}]
["SIGHW","5 août 2017","188003000016","Modem Huawei HG532","2","0,000","0","0,000",2,"0,000","ADSL",{"$f":"VLOOKUP(D703,'CATALOGUE SMARTPHONES'!A:C,3,0)","v":{"$error":"#N/A"}},{"$f":"IFERROR((VLOOKUP(C703,'Baréme Relax'!B:D,3,0)),0)","v":0}]
["ABLOUNA","5 août 2017","046002000060","DOMINO E5220 WHITE","2","90,000","0","0,000",2,"90,000","Mobile",{"$f":"VLOOKUP(D704,'CATALOGUE SMARTPHONES'!A:C,3,0)","v":{"$error":"#N/A"}},{"$f":"IFERROR((VLOOKUP(C704,'Baréme Relax'!B:D,3,0)),0)","v":0}]
["SIGHW","5 août 2017","083025001001","SERVICOM EASY 3 BLACK RED","1","33,000","0","0,000",1,"33,000","Mobile",{"$f":"VLOOKUP(D705,'CATALOGUE SMARTPHONES'!A:C,3,0)","v":{"$error":"#N/A"}},{"$f":"IFERROR((VLOOKUP(C705,'Baréme Relax'!B:D,3,0)),0)","v":0}]
["SIGHW","5 août 2017","045013018001","HUAWEI Y3-II BLACK","1","159,000","0","0,000",1,"159,000","Mobile",{"$f":"VLOOKUP(D706,'CATALOGUE SMARTPHONES'!A:C,3,0)","v":"OK"},{"$f":"IFERROR((VLOOKUP(C706,'Baréme Relax'!B:D,3,0)),0)","v":0}]
["SIGHW","5 août 2017","043007000004","CARTE SIM 4G DATA MULTI SIM","2","0,000","0","0,000",2,"0,000","Mobile",{"$f":"VLOOKUP(D707,'CATALOGUE SMARTPHONES'!A:C,3,0)","v":{"$error":"#N/A"}},{"$f":"IFERROR((VLOOKUP(C707,'Baréme Relax'!B:D,3,0)),0)","v":0}]
["ASLOGHM","5 août 2017","046002000034","CLE 3G E3531","1","39,000","0","0,000",1,"39,000","Mobile",{"$f":"VLOOKUP(D708,'CATALOGUE SMARTPHONES'!A:C,3,0)","v":{"$error":"#N/A"}},{"$f":"IFERROR((VLOOKUP(C708,'Baréme Relax'!B:D,3,0)),0)","v":0}]
["ASLOGHM","5 août 2017","047006000161","Orange Wifi dock","1","0,000","0","0,000",1,"0,000","Mobile",{"$f":"VLOOKUP(D709,'CATALOGUE SMARTPHONES'!A:C,3,0)","v":{"$error":"#N/A"}},{"$f":"IFERROR((VLOOKUP(C709,'Baréme Relax'!B:D,3,0)),0)","v":0}]
["ABLOUNA","5 août 2017","043006000003","CARTE SIM 4G PRE MULTI SIM","1","0,000","0","0,000",1,"0,000","Mobile",{"$f":"VLOOKUP(D710,'CATALOGUE SMARTPHONES'!A:C,3,0)","v":{"$error":"#N/A"}},{"$f":"IFERROR((VLOOKUP(C710,'Baréme Relax'!B:D,3,0)),0)","v":0}]
["ASLOGHM","5 août 2017","046002000060","DOMINO E5220 WHITE","1","45,000","0","0,000",1,"45,000","Mobile",{"$f":"VLOOKUP(D711,'CATALOGUE SMARTPHONES'!A:C,3,0)","v":{"$error":"#N/A"}},{"$f":"IFERROR((VLOOKUP(C711,'Baréme Relax'!B:D,3,0)),0)","v":0}]
["SIGHW","4 août 2017","PRE21","Melle5er","9","0,000","0","0,000",9,"0,000","Mobile",{"$f":"VLOOKUP(D712,'CATALOGUE SMARTPHONES'!A:C,3,0)","v":{"$error":"#N/A"}},{"$f":"IFERROR((VLOOKUP(C712,'Baréme Relax'!B:D,3,0)),0)","v":0}]
["ABLOUNA","4 août 2017","PRE03","offre Simply","5","0,000","0","0,000",5,"0,000","Mobile",{"$f":"VLOOKUP(D713,'CATALOGUE SMARTPHONES'!A:C,3,0)","v":{"$error":"#N/A"}},{"$f":"IFERROR((VLOOKUP(C713,'Baréme Relax'!B:D,3,0)),0)","v":0}]
["ASLOGHM","4 août 2017","PRE03","offre Simply","1","0,000","0","0,000",1,"0,000","Mobile",{"$f":"VLOOKUP(D714,'CATALOGUE SMARTPHONES'!A:C,3,0)","v":{"$error":"#N/A"}},{"$f":"IFERROR((VLOOKUP(C714,'Baréme Relax'!B:D,3,0)),0)","v":0}]
["SIGHW","4 août 2017","P53327","Pack  - offre Pass","3","0,000","0","0,000",3,"0,000","Mobile",{"$f":"VLOOKUP(D715,'CATALOGUE SMARTPHONES'!A:C,3,0)","v":{"$error":"#N/A"}},{"$f":"IFERROR((VLOOKUP(C715,'Baréme Relax'!B:D,3,0)),0)","v":0}]
["ASLOGHM","4 août 2017","044004000010","Recharge Express","35","38,500","0","0,000",35,"38,500","Mobile",{"$f":"VLOOKUP(D716,'CATALOGUE SMARTPHONES'!A:C,3,0)","v":{"$error":"#N/A"}},{"$f":"IFERROR((VLOOKUP(C716,'Baréme Relax'!B:D,3,0)),0)","v":0}]
["ASLOGHM","4 août 2017","044004000010","Recharge Express","9","9,900","0","0,000",9,"9,900","Mobile",{"$f":"VLOOKUP(D717,'CATALOGUE SMARTPHONES'!A:C,3,0)","v":{"$error":"#N/A"}},{"$f":"IFERROR((VLOOKUP(C717,'Baréme Relax'!B:D,3,0)),0)","v":0}]
["ASLOGHM","4 août 2017","P61590"," Pack DOMINO E5220 WHITE - offre Simply 7,5Go + bonus 17,5Go","1","0,000","0","0,000",1,"0,000","Mobile",{"$f":"VLOOKUP(D718,'CATALOGUE SMARTPHONES'!A:C,3,0)","v":{"$error":"#N/A"}},{"$f":"IFERROR((VLOOKUP(C718,'Baréme Relax'!B:D,3,0)),0)","v":0}]
["SIGHW","4 août 2017","P61216"," Pack SAMSUNG A3 2017 BLUE - Forfait mix 100 -  12 mois   -  Avance 2 mois","1","0,000","0","0,000",1,"0,000","Mobile",{"$f":"VLOOKUP(D719,'CATALOGUE SMARTPHONES'!A:C,3,0)","v":{"$error":"#N/A"}},{"$f":"IFERROR((VLOOKUP(C719,'Baréme Relax'!B:D,3,0)),0)","v":0}]
["SIGHW","4 août 2017","P61590"," Pack DOMINO E5220 WHITE - offre Simply 7,5Go + bonus 17,5Go","2","0,000","0","0,000",2,"0,000","Mobile",{"$f":"VLOOKUP(D720,'CATALOGUE SMARTPHONES'!A:C,3,0)","v":{"$error":"#N/A"}},{"$f":"IFERROR((VLOOKUP(C720,'Baréme Relax'!B:D,3,0)),0)","v":0}]
["ABLOUNA","4 août 2017","047006000255","SANGLE PVC PORTABLE","1","2,200","0","0,000",1,"2,200","Mobile",{"$f":"VLOOKUP(D721,'CATALOGUE SMARTPHONES'!A:C,3,0)","v":{"$error":"#N/A"}},{"$f":"IFERROR((VLOOKUP(C721,'Baréme Relax'!B:D,3,0)),0)","v":0}]
["ASLOGHM","4 août 2017","044004000010","Recharge Express","60","66,000","0","0,000",60,"66,000","Mobile",{"$f":"VLOOKUP(D722,'CATALOGUE SMARTPHONES'!A:C,3,0)","v":{"$error":"#N/A"}},{"$f":"IFERROR((VLOOKUP(C722,'Baréme Relax'!B:D,3,0)),0)","v":0}]
["ABLOUNA","4 août 2017","044004000010","Recharge Express","30","33,000","0","0,000",30,"33,000","Mobile",{"$f":"VLOOKUP(D723,'CATALOGUE SMARTPHONES'!A:C,3,0)","v":{"$error":"#N/A"}},{"$f":"IFERROR((VLOOKUP(C723,'Baréme Relax'!B:D,3,0)),0)","v":0}]
["ASLOGHM","4 août 2017","044004000010","Recharge Express","30","33,000","0","0,000",30,"33,000","Mobile",{"$f":"VLOOKUP(D724,'CATALOGUE SMARTPHONES'!A:C,3,0)","v":{"$error":"#N/A"}},{"$f":"IFERROR((VLOOKUP(C724,'Baréme Relax'!B:D,3,0)),0)","v":0}]
["ASLOGHM","4 août 2017","P46890","PACK SIM DATA - 3G PASS - 1 MOIS","1","0,000","0","0,000",1,"0,000","Mobile",{"$f":"VLOOKUP(D725,'CATALOGUE SMARTPHONES'!A:C,3,0)","v":{"$error":"#N/A"}},{"$f":"IFERROR((VLOOKUP(C725,'Baréme Relax'!B:D,3,0)),0)","v":0}]
["ASLOGHM","4 août 2017","044004000010","Recharge Express","25","27,500","0","0,000",25,"27,500","Mobile",{"$f":"VLOOKUP(D726,'CATALOGUE SMARTPHONES'!A:C,3,0)","v":{"$error":"#N/A"}},{"$f":"IFERROR((VLOOKUP(C726,'Baréme Relax'!B:D,3,0)),0)","v":0}]
["ASLOGHM","4 août 2017","044004000010","Recharge Express","3","3,300","0","0,000",3,"3,300","Mobile",{"$f":"VLOOKUP(D727,'CATALOGUE SMARTPHONES'!A:C,3,0)","v":{"$error":"#N/A"}},{"$f":"IFERROR((VLOOKUP(C727,'Baréme Relax'!B:D,3,0)),0)","v":0}]
["ABLOUNA","4 août 2017","P56567","Pack Sim data - offre Simply  7,5 Go + illimité","2","0,000","0","0,000",2,"0,000","Mobile",{"$f":"VLOOKUP(D728,'CATALOGUE SMARTPHONES'!A:C,3,0)","v":{"$error":"#N/A"}},{"$f":"IFERROR((VLOOKUP(C728,'Baréme Relax'!B:D,3,0)),0)","v":0}]
["SIGHW","4 août 2017","ADV2","Avance 2 mois","1","220,000","0","0,000",1,"220,000","Mobile",{"$f":"VLOOKUP(D729,'CATALOGUE SMARTPHONES'!A:C,3,0)","v":{"$error":"#N/A"}},{"$f":"IFERROR((VLOOKUP(C729,'Baréme Relax'!B:D,3,0)),0)","v":0}]
["ABLOUNA","4 août 2017","PRE10","offre Pass","1","0,000","0","0,000",1,"0,000","Mobile",{"$f":"VLOOKUP(D730,'CATALOGUE SMARTPHONES'!A:C,3,0)","v":{"$error":"#N/A"}},{"$f":"IFERROR((VLOOKUP(C730,'Baréme Relax'!B:D,3,0)),0)","v":0}]
["ABLOUNA","4 août 2017","P61590"," Pack DOMINO E5220 WHITE - offre Simply 7,5Go + bonus 17,5Go","3","0,000","0","0,000",3,"0,000","Mobile",{"$f":"VLOOKUP(D731,'CATALOGUE SMARTPHONES'!A:C,3,0)","v":{"$error":"#N/A"}},{"$f":"IFERROR((VLOOKUP(C731,'Baréme Relax'!B:D,3,0)),0)","v":0}]
["SIGHW","4 août 2017","044004000010","Recharge Express","20","22,000","0","0,000",20,"22,000","Mobile",{"$f":"VLOOKUP(D732,'CATALOGUE SMARTPHONES'!A:C,3,0)","v":{"$error":"#N/A"}},{"$f":"IFERROR((VLOOKUP(C732,'Baréme Relax'!B:D,3,0)),0)","v":0}]
["ABLOUNA","4 août 2017","HYB35","Flybox MAX","1","0,000","0","0,000",1,"0,000","Mobile",{"$f":"VLOOKUP(D733,'CATALOGUE SMARTPHONES'!A:C,3,0)","v":{"$error":"#N/A"}},{"$f":"IFERROR((VLOOKUP(C733,'Baréme Relax'!B:D,3,0)),0)","v":0}]
["SIGHW","4 août 2017","HYB31","Top du Top","1","0,000","0","0,000",1,"0,000","Mobile",{"$f":"VLOOKUP(D734,'CATALOGUE SMARTPHONES'!A:C,3,0)","v":{"$error":"#N/A"}},{"$f":"IFERROR((VLOOKUP(C734,'Baréme Relax'!B:D,3,0)),0)","v":0}]
["SIGHW","4 août 2017","P59469"," Pack Top du Top Convention 50 HUAWEI Y6_II BLACK - 24 mois ","1","0,000","0","0,000",1,"0,000","Mobile",{"$f":"VLOOKUP(D735,'CATALOGUE SMARTPHONES'!A:C,3,0)","v":{"$error":"#N/A"}},{"$f":"IFERROR((VLOOKUP(C735,'Baréme Relax'!B:D,3,0)),0)","v":0}]
["SIGHW","4 août 2017","HYB01","forfait mix 15","1","0,000","0","0,000",1,"0,000","Mobile",{"$f":"VLOOKUP(D736,'CATALOGUE SMARTPHONES'!A:C,3,0)","v":{"$error":"#N/A"}},{"$f":"IFERROR((VLOOKUP(C736,'Baréme Relax'!B:D,3,0)),0)","v":0}]
["ASLOGHM","4 août 2017","PRE21","Melle5er","5","0,000","0","0,000",5,"0,000","Mobile",{"$f":"VLOOKUP(D737,'CATALOGUE SMARTPHONES'!A:C,3,0)","v":{"$error":"#N/A"}},{"$f":"IFERROR((VLOOKUP(C737,'Baréme Relax'!B:D,3,0)),0)","v":0}]
["ASLOGHM","4 août 2017","PRE10","offre Pass","3","0,000","0","0,000",3,"0,000","Mobile",{"$f":"VLOOKUP(D738,'CATALOGUE SMARTPHONES'!A:C,3,0)","v":{"$error":"#N/A"}},{"$f":"IFERROR((VLOOKUP(C738,'Baréme Relax'!B:D,3,0)),0)","v":0}]
["ASLOGHM","4 août 2017","P53327","Pack  - offre Pass","2","0,000","0","0,000",2,"0,000","Mobile",{"$f":"VLOOKUP(D739,'CATALOGUE SMARTPHONES'!A:C,3,0)","v":{"$error":"#N/A"}},{"$f":"IFERROR((VLOOKUP(C739,'Baréme Relax'!B:D,3,0)),0)","v":0}]
["ABLOUNA","4 août 2017","044004000010","Recharge Express","40","44,000","0","0,000",40,"44,000","Mobile",{"$f":"VLOOKUP(D740,'CATALOGUE SMARTPHONES'!A:C,3,0)","v":{"$error":"#N/A"}},{"$f":"IFERROR((VLOOKUP(C740,'Baréme Relax'!B:D,3,0)),0)","v":0}]
["SIGHW","4 août 2017","PRE17","3alami","1","0,000","0","0,000",1,"0,000","Mobile",{"$f":"VLOOKUP(D741,'CATALOGUE SMARTPHONES'!A:C,3,0)","v":{"$error":"#N/A"}},{"$f":"IFERROR((VLOOKUP(C741,'Baréme Relax'!B:D,3,0)),0)","v":0}]
["ABLOUNA","4 août 2017","044004000010","Recharge Express","12","13,200","0","0,000",12,"13,200","Mobile",{"$f":"VLOOKUP(D742,'CATALOGUE SMARTPHONES'!A:C,3,0)","v":{"$error":"#N/A"}},{"$f":"IFERROR((VLOOKUP(C742,'Baréme Relax'!B:D,3,0)),0)","v":0}]
["ABLOUNA","4 août 2017","ADV2","Avance 2 mois","1","58,000","0","0,000",1,"58,000","Mobile",{"$f":"VLOOKUP(D743,'CATALOGUE SMARTPHONES'!A:C,3,0)","v":{"$error":"#N/A"}},{"$f":"IFERROR((VLOOKUP(C743,'Baréme Relax'!B:D,3,0)),0)","v":0}]
["ABLOUNA","4 août 2017","P59928"," Pack 2 mois - Flybox MAX - internet + voix","1","0,000","0","0,000",1,"0,000","Mobile",{"$f":"VLOOKUP(D744,'CATALOGUE SMARTPHONES'!A:C,3,0)","v":{"$error":"#N/A"}},{"$f":"IFERROR((VLOOKUP(C744,'Baréme Relax'!B:D,3,0)),0)","v":0}]
["SIGHW","4 août 2017","PRE03","offre Simply","3","0,000","0","0,000",3,"0,000","Mobile",{"$f":"VLOOKUP(D745,'CATALOGUE SMARTPHONES'!A:C,3,0)","v":{"$error":"#N/A"}},{"$f":"IFERROR((VLOOKUP(C745,'Baréme Relax'!B:D,3,0)),0)","v":0}]
["SIGHW","4 août 2017","P4048","Pack Réengagement - forfait mix 15 - injection 1 Go - 12 mois","1","0,000","0","0,000",1,"0,000","Mobile",{"$f":"VLOOKUP(D746,'CATALOGUE SMARTPHONES'!A:C,3,0)","v":{"$error":"#N/A"}},{"$f":"IFERROR((VLOOKUP(C746,'Baréme Relax'!B:D,3,0)),0)","v":0}]
["ABLOUNA","4 août 2017","PRE23","El Jam3ia Mobile","3","0,000","0","0,000",3,"0,000","Mobile",{"$f":"VLOOKUP(D747,'CATALOGUE SMARTPHONES'!A:C,3,0)","v":{"$error":"#N/A"}},{"$f":"IFERROR((VLOOKUP(C747,'Baréme Relax'!B:D,3,0)),0)","v":0}]
["SIGHW","4 août 2017","PRE24","Connecti","1","0,000","0","0,000",1,"0,000","Mobile",{"$f":"VLOOKUP(D748,'CATALOGUE SMARTPHONES'!A:C,3,0)","v":{"$error":"#N/A"}},{"$f":"IFERROR((VLOOKUP(C748,'Baréme Relax'!B:D,3,0)),0)","v":0}]
["ABLOUNA","4 août 2017","PRE17","3alami","1","0,000","0","0,000",1,"0,000","Mobile",{"$f":"VLOOKUP(D749,'CATALOGUE SMARTPHONES'!A:C,3,0)","v":{"$error":"#N/A"}},{"$f":"IFERROR((VLOOKUP(C749,'Baréme Relax'!B:D,3,0)),0)","v":0}]
["SIGHW","4 août 2017","044004000010","Recharge Express","30","33,000","0","0,000",30,"33,000","Mobile",{"$f":"VLOOKUP(D750,'CATALOGUE SMARTPHONES'!A:C,3,0)","v":{"$error":"#N/A"}},{"$f":"IFERROR((VLOOKUP(C750,'Baréme Relax'!B:D,3,0)),0)","v":0}]
["SIGHW","4 août 2017","PRE10","offre Pass","3","0,000","0","0,000",3,"0,000","Mobile",{"$f":"VLOOKUP(D751,'CATALOGUE SMARTPHONES'!A:C,3,0)","v":{"$error":"#N/A"}},{"$f":"IFERROR((VLOOKUP(C751,'Baréme Relax'!B:D,3,0)),0)","v":0}]
["SIGHW","4 août 2017","999100001003","SERVICE TRANSFERT CONTACT","3","9,000","0","0,000",3,"9,000","Mobile",{"$f":"VLOOKUP(D752,'CATALOGUE SMARTPHONES'!A:C,3,0)","v":{"$error":"#N/A"}},{"$f":"IFERROR((VLOOKUP(C752,'Baréme Relax'!B:D,3,0)),0)","v":"2"}]
["ABLOUNA","4 août 2017","044004000010","Recharge Express","8","8,800","0","0,000",8,"8,800","Mobile",{"$f":"VLOOKUP(D753,'CATALOGUE SMARTPHONES'!A:C,3,0)","v":{"$error":"#N/A"}},{"$f":"IFERROR((VLOOKUP(C753,'Baréme Relax'!B:D,3,0)),0)","v":0}]
["ASLOGHM","4 août 2017","044004000010","Recharge Express","40","44,000","0","0,000",40,"44,000","Mobile",{"$f":"VLOOKUP(D754,'CATALOGUE SMARTPHONES'!A:C,3,0)","v":{"$error":"#N/A"}},{"$f":"IFERROR((VLOOKUP(C754,'Baréme Relax'!B:D,3,0)),0)","v":0}]
["SIGHW","4 août 2017","HYB07","modele de contrat together","4","0,000","0","0,000",4,"0,000","Mobile",{"$f":"VLOOKUP(D755,'CATALOGUE SMARTPHONES'!A:C,3,0)","v":{"$error":"#N/A"}},{"$f":"IFERROR((VLOOKUP(C755,'Baréme Relax'!B:D,3,0)),0)","v":0}]
["SIGHW","4 août 2017","999100002001","ASSURANCE CASSE","1","0,000","0","0,000",1,"0,000","Mobile",{"$f":"VLOOKUP(D756,'CATALOGUE SMARTPHONES'!A:C,3,0)","v":{"$error":"#N/A"}},{"$f":"IFERROR((VLOOKUP(C756,'Baréme Relax'!B:D,3,0)),0)","v":"3"}]
["ASLOGHM","4 août 2017","PRE17","3alami","5","0,000","0","0,000",5,"0,000","Mobile",{"$f":"VLOOKUP(D757,'CATALOGUE SMARTPHONES'!A:C,3,0)","v":{"$error":"#N/A"}},{"$f":"IFERROR((VLOOKUP(C757,'Baréme Relax'!B:D,3,0)),0)","v":0}]
["SIGHW","4 août 2017","P56567","Pack Sim data - offre Simply  7,5 Go + illimité","1","0,000","0","0,000",1,"0,000","Mobile",{"$f":"VLOOKUP(D758,'CATALOGUE SMARTPHONES'!A:C,3,0)","v":{"$error":"#N/A"}},{"$f":"IFERROR((VLOOKUP(C758,'Baréme Relax'!B:D,3,0)),0)","v":0}]
["ABLOUNA","4 août 2017","P50759","Pack Clé 4G - Offre Pass - Bonus internet 5 Go- 2 mois","1","0,000","0","0,000",1,"0,000","Mobile",{"$f":"VLOOKUP(D759,'CATALOGUE SMARTPHONES'!A:C,3,0)","v":{"$error":"#N/A"}},{"$f":"IFERROR((VLOOKUP(C759,'Baréme Relax'!B:D,3,0)),0)","v":0}]
["ABLOUNA","4 août 2017","044004000010","Recharge Express","22","24,200","0","0,000",22,"24,200","Mobile",{"$f":"VLOOKUP(D760,'CATALOGUE SMARTPHONES'!A:C,3,0)","v":{"$error":"#N/A"}},{"$f":"IFERROR((VLOOKUP(C760,'Baréme Relax'!B:D,3,0)),0)","v":0}]
["ABLOUNA","4 août 2017","PRE21","Melle5er","2","0,000","0","0,000",2,"0,000","Mobile",{"$f":"VLOOKUP(D761,'CATALOGUE SMARTPHONES'!A:C,3,0)","v":{"$error":"#N/A"}},{"$f":"IFERROR((VLOOKUP(C761,'Baréme Relax'!B:D,3,0)),0)","v":0}]
["SIGHW","4 août 2017","HYB32","Forfait mix 100","1","0,000","0","0,000",1,"0,000","Mobile",{"$f":"VLOOKUP(D762,'CATALOGUE SMARTPHONES'!A:C,3,0)","v":{"$error":"#N/A"}},{"$f":"IFERROR((VLOOKUP(C762,'Baréme Relax'!B:D,3,0)),0)","v":0}]
["ABLOUNA","4 août 2017","043006000003","CARTE SIM 4G PRE MULTI SIM","4","12,000","0","0,000",4,"12,000","Mobile",{"$f":"VLOOKUP(D763,'CATALOGUE SMARTPHONES'!A:C,3,0)","v":{"$error":"#N/A"}},{"$f":"IFERROR((VLOOKUP(C763,'Baréme Relax'!B:D,3,0)),0)","v":0}]
["ASLOGHM","4 août 2017","043006000003","CARTE SIM 4G PRE MULTI SIM","7","35,000","0","0,000",7,"35,000","Mobile",{"$f":"VLOOKUP(D764,'CATALOGUE SMARTPHONES'!A:C,3,0)","v":{"$error":"#N/A"}},{"$f":"IFERROR((VLOOKUP(C764,'Baréme Relax'!B:D,3,0)),0)","v":0}]
["ABLOUNA","4 août 2017","043006000003","CARTE SIM 4G PRE MULTI SIM","3","0,000","0","0,000",3,"0,000","Mobile",{"$f":"VLOOKUP(D765,'CATALOGUE SMARTPHONES'!A:C,3,0)","v":{"$error":"#N/A"}},{"$f":"IFERROR((VLOOKUP(C765,'Baréme Relax'!B:D,3,0)),0)","v":0}]
["ABLOUNA","4 août 2017","043007000004","CARTE SIM 4G DATA MULTI SIM","3","0,000","0","0,000",3,"0,000","Mobile",{"$f":"VLOOKUP(D766,'CATALOGUE SMARTPHONES'!A:C,3,0)","v":{"$error":"#N/A"}},{"$f":"IFERROR((VLOOKUP(C766,'Baréme Relax'!B:D,3,0)),0)","v":0}]
["SIGHW","4 août 2017","045013024001","HUAWEI HUAWEI Y6-II BLACK","1","0,000","0","0,000",1,"0,000","Mobile",{"$f":"VLOOKUP(D767,'CATALOGUE SMARTPHONES'!A:C,3,0)","v":"OK"},{"$f":"IFERROR((VLOOKUP(C767,'Baréme Relax'!B:D,3,0)),0)","v":0}]
["ABLOUNA","4 août 2017","046002000060","DOMINO E5220 WHITE","3","135,000","0","0,000",3,"135,000","Mobile",{"$f":"VLOOKUP(D768,'CATALOGUE SMARTPHONES'!A:C,3,0)","v":{"$error":"#N/A"}},{"$f":"IFERROR((VLOOKUP(C768,'Baréme Relax'!B:D,3,0)),0)","v":0}]
["SIGHW","4 août 2017","046002000060","DOMINO E5220 WHITE","2","90,000","0","0,000",2,"90,000","Mobile",{"$f":"VLOOKUP(D769,'CATALOGUE SMARTPHONES'!A:C,3,0)","v":{"$error":"#N/A"}},{"$f":"IFERROR((VLOOKUP(C769,'Baréme Relax'!B:D,3,0)),0)","v":0}]
["SIGHW","4 août 2017","043006000007","CARTE SIM 4G POST MULTI SIM","4","0,000","0","0,000",4,"0,000","Mobile",{"$f":"VLOOKUP(D770,'CATALOGUE SMARTPHONES'!A:C,3,0)","v":{"$error":"#N/A"}},{"$f":"IFERROR((VLOOKUP(C770,'Baréme Relax'!B:D,3,0)),0)","v":0}]
["SIGHW","4 août 2017","043006000003","CARTE SIM 4G PRE MULTI SIM","14","0,000","0","0,000",14,"0,000","Mobile",{"$f":"VLOOKUP(D771,'CATALOGUE SMARTPHONES'!A:C,3,0)","v":{"$error":"#N/A"}},{"$f":"IFERROR((VLOOKUP(C771,'Baréme Relax'!B:D,3,0)),0)","v":0}]
["SIGHW","4 août 2017","043006000003","CARTE SIM 4G PRE MULTI SIM","3","15,000","0","0,000",3,"15,000","Mobile",{"$f":"VLOOKUP(D772,'CATALOGUE SMARTPHONES'!A:C,3,0)","v":{"$error":"#N/A"}},{"$f":"IFERROR((VLOOKUP(C772,'Baréme Relax'!B:D,3,0)),0)","v":0}]
["ABLOUNA","4 août 2017","043001000114","CARTE PREACTIVEE VD","3","9,000","0","0,000",3,"9,000","Mobile",{"$f":"VLOOKUP(D773,'CATALOGUE SMARTPHONES'!A:C,3,0)","v":{"$error":"#N/A"}},{"$f":"IFERROR((VLOOKUP(C773,'Baréme Relax'!B:D,3,0)),0)","v":0}]
["ABLOUNA","4 août 2017","043007000004","CARTE SIM 4G DATA MULTI SIM","1","40,000","0","0,000",1,"40,000","Mobile",{"$f":"VLOOKUP(D774,'CATALOGUE SMARTPHONES'!A:C,3,0)","v":{"$error":"#N/A"}},{"$f":"IFERROR((VLOOKUP(C774,'Baréme Relax'!B:D,3,0)),0)","v":0}]
["ABLOUNA","4 août 2017","043008000001","CARTE SIM 4G FLYBOX","1","0,000","0","0,000",1,"0,000","Mobile",{"$f":"VLOOKUP(D775,'CATALOGUE SMARTPHONES'!A:C,3,0)","v":{"$error":"#N/A"}},{"$f":"IFERROR((VLOOKUP(C775,'Baréme Relax'!B:D,3,0)),0)","v":0}]
["ASLOGHM","4 août 2017","046002000060","DOMINO E5220 WHITE","1","45,000","0","0,000",1,"45,000","Mobile",{"$f":"VLOOKUP(D776,'CATALOGUE SMARTPHONES'!A:C,3,0)","v":{"$error":"#N/A"}},{"$f":"IFERROR((VLOOKUP(C776,'Baréme Relax'!B:D,3,0)),0)","v":0}]
["ASLOGHM","4 août 2017","043007000004","CARTE SIM 4G DATA MULTI SIM","1","0,000","0","0,000",1,"0,000","Mobile",{"$f":"VLOOKUP(D777,'CATALOGUE SMARTPHONES'!A:C,3,0)","v":{"$error":"#N/A"}},{"$f":"IFERROR((VLOOKUP(C777,'Baréme Relax'!B:D,3,0)),0)","v":0}]
["ASLOGHM","4 août 2017","043007000004","CARTE SIM 4G DATA MULTI SIM","1","20,000","0","0,000",1,"20,000","Mobile",{"$f":"VLOOKUP(D778,'CATALOGUE SMARTPHONES'!A:C,3,0)","v":{"$error":"#N/A"}},{"$f":"IFERROR((VLOOKUP(C778,'Baréme Relax'!B:D,3,0)),0)","v":0}]
["ASLOGHM","4 août 2017","043006000003","CARTE SIM 4G PRE MULTI SIM","4","12,000","0","0,000",4,"12,000","Mobile",{"$f":"VLOOKUP(D779,'CATALOGUE SMARTPHONES'!A:C,3,0)","v":{"$error":"#N/A"}},{"$f":"IFERROR((VLOOKUP(C779,'Baréme Relax'!B:D,3,0)),0)","v":0}]
["SIGHW","4 août 2017","043007000004","CARTE SIM 4G DATA MULTI SIM","1","30,000","0","0,000",1,"30,000","Mobile",{"$f":"VLOOKUP(D780,'CATALOGUE SMARTPHONES'!A:C,3,0)","v":{"$error":"#N/A"}},{"$f":"IFERROR((VLOOKUP(C780,'Baréme Relax'!B:D,3,0)),0)","v":0}]
["ABLOUNA","4 août 2017","043007000004","CARTE SIM 4G DATA MULTI SIM","2","60,000","0","0,000",2,"60,000","Mobile",{"$f":"VLOOKUP(D781,'CATALOGUE SMARTPHONES'!A:C,3,0)","v":{"$error":"#N/A"}},{"$f":"IFERROR((VLOOKUP(C781,'Baréme Relax'!B:D,3,0)),0)","v":0}]
["SIGHW","4 août 2017","043007000004","CARTE SIM 4G DATA MULTI SIM","3","15,000","0","0,000",3,"15,000","Mobile",{"$f":"VLOOKUP(D782,'CATALOGUE SMARTPHONES'!A:C,3,0)","v":{"$error":"#N/A"}},{"$f":"IFERROR((VLOOKUP(C782,'Baréme Relax'!B:D,3,0)),0)","v":0}]
["ABLOUNA","4 août 2017","046002000041","CLE 4G E3372H","1","0,000","0","0,000",1,"0,000","Mobile",{"$f":"VLOOKUP(D783,'CATALOGUE SMARTPHONES'!A:C,3,0)","v":{"$error":"#N/A"}},{"$f":"IFERROR((VLOOKUP(C783,'Baréme Relax'!B:D,3,0)),0)","v":0}]
["SIGHW","4 août 2017","043007000004","CARTE SIM 4G DATA MULTI SIM","2","0,000","0","0,000",2,"0,000","Mobile",{"$f":"VLOOKUP(D784,'CATALOGUE SMARTPHONES'!A:C,3,0)","v":{"$error":"#N/A"}},{"$f":"IFERROR((VLOOKUP(C784,'Baréme Relax'!B:D,3,0)),0)","v":0}]
["ASLOGHM","4 août 2017","043007000004","CARTE SIM 4G DATA MULTI SIM","2","10,000","0","0,000",2,"10,000","Mobile",{"$f":"VLOOKUP(D785,'CATALOGUE SMARTPHONES'!A:C,3,0)","v":{"$error":"#N/A"}},{"$f":"IFERROR((VLOOKUP(C785,'Baréme Relax'!B:D,3,0)),0)","v":0}]
["ASLOGHM","4 août 2017","043006000003","CARTE SIM 4G PRE MULTI SIM","3","0,000","0","0,000",3,"0,000","Mobile",{"$f":"VLOOKUP(D786,'CATALOGUE SMARTPHONES'!A:C,3,0)","v":{"$error":"#N/A"}},{"$f":"IFERROR((VLOOKUP(C786,'Baréme Relax'!B:D,3,0)),0)","v":0}]
["ABLOUNA","4 août 2017","085001000011","FLYBOX B310","1","0,000","0","0,000",1,"0,000","Mobile",{"$f":"VLOOKUP(D787,'CATALOGUE SMARTPHONES'!A:C,3,0)","v":{"$error":"#N/A"}},{"$f":"IFERROR((VLOOKUP(C787,'Baréme Relax'!B:D,3,0)),0)","v":0}]
["SIGHW","4 août 2017","083001051004","SAMSUNG A3 2017 BLUE","1","599,000","0","0,000",1,"599,000","Mobile",{"$f":"VLOOKUP(D788,'CATALOGUE SMARTPHONES'!A:C,3,0)","v":"OK"},{"$f":"IFERROR((VLOOKUP(C788,'Baréme Relax'!B:D,3,0)),0)","v":0}]
["ABLOUNA","3 août 2017","P61590"," Pack DOMINO E5220 WHITE - offre Simply 7,5Go + bonus 17,5Go","5","0,000","0","0,000",5,"0,000","Mobile",{"$f":"VLOOKUP(D789,'CATALOGUE SMARTPHONES'!A:C,3,0)","v":{"$error":"#N/A"}},{"$f":"IFERROR((VLOOKUP(C789,'Baréme Relax'!B:D,3,0)),0)","v":0}]
["SIGHW","3 août 2017","P56567","Pack Sim data - offre Simply  7,5 Go + illimité","1","0,000","0","0,000",1,"0,000","Mobile",{"$f":"VLOOKUP(D790,'CATALOGUE SMARTPHONES'!A:C,3,0)","v":{"$error":"#N/A"}},{"$f":"IFERROR((VLOOKUP(C790,'Baréme Relax'!B:D,3,0)),0)","v":0}]
["ASLOGHM","3 août 2017","PRE10","offre Pass","3","0,000","0","0,000",3,"0,000","Mobile",{"$f":"VLOOKUP(D791,'CATALOGUE SMARTPHONES'!A:C,3,0)","v":{"$error":"#N/A"}},{"$f":"IFERROR((VLOOKUP(C791,'Baréme Relax'!B:D,3,0)),0)","v":0}]
["SIGHW","3 août 2017","044004000010","Recharge Express","1","1,100","0","0,000",1,"1,100","Mobile",{"$f":"VLOOKUP(D792,'CATALOGUE SMARTPHONES'!A:C,3,0)","v":{"$error":"#N/A"}},{"$f":"IFERROR((VLOOKUP(C792,'Baréme Relax'!B:D,3,0)),0)","v":0}]
["ASLOGHM","3 août 2017","044004000010","Recharge Express","12","13,200","0","0,000",12,"13,200","Mobile",{"$f":"VLOOKUP(D793,'CATALOGUE SMARTPHONES'!A:C,3,0)","v":{"$error":"#N/A"}},{"$f":"IFERROR((VLOOKUP(C793,'Baréme Relax'!B:D,3,0)),0)","v":0}]
["ABLOUNA","3 août 2017","P56567","Pack Sim data - offre Simply  7,5 Go + illimité","2","0,000","0","0,000",2,"0,000","Mobile",{"$f":"VLOOKUP(D794,'CATALOGUE SMARTPHONES'!A:C,3,0)","v":{"$error":"#N/A"}},{"$f":"IFERROR((VLOOKUP(C794,'Baréme Relax'!B:D,3,0)),0)","v":0}]
["ABLOUNA","3 août 2017","044004000010","Recharge Express","5","5,500","0","0,000",5,"5,500","Mobile",{"$f":"VLOOKUP(D795,'CATALOGUE SMARTPHONES'!A:C,3,0)","v":{"$error":"#N/A"}},{"$f":"IFERROR((VLOOKUP(C795,'Baréme Relax'!B:D,3,0)),0)","v":0}]
["SIGHW","3 août 2017","PRE10","offre Pass","3","0,000","0","0,000",3,"0,000","Mobile",{"$f":"VLOOKUP(D796,'CATALOGUE SMARTPHONES'!A:C,3,0)","v":{"$error":"#N/A"}},{"$f":"IFERROR((VLOOKUP(C796,'Baréme Relax'!B:D,3,0)),0)","v":0}]
["ABLOUNA","3 août 2017","044004000010","Recharge Express","4","4,400","0","0,000",4,"4,400","Mobile",{"$f":"VLOOKUP(D797,'CATALOGUE SMARTPHONES'!A:C,3,0)","v":{"$error":"#N/A"}},{"$f":"IFERROR((VLOOKUP(C797,'Baréme Relax'!B:D,3,0)),0)","v":0}]
["ASLOGHM","3 août 2017","044004000010","Recharge Express","2","2,200","0","0,000",2,"2,200","Mobile",{"$f":"VLOOKUP(D798,'CATALOGUE SMARTPHONES'!A:C,3,0)","v":{"$error":"#N/A"}},{"$f":"IFERROR((VLOOKUP(C798,'Baréme Relax'!B:D,3,0)),0)","v":0}]
["SIGHW","3 août 2017","HYB35","Flybox MAX","1","0,000","0","0,000",1,"0,000","Mobile",{"$f":"VLOOKUP(D799,'CATALOGUE SMARTPHONES'!A:C,3,0)","v":{"$error":"#N/A"}},{"$f":"IFERROR((VLOOKUP(C799,'Baréme Relax'!B:D,3,0)),0)","v":0}]
["ASLOGHM","3 août 2017","PRE21","Melle5er","3","0,000","0","0,000",3,"0,000","Mobile",{"$f":"VLOOKUP(D800,'CATALOGUE SMARTPHONES'!A:C,3,0)","v":{"$error":"#N/A"}},{"$f":"IFERROR((VLOOKUP(C800,'Baréme Relax'!B:D,3,0)),0)","v":0}]
["ABLOUNA","3 août 2017","044004000010","Recharge Express","10","11,000","0","0,000",10,"11,000","Mobile",{"$f":"VLOOKUP(D801,'CATALOGUE SMARTPHONES'!A:C,3,0)","v":{"$error":"#N/A"}},{"$f":"IFERROR((VLOOKUP(C801,'Baréme Relax'!B:D,3,0)),0)","v":0}]
["ABLOUNA","3 août 2017","044004000010","Recharge Express","7","7,700","0","0,000",7,"7,700","Mobile",{"$f":"VLOOKUP(D802,'CATALOGUE SMARTPHONES'!A:C,3,0)","v":{"$error":"#N/A"}},{"$f":"IFERROR((VLOOKUP(C802,'Baréme Relax'!B:D,3,0)),0)","v":0}]
["SIGHW","3 août 2017","P50759","Pack Clé 4G - Offre Pass - Bonus internet 5 Go- 2 mois","1","0,000","0","0,000",1,"0,000","Mobile",{"$f":"VLOOKUP(D803,'CATALOGUE SMARTPHONES'!A:C,3,0)","v":{"$error":"#N/A"}},{"$f":"IFERROR((VLOOKUP(C803,'Baréme Relax'!B:D,3,0)),0)","v":0}]
["ASLOGHM","3 août 2017","P53327","Pack  - offre Pass","2","0,000","0","0,000",2,"0,000","Mobile",{"$f":"VLOOKUP(D804,'CATALOGUE SMARTPHONES'!A:C,3,0)","v":{"$error":"#N/A"}},{"$f":"IFERROR((VLOOKUP(C804,'Baréme Relax'!B:D,3,0)),0)","v":0}]
["SIGHW","3 août 2017","044004000010","Recharge Express","40","44,000","0","0,000",40,"44,000","Mobile",{"$f":"VLOOKUP(D805,'CATALOGUE SMARTPHONES'!A:C,3,0)","v":{"$error":"#N/A"}},{"$f":"IFERROR((VLOOKUP(C805,'Baréme Relax'!B:D,3,0)),0)","v":0}]
["ABLOUNA","3 août 2017","PRE21","Melle5er","1","0,000","0","0,000",1,"0,000","Mobile",{"$f":"VLOOKUP(D806,'CATALOGUE SMARTPHONES'!A:C,3,0)","v":{"$error":"#N/A"}},{"$f":"IFERROR((VLOOKUP(C806,'Baréme Relax'!B:D,3,0)),0)","v":0}]
["ASLOGHM","3 août 2017","P53287"," Clé 3G E3531 é?Offre Pass é? Bonus Internet 3Go - 1 mois      ","1","0,000","0","0,000",1,"0,000","Mobile",{"$f":"VLOOKUP(D807,'CATALOGUE SMARTPHONES'!A:C,3,0)","v":{"$error":"#N/A"}},{"$f":"IFERROR((VLOOKUP(C807,'Baréme Relax'!B:D,3,0)),0)","v":0}]
["SIGHW","3 août 2017","ADV2","Avance 2 mois","1","58,000","0","0,000",1,"58,000","Mobile",{"$f":"VLOOKUP(D808,'CATALOGUE SMARTPHONES'!A:C,3,0)","v":{"$error":"#N/A"}},{"$f":"IFERROR((VLOOKUP(C808,'Baréme Relax'!B:D,3,0)),0)","v":0}]
["SIGHW","3 août 2017","PRE21","Melle5er","11","0,000","0","0,000",11,"0,000","Mobile",{"$f":"VLOOKUP(D809,'CATALOGUE SMARTPHONES'!A:C,3,0)","v":{"$error":"#N/A"}},{"$f":"IFERROR((VLOOKUP(C809,'Baréme Relax'!B:D,3,0)),0)","v":0}]
["SIGHW","3 août 2017","P53327","Pack  - offre Pass","2","0,000","0","0,000",2,"0,000","Mobile",{"$f":"VLOOKUP(D810,'CATALOGUE SMARTPHONES'!A:C,3,0)","v":{"$error":"#N/A"}},{"$f":"IFERROR((VLOOKUP(C810,'Baréme Relax'!B:D,3,0)),0)","v":0}]
["SIGHW","3 août 2017","PRE17","3alami","2","0,000","0","0,000",2,"0,000","Mobile",{"$f":"VLOOKUP(D811,'CATALOGUE SMARTPHONES'!A:C,3,0)","v":{"$error":"#N/A"}},{"$f":"IFERROR((VLOOKUP(C811,'Baréme Relax'!B:D,3,0)),0)","v":0}]
["ASLOGHM","3 août 2017","PRE17","3alami","2","0,000","0","0,000",2,"0,000","Mobile",{"$f":"VLOOKUP(D812,'CATALOGUE SMARTPHONES'!A:C,3,0)","v":{"$error":"#N/A"}},{"$f":"IFERROR((VLOOKUP(C812,'Baréme Relax'!B:D,3,0)),0)","v":0}]
["SIGHW","3 août 2017","PRE13","Edawa5","3","0,000","0","0,000",3,"0,000","Mobile",{"$f":"VLOOKUP(D813,'CATALOGUE SMARTPHONES'!A:C,3,0)","v":{"$error":"#N/A"}},{"$f":"IFERROR((VLOOKUP(C813,'Baréme Relax'!B:D,3,0)),0)","v":0}]
["ASLOGHM","3 août 2017","P61147"," Pack AIRBOX 4G MW40 - offre Simply - bonus internet 7,5Go + illimit?? ","1","0,000","0","0,000",1,"0,000","Mobile",{"$f":"VLOOKUP(D814,'CATALOGUE SMARTPHONES'!A:C,3,0)","v":{"$error":"#N/A"}},{"$f":"IFERROR((VLOOKUP(C814,'Baréme Relax'!B:D,3,0)),0)","v":0}]
["ASLOGHM","3 août 2017","044004000010","Recharge Express","4","4,400","0","0,000",4,"4,400","Mobile",{"$f":"VLOOKUP(D815,'CATALOGUE SMARTPHONES'!A:C,3,0)","v":{"$error":"#N/A"}},{"$f":"IFERROR((VLOOKUP(C815,'Baréme Relax'!B:D,3,0)),0)","v":0}]
["ASLOGHM","3 août 2017","HYB01","forfait mix 15","1","0,000","0","0,000",1,"0,000","Mobile",{"$f":"VLOOKUP(D816,'CATALOGUE SMARTPHONES'!A:C,3,0)","v":{"$error":"#N/A"}},{"$f":"IFERROR((VLOOKUP(C816,'Baréme Relax'!B:D,3,0)),0)","v":0}]
["ASLOGHM","3 août 2017","PRE03","offre Simply","1","0,000","0","0,000",1,"0,000","Mobile",{"$f":"VLOOKUP(D817,'CATALOGUE SMARTPHONES'!A:C,3,0)","v":{"$error":"#N/A"}},{"$f":"IFERROR((VLOOKUP(C817,'Baréme Relax'!B:D,3,0)),0)","v":0}]
["ABLOUNA","3 août 2017","PRE17","3alami","1","0,000","0","0,000",1,"0,000","Mobile",{"$f":"VLOOKUP(D818,'CATALOGUE SMARTPHONES'!A:C,3,0)","v":{"$error":"#N/A"}},{"$f":"IFERROR((VLOOKUP(C818,'Baréme Relax'!B:D,3,0)),0)","v":0}]
["SIGHW","3 août 2017","P59928"," Pack 2 mois - Flybox MAX - internet + voix","1","0,000","0","0,000",1,"0,000","Mobile",{"$f":"VLOOKUP(D819,'CATALOGUE SMARTPHONES'!A:C,3,0)","v":{"$error":"#N/A"}},{"$f":"IFERROR((VLOOKUP(C819,'Baréme Relax'!B:D,3,0)),0)","v":0}]
["ASLOGHM","3 août 2017","ADV1","Avance 1 mois","1","16,500","0","0,000",1,"16,500","Mobile",{"$f":"VLOOKUP(D820,'CATALOGUE SMARTPHONES'!A:C,3,0)","v":{"$error":"#N/A"}},{"$f":"IFERROR((VLOOKUP(C820,'Baréme Relax'!B:D,3,0)),0)","v":0}]
["ASLOGHM","3 août 2017","P49112","Pack  - forfait mix 15 - 12 mois  - Avance 1 mois","1","0,000","0","0,000",1,"0,000","Mobile",{"$f":"VLOOKUP(D821,'CATALOGUE SMARTPHONES'!A:C,3,0)","v":{"$error":"#N/A"}},{"$f":"IFERROR((VLOOKUP(C821,'Baréme Relax'!B:D,3,0)),0)","v":0}]
["SIGHW","3 août 2017","044004000010","Recharge Express","80","88,000","0","0,000",80,"88,000","Mobile",{"$f":"VLOOKUP(D822,'CATALOGUE SMARTPHONES'!A:C,3,0)","v":{"$error":"#N/A"}},{"$f":"IFERROR((VLOOKUP(C822,'Baréme Relax'!B:D,3,0)),0)","v":0}]
["ABLOUNA","3 août 2017","PRE23","El Jam3ia Mobile","2","0,000","0","0,000",2,"0,000","Mobile",{"$f":"VLOOKUP(D823,'CATALOGUE SMARTPHONES'!A:C,3,0)","v":{"$error":"#N/A"}},{"$f":"IFERROR((VLOOKUP(C823,'Baréme Relax'!B:D,3,0)),0)","v":0}]
["SIGHW","3 août 2017","POSA6","ADSL One","1","379,300","0","0,000",1,"379,300","ADSL",{"$f":"VLOOKUP(D824,'CATALOGUE SMARTPHONES'!A:C,3,0)","v":{"$error":"#N/A"}},{"$f":"IFERROR((VLOOKUP(C824,'Baréme Relax'!B:D,3,0)),0)","v":0}]
["ABLOUNA","3 août 2017","PRE24","Connecti","1","0,000","0","0,000",1,"0,000","Mobile",{"$f":"VLOOKUP(D825,'CATALOGUE SMARTPHONES'!A:C,3,0)","v":{"$error":"#N/A"}},{"$f":"IFERROR((VLOOKUP(C825,'Baréme Relax'!B:D,3,0)),0)","v":0}]
["SIGHW","3 août 2017","PRE03","offre Simply","1","0,000","0","0,000",1,"0,000","Mobile",{"$f":"VLOOKUP(D826,'CATALOGUE SMARTPHONES'!A:C,3,0)","v":{"$error":"#N/A"}},{"$f":"IFERROR((VLOOKUP(C826,'Baréme Relax'!B:D,3,0)),0)","v":0}]
["SIGHW","3 août 2017","044004000010","Recharge Express","2","2,200","0","0,000",2,"2,200","Mobile",{"$f":"VLOOKUP(D827,'CATALOGUE SMARTPHONES'!A:C,3,0)","v":{"$error":"#N/A"}},{"$f":"IFERROR((VLOOKUP(C827,'Baréme Relax'!B:D,3,0)),0)","v":0}]
["ASLOGHM","3 août 2017","044004000010","Recharge Express","22","24,200","0","0,000",22,"24,200","Mobile",{"$f":"VLOOKUP(D828,'CATALOGUE SMARTPHONES'!A:C,3,0)","v":{"$error":"#N/A"}},{"$f":"IFERROR((VLOOKUP(C828,'Baréme Relax'!B:D,3,0)),0)","v":0}]
["SIGHW","3 août 2017","999100001003","SERVICE TRANSFERT CONTACT","2","6,000","0","0,000",2,"6,000","Mobile",{"$f":"VLOOKUP(D829,'CATALOGUE SMARTPHONES'!A:C,3,0)","v":{"$error":"#N/A"}},{"$f":"IFERROR((VLOOKUP(C829,'Baréme Relax'!B:D,3,0)),0)","v":"2"}]
["ABLOUNA","3 août 2017","PRE03","offre Simply","7","0,000","0","0,000",7,"0,000","Mobile",{"$f":"VLOOKUP(D830,'CATALOGUE SMARTPHONES'!A:C,3,0)","v":{"$error":"#N/A"}},{"$f":"IFERROR((VLOOKUP(C830,'Baréme Relax'!B:D,3,0)),0)","v":0}]
["SIGHW","3 août 2017","044004000010","Recharge Express","20","22,000","0","0,000",20,"22,000","Mobile",{"$f":"VLOOKUP(D831,'CATALOGUE SMARTPHONES'!A:C,3,0)","v":{"$error":"#N/A"}},{"$f":"IFERROR((VLOOKUP(C831,'Baréme Relax'!B:D,3,0)),0)","v":0}]
["SIGHW","3 août 2017","044004000010","Recharge Express","30","33,000","0","0,000",30,"33,000","Mobile",{"$f":"VLOOKUP(D832,'CATALOGUE SMARTPHONES'!A:C,3,0)","v":{"$error":"#N/A"}},{"$f":"IFERROR((VLOOKUP(C832,'Baréme Relax'!B:D,3,0)),0)","v":0}]
["ASLOGHM","3 août 2017","044004000010","Recharge Express","10","11,000","0","0,000",10,"11,000","Mobile",{"$f":"VLOOKUP(D833,'CATALOGUE SMARTPHONES'!A:C,3,0)","v":{"$error":"#N/A"}},{"$f":"IFERROR((VLOOKUP(C833,'Baréme Relax'!B:D,3,0)),0)","v":0}]
["ASLOGHM","3 août 2017","043006000003","CARTE SIM 4G PRE MULTI SIM","2","6,000","0","0,000",2,"6,000","Mobile",{"$f":"VLOOKUP(D834,'CATALOGUE SMARTPHONES'!A:C,3,0)","v":{"$error":"#N/A"}},{"$f":"IFERROR((VLOOKUP(C834,'Baréme Relax'!B:D,3,0)),0)","v":0}]
["SIGHW","3 août 2017","085001000011","FLYBOX B310","1","0,000","0","0,000",1,"0,000","Mobile",{"$f":"VLOOKUP(D835,'CATALOGUE SMARTPHONES'!A:C,3,0)","v":{"$error":"#N/A"}},{"$f":"IFERROR((VLOOKUP(C835,'Baréme Relax'!B:D,3,0)),0)","v":0}]
["ASLOGHM","3 août 2017","043007000004","CARTE SIM 4G DATA MULTI SIM","1","14,000","0","0,000",1,"14,000","Mobile",{"$f":"VLOOKUP(D836,'CATALOGUE SMARTPHONES'!A:C,3,0)","v":{"$error":"#N/A"}},{"$f":"IFERROR((VLOOKUP(C836,'Baréme Relax'!B:D,3,0)),0)","v":0}]
["ASLOGHM","3 août 2017","043007000004","CARTE SIM 4G DATA MULTI SIM","2","10,000","0","0,000",2,"10,000","Mobile",{"$f":"VLOOKUP(D837,'CATALOGUE SMARTPHONES'!A:C,3,0)","v":{"$error":"#N/A"}},{"$f":"IFERROR((VLOOKUP(C837,'Baréme Relax'!B:D,3,0)),0)","v":0}]
["ABLOUNA","3 août 2017","043007000004","CARTE SIM 4G DATA MULTI SIM","5","0,000","0","0,000",5,"0,000","Mobile",{"$f":"VLOOKUP(D838,'CATALOGUE SMARTPHONES'!A:C,3,0)","v":{"$error":"#N/A"}},{"$f":"IFERROR((VLOOKUP(C838,'Baréme Relax'!B:D,3,0)),0)","v":0}]
["SIGHW","3 août 2017","043007000004","CARTE SIM 4G DATA MULTI SIM","1","40,000","0","0,000",1,"40,000","Mobile",{"$f":"VLOOKUP(D839,'CATALOGUE SMARTPHONES'!A:C,3,0)","v":{"$error":"#N/A"}},{"$f":"IFERROR((VLOOKUP(C839,'Baréme Relax'!B:D,3,0)),0)","v":0}]
["ASLOGHM","3 août 2017","043007000004","CARTE SIM 4G DATA MULTI SIM","1","3,000","0","0,000",1,"3,000","Mobile",{"$f":"VLOOKUP(D840,'CATALOGUE SMARTPHONES'!A:C,3,0)","v":{"$error":"#N/A"}},{"$f":"IFERROR((VLOOKUP(C840,'Baréme Relax'!B:D,3,0)),0)","v":0}]
["ASLOGHM","3 août 2017","043007000004","CARTE SIM 4G DATA MULTI SIM","1","0,000","0","0,000",1,"0,000","Mobile",{"$f":"VLOOKUP(D841,'CATALOGUE SMARTPHONES'!A:C,3,0)","v":{"$error":"#N/A"}},{"$f":"IFERROR((VLOOKUP(C841,'Baréme Relax'!B:D,3,0)),0)","v":0}]
["ABLOUNA","3 août 2017","043006000003","CARTE SIM 4G PRE MULTI SIM","5","15,000","0","0,000",5,"15,000","Mobile",{"$f":"VLOOKUP(D842,'CATALOGUE SMARTPHONES'!A:C,3,0)","v":{"$error":"#N/A"}},{"$f":"IFERROR((VLOOKUP(C842,'Baréme Relax'!B:D,3,0)),0)","v":0}]
["ABLOUNA","3 août 2017","043006000003","CARTE SIM 4G PRE MULTI SIM","1","5,000","0","0,000",1,"5,000","Mobile",{"$f":"VLOOKUP(D843,'CATALOGUE SMARTPHONES'!A:C,3,0)","v":{"$error":"#N/A"}},{"$f":"IFERROR((VLOOKUP(C843,'Baréme Relax'!B:D,3,0)),0)","v":0}]
["ASLOGHM","3 août 2017","046002000034","CLE 3G E3531","1","0,000","0","0,000",1,"0,000","Mobile",{"$f":"VLOOKUP(D844,'CATALOGUE SMARTPHONES'!A:C,3,0)","v":{"$error":"#N/A"}},{"$f":"IFERROR((VLOOKUP(C844,'Baréme Relax'!B:D,3,0)),0)","v":0}]
["ASLOGHM","3 août 2017","043006000003","CARTE SIM 4G PRE MULTI SIM","1","5,000","0","0,000",1,"5,000","Mobile",{"$f":"VLOOKUP(D845,'CATALOGUE SMARTPHONES'!A:C,3,0)","v":{"$error":"#N/A"}},{"$f":"IFERROR((VLOOKUP(C845,'Baréme Relax'!B:D,3,0)),0)","v":0}]
["ASLOGHM","3 août 2017","043006000003","CARTE SIM 4G PRE MULTI SIM","5","0,000","0","0,000",5,"0,000","Mobile",{"$f":"VLOOKUP(D846,'CATALOGUE SMARTPHONES'!A:C,3,0)","v":{"$error":"#N/A"}},{"$f":"IFERROR((VLOOKUP(C846,'Baréme Relax'!B:D,3,0)),0)","v":0}]
["SIGHW","3 août 2017","043006000003","CARTE SIM 4G PRE MULTI SIM","13","0,000","0","0,000",13,"0,000","Mobile",{"$f":"VLOOKUP(D847,'CATALOGUE SMARTPHONES'!A:C,3,0)","v":{"$error":"#N/A"}},{"$f":"IFERROR((VLOOKUP(C847,'Baréme Relax'!B:D,3,0)),0)","v":0}]
["SIGHW","3 août 2017","046002000041","CLE 4G E3372H","1","0,000","0","0,000",1,"0,000","Mobile",{"$f":"VLOOKUP(D848,'CATALOGUE SMARTPHONES'!A:C,3,0)","v":{"$error":"#N/A"}},{"$f":"IFERROR((VLOOKUP(C848,'Baréme Relax'!B:D,3,0)),0)","v":0}]
["SIGHW","3 août 2017","043006000003","CARTE SIM 4G PRE MULTI SIM","3","9,000","0","0,000",3,"9,000","Mobile",{"$f":"VLOOKUP(D849,'CATALOGUE SMARTPHONES'!A:C,3,0)","v":{"$error":"#N/A"}},{"$f":"IFERROR((VLOOKUP(C849,'Baréme Relax'!B:D,3,0)),0)","v":0}]
["ASLOGHM","3 août 2017","046002000056","AIRBOX 4G MW40","1","119,000","0","0,000",1,"119,000","Mobile",{"$f":"VLOOKUP(D850,'CATALOGUE SMARTPHONES'!A:C,3,0)","v":{"$error":"#N/A"}},{"$f":"IFERROR((VLOOKUP(C850,'Baréme Relax'!B:D,3,0)),0)","v":0}]
["SIGHW","3 août 2017","043007000004","CARTE SIM 4G DATA MULTI SIM","2","10,000","0","0,000",2,"10,000","Mobile",{"$f":"VLOOKUP(D851,'CATALOGUE SMARTPHONES'!A:C,3,0)","v":{"$error":"#N/A"}},{"$f":"IFERROR((VLOOKUP(C851,'Baréme Relax'!B:D,3,0)),0)","v":0}]
["SIGHW","3 août 2017","043006000003","CARTE SIM 4G PRE MULTI SIM","7","35,000","0","0,000",7,"35,000","Mobile",{"$f":"VLOOKUP(D852,'CATALOGUE SMARTPHONES'!A:C,3,0)","v":{"$error":"#N/A"}},{"$f":"IFERROR((VLOOKUP(C852,'Baréme Relax'!B:D,3,0)),0)","v":0}]
["ABLOUNA","3 août 2017","043006000003","CARTE SIM 4G PRE MULTI SIM","2","0,000","0","0,000",2,"0,000","Mobile",{"$f":"VLOOKUP(D853,'CATALOGUE SMARTPHONES'!A:C,3,0)","v":{"$error":"#N/A"}},{"$f":"IFERROR((VLOOKUP(C853,'Baréme Relax'!B:D,3,0)),0)","v":0}]
["ABLOUNA","3 août 2017","043001000114","CARTE PREACTIVEE VD","2","6,000","0","0,000",2,"6,000","Mobile",{"$f":"VLOOKUP(D854,'CATALOGUE SMARTPHONES'!A:C,3,0)","v":{"$error":"#N/A"}},{"$f":"IFERROR((VLOOKUP(C854,'Baréme Relax'!B:D,3,0)),0)","v":0}]
["SIGHW","3 août 2017","043008000001","CARTE SIM 4G FLYBOX","1","0,000","0","0,000",1,"0,000","Mobile",{"$f":"VLOOKUP(D855,'CATALOGUE SMARTPHONES'!A:C,3,0)","v":{"$error":"#N/A"}},{"$f":"IFERROR((VLOOKUP(C855,'Baréme Relax'!B:D,3,0)),0)","v":0}]
["ABLOUNA","3 août 2017","046002000060","DOMINO E5220 WHITE","5","225,000","0","0,000",5,"225,000","Mobile",{"$f":"VLOOKUP(D856,'CATALOGUE SMARTPHONES'!A:C,3,0)","v":{"$error":"#N/A"}},{"$f":"IFERROR((VLOOKUP(C856,'Baréme Relax'!B:D,3,0)),0)","v":0}]
["SIGHW","3 août 2017","043007000004","CARTE SIM 4G DATA MULTI SIM","1","30,000","0","0,000",1,"30,000","Mobile",{"$f":"VLOOKUP(D857,'CATALOGUE SMARTPHONES'!A:C,3,0)","v":{"$error":"#N/A"}},{"$f":"IFERROR((VLOOKUP(C857,'Baréme Relax'!B:D,3,0)),0)","v":0}]
["SIGHW","3 août 2017","188003000016","Modem Huawei HG532","1","0,000","0","0,000",1,"0,000","ADSL",{"$f":"VLOOKUP(D858,'CATALOGUE SMARTPHONES'!A:C,3,0)","v":{"$error":"#N/A"}},{"$f":"IFERROR((VLOOKUP(C858,'Baréme Relax'!B:D,3,0)),0)","v":0}]
["ABLOUNA","3 août 2017","043007000004","CARTE SIM 4G DATA MULTI SIM","2","60,000","0","0,000",2,"60,000","Mobile",{"$f":"VLOOKUP(D859,'CATALOGUE SMARTPHONES'!A:C,3,0)","v":{"$error":"#N/A"}},{"$f":"IFERROR((VLOOKUP(C859,'Baréme Relax'!B:D,3,0)),0)","v":0}]
["ASLOGHM","2 août 2017","P61590"," Pack DOMINO E5220 WHITE - offre Simply 7,5Go + bonus 17,5Go","1","0,000","0","0,000",1,"0,000","Mobile",{"$f":"VLOOKUP(D860,'CATALOGUE SMARTPHONES'!A:C,3,0)","v":{"$error":"#N/A"}},{"$f":"IFERROR((VLOOKUP(C860,'Baréme Relax'!B:D,3,0)),0)","v":0}]
["ABLOUNA","2 août 2017","044004000010","Recharge Express","7","7,700","0","0,000",7,"7,700","Mobile",{"$f":"VLOOKUP(D861,'CATALOGUE SMARTPHONES'!A:C,3,0)","v":{"$error":"#N/A"}},{"$f":"IFERROR((VLOOKUP(C861,'Baréme Relax'!B:D,3,0)),0)","v":0}]
["SIGHW","2 août 2017","044004000010","Recharge Express","10","11,000","0","0,000",10,"11,000","Mobile",{"$f":"VLOOKUP(D862,'CATALOGUE SMARTPHONES'!A:C,3,0)","v":{"$error":"#N/A"}},{"$f":"IFERROR((VLOOKUP(C862,'Baréme Relax'!B:D,3,0)),0)","v":0}]
["ABLOUNA","2 août 2017","POSA2","ADSL HOME","1","125,900","0","0,000",1,"125,900","ADSL",{"$f":"VLOOKUP(D863,'CATALOGUE SMARTPHONES'!A:C,3,0)","v":{"$error":"#N/A"}},{"$f":"IFERROR((VLOOKUP(C863,'Baréme Relax'!B:D,3,0)),0)","v":0}]
["SIGHW","2 août 2017","P61376"," Pack ORANGE IT 2110 - Melle5er","1","0,000","0","0,000",1,"0,000","Mobile",{"$f":"VLOOKUP(D864,'CATALOGUE SMARTPHONES'!A:C,3,0)","v":{"$error":"#N/A"}},{"$f":"IFERROR((VLOOKUP(C864,'Baréme Relax'!B:D,3,0)),0)","v":0}]
["ABLOUNA","2 août 2017","044004000010","Recharge Express","1","1,100","0","0,000",1,"1,100","Mobile",{"$f":"VLOOKUP(D865,'CATALOGUE SMARTPHONES'!A:C,3,0)","v":{"$error":"#N/A"}},{"$f":"IFERROR((VLOOKUP(C865,'Baréme Relax'!B:D,3,0)),0)","v":0}]
["ASLOGHM","2 août 2017","044004000010","Recharge Express","2","2,200","0","0,000",2,"2,200","Mobile",{"$f":"VLOOKUP(D866,'CATALOGUE SMARTPHONES'!A:C,3,0)","v":{"$error":"#N/A"}},{"$f":"IFERROR((VLOOKUP(C866,'Baréme Relax'!B:D,3,0)),0)","v":0}]
["ABLOUNA","2 août 2017","PRE13","Edawa5","1","0,000","0","0,000",1,"0,000","Mobile",{"$f":"VLOOKUP(D867,'CATALOGUE SMARTPHONES'!A:C,3,0)","v":{"$error":"#N/A"}},{"$f":"IFERROR((VLOOKUP(C867,'Baréme Relax'!B:D,3,0)),0)","v":0}]
["ASLOGHM","2 août 2017","PRE21","Melle5er","7","0,000","0","0,000",7,"0,000","Mobile",{"$f":"VLOOKUP(D868,'CATALOGUE SMARTPHONES'!A:C,3,0)","v":{"$error":"#N/A"}},{"$f":"IFERROR((VLOOKUP(C868,'Baréme Relax'!B:D,3,0)),0)","v":0}]
["ABLOUNA","2 août 2017","044004000010","Recharge Express","20","22,000","0","0,000",20,"22,000","Mobile",{"$f":"VLOOKUP(D869,'CATALOGUE SMARTPHONES'!A:C,3,0)","v":{"$error":"#N/A"}},{"$f":"IFERROR((VLOOKUP(C869,'Baréme Relax'!B:D,3,0)),0)","v":0}]
["SIGHW","2 août 2017","PRE10","offre Pass","4","0,000","0","0,000",4,"0,000","Mobile",{"$f":"VLOOKUP(D870,'CATALOGUE SMARTPHONES'!A:C,3,0)","v":{"$error":"#N/A"}},{"$f":"IFERROR((VLOOKUP(C870,'Baréme Relax'!B:D,3,0)),0)","v":0}]
["ASLOGHM","2 août 2017","P53287"," Clé 3G E3531 é?Offre Pass é? Bonus Internet 3Go - 1 mois      ","1","0,000","0","0,000",1,"0,000","Mobile",{"$f":"VLOOKUP(D871,'CATALOGUE SMARTPHONES'!A:C,3,0)","v":{"$error":"#N/A"}},{"$f":"IFERROR((VLOOKUP(C871,'Baréme Relax'!B:D,3,0)),0)","v":0}]
["SIGHW","2 août 2017","P61590"," Pack DOMINO E5220 WHITE - offre Simply 7,5Go + bonus 17,5Go","1","0,000","0","0,000",1,"0,000","Mobile",{"$f":"VLOOKUP(D872,'CATALOGUE SMARTPHONES'!A:C,3,0)","v":{"$error":"#N/A"}},{"$f":"IFERROR((VLOOKUP(C872,'Baréme Relax'!B:D,3,0)),0)","v":0}]
["ASLOGHM","2 août 2017","PRE10","offre Pass","3","0,000","0","0,000",3,"0,000","Mobile",{"$f":"VLOOKUP(D873,'CATALOGUE SMARTPHONES'!A:C,3,0)","v":{"$error":"#N/A"}},{"$f":"IFERROR((VLOOKUP(C873,'Baréme Relax'!B:D,3,0)),0)","v":0}]
["ABLOUNA","2 août 2017","PRE03","offre Simply","4","0,000","0","0,000",4,"0,000","Mobile",{"$f":"VLOOKUP(D874,'CATALOGUE SMARTPHONES'!A:C,3,0)","v":{"$error":"#N/A"}},{"$f":"IFERROR((VLOOKUP(C874,'Baréme Relax'!B:D,3,0)),0)","v":0}]
["SIGHW","2 août 2017","PRE21","Melle5er","5","0,000","0","0,000",5,"0,000","Mobile",{"$f":"VLOOKUP(D875,'CATALOGUE SMARTPHONES'!A:C,3,0)","v":{"$error":"#N/A"}},{"$f":"IFERROR((VLOOKUP(C875,'Baréme Relax'!B:D,3,0)),0)","v":0}]
["ASLOGHM","2 août 2017","044004000010","Recharge Express","24","26,400","0","0,000",24,"26,400","Mobile",{"$f":"VLOOKUP(D876,'CATALOGUE SMARTPHONES'!A:C,3,0)","v":{"$error":"#N/A"}},{"$f":"IFERROR((VLOOKUP(C876,'Baréme Relax'!B:D,3,0)),0)","v":0}]
["ABLOUNA","2 août 2017","P56567","Pack Sim data - offre Simply  7,5 Go + illimité","3","0,000","0","0,000",3,"0,000","Mobile",{"$f":"VLOOKUP(D877,'CATALOGUE SMARTPHONES'!A:C,3,0)","v":{"$error":"#N/A"}},{"$f":"IFERROR((VLOOKUP(C877,'Baréme Relax'!B:D,3,0)),0)","v":0}]
["ABLOUNA","2 août 2017","044004000010","Recharge Express","24","26,400","0","0,000",24,"26,400","Mobile",{"$f":"VLOOKUP(D878,'CATALOGUE SMARTPHONES'!A:C,3,0)","v":{"$error":"#N/A"}},{"$f":"IFERROR((VLOOKUP(C878,'Baréme Relax'!B:D,3,0)),0)","v":0}]
["SIGHW","2 août 2017","044004000010","Recharge Express","15","16,500","0","0,000",15,"16,500","Mobile",{"$f":"VLOOKUP(D879,'CATALOGUE SMARTPHONES'!A:C,3,0)","v":{"$error":"#N/A"}},{"$f":"IFERROR((VLOOKUP(C879,'Baréme Relax'!B:D,3,0)),0)","v":0}]
["SIGHW","2 août 2017","044004000010","Recharge Express","9","9,900","0","0,000",9,"9,900","Mobile",{"$f":"VLOOKUP(D880,'CATALOGUE SMARTPHONES'!A:C,3,0)","v":{"$error":"#N/A"}},{"$f":"IFERROR((VLOOKUP(C880,'Baréme Relax'!B:D,3,0)),0)","v":0}]
["RIGRAIET","2 août 2017","999100001003","SERVICE TRANSFERT CONTACT","2","6,000","0","0,000",2,"6,000","Mobile",{"$f":"VLOOKUP(D881,'CATALOGUE SMARTPHONES'!A:C,3,0)","v":{"$error":"#N/A"}},{"$f":"IFERROR((VLOOKUP(C881,'Baréme Relax'!B:D,3,0)),0)","v":"2"}]
["SIGHW","2 août 2017","PRE13","Edawa5","1","0,000","0","0,000",1,"0,000","Mobile",{"$f":"VLOOKUP(D882,'CATALOGUE SMARTPHONES'!A:C,3,0)","v":{"$error":"#N/A"}},{"$f":"IFERROR((VLOOKUP(C882,'Baréme Relax'!B:D,3,0)),0)","v":0}]
["SIGHW","2 août 2017","PRE03","offre Simply","1","0,000","0","0,000",1,"0,000","Mobile",{"$f":"VLOOKUP(D883,'CATALOGUE SMARTPHONES'!A:C,3,0)","v":{"$error":"#N/A"}},{"$f":"IFERROR((VLOOKUP(C883,'Baréme Relax'!B:D,3,0)),0)","v":0}]
["ASLOGHM","2 août 2017","P56567","Pack Sim data - offre Simply  7,5 Go + illimité","1","0,000","0","0,000",1,"0,000","Mobile",{"$f":"VLOOKUP(D884,'CATALOGUE SMARTPHONES'!A:C,3,0)","v":{"$error":"#N/A"}},{"$f":"IFERROR((VLOOKUP(C884,'Baréme Relax'!B:D,3,0)),0)","v":0}]
["ABLOUNA","2 août 2017","044004000010","Recharge Express","9","9,900","0","0,000",9,"9,900","Mobile",{"$f":"VLOOKUP(D885,'CATALOGUE SMARTPHONES'!A:C,3,0)","v":{"$error":"#N/A"}},{"$f":"IFERROR((VLOOKUP(C885,'Baréme Relax'!B:D,3,0)),0)","v":0}]
["ASLOGHM","2 août 2017","P53327","Pack  - offre Pass","2","0,000","0","0,000",2,"0,000","Mobile",{"$f":"VLOOKUP(D886,'CATALOGUE SMARTPHONES'!A:C,3,0)","v":{"$error":"#N/A"}},{"$f":"IFERROR((VLOOKUP(C886,'Baréme Relax'!B:D,3,0)),0)","v":0}]
["ASLOGHM","2 août 2017","P62599"," Pack Cle 3G E3531 + Orange Wifi dock - offre Simply 25 Go","1","0,000","0","0,000",1,"0,000","Mobile",{"$f":"VLOOKUP(D887,'CATALOGUE SMARTPHONES'!A:C,3,0)","v":{"$error":"#N/A"}},{"$f":"IFERROR((VLOOKUP(C887,'Baréme Relax'!B:D,3,0)),0)","v":0}]
["SIGHW","2 août 2017","044004000010","Recharge Express","1","1,100","0","0,000",1,"1,100","Mobile",{"$f":"VLOOKUP(D888,'CATALOGUE SMARTPHONES'!A:C,3,0)","v":{"$error":"#N/A"}},{"$f":"IFERROR((VLOOKUP(C888,'Baréme Relax'!B:D,3,0)),0)","v":0}]
["ABLOUNA","2 août 2017","P62599"," Pack Cle 3G E3531 + Orange Wifi dock - offre Simply 25 Go","1","0,000","0","0,000",1,"0,000","Mobile",{"$f":"VLOOKUP(D889,'CATALOGUE SMARTPHONES'!A:C,3,0)","v":{"$error":"#N/A"}},{"$f":"IFERROR((VLOOKUP(C889,'Baréme Relax'!B:D,3,0)),0)","v":0}]
["ASLOGHM","2 août 2017","PRE13","Edawa5","1","0,000","0","0,000",1,"0,000","Mobile",{"$f":"VLOOKUP(D890,'CATALOGUE SMARTPHONES'!A:C,3,0)","v":{"$error":"#N/A"}},{"$f":"IFERROR((VLOOKUP(C890,'Baréme Relax'!B:D,3,0)),0)","v":0}]
["RIGRAIET","2 août 2017","POSA2","ADSL HOME","1","178,600","0","0,000",1,"178,600","ADSL",{"$f":"VLOOKUP(D891,'CATALOGUE SMARTPHONES'!A:C,3,0)","v":{"$error":"#N/A"}},{"$f":"IFERROR((VLOOKUP(C891,'Baréme Relax'!B:D,3,0)),0)","v":0}]
["ABLOUNA","2 août 2017","PRE23","El Jam3ia Mobile","2","0,000","0","0,000",2,"0,000","Mobile",{"$f":"VLOOKUP(D892,'CATALOGUE SMARTPHONES'!A:C,3,0)","v":{"$error":"#N/A"}},{"$f":"IFERROR((VLOOKUP(C892,'Baréme Relax'!B:D,3,0)),0)","v":0}]
["ASLOGHM","2 août 2017","044004000010","Recharge Express","10","11,000","0","0,000",10,"11,000","Mobile",{"$f":"VLOOKUP(D893,'CATALOGUE SMARTPHONES'!A:C,3,0)","v":{"$error":"#N/A"}},{"$f":"IFERROR((VLOOKUP(C893,'Baréme Relax'!B:D,3,0)),0)","v":0}]
["ASLOGHM","2 août 2017","044004000010","Recharge Express","20","22,000","0","0,000",20,"22,000","Mobile",{"$f":"VLOOKUP(D894,'CATALOGUE SMARTPHONES'!A:C,3,0)","v":{"$error":"#N/A"}},{"$f":"IFERROR((VLOOKUP(C894,'Baréme Relax'!B:D,3,0)),0)","v":0}]
["ASLOGHM","2 août 2017","PRE03","offre Simply","3","0,000","0","0,000",3,"0,000","Mobile",{"$f":"VLOOKUP(D895,'CATALOGUE SMARTPHONES'!A:C,3,0)","v":{"$error":"#N/A"}},{"$f":"IFERROR((VLOOKUP(C895,'Baréme Relax'!B:D,3,0)),0)","v":0}]
["ABLOUNA","2 août 2017","044004000010","Recharge Express","20","22,000","0","0,000",20,"22,000","Mobile",{"$f":"VLOOKUP(D896,'CATALOGUE SMARTPHONES'!A:C,3,0)","v":{"$error":"#N/A"}},{"$f":"IFERROR((VLOOKUP(C896,'Baréme Relax'!B:D,3,0)),0)","v":0}]
["SIGHW","2 août 2017","P50759","Pack Clé 4G - Offre Pass - Bonus internet 5 Go- 2 mois","1","0,000","0","0,000",1,"0,000","Mobile",{"$f":"VLOOKUP(D897,'CATALOGUE SMARTPHONES'!A:C,3,0)","v":{"$error":"#N/A"}},{"$f":"IFERROR((VLOOKUP(C897,'Baréme Relax'!B:D,3,0)),0)","v":0}]
["RIGRAIET","2 août 2017","PRE21","Melle5er","1","0,000","0","0,000",1,"0,000","Mobile",{"$f":"VLOOKUP(D898,'CATALOGUE SMARTPHONES'!A:C,3,0)","v":{"$error":"#N/A"}},{"$f":"IFERROR((VLOOKUP(C898,'Baréme Relax'!B:D,3,0)),0)","v":0}]
["SIGHW","2 août 2017","PRE12","Boouj","1","0,000","0","0,000",1,"0,000","Mobile",{"$f":"VLOOKUP(D899,'CATALOGUE SMARTPHONES'!A:C,3,0)","v":{"$error":"#N/A"}},{"$f":"IFERROR((VLOOKUP(C899,'Baréme Relax'!B:D,3,0)),0)","v":0}]
["ASLOGHM","2 août 2017","POSA2","ADSL HOME","1","125,900","0","0,000",1,"125,900","ADSL",{"$f":"VLOOKUP(D900,'CATALOGUE SMARTPHONES'!A:C,3,0)","v":{"$error":"#N/A"}},{"$f":"IFERROR((VLOOKUP(C900,'Baréme Relax'!B:D,3,0)),0)","v":0}]
["SIGHW","2 août 2017","P53327","Pack  - offre Pass","3","0,000","0","0,000",3,"0,000","Mobile",{"$f":"VLOOKUP(D901,'CATALOGUE SMARTPHONES'!A:C,3,0)","v":{"$error":"#N/A"}},{"$f":"IFERROR((VLOOKUP(C901,'Baréme Relax'!B:D,3,0)),0)","v":0}]
["ASLOGHM","2 août 2017","044004000010","Recharge Express","60","66,000","0","0,000",60,"66,000","Mobile",{"$f":"VLOOKUP(D902,'CATALOGUE SMARTPHONES'!A:C,3,0)","v":{"$error":"#N/A"}},{"$f":"IFERROR((VLOOKUP(C902,'Baréme Relax'!B:D,3,0)),0)","v":0}]
["ASLOGHM","2 août 2017","043007000004","CARTE SIM 4G DATA MULTI SIM","1","14,000","0","0,000",1,"14,000","Mobile",{"$f":"VLOOKUP(D903,'CATALOGUE SMARTPHONES'!A:C,3,0)","v":{"$error":"#N/A"}},{"$f":"IFERROR((VLOOKUP(C903,'Baréme Relax'!B:D,3,0)),0)","v":0}]
["ASLOGHM","2 août 2017","046002000034","CLE 3G E3531","1","39,000","0","0,000",1,"39,000","Mobile",{"$f":"VLOOKUP(D904,'CATALOGUE SMARTPHONES'!A:C,3,0)","v":{"$error":"#N/A"}},{"$f":"IFERROR((VLOOKUP(C904,'Baréme Relax'!B:D,3,0)),0)","v":0}]
["SIGHW","2 août 2017","045022002001","ORANGE IT 2110","1","32,000","0","0,000",1,"32,000","Mobile",{"$f":"VLOOKUP(D905,'CATALOGUE SMARTPHONES'!A:C,3,0)","v":{"$error":"#N/A"}},{"$f":"IFERROR((VLOOKUP(C905,'Baréme Relax'!B:D,3,0)),0)","v":0}]
["ABLOUNA","2 août 2017","188003000016","Modem Huawei HG532","1","0,000","0","0,000",1,"0,000","ADSL",{"$f":"VLOOKUP(D906,'CATALOGUE SMARTPHONES'!A:C,3,0)","v":{"$error":"#N/A"}},{"$f":"IFERROR((VLOOKUP(C906,'Baréme Relax'!B:D,3,0)),0)","v":0}]
["ASLOGHM","2 août 2017","046002000060","DOMINO E5220 WHITE","1","45,000","0","0,000",1,"45,000","Mobile",{"$f":"VLOOKUP(D907,'CATALOGUE SMARTPHONES'!A:C,3,0)","v":{"$error":"#N/A"}},{"$f":"IFERROR((VLOOKUP(C907,'Baréme Relax'!B:D,3,0)),0)","v":0}]
["ABLOUNA","2 août 2017","043007000004","CARTE SIM 4G DATA MULTI SIM","1","0,000","0","0,000",1,"0,000","Mobile",{"$f":"VLOOKUP(D908,'CATALOGUE SMARTPHONES'!A:C,3,0)","v":{"$error":"#N/A"}},{"$f":"IFERROR((VLOOKUP(C908,'Baréme Relax'!B:D,3,0)),0)","v":0}]
["RIGRAIET","2 août 2017","188003000016","Modem Huawei HG532","1","0,000","0","0,000",1,"0,000","ADSL",{"$f":"VLOOKUP(D909,'CATALOGUE SMARTPHONES'!A:C,3,0)","v":{"$error":"#N/A"}},{"$f":"IFERROR((VLOOKUP(C909,'Baréme Relax'!B:D,3,0)),0)","v":0}]
["ABLOUNA","2 août 2017","043001000114","CARTE PREACTIVEE VD","2","6,000","0","0,000",2,"6,000","Mobile",{"$f":"VLOOKUP(D910,'CATALOGUE SMARTPHONES'!A:C,3,0)","v":{"$error":"#N/A"}},{"$f":"IFERROR((VLOOKUP(C910,'Baréme Relax'!B:D,3,0)),0)","v":0}]
["SIGHW","2 août 2017","046002000060","DOMINO E5220 WHITE","1","45,000","0","0,000",1,"45,000","Mobile",{"$f":"VLOOKUP(D911,'CATALOGUE SMARTPHONES'!A:C,3,0)","v":{"$error":"#N/A"}},{"$f":"IFERROR((VLOOKUP(C911,'Baréme Relax'!B:D,3,0)),0)","v":0}]
["ASLOGHM","2 août 2017","043006000003","CARTE SIM 4G PRE MULTI SIM","6","0,000","0","0,000",6,"0,000","Mobile",{"$f":"VLOOKUP(D912,'CATALOGUE SMARTPHONES'!A:C,3,0)","v":{"$error":"#N/A"}},{"$f":"IFERROR((VLOOKUP(C912,'Baréme Relax'!B:D,3,0)),0)","v":0}]
["ASLOGHM","2 août 2017","043007000004","CARTE SIM 4G DATA MULTI SIM","2","0,000","0","0,000",2,"0,000","Mobile",{"$f":"VLOOKUP(D913,'CATALOGUE SMARTPHONES'!A:C,3,0)","v":{"$error":"#N/A"}},{"$f":"IFERROR((VLOOKUP(C913,'Baréme Relax'!B:D,3,0)),0)","v":0}]
["SIGHW","2 août 2017","043007000004","CARTE SIM 4G DATA MULTI SIM","1","40,000","0","0,000",1,"40,000","Mobile",{"$f":"VLOOKUP(D914,'CATALOGUE SMARTPHONES'!A:C,3,0)","v":{"$error":"#N/A"}},{"$f":"IFERROR((VLOOKUP(C914,'Baréme Relax'!B:D,3,0)),0)","v":0}]
["ASLOGHM","2 août 2017","043007000004","CARTE SIM 4G DATA MULTI SIM","2","10,000","0","0,000",2,"10,000","Mobile",{"$f":"VLOOKUP(D915,'CATALOGUE SMARTPHONES'!A:C,3,0)","v":{"$error":"#N/A"}},{"$f":"IFERROR((VLOOKUP(C915,'Baréme Relax'!B:D,3,0)),0)","v":0}]
["RIGRAIET","2 août 2017","043006000003","CARTE SIM 4G PRE MULTI SIM","1","3,000","0","0,000",1,"3,000","Mobile",{"$f":"VLOOKUP(D916,'CATALOGUE SMARTPHONES'!A:C,3,0)","v":{"$error":"#N/A"}},{"$f":"IFERROR((VLOOKUP(C916,'Baréme Relax'!B:D,3,0)),0)","v":0}]
["ASLOGHM","2 août 2017","047006000161","Orange Wifi dock","1","0,000","0","0,000",1,"0,000","Mobile",{"$f":"VLOOKUP(D917,'CATALOGUE SMARTPHONES'!A:C,3,0)","v":{"$error":"#N/A"}},{"$f":"IFERROR((VLOOKUP(C917,'Baréme Relax'!B:D,3,0)),0)","v":0}]
["SIGHW","2 août 2017","043007000004","CARTE SIM 4G DATA MULTI SIM","3","15,000","0","0,000",3,"15,000","Mobile",{"$f":"VLOOKUP(D918,'CATALOGUE SMARTPHONES'!A:C,3,0)","v":{"$error":"#N/A"}},{"$f":"IFERROR((VLOOKUP(C918,'Baréme Relax'!B:D,3,0)),0)","v":0}]
["ASLOGHM","2 août 2017","188003000016","Modem Huawei HG532","1","0,000","0","0,000",1,"0,000","ADSL",{"$f":"VLOOKUP(D919,'CATALOGUE SMARTPHONES'!A:C,3,0)","v":{"$error":"#N/A"}},{"$f":"IFERROR((VLOOKUP(C919,'Baréme Relax'!B:D,3,0)),0)","v":0}]
["ABLOUNA","2 août 2017","046002000034","CLE 3G E3531","1","39,000","0","0,000",1,"39,000","Mobile",{"$f":"VLOOKUP(D920,'CATALOGUE SMARTPHONES'!A:C,3,0)","v":{"$error":"#N/A"}},{"$f":"IFERROR((VLOOKUP(C920,'Baréme Relax'!B:D,3,0)),0)","v":0}]
["SIGHW","2 août 2017","043006000003","CARTE SIM 4G PRE MULTI SIM","6","0,000","0","0,000",6,"0,000","Mobile",{"$f":"VLOOKUP(D921,'CATALOGUE SMARTPHONES'!A:C,3,0)","v":{"$error":"#N/A"}},{"$f":"IFERROR((VLOOKUP(C921,'Baréme Relax'!B:D,3,0)),0)","v":0}]
["RIGRAIET","2 août 2017","043006000003","CARTE SIM 4G PRE MULTI SIM","4","0,000","0","0,000",4,"0,000","Mobile",{"$f":"VLOOKUP(D922,'CATALOGUE SMARTPHONES'!A:C,3,0)","v":{"$error":"#N/A"}},{"$f":"IFERROR((VLOOKUP(C922,'Baréme Relax'!B:D,3,0)),0)","v":0}]
["ABLOUNA","2 août 2017","043007000004","CARTE SIM 4G DATA MULTI SIM","3","90,000","0","0,000",3,"90,000","Mobile",{"$f":"VLOOKUP(D923,'CATALOGUE SMARTPHONES'!A:C,3,0)","v":{"$error":"#N/A"}},{"$f":"IFERROR((VLOOKUP(C923,'Baréme Relax'!B:D,3,0)),0)","v":0}]
["ABLOUNA","2 août 2017","043006000003","CARTE SIM 4G PRE MULTI SIM","4","12,000","0","0,000",4,"12,000","Mobile",{"$f":"VLOOKUP(D924,'CATALOGUE SMARTPHONES'!A:C,3,0)","v":{"$error":"#N/A"}},{"$f":"IFERROR((VLOOKUP(C924,'Baréme Relax'!B:D,3,0)),0)","v":0}]
["ASLOGHM","2 août 2017","043007000004","CARTE SIM 4G DATA MULTI SIM","1","30,000","0","0,000",1,"30,000","Mobile",{"$f":"VLOOKUP(D925,'CATALOGUE SMARTPHONES'!A:C,3,0)","v":{"$error":"#N/A"}},{"$f":"IFERROR((VLOOKUP(C925,'Baréme Relax'!B:D,3,0)),0)","v":0}]
["SIGHW","2 août 2017","043007000004","CARTE SIM 4G DATA MULTI SIM","1","0,000","0","0,000",1,"0,000","Mobile",{"$f":"VLOOKUP(D926,'CATALOGUE SMARTPHONES'!A:C,3,0)","v":{"$error":"#N/A"}},{"$f":"IFERROR((VLOOKUP(C926,'Baréme Relax'!B:D,3,0)),0)","v":0}]
["ABLOUNA","2 août 2017","047006000161","Orange Wifi dock","1","0,000","0","0,000",1,"0,000","Mobile",{"$f":"VLOOKUP(D927,'CATALOGUE SMARTPHONES'!A:C,3,0)","v":{"$error":"#N/A"}},{"$f":"IFERROR((VLOOKUP(C927,'Baréme Relax'!B:D,3,0)),0)","v":0}]
["SIGHW","2 août 2017","043006000003","CARTE SIM 4G PRE MULTI SIM","2","6,000","0","0,000",2,"6,000","Mobile",{"$f":"VLOOKUP(D928,'CATALOGUE SMARTPHONES'!A:C,3,0)","v":{"$error":"#N/A"}},{"$f":"IFERROR((VLOOKUP(C928,'Baréme Relax'!B:D,3,0)),0)","v":0}]
["ASLOGHM","2 août 2017","043006000003","CARTE SIM 4G PRE MULTI SIM","1","3,000","0","0,000",1,"3,000","Mobile",{"$f":"VLOOKUP(D929,'CATALOGUE SMARTPHONES'!A:C,3,0)","v":{"$error":"#N/A"}},{"$f":"IFERROR((VLOOKUP(C929,'Baréme Relax'!B:D,3,0)),0)","v":0}]
["ABLOUNA","2 août 2017","043006000003","CARTE SIM 4G PRE MULTI SIM","1","0,000","0","0,000",1,"0,000","Mobile",{"$f":"VLOOKUP(D930,'CATALOGUE SMARTPHONES'!A:C,3,0)","v":{"$error":"#N/A"}},{"$f":"IFERROR((VLOOKUP(C930,'Baréme Relax'!B:D,3,0)),0)","v":0}]
["SIGHW","2 août 2017","043006000003","CARTE SIM 4G PRE MULTI SIM","1","5,000","0","0,000",1,"5,000","Mobile",{"$f":"VLOOKUP(D931,'CATALOGUE SMARTPHONES'!A:C,3,0)","v":{"$error":"#N/A"}},{"$f":"IFERROR((VLOOKUP(C931,'Baréme Relax'!B:D,3,0)),0)","v":0}]
["ASLOGHM","2 août 2017","046002000034","CLE 3G E3531","1","0,000","0","0,000",1,"0,000","Mobile",{"$f":"VLOOKUP(D932,'CATALOGUE SMARTPHONES'!A:C,3,0)","v":{"$error":"#N/A"}},{"$f":"IFERROR((VLOOKUP(C932,'Baréme Relax'!B:D,3,0)),0)","v":0}]
["ASLOGHM","2 août 2017","043006000003","CARTE SIM 4G PRE MULTI SIM","2","10,000","0","0,000",2,"10,000","Mobile",{"$f":"VLOOKUP(D933,'CATALOGUE SMARTPHONES'!A:C,3,0)","v":{"$error":"#N/A"}},{"$f":"IFERROR((VLOOKUP(C933,'Baréme Relax'!B:D,3,0)),0)","v":0}]
["SIGHW","2 août 2017","046002000041","CLE 4G E3372H","1","0,000","0","0,000",1,"0,000","Mobile",{"$f":"VLOOKUP(D934,'CATALOGUE SMARTPHONES'!A:C,3,0)","v":{"$error":"#N/A"}},{"$f":"IFERROR((VLOOKUP(C934,'Baréme Relax'!B:D,3,0)),0)","v":0}]
["SIGHW","1 août 2017","044004000010","Recharge Express","36","39,600","0","0,000",36,"39,600","Mobile",{"$f":"VLOOKUP(D935,'CATALOGUE SMARTPHONES'!A:C,3,0)","v":{"$error":"#N/A"}},{"$f":"IFERROR((VLOOKUP(C935,'Baréme Relax'!B:D,3,0)),0)","v":0}]
["ABLOUNA","1 août 2017","PRE03","offre Simply","1","0,000","0","0,000",1,"0,000","Mobile",{"$f":"VLOOKUP(D936,'CATALOGUE SMARTPHONES'!A:C,3,0)","v":{"$error":"#N/A"}},{"$f":"IFERROR((VLOOKUP(C936,'Baréme Relax'!B:D,3,0)),0)","v":0}]
["ASLOGHM","1 août 2017","PRE03","offre Simply","1","0,000","0","0,000",1,"0,000","Mobile",{"$f":"VLOOKUP(D937,'CATALOGUE SMARTPHONES'!A:C,3,0)","v":{"$error":"#N/A"}},{"$f":"IFERROR((VLOOKUP(C937,'Baréme Relax'!B:D,3,0)),0)","v":0}]
["SIGHW","1 août 2017","044004000010","Recharge Express","35","38,500","0","0,000",35,"38,500","Mobile",{"$f":"VLOOKUP(D938,'CATALOGUE SMARTPHONES'!A:C,3,0)","v":{"$error":"#N/A"}},{"$f":"IFERROR((VLOOKUP(C938,'Baréme Relax'!B:D,3,0)),0)","v":0}]
["ABLOUNA","1 août 2017","044004000010","Recharge Express","20","22,000","0","0,000",20,"22,000","Mobile",{"$f":"VLOOKUP(D939,'CATALOGUE SMARTPHONES'!A:C,3,0)","v":{"$error":"#N/A"}},{"$f":"IFERROR((VLOOKUP(C939,'Baréme Relax'!B:D,3,0)),0)","v":0}]
["ABLOUNA","1 août 2017","PRE17","3alami","1","0,000","0","0,000",1,"0,000","Mobile",{"$f":"VLOOKUP(D940,'CATALOGUE SMARTPHONES'!A:C,3,0)","v":{"$error":"#N/A"}},{"$f":"IFERROR((VLOOKUP(C940,'Baréme Relax'!B:D,3,0)),0)","v":0}]
["RIGRAIET","1 août 2017","044004000010","Recharge Express","2","2,200","0","0,000",2,"2,200","Mobile",{"$f":"VLOOKUP(D941,'CATALOGUE SMARTPHONES'!A:C,3,0)","v":{"$error":"#N/A"}},{"$f":"IFERROR((VLOOKUP(C941,'Baréme Relax'!B:D,3,0)),0)","v":0}]
["SIGHW","1 août 2017","PRE03","offre Simply","4","0,000","0","0,000",4,"0,000","Mobile",{"$f":"VLOOKUP(D942,'CATALOGUE SMARTPHONES'!A:C,3,0)","v":{"$error":"#N/A"}},{"$f":"IFERROR((VLOOKUP(C942,'Baréme Relax'!B:D,3,0)),0)","v":0}]
["SIGHW","1 août 2017","PRE10","offre Pass","3","0,000","0","0,000",3,"0,000","Mobile",{"$f":"VLOOKUP(D943,'CATALOGUE SMARTPHONES'!A:C,3,0)","v":{"$error":"#N/A"}},{"$f":"IFERROR((VLOOKUP(C943,'Baréme Relax'!B:D,3,0)),0)","v":0}]
["RIGRAIET","1 août 2017","044004000010","Recharge Express","3","3,300","0","0,000",3,"3,300","Mobile",{"$f":"VLOOKUP(D944,'CATALOGUE SMARTPHONES'!A:C,3,0)","v":{"$error":"#N/A"}},{"$f":"IFERROR((VLOOKUP(C944,'Baréme Relax'!B:D,3,0)),0)","v":0}]
["SIGHW","1 août 2017","PRE23","El Jam3ia Mobile","3","0,000","0","0,000",3,"0,000","Mobile",{"$f":"VLOOKUP(D945,'CATALOGUE SMARTPHONES'!A:C,3,0)","v":{"$error":"#N/A"}},{"$f":"IFERROR((VLOOKUP(C945,'Baréme Relax'!B:D,3,0)),0)","v":0}]
["RIGRAIET","1 août 2017","PRE23","El Jam3ia Mobile","1","0,000","0","0,000",1,"0,000","Mobile",{"$f":"VLOOKUP(D946,'CATALOGUE SMARTPHONES'!A:C,3,0)","v":{"$error":"#N/A"}},{"$f":"IFERROR((VLOOKUP(C946,'Baréme Relax'!B:D,3,0)),0)","v":0}]
["SIGHW","1 août 2017","044004000010","Recharge Express","1","1,100","0","0,000",1,"1,100","Mobile",{"$f":"VLOOKUP(D947,'CATALOGUE SMARTPHONES'!A:C,3,0)","v":{"$error":"#N/A"}},{"$f":"IFERROR((VLOOKUP(C947,'Baréme Relax'!B:D,3,0)),0)","v":0}]
["RIGRAIET","1 août 2017","P50759","Pack Clé 4G - Offre Pass - Bonus internet 5 Go- 2 mois","1","0,000","0","0,000",1,"0,000","Mobile",{"$f":"VLOOKUP(D948,'CATALOGUE SMARTPHONES'!A:C,3,0)","v":{"$error":"#N/A"}},{"$f":"IFERROR((VLOOKUP(C948,'Baréme Relax'!B:D,3,0)),0)","v":0}]
["ABLOUNA","1 août 2017","044004000010","Recharge Express","2","2,200","0","0,000",2,"2,200","Mobile",{"$f":"VLOOKUP(D949,'CATALOGUE SMARTPHONES'!A:C,3,0)","v":{"$error":"#N/A"}},{"$f":"IFERROR((VLOOKUP(C949,'Baréme Relax'!B:D,3,0)),0)","v":0}]
["ABLOUNA","1 août 2017","PRE23","El Jam3ia Mobile","3","0,000","0","0,000",3,"0,000","Mobile",{"$f":"VLOOKUP(D950,'CATALOGUE SMARTPHONES'!A:C,3,0)","v":{"$error":"#N/A"}},{"$f":"IFERROR((VLOOKUP(C950,'Baréme Relax'!B:D,3,0)),0)","v":0}]
["ASLOGHM","1 août 2017","P61376"," Pack ORANGE IT 2110 - Melle5er","1","0,000","0","0,000",1,"0,000","Mobile",{"$f":"VLOOKUP(D951,'CATALOGUE SMARTPHONES'!A:C,3,0)","v":{"$error":"#N/A"}},{"$f":"IFERROR((VLOOKUP(C951,'Baréme Relax'!B:D,3,0)),0)","v":0}]
["SIGHW","1 août 2017","044004000010","Recharge Express","60","66,000","0","0,000",60,"66,000","Mobile",{"$f":"VLOOKUP(D952,'CATALOGUE SMARTPHONES'!A:C,3,0)","v":{"$error":"#N/A"}},{"$f":"IFERROR((VLOOKUP(C952,'Baréme Relax'!B:D,3,0)),0)","v":0}]
["RIGRAIET","1 août 2017","PRE10","offre Pass","2","0,000","0","0,000",2,"0,000","Mobile",{"$f":"VLOOKUP(D953,'CATALOGUE SMARTPHONES'!A:C,3,0)","v":{"$error":"#N/A"}},{"$f":"IFERROR((VLOOKUP(C953,'Baréme Relax'!B:D,3,0)),0)","v":0}]
["ABLOUNA","1 août 2017","P61590"," Pack DOMINO E5220 WHITE - offre Simply 7,5Go + bonus 17,5Go","1","0,000","0","0,000",1,"0,000","Mobile",{"$f":"VLOOKUP(D954,'CATALOGUE SMARTPHONES'!A:C,3,0)","v":{"$error":"#N/A"}},{"$f":"IFERROR((VLOOKUP(C954,'Baréme Relax'!B:D,3,0)),0)","v":0}]
["SIGHW","1 août 2017","PRE21","Melle5er","6","0,000","0","0,000",6,"0,000","Mobile",{"$f":"VLOOKUP(D955,'CATALOGUE SMARTPHONES'!A:C,3,0)","v":{"$error":"#N/A"}},{"$f":"IFERROR((VLOOKUP(C955,'Baréme Relax'!B:D,3,0)),0)","v":0}]
["SIGHW","1 août 2017","P53327","Pack  - offre Pass","3","0,000","0","0,000",3,"0,000","Mobile",{"$f":"VLOOKUP(D956,'CATALOGUE SMARTPHONES'!A:C,3,0)","v":{"$error":"#N/A"}},{"$f":"IFERROR((VLOOKUP(C956,'Baréme Relax'!B:D,3,0)),0)","v":0}]
["RIGRAIET","1 août 2017","PRE03","offre Simply","2","0,000","0","0,000",2,"0,000","Mobile",{"$f":"VLOOKUP(D957,'CATALOGUE SMARTPHONES'!A:C,3,0)","v":{"$error":"#N/A"}},{"$f":"IFERROR((VLOOKUP(C957,'Baréme Relax'!B:D,3,0)),0)","v":0}]
["ASLOGHM","1 août 2017","044004000010","Recharge Express","2","2,200","0","0,000",2,"2,200","Mobile",{"$f":"VLOOKUP(D958,'CATALOGUE SMARTPHONES'!A:C,3,0)","v":{"$error":"#N/A"}},{"$f":"IFERROR((VLOOKUP(C958,'Baréme Relax'!B:D,3,0)),0)","v":0}]
["RIGRAIET","1 août 2017","044004000010","Recharge Express","30","33,000","0","0,000",30,"33,000","Mobile",{"$f":"VLOOKUP(D959,'CATALOGUE SMARTPHONES'!A:C,3,0)","v":{"$error":"#N/A"}},{"$f":"IFERROR((VLOOKUP(C959,'Baréme Relax'!B:D,3,0)),0)","v":0}]
["SIGHW","1 août 2017","HYB01","forfait mix 15","1","0,000","0","0,000",1,"0,000","Mobile",{"$f":"VLOOKUP(D960,'CATALOGUE SMARTPHONES'!A:C,3,0)","v":{"$error":"#N/A"}},{"$f":"IFERROR((VLOOKUP(C960,'Baréme Relax'!B:D,3,0)),0)","v":0}]
["ABLOUNA","1 août 2017","HYB12","Forfait clé 3G Intense","1","0,000","0","0,000",1,"0,000","Mobile",{"$f":"VLOOKUP(D961,'CATALOGUE SMARTPHONES'!A:C,3,0)","v":{"$error":"#N/A"}},{"$f":"IFERROR((VLOOKUP(C961,'Baréme Relax'!B:D,3,0)),0)","v":0}]
["ABLOUNA","1 août 2017","P61337"," Pack Pro  AIRBOX 4G MW40 - Forfait cl?? 3G Intense - 24 mois ","1","0,000","0","0,000",1,"0,000","Mobile",{"$f":"VLOOKUP(D962,'CATALOGUE SMARTPHONES'!A:C,3,0)","v":{"$error":"#N/A"}},{"$f":"IFERROR((VLOOKUP(C962,'Baréme Relax'!B:D,3,0)),0)","v":0}]
["ABLOUNA","1 août 2017","P50371"," Pack FLYBOX B310 - FLYBOX B310-CARTE SIM 4G FLYBOX-Flybox home - 24 mois ","1","0,000","0","0,000",1,"0,000","Mobile",{"$f":"VLOOKUP(D963,'CATALOGUE SMARTPHONES'!A:C,3,0)","v":{"$error":"#N/A"}},{"$f":"IFERROR((VLOOKUP(C963,'Baréme Relax'!B:D,3,0)),0)","v":0}]
["ASLOGHM","1 août 2017","P61590"," Pack DOMINO E5220 WHITE - offre Simply 7,5Go + bonus 17,5Go","1","0,000","0","0,000",1,"0,000","Mobile",{"$f":"VLOOKUP(D964,'CATALOGUE SMARTPHONES'!A:C,3,0)","v":{"$error":"#N/A"}},{"$f":"IFERROR((VLOOKUP(C964,'Baréme Relax'!B:D,3,0)),0)","v":0}]
["RIGRAIET","1 août 2017","POSA2","ADSL HOME","1","107,300","0","0,000",1,"107,300","ADSL",{"$f":"VLOOKUP(D965,'CATALOGUE SMARTPHONES'!A:C,3,0)","v":{"$error":"#N/A"}},{"$f":"IFERROR((VLOOKUP(C965,'Baréme Relax'!B:D,3,0)),0)","v":0}]
["ASLOGHM","1 août 2017","044004000010","Recharge Express","20","22,000","0","0,000",20,"22,000","Mobile",{"$f":"VLOOKUP(D966,'CATALOGUE SMARTPHONES'!A:C,3,0)","v":{"$error":"#N/A"}},{"$f":"IFERROR((VLOOKUP(C966,'Baréme Relax'!B:D,3,0)),0)","v":0}]
["ASLOGHM","1 août 2017","PRE13","Edawa5","3","0,000","0","0,000",3,"0,000","Mobile",{"$f":"VLOOKUP(D967,'CATALOGUE SMARTPHONES'!A:C,3,0)","v":{"$error":"#N/A"}},{"$f":"IFERROR((VLOOKUP(C967,'Baréme Relax'!B:D,3,0)),0)","v":0}]
["ABLOUNA","1 août 2017","PRE21","Melle5er","3","0,000","0","0,000",3,"0,000","Mobile",{"$f":"VLOOKUP(D968,'CATALOGUE SMARTPHONES'!A:C,3,0)","v":{"$error":"#N/A"}},{"$f":"IFERROR((VLOOKUP(C968,'Baréme Relax'!B:D,3,0)),0)","v":0}]
["SIGHW","1 août 2017","999100001003","SERVICE TRANSFERT CONTACT","2","6,000","0","0,000",2,"6,000","Mobile",{"$f":"VLOOKUP(D969,'CATALOGUE SMARTPHONES'!A:C,3,0)","v":{"$error":"#N/A"}},{"$f":"IFERROR((VLOOKUP(C969,'Baréme Relax'!B:D,3,0)),0)","v":"2"}]
["SIGHW","1 août 2017","P61147"," Pack AIRBOX 4G MW40 - offre Simply - bonus internet 7,5Go + illimit?? ","1","0,000","0","0,000",1,"0,000","Mobile",{"$f":"VLOOKUP(D970,'CATALOGUE SMARTPHONES'!A:C,3,0)","v":{"$error":"#N/A"}},{"$f":"IFERROR((VLOOKUP(C970,'Baréme Relax'!B:D,3,0)),0)","v":0}]
["ASLOGHM","1 août 2017","PRE21","Melle5er","2","0,000","0","0,000",2,"0,000","Mobile",{"$f":"VLOOKUP(D971,'CATALOGUE SMARTPHONES'!A:C,3,0)","v":{"$error":"#N/A"}},{"$f":"IFERROR((VLOOKUP(C971,'Baréme Relax'!B:D,3,0)),0)","v":0}]
["SIGHW","1 août 2017","044004000010","Recharge Express","20","22,000","0","0,000",20,"22,000","Mobile",{"$f":"VLOOKUP(D972,'CATALOGUE SMARTPHONES'!A:C,3,0)","v":{"$error":"#N/A"}},{"$f":"IFERROR((VLOOKUP(C972,'Baréme Relax'!B:D,3,0)),0)","v":0}]
["ABLOUNA","1 août 2017","044004000010","Recharge Express","4","4,400","0","0,000",4,"4,400","Mobile",{"$f":"VLOOKUP(D973,'CATALOGUE SMARTPHONES'!A:C,3,0)","v":{"$error":"#N/A"}},{"$f":"IFERROR((VLOOKUP(C973,'Baréme Relax'!B:D,3,0)),0)","v":0}]
["ABLOUNA","1 août 2017","044004000010","Recharge Express","20","22,000","0","0,000",20,"22,000","Mobile",{"$f":"VLOOKUP(D974,'CATALOGUE SMARTPHONES'!A:C,3,0)","v":{"$error":"#N/A"}},{"$f":"IFERROR((VLOOKUP(C974,'Baréme Relax'!B:D,3,0)),0)","v":0}]
["RIGRAIET","1 août 2017","044004000010","Recharge Express","12","13,200","0","0,000",12,"13,200","Mobile",{"$f":"VLOOKUP(D975,'CATALOGUE SMARTPHONES'!A:C,3,0)","v":{"$error":"#N/A"}},{"$f":"IFERROR((VLOOKUP(C975,'Baréme Relax'!B:D,3,0)),0)","v":0}]
["SIGHW","1 août 2017","P61590"," Pack DOMINO E5220 WHITE - offre Simply 7,5Go + bonus 17,5Go","2","0,000","0","0,000",2,"0,000","Mobile",{"$f":"VLOOKUP(D976,'CATALOGUE SMARTPHONES'!A:C,3,0)","v":{"$error":"#N/A"}},{"$f":"IFERROR((VLOOKUP(C976,'Baréme Relax'!B:D,3,0)),0)","v":0}]
["RIGRAIET","1 août 2017","999100001003","SERVICE TRANSFERT CONTACT","3","9,000","0","0,000",3,"9,000","Mobile",{"$f":"VLOOKUP(D977,'CATALOGUE SMARTPHONES'!A:C,3,0)","v":{"$error":"#N/A"}},{"$f":"IFERROR((VLOOKUP(C977,'Baréme Relax'!B:D,3,0)),0)","v":"2"}]
["SIGHW","1 août 2017","PRE13","Edawa5","2","0,000","0","0,000",2,"0,000","Mobile",{"$f":"VLOOKUP(D978,'CATALOGUE SMARTPHONES'!A:C,3,0)","v":{"$error":"#N/A"}},{"$f":"IFERROR((VLOOKUP(C978,'Baréme Relax'!B:D,3,0)),0)","v":0}]
["ABLOUNA","1 août 2017","PRE10","offre Pass","1","0,000","0","0,000",1,"0,000","Mobile",{"$f":"VLOOKUP(D979,'CATALOGUE SMARTPHONES'!A:C,3,0)","v":{"$error":"#N/A"}},{"$f":"IFERROR((VLOOKUP(C979,'Baréme Relax'!B:D,3,0)),0)","v":0}]
["RIGRAIET","1 août 2017","PRE21","Melle5er","3","0,000","0","0,000",3,"0,000","Mobile",{"$f":"VLOOKUP(D980,'CATALOGUE SMARTPHONES'!A:C,3,0)","v":{"$error":"#N/A"}},{"$f":"IFERROR((VLOOKUP(C980,'Baréme Relax'!B:D,3,0)),0)","v":0}]
["SIGHW","1 août 2017","P62599"," Pack Cle 3G E3531 + Orange Wifi dock - offre Simply 25 Go","1","0,000","0","0,000",1,"0,000","Mobile",{"$f":"VLOOKUP(D981,'CATALOGUE SMARTPHONES'!A:C,3,0)","v":{"$error":"#N/A"}},{"$f":"IFERROR((VLOOKUP(C981,'Baréme Relax'!B:D,3,0)),0)","v":0}]
["ABLOUNA","1 août 2017","044004000010","Recharge Express","30","33,000","0","0,000",30,"33,000","Mobile",{"$f":"VLOOKUP(D982,'CATALOGUE SMARTPHONES'!A:C,3,0)","v":{"$error":"#N/A"}},{"$f":"IFERROR((VLOOKUP(C982,'Baréme Relax'!B:D,3,0)),0)","v":0}]
["SIGHW","1 août 2017","PRE17","3alami","1","0,000","0","0,000",1,"0,000","Mobile",{"$f":"VLOOKUP(D983,'CATALOGUE SMARTPHONES'!A:C,3,0)","v":{"$error":"#N/A"}},{"$f":"IFERROR((VLOOKUP(C983,'Baréme Relax'!B:D,3,0)),0)","v":0}]
["RIGRAIET","1 août 2017","044004000010","Recharge Express","10","11,000","0","0,000",10,"11,000","Mobile",{"$f":"VLOOKUP(D984,'CATALOGUE SMARTPHONES'!A:C,3,0)","v":{"$error":"#N/A"}},{"$f":"IFERROR((VLOOKUP(C984,'Baréme Relax'!B:D,3,0)),0)","v":0}]
["RIGRAIET","1 août 2017","P61590"," Pack DOMINO E5220 WHITE - offre Simply 7,5Go + bonus 17,5Go","2","0,000","0","0,000",2,"0,000","Mobile",{"$f":"VLOOKUP(D985,'CATALOGUE SMARTPHONES'!A:C,3,0)","v":{"$error":"#N/A"}},{"$f":"IFERROR((VLOOKUP(C985,'Baréme Relax'!B:D,3,0)),0)","v":0}]
["RIGRAIET","1 août 2017","044004000010","Recharge Express","2","2,200","0","0,000",2,"2,200","Mobile",{"$f":"VLOOKUP(D986,'CATALOGUE SMARTPHONES'!A:C,3,0)","v":{"$error":"#N/A"}},{"$f":"IFERROR((VLOOKUP(C986,'Baréme Relax'!B:D,3,0)),0)","v":0}]
["ABLOUNA","1 août 2017","P50759","Pack Clé 4G - Offre Pass - Bonus internet 5 Go- 2 mois","1","0,000","0","0,000",1,"0,000","Mobile",{"$f":"VLOOKUP(D987,'CATALOGUE SMARTPHONES'!A:C,3,0)","v":{"$error":"#N/A"}},{"$f":"IFERROR((VLOOKUP(C987,'Baréme Relax'!B:D,3,0)),0)","v":0}]
["RIGRAIET","1 août 2017","P53327","Pack  - offre Pass","1","0,000","0","0,000",1,"0,000","Mobile",{"$f":"VLOOKUP(D988,'CATALOGUE SMARTPHONES'!A:C,3,0)","v":{"$error":"#N/A"}},{"$f":"IFERROR((VLOOKUP(C988,'Baréme Relax'!B:D,3,0)),0)","v":0}]
["ABLOUNA","1 août 2017","044004000010","Recharge Express","30","33,000","0","0,000",30,"33,000","Mobile",{"$f":"VLOOKUP(D989,'CATALOGUE SMARTPHONES'!A:C,3,0)","v":{"$error":"#N/A"}},{"$f":"IFERROR((VLOOKUP(C989,'Baréme Relax'!B:D,3,0)),0)","v":0}]
["ABLOUNA","1 août 2017","HYB13","Flybox home","1","0,000","0","0,000",1,"0,000","Mobile",{"$f":"VLOOKUP(D990,'CATALOGUE SMARTPHONES'!A:C,3,0)","v":{"$error":"#N/A"}},{"$f":"IFERROR((VLOOKUP(C990,'Baréme Relax'!B:D,3,0)),0)","v":0}]
["SIGHW","1 août 2017","P4048","Pack Réengagement - forfait mix 15 - injection 1 Go - 12 mois","1","0,000","0","0,000",1,"0,000","Mobile",{"$f":"VLOOKUP(D991,'CATALOGUE SMARTPHONES'!A:C,3,0)","v":{"$error":"#N/A"}},{"$f":"IFERROR((VLOOKUP(C991,'Baréme Relax'!B:D,3,0)),0)","v":0}]
["ASLOGHM","1 août 2017","043007000004","CARTE SIM 4G DATA MULTI SIM","1","0,000","0","0,000",1,"0,000","Mobile",{"$f":"VLOOKUP(D992,'CATALOGUE SMARTPHONES'!A:C,3,0)","v":{"$error":"#N/A"}},{"$f":"IFERROR((VLOOKUP(C992,'Baréme Relax'!B:D,3,0)),0)","v":0}]
["ABLOUNA","1 août 2017","046002000041","CLE 4G E3372H","1","0,000","0","0,000",1,"0,000","Mobile",{"$f":"VLOOKUP(D993,'CATALOGUE SMARTPHONES'!A:C,3,0)","v":{"$error":"#N/A"}},{"$f":"IFERROR((VLOOKUP(C993,'Baréme Relax'!B:D,3,0)),0)","v":0}]
["ASLOGHM","1 août 2017","045022002001","ORANGE IT 2110","1","32,000","0","0,000",1,"32,000","Mobile",{"$f":"VLOOKUP(D994,'CATALOGUE SMARTPHONES'!A:C,3,0)","v":{"$error":"#N/A"}},{"$f":"IFERROR((VLOOKUP(C994,'Baréme Relax'!B:D,3,0)),0)","v":0}]
["ABLOUNA","1 août 2017","085001000011","FLYBOX B310","1","0,000","0","0,000",1,"0,000","Mobile",{"$f":"VLOOKUP(D995,'CATALOGUE SMARTPHONES'!A:C,3,0)","v":{"$error":"#N/A"}},{"$f":"IFERROR((VLOOKUP(C995,'Baréme Relax'!B:D,3,0)),0)","v":0}]
["SIGHW","1 août 2017","043007000004","CARTE SIM 4G DATA MULTI SIM","4","0,000","0","0,000",4,"0,000","Mobile",{"$f":"VLOOKUP(D996,'CATALOGUE SMARTPHONES'!A:C,3,0)","v":{"$error":"#N/A"}},{"$f":"IFERROR((VLOOKUP(C996,'Baréme Relax'!B:D,3,0)),0)","v":0}]
["ASLOGHM","1 août 2017","043006000003","CARTE SIM 4G PRE MULTI SIM","4","12,000","0","0,000",4,"12,000","Mobile",{"$f":"VLOOKUP(D997,'CATALOGUE SMARTPHONES'!A:C,3,0)","v":{"$error":"#N/A"}},{"$f":"IFERROR((VLOOKUP(C997,'Baréme Relax'!B:D,3,0)),0)","v":0}]
["ABLOUNA","1 août 2017","046002000060","DOMINO E5220 WHITE","1","45,000","0","0,000",1,"45,000","Mobile",{"$f":"VLOOKUP(D998,'CATALOGUE SMARTPHONES'!A:C,3,0)","v":{"$error":"#N/A"}},{"$f":"IFERROR((VLOOKUP(C998,'Baréme Relax'!B:D,3,0)),0)","v":0}]
["ABLOUNA","1 août 2017","043007000004","CARTE SIM 4G DATA MULTI SIM","2","0,000","0","0,000",2,"0,000","Mobile",{"$f":"VLOOKUP(D999,'CATALOGUE SMARTPHONES'!A:C,3,0)","v":{"$error":"#N/A"}},{"$f":"IFERROR((VLOOKUP(C999,'Baréme Relax'!B:D,3,0)),0)","v":0}]
["RIGRAIET","1 août 2017","046002000041","CLE 4G E3372H","1","0,000","0","0,000",1,"0,000","Mobile",{"$f":"VLOOKUP(D1000,'CATALOGUE SMARTPHONES'!A:C,3,0)","v":{"$error":"#N/A"}},{"$f":"IFERROR((VLOOKUP(C1000,'Baréme Relax'!B:D,3,0)),0)","v":0}]
["RIGRAIET","1 août 2017","043001000114","CARTE PREACTIVEE VD","1","3,000","0","0,000",1,"3,000","Mobile",{"$f":"VLOOKUP(D1001,'CATALOGUE SMARTPHONES'!A:C,3,0)","v":{"$error":"#N/A"}},{"$f":"IFERROR((VLOOKUP(C1001,'Baréme Relax'!B:D,3,0)),0)","v":0}]
["ABLOUNA","1 août 2017","043006000003","CARTE SIM 4G PRE MULTI SIM","1","0,000","0","0,000",1,"0,000","Mobile",{"$f":"VLOOKUP(D1002,'CATALOGUE SMARTPHONES'!A:C,3,0)","v":{"$error":"#N/A"}},{"$f":"IFERROR((VLOOKUP(C1002,'Baréme Relax'!B:D,3,0)),0)","v":0}]
["SIGHW","1 août 2017","043002000005","CARTE SIM POSTPAYEE 2FF/3FF","1","0,000","0","0,000",1,"0,000","Mobile",{"$f":"VLOOKUP(D1003,'CATALOGUE SMARTPHONES'!A:C,3,0)","v":{"$error":"#N/A"}},{"$f":"IFERROR((VLOOKUP(C1003,'Baréme Relax'!B:D,3,0)),0)","v":0}]
["RIGRAIET","1 août 2017","188003000016","Modem Huawei HG532","1","0,000","0","0,000",1,"0,000","ADSL",{"$f":"VLOOKUP(D1004,'CATALOGUE SMARTPHONES'!A:C,3,0)","v":{"$error":"#N/A"}},{"$f":"IFERROR((VLOOKUP(C1004,'Baréme Relax'!B:D,3,0)),0)","v":0}]
["RIGRAIET","1 août 2017","043007000004","CARTE SIM 4G DATA MULTI SIM","1","40,000","0","0,000",1,"40,000","Mobile",{"$f":"VLOOKUP(D1005,'CATALOGUE SMARTPHONES'!A:C,3,0)","v":{"$error":"#N/A"}},{"$f":"IFERROR((VLOOKUP(C1005,'Baréme Relax'!B:D,3,0)),0)","v":0}]
["RIGRAIET","1 août 2017","043006000003","CARTE SIM 4G PRE MULTI SIM","7","0,000","0","0,000",7,"0,000","Mobile",{"$f":"VLOOKUP(D1006,'CATALOGUE SMARTPHONES'!A:C,3,0)","v":{"$error":"#N/A"}},{"$f":"IFERROR((VLOOKUP(C1006,'Baréme Relax'!B:D,3,0)),0)","v":0}]
["ASLOGHM","1 août 2017","043006000003","CARTE SIM 4G PRE MULTI SIM","2","0,000","0","0,000",2,"0,000","Mobile",{"$f":"VLOOKUP(D1007,'CATALOGUE SMARTPHONES'!A:C,3,0)","v":{"$error":"#N/A"}},{"$f":"IFERROR((VLOOKUP(C1007,'Baréme Relax'!B:D,3,0)),0)","v":0}]
["ABLOUNA","1 août 2017","046002000056","AIRBOX 4G MW40","1","0,000","0","0,000",1,"0,000","Mobile",{"$f":"VLOOKUP(D1008,'CATALOGUE SMARTPHONES'!A:C,3,0)","v":{"$error":"#N/A"}},{"$f":"IFERROR((VLOOKUP(C1008,'Baréme Relax'!B:D,3,0)),0)","v":0}]
["ABLOUNA","1 août 2017","043006000003","CARTE SIM 4G PRE MULTI SIM","6","18,000","0","0,000",6,"18,000","Mobile",{"$f":"VLOOKUP(D1009,'CATALOGUE SMARTPHONES'!A:C,3,0)","v":{"$error":"#N/A"}},{"$f":"IFERROR((VLOOKUP(C1009,'Baréme Relax'!B:D,3,0)),0)","v":0}]
["RIGRAIET","1 août 2017","046002000060","DOMINO E5220 WHITE","2","90,000","0","0,000",2,"90,000","Mobile",{"$f":"VLOOKUP(D1010,'CATALOGUE SMARTPHONES'!A:C,3,0)","v":{"$error":"#N/A"}},{"$f":"IFERROR((VLOOKUP(C1010,'Baréme Relax'!B:D,3,0)),0)","v":0}]
["SIGHW","1 août 2017","043001000114","CARTE PREACTIVEE VD","3","9,000","0","0,000",3,"9,000","Mobile",{"$f":"VLOOKUP(D1011,'CATALOGUE SMARTPHONES'!A:C,3,0)","v":{"$error":"#N/A"}},{"$f":"IFERROR((VLOOKUP(C1011,'Baréme Relax'!B:D,3,0)),0)","v":0}]
["SIGHW","1 août 2017","046002000060","DOMINO E5220 WHITE","2","90,000","0","0,000",2,"90,000","Mobile",{"$f":"VLOOKUP(D1012,'CATALOGUE SMARTPHONES'!A:C,3,0)","v":{"$error":"#N/A"}},{"$f":"IFERROR((VLOOKUP(C1012,'Baréme Relax'!B:D,3,0)),0)","v":0}]
["RIGRAIET","1 août 2017","043006000003","CARTE SIM 4G PRE MULTI SIM","3","9,000","0","0,000",3,"9,000","Mobile",{"$f":"VLOOKUP(D1013,'CATALOGUE SMARTPHONES'!A:C,3,0)","v":{"$error":"#N/A"}},{"$f":"IFERROR((VLOOKUP(C1013,'Baréme Relax'!B:D,3,0)),0)","v":0}]
["ABLOUNA","1 août 2017","043008000001","CARTE SIM 4G FLYBOX","1","0,000","0","0,000",1,"0,000","Mobile",{"$f":"VLOOKUP(D1014,'CATALOGUE SMARTPHONES'!A:C,3,0)","v":{"$error":"#N/A"}},{"$f":"IFERROR((VLOOKUP(C1014,'Baréme Relax'!B:D,3,0)),0)","v":0}]
["SIGHW","1 août 2017","047006000161","Orange Wifi dock","1","0,000","0","0,000",1,"0,000","Mobile",{"$f":"VLOOKUP(D1015,'CATALOGUE SMARTPHONES'!A:C,3,0)","v":{"$error":"#N/A"}},{"$f":"IFERROR((VLOOKUP(C1015,'Baréme Relax'!B:D,3,0)),0)","v":0}]
["SIGHW","1 août 2017","043006000003","CARTE SIM 4G PRE MULTI SIM","7","0,000","0","0,000",7,"0,000","Mobile",{"$f":"VLOOKUP(D1016,'CATALOGUE SMARTPHONES'!A:C,3,0)","v":{"$error":"#N/A"}},{"$f":"IFERROR((VLOOKUP(C1016,'Baréme Relax'!B:D,3,0)),0)","v":0}]
["ABLOUNA","1 août 2017","043006000003","CARTE SIM 4G PRE MULTI SIM","3","15,000","0","0,000",3,"15,000","Mobile",{"$f":"VLOOKUP(D1017,'CATALOGUE SMARTPHONES'!A:C,3,0)","v":{"$error":"#N/A"}},{"$f":"IFERROR((VLOOKUP(C1017,'Baréme Relax'!B:D,3,0)),0)","v":0}]
["RIGRAIET","1 août 2017","043007000004","CARTE SIM 4G DATA MULTI SIM","1","5,000","0","0,000",1,"5,000","Mobile",{"$f":"VLOOKUP(D1018,'CATALOGUE SMARTPHONES'!A:C,3,0)","v":{"$error":"#N/A"}},{"$f":"IFERROR((VLOOKUP(C1018,'Baréme Relax'!B:D,3,0)),0)","v":0}]
["ABLOUNA","1 août 2017","043007000004","CARTE SIM 4G DATA MULTI SIM","1","40,000","0","0,000",1,"40,000","Mobile",{"$f":"VLOOKUP(D1019,'CATALOGUE SMARTPHONES'!A:C,3,0)","v":{"$error":"#N/A"}},{"$f":"IFERROR((VLOOKUP(C1019,'Baréme Relax'!B:D,3,0)),0)","v":0}]
["SIGHW","1 août 2017","043007000004","CARTE SIM 4G DATA MULTI SIM","3","15,000","0","0,000",3,"15,000","Mobile",{"$f":"VLOOKUP(D1020,'CATALOGUE SMARTPHONES'!A:C,3,0)","v":{"$error":"#N/A"}},{"$f":"IFERROR((VLOOKUP(C1020,'Baréme Relax'!B:D,3,0)),0)","v":0}]
["SIGHW","1 août 2017","046002000056","AIRBOX 4G MW40","1","119,000","0","0,000",1,"119,000","Mobile",{"$f":"VLOOKUP(D1021,'CATALOGUE SMARTPHONES'!A:C,3,0)","v":{"$error":"#N/A"}},{"$f":"IFERROR((VLOOKUP(C1021,'Baréme Relax'!B:D,3,0)),0)","v":0}]
["ASLOGHM","1 août 2017","043006000003","CARTE SIM 4G PRE MULTI SIM","3","15,000","0","0,000",3,"15,000","Mobile",{"$f":"VLOOKUP(D1022,'CATALOGUE SMARTPHONES'!A:C,3,0)","v":{"$error":"#N/A"}},{"$f":"IFERROR((VLOOKUP(C1022,'Baréme Relax'!B:D,3,0)),0)","v":0}]
["ASLOGHM","1 août 2017","046002000060","DOMINO E5220 WHITE","1","45,000","0","0,000",1,"45,000","Mobile",{"$f":"VLOOKUP(D1023,'CATALOGUE SMARTPHONES'!A:C,3,0)","v":{"$error":"#N/A"}},{"$f":"IFERROR((VLOOKUP(C1023,'Baréme Relax'!B:D,3,0)),0)","v":0}]
["ABLOUNA","1 août 2017","043001000114","CARTE PREACTIVEE VD","1","0,000","0","0,000",1,"0,000","Mobile",{"$f":"VLOOKUP(D1024,'CATALOGUE SMARTPHONES'!A:C,3,0)","v":{"$error":"#N/A"}},{"$f":"IFERROR((VLOOKUP(C1024,'Baréme Relax'!B:D,3,0)),0)","v":0}]
["RIGRAIET","1 août 2017","043007000004","CARTE SIM 4G DATA MULTI SIM","2","0,000","0","0,000",2,"0,000","Mobile",{"$f":"VLOOKUP(D1025,'CATALOGUE SMARTPHONES'!A:C,3,0)","v":{"$error":"#N/A"}},{"$f":"IFERROR((VLOOKUP(C1025,'Baréme Relax'!B:D,3,0)),0)","v":0}]
["SIGHW","1 août 2017","046002000034","CLE 3G E3531","1","39,000","0","0,000",1,"39,000","Mobile",{"$f":"VLOOKUP(D1026,'CATALOGUE SMARTPHONES'!A:C,3,0)","v":{"$error":"#N/A"}},{"$f":"IFERROR((VLOOKUP(C1026,'Baréme Relax'!B:D,3,0)),0)","v":0}]
["ABLOUNA","1 août 2017","043001000114","CARTE PREACTIVEE VD","2","6,000","0","0,000",2,"6,000","Mobile",{"$f":"VLOOKUP(D1027,'CATALOGUE SMARTPHONES'!A:C,3,0)","v":{"$error":"#N/A"}},{"$f":"IFERROR((VLOOKUP(C1027,'Baréme Relax'!B:D,3,0)),0)","v":0}]
["SIGHW","1 août 2017","043006000003","CARTE SIM 4G PRE MULTI SIM","3","15,000","0","0,000",3,"15,000","Mobile",{"$f":"VLOOKUP(D1028,'CATALOGUE SMARTPHONES'!A:C,3,0)","v":{"$error":"#N/A"}},{"$f":"IFERROR((VLOOKUP(C1028,'Baréme Relax'!B:D,3,0)),0)","v":0}]
[null,null,null,null,null,null,null,null,null,null,null,{"$f":"VLOOKUP(D1029,'CATALOGUE SMARTPHONES'!A:C,3,0)","v":{"$error":"#N/A"}},{"$f":"IFERROR((VLOOKUP(C1029,'Baréme Relax'!B:D,3,0)),0)","v":0}]
[null,null,null,null,null,null,null,null,null,null,null,{"$f":"VLOOKUP(D1030,'CATALOGUE SMARTPHONES'!A:C,3,0)","v":{"$error":"#N/A"}},{"$f":"IFERROR((VLOOKUP(C1030,'Baréme Relax'!B:D,3,0)),0)","v":0}]
[null,null,null,null,null,null,null,null,null,null,null,{"$f":"VLOOKUP(D1031,'CATALOGUE SMARTPHONES'!A:C,3,0)","v":{"$error":"#N/A"}},{"$f":"IFERROR((VLOOKUP(C1031,'Baréme Relax'!B:D,3,0)),0)","v":0}]
[null,null,null,null,null,null,null,null,null,null,null,{"$f":"VLOOKUP(D1032,'CATALOGUE SMARTPHONES'!A:C,3,0)","v":{"$error":"#N/A"}},{"$f":"IFERROR((VLOOKUP(C1032,'Baréme Relax'!B:D,3,0)),0)","v":0}]
[null,null,null,null,null,null,null,null,null,null,null,{"$f":"VLOOKUP(D1033,'CATALOGUE SMARTPHONES'!A:C,3,0)","v":{"$error":"#N/A"}},{"$f":"IFERROR((VLOOKUP(C1033,'Baréme Relax'!B:D,3,0)),0)","v":0}]
[null,null,null,null,null,null,null,null,null,null,null,{"$f":"VLOOKUP(D1034,'CATALOGUE SMARTPHONES'!A:C,3,0)","v":{"$error":"#N/A"}},{"$f":"IFERROR((VLOOKUP(C1034,'Baréme Relax'!B:D,3,0)),0)","v":0}]
[null,null,null,null,null,null,null,null,null,null,null,{"$f":"VLOOKUP(D1035,'CATALOGUE SMARTPHONES'!A:C,3,0)","v":{"$error":"#N/A"}},{"$f":"IFERROR((VLOOKUP(C1035,'Baréme Relax'!B:D,3,0)),0)","v":0}]
[null,null,null,null,null,null,null,null,null,null,null,{"$f":"VLOOKUP(D1036,'CATALOGUE SMARTPHONES'!A:C,3,0)","v":{"$error":"#N/A"}},{"$f":"IFERROR((VLOOKUP(C1036,'Baréme Relax'!B:D,3,0)),0)","v":0}]
[null,null,null,null,null,null,null,null,null,null,null,{"$f":"VLOOKUP(D1037,'CATALOGUE SMARTPHONES'!A:C,3,0)","v":{"$error":"#N/A"}},{"$f":"IFERROR((VLOOKUP(C1037,'Baréme Relax'!B:D,3,0)),0)","v":0}]
[null,null,null,null,null,null,null,null,null,null,null,{"$f":"VLOOKUP(D1038,'CATALOGUE SMARTPHONES'!A:C,3,0)","v":{"$error":"#N/A"}},{"$f":"IFERROR((VLOOKUP(C1038,'Baréme Relax'!B:D,3,0)),0)","v":0}]
[null,null,null,null,null,null,null,null,null,null,null,{"$f":"VLOOKUP(D1039,'CATALOGUE SMARTPHONES'!A:C,3,0)","v":{"$error":"#N/A"}},{"$f":"IFERROR((VLOOKUP(C1039,'Baréme Relax'!B:D,3,0)),0)","v":0}]
[null,null,null,null,null,null,null,null,null,null,null,{"$f":"VLOOKUP(D1040,'CATALOGUE SMARTPHONES'!A:C,3,0)","v":{"$error":"#N/A"}},{"$f":"IFERROR((VLOOKUP(C1040,'Baréme Relax'!B:D,3,0)),0)","v":0}]
[null,null,null,null,null,null,null,null,null,null,null,{"$f":"VLOOKUP(D1041,'CATALOGUE SMARTPHONES'!A:C,3,0)","v":{"$error":"#N/A"}},{"$f":"IFERROR((VLOOKUP(C1041,'Baréme Relax'!B:D,3,0)),0)","v":0}]
[null,null,null,null,null,null,null,null,null,null,null,{"$f":"VLOOKUP(D1042,'CATALOGUE SMARTPHONES'!A:C,3,0)","v":{"$error":"#N/A"}},{"$f":"IFERROR((VLOOKUP(C1042,'Baréme Relax'!B:D,3,0)),0)","v":0}]
[null,null,null,null,null,null,null,null,null,null,null,{"$f":"VLOOKUP(D1043,'CATALOGUE SMARTPHONES'!A:C,3,0)","v":{"$error":"#N/A"}},{"$f":"IFERROR((VLOOKUP(C1043,'Baréme Relax'!B:D,3,0)),0)","v":0}]
[null,null,null,null,null,null,null,null,null,null,null,{"$f":"VLOOKUP(D1044,'CATALOGUE SMARTPHONES'!A:C,3,0)","v":{"$error":"#N/A"}},{"$f":"IFERROR((VLOOKUP(C1044,'Baréme Relax'!B:D,3,0)),0)","v":0}]
[null,null,null,null,null,null,null,null,null,null,null,{"$f":"VLOOKUP(D1045,'CATALOGUE SMARTPHONES'!A:C,3,0)","v":{"$error":"#N/A"}},{"$f":"IFERROR((VLOOKUP(C1045,'Baréme Relax'!B:D,3,0)),0)","v":0}]
[null,null,null,null,null,null,null,null,null,null,null,{"$f":"VLOOKUP(D1046,'CATALOGUE SMARTPHONES'!A:C,3,0)","v":{"$error":"#N/A"}},{"$f":"IFERROR((VLOOKUP(C1046,'Baréme Relax'!B:D,3,0)),0)","v":0}]
[null,null,null,null,null,null,null,null,null,null,null,{"$f":"VLOOKUP(D1047,'CATALOGUE SMARTPHONES'!A:C,3,0)","v":{"$error":"#N/A"}},{"$f":"IFERROR((VLOOKUP(C1047,'Baréme Relax'!B:D,3,0)),0)","v":0}]
[null,null,null,null,null,null,null,null,null,null,null,{"$f":"VLOOKUP(D1048,'CATALOGUE SMARTPHONES'!A:C,3,0)","v":{"$error":"#N/A"}},{"$f":"IFERROR((VLOOKUP(C1048,'Baréme Relax'!B:D,3,0)),0)","v":0}]
[null,null,null,null,null,null,null,null,null,null,null,{"$f":"VLOOKUP(D1049,'CATALOGUE SMARTPHONES'!A:C,3,0)","v":{"$error":"#N/A"}},{"$f":"IFERROR((VLOOKUP(C1049,'Baréme Relax'!B:D,3,0)),0)","v":0}]
[null,null,null,null,null,null,null,null,null,null,null,{"$f":"VLOOKUP(D1050,'CATALOGUE SMARTPHONES'!A:C,3,0)","v":{"$error":"#N/A"}},{"$f":"IFERROR((VLOOKUP(C1050,'Baréme Relax'!B:D,3,0)),0)","v":0}]
[null,null,null,null,null,null,null,null,null,null,null,{"$f":"VLOOKUP(D1051,'CATALOGUE SMARTPHONES'!A:C,3,0)","v":{"$error":"#N/A"}},{"$f":"IFERROR((VLOOKUP(C1051,'Baréme Relax'!B:D,3,0)),0)","v":0}]
[null,null,null,null,null,null,null,null,null,null,null,{"$f":"VLOOKUP(D1052,'CATALOGUE SMARTPHONES'!A:C,3,0)","v":{"$error":"#N/A"}},{"$f":"IFERROR((VLOOKUP(C1052,'Baréme Relax'!B:D,3,0)),0)","v":0}]
[null,null,null,null,null,null,null,null,null,null,null,{"$f":"VLOOKUP(D1053,'CATALOGUE SMARTPHONES'!A:C,3,0)","v":{"$error":"#N/A"}},{"$f":"IFERROR((VLOOKUP(C1053,'Baréme Relax'!B:D,3,0)),0)","v":0}]
[null,null,null,null,null,null,null,null,null,null,null,{"$f":"VLOOKUP(D1054,'CATALOGUE SMARTPHONES'!A:C,3,0)","v":{"$error":"#N/A"}},{"$f":"IFERROR((VLOOKUP(C1054,'Baréme Relax'!B:D,3,0)),0)","v":0}]
[null,null,null,null,null,null,null,null,null,null,null,{"$f":"VLOOKUP(D1055,'CATALOGUE SMARTPHONES'!A:C,3,0)","v":{"$error":"#N/A"}},{"$f":"IFERROR((VLOOKUP(C1055,'Baréme Relax'!B:D,3,0)),0)","v":0}]
[null,null,null,null,null,null,null,null,null,null,null,{"$f":"VLOOKUP(D1056,'CATALOGUE SMARTPHONES'!A:C,3,0)","v":{"$error":"#N/A"}},{"$f":"IFERROR((VLOOKUP(C1056,'Baréme Relax'!B:D,3,0)),0)","v":0}]
[null,null,null,null,null,null,null,null,null,null,null,{"$f":"VLOOKUP(D1057,'CATALOGUE SMARTPHONES'!A:C,3,0)","v":{"$error":"#N/A"}},{"$f":"IFERROR((VLOOKUP(C1057,'Baréme Relax'!B:D,3,0)),0)","v":0}]
[null,null,null,null,null,null,null,null,null,null,null,{"$f":"VLOOKUP(D1058,'CATALOGUE SMARTPHONES'!A:C,3,0)","v":{"$error":"#N/A"}},{"$f":"IFERROR((VLOOKUP(C1058,'Baréme Relax'!B:D,3,0)),0)","v":0}]
[null,null,null,null,null,null,null,null,null,null,null,{"$f":"VLOOKUP(D1059,'CATALOGUE SMARTPHONES'!A:C,3,0)","v":{"$error":"#N/A"}},{"$f":"IFERROR((VLOOKUP(C1059,'Baréme Relax'!B:D,3,0)),0)","v":0}]
[null,null,null,null,null,null,null,null,null,null,null,{"$f":"VLOOKUP(D1060,'CATALOGUE SMARTPHONES'!A:C,3,0)","v":{"$error":"#N/A"}},{"$f":"IFERROR((VLOOKUP(C1060,'Baréme Relax'!B:D,3,0)),0)","v":0}]
[null,null,null,null,null,null,null,null,null,null,null,{"$f":"VLOOKUP(D1061,'CATALOGUE SMARTPHONES'!A:C,3,0)","v":{"$error":"#N/A"}},{"$f":"IFERROR((VLOOKUP(C1061,'Baréme Relax'!B:D,3,0)),0)","v":0}]
[null,null,null,null,null,null,null,null,null,null,null,{"$f":"VLOOKUP(D1062,'CATALOGUE SMARTPHONES'!A:C,3,0)","v":{"$error":"#N/A"}},{"$f":"IFERROR((VLOOKUP(C1062,'Baréme Relax'!B:D,3,0)),0)","v":0}]
[null,null,null,null,null,null,null,null,null,null,null,{"$f":"VLOOKUP(D1063,'CATALOGUE SMARTPHONES'!A:C,3,0)","v":{"$error":"#N/A"}},{"$f":"IFERROR((VLOOKUP(C1063,'Baréme Relax'!B:D,3,0)),0)","v":0}]
[null,null,null,null,null,null,null,null,null,null,null,{"$f":"VLOOKUP(D1064,'CATALOGUE SMARTPHONES'!A:C,3,0)","v":{"$error":"#N/A"}},{"$f":"IFERROR((VLOOKUP(C1064,'Baréme Relax'!B:D,3,0)),0)","v":0}]
[null,null,null,null,null,null,null,null,null,null,null,{"$f":"VLOOKUP(D1065,'CATALOGUE SMARTPHONES'!A:C,3,0)","v":{"$error":"#N/A"}},{"$f":"IFERROR((VLOOKUP(C1065,'Baréme Relax'!B:D,3,0)),0)","v":0}]
[null,null,null,null,null,null,null,null,null,null,null,{"$f":"VLOOKUP(D1066,'CATALOGUE SMARTPHONES'!A:C,3,0)","v":{"$error":"#N/A"}},{"$f":"IFERROR((VLOOKUP(C1066,'Baréme Relax'!B:D,3,0)),0)","v":0}]
[null,null,null,null,null,null,null,null,null,null,null,{"$f":"VLOOKUP(D1067,'CATALOGUE SMARTPHONES'!A:C,3,0)","v":{"$error":"#N/A"}},{"$f":"IFERROR((VLOOKUP(C1067,'Baréme Relax'!B:D,3,0)),0)","v":0}]
[null,null,null,null,null,null,null,null,null,null,null,{"$f":"VLOOKUP(D1068,'CATALOGUE SMARTPHONES'!A:C,3,0)","v":{"$error":"#N/A"}},{"$f":"IFERROR((VLOOKUP(C1068,'Baréme Relax'!B:D,3,0)),0)","v":0}]
[null,null,null,null,null,null,null,null,null,null,null,{"$f":"VLOOKUP(D1069,'CATALOGUE SMARTPHONES'!A:C,3,0)","v":{"$error":"#N/A"}},{"$f":"IFERROR((VLOOKUP(C1069,'Baréme Relax'!B:D,3,0)),0)","v":0}]
[null,null,null,null,null,null,null,null,null,null,null,{"$f":"VLOOKUP(D1070,'CATALOGUE SMARTPHONES'!A:C,3,0)","v":{"$error":"#N/A"}},{"$f":"IFERROR((VLOOKUP(C1070,'Baréme Relax'!B:D,3,0)),0)","v":0}]
[null,null,null,null,null,null,null,null,null,null,null,{"$f":"VLOOKUP(D1071,'CATALOGUE SMARTPHONES'!A:C,3,0)","v":{"$error":"#N/A"}},{"$f":"IFERROR((VLOOKUP(C1071,'Baréme Relax'!B:D,3,0)),0)","v":0}]
[null,null,null,null,null,null,null,null,null,null,null,{"$f":"VLOOKUP(D1072,'CATALOGUE SMARTPHONES'!A:C,3,0)","v":{"$error":"#N/A"}},{"$f":"IFERROR((VLOOKUP(C1072,'Baréme Relax'!B:D,3,0)),0)","v":0}]
[null,null,null,null,null,null,null,null,null,null,null,{"$f":"VLOOKUP(D1073,'CATALOGUE SMARTPHONES'!A:C,3,0)","v":{"$error":"#N/A"}},{"$f":"IFERROR((VLOOKUP(C1073,'Baréme Relax'!B:D,3,0)),0)","v":0}]
[null,null,null,null,null,null,null,null,null,null,null,{"$f":"VLOOKUP(D1074,'CATALOGUE SMARTPHONES'!A:C,3,0)","v":{"$error":"#N/A"}},{"$f":"IFERROR((VLOOKUP(C1074,'Baréme Relax'!B:D,3,0)),0)","v":0}]
[null,null,null,null,null,null,null,null,null,null,null,{"$f":"VLOOKUP(D1075,'CATALOGUE SMARTPHONES'!A:C,3,0)","v":{"$error":"#N/A"}},{"$f":"IFERROR((VLOOKUP(C1075,'Baréme Relax'!B:D,3,0)),0)","v":0}]
[null,null,null,null,null,null,null,null,null,null,null,{"$f":"VLOOKUP(D1076,'CATALOGUE SMARTPHONES'!A:C,3,0)","v":{"$error":"#N/A"}},{"$f":"IFERROR((VLOOKUP(C1076,'Baréme Relax'!B:D,3,0)),0)","v":0}]
[null,null,null,null,null,null,null,null,null,null,null,{"$f":"VLOOKUP(D1077,'CATALOGUE SMARTPHONES'!A:C,3,0)","v":{"$error":"#N/A"}},{"$f":"IFERROR((VLOOKUP(C1077,'Baréme Relax'!B:D,3,0)),0)","v":0}]
[null,null,null,null,null,null,null,null,null,null,null,{"$f":"VLOOKUP(D1078,'CATALOGUE SMARTPHONES'!A:C,3,0)","v":{"$error":"#N/A"}},{"$f":"IFERROR((VLOOKUP(C1078,'Baréme Relax'!B:D,3,0)),0)","v":0}]
[null,null,null,null,null,null,null,null,null,null,null,{"$f":"VLOOKUP(D1079,'CATALOGUE SMARTPHONES'!A:C,3,0)","v":{"$error":"#N/A"}},{"$f":"IFERROR((VLOOKUP(C1079,'Baréme Relax'!B:D,3,0)),0)","v":0}]
[null,null,null,null,null,null,null,null,null,null,null,{"$f":"VLOOKUP(D1080,'CATALOGUE SMARTPHONES'!A:C,3,0)","v":{"$error":"#N/A"}},{"$f":"IFERROR((VLOOKUP(C1080,'Baréme Relax'!B:D,3,0)),0)","v":0}]

{"sheet":"GST-SOLD","index":15,"n_rows":1319,"n_cols":10,"rows_kept":1319,"cut":false,"hidden":false,"merged":[]}
["Numéro de série","Utilisateur","Code produit","Nom du produit","Date entrée","Agence","Code Agence","Quantité","Etat du produit","Fournisseur"]
["863605032642664","RIGRAIET","085001000011","FLYBOX B310","2017-08-12","Franchise MSAKEN","MSK0013F",1,"SOLD","Tunis Entrepot DCGP"]
["892160100206713351","RIGRAIET","043008000001","CARTE SIM 4G FLYBOX","2017-08-12","Franchise MSAKEN","MSK0013F",1,"SOLD","Tunis Entrepot DCGP"]
["TG6K17020004565","RIGRAIET","188003000016","Modem Huawei HG532","2017-08-12","Franchise MSAKEN","MSK0013F",1,"SOLD","Tunis Entrepot DCGP"]
["892160100124729132","SIGHW","043007000004","CARTE SIM 4G DATA MULTI SIM","2017-08-10","Franchise MSAKEN","MSK0013F",1,"SOLD","Tunis Entrepot DCGP"]
["892160100122554918","SIGHW","043006000003","CARTE SIM 4G PRE MULTI SIM","2017-08-14","Franchise MSAKEN","MSK0013F",1,"SOLD","Tunis Entrepot DCGP"]
["","SIGHW","044004000010","Recharge Express","2017-08-10","Franchise MSAKEN","MSK0013F",10,"SOLD","Tunis Entrepot DCGP"]
["892160100122554937","ASLOGHM","043006000003","CARTE SIM 4G PRE MULTI SIM","2017-08-14","Franchise MSAKEN","MSK0013F",1,"SOLD","Tunis Entrepot DCGP"]
["892160100122555570","ABLOUNA","043006000003","CARTE SIM 4G PRE MULTI SIM","2017-08-10","Franchise MSAKEN","MSK0013F",1,"SOLD","Tunis Entrepot DCGP"]
["862497030355742","ABLOUNA","083013025002","HUAWEI GR5 2017 GOLD","2017-08-12","Franchise MSAKEN","MSK0013F",1,"SOLD","Tunis Entrepot DCGP"]
["892160100117566082","ABLOUNA","043006000007","CARTE SIM 4G POST MULTI SIM","2017-08-12","Franchise MSAKEN","MSK0013F",1,"SOLD","Tunis Entrepot DCGP"]
["862497030507847","ABLOUNA","083013025001","HUAWEI GR5 2017 SILVER","2017-08-12","Franchise MSAKEN","MSK0013F",1,"SOLD","Tunis Entrepot DCGP"]
["892160100123469163","ABLOUNA","043001000114","CARTE PREACTIVEE VD","2017-08-14","Franchise MSAKEN","MSK0013F",1,"SOLD","Tunis Entrepot DCGP"]
["352770077249508","ABLOUNA","045022002001","ORANGE IT 2110","2017-08-14","Franchise MSAKEN","MSK0013F",1,"SOLD","Tunis Entrepot DCGP"]
["892160100122555679","RIGRAIET","043006000003","CARTE SIM 4G PRE MULTI SIM","2017-08-12","Franchise MSAKEN","MSK0013F",1,"SOLD","Tunis Entrepot DCGP"]
["","SIGHW","044004000010","Recharge Express","2017-08-14","Franchise MSAKEN","MSK0013F",2,"SOLD","Tunis Entrepot DCGP"]
["892160100122554890","SIGHW","043006000003","CARTE SIM 4G PRE MULTI SIM","2017-08-11","Franchise MSAKEN","MSK0013F",1,"SOLD","Tunis Entrepot DCGP"]
["","ABLOUNA","044004000010","Recharge Express","2017-08-10","Franchise MSAKEN","MSK0013F",12,"SOLD","Tunis Entrepot DCGP"]
["","RIGRAIET","044004000010","Recharge Express","2017-08-14","Franchise MSAKEN","MSK0013F",5,"SOLD","Tunis Entrepot DCGP"]
["892160100124729146","SIGHW","043007000004","CARTE SIM 4G DATA MULTI SIM","2017-08-14","Franchise MSAKEN","MSK0013F",1,"SOLD","Tunis Entrepot DCGP"]
["892160100124729143","ABLOUNA","043007000004","CARTE SIM 4G DATA MULTI SIM","2017-08-12","Franchise MSAKEN","MSK0013F",1,"SOLD","Tunis Entrepot DCGP"]
["","ASLOGHM","044004000010","Recharge Express","2017-08-14","Franchise MSAKEN","MSK0013F",5,"SOLD","Tunis Entrepot DCGP"]
["","RIGRAIET","044004000010","Recharge Express","2017-08-12","Franchise MSAKEN","MSK0013F",10,"SOLD","Tunis Entrepot DCGP"]
["892160100122555724","ABLOUNA","043006000003","CARTE SIM 4G PRE MULTI SIM","2017-08-12","Franchise MSAKEN","MSK0013F",1,"SOLD","Tunis Entrepot DCGP"]
["","ABLOUNA","044004000010","Recharge Express","2017-08-15","Franchise MSAKEN","MSK0013F",5,"SOLD","Tunis Entrepot DCGP"]
["","SIGHW","044004000010","Recharge Express","2017-08-10","Franchise MSAKEN","MSK0013F",5,"SOLD","Tunis Entrepot DCGP"]
["","ABLOUNA","044004000010","Recharge Express","2017-08-15","Franchise MSAKEN","MSK0013F",12,"SOLD","Tunis Entrepot DCGP"]
["892160100124728453","RIGRAIET","043007000004","CARTE SIM 4G DATA MULTI SIM","2017-08-12","Franchise MSAKEN","MSK0013F",1,"SOLD","Tunis Entrepot DCGP"]
["","SIGHW","044004000010","Recharge Express","2017-08-12","Franchise MSAKEN","MSK0013F",15,"SOLD","Tunis Entrepot DCGP"]
["892160100122555667","SIGHW","043006000003","CARTE SIM 4G PRE MULTI SIM","2017-08-12","Franchise MSAKEN","MSK0013F",1,"SOLD","Tunis Entrepot DCGP"]
["892160100122554895","ASLOGHM","043006000003","CARTE SIM 4G PRE MULTI SIM","2017-08-11","Franchise MSAKEN","MSK0013F",1,"SOLD","Tunis Entrepot DCGP"]
["","RIGRAIET","044004000010","Recharge Express","2017-08-14","Franchise MSAKEN","MSK0013F",12,"SOLD","Tunis Entrepot DCGP"]
["892160100122555674","SIGHW","043006000003","CARTE SIM 4G PRE MULTI SIM","2017-08-12","Franchise MSAKEN","MSK0013F",1,"SOLD","Tunis Entrepot DCGP"]
["","RIGRAIET","044004000010","Recharge Express","2017-08-11","Franchise MSAKEN","MSK0013F",5,"SOLD","Tunis Entrepot DCGP"]
["892160100122554906","RIGRAIET","043006000003","CARTE SIM 4G PRE MULTI SIM","2017-08-11","Franchise MSAKEN","MSK0013F",1,"SOLD","Tunis Entrepot DCGP"]
["","ABLOUNA","044004000010","Recharge Express","2017-08-11","Franchise MSAKEN","MSK0013F",18,"SOLD","Tunis Entrepot DCGP"]
["","ABLOUNA","044004000010","Recharge Express","2017-08-08","Franchise MSAKEN","MSK0013F",20,"SOLD","Tunis Entrepot DCGP"]
["892160100122555568","ABLOUNA","043006000003","CARTE SIM 4G PRE MULTI SIM","2017-08-08","Franchise MSAKEN","MSK0013F",1,"SOLD","Tunis Entrepot DCGP"]
["892160100124728419","ASLOGHM","043007000004","CARTE SIM 4G DATA MULTI SIM","2017-08-08","Franchise MSAKEN","MSK0013F",1,"SOLD","Tunis Entrepot DCGP"]
["892160100124728445","RIGRAIET","043007000004","CARTE SIM 4G DATA MULTI SIM","2017-08-11","Franchise MSAKEN","MSK0013F",1,"SOLD","Tunis Entrepot DCGP"]
["892160100122555689","ABLOUNA","043006000003","CARTE SIM 4G PRE MULTI SIM","2017-08-11","Franchise MSAKEN","MSK0013F",1,"SOLD","Tunis Entrepot DCGP"]
["892160100122554875","RIGRAIET","043006000003","CARTE SIM 4G PRE MULTI SIM","2017-08-11","Franchise MSAKEN","MSK0013F",1,"SOLD","Tunis Entrepot DCGP"]
["","RIGRAIET","044004000010","Recharge Express","2017-08-11","Franchise MSAKEN","MSK0013F",5,"SOLD","Tunis Entrepot DCGP"]
["892160100122554892","ASLOGHM","043006000003","CARTE SIM 4G PRE MULTI SIM","2017-08-11","Franchise MSAKEN","MSK0013F",1,"SOLD","Tunis Entrepot DCGP"]
["","SIGHW","044004000010","Recharge Express","2017-08-09","Franchise MSAKEN","MSK0013F",20,"SOLD","Tunis Entrepot DCGP"]
["","SIGHW","044004000010","Recharge Express","2017-08-09","Franchise MSAKEN","MSK0013F",5,"SOLD","Tunis Entrepot DCGP"]
["892160100122555464","SIGHW","043006000003","CARTE SIM 4G PRE MULTI SIM","2017-08-09","Franchise MSAKEN","MSK0013F",1,"SOLD","Tunis Entrepot DCGP"]
["892160100122555576","ABLOUNA","043006000003","CARTE SIM 4G PRE MULTI SIM","2017-08-09","Franchise MSAKEN","MSK0013F",1,"SOLD","Tunis Entrepot DCGP"]
["892160100122555609","RIGRAIET","043006000003","CARTE SIM 4G PRE MULTI SIM","2017-08-09","Franchise MSAKEN","MSK0013F",1,"SOLD","Tunis Entrepot DCGP"]
["","RIGRAIET","044004000010","Recharge Express","2017-08-14","Franchise MSAKEN","MSK0013F",5,"SOLD","Tunis Entrepot DCGP"]
["","SIGHW","044004000010","Recharge Express","2017-08-14","Franchise MSAKEN","MSK0013F",5,"SOLD","Tunis Entrepot DCGP"]
["","SIGHW","044004000010","Recharge Express","2017-08-14","Franchise MSAKEN","MSK0013F",20,"SOLD","Tunis Entrepot DCGP"]
["892160100122554886","ABLOUNA","043006000003","CARTE SIM 4G PRE MULTI SIM","2017-08-10","Franchise MSAKEN","MSK0013F",1,"SOLD","Tunis Entrepot DCGP"]
["","ASLOGHM","044004000010","Recharge Express","2017-08-10","Franchise MSAKEN","MSK0013F",12,"SOLD","Tunis Entrepot DCGP"]
["892160100122555653","SIGHW","043006000003","CARTE SIM 4G PRE MULTI SIM","2017-08-10","Franchise MSAKEN","MSK0013F",1,"SOLD","Tunis Entrepot DCGP"]
["","SIGHW","044004000010","Recharge Express","2017-08-12","Franchise MSAKEN","MSK0013F",12,"SOLD","Tunis Entrepot DCGP"]
["892160100122555573","ABLOUNA","043006000003","CARTE SIM 4G PRE MULTI SIM","2017-08-09","Franchise MSAKEN","MSK0013F",1,"SOLD","Tunis Entrepot DCGP"]
["","ABLOUNA","044004000010","Recharge Express","2017-08-09","Franchise MSAKEN","MSK0013F",5,"SOLD","Tunis Entrepot DCGP"]
["892160100124729140","RIGRAIET","043007000004","CARTE SIM 4G DATA MULTI SIM","2017-08-11","Franchise MSAKEN","MSK0013F",1,"SOLD","Tunis Entrepot DCGP"]
["","ABLOUNA","044004000010","Recharge Express","2017-08-15","Franchise MSAKEN","MSK0013F",60,"SOLD","Tunis Entrepot DCGP"]
["892160100124729145","ABLOUNA","043007000004","CARTE SIM 4G DATA MULTI SIM","2017-08-15","Franchise MSAKEN","MSK0013F",1,"SOLD","Tunis Entrepot DCGP"]
["","SIGHW","044004000010","Recharge Express","2017-08-12","Franchise MSAKEN","MSK0013F",12,"SOLD","Tunis Entrepot DCGP"]
["892160100122554853","SIGHW","043006000003","CARTE SIM 4G PRE MULTI SIM","2017-08-10","Franchise MSAKEN","MSK0013F",1,"SOLD","Tunis Entrepot DCGP"]
["892160100124729161","ABLOUNA","043007000004","CARTE SIM 4G DATA MULTI SIM","2017-08-09","Franchise MSAKEN","MSK0013F",1,"SOLD","Tunis Entrepot DCGP"]
["","SIGHW","044004000010","Recharge Express","2017-08-11","Franchise MSAKEN","MSK0013F",25,"SOLD","Tunis Entrepot DCGP"]
["","ASLOGHM","044004000010","Recharge Express","2017-08-11","Franchise MSAKEN","MSK0013F",5,"SOLD","Tunis Entrepot DCGP"]
["","ASLOGHM","044004000010","Recharge Express","2017-08-09","Franchise MSAKEN","MSK0013F",20,"SOLD","Tunis Entrepot DCGP"]
["892160100206713354","RIGRAIET","043008000001","CARTE SIM 4G FLYBOX","2017-08-11","Franchise MSAKEN","MSK0013F",1,"SOLD","Tunis Entrepot DCGP"]
["869907027307764","RIGRAIET","046002000041","CLE 4G E3372H","2017-08-14","Franchise MSAKEN","MSK0013F",1,"SOLD","Tunis Entrepot DCGP"]
["892160100124729144","RIGRAIET","043007000004","CARTE SIM 4G DATA MULTI SIM","2017-08-14","Franchise MSAKEN","MSK0013F",1,"SOLD","Tunis Entrepot DCGP"]
["","ASLOGHM","044004000010","Recharge Express","2017-08-12","Franchise MSAKEN","MSK0013F",10,"SOLD","Tunis Entrepot DCGP"]
["","SIGHW","044004000010","Recharge Express","2017-08-12","Franchise MSAKEN","MSK0013F",10,"SOLD","Tunis Entrepot DCGP"]
["892160100122555671","SIGHW","043006000003","CARTE SIM 4G PRE MULTI SIM","2017-08-12","Franchise MSAKEN","MSK0013F",1,"SOLD","Tunis Entrepot DCGP"]
["892160100122555672","SIGHW","043006000003","CARTE SIM 4G PRE MULTI SIM","2017-08-12","Franchise MSAKEN","MSK0013F",1,"SOLD","Tunis Entrepot DCGP"]
["","RIGRAIET","044004000010","Recharge Express","2017-08-09","Franchise MSAKEN","MSK0013F",10,"SOLD","Tunis Entrepot DCGP"]
["892160100206713349","SIGHW","043008000001","CARTE SIM 4G FLYBOX","2017-08-14","Franchise MSAKEN","MSK0013F",1,"SOLD","Tunis Entrepot DCGP"]
["892160100122555727","ABLOUNA","043006000003","CARTE SIM 4G PRE MULTI SIM","2017-08-15","Franchise MSAKEN","MSK0013F",1,"SOLD","Tunis Entrepot DCGP"]
["","ASLOGHM","044004000010","Recharge Express","2017-08-12","Franchise MSAKEN","MSK0013F",10,"SOLD","Tunis Entrepot DCGP"]
["892160100122555677","RIGRAIET","043006000003","CARTE SIM 4G PRE MULTI SIM","2017-08-12","Franchise MSAKEN","MSK0013F",1,"SOLD","Tunis Entrepot DCGP"]
["","RIGRAIET","999100001003","SERVICE TRANSFERT CONTACT","2017-08-11","Franchise MSAKEN","MSK0013F",1,"SOLD","Tunis Entrepot DCGP"]
["","ASLOGHM","044004000010","Recharge Express","2017-08-10","Franchise MSAKEN","MSK0013F",10,"SOLD","Tunis Entrepot DCGP"]
["","ABLOUNA","044004000010","Recharge Express","2017-08-10","Franchise MSAKEN","MSK0013F",5,"SOLD","Tunis Entrepot DCGP"]
["892160100122555569","ABLOUNA","043006000003","CARTE SIM 4G PRE MULTI SIM","2017-08-10","Franchise MSAKEN","MSK0013F",1,"SOLD","Tunis Entrepot DCGP"]
["","ASLOGHM","044004000010","Recharge Express","2017-08-08","Franchise MSAKEN","MSK0013F",30,"SOLD","Tunis Entrepot DCGP"]
["","RIGRAIET","044004000010","Recharge Express","2017-08-14","Franchise MSAKEN","MSK0013F",15,"SOLD","Tunis Entrepot DCGP"]
["892160100122555737","RIGRAIET","043006000003","CARTE SIM 4G PRE MULTI SIM","2017-08-14","Franchise MSAKEN","MSK0013F",1,"SOLD","Tunis Entrepot DCGP"]
["892160100122555723","ABLOUNA","043006000003","CARTE SIM 4G PRE MULTI SIM","2017-08-12","Franchise MSAKEN","MSK0013F",1,"SOLD","Tunis Entrepot DCGP"]
["","ABLOUNA","044004000010","Recharge Express","2017-08-12","Franchise MSAKEN","MSK0013F",10,"SOLD","Tunis Entrepot DCGP"]
["","ASLOGHM","044004000010","Recharge Express","2017-08-15","Franchise MSAKEN","MSK0013F",12,"SOLD","Tunis Entrepot DCGP"]
["","RIGRAIET","044004000010","Recharge Express","2017-08-14","Franchise MSAKEN","MSK0013F",5,"SOLD","Tunis Entrepot DCGP"]
["892160100122555651","SIGHW","043006000003","CARTE SIM 4G PRE MULTI SIM","2017-08-10","Franchise MSAKEN","MSK0013F",1,"SOLD","Tunis Entrepot DCGP"]
["892160100122554913","SIGHW","043006000003","CARTE SIM 4G PRE MULTI SIM","2017-08-14","Franchise MSAKEN","MSK0013F",1,"SOLD","Tunis Entrepot DCGP"]
["892160100124728448","ABLOUNA","043007000004","CARTE SIM 4G DATA MULTI SIM","2017-08-11","Franchise MSAKEN","MSK0013F",1,"SOLD","Tunis Entrepot DCGP"]
["892160100122554870","SIGHW","043006000003","CARTE SIM 4G PRE MULTI SIM","2017-08-11","Franchise MSAKEN","MSK0013F",1,"SOLD","Tunis Entrepot DCGP"]
["","SIGHW","044004000010","Recharge Express","2017-08-11","Franchise MSAKEN","MSK0013F",5,"SOLD","Tunis Entrepot DCGP"]
["892160100124729154","ASLOGHM","043007000004","CARTE SIM 4G DATA MULTI SIM","2017-08-15","Franchise MSAKEN","MSK0013F",1,"SOLD","Tunis Entrepot DCGP"]
["","ASLOGHM","044004000010","Recharge Express","2017-08-11","Franchise MSAKEN","MSK0013F",5,"SOLD","Tunis Entrepot DCGP"]
["","ASLOGHM","044004000010","Recharge Express","2017-08-11","Franchise MSAKEN","MSK0013F",5,"SOLD","Tunis Entrepot DCGP"]
["892160100122554902","ASLOGHM","043006000003","CARTE SIM 4G PRE MULTI SIM","2017-08-11","Franchise MSAKEN","MSK0013F",1,"SOLD","Tunis Entrepot DCGP"]
["892160100122554901","ASLOGHM","043006000003","CARTE SIM 4G PRE MULTI SIM","2017-08-11","Franchise MSAKEN","MSK0013F",1,"SOLD","Tunis Entrepot DCGP"]
["892160100122554866","SIGHW","043006000003","CARTE SIM 4G PRE MULTI SIM","2017-08-10","Franchise MSAKEN","MSK0013F",1,"SOLD","Tunis Entrepot DCGP"]
["TG6K17020002818","ABLOUNA","188003000016","Modem Huawei HG532","2017-08-11","Franchise MSAKEN","MSK0013F",1,"SOLD","Tunis Entrepot DCGP"]
["892160100122554909","SIGHW","043006000003","CARTE SIM 4G PRE MULTI SIM","2017-08-14","Franchise MSAKEN","MSK0013F",1,"SOLD","Tunis Entrepot DCGP"]
["357360080180653","RIGRAIET","083025001002","SERVICOM EASY 3 WHTE BLCK","2017-08-14","Franchise MSAKEN","MSK0013F",1,"SOLD","Tunis Entrepot DCGP"]
["","RIGRAIET","044004000010","Recharge Express","2017-08-14","Franchise MSAKEN","MSK0013F",25,"SOLD","Tunis Entrepot DCGP"]
["892160100124728441","ABLOUNA","043007000004","CARTE SIM 4G DATA MULTI SIM","2017-08-11","Franchise MSAKEN","MSK0013F",1,"SOLD","Tunis Entrepot DCGP"]
["892160100122555657","RIGRAIET","043006000003","CARTE SIM 4G PRE MULTI SIM","2017-08-10","Franchise MSAKEN","MSK0013F",1,"SOLD","Tunis Entrepot DCGP"]
["892160100122555574","ABLOUNA","043006000003","CARTE SIM 4G PRE MULTI SIM","2017-08-09","Franchise MSAKEN","MSK0013F",1,"SOLD","Tunis Entrepot DCGP"]
["","ABLOUNA","044004000010","Recharge Express","2017-08-09","Franchise MSAKEN","MSK0013F",10,"SOLD","Tunis Entrepot DCGP"]
["","ASLOGHM","044004000010","Recharge Express","2017-08-14","Franchise MSAKEN","MSK0013F",9,"SOLD","Tunis Entrepot DCGP"]
["869470014292697","ASLOGHM","046002000060","DOMINO E5220 WHITE","2017-08-08","Franchise MSAKEN","MSK0013F",1,"SOLD","Tunis Entrepot DCGP"]
["892160100124728417","ASLOGHM","043007000004","CARTE SIM 4G DATA MULTI SIM","2017-08-08","Franchise MSAKEN","MSK0013F",1,"SOLD","Tunis Entrepot DCGP"]
["892160100122555557","ASLOGHM","043006000003","CARTE SIM 4G PRE MULTI SIM","2017-08-08","Franchise MSAKEN","MSK0013F",1,"SOLD","Tunis Entrepot DCGP"]
["","ABLOUNA","044004000010","Recharge Express","2017-08-08","Franchise MSAKEN","MSK0013F",5,"SOLD","Tunis Entrepot DCGP"]
["892160100122554938","ASLOGHM","043006000003","CARTE SIM 4G PRE MULTI SIM","2017-08-14","Franchise MSAKEN","MSK0013F",1,"SOLD","Tunis Entrepot DCGP"]
["","RIGRAIET","999100001003","SERVICE TRANSFERT CONTACT","2017-08-10","Franchise MSAKEN","MSK0013F",1,"SOLD","Tunis Entrepot DCGP"]
["892160100122555567","ABLOUNA","043006000003","CARTE SIM 4G PRE MULTI SIM","2017-08-08","Franchise MSAKEN","MSK0013F",1,"SOLD","Tunis Entrepot DCGP"]
["892160100122555560","ASLOGHM","043006000003","CARTE SIM 4G PRE MULTI SIM","2017-08-08","Franchise MSAKEN","MSK0013F",1,"SOLD","Tunis Entrepot DCGP"]
["","ASLOGHM","044004000010","Recharge Express","2017-08-08","Franchise MSAKEN","MSK0013F",20,"SOLD","Tunis Entrepot DCGP"]
["892160100124729156","ASLOGHM","043007000004","CARTE SIM 4G DATA MULTI SIM","2017-08-14","Franchise MSAKEN","MSK0013F",1,"SOLD","Tunis Entrepot DCGP"]
["892160100124729152","ASLOGHM","043007000004","CARTE SIM 4G DATA MULTI SIM","2017-08-15","Franchise MSAKEN","MSK0013F",1,"SOLD","Tunis Entrepot DCGP"]
["892160100123469073","ABLOUNA","043001000114","CARTE PREACTIVEE VD","2017-08-15","Franchise MSAKEN","MSK0013F",1,"SOLD","Tunis Entrepot DCGP"]
["892160100123469072","ABLOUNA","043001000114","CARTE PREACTIVEE VD","2017-08-15","Franchise MSAKEN","MSK0013F",1,"SOLD","Tunis Entrepot DCGP"]
["","SIGHW","044004000010","Recharge Express","2017-08-14","Franchise MSAKEN","MSK0013F",30,"SOLD","Tunis Entrepot DCGP"]
["","RIGRAIET","044004000010","Recharge Express","2017-08-14","Franchise MSAKEN","MSK0013F",5,"SOLD","Tunis Entrepot DCGP"]
["","ABLOUNA","044004000010","Recharge Express","2017-08-15","Franchise MSAKEN","MSK0013F",13,"SOLD","Tunis Entrepot DCGP"]
["","ASLOGHM","044004000010","Recharge Express","2017-08-15","Franchise MSAKEN","MSK0013F",5,"SOLD","Tunis Entrepot DCGP"]
["","ASLOGHM","044004000010","Recharge Express","2017-08-15","Franchise MSAKEN","MSK0013F",20,"SOLD","Tunis Entrepot DCGP"]
["892160100122554940","ASLOGHM","043006000003","CARTE SIM 4G PRE MULTI SIM","2017-08-14","Franchise MSAKEN","MSK0013F",1,"SOLD","Tunis Entrepot DCGP"]
["892160100122555734","RIGRAIET","043006000003","CARTE SIM 4G PRE MULTI SIM","2017-08-14","Franchise MSAKEN","MSK0013F",1,"SOLD","Tunis Entrepot DCGP"]
["","ASLOGHM","044004000010","Recharge Express","2017-08-14","Franchise MSAKEN","MSK0013F",5,"SOLD","Tunis Entrepot DCGP"]
["892160100124729153","SIGHW","043007000004","CARTE SIM 4G DATA MULTI SIM","2017-08-15","Franchise MSAKEN","MSK0013F",1,"SOLD","Tunis Entrepot DCGP"]
["","RIGRAIET","999100001003","SERVICE TRANSFERT CONTACT","2017-08-11","Franchise MSAKEN","MSK0013F",1,"SOLD","Tunis Entrepot DCGP"]
["892160100122554907","RIGRAIET","043006000003","CARTE SIM 4G PRE MULTI SIM","2017-08-11","Franchise MSAKEN","MSK0013F",1,"SOLD","Tunis Entrepot DCGP"]
["","ABLOUNA","044004000010","Recharge Express","2017-08-11","Franchise MSAKEN","MSK0013F",10,"SOLD","Tunis Entrepot DCGP"]
["","RIGRAIET","044004000010","Recharge Express","2017-08-11","Franchise MSAKEN","MSK0013F",12,"SOLD","Tunis Entrepot DCGP"]
["892160100122555259","ABLOUNA","043006000003","CARTE SIM 4G PRE MULTI SIM","2017-08-10","Franchise MSAKEN","MSK0013F",1,"SOLD","Tunis Entrepot DCGP"]
["892160100122554905","RIGRAIET","043006000003","CARTE SIM 4G PRE MULTI SIM","2017-08-11","Franchise MSAKEN","MSK0013F",1,"SOLD","Tunis Entrepot DCGP"]
["","ABLOUNA","044004000010","Recharge Express","2017-08-10","Franchise MSAKEN","MSK0013F",5,"SOLD","Tunis Entrepot DCGP"]
["","ABLOUNA","044004000010","Recharge Express","2017-08-10","Franchise MSAKEN","MSK0013F",30,"SOLD","Tunis Entrepot DCGP"]
["","ABLOUNA","044004000010","Recharge Express","2017-08-10","Franchise MSAKEN","MSK0013F",25,"SOLD","Tunis Entrepot DCGP"]
["892160100122555697","ABLOUNA","043006000003","CARTE SIM 4G PRE MULTI SIM","2017-08-09","Franchise MSAKEN","MSK0013F",1,"SOLD","Tunis Entrepot DCGP"]
["892160100122555607","RIGRAIET","043006000003","CARTE SIM 4G PRE MULTI SIM","2017-08-09","Franchise MSAKEN","MSK0013F",1,"SOLD","Tunis Entrepot DCGP"]
["","RIGRAIET","044004000010","Recharge Express","2017-08-09","Franchise MSAKEN","MSK0013F",25,"SOLD","Tunis Entrepot DCGP"]
["892160100122555675","RIGRAIET","043006000003","CARTE SIM 4G PRE MULTI SIM","2017-08-12","Franchise MSAKEN","MSK0013F",1,"SOLD","Tunis Entrepot DCGP"]
["2168006000748","ABLOUNA","047006000161","Orange Wifi dock","2017-08-10","Franchise MSAKEN","MSK0013F",1,"SOLD","Tunis Entrepot DCGP"]
["867424023063575","ABLOUNA","046002000034","CLE 3G E3531","2017-08-10","Franchise MSAKEN","MSK0013F",1,"SOLD","Tunis Entrepot DCGP"]
["892160100124729178","ABLOUNA","043007000004","CARTE SIM 4G DATA MULTI SIM","2017-08-10","Franchise MSAKEN","MSK0013F",1,"SOLD","Tunis Entrepot DCGP"]
["","RIGRAIET","044004000010","Recharge Express","2017-08-09","Franchise MSAKEN","MSK0013F",12,"SOLD","Tunis Entrepot DCGP"]
["","SIGHW","044004000010","Recharge Express","2017-08-09","Franchise MSAKEN","MSK0013F",5,"SOLD","Tunis Entrepot DCGP"]
["892160100122555699","RIGRAIET","043006000003","CARTE SIM 4G PRE MULTI SIM","2017-08-11","Franchise MSAKEN","MSK0013F",1,"SOLD","Tunis Entrepot DCGP"]
["892160100122554903","ASLOGHM","043006000003","CARTE SIM 4G PRE MULTI SIM","2017-08-11","Franchise MSAKEN","MSK0013F",1,"SOLD","Tunis Entrepot DCGP"]
["","ABLOUNA","044004000010","Recharge Express","2017-08-10","Franchise MSAKEN","MSK0013F",25,"SOLD","Tunis Entrepot DCGP"]
["357360080132340","RIGRAIET","083025001003","SERVICOM EASY 3 BLEU","2017-08-10","Franchise MSAKEN","MSK0013F",1,"SOLD","Tunis Entrepot DCGP"]
["","ABLOUNA","044004000010","Recharge Express","2017-08-10","Franchise MSAKEN","MSK0013F",5,"SOLD","Tunis Entrepot DCGP"]
["892160100122555716","RIGRAIET","043006000003","CARTE SIM 4G PRE MULTI SIM","2017-08-14","Franchise MSAKEN","MSK0013F",1,"SOLD","Tunis Entrepot DCGP"]
["","ABLOUNA","044004000010","Recharge Express","2017-08-15","Franchise MSAKEN","MSK0013F",5,"SOLD","Tunis Entrepot DCGP"]
["892160100123469137","ABLOUNA","043001000114","CARTE PREACTIVEE VD","2017-08-15","Franchise MSAKEN","MSK0013F",1,"SOLD","Tunis Entrepot DCGP"]
["892160100123469138","ABLOUNA","043001000114","CARTE PREACTIVEE VD","2017-08-15","Franchise MSAKEN","MSK0013F",1,"SOLD","Tunis Entrepot DCGP"]
["","ASLOGHM","044004000010","Recharge Express","2017-08-15","Franchise MSAKEN","MSK0013F",5,"SOLD","Tunis Entrepot DCGP"]
["","ABLOUNA","044004000010","Recharge Express","2017-08-15","Franchise MSAKEN","MSK0013F",5,"SOLD","Tunis Entrepot DCGP"]
["","RIGRAIET","044004000010","Recharge Express","2017-08-12","Franchise MSAKEN","MSK0013F",10,"SOLD","Tunis Entrepot DCGP"]
["892160100122554880","RIGRAIET","043006000003","CARTE SIM 4G PRE MULTI SIM","2017-08-10","Franchise MSAKEN","MSK0013F",1,"SOLD","Tunis Entrepot DCGP"]
["","ASLOGHM","044004000010","Recharge Express","2017-08-15","Franchise MSAKEN","MSK0013F",5,"SOLD","Tunis Entrepot DCGP"]
["","ASLOGHM","044004000010","Recharge Express","2017-08-15","Franchise MSAKEN","MSK0013F",5,"SOLD","Tunis Entrepot DCGP"]
["892160100123469074","ASLOGHM","043001000114","CARTE PREACTIVEE VD","2017-08-15","Franchise MSAKEN","MSK0013F",1,"SOLD","Tunis Entrepot DCGP"]
["892160100123469100","ASLOGHM","043001000114","CARTE PREACTIVEE VD","2017-08-15","Franchise MSAKEN","MSK0013F",1,"SOLD","Tunis Entrepot DCGP"]
["892160100122554946","ASLOGHM","043006000003","CARTE SIM 4G PRE MULTI SIM","2017-08-15","Franchise MSAKEN","MSK0013F",1,"SOLD","Tunis Entrepot DCGP"]
["892160100122555652","SIGHW","043006000003","CARTE SIM 4G PRE MULTI SIM","2017-08-10","Franchise MSAKEN","MSK0013F",1,"SOLD","Tunis Entrepot DCGP"]
["","ASLOGHM","044004000010","Recharge Express","2017-08-10","Franchise MSAKEN","MSK0013F",12,"SOLD","Tunis Entrepot DCGP"]
["892160100122554854","SIGHW","043006000003","CARTE SIM 4G PRE MULTI SIM","2017-08-10","Franchise MSAKEN","MSK0013F",1,"SOLD","Tunis Entrepot DCGP"]
["","SIGHW","044004000010","Recharge Express","2017-08-14","Franchise MSAKEN","MSK0013F",12,"SOLD","Tunis Entrepot DCGP"]
["","RIGRAIET","044004000010","Recharge Express","2017-08-12","Franchise MSAKEN","MSK0013F",12,"SOLD","Tunis Entrepot DCGP"]
["892160100206713346","ABLOUNA","043008000001","CARTE SIM 4G FLYBOX","2017-08-14","Franchise MSAKEN","MSK0013F",1,"SOLD","Tunis Entrepot DCGP"]
["863605032642987","ABLOUNA","085001000011","FLYBOX B310","2017-08-14","Franchise MSAKEN","MSK0013F",1,"SOLD","Tunis Entrepot DCGP"]
["892160100124728460","RIGRAIET","043007000004","CARTE SIM 4G DATA MULTI SIM","2017-08-14","Franchise MSAKEN","MSK0013F",1,"SOLD","Tunis Entrepot DCGP"]
["892160100122554942","ASLOGHM","043006000003","CARTE SIM 4G PRE MULTI SIM","2017-08-14","Franchise MSAKEN","MSK0013F",1,"SOLD","Tunis Entrepot DCGP"]
["892160100124729174","RIGRAIET","043007000004","CARTE SIM 4G DATA MULTI SIM","2017-08-10","Franchise MSAKEN","MSK0013F",1,"SOLD","Tunis Entrepot DCGP"]
["892160100122554941","ASLOGHM","043006000003","CARTE SIM 4G PRE MULTI SIM","2017-08-14","Franchise MSAKEN","MSK0013F",1,"SOLD","Tunis Entrepot DCGP"]
["892160100124729147","SIGHW","043007000004","CARTE SIM 4G DATA MULTI SIM","2017-08-14","Franchise MSAKEN","MSK0013F",1,"SOLD","Tunis Entrepot DCGP"]
["","ASLOGHM","044004000010","Recharge Express","2017-08-09","Franchise MSAKEN","MSK0013F",20,"SOLD","Tunis Entrepot DCGP"]
["892160100122555738","RIGRAIET","043006000003","CARTE SIM 4G PRE MULTI SIM","2017-08-12","Franchise MSAKEN","MSK0013F",1,"SOLD","Tunis Entrepot DCGP"]
["","ABLOUNA","044004000010","Recharge Express","2017-08-10","Franchise MSAKEN","MSK0013F",5,"SOLD","Tunis Entrepot DCGP"]
["","RIGRAIET","044004000010","Recharge Express","2017-08-09","Franchise MSAKEN","MSK0013F",10,"SOLD","Tunis Entrepot DCGP"]
["","ABLOUNA","044004000010","Recharge Express","2017-08-14","Franchise MSAKEN","MSK0013F",5,"SOLD","Tunis Entrepot DCGP"]
["","ASLOGHM","044004000010","Recharge Express","2017-08-10","Franchise MSAKEN","MSK0013F",5,"SOLD","Tunis Entrepot DCGP"]
["892160100122555577","ASLOGHM","043006000003","CARTE SIM 4G PRE MULTI SIM","2017-08-09","Franchise MSAKEN","MSK0013F",1,"SOLD","Tunis Entrepot DCGP"]
["","RIGRAIET","044004000010","Recharge Express","2017-08-12","Franchise MSAKEN","MSK0013F",25,"SOLD","Tunis Entrepot DCGP"]
["","ABLOUNA","044004000010","Recharge Express","2017-08-12","Franchise MSAKEN","MSK0013F",1,"SOLD","Tunis Entrepot DCGP"]
["892160100122555707","RIGRAIET","043006000003","CARTE SIM 4G PRE MULTI SIM","2017-08-12","Franchise MSAKEN","MSK0013F",1,"SOLD","Tunis Entrepot DCGP"]
["","SIGHW","999100001003","SERVICE TRANSFERT CONTACT","2017-08-10","Franchise MSAKEN","MSK0013F",1,"SOLD","Tunis Entrepot DCGP"]
["","RIGRAIET","044004000010","Recharge Express","2017-08-09","Franchise MSAKEN","MSK0013F",10,"SOLD","Tunis Entrepot DCGP"]
["892160100122554865","SIGHW","043006000003","CARTE SIM 4G PRE MULTI SIM","2017-08-10","Franchise MSAKEN","MSK0013F",1,"SOLD","Tunis Entrepot DCGP"]
["892160100122555682","RIGRAIET","043006000003","CARTE SIM 4G PRE MULTI SIM","2017-08-11","Franchise MSAKEN","MSK0013F",1,"SOLD","Tunis Entrepot DCGP"]
["","RIGRAIET","044004000010","Recharge Express","2017-08-11","Franchise MSAKEN","MSK0013F",5,"SOLD","Tunis Entrepot DCGP"]
["","RIGRAIET","044004000010","Recharge Express","2017-08-11","Franchise MSAKEN","MSK0013F",30,"SOLD","Tunis Entrepot DCGP"]
["892160100124728447","ABLOUNA","043007000004","CARTE SIM 4G DATA MULTI SIM","2017-08-11","Franchise MSAKEN","MSK0013F",1,"SOLD","Tunis Entrepot DCGP"]
["","ABLOUNA","044004000010","Recharge Express","2017-08-11","Franchise MSAKEN","MSK0013F",5,"SOLD","Tunis Entrepot DCGP"]
["892160100122554899","ASLOGHM","043006000003","CARTE SIM 4G PRE MULTI SIM","2017-08-11","Franchise MSAKEN","MSK0013F",1,"SOLD","Tunis Entrepot DCGP"]
["","ABLOUNA","044004000010","Recharge Express","2017-08-11","Franchise MSAKEN","MSK0013F",5,"SOLD","Tunis Entrepot DCGP"]
["892160100122554855","SIGHW","043006000003","CARTE SIM 4G PRE MULTI SIM","2017-08-10","Franchise MSAKEN","MSK0013F",1,"SOLD","Tunis Entrepot DCGP"]
["","ASLOGHM","044004000010","Recharge Express","2017-08-12","Franchise MSAKEN","MSK0013F",5,"SOLD","Tunis Entrepot DCGP"]
["892160100122555666","ABLOUNA","043006000003","CARTE SIM 4G PRE MULTI SIM","2017-08-12","Franchise MSAKEN","MSK0013F",1,"SOLD","Tunis Entrepot DCGP"]
["","ABLOUNA","044004000010","Recharge Express","2017-08-12","Franchise MSAKEN","MSK0013F",5,"SOLD","Tunis Entrepot DCGP"]
["","SIGHW","044004000010","Recharge Express","2017-08-12","Franchise MSAKEN","MSK0013F",5,"SOLD","Tunis Entrepot DCGP"]
["892160100122555670","SIGHW","043006000003","CARTE SIM 4G PRE MULTI SIM","2017-08-12","Franchise MSAKEN","MSK0013F",1,"SOLD","Tunis Entrepot DCGP"]
["","RIGRAIET","999100001003","SERVICE TRANSFERT CONTACT","2017-08-11","Franchise MSAKEN","MSK0013F",1,"SOLD","Tunis Entrepot DCGP"]
["892160100122554908","RIGRAIET","043006000003","CARTE SIM 4G PRE MULTI SIM","2017-08-11","Franchise MSAKEN","MSK0013F",1,"SOLD","Tunis Entrepot DCGP"]
["892160100124729130","ASLOGHM","043007000004","CARTE SIM 4G DATA MULTI SIM","2017-08-10","Franchise MSAKEN","MSK0013F",1,"SOLD","Tunis Entrepot DCGP"]
["892160100122555708","ABLOUNA","043006000003","CARTE SIM 4G PRE MULTI SIM","2017-08-12","Franchise MSAKEN","MSK0013F",1,"SOLD","Tunis Entrepot DCGP"]
["","SIGHW","044004000010","Recharge Express","2017-08-11","Franchise MSAKEN","MSK0013F",5,"SOLD","Tunis Entrepot DCGP"]
["892160100122554894","ASLOGHM","043006000003","CARTE SIM 4G PRE MULTI SIM","2017-08-11","Franchise MSAKEN","MSK0013F",1,"SOLD","Tunis Entrepot DCGP"]
["","SIGHW","044004000010","Recharge Express","2017-08-14","Franchise MSAKEN","MSK0013F",25,"SOLD","Tunis Entrepot DCGP"]
["892160100122554873","RIGRAIET","043006000003","CARTE SIM 4G PRE MULTI SIM","2017-08-11","Franchise MSAKEN","MSK0013F",1,"SOLD","Tunis Entrepot DCGP"]
["","ASLOGHM","044004000010","Recharge Express","2017-08-11","Franchise MSAKEN","MSK0013F",12,"SOLD","Tunis Entrepot DCGP"]
["892160100122554887","SIGHW","043006000003","CARTE SIM 4G PRE MULTI SIM","2017-08-11","Franchise MSAKEN","MSK0013F",1,"SOLD","Tunis Entrepot DCGP"]
["892160100124729177","SIGHW","043007000004","CARTE SIM 4G DATA MULTI SIM","2017-08-11","Franchise MSAKEN","MSK0013F",1,"SOLD","Tunis Entrepot DCGP"]
["","RIGRAIET","999100001003","SERVICE TRANSFERT CONTACT","2017-08-11","Franchise MSAKEN","MSK0013F",1,"SOLD","Tunis Entrepot DCGP"]
["","ASLOGHM","084006000285","CLE USB SANDISK 8GB","2017-08-14","Franchise MSAKEN","MSK0013F",1,"SOLD","Tunis Entrepot DCGP"]
["","ABLOUNA","044004000010","Recharge Express","2017-08-11","Franchise MSAKEN","MSK0013F",10,"SOLD","Tunis Entrepot DCGP"]
["892160100122555700","ABLOUNA","043006000003","CARTE SIM 4G PRE MULTI SIM","2017-08-11","Franchise MSAKEN","MSK0013F",1,"SOLD","Tunis Entrepot DCGP"]
["892160100124728450","ABLOUNA","043007000004","CARTE SIM 4G DATA MULTI SIM","2017-08-11","Franchise MSAKEN","MSK0013F",1,"SOLD","Tunis Entrepot DCGP"]
["892160100124728452","SIGHW","043007000004","CARTE SIM 4G DATA MULTI SIM","2017-08-12","Franchise MSAKEN","MSK0013F",1,"SOLD","Tunis Entrepot DCGP"]
["892160100124729139","ASLOGHM","043007000004","CARTE SIM 4G DATA MULTI SIM","2017-08-11","Franchise MSAKEN","MSK0013F",1,"SOLD","Tunis Entrepot DCGP"]
["892160100122554860","ASLOGHM","043006000003","CARTE SIM 4G PRE MULTI SIM","2017-08-10","Franchise MSAKEN","MSK0013F",1,"SOLD","Tunis Entrepot DCGP"]
["","ASLOGHM","044004000010","Recharge Express","2017-08-11","Franchise MSAKEN","MSK0013F",25,"SOLD","Tunis Entrepot DCGP"]
["892160100122555726","ABLOUNA","043006000003","CARTE SIM 4G PRE MULTI SIM","2017-08-15","Franchise MSAKEN","MSK0013F",1,"SOLD","Tunis Entrepot DCGP"]
["892160100122555706","ABLOUNA","043006000003","CARTE SIM 4G PRE MULTI SIM","2017-08-11","Franchise MSAKEN","MSK0013F",1,"SOLD","Tunis Entrepot DCGP"]
["","ABLOUNA","044004000010","Recharge Express","2017-08-14","Franchise MSAKEN","MSK0013F",15,"SOLD","Tunis Entrepot DCGP"]
["","ASLOGHM","044004000010","Recharge Express","2017-08-09","Franchise MSAKEN","MSK0013F",12,"SOLD","Tunis Entrepot DCGP"]
["","ASLOGHM","044004000010","Recharge Express","2017-08-09","Franchise MSAKEN","MSK0013F",5,"SOLD","Tunis Entrepot DCGP"]
["892160100122555581","ASLOGHM","043006000003","CARTE SIM 4G PRE MULTI SIM","2017-08-09","Franchise MSAKEN","MSK0013F",1,"SOLD","Tunis Entrepot DCGP"]
["","ABLOUNA","044004000010","Recharge Express","2017-08-10","Franchise MSAKEN","MSK0013F",5,"SOLD","Tunis Entrepot DCGP"]
["892160100122554934","ABLOUNA","043006000003","CARTE SIM 4G PRE MULTI SIM","2017-08-15","Franchise MSAKEN","MSK0013F",1,"SOLD","Tunis Entrepot DCGP"]
["","ABLOUNA","044004000010","Recharge Express","2017-08-10","Franchise MSAKEN","MSK0013F",5,"SOLD","Tunis Entrepot DCGP"]
["","ASLOGHM","047006000255","SANGLE PVC PORTABLE","2017-08-14","Franchise MSAKEN","MSK0013F",1,"SOLD","Tunis Entrepot DCGP"]
["","SIGHW","044004000010","Recharge Express","2017-08-10","Franchise MSAKEN","MSK0013F",10,"SOLD","Tunis Entrepot DCGP"]
["","RIGRAIET","044004000010","Recharge Express","2017-08-10","Franchise MSAKEN","MSK0013F",5,"SOLD","Tunis Entrepot DCGP"]
["892160100122554878","RIGRAIET","043006000003","CARTE SIM 4G PRE MULTI SIM","2017-08-10","Franchise MSAKEN","MSK0013F",1,"SOLD","Tunis Entrepot DCGP"]
["","ABLOUNA","044004000010","Recharge Express","2017-08-10","Franchise MSAKEN","MSK0013F",12,"SOLD","Tunis Entrepot DCGP"]
["892160100122555571","ABLOUNA","043006000003","CARTE SIM 4G PRE MULTI SIM","2017-08-10","Franchise MSAKEN","MSK0013F",1,"SOLD","Tunis Entrepot DCGP"]
["892160100123469165","ABLOUNA","043001000114","CARTE PREACTIVEE VD","2017-08-15","Franchise MSAKEN","MSK0013F",1,"SOLD","Tunis Entrepot DCGP"]
["","ABLOUNA","044004000010","Recharge Express","2017-08-10","Franchise MSAKEN","MSK0013F",1,"SOLD","Tunis Entrepot DCGP"]
["892160100122555709","ABLOUNA","043006000003","CARTE SIM 4G PRE MULTI SIM","2017-08-10","Franchise MSAKEN","MSK0013F",1,"SOLD","Tunis Entrepot DCGP"]
["","ASLOGHM","044004000010","Recharge Express","2017-08-15","Franchise MSAKEN","MSK0013F",15,"SOLD","Tunis Entrepot DCGP"]
["892160100122554935","ABLOUNA","043006000003","CARTE SIM 4G PRE MULTI SIM","2017-08-15","Franchise MSAKEN","MSK0013F",1,"SOLD","Tunis Entrepot DCGP"]
["892160100122555742","ASLOGHM","043006000003","CARTE SIM 4G PRE MULTI SIM","2017-08-11","Franchise MSAKEN","MSK0013F",1,"SOLD","Tunis Entrepot DCGP"]
["892160100124729160","ASLOGHM","043007000004","CARTE SIM 4G DATA MULTI SIM","2017-08-14","Franchise MSAKEN","MSK0013F",1,"SOLD","Tunis Entrepot DCGP"]
["TG6K17020002842","SIGHW","188003000016","Modem Huawei HG532","2017-08-10","Franchise MSAKEN","MSK0013F",1,"SOLD","Tunis Entrepot DCGP"]
["","RIGRAIET","999100001003","SERVICE TRANSFERT CONTACT","2017-08-14","Franchise MSAKEN","MSK0013F",1,"SOLD","Tunis Entrepot DCGP"]
["","SIGHW","044004000010","Recharge Express","2017-08-10","Franchise MSAKEN","MSK0013F",5,"SOLD","Tunis Entrepot DCGP"]
["892160100124729126","SIGHW","043007000004","CARTE SIM 4G DATA MULTI SIM","2017-08-09","Franchise MSAKEN","MSK0013F",1,"SOLD","Tunis Entrepot DCGP"]
["892160100122555684","ASLOGHM","043006000003","CARTE SIM 4G PRE MULTI SIM","2017-08-12","Franchise MSAKEN","MSK0013F",1,"SOLD","Tunis Entrepot DCGP"]
["892160100122554872","RIGRAIET","043006000003","CARTE SIM 4G PRE MULTI SIM","2017-08-11","Franchise MSAKEN","MSK0013F",1,"SOLD","Tunis Entrepot DCGP"]
["892160100122554893","ASLOGHM","043006000003","CARTE SIM 4G PRE MULTI SIM","2017-08-11","Franchise MSAKEN","MSK0013F",1,"SOLD","Tunis Entrepot DCGP"]
["","SIGHW","044004000010","Recharge Express","2017-08-14","Franchise MSAKEN","MSK0013F",22,"SOLD","Tunis Entrepot DCGP"]
["","ASLOGHM","044004000010","Recharge Express","2017-08-11","Franchise MSAKEN","MSK0013F",25,"SOLD","Tunis Entrepot DCGP"]
["892160100122555741","ASLOGHM","043006000003","CARTE SIM 4G PRE MULTI SIM","2017-08-11","Franchise MSAKEN","MSK0013F",1,"SOLD","Tunis Entrepot DCGP"]
["TG6K17020002841","RIGRAIET","188003000016","Modem Huawei HG532","2017-08-11","Franchise MSAKEN","MSK0013F",1,"SOLD","Tunis Entrepot DCGP"]
["892160100122554884","ABLOUNA","043006000003","CARTE SIM 4G PRE MULTI SIM","2017-08-10","Franchise MSAKEN","MSK0013F",1,"SOLD","Tunis Entrepot DCGP"]
["","RIGRAIET","044004000010","Recharge Express","2017-08-10","Franchise MSAKEN","MSK0013F",20,"SOLD","Tunis Entrepot DCGP"]
["867424023062049","RIGRAIET","046002000034","CLE 3G E3531","2017-08-10","Franchise MSAKEN","MSK0013F",1,"SOLD","Tunis Entrepot DCGP"]
["892160100124729168","RIGRAIET","043007000004","CARTE SIM 4G DATA MULTI SIM","2017-08-10","Franchise MSAKEN","MSK0013F",1,"SOLD","Tunis Entrepot DCGP"]
["","RIGRAIET","044004000010","Recharge Express","2017-08-12","Franchise MSAKEN","MSK0013F",10,"SOLD","Tunis Entrepot DCGP"]
["892160100124728454","SIGHW","043007000004","CARTE SIM 4G DATA MULTI SIM","2017-08-12","Franchise MSAKEN","MSK0013F",1,"SOLD","Tunis Entrepot DCGP"]
["","RIGRAIET","044004000010","Recharge Express","2017-08-10","Franchise MSAKEN","MSK0013F",5,"SOLD","Tunis Entrepot DCGP"]
["892160100122554877","RIGRAIET","043006000003","CARTE SIM 4G PRE MULTI SIM","2017-08-10","Franchise MSAKEN","MSK0013F",1,"SOLD","Tunis Entrepot DCGP"]
["892160100122555606","RIGRAIET","043006000003","CARTE SIM 4G PRE MULTI SIM","2017-08-09","Franchise MSAKEN","MSK0013F",1,"SOLD","Tunis Entrepot DCGP"]
["892160100122554915","SIGHW","043006000003","CARTE SIM 4G PRE MULTI SIM","2017-08-15","Franchise MSAKEN","MSK0013F",1,"SOLD","Tunis Entrepot DCGP"]
["892160100122555579","ASLOGHM","043006000003","CARTE SIM 4G PRE MULTI SIM","2017-08-09","Franchise MSAKEN","MSK0013F",1,"SOLD","Tunis Entrepot DCGP"]
["","RIGRAIET","044004000010","Recharge Express","2017-08-09","Franchise MSAKEN","MSK0013F",25,"SOLD","Tunis Entrepot DCGP"]
["892160100124729122","RIGRAIET","043007000004","CARTE SIM 4G DATA MULTI SIM","2017-08-09","Franchise MSAKEN","MSK0013F",1,"SOLD","Tunis Entrepot DCGP"]
["892160100122555655","RIGRAIET","043006000003","CARTE SIM 4G PRE MULTI SIM","2017-08-10","Franchise MSAKEN","MSK0013F",1,"SOLD","Tunis Entrepot DCGP"]
["3173088003360","SIGHW","047006000161","Orange Wifi dock","2017-08-09","Franchise MSAKEN","MSK0013F",1,"SOLD","Tunis Entrepot DCGP"]
["867424023061892","SIGHW","046002000034","CLE 3G E3531","2017-08-09","Franchise MSAKEN","MSK0013F",1,"SOLD","Tunis Entrepot DCGP"]
["892160100124729127","SIGHW","043007000004","CARTE SIM 4G DATA MULTI SIM","2017-08-09","Franchise MSAKEN","MSK0013F",1,"SOLD","Tunis Entrepot DCGP"]
["","ABLOUNA","044004000010","Recharge Express","2017-08-09","Franchise MSAKEN","MSK0013F",25,"SOLD","Tunis Entrepot DCGP"]
["865205021630206","RIGRAIET","046002000060","DOMINO E5220 WHITE","2017-08-09","Franchise MSAKEN","MSK0013F",1,"SOLD","Tunis Entrepot DCGP"]
["892160100124729121","RIGRAIET","043007000004","CARTE SIM 4G DATA MULTI SIM","2017-08-09","Franchise MSAKEN","MSK0013F",1,"SOLD","Tunis Entrepot DCGP"]
["892160100122555602","RIGRAIET","043006000003","CARTE SIM 4G PRE MULTI SIM","2017-08-09","Franchise MSAKEN","MSK0013F",1,"SOLD","Tunis Entrepot DCGP"]
["892160100122554868","SIGHW","043006000003","CARTE SIM 4G PRE MULTI SIM","2017-08-10","Franchise MSAKEN","MSK0013F",1,"SOLD","Tunis Entrepot DCGP"]
["","RIGRAIET","044004000010","Recharge Express","2017-08-10","Franchise MSAKEN","MSK0013F",1,"SOLD","Tunis Entrepot DCGP"]
["892160100122554881","ABLOUNA","043006000003","CARTE SIM 4G PRE MULTI SIM","2017-08-10","Franchise MSAKEN","MSK0013F",1,"SOLD","Tunis Entrepot DCGP"]
["TG6K17020002817","RIGRAIET","188003000016","Modem Huawei HG532","2017-08-09","Franchise MSAKEN","MSK0013F",1,"SOLD","Tunis Entrepot DCGP"]
["892160100122555683","ASLOGHM","043006000003","CARTE SIM 4G PRE MULTI SIM","2017-08-12","Franchise MSAKEN","MSK0013F",1,"SOLD","Tunis Entrepot DCGP"]
["892160100122555721","ABLOUNA","043006000003","CARTE SIM 4G PRE MULTI SIM","2017-08-12","Franchise MSAKEN","MSK0013F",1,"SOLD","Tunis Entrepot DCGP"]
["","ABLOUNA","044004000010","Recharge Express","2017-08-11","Franchise MSAKEN","MSK0013F",30,"SOLD","Tunis Entrepot DCGP"]
["TG6K17020004622","ABLOUNA","188003000016","Modem Huawei HG532","2017-08-15","Franchise MSAKEN","MSK0013F",1,"SOLD","Tunis Entrepot DCGP"]
["","ASLOGHM","044004000010","Recharge Express","2017-08-15","Franchise MSAKEN","MSK0013F",12,"SOLD","Tunis Entrepot DCGP"]
["","RIGRAIET","044004000010","Recharge Express","2017-08-12","Franchise MSAKEN","MSK0013F",2,"SOLD","Tunis Entrepot DCGP"]
["","ABLOUNA","044004000010","Recharge Express","2017-08-08","Franchise MSAKEN","MSK0013F",5,"SOLD","Tunis Entrepot DCGP"]
["892160100122555559","ASLOGHM","043006000003","CARTE SIM 4G PRE MULTI SIM","2017-08-08","Franchise MSAKEN","MSK0013F",1,"SOLD","Tunis Entrepot DCGP"]
["892160100124728418","ASLOGHM","043007000004","CARTE SIM 4G DATA MULTI SIM","2017-08-08","Franchise MSAKEN","MSK0013F",1,"SOLD","Tunis Entrepot DCGP"]
["","SIGHW","044004000010","Recharge Express","2017-08-14","Franchise MSAKEN","MSK0013F",30,"SOLD","Tunis Entrepot DCGP"]
["892160100122554856","SIGHW","043006000003","CARTE SIM 4G PRE MULTI SIM","2017-08-10","Franchise MSAKEN","MSK0013F",1,"SOLD","Tunis Entrepot DCGP"]
["892160100124729136","SIGHW","043007000004","CARTE SIM 4G DATA MULTI SIM","2017-08-10","Franchise MSAKEN","MSK0013F",1,"SOLD","Tunis Entrepot DCGP"]
["892160100124729134","SIGHW","043007000004","CARTE SIM 4G DATA MULTI SIM","2017-08-10","Franchise MSAKEN","MSK0013F",1,"SOLD","Tunis Entrepot DCGP"]
["892160100123469111","ABLOUNA","043001000114","CARTE PREACTIVEE VD","2017-08-08","Franchise MSAKEN","MSK0013F",1,"SOLD","Tunis Entrepot DCGP"]
["","SIGHW","044004000010","Recharge Express","2017-08-14","Franchise MSAKEN","MSK0013F",20,"SOLD","Tunis Entrepot DCGP"]
["892160100124729179","ABLOUNA","043007000004","CARTE SIM 4G DATA MULTI SIM","2017-08-10","Franchise MSAKEN","MSK0013F",1,"SOLD","Tunis Entrepot DCGP"]
["892160100122554911","SIGHW","043006000003","CARTE SIM 4G PRE MULTI SIM","2017-08-14","Franchise MSAKEN","MSK0013F",1,"SOLD","Tunis Entrepot DCGP"]
["892160100122555704","ABLOUNA","043006000003","CARTE SIM 4G PRE MULTI SIM","2017-08-11","Franchise MSAKEN","MSK0013F",1,"SOLD","Tunis Entrepot DCGP"]
["892160100122555610","RIGRAIET","043006000003","CARTE SIM 4G PRE MULTI SIM","2017-08-09","Franchise MSAKEN","MSK0013F",1,"SOLD","Tunis Entrepot DCGP"]
["","ASLOGHM","044004000010","Recharge Express","2017-08-10","Franchise MSAKEN","MSK0013F",5,"SOLD","Tunis Entrepot DCGP"]
["892160100122554867","SIGHW","043006000003","CARTE SIM 4G PRE MULTI SIM","2017-08-10","Franchise MSAKEN","MSK0013F",1,"SOLD","Tunis Entrepot DCGP"]
["892160100124728443","SIGHW","043007000004","CARTE SIM 4G DATA MULTI SIM","2017-08-11","Franchise MSAKEN","MSK0013F",1,"SOLD","Tunis Entrepot DCGP"]
["","SIGHW","044004000010","Recharge Express","2017-08-10","Franchise MSAKEN","MSK0013F",30,"SOLD","Tunis Entrepot DCGP"]
["","ABLOUNA","044004000010","Recharge Express","2017-08-14","Franchise MSAKEN","MSK0013F",10,"SOLD","Tunis Entrepot DCGP"]
["","ABLOUNA","044004000010","Recharge Express","2017-08-14","Franchise MSAKEN","MSK0013F",30,"SOLD","Tunis Entrepot DCGP"]
["892160100122554912","SIGHW","043006000003","CARTE SIM 4G PRE MULTI SIM","2017-08-14","Franchise MSAKEN","MSK0013F",1,"SOLD","Tunis Entrepot DCGP"]
["863605032642144","SIGHW","085001000011","FLYBOX B310","2017-08-14","Franchise MSAKEN","MSK0013F",1,"SOLD","Tunis Entrepot DCGP"]
["892160100206713347","SIGHW","043008000001","CARTE SIM 4G FLYBOX","2017-08-14","Franchise MSAKEN","MSK0013F",1,"SOLD","Tunis Entrepot DCGP"]
["","ASLOGHM","044004000010","Recharge Express","2017-08-11","Franchise MSAKEN","MSK0013F",5,"SOLD","Tunis Entrepot DCGP"]
["892160100122555743","ASLOGHM","043006000003","CARTE SIM 4G PRE MULTI SIM","2017-08-11","Franchise MSAKEN","MSK0013F",1,"SOLD","Tunis Entrepot DCGP"]
["892160100122554871","RIGRAIET","043006000003","CARTE SIM 4G PRE MULTI SIM","2017-08-11","Franchise MSAKEN","MSK0013F",1,"SOLD","Tunis Entrepot DCGP"]
["892160100206713348","RIGRAIET","043008000001","CARTE SIM 4G FLYBOX","2017-08-14","Franchise MSAKEN","MSK0013F",1,"SOLD","Tunis Entrepot DCGP"]
["892160100122554910","SIGHW","043006000003","CARTE SIM 4G PRE MULTI SIM","2017-08-14","Franchise MSAKEN","MSK0013F",1,"SOLD","Tunis Entrepot DCGP"]
["","ASLOGHM","044004000010","Recharge Express","2017-08-10","Franchise MSAKEN","MSK0013F",12,"SOLD","Tunis Entrepot DCGP"]
["","SIGHW","044004000010","Recharge Express","2017-08-09","Franchise MSAKEN","MSK0013F",5,"SOLD","Tunis Entrepot DCGP"]
["867424023061595","ABLOUNA","046002000034","CLE 3G E3531","2017-08-12","Franchise MSAKEN","MSK0013F",1,"SOLD","Tunis Entrepot DCGP"]
["892160100124729142","ABLOUNA","043007000004","CARTE SIM 4G DATA MULTI SIM","2017-08-12","Franchise MSAKEN","MSK0013F",1,"SOLD","Tunis Entrepot DCGP"]
["892160100124728459","RIGRAIET","043007000004","CARTE SIM 4G DATA MULTI SIM","2017-08-14","Franchise MSAKEN","MSK0013F",1,"SOLD","Tunis Entrepot DCGP"]
["892160100122555725","ABLOUNA","043006000003","CARTE SIM 4G PRE MULTI SIM","2017-08-14","Franchise MSAKEN","MSK0013F",1,"SOLD","Tunis Entrepot DCGP"]
["TG6K17020004621","RIGRAIET","188003000016","Modem Huawei HG532","2017-08-14","Franchise MSAKEN","MSK0013F",1,"SOLD","Tunis Entrepot DCGP"]
["","ASLOGHM","044004000010","Recharge Express","2017-08-11","Franchise MSAKEN","MSK0013F",10,"SOLD","Tunis Entrepot DCGP"]
["","SIGHW","044004000010","Recharge Express","2017-08-10","Franchise MSAKEN","MSK0013F",5,"SOLD","Tunis Entrepot DCGP"]
["892160100124729135","ASLOGHM","043007000004","CARTE SIM 4G DATA MULTI SIM","2017-08-10","Franchise MSAKEN","MSK0013F",1,"SOLD","Tunis Entrepot DCGP"]
["","RIGRAIET","044004000010","Recharge Express","2017-08-10","Franchise MSAKEN","MSK0013F",30,"SOLD","Tunis Entrepot DCGP"]
["","ABLOUNA","044004000010","Recharge Express","2017-08-10","Franchise MSAKEN","MSK0013F",5,"SOLD","Tunis Entrepot DCGP"]
["892160100122554883","ABLOUNA","043006000003","CARTE SIM 4G PRE MULTI SIM","2017-08-10","Franchise MSAKEN","MSK0013F",1,"SOLD","Tunis Entrepot DCGP"]
["892160100122554896","ASLOGHM","043006000003","CARTE SIM 4G PRE MULTI SIM","2017-08-11","Franchise MSAKEN","MSK0013F",1,"SOLD","Tunis Entrepot DCGP"]
["","SIGHW","044004000010","Recharge Express","2017-08-11","Franchise MSAKEN","MSK0013F",10,"SOLD","Tunis Entrepot DCGP"]
["892160100124729176","ASLOGHM","043007000004","CARTE SIM 4G DATA MULTI SIM","2017-08-11","Franchise MSAKEN","MSK0013F",1,"SOLD","Tunis Entrepot DCGP"]
["892160100122554864","SIGHW","043006000003","CARTE SIM 4G PRE MULTI SIM","2017-08-10","Franchise MSAKEN","MSK0013F",1,"SOLD","Tunis Entrepot DCGP"]
["892160100122555654","SIGHW","043006000003","CARTE SIM 4G PRE MULTI SIM","2017-08-10","Franchise MSAKEN","MSK0013F",1,"SOLD","Tunis Entrepot DCGP"]
["892160100122554852","SIGHW","043006000003","CARTE SIM 4G PRE MULTI SIM","2017-08-10","Franchise MSAKEN","MSK0013F",1,"SOLD","Tunis Entrepot DCGP"]
["","ABLOUNA","044004000010","Recharge Express","2017-08-08","Franchise MSAKEN","MSK0013F",7,"SOLD","Tunis Entrepot DCGP"]
["892160100124728456","RIGRAIET","043007000004","CARTE SIM 4G DATA MULTI SIM","2017-08-14","Franchise MSAKEN","MSK0013F",1,"SOLD","Tunis Entrepot DCGP"]
["","SIGHW","044004000010","Recharge Express","2017-08-10","Franchise MSAKEN","MSK0013F",15,"SOLD","Tunis Entrepot DCGP"]
["867424023061421","SIGHW","046002000034","CLE 3G E3531","2017-08-10","Franchise MSAKEN","MSK0013F",1,"SOLD","Tunis Entrepot DCGP"]
["892160100124729165","SIGHW","043007000004","CARTE SIM 4G DATA MULTI SIM","2017-08-10","Franchise MSAKEN","MSK0013F",1,"SOLD","Tunis Entrepot DCGP"]
["","ASLOGHM","999100001003","SERVICE TRANSFERT CONTACT","2017-08-15","Franchise MSAKEN","MSK0013F",1,"SOLD","Tunis Entrepot DCGP"]
["","RIGRAIET","044004000010","Recharge Express","2017-08-12","Franchise MSAKEN","MSK0013F",5,"SOLD","Tunis Entrepot DCGP"]
["892160100122555678","RIGRAIET","043006000003","CARTE SIM 4G PRE MULTI SIM","2017-08-12","Franchise MSAKEN","MSK0013F",1,"SOLD","Tunis Entrepot DCGP"]
["892160100122555739","RIGRAIET","043006000003","CARTE SIM 4G PRE MULTI SIM","2017-08-11","Franchise MSAKEN","MSK0013F",1,"SOLD","Tunis Entrepot DCGP"]
["892160100124729175","ASLOGHM","043007000004","CARTE SIM 4G DATA MULTI SIM","2017-08-11","Franchise MSAKEN","MSK0013F",1,"SOLD","Tunis Entrepot DCGP"]
["2168006000724","ASLOGHM","047006000161","Orange Wifi dock","2017-08-11","Franchise MSAKEN","MSK0013F",1,"SOLD","Tunis Entrepot DCGP"]
["867424023065794","ASLOGHM","046002000034","CLE 3G E3531","2017-08-11","Franchise MSAKEN","MSK0013F",1,"SOLD","Tunis Entrepot DCGP"]
["892160100124729180","ASLOGHM","043007000004","CARTE SIM 4G DATA MULTI SIM","2017-08-11","Franchise MSAKEN","MSK0013F",1,"SOLD","Tunis Entrepot DCGP"]
["892160100122555717","RIGRAIET","043006000003","CARTE SIM 4G PRE MULTI SIM","2017-08-15","Franchise MSAKEN","MSK0013F",1,"SOLD","Tunis Entrepot DCGP"]
["","ASLOGHM","044004000010","Recharge Express","2017-08-11","Franchise MSAKEN","MSK0013F",5,"SOLD","Tunis Entrepot DCGP"]
["","ASLOGHM","044004000010","Recharge Express","2017-08-11","Franchise MSAKEN","MSK0013F",5,"SOLD","Tunis Entrepot DCGP"]
["892160100122555656","RIGRAIET","043006000003","CARTE SIM 4G PRE MULTI SIM","2017-08-10","Franchise MSAKEN","MSK0013F",1,"SOLD","Tunis Entrepot DCGP"]
["892160100122554945","ASLOGHM","043006000003","CARTE SIM 4G PRE MULTI SIM","2017-08-15","Franchise MSAKEN","MSK0013F",1,"SOLD","Tunis Entrepot DCGP"]
["","ASLOGHM","044004000010","Recharge Express","2017-08-14","Franchise MSAKEN","MSK0013F",5,"SOLD","Tunis Entrepot DCGP"]
["892160100122555688","ASLOGHM","043006000003","CARTE SIM 4G PRE MULTI SIM","2017-08-12","Franchise MSAKEN","MSK0013F",1,"SOLD","Tunis Entrepot DCGP"]
["892160100122555681","ASLOGHM","043006000003","CARTE SIM 4G PRE MULTI SIM","2017-08-12","Franchise MSAKEN","MSK0013F",1,"SOLD","Tunis Entrepot DCGP"]
["","ASLOGHM","044004000010","Recharge Express","2017-08-11","Franchise MSAKEN","MSK0013F",10,"SOLD","Tunis Entrepot DCGP"]
["TG6K17020002820","RIGRAIET","188003000016","Modem Huawei HG532","2017-08-11","Franchise MSAKEN","MSK0013F",1,"SOLD","Tunis Entrepot DCGP"]
["892160100122554936","ASLOGHM","043006000003","CARTE SIM 4G PRE MULTI SIM","2017-08-14","Franchise MSAKEN","MSK0013F",1,"SOLD","Tunis Entrepot DCGP"]
["892160100124729157","ASLOGHM","043007000004","CARTE SIM 4G DATA MULTI SIM","2017-08-14","Franchise MSAKEN","MSK0013F",1,"SOLD","Tunis Entrepot DCGP"]
["","SIGHW","044004000010","Recharge Express","2017-08-14","Franchise MSAKEN","MSK0013F",5,"SOLD","Tunis Entrepot DCGP"]
["","ABLOUNA","044004000010","Recharge Express","2017-08-14","Franchise MSAKEN","MSK0013F",12,"SOLD","Tunis Entrepot DCGP"]
["892160100122555748","ASLOGHM","043006000003","CARTE SIM 4G PRE MULTI SIM","2017-08-10","Franchise MSAKEN","MSK0013F",1,"SOLD","Tunis Entrepot DCGP"]
["892160100122555572","SIGHW","043006000003","CARTE SIM 4G PRE MULTI SIM","2017-08-09","Franchise MSAKEN","MSK0013F",1,"SOLD","Tunis Entrepot DCGP"]
["","SIGHW","044004000010","Recharge Express","2017-08-09","Franchise MSAKEN","MSK0013F",12,"SOLD","Tunis Entrepot DCGP"]
["","ASLOGHM","044004000010","Recharge Express","2017-08-12","Franchise MSAKEN","MSK0013F",12,"SOLD","Tunis Entrepot DCGP"]
["","ASLOGHM","044004000010","Recharge Express","2017-08-12","Franchise MSAKEN","MSK0013F",12,"SOLD","Tunis Entrepot DCGP"]
["863605032642714","RIGRAIET","085001000011","FLYBOX B310","2017-08-10","Franchise MSAKEN","MSK0013F",1,"SOLD","Tunis Entrepot DCGP"]
["892160100206713355","RIGRAIET","043008000001","CARTE SIM 4G FLYBOX","2017-08-10","Franchise MSAKEN","MSK0013F",1,"SOLD","Tunis Entrepot DCGP"]
["892160100122554939","ASLOGHM","043006000003","CARTE SIM 4G PRE MULTI SIM","2017-08-14","Franchise MSAKEN","MSK0013F",1,"SOLD","Tunis Entrepot DCGP"]
["892160100122555715","RIGRAIET","043006000003","CARTE SIM 4G PRE MULTI SIM","2017-08-14","Franchise MSAKEN","MSK0013F",1,"SOLD","Tunis Entrepot DCGP"]
["892160100122555722","ABLOUNA","043006000003","CARTE SIM 4G PRE MULTI SIM","2017-08-14","Franchise MSAKEN","MSK0013F",1,"SOLD","Tunis Entrepot DCGP"]
["892160100122554930","ASLOGHM","043006000003","CARTE SIM 4G PRE MULTI SIM","2017-08-15","Franchise MSAKEN","MSK0013F",1,"SOLD","Tunis Entrepot DCGP"]
["357953087287404","ABLOUNA","045001074001","SAMSUNG GRAND PRIME + BLACK","2017-08-11","Franchise MSAKEN","MSK0013F",1,"SOLD","Tunis Entrepot DCGP"]
["","RIGRAIET","044004000010","Recharge Express","2017-08-10","Franchise MSAKEN","MSK0013F",30,"SOLD","Tunis Entrepot DCGP"]
["892160100122554859","ASLOGHM","043006000003","CARTE SIM 4G PRE MULTI SIM","2017-08-10","Franchise MSAKEN","MSK0013F",1,"SOLD","Tunis Entrepot DCGP"]
["","ABLOUNA","044004000010","Recharge Express","2017-08-15","Franchise MSAKEN","MSK0013F",15,"SOLD","Tunis Entrepot DCGP"]
["892160100122555650","SIGHW","043006000003","CARTE SIM 4G PRE MULTI SIM","2017-08-10","Franchise MSAKEN","MSK0013F",1,"SOLD","Tunis Entrepot DCGP"]
["892160100122555745","ASLOGHM","043006000003","CARTE SIM 4G PRE MULTI SIM","2017-08-10","Franchise MSAKEN","MSK0013F",1,"SOLD","Tunis Entrepot DCGP"]
["892160100122555687","RIGRAIET","043006000003","CARTE SIM 4G PRE MULTI SIM","2017-08-12","Franchise MSAKEN","MSK0013F",1,"SOLD","Tunis Entrepot DCGP"]
["","RIGRAIET","044004000010","Recharge Express","2017-08-11","Franchise MSAKEN","MSK0013F",5,"SOLD","Tunis Entrepot DCGP"]
["TG6K17020002824","SIGHW","188003000016","Modem Huawei HG532","2017-08-11","Franchise MSAKEN","MSK0013F",1,"SOLD","Tunis Entrepot DCGP"]
["356002086292865","RIGRAIET","045003051001","NOKIA 3310 BLEU","2017-08-09","Franchise MSAKEN","MSK0013F",1,"SOLD","Tunis Entrepot DCGP"]
["892160100122555605","RIGRAIET","043006000003","CARTE SIM 4G PRE MULTI SIM","2017-08-09","Franchise MSAKEN","MSK0013F",1,"SOLD","Tunis Entrepot DCGP"]
["","SIGHW","044004000010","Recharge Express","2017-08-14","Franchise MSAKEN","MSK0013F",22,"SOLD","Tunis Entrepot DCGP"]
["","SIGHW","044004000010","Recharge Express","2017-08-09","Franchise MSAKEN","MSK0013F",5,"SOLD","Tunis Entrepot DCGP"]
["","SIGHW","044004000010","Recharge Express","2017-08-09","Franchise MSAKEN","MSK0013F",5,"SOLD","Tunis Entrepot DCGP"]
["","SIGHW","044004000010","Recharge Express","2017-08-09","Franchise MSAKEN","MSK0013F",10,"SOLD","Tunis Entrepot DCGP"]
["892160100124729162","ABLOUNA","043007000004","CARTE SIM 4G DATA MULTI SIM","2017-08-09","Franchise MSAKEN","MSK0013F",1,"SOLD","Tunis Entrepot DCGP"]
["","SIGHW","044004000010","Recharge Express","2017-08-09","Franchise MSAKEN","MSK0013F",5,"SOLD","Tunis Entrepot DCGP"]
["","RIGRAIET","044004000010","Recharge Express","2017-08-12","Franchise MSAKEN","MSK0013F",10,"SOLD","Tunis Entrepot DCGP"]
["892160100124728451","SIGHW","043007000004","CARTE SIM 4G DATA MULTI SIM","2017-08-12","Franchise MSAKEN","MSK0013F",1,"SOLD","Tunis Entrepot DCGP"]
["892160100124729133","ASLOGHM","043007000004","CARTE SIM 4G DATA MULTI SIM","2017-08-10","Franchise MSAKEN","MSK0013F",1,"SOLD","Tunis Entrepot DCGP"]
["","ABLOUNA","044004000010","Recharge Express","2017-08-09","Franchise MSAKEN","MSK0013F",15,"SOLD","Tunis Entrepot DCGP"]
["","SIGHW","044004000010","Recharge Express","2017-08-09","Franchise MSAKEN","MSK0013F",5,"SOLD","Tunis Entrepot DCGP"]
["892160100122555603","SIGHW","043006000003","CARTE SIM 4G PRE MULTI SIM","2017-08-09","Franchise MSAKEN","MSK0013F",1,"SOLD","Tunis Entrepot DCGP"]
["892160100124729128","SIGHW","043007000004","CARTE SIM 4G DATA MULTI SIM","2017-08-09","Franchise MSAKEN","MSK0013F",1,"SOLD","Tunis Entrepot DCGP"]
["","SIGHW","044004000010","Recharge Express","2017-08-12","Franchise MSAKEN","MSK0013F",5,"SOLD","Tunis Entrepot DCGP"]
["","ASLOGHM","044004000010","Recharge Express","2017-08-12","Franchise MSAKEN","MSK0013F",10,"SOLD","Tunis Entrepot DCGP"]
["","SIGHW","044004000010","Recharge Express","2017-08-12","Franchise MSAKEN","MSK0013F",30,"SOLD","Tunis Entrepot DCGP"]
["","ABLOUNA","044004000010","Recharge Express","2017-08-11","Franchise MSAKEN","MSK0013F",5,"SOLD","Tunis Entrepot DCGP"]
["","ABLOUNA","044004000010","Recharge Express","2017-08-11","Franchise MSAKEN","MSK0013F",10,"SOLD","Tunis Entrepot DCGP"]
["","SIGHW","044004000010","Recharge Express","2017-08-15","Franchise MSAKEN","MSK0013F",25,"SOLD","Tunis Entrepot DCGP"]
["892160100122554897","ASLOGHM","043006000003","CARTE SIM 4G PRE MULTI SIM","2017-08-11","Franchise MSAKEN","MSK0013F",1,"SOLD","Tunis Entrepot DCGP"]
["892160100122554900","ASLOGHM","043006000003","CARTE SIM 4G PRE MULTI SIM","2017-08-11","Franchise MSAKEN","MSK0013F",1,"SOLD","Tunis Entrepot DCGP"]
["892160100122555702","ABLOUNA","043006000003","CARTE SIM 4G PRE MULTI SIM","2017-08-11","Franchise MSAKEN","MSK0013F",1,"SOLD","Tunis Entrepot DCGP"]
["","ASLOGHM","044004000010","Recharge Express","2017-08-11","Franchise MSAKEN","MSK0013F",5,"SOLD","Tunis Entrepot DCGP"]
["892160100122555744","SIGHW","043006000003","CARTE SIM 4G PRE MULTI SIM","2017-08-11","Franchise MSAKEN","MSK0013F",1,"SOLD","Tunis Entrepot DCGP"]
["892160100122554924","ABLOUNA","043006000003","CARTE SIM 4G PRE MULTI SIM","2017-08-15","Franchise MSAKEN","MSK0013F",1,"SOLD","Tunis Entrepot DCGP"]
["","ASLOGHM","044004000010","Recharge Express","2017-08-15","Franchise MSAKEN","MSK0013F",5,"SOLD","Tunis Entrepot DCGP"]
["892160100122554932","ABLOUNA","043006000003","CARTE SIM 4G PRE MULTI SIM","2017-08-15","Franchise MSAKEN","MSK0013F",1,"SOLD","Tunis Entrepot DCGP"]
["892160100124729155","ASLOGHM","043007000004","CARTE SIM 4G DATA MULTI SIM","2017-08-14","Franchise MSAKEN","MSK0013F",1,"SOLD","Tunis Entrepot DCGP"]
["892160100122554889","SIGHW","043006000003","CARTE SIM 4G PRE MULTI SIM","2017-08-11","Franchise MSAKEN","MSK0013F",1,"SOLD","Tunis Entrepot DCGP"]
["","ASLOGHM","044004000010","Recharge Express","2017-08-14","Franchise MSAKEN","MSK0013F",5,"SOLD","Tunis Entrepot DCGP"]
["892160100124729148","RIGRAIET","043007000004","CARTE SIM 4G DATA MULTI SIM","2017-08-14","Franchise MSAKEN","MSK0013F",1,"SOLD","Tunis Entrepot DCGP"]
["","ABLOUNA","044004000010","Recharge Express","2017-08-12","Franchise MSAKEN","MSK0013F",12,"SOLD","Tunis Entrepot DCGP"]
["","ABLOUNA","044004000010","Recharge Express","2017-08-12","Franchise MSAKEN","MSK0013F",18,"SOLD","Tunis Entrepot DCGP"]
["863605032642755","ABLOUNA","085001000011","FLYBOX B310","2017-08-08","Franchise MSAKEN","MSK0013F",1,"SOLD","Tunis Entrepot DCGP"]
["892160100206713357","ABLOUNA","043008000001","CARTE SIM 4G FLYBOX","2017-08-08","Franchise MSAKEN","MSK0013F",1,"SOLD","Tunis Entrepot DCGP"]
["892160100123469109","ABLOUNA","043001000114","CARTE PREACTIVEE VD","2017-08-08","Franchise MSAKEN","MSK0013F",1,"SOLD","Tunis Entrepot DCGP"]
["","SIGHW","044004000010","Recharge Express","2017-08-14","Franchise MSAKEN","MSK0013F",15,"SOLD","Tunis Entrepot DCGP"]
["","SIGHW","044004000010","Recharge Express","2017-08-11","Franchise MSAKEN","MSK0013F",30,"SOLD","Tunis Entrepot DCGP"]
["","RIGRAIET","044004000010","Recharge Express","2017-08-11","Franchise MSAKEN","MSK0013F",60,"SOLD","Tunis Entrepot DCGP"]
["","ABLOUNA","044004000010","Recharge Express","2017-08-15","Franchise MSAKEN","MSK0013F",5,"SOLD","Tunis Entrepot DCGP"]
["892160100123469166","ABLOUNA","043001000114","CARTE PREACTIVEE VD","2017-08-15","Franchise MSAKEN","MSK0013F",1,"SOLD","Tunis Entrepot DCGP"]
["892160100124729158","ASLOGHM","043007000004","CARTE SIM 4G DATA MULTI SIM","2017-08-14","Franchise MSAKEN","MSK0013F",1,"SOLD","Tunis Entrepot DCGP"]
["","SIGHW","044004000010","Recharge Express","2017-08-14","Franchise MSAKEN","MSK0013F",10,"SOLD","Tunis Entrepot DCGP"]
["892160100122554917","SIGHW","043006000003","CARTE SIM 4G PRE MULTI SIM","2017-08-14","Franchise MSAKEN","MSK0013F",1,"SOLD","Tunis Entrepot DCGP"]
["","RIGRAIET","044004000010","Recharge Express","2017-08-12","Franchise MSAKEN","MSK0013F",15,"SOLD","Tunis Entrepot DCGP"]
["892160100124728449","RIGRAIET","043007000004","CARTE SIM 4G DATA MULTI SIM","2017-08-11","Franchise MSAKEN","MSK0013F",1,"SOLD","Tunis Entrepot DCGP"]
["","RIGRAIET","044004000010","Recharge Express","2017-08-12","Franchise MSAKEN","MSK0013F",10,"SOLD","Tunis Entrepot DCGP"]
["","RIGRAIET","044004000010","Recharge Express","2017-08-12","Franchise MSAKEN","MSK0013F",5,"SOLD","Tunis Entrepot DCGP"]
["","RIGRAIET","044004000010","Recharge Express","2017-08-12","Franchise MSAKEN","MSK0013F",1,"SOLD","Tunis Entrepot DCGP"]
["","ABLOUNA","044004000010","Recharge Express","2017-08-14","Franchise MSAKEN","MSK0013F",10,"SOLD","Tunis Entrepot DCGP"]
["","SIGHW","044004000010","Recharge Express","2017-08-14","Franchise MSAKEN","MSK0013F",10,"SOLD","Tunis Entrepot DCGP"]
["892160100122554916","SIGHW","043006000003","CARTE SIM 4G PRE MULTI SIM","2017-08-14","Franchise MSAKEN","MSK0013F",1,"SOLD","Tunis Entrepot DCGP"]
["","SIGHW","044004000010","Recharge Express","2017-08-11","Franchise MSAKEN","MSK0013F",5,"SOLD","Tunis Entrepot DCGP"]
["TG6K17020002815","ABLOUNA","188003000016","Modem Huawei HG532","2017-08-10","Franchise MSAKEN","MSK0013F",1,"SOLD","Tunis Entrepot DCGP"]
["892160100122554862","SIGHW","043006000003","CARTE SIM 4G PRE MULTI SIM","2017-08-10","Franchise MSAKEN","MSK0013F",1,"SOLD","Tunis Entrepot DCGP"]
["","ASLOGHM","999100001003","SERVICE TRANSFERT CONTACT","2017-08-12","Franchise MSAKEN","MSK0013F",1,"SOLD","Tunis Entrepot DCGP"]
["892160100122555685","SIGHW","043006000003","CARTE SIM 4G PRE MULTI SIM","2017-08-12","Franchise MSAKEN","MSK0013F",1,"SOLD","Tunis Entrepot DCGP"]
["892160100122555673","SIGHW","043006000003","CARTE SIM 4G PRE MULTI SIM","2017-08-12","Franchise MSAKEN","MSK0013F",1,"SOLD","Tunis Entrepot DCGP"]
["892160100122555729","RIGRAIET","043006000003","CARTE SIM 4G PRE MULTI SIM","2017-08-14","Franchise MSAKEN","MSK0013F",1,"SOLD","Tunis Entrepot DCGP"]
["892160100124728442","SIGHW","043007000004","CARTE SIM 4G DATA MULTI SIM","2017-08-11","Franchise MSAKEN","MSK0013F",1,"SOLD","Tunis Entrepot DCGP"]
["892160100122555746","ASLOGHM","043006000003","CARTE SIM 4G PRE MULTI SIM","2017-08-10","Franchise MSAKEN","MSK0013F",1,"SOLD","Tunis Entrepot DCGP"]
["892160100124729167","ASLOGHM","043007000004","CARTE SIM 4G DATA MULTI SIM","2017-08-10","Franchise MSAKEN","MSK0013F",1,"SOLD","Tunis Entrepot DCGP"]
["","ABLOUNA","044004000010","Recharge Express","2017-08-10","Franchise MSAKEN","MSK0013F",5,"SOLD","Tunis Entrepot DCGP"]
["892160100122554863","SIGHW","043006000003","CARTE SIM 4G PRE MULTI SIM","2017-08-10","Franchise MSAKEN","MSK0013F",1,"SOLD","Tunis Entrepot DCGP"]
["892160100124729131","SIGHW","043007000004","CARTE SIM 4G DATA MULTI SIM","2017-08-10","Franchise MSAKEN","MSK0013F",1,"SOLD","Tunis Entrepot DCGP"]
["892160100122554858","ASLOGHM","043006000003","CARTE SIM 4G PRE MULTI SIM","2017-08-10","Franchise MSAKEN","MSK0013F",1,"SOLD","Tunis Entrepot DCGP"]
["","ABLOUNA","044004000010","Recharge Express","2017-08-08","Franchise MSAKEN","MSK0013F",10,"SOLD","Tunis Entrepot DCGP"]
["892160100122554869","SIGHW","043006000003","CARTE SIM 4G PRE MULTI SIM","2017-08-11","Franchise MSAKEN","MSK0013F",1,"SOLD","Tunis Entrepot DCGP"]
["892160100122554879","SIGHW","043006000003","CARTE SIM 4G PRE MULTI SIM","2017-08-11","Franchise MSAKEN","MSK0013F",1,"SOLD","Tunis Entrepot DCGP"]
["","ASLOGHM","044004000010","Recharge Express","2017-08-11","Franchise MSAKEN","MSK0013F",5,"SOLD","Tunis Entrepot DCGP"]
["","ABLOUNA","044004000010","Recharge Express","2017-08-14","Franchise MSAKEN","MSK0013F",10,"SOLD","Tunis Entrepot DCGP"]
["892160100206713350","SIGHW","043008000001","CARTE SIM 4G FLYBOX","2017-08-14","Franchise MSAKEN","MSK0013F",1,"SOLD","Tunis Entrepot DCGP"]
["","ASLOGHM","044004000010","Recharge Express","2017-08-08","Franchise MSAKEN","MSK0013F",5,"SOLD","Tunis Entrepot DCGP"]
["892160100122555558","ASLOGHM","043006000003","CARTE SIM 4G PRE MULTI SIM","2017-08-08","Franchise MSAKEN","MSK0013F",1,"SOLD","Tunis Entrepot DCGP"]
["","ASLOGHM","044004000010","Recharge Express","2017-08-15","Franchise MSAKEN","MSK0013F",5,"SOLD","Tunis Entrepot DCGP"]
["","ABLOUNA","044004000010","Recharge Express","2017-08-15","Franchise MSAKEN","MSK0013F",5,"SOLD","Tunis Entrepot DCGP"]
["892160100123469081","ASLOGHM","043001000114","CARTE PREACTIVEE VD","2017-08-15","Franchise MSAKEN","MSK0013F",1,"SOLD","Tunis Entrepot DCGP"]
["892160100123469082","ASLOGHM","043001000114","CARTE PREACTIVEE VD","2017-08-15","Franchise MSAKEN","MSK0013F",1,"SOLD","Tunis Entrepot DCGP"]
["892160100123469154","ABLOUNA","043001000114","CARTE PREACTIVEE VD","2017-08-15","Franchise MSAKEN","MSK0013F",1,"SOLD","Tunis Entrepot DCGP"]
["","SIGHW","999100001003","SERVICE TRANSFERT CONTACT","2017-08-14","Franchise MSAKEN","MSK0013F",1,"SOLD","Tunis Entrepot DCGP"]
["","RIGRAIET","044004000010","Recharge Express","2017-08-14","Franchise MSAKEN","MSK0013F",5,"SOLD","Tunis Entrepot DCGP"]
["892160100122555733","RIGRAIET","043006000003","CARTE SIM 4G PRE MULTI SIM","2017-08-14","Franchise MSAKEN","MSK0013F",1,"SOLD","Tunis Entrepot DCGP"]
["","RIGRAIET","044004000010","Recharge Express","2017-08-14","Franchise MSAKEN","MSK0013F",10,"SOLD","Tunis Entrepot DCGP"]
["892160100122555714","RIGRAIET","043006000003","CARTE SIM 4G PRE MULTI SIM","2017-08-14","Franchise MSAKEN","MSK0013F",1,"SOLD","Tunis Entrepot DCGP"]
["","RIGRAIET","044004000010","Recharge Express","2017-08-14","Franchise MSAKEN","MSK0013F",5,"SOLD","Tunis Entrepot DCGP"]
["","RIGRAIET","044004000010","Recharge Express","2017-08-14","Franchise MSAKEN","MSK0013F",30,"SOLD","Tunis Entrepot DCGP"]
["","RIGRAIET","044004000010","Recharge Express","2017-08-14","Franchise MSAKEN","MSK0013F",10,"SOLD","Tunis Entrepot DCGP"]
["892160100122555736","RIGRAIET","043006000003","CARTE SIM 4G PRE MULTI SIM","2017-08-14","Franchise MSAKEN","MSK0013F",1,"SOLD","Tunis Entrepot DCGP"]
["","RIGRAIET","044004000010","Recharge Express","2017-08-14","Franchise MSAKEN","MSK0013F",10,"SOLD","Tunis Entrepot DCGP"]
["892160100122555740","ASLOGHM","043006000003","CARTE SIM 4G PRE MULTI SIM","2017-08-11","Franchise MSAKEN","MSK0013F",1,"SOLD","Tunis Entrepot DCGP"]
["","SIGHW","044004000010","Recharge Express","2017-08-14","Franchise MSAKEN","MSK0013F",12,"SOLD","Tunis Entrepot DCGP"]
["892160100122554919","SIGHW","043006000003","CARTE SIM 4G PRE MULTI SIM","2017-08-14","Franchise MSAKEN","MSK0013F",1,"SOLD","Tunis Entrepot DCGP"]
["892160100122554920","SIGHW","043006000003","CARTE SIM 4G PRE MULTI SIM","2017-08-14","Franchise MSAKEN","MSK0013F",1,"SOLD","Tunis Entrepot DCGP"]
["","SIGHW","044004000010","Recharge Express","2017-08-14","Franchise MSAKEN","MSK0013F",10,"SOLD","Tunis Entrepot DCGP"]
["","SIGHW","044004000010","Recharge Express","2017-08-14","Franchise MSAKEN","MSK0013F",18,"SOLD","Tunis Entrepot DCGP"]
["892160100123469110","ABLOUNA","043001000114","CARTE PREACTIVEE VD","2017-08-15","Franchise MSAKEN","MSK0013F",1,"SOLD","Tunis Entrepot DCGP"]
["892160100122554944","ASLOGHM","043006000003","CARTE SIM 4G PRE MULTI SIM","2017-08-15","Franchise MSAKEN","MSK0013F",1,"SOLD","Tunis Entrepot DCGP"]
["","SIGHW","999100001003","SERVICE TRANSFERT CONTACT","2017-08-11","Franchise MSAKEN","MSK0013F",1,"SOLD","Tunis Entrepot DCGP"]
["892160100122555582","SIGHW","043006000003","CARTE SIM 4G PRE MULTI SIM","2017-08-09","Franchise MSAKEN","MSK0013F",1,"SOLD","Tunis Entrepot DCGP"]
["892160100123469164","ABLOUNA","043001000114","CARTE PREACTIVEE VD","2017-08-14","Franchise MSAKEN","MSK0013F",1,"SOLD","Tunis Entrepot DCGP"]
["","RIGRAIET","999100001003","SERVICE TRANSFERT CONTACT","2017-08-14","Franchise MSAKEN","MSK0013F",1,"SOLD","Tunis Entrepot DCGP"]
["892160100124728458","SIGHW","043007000004","CARTE SIM 4G DATA MULTI SIM","2017-08-14","Franchise MSAKEN","MSK0013F",1,"SOLD","Tunis Entrepot DCGP"]
["892160100122555680","ASLOGHM","043006000003","CARTE SIM 4G PRE MULTI SIM","2017-08-14","Franchise MSAKEN","MSK0013F",1,"SOLD","Tunis Entrepot DCGP"]
["892160100124729171","ASLOGHM","043007000004","CARTE SIM 4G DATA MULTI SIM","2017-08-11","Franchise MSAKEN","MSK0013F",1,"SOLD","Tunis Entrepot DCGP"]
["892160100122554874","RIGRAIET","043006000003","CARTE SIM 4G PRE MULTI SIM","2017-08-11","Franchise MSAKEN","MSK0013F",1,"SOLD","Tunis Entrepot DCGP"]
["892160100122554885","ASLOGHM","043006000003","CARTE SIM 4G PRE MULTI SIM","2017-08-12","Franchise MSAKEN","MSK0013F",1,"SOLD","Tunis Entrepot DCGP"]
["892160100122554851","SIGHW","043006000003","CARTE SIM 4G PRE MULTI SIM","2017-08-10","Franchise MSAKEN","MSK0013F",1,"SOLD","Tunis Entrepot DCGP"]
["892160100122554850","SIGHW","043006000003","CARTE SIM 4G PRE MULTI SIM","2017-08-10","Franchise MSAKEN","MSK0013F",1,"SOLD","Tunis Entrepot DCGP"]
["","RIGRAIET","044004000010","Recharge Express","2017-08-11","Franchise MSAKEN","MSK0013F",5,"SOLD","Tunis Entrepot DCGP"]
["892160100122555698","RIGRAIET","043006000003","CARTE SIM 4G PRE MULTI SIM","2017-08-11","Franchise MSAKEN","MSK0013F",1,"SOLD","Tunis Entrepot DCGP"]
["892160100124729163","RIGRAIET","043007000004","CARTE SIM 4G DATA MULTI SIM","2017-08-10","Franchise MSAKEN","MSK0013F",1,"SOLD","Tunis Entrepot DCGP"]
["892160100124729169","ASLOGHM","043007000004","CARTE SIM 4G DATA MULTI SIM","2017-08-10","Franchise MSAKEN","MSK0013F",1,"SOLD","Tunis Entrepot DCGP"]
["","ASLOGHM","044004000010","Recharge Express","2017-08-15","Franchise MSAKEN","MSK0013F",30,"SOLD","Tunis Entrepot DCGP"]
["","ASLOGHM","044004000010","Recharge Express","2017-08-10","Franchise MSAKEN","MSK0013F",5,"SOLD","Tunis Entrepot DCGP"]
["","ASLOGHM","044004000010","Recharge Express","2017-08-10","Franchise MSAKEN","MSK0013F",2,"SOLD","Tunis Entrepot DCGP"]
["","ABLOUNA","044004000010","Recharge Express","2017-08-15","Franchise MSAKEN","MSK0013F",5,"SOLD","Tunis Entrepot DCGP"]
["892160100124729159","ASLOGHM","043007000004","CARTE SIM 4G DATA MULTI SIM","2017-08-14","Franchise MSAKEN","MSK0013F",1,"SOLD","Tunis Entrepot DCGP"]
["892160100122554849","SIGHW","043006000003","CARTE SIM 4G PRE MULTI SIM","2017-08-10","Franchise MSAKEN","MSK0013F",1,"SOLD","Tunis Entrepot DCGP"]
["892160100122555580","ASLOGHM","043006000003","CARTE SIM 4G PRE MULTI SIM","2017-08-09","Franchise MSAKEN","MSK0013F",1,"SOLD","Tunis Entrepot DCGP"]
["892160100122555747","ASLOGHM","043006000003","CARTE SIM 4G PRE MULTI SIM","2017-08-10","Franchise MSAKEN","MSK0013F",1,"SOLD","Tunis Entrepot DCGP"]
["","RIGRAIET","999100001003","SERVICE TRANSFERT CONTACT","2017-08-12","Franchise MSAKEN","MSK0013F",1,"SOLD","Tunis Entrepot DCGP"]
["","SIGHW","044004000010","Recharge Express","2017-08-10","Franchise MSAKEN","MSK0013F",25,"SOLD","Tunis Entrepot DCGP"]
["2168006000754","ASLOGHM","047006000161","Orange Wifi dock","2017-08-10","Franchise MSAKEN","MSK0013F",1,"SOLD","Tunis Entrepot DCGP"]
["867424023061397","ASLOGHM","046002000034","CLE 3G E3531","2017-08-10","Franchise MSAKEN","MSK0013F",1,"SOLD","Tunis Entrepot DCGP"]
["892160100124729170","ASLOGHM","043007000004","CARTE SIM 4G DATA MULTI SIM","2017-08-10","Franchise MSAKEN","MSK0013F",1,"SOLD","Tunis Entrepot DCGP"]
["892160100124729124","ASLOGHM","043007000004","CARTE SIM 4G DATA MULTI SIM","2017-08-09","Franchise MSAKEN","MSK0013F",1,"SOLD","Tunis Entrepot DCGP"]
["","ASLOGHM","044004000010","Recharge Express","2017-08-15","Franchise MSAKEN","MSK0013F",10,"SOLD","Tunis Entrepot DCGP"]
["892160100122554947","ASLOGHM","043006000003","CARTE SIM 4G PRE MULTI SIM","2017-08-15","Franchise MSAKEN","MSK0013F",1,"SOLD","Tunis Entrepot DCGP"]
["","ASLOGHM","044004000010","Recharge Express","2017-08-09","Franchise MSAKEN","MSK0013F",5,"SOLD","Tunis Entrepot DCGP"]
["892160100122555676","RIGRAIET","043006000003","CARTE SIM 4G PRE MULTI SIM","2017-08-12","Franchise MSAKEN","MSK0013F",1,"SOLD","Tunis Entrepot DCGP"]
["","SIGHW","044004000010","Recharge Express","2017-08-12","Franchise MSAKEN","MSK0013F",5,"SOLD","Tunis Entrepot DCGP"]
["892160100122554861","SIGHW","043006000003","CARTE SIM 4G PRE MULTI SIM","2017-08-10","Franchise MSAKEN","MSK0013F",1,"SOLD","Tunis Entrepot DCGP"]
["863605032642110","SIGHW","085001000011","FLYBOX B310","2017-08-10","Franchise MSAKEN","MSK0013F",1,"SOLD","Tunis Entrepot DCGP"]
["892160100206713356","SIGHW","043008000001","CARTE SIM 4G FLYBOX","2017-08-10","Franchise MSAKEN","MSK0013F",1,"SOLD","Tunis Entrepot DCGP"]
["867424023064615","SIGHW","046002000034","CLE 3G E3531","2017-08-11","Franchise MSAKEN","MSK0013F",1,"SOLD","Tunis Entrepot DCGP"]
["892160100124728444","SIGHW","043007000004","CARTE SIM 4G DATA MULTI SIM","2017-08-11","Franchise MSAKEN","MSK0013F",1,"SOLD","Tunis Entrepot DCGP"]
["892160100122554898","SIGHW","043006000003","CARTE SIM 4G PRE MULTI SIM","2017-08-11","Franchise MSAKEN","MSK0013F",1,"SOLD","Tunis Entrepot DCGP"]
["","SIGHW","044004000010","Recharge Express","2017-08-11","Franchise MSAKEN","MSK0013F",5,"SOLD","Tunis Entrepot DCGP"]
["892160100122554888","SIGHW","043006000003","CARTE SIM 4G PRE MULTI SIM","2017-08-11","Franchise MSAKEN","MSK0013F",1,"SOLD","Tunis Entrepot DCGP"]
["","SIGHW","044004000010","Recharge Express","2017-08-11","Franchise MSAKEN","MSK0013F",6,"SOLD","Tunis Entrepot DCGP"]
["","SIGHW","044004000010","Recharge Express","2017-08-14","Franchise MSAKEN","MSK0013F",30,"SOLD","Tunis Entrepot DCGP"]
["892160100122555575","ABLOUNA","043006000003","CARTE SIM 4G PRE MULTI SIM","2017-08-10","Franchise MSAKEN","MSK0013F",1,"SOLD","Tunis Entrepot DCGP"]
["892160100122555690","RIGRAIET","043006000003","CARTE SIM 4G PRE MULTI SIM","2017-08-11","Franchise MSAKEN","MSK0013F",1,"SOLD","Tunis Entrepot DCGP"]
["892160100124729172","RIGRAIET","043007000004","CARTE SIM 4G DATA MULTI SIM","2017-08-10","Franchise MSAKEN","MSK0013F",1,"SOLD","Tunis Entrepot DCGP"]
["892160100124729166","ASLOGHM","043007000004","CARTE SIM 4G DATA MULTI SIM","2017-08-10","Franchise MSAKEN","MSK0013F",1,"SOLD","Tunis Entrepot DCGP"]
["","RIGRAIET","044004000010","Recharge Express","2017-08-11","Franchise MSAKEN","MSK0013F",10,"SOLD","Tunis Entrepot DCGP"]
["892160100124729138","ASLOGHM","043007000004","CARTE SIM 4G DATA MULTI SIM","2017-08-11","Franchise MSAKEN","MSK0013F",1,"SOLD","Tunis Entrepot DCGP"]
["","ABLOUNA","044004000010","Recharge Express","2017-08-09","Franchise MSAKEN","MSK0013F",15,"SOLD","Tunis Entrepot DCGP"]
["864526526789804","RIGRAIET","079001000057","Orange TAB 7 - 4G NOIR","2017-08-14","Franchise MSAKEN","MSK0013F",1,"SOLD","Tunis Entrepot DCGP"]
["","ABLOUNA","044004000010","Recharge Express","2017-08-11","Franchise MSAKEN","MSK0013F",30,"SOLD","Tunis Entrepot DCGP"]
["892160100122555730","RIGRAIET","043006000003","CARTE SIM 4G PRE MULTI SIM","2017-08-14","Franchise MSAKEN","MSK0013F",1,"SOLD","Tunis Entrepot DCGP"]
["2168006000771","ASLOGHM","047006000161","Orange Wifi dock","2017-08-11","Franchise MSAKEN","MSK0013F",1,"SOLD","Tunis Entrepot DCGP"]
["867424023081445","ASLOGHM","046002000034","CLE 3G E3531","2017-08-11","Franchise MSAKEN","MSK0013F",1,"SOLD","Tunis Entrepot DCGP"]
["892160100124729137","ASLOGHM","043007000004","CARTE SIM 4G DATA MULTI SIM","2017-08-11","Franchise MSAKEN","MSK0013F",1,"SOLD","Tunis Entrepot DCGP"]
["892160100122555735","RIGRAIET","043006000003","CARTE SIM 4G PRE MULTI SIM","2017-08-14","Franchise MSAKEN","MSK0013F",1,"SOLD","Tunis Entrepot DCGP"]
["","RIGRAIET","044004000010","Recharge Express","2017-08-14","Franchise MSAKEN","MSK0013F",24,"SOLD","Tunis Entrepot DCGP"]
["892160100122555732","RIGRAIET","043006000003","CARTE SIM 4G PRE MULTI SIM","2017-08-14","Franchise MSAKEN","MSK0013F",1,"SOLD","Tunis Entrepot DCGP"]
["","RIGRAIET","044004000010","Recharge Express","2017-08-09","Franchise MSAKEN","MSK0013F",3,"SOLD","Tunis Entrepot DCGP"]
["357243076228019","SIGHW","046002000056","AIRBOX 4G MW40","2017-08-12","Franchise MSAKEN","MSK0013F",1,"SOLD","Tunis Entrepot DCGP"]
["892160100124729141","SIGHW","043007000004","CARTE SIM 4G DATA MULTI SIM","2017-08-12","Franchise MSAKEN","MSK0013F",1,"SOLD","Tunis Entrepot DCGP"]
["","ASLOGHM","044004000010","Recharge Express","2017-08-12","Franchise MSAKEN","MSK0013F",12,"SOLD","Tunis Entrepot DCGP"]
["892160100122554914","SIGHW","043006000003","CARTE SIM 4G PRE MULTI SIM","2017-08-14","Franchise MSAKEN","MSK0013F",1,"SOLD","Tunis Entrepot DCGP"]
["867424023065778","RIGRAIET","046002000034","CLE 3G E3531","2017-08-14","Franchise MSAKEN","MSK0013F",1,"SOLD","Tunis Entrepot DCGP"]
["892160100124728457","RIGRAIET","043007000004","CARTE SIM 4G DATA MULTI SIM","2017-08-14","Franchise MSAKEN","MSK0013F",1,"SOLD","Tunis Entrepot DCGP"]
["892160100122554891","SIGHW","043006000003","CARTE SIM 4G PRE MULTI SIM","2017-08-11","Franchise MSAKEN","MSK0013F",1,"SOLD","Tunis Entrepot DCGP"]
["892160100122555669","SIGHW","043006000003","CARTE SIM 4G PRE MULTI SIM","2017-08-12","Franchise MSAKEN","MSK0013F",1,"SOLD","Tunis Entrepot DCGP"]
["892160100122555668","SIGHW","043006000003","CARTE SIM 4G PRE MULTI SIM","2017-08-12","Franchise MSAKEN","MSK0013F",1,"SOLD","Tunis Entrepot DCGP"]
["","ASLOGHM","044004000010","Recharge Express","2017-08-09","Franchise MSAKEN","MSK0013F",12,"SOLD","Tunis Entrepot DCGP"]
["","RIGRAIET","999100001003","SERVICE TRANSFERT CONTACT","2017-08-14","Franchise MSAKEN","MSK0013F",2,"SOLD","Tunis Entrepot DCGP"]
["892160100122555705","ABLOUNA","043006000003","CARTE SIM 4G PRE MULTI SIM","2017-08-11","Franchise MSAKEN","MSK0013F",1,"SOLD","Tunis Entrepot DCGP"]
["892160100122555601","RIGRAIET","043006000003","CARTE SIM 4G PRE MULTI SIM","2017-08-09","Franchise MSAKEN","MSK0013F",1,"SOLD","Tunis Entrepot DCGP"]
["892160100122555686","ASLOGHM","043006000003","CARTE SIM 4G PRE MULTI SIM","2017-08-14","Franchise MSAKEN","MSK0013F",1,"SOLD","Tunis Entrepot DCGP"]
["","ABLOUNA","044004000010","Recharge Express","2017-08-12","Franchise MSAKEN","MSK0013F",10,"SOLD","Tunis Entrepot DCGP"]
["","ABLOUNA","044004000010","Recharge Express","2017-08-14","Franchise MSAKEN","MSK0013F",2,"SOLD","Tunis Entrepot DCGP"]
["","RIGRAIET","044004000010","Recharge Express","2017-08-12","Franchise MSAKEN","MSK0013F",5,"SOLD","Tunis Entrepot DCGP"]
["","SIGHW","044004000010","Recharge Express","2017-08-11","Franchise MSAKEN","MSK0013F",10,"SOLD","Tunis Entrepot DCGP"]
["","ABLOUNA","044004000010","Recharge Express","2017-08-10","Franchise MSAKEN","MSK0013F",5,"SOLD","Tunis Entrepot DCGP"]
["892160100122555703","ABLOUNA","043006000003","CARTE SIM 4G PRE MULTI SIM","2017-08-11","Franchise MSAKEN","MSK0013F",1,"SOLD","Tunis Entrepot DCGP"]
["","ASLOGHM","044004000010","Recharge Express","2017-08-14","Franchise MSAKEN","MSK0013F",5,"SOLD","Tunis Entrepot DCGP"]
["892160100124729164","ASLOGHM","043007000004","CARTE SIM 4G DATA MULTI SIM","2017-08-10","Franchise MSAKEN","MSK0013F",1,"SOLD","Tunis Entrepot DCGP"]
["","SIGHW","044004000010","Recharge Express","2017-08-12","Franchise MSAKEN","MSK0013F",2,"SOLD","Tunis Entrepot DCGP"]
["358218087924169","RIGRAIET","045001074003","SAMSUNG GRAND PRIME + GOLD","2017-08-11","Franchise MSAKEN","MSK0013F",1,"SOLD","Tunis Entrepot DCGP"]
["892160100122554876","RIGRAIET","043006000003","CARTE SIM 4G PRE MULTI SIM","2017-08-10","Franchise MSAKEN","MSK0013F",1,"SOLD","Tunis Entrepot DCGP"]
["867424023061959","ABLOUNA","046002000034","CLE 3G E3531","2017-08-10","Franchise MSAKEN","MSK0013F",1,"SOLD","Tunis Entrepot DCGP"]
["892160100124729173","ABLOUNA","043007000004","CARTE SIM 4G DATA MULTI SIM","2017-08-10","Franchise MSAKEN","MSK0013F",1,"SOLD","Tunis Entrepot DCGP"]
["","SIGHW","044004000010","Recharge Express","2017-08-12","Franchise MSAKEN","MSK0013F",20,"SOLD","Tunis Entrepot DCGP"]
["","RIGRAIET","044004000010","Recharge Express","2017-08-12","Franchise MSAKEN","MSK0013F",5,"SOLD","Tunis Entrepot DCGP"]
["892160100122554882","ABLOUNA","043006000003","CARTE SIM 4G PRE MULTI SIM","2017-08-10","Franchise MSAKEN","MSK0013F",1,"SOLD","Tunis Entrepot DCGP"]
["","ABLOUNA","044004000010","Recharge Express","2017-08-10","Franchise MSAKEN","MSK0013F",2,"SOLD","Tunis Entrepot DCGP"]
["892160100122555604","SIGHW","043006000003","CARTE SIM 4G PRE MULTI SIM","2017-08-09","Franchise MSAKEN","MSK0013F",1,"SOLD","Tunis Entrepot DCGP"]
["892160100122555583","SIGHW","043006000003","CARTE SIM 4G PRE MULTI SIM","2017-08-09","Franchise MSAKEN","MSK0013F",1,"SOLD","Tunis Entrepot DCGP"]
["892160100124729125","SIGHW","043007000004","CARTE SIM 4G DATA MULTI SIM","2017-08-09","Franchise MSAKEN","MSK0013F",1,"SOLD","Tunis Entrepot DCGP"]
["863605032642623","ABLOUNA","085001000011","FLYBOX B310","2017-08-12","Franchise MSAKEN","MSK0013F",1,"SOLD","Tunis Entrepot DCGP"]
["892160100206713352","ABLOUNA","043008000001","CARTE SIM 4G FLYBOX","2017-08-12","Franchise MSAKEN","MSK0013F",1,"SOLD","Tunis Entrepot DCGP"]
["892160100122554857","SIGHW","043006000003","CARTE SIM 4G PRE MULTI SIM","2017-08-10","Franchise MSAKEN","MSK0013F",1,"SOLD","Tunis Entrepot DCGP"]
["TG6K17020002834","RIGRAIET","188003000016","Modem Huawei HG532","2017-08-09","Franchise MSAKEN","MSK0013F",1,"SOLD","Tunis Entrepot DCGP"]
["892160100122555554","ABLOUNA","043006000003","CARTE SIM 4G PRE MULTI SIM","2017-08-08","Franchise MSAKEN","MSK0013F",1,"SOLD","Tunis Entrepot DCGP"]
["","SIGHW","044004000010","Recharge Express","2017-08-12","Franchise MSAKEN","MSK0013F",5,"SOLD","Tunis Entrepot DCGP"]
["892160100124728455","SIGHW","043007000004","CARTE SIM 4G DATA MULTI SIM","2017-08-12","Franchise MSAKEN","MSK0013F",1,"SOLD","Tunis Entrepot DCGP"]
["","SIGHW","999100001003","SERVICE TRANSFERT CONTACT","2017-08-10","Franchise MSAKEN","MSK0013F",1,"SOLD","Tunis Entrepot DCGP"]
["892160100122555720","RIGRAIET","043006000003","CARTE SIM 4G PRE MULTI SIM","2017-08-14","Franchise MSAKEN","MSK0013F",1,"SOLD","Tunis Entrepot DCGP"]
["892160100122555719","RIGRAIET","043006000003","CARTE SIM 4G PRE MULTI SIM","2017-08-14","Franchise MSAKEN","MSK0013F",1,"SOLD","Tunis Entrepot DCGP"]
["892160100122554904","RIGRAIET","043006000003","CARTE SIM 4G PRE MULTI SIM","2017-08-11","Franchise MSAKEN","MSK0013F",1,"SOLD","Tunis Entrepot DCGP"]
["863605032642631","SIGHW","085001000011","FLYBOX B310","2017-08-11","Franchise MSAKEN","MSK0013F",1,"SOLD","Tunis Entrepot DCGP"]
["892160100206713353","SIGHW","043008000001","CARTE SIM 4G FLYBOX","2017-08-11","Franchise MSAKEN","MSK0013F",1,"SOLD","Tunis Entrepot DCGP"]
["","ABLOUNA","044004000010","Recharge Express","2017-08-11","Franchise MSAKEN","MSK0013F",5,"SOLD","Tunis Entrepot DCGP"]
["","ASLOGHM","044004000010","Recharge Express","2017-08-14","Franchise MSAKEN","MSK0013F",5,"SOLD","Tunis Entrepot DCGP"]
["","ABLOUNA","044004000010","Recharge Express","2017-08-14","Franchise MSAKEN","MSK0013F",12,"SOLD","Tunis Entrepot DCGP"]
["","ASLOGHM","044004000010","Recharge Express","2017-08-08","Franchise MSAKEN","MSK0013F",5,"SOLD","Tunis Entrepot DCGP"]
["892160100122555578","ASLOGHM","043006000003","CARTE SIM 4G PRE MULTI SIM","2017-08-08","Franchise MSAKEN","MSK0013F",1,"SOLD","Tunis Entrepot DCGP"]
["892160100124728420","ASLOGHM","043007000004","CARTE SIM 4G DATA MULTI SIM","2017-08-08","Franchise MSAKEN","MSK0013F",1,"SOLD","Tunis Entrepot DCGP"]
["863605032642789","RIGRAIET","085001000011","FLYBOX B310","2017-08-14","Franchise MSAKEN","MSK0013F",1,"SOLD","Tunis Entrepot DCGP"]
["","SIGHW","999100001003","SERVICE TRANSFERT CONTACT","2017-08-14","Franchise MSAKEN","MSK0013F",1,"SOLD","Tunis Entrepot DCGP"]
["892160100124729123","ASLOGHM","043007000004","CARTE SIM 4G DATA MULTI SIM","2017-08-09","Franchise MSAKEN","MSK0013F",1,"SOLD","Tunis Entrepot DCGP"]
["892160100124728446","ASLOGHM","043007000004","CARTE SIM 4G DATA MULTI SIM","2017-08-11","Franchise MSAKEN","MSK0013F",1,"SOLD","Tunis Entrepot DCGP"]
["892160100122555701","ABLOUNA","043006000003","CARTE SIM 4G PRE MULTI SIM","2017-08-11","Franchise MSAKEN","MSK0013F",1,"SOLD","Tunis Entrepot DCGP"]
["892160100122554943","ASLOGHM","043006000003","CARTE SIM 4G PRE MULTI SIM","2017-08-15","Franchise MSAKEN","MSK0013F",1,"SOLD","Tunis Entrepot DCGP"]
["","SIGHW","044004000010","Recharge Express","2017-08-09","Franchise MSAKEN","MSK0013F",12,"SOLD","Tunis Entrepot DCGP"]
["892160100124729129","SIGHW","043007000004","CARTE SIM 4G DATA MULTI SIM","2017-08-09","Franchise MSAKEN","MSK0013F",1,"SOLD","Tunis Entrepot DCGP"]
["","SIGHW","044004000010","Recharge Express","2017-08-03","Franchise MSAKEN","MSK0013F",10,"SOLD","Tunis Entrepot DCGP"]
["892160100122555271","SIGHW","043006000003","CARTE SIM 4G PRE MULTI SIM","2017-08-03","Franchise MSAKEN","MSK0013F",1,"SOLD","Tunis Entrepot DCGP"]
["","ABLOUNA","047006000255","SANGLE PVC PORTABLE","2017-08-04","Franchise MSAKEN","MSK0013F",1,"SOLD","Tunis Entrepot DCGP"]
["359715029786605","ABLOUNA","046002000060","DOMINO E5220 WHITE","2017-08-04","Franchise MSAKEN","MSK0013F",1,"SOLD","Tunis Entrepot DCGP"]
["892160100124728674","ABLOUNA","043007000004","CARTE SIM 4G DATA MULTI SIM","2017-08-04","Franchise MSAKEN","MSK0013F",1,"SOLD","Tunis Entrepot DCGP"]
["","ASLOGHM","044004000010","Recharge Express","2017-08-04","Franchise MSAKEN","MSK0013F",20,"SOLD","Tunis Entrepot DCGP"]
["892160100124729461","SIGHW","043007000004","CARTE SIM 4G DATA MULTI SIM","2017-08-03","Franchise MSAKEN","MSK0013F",1,"SOLD","Tunis Entrepot DCGP"]
["","ABLOUNA","044004000010","Recharge Express","2017-08-02","Franchise MSAKEN","MSK0013F",5,"SOLD","Tunis Entrepot DCGP"]
["892160100122555334","ASLOGHM","043006000003","CARTE SIM 4G PRE MULTI SIM","2017-08-04","Franchise MSAKEN","MSK0013F",1,"SOLD","Tunis Entrepot DCGP"]
["","SIGHW","044004000010","Recharge Express","2017-08-01","Franchise MSAKEN","MSK0013F",5,"SOLD","Tunis Entrepot DCGP"]
["892160100124729336","ABLOUNA","043007000004","CARTE SIM 4G DATA MULTI SIM","2017-08-04","Franchise MSAKEN","MSK0013F",1,"SOLD","Tunis Entrepot DCGP"]
["892160100122555290","SIGHW","043006000003","CARTE SIM 4G PRE MULTI SIM","2017-08-04","Franchise MSAKEN","MSK0013F",1,"SOLD","Tunis Entrepot DCGP"]
["TG6K17020003053","RIGRAIET","188003000016","Modem Huawei HG532","2017-08-01","Franchise MSAKEN","MSK0013F",1,"SOLD","Tunis Entrepot DCGP"]
["","ASLOGHM","044004000010","Recharge Express","2017-08-01","Franchise MSAKEN","MSK0013F",5,"SOLD","Tunis Entrepot DCGP"]
["","ASLOGHM","044004000010","Recharge Express","2017-08-01","Franchise MSAKEN","MSK0013F",5,"SOLD","Tunis Entrepot DCGP"]
["","ASLOGHM","044004000010","Recharge Express","2017-08-01","Franchise MSAKEN","MSK0013F",5,"SOLD","Tunis Entrepot DCGP"]
["","RIGRAIET","044004000010","Recharge Express","2017-08-01","Franchise MSAKEN","MSK0013F",5,"SOLD","Tunis Entrepot DCGP"]
["892160100122555453","ASLOGHM","043006000003","CARTE SIM 4G PRE MULTI SIM","2017-08-01","Franchise MSAKEN","MSK0013F",1,"SOLD","Tunis Entrepot DCGP"]
["892160100122555324","ABLOUNA","043006000003","CARTE SIM 4G PRE MULTI SIM","2017-08-04","Franchise MSAKEN","MSK0013F",1,"SOLD","Tunis Entrepot DCGP"]
["892160100124728672","ABLOUNA","043007000004","CARTE SIM 4G DATA MULTI SIM","2017-08-04","Franchise MSAKEN","MSK0013F",1,"SOLD","Tunis Entrepot DCGP"]
["892160100122555455","ASLOGHM","043006000003","CARTE SIM 4G PRE MULTI SIM","2017-08-01","Franchise MSAKEN","MSK0013F",1,"SOLD","Tunis Entrepot DCGP"]
["","ABLOUNA","044004000010","Recharge Express","2017-08-01","Franchise MSAKEN","MSK0013F",10,"SOLD","Tunis Entrepot DCGP"]
["892160100124728661","ABLOUNA","043007000004","CARTE SIM 4G DATA MULTI SIM","2017-08-03","Franchise MSAKEN","MSK0013F",1,"SOLD","Tunis Entrepot DCGP"]
["","SIGHW","044004000010","Recharge Express","2017-08-03","Franchise MSAKEN","MSK0013F",5,"SOLD","Tunis Entrepot DCGP"]
["892160100122555307","SIGHW","043006000003","CARTE SIM 4G PRE MULTI SIM","2017-08-04","Franchise MSAKEN","MSK0013F",1,"SOLD","Tunis Entrepot DCGP"]
["892160100123782013","ASLOGHM","043007000004","CARTE SIM 4G DATA MULTI SIM","2017-08-03","Franchise MSAKEN","MSK0013F",1,"SOLD","Tunis Entrepot DCGP"]
["892160100122555523","ABLOUNA","043006000003","CARTE SIM 4G PRE MULTI SIM","2017-08-03","Franchise MSAKEN","MSK0013F",1,"SOLD","Tunis Entrepot DCGP"]
["","ASLOGHM","044004000010","Recharge Express","2017-08-02","Franchise MSAKEN","MSK0013F",5,"SOLD","Tunis Entrepot DCGP"]
["2168006000773","ASLOGHM","047006000161","Orange Wifi dock","2017-08-02","Franchise MSAKEN","MSK0013F",1,"SOLD","Tunis Entrepot DCGP"]
["867424023085776","ASLOGHM","046002000034","CLE 3G E3531","2017-08-02","Franchise MSAKEN","MSK0013F",1,"SOLD","Tunis Entrepot DCGP"]
["892160100123782006","ASLOGHM","043007000004","CARTE SIM 4G DATA MULTI SIM","2017-08-02","Franchise MSAKEN","MSK0013F",1,"SOLD","Tunis Entrepot DCGP"]
["892160100122555553","ABLOUNA","043006000003","CARTE SIM 4G PRE MULTI SIM","2017-08-08","Franchise MSAKEN","MSK0013F",1,"SOLD","Tunis Entrepot DCGP"]
["892160100123469112","ABLOUNA","043001000114","CARTE PREACTIVEE VD","2017-08-08","Franchise MSAKEN","MSK0013F",1,"SOLD","Tunis Entrepot DCGP"]
["","ABLOUNA","044004000010","Recharge Express","2017-08-08","Franchise MSAKEN","MSK0013F",5,"SOLD","Tunis Entrepot DCGP"]
["892160100122555566","RIGRAIET","043006000003","CARTE SIM 4G PRE MULTI SIM","2017-08-08","Franchise MSAKEN","MSK0013F",1,"SOLD","Tunis Entrepot DCGP"]
["","ASLOGHM","044004000010","Recharge Express","2017-08-05","Franchise MSAKEN","MSK0013F",5,"SOLD","Tunis Entrepot DCGP"]
["892160100122555592","ASLOGHM","043006000003","CARTE SIM 4G PRE MULTI SIM","2017-08-07","Franchise MSAKEN","MSK0013F",1,"SOLD","Tunis Entrepot DCGP"]
["863605032619563","ASLOGHM","085001000011","FLYBOX B310","2017-08-07","Franchise MSAKEN","MSK0013F",1,"SOLD","Tunis Entrepot DCGP"]
["892160100206713358","ASLOGHM","043008000001","CARTE SIM 4G FLYBOX","2017-08-07","Franchise MSAKEN","MSK0013F",1,"SOLD","Tunis Entrepot DCGP"]
["892160100122555299","ASLOGHM","043006000003","CARTE SIM 4G PRE MULTI SIM","2017-08-03","Franchise MSAKEN","MSK0013F",1,"SOLD","Tunis Entrepot DCGP"]
["892160100122555471","SIGHW","043006000003","CARTE SIM 4G PRE MULTI SIM","2017-08-03","Franchise MSAKEN","MSK0013F",1,"SOLD","Tunis Entrepot DCGP"]
["892160100122555470","SIGHW","043006000003","CARTE SIM 4G PRE MULTI SIM","2017-08-03","Franchise MSAKEN","MSK0013F",1,"SOLD","Tunis Entrepot DCGP"]
["869470011681439","SIGHW","046002000060","DOMINO E5220 WHITE","2017-08-08","Franchise MSAKEN","MSK0013F",1,"SOLD","Tunis Entrepot DCGP"]
["892160100124728416","SIGHW","043007000004","CARTE SIM 4G DATA MULTI SIM","2017-08-08","Franchise MSAKEN","MSK0013F",1,"SOLD","Tunis Entrepot DCGP"]
["","SIGHW","044004000010","Recharge Express","2017-08-08","Franchise MSAKEN","MSK0013F",5,"SOLD","Tunis Entrepot DCGP"]
["869907027306683","ABLOUNA","046002000041","CLE 4G E3372H","2017-08-04","Franchise MSAKEN","MSK0013F",1,"SOLD","Tunis Entrepot DCGP"]
["892160100124728673","ABLOUNA","043007000004","CARTE SIM 4G DATA MULTI SIM","2017-08-04","Franchise MSAKEN","MSK0013F",1,"SOLD","Tunis Entrepot DCGP"]
["","SIGHW","044004000010","Recharge Express","2017-08-08","Franchise MSAKEN","MSK0013F",25,"SOLD","Tunis Entrepot DCGP"]
["892160100124728415","ABLOUNA","043007000004","CARTE SIM 4G DATA MULTI SIM","2017-08-08","Franchise MSAKEN","MSK0013F",1,"SOLD","Tunis Entrepot DCGP"]
["892160100122555599","SIGHW","043006000003","CARTE SIM 4G PRE MULTI SIM","2017-08-08","Franchise MSAKEN","MSK0013F",1,"SOLD","Tunis Entrepot DCGP"]
["356803083669959","SIGHW","083003015001","NOKIA 3 DS Matte Black","2017-08-08","Franchise MSAKEN","MSK0013F",1,"SOLD","Tunis Entrepot DCGP"]
["892160100122555598","SIGHW","043006000003","CARTE SIM 4G PRE MULTI SIM","2017-08-08","Franchise MSAKEN","MSK0013F",1,"SOLD","Tunis Entrepot DCGP"]
["892160100122555562","SIGHW","043006000003","CARTE SIM 4G PRE MULTI SIM","2017-08-08","Franchise MSAKEN","MSK0013F",1,"SOLD","Tunis Entrepot DCGP"]
["","ASLOGHM","044004000010","Recharge Express","2017-08-04","Franchise MSAKEN","MSK0013F",10,"SOLD","Tunis Entrepot DCGP"]
["892160100122555281","ASLOGHM","043006000003","CARTE SIM 4G PRE MULTI SIM","2017-08-05","Franchise MSAKEN","MSK0013F",1,"SOLD","Tunis Entrepot DCGP"]
["892160100122555342","ASLOGHM","043006000003","CARTE SIM 4G PRE MULTI SIM","2017-08-05","Franchise MSAKEN","MSK0013F",1,"SOLD","Tunis Entrepot DCGP"]
["892160100124728678","ABLOUNA","043007000004","CARTE SIM 4G DATA MULTI SIM","2017-08-05","Franchise MSAKEN","MSK0013F",1,"SOLD","Tunis Entrepot DCGP"]
["892160100122555563","SIGHW","043006000003","CARTE SIM 4G PRE MULTI SIM","2017-08-08","Franchise MSAKEN","MSK0013F",1,"SOLD","Tunis Entrepot DCGP"]
["","RIGRAIET","044004000010","Recharge Express","2017-08-08","Franchise MSAKEN","MSK0013F",5,"SOLD","Tunis Entrepot DCGP"]
["892160100124729110","RIGRAIET","043007000004","CARTE SIM 4G DATA MULTI SIM","2017-08-07","Franchise MSAKEN","MSK0013F",1,"SOLD","Tunis Entrepot DCGP"]
["","SIGHW","044004000010","Recharge Express","2017-08-08","Franchise MSAKEN","MSK0013F",30,"SOLD","Tunis Entrepot DCGP"]
["","ABLOUNA","044004000010","Recharge Express","2017-08-07","Franchise MSAKEN","MSK0013F",5,"SOLD","Tunis Entrepot DCGP"]
["","ABLOUNA","044004000010","Recharge Express","2017-08-05","Franchise MSAKEN","MSK0013F",10,"SOLD","Tunis Entrepot DCGP"]
["892160100122555616","SIGHW","043006000003","CARTE SIM 4G PRE MULTI SIM","2017-08-07","Franchise MSAKEN","MSK0013F",1,"SOLD","Tunis Entrepot DCGP"]
["892160100122555613","SIGHW","043006000003","CARTE SIM 4G PRE MULTI SIM","2017-08-07","Franchise MSAKEN","MSK0013F",1,"SOLD","Tunis Entrepot DCGP"]
["","ABLOUNA","044004000010","Recharge Express","2017-08-08","Franchise MSAKEN","MSK0013F",5,"SOLD","Tunis Entrepot DCGP"]
["","SIGHW","044004000010","Recharge Express","2017-08-03","Franchise MSAKEN","MSK0013F",20,"SOLD","Tunis Entrepot DCGP"]
["892160100122555549","ABLOUNA","043006000003","CARTE SIM 4G PRE MULTI SIM","2017-08-07","Franchise MSAKEN","MSK0013F",1,"SOLD","Tunis Entrepot DCGP"]
["","ABLOUNA","044004000010","Recharge Express","2017-08-04","Franchise MSAKEN","MSK0013F",12,"SOLD","Tunis Entrepot DCGP"]
["863605032619555","ABLOUNA","085001000011","FLYBOX B310","2017-08-04","Franchise MSAKEN","MSK0013F",1,"SOLD","Tunis Entrepot DCGP"]
["892160100206713360","ABLOUNA","043008000001","CARTE SIM 4G FLYBOX","2017-08-04","Franchise MSAKEN","MSK0013F",1,"SOLD","Tunis Entrepot DCGP"]
["","SIGHW","044004000010","Recharge Express","2017-08-04","Franchise MSAKEN","MSK0013F",5,"SOLD","Tunis Entrepot DCGP"]
["892160100122555643","RIGRAIET","043006000003","CARTE SIM 4G PRE MULTI SIM","2017-08-07","Franchise MSAKEN","MSK0013F",1,"SOLD","Tunis Entrepot DCGP"]
["","SIGHW","999100001003","SERVICE TRANSFERT CONTACT","2017-08-08","Franchise MSAKEN","MSK0013F",1,"SOLD","Tunis Entrepot DCGP"]
["892160100122555586","ASLOGHM","043006000003","CARTE SIM 4G PRE MULTI SIM","2017-08-08","Franchise MSAKEN","MSK0013F",1,"SOLD","Tunis Entrepot DCGP"]
["","SIGHW","044004000010","Recharge Express","2017-08-08","Franchise MSAKEN","MSK0013F",5,"SOLD","Tunis Entrepot DCGP"]
["","SIGHW","044004000010","Recharge Express","2017-08-08","Franchise MSAKEN","MSK0013F",5,"SOLD","Tunis Entrepot DCGP"]
["892160100122555328","SIGHW","043006000003","CARTE SIM 4G PRE MULTI SIM","2017-08-08","Franchise MSAKEN","MSK0013F",1,"SOLD","Tunis Entrepot DCGP"]
["","SIGHW","999100002001","ASSURANCE CASSE","2017-08-04","Franchise MSAKEN","MSK0013F",1,"SOLD","Tunis Entrepot DCGP"]
["356319081397444","SIGHW","083001051004","SAMSUNG A3 2017 BLUE","2017-08-04","Franchise MSAKEN","MSK0013F",1,"SOLD","Tunis Entrepot DCGP"]
["892160100122555280","SIGHW","043006000003","CARTE SIM 4G PRE MULTI SIM","2017-08-04","Franchise MSAKEN","MSK0013F",1,"SOLD","Tunis Entrepot DCGP"]
["","SIGHW","044004000010","Recharge Express","2017-08-05","Franchise MSAKEN","MSK0013F",5,"SOLD","Tunis Entrepot DCGP"]
["892160100122555552","ABLOUNA","043006000003","CARTE SIM 4G PRE MULTI SIM","2017-08-08","Franchise MSAKEN","MSK0013F",1,"SOLD","Tunis Entrepot DCGP"]
["","SIGHW","044004000010","Recharge Express","2017-08-07","Franchise MSAKEN","MSK0013F",5,"SOLD","Tunis Entrepot DCGP"]
["892160100123469170","SIGHW","043001000114","CARTE PREACTIVEE VD","2017-08-07","Franchise MSAKEN","MSK0013F",1,"SOLD","Tunis Entrepot DCGP"]
["892160100122555629","RIGRAIET","043006000003","CARTE SIM 4G PRE MULTI SIM","2017-08-07","Franchise MSAKEN","MSK0013F",1,"SOLD","Tunis Entrepot DCGP"]
["892160100124729117","SIGHW","043007000004","CARTE SIM 4G DATA MULTI SIM","2017-08-07","Franchise MSAKEN","MSK0013F",1,"SOLD","Tunis Entrepot DCGP"]
["892160100122555636","ASLOGHM","043006000003","CARTE SIM 4G PRE MULTI SIM","2017-08-07","Franchise MSAKEN","MSK0013F",1,"SOLD","Tunis Entrepot DCGP"]
["892160100122555264","ABLOUNA","043006000003","CARTE SIM 4G PRE MULTI SIM","2017-08-02","Franchise MSAKEN","MSK0013F",1,"SOLD","Tunis Entrepot DCGP"]
["","ASLOGHM","044004000010","Recharge Express","2017-08-02","Franchise MSAKEN","MSK0013F",5,"SOLD","Tunis Entrepot DCGP"]
["892160100122555256","ASLOGHM","043006000003","CARTE SIM 4G PRE MULTI SIM","2017-08-02","Franchise MSAKEN","MSK0013F",1,"SOLD","Tunis Entrepot DCGP"]
["892160100122555505","ASLOGHM","043006000003","CARTE SIM 4G PRE MULTI SIM","2017-08-02","Franchise MSAKEN","MSK0013F",1,"SOLD","Tunis Entrepot DCGP"]
["892160100122555502","ASLOGHM","043006000003","CARTE SIM 4G PRE MULTI SIM","2017-08-02","Franchise MSAKEN","MSK0013F",1,"SOLD","Tunis Entrepot DCGP"]
["","ASLOGHM","044004000010","Recharge Express","2017-08-05","Franchise MSAKEN","MSK0013F",5,"SOLD","Tunis Entrepot DCGP"]
["892160100122555326","ASLOGHM","043006000003","CARTE SIM 4G PRE MULTI SIM","2017-08-05","Franchise MSAKEN","MSK0013F",1,"SOLD","Tunis Entrepot DCGP"]
["","SIGHW","044004000010","Recharge Express","2017-08-08","Franchise MSAKEN","MSK0013F",10,"SOLD","Tunis Entrepot DCGP"]
["865205021205660","ABLOUNA","046002000060","DOMINO E5220 WHITE","2017-08-03","Franchise MSAKEN","MSK0013F",1,"SOLD","Tunis Entrepot DCGP"]
["892160100124729339","ABLOUNA","043007000004","CARTE SIM 4G DATA MULTI SIM","2017-08-03","Franchise MSAKEN","MSK0013F",1,"SOLD","Tunis Entrepot DCGP"]
["892160100122555550","ABLOUNA","043006000003","CARTE SIM 4G PRE MULTI SIM","2017-08-07","Franchise MSAKEN","MSK0013F",1,"SOLD","Tunis Entrepot DCGP"]
["892160100122555260","ABLOUNA","043006000003","CARTE SIM 4G PRE MULTI SIM","2017-08-03","Franchise MSAKEN","MSK0013F",1,"SOLD","Tunis Entrepot DCGP"]
["","SIGHW","044004000010","Recharge Express","2017-08-04","Franchise MSAKEN","MSK0013F",5,"SOLD","Tunis Entrepot DCGP"]
["","SIGHW","044004000010","Recharge Express","2017-08-04","Franchise MSAKEN","MSK0013F",5,"SOLD","Tunis Entrepot DCGP"]
["892160100122555622","SIGHW","043006000003","CARTE SIM 4G PRE MULTI SIM","2017-08-07","Franchise MSAKEN","MSK0013F",1,"SOLD","Tunis Entrepot DCGP"]
["","SIGHW","044004000010","Recharge Express","2017-08-01","Franchise MSAKEN","MSK0013F",10,"SOLD","Tunis Entrepot DCGP"]
["","RIGRAIET","999100001003","SERVICE TRANSFERT CONTACT","2017-08-01","Franchise MSAKEN","MSK0013F",1,"SOLD","Tunis Entrepot DCGP"]
["","RIGRAIET","044004000010","Recharge Express","2017-08-01","Franchise MSAKEN","MSK0013F",5,"SOLD","Tunis Entrepot DCGP"]
["","SIGHW","999100001003","SERVICE TRANSFERT CONTACT","2017-08-08","Franchise MSAKEN","MSK0013F",1,"SOLD","Tunis Entrepot DCGP"]
["892160100122555561","ASLOGHM","043006000003","CARTE SIM 4G PRE MULTI SIM","2017-08-08","Franchise MSAKEN","MSK0013F",1,"SOLD","Tunis Entrepot DCGP"]
["892160100122555335","ASLOGHM","043006000003","CARTE SIM 4G PRE MULTI SIM","2017-08-05","Franchise MSAKEN","MSK0013F",1,"SOLD","Tunis Entrepot DCGP"]
["892160100123469144","ABLOUNA","043001000114","CARTE PREACTIVEE VD","2017-08-05","Franchise MSAKEN","MSK0013F",1,"SOLD","Tunis Entrepot DCGP"]
["","SIGHW","044004000010","Recharge Express","2017-08-02","Franchise MSAKEN","MSK0013F",10,"SOLD","Tunis Entrepot DCGP"]
["","ASLOGHM","044004000010","Recharge Express","2017-08-02","Franchise MSAKEN","MSK0013F",30,"SOLD","Tunis Entrepot DCGP"]
["","SIGHW","044004000010","Recharge Express","2017-08-03","Franchise MSAKEN","MSK0013F",5,"SOLD","Tunis Entrepot DCGP"]
["892160100122555276","SIGHW","043006000003","CARTE SIM 4G PRE MULTI SIM","2017-08-03","Franchise MSAKEN","MSK0013F",1,"SOLD","Tunis Entrepot DCGP"]
["892160100122555277","SIGHW","043006000003","CARTE SIM 4G PRE MULTI SIM","2017-08-03","Franchise MSAKEN","MSK0013F",1,"SOLD","Tunis Entrepot DCGP"]
["","ASLOGHM","044004000010","Recharge Express","2017-08-04","Franchise MSAKEN","MSK0013F",9,"SOLD","Tunis Entrepot DCGP"]
["","RIGRAIET","044004000010","Recharge Express","2017-08-07","Franchise MSAKEN","MSK0013F",6,"SOLD","Tunis Entrepot DCGP"]
["892160100122555330","RIGRAIET","043006000003","CARTE SIM 4G PRE MULTI SIM","2017-08-07","Franchise MSAKEN","MSK0013F",1,"SOLD","Tunis Entrepot DCGP"]
["892160100122555596","RIGRAIET","043006000003","CARTE SIM 4G PRE MULTI SIM","2017-08-08","Franchise MSAKEN","MSK0013F",1,"SOLD","Tunis Entrepot DCGP"]
["","ABLOUNA","044004000010","Recharge Express","2017-08-01","Franchise MSAKEN","MSK0013F",1,"SOLD","Tunis Entrepot DCGP"]
["","ABLOUNA","044004000010","Recharge Express","2017-08-08","Franchise MSAKEN","MSK0013F",18,"SOLD","Tunis Entrepot DCGP"]
["892160100124728413","RIGRAIET","043007000004","CARTE SIM 4G DATA MULTI SIM","2017-08-08","Franchise MSAKEN","MSK0013F",1,"SOLD","Tunis Entrepot DCGP"]
["869907027306113","RIGRAIET","046002000041","CLE 4G E3372H","2017-08-08","Franchise MSAKEN","MSK0013F",1,"SOLD","Tunis Entrepot DCGP"]
["892160100123469147","ABLOUNA","043001000114","CARTE PREACTIVEE VD","2017-08-05","Franchise MSAKEN","MSK0013F",1,"SOLD","Tunis Entrepot DCGP"]
["892160100123469148","ABLOUNA","043001000114","CARTE PREACTIVEE VD","2017-08-05","Franchise MSAKEN","MSK0013F",1,"SOLD","Tunis Entrepot DCGP"]
["","ABLOUNA","044004000010","Recharge Express","2017-08-08","Franchise MSAKEN","MSK0013F",5,"SOLD","Tunis Entrepot DCGP"]
["892160100122555595","SIGHW","043006000003","CARTE SIM 4G PRE MULTI SIM","2017-08-08","Franchise MSAKEN","MSK0013F",1,"SOLD","Tunis Entrepot DCGP"]
["","SIGHW","044004000010","Recharge Express","2017-08-05","Franchise MSAKEN","MSK0013F",5,"SOLD","Tunis Entrepot DCGP"]
["892160100122555333","SIGHW","043006000003","CARTE SIM 4G PRE MULTI SIM","2017-08-05","Franchise MSAKEN","MSK0013F",1,"SOLD","Tunis Entrepot DCGP"]
["892160100123469143","ASLOGHM","043001000114","CARTE PREACTIVEE VD","2017-08-08","Franchise MSAKEN","MSK0013F",1,"SOLD","Tunis Entrepot DCGP"]
["892160100123469142","ASLOGHM","043001000114","CARTE PREACTIVEE VD","2017-08-08","Franchise MSAKEN","MSK0013F",1,"SOLD","Tunis Entrepot DCGP"]
["867424023061611","SIGHW","046002000034","CLE 3G E3531","2017-08-08","Franchise MSAKEN","MSK0013F",1,"SOLD","Tunis Entrepot DCGP"]
["892160100124728408","SIGHW","043007000004","CARTE SIM 4G DATA MULTI SIM","2017-08-08","Franchise MSAKEN","MSK0013F",1,"SOLD","Tunis Entrepot DCGP"]
["","ABLOUNA","044004000010","Recharge Express","2017-08-03","Franchise MSAKEN","MSK0013F",2,"SOLD","Tunis Entrepot DCGP"]
["","ABLOUNA","044004000010","Recharge Express","2017-08-03","Franchise MSAKEN","MSK0013F",2,"SOLD","Tunis Entrepot DCGP"]
["","SIGHW","044004000010","Recharge Express","2017-08-04","Franchise MSAKEN","MSK0013F",5,"SOLD","Tunis Entrepot DCGP"]
["","SIGHW","999100001003","SERVICE TRANSFERT CONTACT","2017-08-04","Franchise MSAKEN","MSK0013F",1,"SOLD","Tunis Entrepot DCGP"]
["","ABLOUNA","044004000010","Recharge Express","2017-08-08","Franchise MSAKEN","MSK0013F",9,"SOLD","Tunis Entrepot DCGP"]
["","ASLOGHM","044004000010","Recharge Express","2017-08-08","Franchise MSAKEN","MSK0013F",12,"SOLD","Tunis Entrepot DCGP"]
["","SIGHW","044004000010","Recharge Express","2017-08-07","Franchise MSAKEN","MSK0013F",20,"SOLD","Tunis Entrepot DCGP"]
["892160100123469146","SIGHW","043001000114","CARTE PREACTIVEE VD","2017-08-07","Franchise MSAKEN","MSK0013F",1,"SOLD","Tunis Entrepot DCGP"]
["892160100122555600","SIGHW","043006000003","CARTE SIM 4G PRE MULTI SIM","2017-08-08","Franchise MSAKEN","MSK0013F",1,"SOLD","Tunis Entrepot DCGP"]
["892160100122555619","SIGHW","043006000003","CARTE SIM 4G PRE MULTI SIM","2017-08-07","Franchise MSAKEN","MSK0013F",1,"SOLD","Tunis Entrepot DCGP"]
["","ABLOUNA","044004000010","Recharge Express","2017-08-07","Franchise MSAKEN","MSK0013F",15,"SOLD","Tunis Entrepot DCGP"]
["","SIGHW","044004000010","Recharge Express","2017-08-07","Franchise MSAKEN","MSK0013F",5,"SOLD","Tunis Entrepot DCGP"]
["","SIGHW","999100001003","SERVICE TRANSFERT CONTACT","2017-08-07","Franchise MSAKEN","MSK0013F",1,"SOLD","Tunis Entrepot DCGP"]
["892160100122555615","SIGHW","043006000003","CARTE SIM 4G PRE MULTI SIM","2017-08-07","Franchise MSAKEN","MSK0013F",1,"SOLD","Tunis Entrepot DCGP"]
["892160100124728412","SIGHW","043007000004","CARTE SIM 4G DATA MULTI SIM","2017-08-08","Franchise MSAKEN","MSK0013F",1,"SOLD","Tunis Entrepot DCGP"]
["892160100122555565","SIGHW","043006000003","CARTE SIM 4G PRE MULTI SIM","2017-08-08","Franchise MSAKEN","MSK0013F",1,"SOLD","Tunis Entrepot DCGP"]
["892160100122555309","ABLOUNA","043006000003","CARTE SIM 4G PRE MULTI SIM","2017-08-03","Franchise MSAKEN","MSK0013F",1,"SOLD","Tunis Entrepot DCGP"]
["892160100124729119","SIGHW","043007000004","CARTE SIM 4G DATA MULTI SIM","2017-08-08","Franchise MSAKEN","MSK0013F",1,"SOLD","Tunis Entrepot DCGP"]
["892160100122555618","SIGHW","043006000003","CARTE SIM 4G PRE MULTI SIM","2017-08-07","Franchise MSAKEN","MSK0013F",1,"SOLD","Tunis Entrepot DCGP"]
["892160100122555642","RIGRAIET","043006000003","CARTE SIM 4G PRE MULTI SIM","2017-08-07","Franchise MSAKEN","MSK0013F",1,"SOLD","Tunis Entrepot DCGP"]
["892160100122555648","SIGHW","043006000003","CARTE SIM 4G PRE MULTI SIM","2017-08-07","Franchise MSAKEN","MSK0013F",1,"SOLD","Tunis Entrepot DCGP"]
["","ABLOUNA","044004000010","Recharge Express","2017-08-04","Franchise MSAKEN","MSK0013F",5,"SOLD","Tunis Entrepot DCGP"]
["865205020674973","RIGRAIET","046002000060","DOMINO E5220 WHITE","2017-08-01","Franchise MSAKEN","MSK0013F",1,"SOLD","Tunis Entrepot DCGP"]
["892160100123782634","RIGRAIET","043007000004","CARTE SIM 4G DATA MULTI SIM","2017-08-01","Franchise MSAKEN","MSK0013F",1,"SOLD","Tunis Entrepot DCGP"]
["892160100124729112","ASLOGHM","043007000004","CARTE SIM 4G DATA MULTI SIM","2017-08-07","Franchise MSAKEN","MSK0013F",1,"SOLD","Tunis Entrepot DCGP"]
["892160100122555639","ASLOGHM","043006000003","CARTE SIM 4G PRE MULTI SIM","2017-08-07","Franchise MSAKEN","MSK0013F",1,"SOLD","Tunis Entrepot DCGP"]
["","ASLOGHM","044004000010","Recharge Express","2017-08-04","Franchise MSAKEN","MSK0013F",20,"SOLD","Tunis Entrepot DCGP"]
["892160100122555315","ABLOUNA","043006000003","CARTE SIM 4G PRE MULTI SIM","2017-08-04","Franchise MSAKEN","MSK0013F",1,"SOLD","Tunis Entrepot DCGP"]
["892160100122555564","SIGHW","043006000003","CARTE SIM 4G PRE MULTI SIM","2017-08-08","Franchise MSAKEN","MSK0013F",1,"SOLD","Tunis Entrepot DCGP"]
["892160100124729113","ASLOGHM","043007000004","CARTE SIM 4G DATA MULTI SIM","2017-08-07","Franchise MSAKEN","MSK0013F",1,"SOLD","Tunis Entrepot DCGP"]
["892160100122555590","ASLOGHM","043006000003","CARTE SIM 4G PRE MULTI SIM","2017-08-08","Franchise MSAKEN","MSK0013F",1,"SOLD","Tunis Entrepot DCGP"]
["892160100124728414","SIGHW","043007000004","CARTE SIM 4G DATA MULTI SIM","2017-08-08","Franchise MSAKEN","MSK0013F",1,"SOLD","Tunis Entrepot DCGP"]
["","SIGHW","044004000010","Recharge Express","2017-08-08","Franchise MSAKEN","MSK0013F",5,"SOLD","Tunis Entrepot DCGP"]
["892160100122555329","SIGHW","043006000003","CARTE SIM 4G PRE MULTI SIM","2017-08-07","Franchise MSAKEN","MSK0013F",1,"SOLD","Tunis Entrepot DCGP"]
["892160100122555527","ABLOUNA","043006000003","CARTE SIM 4G PRE MULTI SIM","2017-08-03","Franchise MSAKEN","MSK0013F",1,"SOLD","Tunis Entrepot DCGP"]
["357360080066654","SIGHW","083025001001","SERVICOM EASY 3 BLACK RED","2017-08-08","Franchise MSAKEN","MSK0013F",1,"SOLD","Tunis Entrepot DCGP"]
["892160100122555591","SIGHW","043006000003","CARTE SIM 4G PRE MULTI SIM","2017-08-08","Franchise MSAKEN","MSK0013F",1,"SOLD","Tunis Entrepot DCGP"]
["892160100122555611","RIGRAIET","043006000003","CARTE SIM 4G PRE MULTI SIM","2017-08-07","Franchise MSAKEN","MSK0013F",1,"SOLD","Tunis Entrepot DCGP"]
["","RIGRAIET","999100001003","SERVICE TRANSFERT CONTACT","2017-08-01","Franchise MSAKEN","MSK0013F",1,"SOLD","Tunis Entrepot DCGP"]
["2168006000749","SIGHW","047006000161","Orange Wifi dock","2017-08-05","Franchise MSAKEN","MSK0013F",1,"SOLD","Tunis Entrepot DCGP"]
["867424023063997","SIGHW","046002000034","CLE 3G E3531","2017-08-05","Franchise MSAKEN","MSK0013F",1,"SOLD","Tunis Entrepot DCGP"]
["892160100124729102","SIGHW","043007000004","CARTE SIM 4G DATA MULTI SIM","2017-08-05","Franchise MSAKEN","MSK0013F",1,"SOLD","Tunis Entrepot DCGP"]
["","ASLOGHM","044004000010","Recharge Express","2017-08-07","Franchise MSAKEN","MSK0013F",5,"SOLD","Tunis Entrepot DCGP"]
["TG6K17020002849","ASLOGHM","188003000016","Modem Huawei HG532","2017-08-07","Franchise MSAKEN","MSK0013F",1,"SOLD","Tunis Entrepot DCGP"]
["862716031774035","SIGHW","045013018001","HUAWEI Y3-II BLACK","2017-08-05","Franchise MSAKEN","MSK0013F",1,"SOLD","Tunis Entrepot DCGP"]
["892160100122555634","SIGHW","043006000003","CARTE SIM 4G PRE MULTI SIM","2017-08-05","Franchise MSAKEN","MSK0013F",1,"SOLD","Tunis Entrepot DCGP"]
["","ABLOUNA","044004000010","Recharge Express","2017-08-05","Franchise MSAKEN","MSK0013F",15,"SOLD","Tunis Entrepot DCGP"]
["892160100122555597","SIGHW","043006000003","CARTE SIM 4G PRE MULTI SIM","2017-08-08","Franchise MSAKEN","MSK0013F",1,"SOLD","Tunis Entrepot DCGP"]
["892160100122555250","SIGHW","043006000003","CARTE SIM 4G PRE MULTI SIM","2017-08-03","Franchise MSAKEN","MSK0013F",1,"SOLD","Tunis Entrepot DCGP"]
["","RIGRAIET","044004000010","Recharge Express","2017-08-08","Franchise MSAKEN","MSK0013F",5,"SOLD","Tunis Entrepot DCGP"]
["","SIGHW","044004000010","Recharge Express","2017-08-01","Franchise MSAKEN","MSK0013F",5,"SOLD","Tunis Entrepot DCGP"]
["","SIGHW","044004000010","Recharge Express","2017-08-07","Franchise MSAKEN","MSK0013F",5,"SOLD","Tunis Entrepot DCGP"]
["","SIGHW","999100001003","SERVICE TRANSFERT CONTACT","2017-08-07","Franchise MSAKEN","MSK0013F",1,"SOLD","Tunis Entrepot DCGP"]
["892160100122555647","SIGHW","043006000003","CARTE SIM 4G PRE MULTI SIM","2017-08-07","Franchise MSAKEN","MSK0013F",1,"SOLD","Tunis Entrepot DCGP"]
["892160100122555496","SIGHW","043006000003","CARTE SIM 4G PRE MULTI SIM","2017-08-01","Franchise MSAKEN","MSK0013F",1,"SOLD","Tunis Entrepot DCGP"]
["","SIGHW","044004000010","Recharge Express","2017-08-07","Franchise MSAKEN","MSK0013F",30,"SOLD","Tunis Entrepot DCGP"]
["892160100124728405","ABLOUNA","043007000004","CARTE SIM 4G DATA MULTI SIM","2017-08-07","Franchise MSAKEN","MSK0013F",1,"SOLD","Tunis Entrepot DCGP"]
["865205021630578","ABLOUNA","046002000060","DOMINO E5220 WHITE","2017-08-05","Franchise MSAKEN","MSK0013F",1,"SOLD","Tunis Entrepot DCGP"]
["892160100124729107","ABLOUNA","043007000004","CARTE SIM 4G DATA MULTI SIM","2017-08-05","Franchise MSAKEN","MSK0013F",1,"SOLD","Tunis Entrepot DCGP"]
["892160100122555477","ABLOUNA","043006000003","CARTE SIM 4G PRE MULTI SIM","2017-08-05","Franchise MSAKEN","MSK0013F",1,"SOLD","Tunis Entrepot DCGP"]
["","ASLOGHM","044004000010","Recharge Express","2017-08-05","Franchise MSAKEN","MSK0013F",20,"SOLD","Tunis Entrepot DCGP"]
["","ABLOUNA","044004000010","Recharge Express","2017-08-05","Franchise MSAKEN","MSK0013F",5,"SOLD","Tunis Entrepot DCGP"]
["892160100123782633","RIGRAIET","043007000004","CARTE SIM 4G DATA MULTI SIM","2017-08-01","Franchise MSAKEN","MSK0013F",1,"SOLD","Tunis Entrepot DCGP"]
["","SIGHW","044004000010","Recharge Express","2017-08-07","Franchise MSAKEN","MSK0013F",30,"SOLD","Tunis Entrepot DCGP"]
["","ASLOGHM","044004000010","Recharge Express","2017-08-04","Franchise MSAKEN","MSK0013F",20,"SOLD","Tunis Entrepot DCGP"]
["892160100122555488","SIGHW","043006000003","CARTE SIM 4G PRE MULTI SIM","2017-08-02","Franchise MSAKEN","MSK0013F",1,"SOLD","Tunis Entrepot DCGP"]
["","ABLOUNA","044004000010","Recharge Express","2017-08-01","Franchise MSAKEN","MSK0013F",5,"SOLD","Tunis Entrepot DCGP"]
["892160100124729111","ASLOGHM","043007000004","CARTE SIM 4G DATA MULTI SIM","2017-08-07","Franchise MSAKEN","MSK0013F",1,"SOLD","Tunis Entrepot DCGP"]
["892160100122555491","SIGHW","043006000003","CARTE SIM 4G PRE MULTI SIM","2017-08-02","Franchise MSAKEN","MSK0013F",1,"SOLD","Tunis Entrepot DCGP"]
["3173088003356","RIGRAIET","047006000161","Orange Wifi dock","2017-08-07","Franchise MSAKEN","MSK0013F",1,"SOLD","Tunis Entrepot DCGP"]
["867424023061942","RIGRAIET","046002000034","CLE 3G E3531","2017-08-07","Franchise MSAKEN","MSK0013F",1,"SOLD","Tunis Entrepot DCGP"]
["892160100124728401","RIGRAIET","043007000004","CARTE SIM 4G DATA MULTI SIM","2017-08-07","Franchise MSAKEN","MSK0013F",1,"SOLD","Tunis Entrepot DCGP"]
["","ASLOGHM","044004000010","Recharge Express","2017-08-07","Franchise MSAKEN","MSK0013F",10,"SOLD","Tunis Entrepot DCGP"]
["892160100122555637","ASLOGHM","043006000003","CARTE SIM 4G PRE MULTI SIM","2017-08-07","Franchise MSAKEN","MSK0013F",1,"SOLD","Tunis Entrepot DCGP"]
["","ASLOGHM","044004000010","Recharge Express","2017-08-07","Franchise MSAKEN","MSK0013F",5,"SOLD","Tunis Entrepot DCGP"]
["","ASLOGHM","044004000010","Recharge Express","2017-08-07","Franchise MSAKEN","MSK0013F",5,"SOLD","Tunis Entrepot DCGP"]
["892160100122555624","ASLOGHM","043006000003","CARTE SIM 4G PRE MULTI SIM","2017-08-07","Franchise MSAKEN","MSK0013F",1,"SOLD","Tunis Entrepot DCGP"]
["892160100122555625","ASLOGHM","043006000003","CARTE SIM 4G PRE MULTI SIM","2017-08-07","Franchise MSAKEN","MSK0013F",1,"SOLD","Tunis Entrepot DCGP"]
["892160100123469132","ABLOUNA","043001000114","CARTE PREACTIVEE VD","2017-08-02","Franchise MSAKEN","MSK0013F",1,"SOLD","Tunis Entrepot DCGP"]
["892160100122555510","RIGRAIET","043006000003","CARTE SIM 4G PRE MULTI SIM","2017-08-01","Franchise MSAKEN","MSK0013F",1,"SOLD","Tunis Entrepot DCGP"]
["","ASLOGHM","044004000010","Recharge Express","2017-08-07","Franchise MSAKEN","MSK0013F",10,"SOLD","Tunis Entrepot DCGP"]
["892160100122555623","ASLOGHM","043006000003","CARTE SIM 4G PRE MULTI SIM","2017-08-07","Franchise MSAKEN","MSK0013F",1,"SOLD","Tunis Entrepot DCGP"]
["","ASLOGHM","044004000010","Recharge Express","2017-08-05","Franchise MSAKEN","MSK0013F",5,"SOLD","Tunis Entrepot DCGP"]
["892160100122555472","SIGHW","043006000003","CARTE SIM 4G PRE MULTI SIM","2017-08-02","Franchise MSAKEN","MSK0013F",1,"SOLD","Tunis Entrepot DCGP"]
["","ABLOUNA","044004000010","Recharge Express","2017-08-02","Franchise MSAKEN","MSK0013F",7,"SOLD","Tunis Entrepot DCGP"]
["892160100122555346","ASLOGHM","043006000003","CARTE SIM 4G PRE MULTI SIM","2017-08-04","Franchise MSAKEN","MSK0013F",1,"SOLD","Tunis Entrepot DCGP"]
["","SIGHW","044004000010","Recharge Express","2017-08-02","Franchise MSAKEN","MSK0013F",5,"SOLD","Tunis Entrepot DCGP"]
["","ABLOUNA","044004000010","Recharge Express","2017-08-02","Franchise MSAKEN","MSK0013F",20,"SOLD","Tunis Entrepot DCGP"]
["892160100122555278","SIGHW","043006000003","CARTE SIM 4G PRE MULTI SIM","2017-08-03","Franchise MSAKEN","MSK0013F",1,"SOLD","Tunis Entrepot DCGP"]
["","SIGHW","044004000010","Recharge Express","2017-08-03","Franchise MSAKEN","MSK0013F",1,"SOLD","Tunis Entrepot DCGP"]
["","ASLOGHM","044004000010","Recharge Express","2017-08-03","Franchise MSAKEN","MSK0013F",1,"SOLD","Tunis Entrepot DCGP"]
["892160100122555480","ABLOUNA","043006000003","CARTE SIM 4G PRE MULTI SIM","2017-08-02","Franchise MSAKEN","MSK0013F",1,"SOLD","Tunis Entrepot DCGP"]
["2168006000752","ABLOUNA","047006000161","Orange Wifi dock","2017-08-02","Franchise MSAKEN","MSK0013F",1,"SOLD","Tunis Entrepot DCGP"]
["867424023066552","ABLOUNA","046002000034","CLE 3G E3531","2017-08-02","Franchise MSAKEN","MSK0013F",1,"SOLD","Tunis Entrepot DCGP"]
["892160100123781996","ABLOUNA","043007000004","CARTE SIM 4G DATA MULTI SIM","2017-08-02","Franchise MSAKEN","MSK0013F",1,"SOLD","Tunis Entrepot DCGP"]
["865205021638290","ASLOGHM","046002000060","DOMINO E5220 WHITE","2017-08-02","Franchise MSAKEN","MSK0013F",1,"SOLD","Tunis Entrepot DCGP"]
["892160100123781997","ASLOGHM","043007000004","CARTE SIM 4G DATA MULTI SIM","2017-08-02","Franchise MSAKEN","MSK0013F",1,"SOLD","Tunis Entrepot DCGP"]
["","ASLOGHM","044004000010","Recharge Express","2017-08-07","Franchise MSAKEN","MSK0013F",5,"SOLD","Tunis Entrepot DCGP"]
["892160100123782005","ASLOGHM","043007000004","CARTE SIM 4G DATA MULTI SIM","2017-08-02","Franchise MSAKEN","MSK0013F",1,"SOLD","Tunis Entrepot DCGP"]
["","ASLOGHM","044004000010","Recharge Express","2017-08-02","Franchise MSAKEN","MSK0013F",12,"SOLD","Tunis Entrepot DCGP"]
["","SIGHW","044004000010","Recharge Express","2017-08-03","Franchise MSAKEN","MSK0013F",5,"SOLD","Tunis Entrepot DCGP"]
["892160100122555308","SIGHW","043006000003","CARTE SIM 4G PRE MULTI SIM","2017-08-03","Franchise MSAKEN","MSK0013F",1,"SOLD","Tunis Entrepot DCGP"]
["","RIGRAIET","044004000010","Recharge Express","2017-08-07","Franchise MSAKEN","MSK0013F",5,"SOLD","Tunis Entrepot DCGP"]
["","SIGHW","044004000010","Recharge Express","2017-08-07","Franchise MSAKEN","MSK0013F",5,"SOLD","Tunis Entrepot DCGP"]
["TG6K17020002819","ASLOGHM","188003000016","Modem Huawei HG532","2017-08-02","Franchise MSAKEN","MSK0013F",1,"SOLD","Tunis Entrepot DCGP"]
["","SIGHW","044004000010","Recharge Express","2017-08-07","Franchise MSAKEN","MSK0013F",1,"SOLD","Tunis Entrepot DCGP"]
["892160100122555332","SIGHW","043006000003","CARTE SIM 4G PRE MULTI SIM","2017-08-07","Franchise MSAKEN","MSK0013F",1,"SOLD","Tunis Entrepot DCGP"]
["892160100124728403","ABLOUNA","043007000004","CARTE SIM 4G DATA MULTI SIM","2017-08-07","Franchise MSAKEN","MSK0013F",1,"SOLD","Tunis Entrepot DCGP"]
["869470011700304","ABLOUNA","046002000060","DOMINO E5220 WHITE","2017-08-07","Franchise MSAKEN","MSK0013F",1,"SOLD","Tunis Entrepot DCGP"]
["892160100124728402","ABLOUNA","043007000004","CARTE SIM 4G DATA MULTI SIM","2017-08-07","Franchise MSAKEN","MSK0013F",1,"SOLD","Tunis Entrepot DCGP"]
["","SIGHW","044004000010","Recharge Express","2017-08-01","Franchise MSAKEN","MSK0013F",30,"SOLD","Tunis Entrepot DCGP"]
["","SIGHW","999100001003","SERVICE TRANSFERT CONTACT","2017-08-04","Franchise MSAKEN","MSK0013F",1,"SOLD","Tunis Entrepot DCGP"]
["","SIGHW","044004000010","Recharge Express","2017-08-04","Franchise MSAKEN","MSK0013F",20,"SOLD","Tunis Entrepot DCGP"]
["892160100122555288","SIGHW","043006000003","CARTE SIM 4G PRE MULTI SIM","2017-08-04","Franchise MSAKEN","MSK0013F",1,"SOLD","Tunis Entrepot DCGP"]
["865205023050130","SIGHW","046002000060","DOMINO E5220 WHITE","2017-08-08","Franchise MSAKEN","MSK0013F",1,"SOLD","Tunis Entrepot DCGP"]
["892160100124728411","SIGHW","043007000004","CARTE SIM 4G DATA MULTI SIM","2017-08-08","Franchise MSAKEN","MSK0013F",1,"SOLD","Tunis Entrepot DCGP"]
["","ASLOGHM","044004000010","Recharge Express","2017-08-07","Franchise MSAKEN","MSK0013F",12,"SOLD","Tunis Entrepot DCGP"]
["892160100122555556","RIGRAIET","043006000003","CARTE SIM 4G PRE MULTI SIM","2017-08-08","Franchise MSAKEN","MSK0013F",1,"SOLD","Tunis Entrepot DCGP"]
["","SIGHW","044004000010","Recharge Express","2017-08-08","Franchise MSAKEN","MSK0013F",10,"SOLD","Tunis Entrepot DCGP"]
["","ASLOGHM","044004000010","Recharge Express","2017-08-08","Franchise MSAKEN","MSK0013F",30,"SOLD","Tunis Entrepot DCGP"]
["892160100122555555","RIGRAIET","043006000003","CARTE SIM 4G PRE MULTI SIM","2017-08-08","Franchise MSAKEN","MSK0013F",1,"SOLD","Tunis Entrepot DCGP"]
["","SIGHW","044004000010","Recharge Express","2017-08-07","Franchise MSAKEN","MSK0013F",25,"SOLD","Tunis Entrepot DCGP"]
["892160100122555475","ABLOUNA","043006000003","CARTE SIM 4G PRE MULTI SIM","2017-08-01","Franchise MSAKEN","MSK0013F",1,"SOLD","Tunis Entrepot DCGP"]
["","SIGHW","044004000010","Recharge Express","2017-08-07","Franchise MSAKEN","MSK0013F",1,"SOLD","Tunis Entrepot DCGP"]
["","ABLOUNA","044004000010","Recharge Express","2017-08-04","Franchise MSAKEN","MSK0013F",10,"SOLD","Tunis Entrepot DCGP"]
["892160100122555268","SIGHW","043006000003","CARTE SIM 4G PRE MULTI SIM","2017-08-03","Franchise MSAKEN","MSK0013F",1,"SOLD","Tunis Entrepot DCGP"]
["","ABLOUNA","044004000010","Recharge Express","2017-08-05","Franchise MSAKEN","MSK0013F",1,"SOLD","Tunis Entrepot DCGP"]
["892160100124729104","ABLOUNA","043007000004","CARTE SIM 4G DATA MULTI SIM","2017-08-05","Franchise MSAKEN","MSK0013F",1,"SOLD","Tunis Entrepot DCGP"]
["","SIGHW","999100001003","SERVICE TRANSFERT CONTACT","2017-08-07","Franchise MSAKEN","MSK0013F",1,"SOLD","Tunis Entrepot DCGP"]
["892160100124729109","SIGHW","043007000004","CARTE SIM 4G DATA MULTI SIM","2017-08-07","Franchise MSAKEN","MSK0013F",1,"SOLD","Tunis Entrepot DCGP"]
["892160100122555251","ASLOGHM","043006000003","CARTE SIM 4G PRE MULTI SIM","2017-08-02","Franchise MSAKEN","MSK0013F",1,"SOLD","Tunis Entrepot DCGP"]
["892160100123782007","ASLOGHM","043007000004","CARTE SIM 4G DATA MULTI SIM","2017-08-02","Franchise MSAKEN","MSK0013F",1,"SOLD","Tunis Entrepot DCGP"]
["","ASLOGHM","044004000010","Recharge Express","2017-08-07","Franchise MSAKEN","MSK0013F",1,"SOLD","Tunis Entrepot DCGP"]
["892160100122555630","ASLOGHM","043006000003","CARTE SIM 4G PRE MULTI SIM","2017-08-07","Franchise MSAKEN","MSK0013F",1,"SOLD","Tunis Entrepot DCGP"]
["892160100124729118","SIGHW","043007000004","CARTE SIM 4G DATA MULTI SIM","2017-08-07","Franchise MSAKEN","MSK0013F",1,"SOLD","Tunis Entrepot DCGP"]
["892160100122555620","SIGHW","043006000003","CARTE SIM 4G PRE MULTI SIM","2017-08-07","Franchise MSAKEN","MSK0013F",1,"SOLD","Tunis Entrepot DCGP"]
["892160100122555608","RIGRAIET","043006000003","CARTE SIM 4G PRE MULTI SIM","2017-08-08","Franchise MSAKEN","MSK0013F",1,"SOLD","Tunis Entrepot DCGP"]
["892160100122555297","ASLOGHM","043006000003","CARTE SIM 4G PRE MULTI SIM","2017-08-03","Franchise MSAKEN","MSK0013F",1,"SOLD","Tunis Entrepot DCGP"]
["892160100122555635","SIGHW","043006000003","CARTE SIM 4G PRE MULTI SIM","2017-08-05","Franchise MSAKEN","MSK0013F",1,"SOLD","Tunis Entrepot DCGP"]
["","RIGRAIET","044004000010","Recharge Express","2017-08-07","Franchise MSAKEN","MSK0013F",10,"SOLD","Tunis Entrepot DCGP"]
["892160100122555628","RIGRAIET","043006000003","CARTE SIM 4G PRE MULTI SIM","2017-08-07","Franchise MSAKEN","MSK0013F",1,"SOLD","Tunis Entrepot DCGP"]
["352145081653666","SIGHW","045019001002","TECNO N9 WHITE","2017-08-07","Franchise MSAKEN","MSK0013F",1,"SOLD","Tunis Entrepot DCGP"]
["892160100122555626","SIGHW","043006000003","CARTE SIM 4G PRE MULTI SIM","2017-08-07","Franchise MSAKEN","MSK0013F",1,"SOLD","Tunis Entrepot DCGP"]
["892160100122555627","RIGRAIET","043006000003","CARTE SIM 4G PRE MULTI SIM","2017-08-07","Franchise MSAKEN","MSK0013F",1,"SOLD","Tunis Entrepot DCGP"]
["","RIGRAIET","044004000010","Recharge Express","2017-08-07","Franchise MSAKEN","MSK0013F",30,"SOLD","Tunis Entrepot DCGP"]
["892160100122555593","ASLOGHM","043006000003","CARTE SIM 4G PRE MULTI SIM","2017-08-07","Franchise MSAKEN","MSK0013F",1,"SOLD","Tunis Entrepot DCGP"]
["892160100122555588","ASLOGHM","043006000003","CARTE SIM 4G PRE MULTI SIM","2017-08-07","Franchise MSAKEN","MSK0013F",1,"SOLD","Tunis Entrepot DCGP"]
["865205021176150","ABLOUNA","046002000060","DOMINO E5220 WHITE","2017-08-03","Franchise MSAKEN","MSK0013F",1,"SOLD","Tunis Entrepot DCGP"]
["892160100124729333","ABLOUNA","043007000004","CARTE SIM 4G DATA MULTI SIM","2017-08-03","Franchise MSAKEN","MSK0013F",1,"SOLD","Tunis Entrepot DCGP"]
["","SIGHW","044004000010","Recharge Express","2017-08-03","Franchise MSAKEN","MSK0013F",5,"SOLD","Tunis Entrepot DCGP"]
["","ASLOGHM","044004000010","Recharge Express","2017-08-04","Franchise MSAKEN","MSK0013F",3,"SOLD","Tunis Entrepot DCGP"]
["869907027306873","SIGHW","046002000041","CLE 4G E3372H","2017-08-03","Franchise MSAKEN","MSK0013F",1,"SOLD","Tunis Entrepot DCGP"]
["892160100123782639","SIGHW","043007000004","CARTE SIM 4G DATA MULTI SIM","2017-08-03","Franchise MSAKEN","MSK0013F",1,"SOLD","Tunis Entrepot DCGP"]
["892160100122555317","ABLOUNA","043006000003","CARTE SIM 4G PRE MULTI SIM","2017-08-07","Franchise MSAKEN","MSK0013F",1,"SOLD","Tunis Entrepot DCGP"]
["TG6K17020002854","RIGRAIET","188003000016","Modem Huawei HG532","2017-08-07","Franchise MSAKEN","MSK0013F",1,"SOLD","Tunis Entrepot DCGP"]
["892160100123781998","ABLOUNA","043007000004","CARTE SIM 4G DATA MULTI SIM","2017-08-02","Franchise MSAKEN","MSK0013F",1,"SOLD","Tunis Entrepot DCGP"]
["892160100122555331","SIGHW","043006000003","CARTE SIM 4G PRE MULTI SIM","2017-08-07","Franchise MSAKEN","MSK0013F",1,"SOLD","Tunis Entrepot DCGP"]
["","ASLOGHM","044004000010","Recharge Express","2017-08-08","Franchise MSAKEN","MSK0013F",10,"SOLD","Tunis Entrepot DCGP"]
["892160100124728671","ASLOGHM","043007000004","CARTE SIM 4G DATA MULTI SIM","2017-08-04","Franchise MSAKEN","MSK0013F",1,"SOLD","Tunis Entrepot DCGP"]
["892160100122555293","ASLOGHM","043006000003","CARTE SIM 4G PRE MULTI SIM","2017-08-04","Franchise MSAKEN","MSK0013F",1,"SOLD","Tunis Entrepot DCGP"]
["","ABLOUNA","044004000010","Recharge Express","2017-08-05","Franchise MSAKEN","MSK0013F",1,"SOLD","Tunis Entrepot DCGP"]
["892160100122555322","ABLOUNA","043006000003","CARTE SIM 4G PRE MULTI SIM","2017-08-05","Franchise MSAKEN","MSK0013F",1,"SOLD","Tunis Entrepot DCGP"]
["892160100122555345","ASLOGHM","043006000003","CARTE SIM 4G PRE MULTI SIM","2017-08-05","Franchise MSAKEN","MSK0013F",1,"SOLD","Tunis Entrepot DCGP"]
["892160100124728404","ABLOUNA","043007000004","CARTE SIM 4G DATA MULTI SIM","2017-08-07","Franchise MSAKEN","MSK0013F",1,"SOLD","Tunis Entrepot DCGP"]
["865205021335848","RIGRAIET","046002000060","DOMINO E5220 WHITE","2017-08-01","Franchise MSAKEN","MSK0013F",1,"SOLD","Tunis Entrepot DCGP"]
["892160100123782628","RIGRAIET","043007000004","CARTE SIM 4G DATA MULTI SIM","2017-08-01","Franchise MSAKEN","MSK0013F",1,"SOLD","Tunis Entrepot DCGP"]
["","ABLOUNA","044004000010","Recharge Express","2017-08-05","Franchise MSAKEN","MSK0013F",1,"SOLD","Tunis Entrepot DCGP"]
["865205022182371","RIGRAIET","046002000060","DOMINO E5220 WHITE","2017-08-08","Franchise MSAKEN","MSK0013F",1,"SOLD","Tunis Entrepot DCGP"]
["892160100124728410","RIGRAIET","043007000004","CARTE SIM 4G DATA MULTI SIM","2017-08-08","Franchise MSAKEN","MSK0013F",1,"SOLD","Tunis Entrepot DCGP"]
["892160100122555589","ASLOGHM","043006000003","CARTE SIM 4G PRE MULTI SIM","2017-08-08","Franchise MSAKEN","MSK0013F",1,"SOLD","Tunis Entrepot DCGP"]
["865205022196991","SIGHW","046002000060","DOMINO E5220 WHITE","2017-08-04","Franchise MSAKEN","MSK0013F",1,"SOLD","Tunis Entrepot DCGP"]
["892160100124728666","SIGHW","043007000004","CARTE SIM 4G DATA MULTI SIM","2017-08-04","Franchise MSAKEN","MSK0013F",1,"SOLD","Tunis Entrepot DCGP"]
["","RIGRAIET","999100001003","SERVICE TRANSFERT CONTACT","2017-08-01","Franchise MSAKEN","MSK0013F",1,"SOLD","Tunis Entrepot DCGP"]
["892160100122555474","SIGHW","043006000003","CARTE SIM 4G PRE MULTI SIM","2017-08-02","Franchise MSAKEN","MSK0013F",1,"SOLD","Tunis Entrepot DCGP"]
["892160100122555310","ABLOUNA","043006000003","CARTE SIM 4G PRE MULTI SIM","2017-08-03","Franchise MSAKEN","MSK0013F",1,"SOLD","Tunis Entrepot DCGP"]
["","ABLOUNA","044004000010","Recharge Express","2017-08-03","Franchise MSAKEN","MSK0013F",7,"SOLD","Tunis Entrepot DCGP"]
["892160100122555274","SIGHW","043006000003","CARTE SIM 4G PRE MULTI SIM","2017-08-03","Franchise MSAKEN","MSK0013F",1,"SOLD","Tunis Entrepot DCGP"]
["892160100122555249","SIGHW","043006000003","CARTE SIM 4G PRE MULTI SIM","2017-08-04","Franchise MSAKEN","MSK0013F",1,"SOLD","Tunis Entrepot DCGP"]
["","SIGHW","044004000010","Recharge Express","2017-08-02","Franchise MSAKEN","MSK0013F",5,"SOLD","Tunis Entrepot DCGP"]
["892160100123782640","SIGHW","043007000004","CARTE SIM 4G DATA MULTI SIM","2017-08-01","Franchise MSAKEN","MSK0013F",1,"SOLD","Tunis Entrepot DCGP"]
["","ABLOUNA","044004000010","Recharge Express","2017-08-05","Franchise MSAKEN","MSK0013F",5,"SOLD","Tunis Entrepot DCGP"]
["892160100124729108","SIGHW","043007000004","CARTE SIM 4G DATA MULTI SIM","2017-08-07","Franchise MSAKEN","MSK0013F",1,"SOLD","Tunis Entrepot DCGP"]
["892160100122555257","ABLOUNA","043006000003","CARTE SIM 4G PRE MULTI SIM","2017-08-03","Franchise MSAKEN","MSK0013F",1,"SOLD","Tunis Entrepot DCGP"]
["","ABLOUNA","044004000010","Recharge Express","2017-08-04","Franchise MSAKEN","MSK0013F",5,"SOLD","Tunis Entrepot DCGP"]
["","SIGHW","044004000010","Recharge Express","2017-08-08","Franchise MSAKEN","MSK0013F",5,"SOLD","Tunis Entrepot DCGP"]
["892160100122555640","SIGHW","043006000003","CARTE SIM 4G PRE MULTI SIM","2017-08-08","Franchise MSAKEN","MSK0013F",1,"SOLD","Tunis Entrepot DCGP"]
["892160100122555321","ABLOUNA","043006000003","CARTE SIM 4G PRE MULTI SIM","2017-08-05","Franchise MSAKEN","MSK0013F",1,"SOLD","Tunis Entrepot DCGP"]
["","SIGHW","044004000010","Recharge Express","2017-08-07","Franchise MSAKEN","MSK0013F",5,"SOLD","Tunis Entrepot DCGP"]
["892160100122555617","SIGHW","043006000003","CARTE SIM 4G PRE MULTI SIM","2017-08-07","Franchise MSAKEN","MSK0013F",1,"SOLD","Tunis Entrepot DCGP"]
["","ASLOGHM","044004000010","Recharge Express","2017-08-07","Franchise MSAKEN","MSK0013F",1,"SOLD","Tunis Entrepot DCGP"]
["","ABLOUNA","044004000010","Recharge Express","2017-08-05","Franchise MSAKEN","MSK0013F",10,"SOLD","Tunis Entrepot DCGP"]
["867424023062098","ASLOGHM","046002000034","CLE 3G E3531","2017-08-08","Franchise MSAKEN","MSK0013F",1,"SOLD","Tunis Entrepot DCGP"]
["892160100124729120","ASLOGHM","043007000004","CARTE SIM 4G DATA MULTI SIM","2017-08-08","Franchise MSAKEN","MSK0013F",1,"SOLD","Tunis Entrepot DCGP"]
["892160100124728409","RIGRAIET","043007000004","CARTE SIM 4G DATA MULTI SIM","2017-08-08","Franchise MSAKEN","MSK0013F",1,"SOLD","Tunis Entrepot DCGP"]
["892160100117566056","SIGHW","043006000007","CARTE SIM 4G POST MULTI SIM","2017-08-04","Franchise MSAKEN","MSK0013F",1,"SOLD","Tunis Entrepot DCGP"]
["892160100117566154","SIGHW","043006000007","CARTE SIM 4G POST MULTI SIM","2017-08-04","Franchise MSAKEN","MSK0013F",1,"SOLD","Tunis Entrepot DCGP"]
["892160100117566155","SIGHW","043006000007","CARTE SIM 4G POST MULTI SIM","2017-08-04","Franchise MSAKEN","MSK0013F",1,"SOLD","Tunis Entrepot DCGP"]
["892160100117566153","SIGHW","043006000007","CARTE SIM 4G POST MULTI SIM","2017-08-04","Franchise MSAKEN","MSK0013F",1,"SOLD","Tunis Entrepot DCGP"]
["","ABLOUNA","044004000010","Recharge Express","2017-08-01","Franchise MSAKEN","MSK0013F",5,"SOLD","Tunis Entrepot DCGP"]
["892160100122555541","RIGRAIET","043006000003","CARTE SIM 4G PRE MULTI SIM","2017-08-01","Franchise MSAKEN","MSK0013F",1,"SOLD","Tunis Entrepot DCGP"]
["","SIGHW","044004000010","Recharge Express","2017-08-07","Franchise MSAKEN","MSK0013F",5,"SOLD","Tunis Entrepot DCGP"]
["","ASLOGHM","044004000010","Recharge Express","2017-08-01","Franchise MSAKEN","MSK0013F",1,"SOLD","Tunis Entrepot DCGP"]
["892160100123469130","ABLOUNA","043001000114","CARTE PREACTIVEE VD","2017-08-01","Franchise MSAKEN","MSK0013F",1,"SOLD","Tunis Entrepot DCGP"]
["","RIGRAIET","044004000010","Recharge Express","2017-08-01","Franchise MSAKEN","MSK0013F",30,"SOLD","Tunis Entrepot DCGP"]
["","RIGRAIET","044004000010","Recharge Express","2017-08-08","Franchise MSAKEN","MSK0013F",10,"SOLD","Tunis Entrepot DCGP"]
["865205021721856","ABLOUNA","046002000060","DOMINO E5220 WHITE","2017-08-04","Franchise MSAKEN","MSK0013F",1,"SOLD","Tunis Entrepot DCGP"]
["892160100124728664","ABLOUNA","043007000004","CARTE SIM 4G DATA MULTI SIM","2017-08-04","Franchise MSAKEN","MSK0013F",1,"SOLD","Tunis Entrepot DCGP"]
["892160100122555289","SIGHW","043006000003","CARTE SIM 4G PRE MULTI SIM","2017-08-04","Franchise MSAKEN","MSK0013F",1,"SOLD","Tunis Entrepot DCGP"]
["","ASLOGHM","044004000010","Recharge Express","2017-08-05","Franchise MSAKEN","MSK0013F",9,"SOLD","Tunis Entrepot DCGP"]
["892160100124728406","RIGRAIET","043007000004","CARTE SIM 4G DATA MULTI SIM","2017-08-08","Franchise MSAKEN","MSK0013F",1,"SOLD","Tunis Entrepot DCGP"]
["892160100122555641","SIGHW","043006000003","CARTE SIM 4G PRE MULTI SIM","2017-08-08","Franchise MSAKEN","MSK0013F",1,"SOLD","Tunis Entrepot DCGP"]
["892160100124729114","RIGRAIET","043007000004","CARTE SIM 4G DATA MULTI SIM","2017-08-07","Franchise MSAKEN","MSK0013F",1,"SOLD","Tunis Entrepot DCGP"]
["","SIGHW","044004000010","Recharge Express","2017-08-07","Franchise MSAKEN","MSK0013F",25,"SOLD","Tunis Entrepot DCGP"]
["","RIGRAIET","044004000010","Recharge Express","2017-08-07","Franchise MSAKEN","MSK0013F",5,"SOLD","Tunis Entrepot DCGP"]
["","RIGRAIET","044004000010","Recharge Express","2017-08-07","Franchise MSAKEN","MSK0013F",3,"SOLD","Tunis Entrepot DCGP"]
["","ASLOGHM","044004000010","Recharge Express","2017-08-08","Franchise MSAKEN","MSK0013F",20,"SOLD","Tunis Entrepot DCGP"]
["892160100122555585","ASLOGHM","043006000003","CARTE SIM 4G PRE MULTI SIM","2017-08-08","Franchise MSAKEN","MSK0013F",1,"SOLD","Tunis Entrepot DCGP"]
["892160100124728407","SIGHW","043007000004","CARTE SIM 4G DATA MULTI SIM","2017-08-08","Franchise MSAKEN","MSK0013F",1,"SOLD","Tunis Entrepot DCGP"]
["892160100122555318","ABLOUNA","043006000003","CARTE SIM 4G PRE MULTI SIM","2017-08-05","Franchise MSAKEN","MSK0013F",1,"SOLD","Tunis Entrepot DCGP"]
["892160100122555284","SIGHW","043006000003","CARTE SIM 4G PRE MULTI SIM","2017-08-04","Franchise MSAKEN","MSK0013F",1,"SOLD","Tunis Entrepot DCGP"]
["892160100122555621","SIGHW","043006000003","CARTE SIM 4G PRE MULTI SIM","2017-08-07","Franchise MSAKEN","MSK0013F",1,"SOLD","Tunis Entrepot DCGP"]
["","ABLOUNA","044004000010","Recharge Express","2017-08-07","Franchise MSAKEN","MSK0013F",5,"SOLD","Tunis Entrepot DCGP"]
["892160100123469141","ABLOUNA","043001000114","CARTE PREACTIVEE VD","2017-08-07","Franchise MSAKEN","MSK0013F",1,"SOLD","Tunis Entrepot DCGP"]
["","SIGHW","044004000010","Recharge Express","2017-08-07","Franchise MSAKEN","MSK0013F",30,"SOLD","Tunis Entrepot DCGP"]
["892160100122555587","ASLOGHM","043006000003","CARTE SIM 4G PRE MULTI SIM","2017-08-08","Franchise MSAKEN","MSK0013F",1,"SOLD","Tunis Entrepot DCGP"]
["","SIGHW","044004000010","Recharge Express","2017-08-07","Franchise MSAKEN","MSK0013F",5,"SOLD","Tunis Entrepot DCGP"]
["892160100122555483","ABLOUNA","043006000003","CARTE SIM 4G PRE MULTI SIM","2017-08-01","Franchise MSAKEN","MSK0013F",1,"SOLD","Tunis Entrepot DCGP"]
["892160100122555594","RIGRAIET","043006000003","CARTE SIM 4G PRE MULTI SIM","2017-08-07","Franchise MSAKEN","MSK0013F",1,"SOLD","Tunis Entrepot DCGP"]
["","SIGHW","044004000010","Recharge Express","2017-08-07","Franchise MSAKEN","MSK0013F",15,"SOLD","Tunis Entrepot DCGP"]
["","SIGHW","044004000010","Recharge Express","2017-08-07","Franchise MSAKEN","MSK0013F",5,"SOLD","Tunis Entrepot DCGP"]
["","ABLOUNA","044004000010","Recharge Express","2017-08-07","Franchise MSAKEN","MSK0013F",12,"SOLD","Tunis Entrepot DCGP"]
["892160100124729116","SIGHW","043007000004","CARTE SIM 4G DATA MULTI SIM","2017-08-07","Franchise MSAKEN","MSK0013F",1,"SOLD","Tunis Entrepot DCGP"]
["892160100122555348","ASLOGHM","043006000003","CARTE SIM 4G PRE MULTI SIM","2017-08-05","Franchise MSAKEN","MSK0013F",1,"SOLD","Tunis Entrepot DCGP"]
["892160100122555266","SIGHW","043006000003","CARTE SIM 4G PRE MULTI SIM","2017-08-03","Franchise MSAKEN","MSK0013F",1,"SOLD","Tunis Entrepot DCGP"]
["","SIGHW","044004000010","Recharge Express","2017-08-03","Franchise MSAKEN","MSK0013F",10,"SOLD","Tunis Entrepot DCGP"]
["","ASLOGHM","044004000010","Recharge Express","2017-08-03","Franchise MSAKEN","MSK0013F",4,"SOLD","Tunis Entrepot DCGP"]
["892160100122555484","ABLOUNA","043006000003","CARTE SIM 4G PRE MULTI SIM","2017-08-01","Franchise MSAKEN","MSK0013F",1,"SOLD","Tunis Entrepot DCGP"]
["892160100122555520","SIGHW","043006000003","CARTE SIM 4G PRE MULTI SIM","2017-08-01","Franchise MSAKEN","MSK0013F",1,"SOLD","Tunis Entrepot DCGP"]
["","ASLOGHM","044004000010","Recharge Express","2017-08-07","Franchise MSAKEN","MSK0013F",25,"SOLD","Tunis Entrepot DCGP"]
["863605032650584","ASLOGHM","085001000011","FLYBOX B310","2017-08-07","Franchise MSAKEN","MSK0013F",1,"SOLD","Tunis Entrepot DCGP"]
["892160100206713359","ASLOGHM","043008000001","CARTE SIM 4G FLYBOX","2017-08-07","Franchise MSAKEN","MSK0013F",1,"SOLD","Tunis Entrepot DCGP"]
["","ASLOGHM","044004000010","Recharge Express","2017-08-03","Franchise MSAKEN","MSK0013F",5,"SOLD","Tunis Entrepot DCGP"]
["892160100123782011","ASLOGHM","043007000004","CARTE SIM 4G DATA MULTI SIM","2017-08-03","Franchise MSAKEN","MSK0013F",1,"SOLD","Tunis Entrepot DCGP"]
["","ASLOGHM","044004000010","Recharge Express","2017-08-05","Franchise MSAKEN","MSK0013F",10,"SOLD","Tunis Entrepot DCGP"]
["","ABLOUNA","044004000010","Recharge Express","2017-08-01","Franchise MSAKEN","MSK0013F",10,"SOLD","Tunis Entrepot DCGP"]
["892160100122555283","ASLOGHM","043006000003","CARTE SIM 4G PRE MULTI SIM","2017-08-04","Franchise MSAKEN","MSK0013F",1,"SOLD","Tunis Entrepot DCGP"]
["","SIGHW","044004000010","Recharge Express","2017-08-01","Franchise MSAKEN","MSK0013F",12,"SOLD","Tunis Entrepot DCGP"]
["","RIGRAIET","999100001003","SERVICE TRANSFERT CONTACT","2017-08-08","Franchise MSAKEN","MSK0013F",1,"SOLD","Tunis Entrepot DCGP"]
["","ABLOUNA","044004000010","Recharge Express","2017-08-07","Franchise MSAKEN","MSK0013F",12,"SOLD","Tunis Entrepot DCGP"]
["","SIGHW","044004000010","Recharge Express","2017-08-05","Franchise MSAKEN","MSK0013F",12,"SOLD","Tunis Entrepot DCGP"]
["892160100123469145","ABLOUNA","043001000114","CARTE PREACTIVEE VD","2017-08-05","Franchise MSAKEN","MSK0013F",1,"SOLD","Tunis Entrepot DCGP"]
["892160100122555584","ASLOGHM","043006000003","CARTE SIM 4G PRE MULTI SIM","2017-08-07","Franchise MSAKEN","MSK0013F",1,"SOLD","Tunis Entrepot DCGP"]
["","SIGHW","999100001003","SERVICE TRANSFERT CONTACT","2017-08-04","Franchise MSAKEN","MSK0013F",1,"SOLD","Tunis Entrepot DCGP"]
["892160100122555303","SIGHW","043006000003","CARTE SIM 4G PRE MULTI SIM","2017-08-04","Franchise MSAKEN","MSK0013F",1,"SOLD","Tunis Entrepot DCGP"]
["892160100122555311","ABLOUNA","043006000003","CARTE SIM 4G PRE MULTI SIM","2017-08-04","Franchise MSAKEN","MSK0013F",1,"SOLD","Tunis Entrepot DCGP"]
["","SIGHW","044004000010","Recharge Express","2017-08-02","Franchise MSAKEN","MSK0013F",5,"SOLD","Tunis Entrepot DCGP"]
["","SIGHW","044004000010","Recharge Express","2017-08-07","Franchise MSAKEN","MSK0013F",12,"SOLD","Tunis Entrepot DCGP"]
["","RIGRAIET","044004000010","Recharge Express","2017-08-07","Franchise MSAKEN","MSK0013F",30,"SOLD","Tunis Entrepot DCGP"]
["","ASLOGHM","044004000010","Recharge Express","2017-08-07","Franchise MSAKEN","MSK0013F",20,"SOLD","Tunis Entrepot DCGP"]
["892160100122555518","SIGHW","043006000003","CARTE SIM 4G PRE MULTI SIM","2017-08-01","Franchise MSAKEN","MSK0013F",1,"SOLD","Tunis Entrepot DCGP"]
["892160100122555320","ABLOUNA","043006000003","CARTE SIM 4G PRE MULTI SIM","2017-08-05","Franchise MSAKEN","MSK0013F",1,"SOLD","Tunis Entrepot DCGP"]
["","ASLOGHM","044004000010","Recharge Express","2017-08-04","Franchise MSAKEN","MSK0013F",5,"SOLD","Tunis Entrepot DCGP"]
["892160100122555340","ASLOGHM","043006000003","CARTE SIM 4G PRE MULTI SIM","2017-08-04","Franchise MSAKEN","MSK0013F",1,"SOLD","Tunis Entrepot DCGP"]
["892160100124728676","ASLOGHM","043007000004","CARTE SIM 4G DATA MULTI SIM","2017-08-04","Franchise MSAKEN","MSK0013F",1,"SOLD","Tunis Entrepot DCGP"]
["","ASLOGHM","044004000010","Recharge Express","2017-08-04","Franchise MSAKEN","MSK0013F",10,"SOLD","Tunis Entrepot DCGP"]
["892160100122555337","ASLOGHM","043006000003","CARTE SIM 4G PRE MULTI SIM","2017-08-04","Franchise MSAKEN","MSK0013F",1,"SOLD","Tunis Entrepot DCGP"]
["892160100122555338","ASLOGHM","043006000003","CARTE SIM 4G PRE MULTI SIM","2017-08-04","Franchise MSAKEN","MSK0013F",1,"SOLD","Tunis Entrepot DCGP"]
["892160100122555336","ASLOGHM","043006000003","CARTE SIM 4G PRE MULTI SIM","2017-08-04","Franchise MSAKEN","MSK0013F",1,"SOLD","Tunis Entrepot DCGP"]
["892160100122555614","SIGHW","043006000003","CARTE SIM 4G PRE MULTI SIM","2017-08-07","Franchise MSAKEN","MSK0013F",1,"SOLD","Tunis Entrepot DCGP"]
["","ASLOGHM","044004000010","Recharge Express","2017-08-07","Franchise MSAKEN","MSK0013F",5,"SOLD","Tunis Entrepot DCGP"]
["892160100124728680","ASLOGHM","043007000004","CARTE SIM 4G DATA MULTI SIM","2017-08-05","Franchise MSAKEN","MSK0013F",1,"SOLD","Tunis Entrepot DCGP"]
["892160100122555298","ASLOGHM","043006000003","CARTE SIM 4G PRE MULTI SIM","2017-08-03","Franchise MSAKEN","MSK0013F",1,"SOLD","Tunis Entrepot DCGP"]
["892160100122555514","SIGHW","043006000003","CARTE SIM 4G PRE MULTI SIM","2017-08-01","Franchise MSAKEN","MSK0013F",1,"SOLD","Tunis Entrepot DCGP"]
["892160100122555347","SIGHW","043006000003","CARTE SIM 4G PRE MULTI SIM","2017-08-04","Franchise MSAKEN","MSK0013F",1,"SOLD","Tunis Entrepot DCGP"]
["863980039354674","SIGHW","045013024001","HUAWEI HUAWEI Y6-II BLACK","2017-08-04","Franchise MSAKEN","MSK0013F",1,"SOLD","Tunis Entrepot DCGP"]
["892160100122555509","RIGRAIET","043006000003","CARTE SIM 4G PRE MULTI SIM","2017-08-01","Franchise MSAKEN","MSK0013F",1,"SOLD","Tunis Entrepot DCGP"]
["352770077425165","SIGHW","045022002001","ORANGE IT 2110","2017-08-02","Franchise MSAKEN","MSK0013F",1,"SOLD","Tunis Entrepot DCGP"]
["892160100122555473","SIGHW","043006000003","CARTE SIM 4G PRE MULTI SIM","2017-08-02","Franchise MSAKEN","MSK0013F",1,"SOLD","Tunis Entrepot DCGP"]
["","ABLOUNA","044004000010","Recharge Express","2017-08-01","Franchise MSAKEN","MSK0013F",20,"SOLD","Tunis Entrepot DCGP"]
["892160100122555499","ASLOGHM","043006000003","CARTE SIM 4G PRE MULTI SIM","2017-08-01","Franchise MSAKEN","MSK0013F",1,"SOLD","Tunis Entrepot DCGP"]
["892160100124728679","ASLOGHM","043007000004","CARTE SIM 4G DATA MULTI SIM","2017-08-05","Franchise MSAKEN","MSK0013F",1,"SOLD","Tunis Entrepot DCGP"]
["","ABLOUNA","044004000010","Recharge Express","2017-08-05","Franchise MSAKEN","MSK0013F",30,"SOLD","Tunis Entrepot DCGP"]
["","ABLOUNA","044004000010","Recharge Express","2017-08-05","Franchise MSAKEN","MSK0013F",5,"SOLD","Tunis Entrepot DCGP"]
["867424023073467","ASLOGHM","046002000034","CLE 3G E3531","2017-08-03","Franchise MSAKEN","MSK0013F",1,"SOLD","Tunis Entrepot DCGP"]
["892160100123782010","ASLOGHM","043007000004","CARTE SIM 4G DATA MULTI SIM","2017-08-03","Franchise MSAKEN","MSK0013F",1,"SOLD","Tunis Entrepot DCGP"]
["","SIGHW","044004000010","Recharge Express","2017-08-01","Franchise MSAKEN","MSK0013F",5,"SOLD","Tunis Entrepot DCGP"]
["865205020959119","SIGHW","046002000060","DOMINO E5220 WHITE","2017-08-01","Franchise MSAKEN","MSK0013F",1,"SOLD","Tunis Entrepot DCGP"]
["892160100123782020","SIGHW","043007000004","CARTE SIM 4G DATA MULTI SIM","2017-08-01","Franchise MSAKEN","MSK0013F",1,"SOLD","Tunis Entrepot DCGP"]
["892160100123469140","ABLOUNA","043001000114","CARTE PREACTIVEE VD","2017-08-07","Franchise MSAKEN","MSK0013F",1,"SOLD","Tunis Entrepot DCGP"]
["892160100123469139","ABLOUNA","043001000114","CARTE PREACTIVEE VD","2017-08-07","Franchise MSAKEN","MSK0013F",1,"SOLD","Tunis Entrepot DCGP"]
["357055085089376","SIGHW","083001053002","SAMSUNG J7 Prime 4G GOLD","2017-08-05","Franchise MSAKEN","MSK0013F",1,"SOLD","Tunis Entrepot DCGP"]
["892160100122555632","SIGHW","043006000003","CARTE SIM 4G PRE MULTI SIM","2017-08-05","Franchise MSAKEN","MSK0013F",1,"SOLD","Tunis Entrepot DCGP"]
["892160100122555528","ABLOUNA","043006000003","CARTE SIM 4G PRE MULTI SIM","2017-08-05","Franchise MSAKEN","MSK0013F",1,"SOLD","Tunis Entrepot DCGP"]
["892160100122555476","ABLOUNA","043006000003","CARTE SIM 4G PRE MULTI SIM","2017-08-05","Franchise MSAKEN","MSK0013F",1,"SOLD","Tunis Entrepot DCGP"]
["892160100122555522","ABLOUNA","043006000003","CARTE SIM 4G PRE MULTI SIM","2017-08-01","Franchise MSAKEN","MSK0013F",1,"SOLD","Tunis Entrepot DCGP"]
["","ASLOGHM","044004000010","Recharge Express","2017-08-02","Franchise MSAKEN","MSK0013F",30,"SOLD","Tunis Entrepot DCGP"]
["892160100122555513","RIGRAIET","043006000003","CARTE SIM 4G PRE MULTI SIM","2017-08-01","Franchise MSAKEN","MSK0013F",1,"SOLD","Tunis Entrepot DCGP"]
["","ABLOUNA","044004000010","Recharge Express","2017-08-01","Franchise MSAKEN","MSK0013F",10,"SOLD","Tunis Entrepot DCGP"]
["","ASLOGHM","044004000010","Recharge Express","2017-08-01","Franchise MSAKEN","MSK0013F",5,"SOLD","Tunis Entrepot DCGP"]
["892160100122555452","ASLOGHM","043006000003","CARTE SIM 4G PRE MULTI SIM","2017-08-01","Franchise MSAKEN","MSK0013F",1,"SOLD","Tunis Entrepot DCGP"]
["892160100122555450","ASLOGHM","043006000003","CARTE SIM 4G PRE MULTI SIM","2017-08-01","Franchise MSAKEN","MSK0013F",1,"SOLD","Tunis Entrepot DCGP"]
["892160100122555451","ASLOGHM","043006000003","CARTE SIM 4G PRE MULTI SIM","2017-08-01","Franchise MSAKEN","MSK0013F",1,"SOLD","Tunis Entrepot DCGP"]
["","ABLOUNA","044004000010","Recharge Express","2017-08-01","Franchise MSAKEN","MSK0013F",5,"SOLD","Tunis Entrepot DCGP"]
["","ABLOUNA","044004000010","Recharge Express","2017-08-05","Franchise MSAKEN","MSK0013F",5,"SOLD","Tunis Entrepot DCGP"]
["892160100123469149","ABLOUNA","043001000114","CARTE PREACTIVEE VD","2017-08-05","Franchise MSAKEN","MSK0013F",1,"SOLD","Tunis Entrepot DCGP"]
["892160100122555524","ABLOUNA","043006000003","CARTE SIM 4G PRE MULTI SIM","2017-08-01","Franchise MSAKEN","MSK0013F",1,"SOLD","Tunis Entrepot DCGP"]
["892160100122555294","ASLOGHM","043006000003","CARTE SIM 4G PRE MULTI SIM","2017-08-03","Franchise MSAKEN","MSK0013F",1,"SOLD","Tunis Entrepot DCGP"]
["892160100124729337","ABLOUNA","043007000004","CARTE SIM 4G DATA MULTI SIM","2017-08-03","Franchise MSAKEN","MSK0013F",1,"SOLD","Tunis Entrepot DCGP"]
["892160100122555644","RIGRAIET","043006000003","CARTE SIM 4G PRE MULTI SIM","2017-08-07","Franchise MSAKEN","MSK0013F",1,"SOLD","Tunis Entrepot DCGP"]
["","RIGRAIET","044004000010","Recharge Express","2017-08-07","Franchise MSAKEN","MSK0013F",20,"SOLD","Tunis Entrepot DCGP"]
["892160100122555633","SIGHW","043006000003","CARTE SIM 4G PRE MULTI SIM","2017-08-05","Franchise MSAKEN","MSK0013F",1,"SOLD","Tunis Entrepot DCGP"]
["892160100123469134","ABLOUNA","043001000114","CARTE PREACTIVEE VD","2017-08-05","Franchise MSAKEN","MSK0013F",1,"SOLD","Tunis Entrepot DCGP"]
["864526526789770","SIGHW","079001000057","Orange TAB 7 - 4G NOIR","2017-08-05","Franchise MSAKEN","MSK0013F",1,"SOLD","Tunis Entrepot DCGP"]
["892160100124729103","SIGHW","043007000004","CARTE SIM 4G DATA MULTI SIM","2017-08-05","Franchise MSAKEN","MSK0013F",1,"SOLD","Tunis Entrepot DCGP"]
["","SIGHW","044004000010","Recharge Express","2017-08-05","Franchise MSAKEN","MSK0013F",1,"SOLD","Tunis Entrepot DCGP"]
["","ASLOGHM","044004000010","Recharge Express","2017-08-05","Franchise MSAKEN","MSK0013F",30,"SOLD","Tunis Entrepot DCGP"]
["892160100122555262","ABLOUNA","043006000003","CARTE SIM 4G PRE MULTI SIM","2017-08-03","Franchise MSAKEN","MSK0013F",1,"SOLD","Tunis Entrepot DCGP"]
["892160100122555253","SIGHW","043006000003","CARTE SIM 4G PRE MULTI SIM","2017-08-03","Franchise MSAKEN","MSK0013F",1,"SOLD","Tunis Entrepot DCGP"]
["","SIGHW","044004000010","Recharge Express","2017-08-03","Franchise MSAKEN","MSK0013F",2,"SOLD","Tunis Entrepot DCGP"]
["","ASLOGHM","044004000010","Recharge Express","2017-08-03","Franchise MSAKEN","MSK0013F",1,"SOLD","Tunis Entrepot DCGP"]
["892160100122555252","ASLOGHM","043006000003","CARTE SIM 4G PRE MULTI SIM","2017-08-03","Franchise MSAKEN","MSK0013F",1,"SOLD","Tunis Entrepot DCGP"]
["","SIGHW","044004000010","Recharge Express","2017-08-07","Franchise MSAKEN","MSK0013F",10,"SOLD","Tunis Entrepot DCGP"]
["892160100124729115","SIGHW","043007000004","CARTE SIM 4G DATA MULTI SIM","2017-08-07","Franchise MSAKEN","MSK0013F",1,"SOLD","Tunis Entrepot DCGP"]
["892160100122555612","RIGRAIET","043006000003","CARTE SIM 4G PRE MULTI SIM","2017-08-07","Franchise MSAKEN","MSK0013F",1,"SOLD","Tunis Entrepot DCGP"]
["865205021653067","SIGHW","046002000060","DOMINO E5220 WHITE","2017-08-02","Franchise MSAKEN","MSK0013F",1,"SOLD","Tunis Entrepot DCGP"]
["892160100123782016","SIGHW","043007000004","CARTE SIM 4G DATA MULTI SIM","2017-08-02","Franchise MSAKEN","MSK0013F",1,"SOLD","Tunis Entrepot DCGP"]
["","SIGHW","044004000010","Recharge Express","2017-08-07","Franchise MSAKEN","MSK0013F",5,"SOLD","Tunis Entrepot DCGP"]
["892160100122555645","SIGHW","043006000003","CARTE SIM 4G PRE MULTI SIM","2017-08-07","Franchise MSAKEN","MSK0013F",1,"SOLD","Tunis Entrepot DCGP"]
["","SIGHW","044004000010","Recharge Express","2017-08-07","Franchise MSAKEN","MSK0013F",30,"SOLD","Tunis Entrepot DCGP"]
["892160100122555646","SIGHW","043006000003","CARTE SIM 4G PRE MULTI SIM","2017-08-07","Franchise MSAKEN","MSK0013F",1,"SOLD","Tunis Entrepot DCGP"]
["892160100122555323","ABLOUNA","043006000003","CARTE SIM 4G PRE MULTI SIM","2017-08-05","Franchise MSAKEN","MSK0013F",1,"SOLD","Tunis Entrepot DCGP"]
["","ABLOUNA","044004000010","Recharge Express","2017-08-05","Franchise MSAKEN","MSK0013F",10,"SOLD","Tunis Entrepot DCGP"]
["","ASLOGHM","044004000010","Recharge Express","2017-08-05","Franchise MSAKEN","MSK0013F",10,"SOLD","Tunis Entrepot DCGP"]
["","RIGRAIET","044004000010","Recharge Express","2017-08-01","Franchise MSAKEN","MSK0013F",12,"SOLD","Tunis Entrepot DCGP"]
["","ASLOGHM","044004000010","Recharge Express","2017-08-02","Franchise MSAKEN","MSK0013F",10,"SOLD","Tunis Entrepot DCGP"]
["","ABLOUNA","044004000010","Recharge Express","2017-08-01","Franchise MSAKEN","MSK0013F",1,"SOLD","Tunis Entrepot DCGP"]
["","SIGHW","044004000010","Recharge Express","2017-08-05","Franchise MSAKEN","MSK0013F",10,"SOLD","Tunis Entrepot DCGP"]
["892160100122555316","ABLOUNA","043006000003","CARTE SIM 4G PRE MULTI SIM","2017-08-05","Franchise MSAKEN","MSK0013F",1,"SOLD","Tunis Entrepot DCGP"]
["892160100122555489","SIGHW","043006000003","CARTE SIM 4G PRE MULTI SIM","2017-08-02","Franchise MSAKEN","MSK0013F",1,"SOLD","Tunis Entrepot DCGP"]
["892160100122555490","SIGHW","043006000003","CARTE SIM 4G PRE MULTI SIM","2017-08-02","Franchise MSAKEN","MSK0013F",1,"SOLD","Tunis Entrepot DCGP"]
["892160100123782004","SIGHW","043007000004","CARTE SIM 4G DATA MULTI SIM","2017-08-02","Franchise MSAKEN","MSK0013F",1,"SOLD","Tunis Entrepot DCGP"]
["892160100122555638","ASLOGHM","043006000003","CARTE SIM 4G PRE MULTI SIM","2017-08-07","Franchise MSAKEN","MSK0013F",1,"SOLD","Tunis Entrepot DCGP"]
["","ASLOGHM","044004000010","Recharge Express","2017-08-04","Franchise MSAKEN","MSK0013F",5,"SOLD","Tunis Entrepot DCGP"]
["892160100122555341","ASLOGHM","043006000003","CARTE SIM 4G PRE MULTI SIM","2017-08-04","Franchise MSAKEN","MSK0013F",1,"SOLD","Tunis Entrepot DCGP"]
["","ABLOUNA","044004000010","Recharge Express","2017-08-04","Franchise MSAKEN","MSK0013F",10,"SOLD","Tunis Entrepot DCGP"]
["","ABLOUNA","044004000010","Recharge Express","2017-08-04","Franchise MSAKEN","MSK0013F",8,"SOLD","Tunis Entrepot DCGP"]
["892160100122555339","ASLOGHM","043006000003","CARTE SIM 4G PRE MULTI SIM","2017-08-04","Franchise MSAKEN","MSK0013F",1,"SOLD","Tunis Entrepot DCGP"]
["892160100124728675","ASLOGHM","043007000004","CARTE SIM 4G DATA MULTI SIM","2017-08-04","Franchise MSAKEN","MSK0013F",1,"SOLD","Tunis Entrepot DCGP"]
["","ASLOGHM","044004000010","Recharge Express","2017-08-04","Franchise MSAKEN","MSK0013F",30,"SOLD","Tunis Entrepot DCGP"]
["892160100122555314","ABLOUNA","043006000003","CARTE SIM 4G PRE MULTI SIM","2017-08-04","Franchise MSAKEN","MSK0013F",1,"SOLD","Tunis Entrepot DCGP"]
["","SIGHW","044004000010","Recharge Express","2017-08-04","Franchise MSAKEN","MSK0013F",5,"SOLD","Tunis Entrepot DCGP"]
["892160100124728669","SIGHW","043007000004","CARTE SIM 4G DATA MULTI SIM","2017-08-04","Franchise MSAKEN","MSK0013F",1,"SOLD","Tunis Entrepot DCGP"]
["892160100122555493","RIGRAIET","043006000003","CARTE SIM 4G PRE MULTI SIM","2017-08-02","Franchise MSAKEN","MSK0013F",1,"SOLD","Tunis Entrepot DCGP"]
["TG6K17020002856","SIGHW","188003000016","Modem Huawei HG532","2017-08-05","Franchise MSAKEN","MSK0013F",1,"SOLD","Tunis Entrepot DCGP"]
["","ASLOGHM","044004000010","Recharge Express","2017-08-04","Franchise MSAKEN","MSK0013F",5,"SOLD","Tunis Entrepot DCGP"]
["","RIGRAIET","999100001003","SERVICE TRANSFERT CONTACT","2017-08-02","Franchise MSAKEN","MSK0013F",1,"SOLD","Tunis Entrepot DCGP"]
["892160100122555492","RIGRAIET","043006000003","CARTE SIM 4G PRE MULTI SIM","2017-08-02","Franchise MSAKEN","MSK0013F",1,"SOLD","Tunis Entrepot DCGP"]
["","SIGHW","044004000010","Recharge Express","2017-08-05","Franchise MSAKEN","MSK0013F",5,"SOLD","Tunis Entrepot DCGP"]
["","SIGHW","999100001003","SERVICE TRANSFERT CONTACT","2017-08-05","Franchise MSAKEN","MSK0013F",1,"SOLD","Tunis Entrepot DCGP"]
["","SIGHW","044004000010","Recharge Express","2017-08-04","Franchise MSAKEN","MSK0013F",5,"SOLD","Tunis Entrepot DCGP"]
["892160100122555279","SIGHW","043006000003","CARTE SIM 4G PRE MULTI SIM","2017-08-04","Franchise MSAKEN","MSK0013F",1,"SOLD","Tunis Entrepot DCGP"]
["","RIGRAIET","044004000010","Recharge Express","2017-08-08","Franchise MSAKEN","MSK0013F",12,"SOLD","Tunis Entrepot DCGP"]
["865205023041295","ASLOGHM","046002000060","DOMINO E5220 WHITE","2017-08-05","Franchise MSAKEN","MSK0013F",1,"SOLD","Tunis Entrepot DCGP"]
["892160100124729101","ASLOGHM","043007000004","CARTE SIM 4G DATA MULTI SIM","2017-08-05","Franchise MSAKEN","MSK0013F",1,"SOLD","Tunis Entrepot DCGP"]
["892160100122555495","RIGRAIET","043006000003","CARTE SIM 4G PRE MULTI SIM","2017-08-02","Franchise MSAKEN","MSK0013F",1,"SOLD","Tunis Entrepot DCGP"]
["","RIGRAIET","044004000010","Recharge Express","2017-08-01","Franchise MSAKEN","MSK0013F",2,"SOLD","Tunis Entrepot DCGP"]
["","ABLOUNA","044004000010","Recharge Express","2017-08-01","Franchise MSAKEN","MSK0013F",4,"SOLD","Tunis Entrepot DCGP"]
["","SIGHW","044004000010","Recharge Express","2017-08-05","Franchise MSAKEN","MSK0013F",10,"SOLD","Tunis Entrepot DCGP"]
["357360080136564","SIGHW","083025001001","SERVICOM EASY 3 BLACK RED","2017-08-05","Franchise MSAKEN","MSK0013F",1,"SOLD","Tunis Entrepot DCGP"]
["892160100122555325","SIGHW","043006000003","CARTE SIM 4G PRE MULTI SIM","2017-08-05","Franchise MSAKEN","MSK0013F",1,"SOLD","Tunis Entrepot DCGP"]
["","SIGHW","044004000010","Recharge Express","2017-08-05","Franchise MSAKEN","MSK0013F",5,"SOLD","Tunis Entrepot DCGP"]
["","SIGHW","044004000010","Recharge Express","2017-08-05","Franchise MSAKEN","MSK0013F",5,"SOLD","Tunis Entrepot DCGP"]
["","RIGRAIET","044004000010","Recharge Express","2017-08-08","Franchise MSAKEN","MSK0013F",12,"SOLD","Tunis Entrepot DCGP"]
["","SIGHW","044004000010","Recharge Express","2017-08-03","Franchise MSAKEN","MSK0013F",40,"SOLD","Tunis Entrepot DCGP"]
["892160100122555295","ASLOGHM","043006000003","CARTE SIM 4G PRE MULTI SIM","2017-08-03","Franchise MSAKEN","MSK0013F",1,"SOLD","Tunis Entrepot DCGP"]
["869907027305198","SIGHW","046002000041","CLE 4G E3372H","2017-08-02","Franchise MSAKEN","MSK0013F",1,"SOLD","Tunis Entrepot DCGP"]
["892160100123782003","SIGHW","043007000004","CARTE SIM 4G DATA MULTI SIM","2017-08-02","Franchise MSAKEN","MSK0013F",1,"SOLD","Tunis Entrepot DCGP"]
["865205022025505","ABLOUNA","046002000060","DOMINO E5220 WHITE","2017-08-03","Franchise MSAKEN","MSK0013F",1,"SOLD","Tunis Entrepot DCGP"]
["892160100124729332","ABLOUNA","043007000004","CARTE SIM 4G DATA MULTI SIM","2017-08-03","Franchise MSAKEN","MSK0013F",1,"SOLD","Tunis Entrepot DCGP"]
["892160100124729106","ABLOUNA","043007000004","CARTE SIM 4G DATA MULTI SIM","2017-08-05","Franchise MSAKEN","MSK0013F",1,"SOLD","Tunis Entrepot DCGP"]
["869470011918153","ABLOUNA","046002000060","DOMINO E5220 WHITE","2017-08-05","Franchise MSAKEN","MSK0013F",1,"SOLD","Tunis Entrepot DCGP"]
["892160100124729105","ABLOUNA","043007000004","CARTE SIM 4G DATA MULTI SIM","2017-08-05","Franchise MSAKEN","MSK0013F",1,"SOLD","Tunis Entrepot DCGP"]
["892160100122555631","SIGHW","043006000003","CARTE SIM 4G PRE MULTI SIM","2017-08-05","Franchise MSAKEN","MSK0013F",1,"SOLD","Tunis Entrepot DCGP"]
["TG6K17020002855","SIGHW","188003000016","Modem Huawei HG532","2017-08-05","Franchise MSAKEN","MSK0013F",1,"SOLD","Tunis Entrepot DCGP"]
["892160100123469118","ABLOUNA","043001000114","CARTE PREACTIVEE VD","2017-08-01","Franchise MSAKEN","MSK0013F",1,"SOLD","Tunis Entrepot DCGP"]
["892160100123469117","ABLOUNA","043001000114","CARTE PREACTIVEE VD","2017-08-01","Franchise MSAKEN","MSK0013F",1,"SOLD","Tunis Entrepot DCGP"]
["892160100122555327","ASLOGHM","043006000003","CARTE SIM 4G PRE MULTI SIM","2017-08-05","Franchise MSAKEN","MSK0013F",1,"SOLD","Tunis Entrepot DCGP"]
["","ASLOGHM","044004000010","Recharge Express","2017-08-05","Franchise MSAKEN","MSK0013F",20,"SOLD","Tunis Entrepot DCGP"]
["","SIGHW","999100001003","SERVICE TRANSFERT CONTACT","2017-08-01","Franchise MSAKEN","MSK0013F",1,"SOLD","Tunis Entrepot DCGP"]
["892160100122555497","SIGHW","043006000003","CARTE SIM 4G PRE MULTI SIM","2017-08-01","Franchise MSAKEN","MSK0013F",1,"SOLD","Tunis Entrepot DCGP"]
["","ABLOUNA","044004000010","Recharge Express","2017-08-04","Franchise MSAKEN","MSK0013F",5,"SOLD","Tunis Entrepot DCGP"]
["","ABLOUNA","044004000010","Recharge Express","2017-08-04","Franchise MSAKEN","MSK0013F",5,"SOLD","Tunis Entrepot DCGP"]
["892160100123782017","SIGHW","043007000004","CARTE SIM 4G DATA MULTI SIM","2017-08-02","Franchise MSAKEN","MSK0013F",1,"SOLD","Tunis Entrepot DCGP"]
["892160100122555300","ASLOGHM","043006000003","CARTE SIM 4G PRE MULTI SIM","2017-08-03","Franchise MSAKEN","MSK0013F",1,"SOLD","Tunis Entrepot DCGP"]
["892160100122555501","ASLOGHM","043006000003","CARTE SIM 4G PRE MULTI SIM","2017-08-02","Franchise MSAKEN","MSK0013F",1,"SOLD","Tunis Entrepot DCGP"]
["","ASLOGHM","044004000010","Recharge Express","2017-08-04","Franchise MSAKEN","MSK0013F",10,"SOLD","Tunis Entrepot DCGP"]
["892160100122555301","SIGHW","043006000003","CARTE SIM 4G PRE MULTI SIM","2017-08-04","Franchise MSAKEN","MSK0013F",1,"SOLD","Tunis Entrepot DCGP"]
["892160100124729335","SIGHW","043007000004","CARTE SIM 4G DATA MULTI SIM","2017-08-04","Franchise MSAKEN","MSK0013F",1,"SOLD","Tunis Entrepot DCGP"]
["","ASLOGHM","044004000010","Recharge Express","2017-08-04","Franchise MSAKEN","MSK0013F",5,"SOLD","Tunis Entrepot DCGP"]
["352770077454884","ASLOGHM","045022002001","ORANGE IT 2110","2017-08-01","Franchise MSAKEN","MSK0013F",1,"SOLD","Tunis Entrepot DCGP"]
["892160100122555454","ASLOGHM","043006000003","CARTE SIM 4G PRE MULTI SIM","2017-08-01","Franchise MSAKEN","MSK0013F",1,"SOLD","Tunis Entrepot DCGP"]
["","ASLOGHM","044004000010","Recharge Express","2017-08-05","Franchise MSAKEN","MSK0013F",20,"SOLD","Tunis Entrepot DCGP"]
["865205023050072","SIGHW","046002000060","DOMINO E5220 WHITE","2017-08-04","Franchise MSAKEN","MSK0013F",1,"SOLD","Tunis Entrepot DCGP"]
["892160100124728665","SIGHW","043007000004","CARTE SIM 4G DATA MULTI SIM","2017-08-04","Franchise MSAKEN","MSK0013F",1,"SOLD","Tunis Entrepot DCGP"]
["","ABLOUNA","044004000010","Recharge Express","2017-08-04","Franchise MSAKEN","MSK0013F",5,"SOLD","Tunis Entrepot DCGP"]
["","ABLOUNA","044004000010","Recharge Express","2017-08-04","Franchise MSAKEN","MSK0013F",5,"SOLD","Tunis Entrepot DCGP"]
["892160100124729334","SIGHW","043007000004","CARTE SIM 4G DATA MULTI SIM","2017-08-04","Franchise MSAKEN","MSK0013F",1,"SOLD","Tunis Entrepot DCGP"]
["359715029794062","ABLOUNA","046002000060","DOMINO E5220 WHITE","2017-08-03","Franchise MSAKEN","MSK0013F",1,"SOLD","Tunis Entrepot DCGP"]
["892160100124729340","ABLOUNA","043007000004","CARTE SIM 4G DATA MULTI SIM","2017-08-03","Franchise MSAKEN","MSK0013F",1,"SOLD","Tunis Entrepot DCGP"]
["892160100112803504","SIGHW","043002000005","CARTE SIM POSTPAYEE 2FF/3FF","2017-08-01","Franchise MSAKEN","MSK0013F",1,"SOLD","Tunis Entrepot DCGP"]
["892160100122555519","SIGHW","043006000003","CARTE SIM 4G PRE MULTI SIM","2017-08-01","Franchise MSAKEN","MSK0013F",1,"SOLD","Tunis Entrepot DCGP"]
["892160100122555292","ASLOGHM","043006000003","CARTE SIM 4G PRE MULTI SIM","2017-08-04","Franchise MSAKEN","MSK0013F",1,"SOLD","Tunis Entrepot DCGP"]
["","ABLOUNA","044004000010","Recharge Express","2017-08-04","Franchise MSAKEN","MSK0013F",22,"SOLD","Tunis Entrepot DCGP"]
["892160100122555319","ABLOUNA","043006000003","CARTE SIM 4G PRE MULTI SIM","2017-08-04","Franchise MSAKEN","MSK0013F",1,"SOLD","Tunis Entrepot DCGP"]
["892160100122555343","ASLOGHM","043006000003","CARTE SIM 4G PRE MULTI SIM","2017-08-05","Franchise MSAKEN","MSK0013F",1,"SOLD","Tunis Entrepot DCGP"]
["","ASLOGHM","044004000010","Recharge Express","2017-08-05","Franchise MSAKEN","MSK0013F",12,"SOLD","Tunis Entrepot DCGP"]
["","ABLOUNA","044004000010","Recharge Express","2017-08-05","Franchise MSAKEN","MSK0013F",5,"SOLD","Tunis Entrepot DCGP"]
["892160100123469168","ABLOUNA","043001000114","CARTE PREACTIVEE VD","2017-08-05","Franchise MSAKEN","MSK0013F",1,"SOLD","Tunis Entrepot DCGP"]
["892160100122555344","ASLOGHM","043006000003","CARTE SIM 4G PRE MULTI SIM","2017-08-05","Franchise MSAKEN","MSK0013F",1,"SOLD","Tunis Entrepot DCGP"]
["892160100122555282","ASLOGHM","043006000003","CARTE SIM 4G PRE MULTI SIM","2017-08-04","Franchise MSAKEN","MSK0013F",1,"SOLD","Tunis Entrepot DCGP"]
["","ASLOGHM","044004000010","Recharge Express","2017-08-04","Franchise MSAKEN","MSK0013F",5,"SOLD","Tunis Entrepot DCGP"]
["","ASLOGHM","044004000010","Recharge Express","2017-08-04","Franchise MSAKEN","MSK0013F",10,"SOLD","Tunis Entrepot DCGP"]
["892160100123782012","SIGHW","043007000004","CARTE SIM 4G DATA MULTI SIM","2017-08-02","Franchise MSAKEN","MSK0013F",1,"SOLD","Tunis Entrepot DCGP"]
["","ABLOUNA","044004000010","Recharge Express","2017-08-03","Franchise MSAKEN","MSK0013F",5,"SOLD","Tunis Entrepot DCGP"]
["","ASLOGHM","044004000010","Recharge Express","2017-08-05","Franchise MSAKEN","MSK0013F",30,"SOLD","Tunis Entrepot DCGP"]
["2168006000734","ASLOGHM","047006000161","Orange Wifi dock","2017-08-05","Franchise MSAKEN","MSK0013F",1,"SOLD","Tunis Entrepot DCGP"]
["867424023073376","ASLOGHM","046002000034","CLE 3G E3531","2017-08-05","Franchise MSAKEN","MSK0013F",1,"SOLD","Tunis Entrepot DCGP"]
["892160100124728677","ASLOGHM","043007000004","CARTE SIM 4G DATA MULTI SIM","2017-08-05","Franchise MSAKEN","MSK0013F",1,"SOLD","Tunis Entrepot DCGP"]
["892160100123469162","ABLOUNA","043001000114","CARTE PREACTIVEE VD","2017-08-04","Franchise MSAKEN","MSK0013F",1,"SOLD","Tunis Entrepot DCGP"]
["892160100123469167","ABLOUNA","043001000114","CARTE PREACTIVEE VD","2017-08-04","Franchise MSAKEN","MSK0013F",1,"SOLD","Tunis Entrepot DCGP"]
["892160100122555312","ABLOUNA","043006000003","CARTE SIM 4G PRE MULTI SIM","2017-08-04","Franchise MSAKEN","MSK0013F",1,"SOLD","Tunis Entrepot DCGP"]
["","SIGHW","999100001003","SERVICE TRANSFERT CONTACT","2017-08-01","Franchise MSAKEN","MSK0013F",1,"SOLD","Tunis Entrepot DCGP"]
["","ABLOUNA","044004000010","Recharge Express","2017-08-03","Franchise MSAKEN","MSK0013F",10,"SOLD","Tunis Entrepot DCGP"]
["892160100122555287","SIGHW","043006000003","CARTE SIM 4G PRE MULTI SIM","2017-08-03","Franchise MSAKEN","MSK0013F",1,"SOLD","Tunis Entrepot DCGP"]
["","ASLOGHM","044004000010","Recharge Express","2017-08-03","Franchise MSAKEN","MSK0013F",5,"SOLD","Tunis Entrepot DCGP"]
["892160100122555516","SIGHW","043006000003","CARTE SIM 4G PRE MULTI SIM","2017-08-01","Franchise MSAKEN","MSK0013F",1,"SOLD","Tunis Entrepot DCGP"]
["357243073646098","ABLOUNA","046002000056","AIRBOX 4G MW40","2017-08-01","Franchise MSAKEN","MSK0013F",1,"SOLD","Tunis Entrepot DCGP"]
["892160100123782630","ABLOUNA","043007000004","CARTE SIM 4G DATA MULTI SIM","2017-08-01","Franchise MSAKEN","MSK0013F",1,"SOLD","Tunis Entrepot DCGP"]
["892160100122555296","ASLOGHM","043006000003","CARTE SIM 4G PRE MULTI SIM","2017-08-04","Franchise MSAKEN","MSK0013F",1,"SOLD","Tunis Entrepot DCGP"]
["892160100122555291","ASLOGHM","043006000003","CARTE SIM 4G PRE MULTI SIM","2017-08-04","Franchise MSAKEN","MSK0013F",1,"SOLD","Tunis Entrepot DCGP"]
["892160100122555285","SIGHW","043006000003","CARTE SIM 4G PRE MULTI SIM","2017-08-04","Franchise MSAKEN","MSK0013F",1,"SOLD","Tunis Entrepot DCGP"]
["","SIGHW","044004000010","Recharge Express","2017-08-03","Franchise MSAKEN","MSK0013F",5,"SOLD","Tunis Entrepot DCGP"]
["892160100122555275","SIGHW","043006000003","CARTE SIM 4G PRE MULTI SIM","2017-08-03","Franchise MSAKEN","MSK0013F",1,"SOLD","Tunis Entrepot DCGP"]
["892160100122555272","SIGHW","043006000003","CARTE SIM 4G PRE MULTI SIM","2017-08-03","Franchise MSAKEN","MSK0013F",1,"SOLD","Tunis Entrepot DCGP"]
["892160100122555273","SIGHW","043006000003","CARTE SIM 4G PRE MULTI SIM","2017-08-03","Franchise MSAKEN","MSK0013F",1,"SOLD","Tunis Entrepot DCGP"]
["TG6K17020002843","SIGHW","188003000016","Modem Huawei HG532","2017-08-03","Franchise MSAKEN","MSK0013F",1,"SOLD","Tunis Entrepot DCGP"]
["357243073645876","SIGHW","046002000056","AIRBOX 4G MW40","2017-08-01","Franchise MSAKEN","MSK0013F",1,"SOLD","Tunis Entrepot DCGP"]
["892160100123782625","SIGHW","043007000004","CARTE SIM 4G DATA MULTI SIM","2017-08-01","Franchise MSAKEN","MSK0013F",1,"SOLD","Tunis Entrepot DCGP"]
["","RIGRAIET","044004000010","Recharge Express","2017-08-01","Franchise MSAKEN","MSK0013F",3,"SOLD","Tunis Entrepot DCGP"]
["","ABLOUNA","044004000010","Recharge Express","2017-08-01","Franchise MSAKEN","MSK0013F",5,"SOLD","Tunis Entrepot DCGP"]
["865205021212070","ABLOUNA","046002000060","DOMINO E5220 WHITE","2017-08-04","Franchise MSAKEN","MSK0013F",1,"SOLD","Tunis Entrepot DCGP"]
["892160100124728667","ABLOUNA","043007000004","CARTE SIM 4G DATA MULTI SIM","2017-08-04","Franchise MSAKEN","MSK0013F",1,"SOLD","Tunis Entrepot DCGP"]
["","ASLOGHM","044004000010","Recharge Express","2017-08-03","Franchise MSAKEN","MSK0013F",12,"SOLD","Tunis Entrepot DCGP"]
["892160100122555255","ASLOGHM","043006000003","CARTE SIM 4G PRE MULTI SIM","2017-08-02","Franchise MSAKEN","MSK0013F",1,"SOLD","Tunis Entrepot DCGP"]
["892160100123782000","ABLOUNA","043007000004","CARTE SIM 4G DATA MULTI SIM","2017-08-02","Franchise MSAKEN","MSK0013F",1,"SOLD","Tunis Entrepot DCGP"]
["892160100123782001","ASLOGHM","043007000004","CARTE SIM 4G DATA MULTI SIM","2017-08-02","Franchise MSAKEN","MSK0013F",1,"SOLD","Tunis Entrepot DCGP"]
["892160100122555529","ABLOUNA","043006000003","CARTE SIM 4G PRE MULTI SIM","2017-08-01","Franchise MSAKEN","MSK0013F",1,"SOLD","Tunis Entrepot DCGP"]
["892160100122555269","SIGHW","043006000003","CARTE SIM 4G PRE MULTI SIM","2017-08-03","Franchise MSAKEN","MSK0013F",1,"SOLD","Tunis Entrepot DCGP"]
["","SIGHW","044004000010","Recharge Express","2017-08-03","Franchise MSAKEN","MSK0013F",10,"SOLD","Tunis Entrepot DCGP"]
["892160100122555270","SIGHW","043006000003","CARTE SIM 4G PRE MULTI SIM","2017-08-03","Franchise MSAKEN","MSK0013F",1,"SOLD","Tunis Entrepot DCGP"]
["863605032642805","SIGHW","085001000011","FLYBOX B310","2017-08-03","Franchise MSAKEN","MSK0013F",1,"SOLD","Tunis Entrepot DCGP"]
["892160100206712307","SIGHW","043008000001","CARTE SIM 4G FLYBOX","2017-08-03","Franchise MSAKEN","MSK0013F",1,"SOLD","Tunis Entrepot DCGP"]
["","ABLOUNA","044004000010","Recharge Express","2017-08-02","Franchise MSAKEN","MSK0013F",5,"SOLD","Tunis Entrepot DCGP"]
["892160100122555481","ABLOUNA","043006000003","CARTE SIM 4G PRE MULTI SIM","2017-08-02","Franchise MSAKEN","MSK0013F",1,"SOLD","Tunis Entrepot DCGP"]
["","ASLOGHM","044004000010","Recharge Express","2017-08-02","Franchise MSAKEN","MSK0013F",5,"SOLD","Tunis Entrepot DCGP"]
["892160100122555479","ABLOUNA","043006000003","CARTE SIM 4G PRE MULTI SIM","2017-08-01","Franchise MSAKEN","MSK0013F",1,"SOLD","Tunis Entrepot DCGP"]
["892160100122555482","ABLOUNA","043006000003","CARTE SIM 4G PRE MULTI SIM","2017-08-01","Franchise MSAKEN","MSK0013F",1,"SOLD","Tunis Entrepot DCGP"]
["","SIGHW","044004000010","Recharge Express","2017-08-01","Franchise MSAKEN","MSK0013F",5,"SOLD","Tunis Entrepot DCGP"]
["","SIGHW","044004000010","Recharge Express","2017-08-01","Franchise MSAKEN","MSK0013F",5,"SOLD","Tunis Entrepot DCGP"]
["892160100122555313","ABLOUNA","043006000003","CARTE SIM 4G PRE MULTI SIM","2017-08-04","Franchise MSAKEN","MSK0013F",1,"SOLD","Tunis Entrepot DCGP"]
["892160100123469152","ABLOUNA","043001000114","CARTE PREACTIVEE VD","2017-08-03","Franchise MSAKEN","MSK0013F",1,"SOLD","Tunis Entrepot DCGP"]
["892160100123469150","ABLOUNA","043001000114","CARTE PREACTIVEE VD","2017-08-03","Franchise MSAKEN","MSK0013F",1,"SOLD","Tunis Entrepot DCGP"]
["","SIGHW","044004000010","Recharge Express","2017-08-01","Franchise MSAKEN","MSK0013F",5,"SOLD","Tunis Entrepot DCGP"]
["892160100122555485","SIGHW","043006000003","CARTE SIM 4G PRE MULTI SIM","2017-08-01","Franchise MSAKEN","MSK0013F",1,"SOLD","Tunis Entrepot DCGP"]
["892160100123782014","SIGHW","043007000004","CARTE SIM 4G DATA MULTI SIM","2017-08-01","Franchise MSAKEN","MSK0013F",1,"SOLD","Tunis Entrepot DCGP"]
["892160100122555263","ABLOUNA","043006000003","CARTE SIM 4G PRE MULTI SIM","2017-08-02","Franchise MSAKEN","MSK0013F",1,"SOLD","Tunis Entrepot DCGP"]
["892160100123469133","ABLOUNA","043001000114","CARTE PREACTIVEE VD","2017-08-02","Franchise MSAKEN","MSK0013F",1,"SOLD","Tunis Entrepot DCGP"]
["867424023067311","ASLOGHM","046002000034","CLE 3G E3531","2017-08-02","Franchise MSAKEN","MSK0013F",1,"SOLD","Tunis Entrepot DCGP"]
["892160100123782019","ASLOGHM","043007000004","CARTE SIM 4G DATA MULTI SIM","2017-08-02","Franchise MSAKEN","MSK0013F",1,"SOLD","Tunis Entrepot DCGP"]
["892160100122555506","ASLOGHM","043006000003","CARTE SIM 4G PRE MULTI SIM","2017-08-02","Franchise MSAKEN","MSK0013F",1,"SOLD","Tunis Entrepot DCGP"]
["892160100122555304","SIGHW","043006000003","CARTE SIM 4G PRE MULTI SIM","2017-08-04","Franchise MSAKEN","MSK0013F",1,"SOLD","Tunis Entrepot DCGP"]
["892160100122555468","SIGHW","043006000003","CARTE SIM 4G PRE MULTI SIM","2017-08-03","Franchise MSAKEN","MSK0013F",1,"SOLD","Tunis Entrepot DCGP"]
["892160100122555302","SIGHW","043006000003","CARTE SIM 4G PRE MULTI SIM","2017-08-04","Franchise MSAKEN","MSK0013F",1,"SOLD","Tunis Entrepot DCGP"]
["","ABLOUNA","044004000010","Recharge Express","2017-08-02","Franchise MSAKEN","MSK0013F",9,"SOLD","Tunis Entrepot DCGP"]
["892160100122555517","RIGRAIET","043006000003","CARTE SIM 4G PRE MULTI SIM","2017-08-01","Franchise MSAKEN","MSK0013F",1,"SOLD","Tunis Entrepot DCGP"]
["","ABLOUNA","044004000010","Recharge Express","2017-08-04","Franchise MSAKEN","MSK0013F",10,"SOLD","Tunis Entrepot DCGP"]
["","SIGHW","044004000010","Recharge Express","2017-08-03","Franchise MSAKEN","MSK0013F",5,"SOLD","Tunis Entrepot DCGP"]
["","ABLOUNA","044004000010","Recharge Express","2017-08-04","Franchise MSAKEN","MSK0013F",10,"SOLD","Tunis Entrepot DCGP"]
["892160100124728668","SIGHW","043007000004","CARTE SIM 4G DATA MULTI SIM","2017-08-04","Franchise MSAKEN","MSK0013F",1,"SOLD","Tunis Entrepot DCGP"]
["869470011922528","ABLOUNA","046002000060","DOMINO E5220 WHITE","2017-08-01","Franchise MSAKEN","MSK0013F",1,"SOLD","Tunis Entrepot DCGP"]
["892160100123782002","ABLOUNA","043007000004","CARTE SIM 4G DATA MULTI SIM","2017-08-01","Franchise MSAKEN","MSK0013F",1,"SOLD","Tunis Entrepot DCGP"]
["","ABLOUNA","044004000010","Recharge Express","2017-08-01","Franchise MSAKEN","MSK0013F",30,"SOLD","Tunis Entrepot DCGP"]
["892160100122555498","SIGHW","043006000003","CARTE SIM 4G PRE MULTI SIM","2017-08-01","Franchise MSAKEN","MSK0013F",1,"SOLD","Tunis Entrepot DCGP"]
["","SIGHW","044004000010","Recharge Express","2017-08-01","Franchise MSAKEN","MSK0013F",12,"SOLD","Tunis Entrepot DCGP"]
["892160100122555508","RIGRAIET","043006000003","CARTE SIM 4G PRE MULTI SIM","2017-08-01","Franchise MSAKEN","MSK0013F",1,"SOLD","Tunis Entrepot DCGP"]
["TG6K17020001149","ABLOUNA","188003000016","Modem Huawei HG532","2017-08-02","Franchise MSAKEN","MSK0013F",1,"SOLD","Tunis Entrepot DCGP"]
["","SIGHW","044004000010","Recharge Express","2017-08-02","Franchise MSAKEN","MSK0013F",9,"SOLD","Tunis Entrepot DCGP"]
["892160100122555507","RIGRAIET","043006000003","CARTE SIM 4G PRE MULTI SIM","2017-08-01","Franchise MSAKEN","MSK0013F",1,"SOLD","Tunis Entrepot DCGP"]
["892160100122555525","ASLOGHM","043006000003","CARTE SIM 4G PRE MULTI SIM","2017-08-01","Franchise MSAKEN","MSK0013F",1,"SOLD","Tunis Entrepot DCGP"]
["892160100122555449","ASLOGHM","043006000003","CARTE SIM 4G PRE MULTI SIM","2017-08-01","Franchise MSAKEN","MSK0013F",1,"SOLD","Tunis Entrepot DCGP"]
["","RIGRAIET","044004000010","Recharge Express","2017-08-01","Franchise MSAKEN","MSK0013F",1,"SOLD","Tunis Entrepot DCGP"]
["869907027305263","ABLOUNA","046002000041","CLE 4G E3372H","2017-08-01","Franchise MSAKEN","MSK0013F",1,"SOLD","Tunis Entrepot DCGP"]
["892160100123782626","ABLOUNA","043007000004","CARTE SIM 4G DATA MULTI SIM","2017-08-01","Franchise MSAKEN","MSK0013F",1,"SOLD","Tunis Entrepot DCGP"]
["892160100123469161","ABLOUNA","043001000114","CARTE PREACTIVEE VD","2017-08-04","Franchise MSAKEN","MSK0013F",1,"SOLD","Tunis Entrepot DCGP"]
["","ASLOGHM","044004000010","Recharge Express","2017-08-04","Franchise MSAKEN","MSK0013F",5,"SOLD","Tunis Entrepot DCGP"]
["","ASLOGHM","044004000010","Recharge Express","2017-08-04","Franchise MSAKEN","MSK0013F",25,"SOLD","Tunis Entrepot DCGP"]
["","SIGHW","044004000010","Recharge Express","2017-08-01","Franchise MSAKEN","MSK0013F",12,"SOLD","Tunis Entrepot DCGP"]
["865205023047227","ASLOGHM","046002000060","DOMINO E5220 WHITE","2017-08-04","Franchise MSAKEN","MSK0013F",1,"SOLD","Tunis Entrepot DCGP"]
["892160100124728670","ASLOGHM","043007000004","CARTE SIM 4G DATA MULTI SIM","2017-08-04","Franchise MSAKEN","MSK0013F",1,"SOLD","Tunis Entrepot DCGP"]
["","ASLOGHM","044004000010","Recharge Express","2017-08-04","Franchise MSAKEN","MSK0013F",5,"SOLD","Tunis Entrepot DCGP"]
["","ABLOUNA","044004000010","Recharge Express","2017-08-02","Franchise MSAKEN","MSK0013F",5,"SOLD","Tunis Entrepot DCGP"]
["892160100122555305","SIGHW","043006000003","CARTE SIM 4G PRE MULTI SIM","2017-08-04","Franchise MSAKEN","MSK0013F",1,"SOLD","Tunis Entrepot DCGP"]
["","SIGHW","044004000010","Recharge Express","2017-08-03","Franchise MSAKEN","MSK0013F",5,"SOLD","Tunis Entrepot DCGP"]
["892160100124729338","SIGHW","043007000004","CARTE SIM 4G DATA MULTI SIM","2017-08-03","Franchise MSAKEN","MSK0013F",1,"SOLD","Tunis Entrepot DCGP"]
["892160100122555286","SIGHW","043006000003","CARTE SIM 4G PRE MULTI SIM","2017-08-04","Franchise MSAKEN","MSK0013F",1,"SOLD","Tunis Entrepot DCGP"]
["892160100122555306","SIGHW","043006000003","CARTE SIM 4G PRE MULTI SIM","2017-08-04","Franchise MSAKEN","MSK0013F",1,"SOLD","Tunis Entrepot DCGP"]
["","SIGHW","044004000010","Recharge Express","2017-08-03","Franchise MSAKEN","MSK0013F",5,"SOLD","Tunis Entrepot DCGP"]
["892160100122555467","SIGHW","043006000003","CARTE SIM 4G PRE MULTI SIM","2017-08-03","Franchise MSAKEN","MSK0013F",1,"SOLD","Tunis Entrepot DCGP"]
["357243073649563","ASLOGHM","046002000056","AIRBOX 4G MW40","2017-08-03","Franchise MSAKEN","MSK0013F",1,"SOLD","Tunis Entrepot DCGP"]
["892160100124728662","ASLOGHM","043007000004","CARTE SIM 4G DATA MULTI SIM","2017-08-03","Franchise MSAKEN","MSK0013F",1,"SOLD","Tunis Entrepot DCGP"]
["892160100122555254","ASLOGHM","043006000003","CARTE SIM 4G PRE MULTI SIM","2017-08-03","Franchise MSAKEN","MSK0013F",1,"SOLD","Tunis Entrepot DCGP"]
["892160100122555469","SIGHW","043006000003","CARTE SIM 4G PRE MULTI SIM","2017-08-03","Franchise MSAKEN","MSK0013F",1,"SOLD","Tunis Entrepot DCGP"]
["","RIGRAIET","044004000010","Recharge Express","2017-08-01","Franchise MSAKEN","MSK0013F",1,"SOLD","Tunis Entrepot DCGP"]
["865205022047442","ABLOUNA","046002000060","DOMINO E5220 WHITE","2017-08-03","Franchise MSAKEN","MSK0013F",1,"SOLD","Tunis Entrepot DCGP"]
["892160100124728663","ABLOUNA","043007000004","CARTE SIM 4G DATA MULTI SIM","2017-08-03","Franchise MSAKEN","MSK0013F",1,"SOLD","Tunis Entrepot DCGP"]
["892160100122555265","SIGHW","043006000003","CARTE SIM 4G PRE MULTI SIM","2017-08-03","Franchise MSAKEN","MSK0013F",1,"SOLD","Tunis Entrepot DCGP"]
["892160100123782009","ASLOGHM","043007000004","CARTE SIM 4G DATA MULTI SIM","2017-08-03","Franchise MSAKEN","MSK0013F",1,"SOLD","Tunis Entrepot DCGP"]
["892160100123782008","SIGHW","043007000004","CARTE SIM 4G DATA MULTI SIM","2017-08-03","Franchise MSAKEN","MSK0013F",1,"SOLD","Tunis Entrepot DCGP"]
["892160100122555258","ABLOUNA","043006000003","CARTE SIM 4G PRE MULTI SIM","2017-08-03","Franchise MSAKEN","MSK0013F",1,"SOLD","Tunis Entrepot DCGP"]
["","ASLOGHM","044004000010","Recharge Express","2017-08-03","Franchise MSAKEN","MSK0013F",22,"SOLD","Tunis Entrepot DCGP"]
["892160100122555267","SIGHW","043006000003","CARTE SIM 4G PRE MULTI SIM","2017-08-03","Franchise MSAKEN","MSK0013F",1,"SOLD","Tunis Entrepot DCGP"]
["892160100123781999","ABLOUNA","043007000004","CARTE SIM 4G DATA MULTI SIM","2017-08-02","Franchise MSAKEN","MSK0013F",1,"SOLD","Tunis Entrepot DCGP"]
["","SIGHW","999100001003","SERVICE TRANSFERT CONTACT","2017-08-03","Franchise MSAKEN","MSK0013F",1,"SOLD","Tunis Entrepot DCGP"]
["892160100206712303","ABLOUNA","043008000001","CARTE SIM 4G FLYBOX","2017-08-01","Franchise MSAKEN","MSK0013F",1,"SOLD","Tunis Entrepot DCGP"]
["863605032619373","ABLOUNA","085001000011","FLYBOX B310","2017-08-01","Franchise MSAKEN","MSK0013F",1,"SOLD","Tunis Entrepot DCGP"]
["","ASLOGHM","044004000010","Recharge Express","2017-08-01","Franchise MSAKEN","MSK0013F",1,"SOLD","Tunis Entrepot DCGP"]
["","ASLOGHM","044004000010","Recharge Express","2017-08-02","Franchise MSAKEN","MSK0013F",2,"SOLD","Tunis Entrepot DCGP"]
["892160100123760357","RIGRAIET","043006000003","CARTE SIM 4G PRE MULTI SIM","2017-08-01","Franchise MSAKEN","MSK0013F",1,"SOLD","Tunis Entrepot DCGP"]
["892160100122555521","ABLOUNA","043006000003","CARTE SIM 4G PRE MULTI SIM","2017-08-01","Franchise MSAKEN","MSK0013F",1,"SOLD","Tunis Entrepot DCGP"]
["892160100123469123","RIGRAIET","043001000114","CARTE PREACTIVEE VD","2017-08-01","Franchise MSAKEN","MSK0013F",1,"SOLD","Tunis Entrepot DCGP"]
["","ABLOUNA","044004000010","Recharge Express","2017-08-02","Franchise MSAKEN","MSK0013F",24,"SOLD","Tunis Entrepot DCGP"]
["892160100122555494","RIGRAIET","043006000003","CARTE SIM 4G PRE MULTI SIM","2017-08-02","Franchise MSAKEN","MSK0013F",1,"SOLD","Tunis Entrepot DCGP"]
["892160100122555504","ASLOGHM","043006000003","CARTE SIM 4G PRE MULTI SIM","2017-08-02","Franchise MSAKEN","MSK0013F",1,"SOLD","Tunis Entrepot DCGP"]
["","RIGRAIET","999100001003","SERVICE TRANSFERT CONTACT","2017-08-02","Franchise MSAKEN","MSK0013F",1,"SOLD","Tunis Entrepot DCGP"]
["892160100122555486","SIGHW","043006000003","CARTE SIM 4G PRE MULTI SIM","2017-08-02","Franchise MSAKEN","MSK0013F",1,"SOLD","Tunis Entrepot DCGP"]
["892160100122555487","SIGHW","043006000003","CARTE SIM 4G PRE MULTI SIM","2017-08-02","Franchise MSAKEN","MSK0013F",1,"SOLD","Tunis Entrepot DCGP"]
["","SIGHW","044004000010","Recharge Express","2017-08-01","Franchise MSAKEN","MSK0013F",10,"SOLD","Tunis Entrepot DCGP"]
["892160100123782018","SIGHW","043007000004","CARTE SIM 4G DATA MULTI SIM","2017-08-01","Franchise MSAKEN","MSK0013F",1,"SOLD","Tunis Entrepot DCGP"]
["","SIGHW","999100001003","SERVICE TRANSFERT CONTACT","2017-08-03","Franchise MSAKEN","MSK0013F",1,"SOLD","Tunis Entrepot DCGP"]
["892160100122555512","RIGRAIET","043006000003","CARTE SIM 4G PRE MULTI SIM","2017-08-01","Franchise MSAKEN","MSK0013F",1,"SOLD","Tunis Entrepot DCGP"]
["","ABLOUNA","044004000010","Recharge Express","2017-08-02","Franchise MSAKEN","MSK0013F",1,"SOLD","Tunis Entrepot DCGP"]
["","ASLOGHM","044004000010","Recharge Express","2017-08-02","Franchise MSAKEN","MSK0013F",12,"SOLD","Tunis Entrepot DCGP"]
["865205020963434","ASLOGHM","046002000060","DOMINO E5220 WHITE","2017-08-01","Franchise MSAKEN","MSK0013F",1,"SOLD","Tunis Entrepot DCGP"]
["892160100123782642","ASLOGHM","043007000004","CARTE SIM 4G DATA MULTI SIM","2017-08-01","Franchise MSAKEN","MSK0013F",1,"SOLD","Tunis Entrepot DCGP"]
["869470013077685","SIGHW","046002000060","DOMINO E5220 WHITE","2017-08-01","Franchise MSAKEN","MSK0013F",1,"SOLD","Tunis Entrepot DCGP"]
["892160100123782015","SIGHW","043007000004","CARTE SIM 4G DATA MULTI SIM","2017-08-01","Franchise MSAKEN","MSK0013F",1,"SOLD","Tunis Entrepot DCGP"]
["","SIGHW","044004000010","Recharge Express","2017-08-02","Franchise MSAKEN","MSK0013F",1,"SOLD","Tunis Entrepot DCGP"]
["","SIGHW","044004000010","Recharge Express","2017-08-03","Franchise MSAKEN","MSK0013F",40,"SOLD","Tunis Entrepot DCGP"]
["892160100122555515","SIGHW","043006000003","CARTE SIM 4G PRE MULTI SIM","2017-08-01","Franchise MSAKEN","MSK0013F",1,"SOLD","Tunis Entrepot DCGP"]
["2168006000741","SIGHW","047006000161","Orange Wifi dock","2017-08-01","Franchise MSAKEN","MSK0013F",1,"SOLD","Tunis Entrepot DCGP"]
["867424023067865","SIGHW","046002000034","CLE 3G E3531","2017-08-01","Franchise MSAKEN","MSK0013F",1,"SOLD","Tunis Entrepot DCGP"]
["892160100123782641","SIGHW","043007000004","CARTE SIM 4G DATA MULTI SIM","2017-08-01","Franchise MSAKEN","MSK0013F",1,"SOLD","Tunis Entrepot DCGP"]
["869907027306659","RIGRAIET","046002000041","CLE 4G E3372H","2017-08-01","Franchise MSAKEN","MSK0013F",1,"SOLD","Tunis Entrepot DCGP"]
["892160100123782623","RIGRAIET","043007000004","CARTE SIM 4G DATA MULTI SIM","2017-08-01","Franchise MSAKEN","MSK0013F",1,"SOLD","Tunis Entrepot DCGP"]
["","SIGHW","044004000010","Recharge Express","2017-08-01","Franchise MSAKEN","MSK0013F",5,"SOLD","Tunis Entrepot DCGP"]
["892160100123469158","SIGHW","043001000114","CARTE PREACTIVEE VD","2017-08-01","Franchise MSAKEN","MSK0013F",1,"SOLD","Tunis Entrepot DCGP"]
["892160100123469157","SIGHW","043001000114","CARTE PREACTIVEE VD","2017-08-01","Franchise MSAKEN","MSK0013F",1,"SOLD","Tunis Entrepot DCGP"]
["892160100123469156","SIGHW","043001000114","CARTE PREACTIVEE VD","2017-08-01","Franchise MSAKEN","MSK0013F",1,"SOLD","Tunis Entrepot DCGP"]
["892160100122555526","ABLOUNA","043006000003","CARTE SIM 4G PRE MULTI SIM","2017-08-01","Franchise MSAKEN","MSK0013F",1,"SOLD","Tunis Entrepot DCGP"]
["","SIGHW","044004000010","Recharge Express","2017-08-01","Franchise MSAKEN","MSK0013F",1,"SOLD","Tunis Entrepot DCGP"]
["892160100122555500","ASLOGHM","043006000003","CARTE SIM 4G PRE MULTI SIM","2017-08-02","Franchise MSAKEN","MSK0013F",1,"SOLD","Tunis Entrepot DCGP"]
["","ABLOUNA","044004000010","Recharge Express","2017-08-02","Franchise MSAKEN","MSK0013F",5,"SOLD","Tunis Entrepot DCGP"]
["892160100122555261","ABLOUNA","043006000003","CARTE SIM 4G PRE MULTI SIM","2017-08-02","Franchise MSAKEN","MSK0013F",1,"SOLD","Tunis Entrepot DCGP"]
["892160100122555511","RIGRAIET","043006000003","CARTE SIM 4G PRE MULTI SIM","2017-08-01","Franchise MSAKEN","MSK0013F",1,"SOLD","Tunis Entrepot DCGP"]
["","ASLOGHM","044004000010","Recharge Express","2017-08-02","Franchise MSAKEN","MSK0013F",5,"SOLD","Tunis Entrepot DCGP"]
["892160100122555503","RIGRAIET","043006000003","CARTE SIM 4G PRE MULTI SIM","2017-08-02","Franchise MSAKEN","MSK0013F",1,"SOLD","Tunis Entrepot DCGP"]
["TG6K17020002851","RIGRAIET","188003000016","Modem Huawei HG532","2017-08-02","Franchise MSAKEN","MSK0013F",1,"SOLD","Tunis Entrepot DCGP"]
["","SIGHW","044004000010","Recharge Express","2017-08-01","Franchise MSAKEN","MSK0013F",30,"SOLD","Tunis Entrepot DCGP"]
["357243073650090","RIGRAIET","046002000056","AIRBOX 4G MW40","2017-08-11","Franchise MSAKEN","MSK0013F",1,"SOLD","Franchise Sousse 1"]
["357243074444923","SIGHW","046002000056","AIRBOX 4G MW40","2017-08-11","Franchise MSAKEN","MSK0013F",1,"SOLD","Franchise Sousse 1"]
["357243074470985","RIGRAIET","046002000056","AIRBOX 4G MW40","2017-08-10","Franchise MSAKEN","MSK0013F",1,"SOLD","Franchise Sousse 1"]
["TG4566688888","HanenX","046002000056","Modem Huawei HG532","2017-08-10","Franchise MSAKEN","MSK0013F",1,"SOLD","Franchise Sousse 1"]

{"sheet":"Report-Sales","index":16,"n_rows":1028,"n_cols":11,"rows_kept":1028,"cut":false,"hidden":false,"merged":[]}
["Utilisateur","Date","Ref produit","Nom produit","Quantité payée","Prix de vente TTC payé","Quantité non payée","Prix de vente non payé","Quantité totale","Montant total","Marché"]
["SIGHW","15 août 2017","P53327","Pack  - offre Pass","1","0,000","0","0,000",1,"0,000","Mobile"]
["ASLOGHM","15 août 2017","044004000010","Recharge Express","30","33,000","0","0,000",30,"33,000","Mobile"]
["ASLOGHM","15 août 2017","044004000010","Recharge Express","20","22,000","0","0,000",20,"22,000","Mobile"]
["RIGRAIET","15 août 2017","PRE21","Melle5er","1","0,000","0","0,000",1,"0,000","Mobile"]
["ASLOGHM","15 août 2017","PRE21","Melle5er","4","0,000","0","0,000",4,"0,000","Mobile"]
["ASLOGHM","15 août 2017","P56567","Pack Sim data - offre Simply  7,5 Go + illimité","1","0,000","0","0,000",1,"0,000","Mobile"]
["ASLOGHM","15 août 2017","PRE23","El Jam3ia Mobile","4","0,000","0","0,000",4,"0,000","Mobile"]
["ABLOUNA","15 août 2017","044004000010","Recharge Express","13","14,300","0","0,000",13,"14,300","Mobile"]
["ASLOGHM","15 août 2017","999100001003","SERVICE TRANSFERT CONTACT","1","3,000","0","0,000",1,"3,000","Mobile"]
["ASLOGHM","15 août 2017","PRE10","offre Pass","1","0,000","0","0,000",1,"0,000","Mobile"]
["ASLOGHM","15 août 2017","044004000010","Recharge Express","24","26,400","0","0,000",24,"26,400","Mobile"]
["ABLOUNA","15 août 2017","044004000010","Recharge Express","15","16,500","0","0,000",15,"16,500","Mobile"]
["SIGHW","15 août 2017","PRE10","offre Pass","1","0,000","0","0,000",1,"0,000","Mobile"]
["SIGHW","15 août 2017","PRE17","3alami","1","0,000","0","0,000",1,"0,000","Mobile"]
["ABLOUNA","15 août 2017","044004000010","Recharge Express","30","33,000","0","0,000",30,"33,000","Mobile"]
["ABLOUNA","15 août 2017","044004000010","Recharge Express","12","13,200","0","0,000",12,"13,200","Mobile"]
["ABLOUNA","15 août 2017","PRE03","offre Simply","1","0,000","0","0,000",1,"0,000","Mobile"]
["ASLOGHM","15 août 2017","P53327","Pack  - offre Pass","1","0,000","0","0,000",1,"0,000","Mobile"]
["SIGHW","15 août 2017","044004000010","Recharge Express","25","27,500","0","0,000",25,"27,500","Mobile"]
["ABLOUNA","15 août 2017","PRE23","El Jam3ia Mobile","8","0,000","0","0,000",8,"0,000","Mobile"]
["ASLOGHM","15 août 2017","044004000010","Recharge Express","30","33,000","0","0,000",30,"33,000","Mobile"]
["ABLOUNA","15 août 2017","044004000010","Recharge Express","60","66,000","0","0,000",60,"66,000","Mobile"]
["ABLOUNA","15 août 2017","PRE17","3alami","1","0,000","0","0,000",1,"0,000","Mobile"]
["ASLOGHM","15 août 2017","044004000010","Recharge Express","10","11,000","0","0,000",10,"11,000","Mobile"]
["ABLOUNA","15 août 2017","PRE21","Melle5er","3","0,000","0","0,000",3,"0,000","Mobile"]
["ABLOUNA","15 août 2017","P56567","Pack Sim data - offre Simply  7,5 Go + illimité","1","0,000","0","0,000",1,"0,000","Mobile"]
["ASLOGHM","15 août 2017","PRE03","offre Simply","1","0,000","0","0,000",1,"0,000","Mobile"]
["ASLOGHM","15 août 2017","044004000010","Recharge Express","15","16,500","0","0,000",15,"16,500","Mobile"]
["SIGHW","15 août 2017","043007000004","CARTE SIM 4G DATA MULTI SIM","1","5,000","0","0,000",1,"5,000","Mobile"]
["ASLOGHM","15 août 2017","043007000004","CARTE SIM 4G DATA MULTI SIM","1","5,000","0","0,000",1,"5,000","Mobile"]
["SIGHW","15 août 2017","043006000003","CARTE SIM 4G PRE MULTI SIM","1","0,000","0","0,000",1,"0,000","Mobile"]
["ABLOUNA","15 août 2017","043007000004","CARTE SIM 4G DATA MULTI SIM","1","30,000","0","0,000",1,"30,000","Mobile"]
["ABLOUNA","15 août 2017","043006000003","CARTE SIM 4G PRE MULTI SIM","5","0,000","0","0,000",5,"0,000","Mobile"]
["ABLOUNA","15 août 2017","188003000016","Modem Huawei HG532","1","0,000","0","0,000",1,"0,000","ADSL"]
["RIGRAIET","15 août 2017","043006000003","CARTE SIM 4G PRE MULTI SIM","1","0,000","0","0,000",1,"0,000","Mobile"]
["ASLOGHM","15 août 2017","043001000114","CARTE PREACTIVEE VD","4","12,000","0","0,000",4,"12,000","Mobile"]
["ASLOGHM","15 août 2017","043006000003","CARTE SIM 4G PRE MULTI SIM","2","0,000","0","0,000",2,"0,000","Mobile"]
["ASLOGHM","15 août 2017","043006000003","CARTE SIM 4G PRE MULTI SIM","1","3,000","0","0,000",1,"3,000","Mobile"]
["ASLOGHM","15 août 2017","043007000004","CARTE SIM 4G DATA MULTI SIM","1","30,000","0","0,000",1,"30,000","Mobile"]
["ABLOUNA","15 août 2017","043006000003","CARTE SIM 4G PRE MULTI SIM","1","3,000","0","0,000",1,"3,000","Mobile"]
["ASLOGHM","15 août 2017","043006000003","CARTE SIM 4G PRE MULTI SIM","3","15,000","0","0,000",3,"15,000","Mobile"]
["ABLOUNA","15 août 2017","043001000114","CARTE PREACTIVEE VD","8","24,000","0","0,000",8,"24,000","Mobile"]
["RIGRAIET","14 août 2017","044004000010","Recharge Express","30","33,000","0","0,000",30,"33,000","Mobile"]
["RIGRAIET","14 août 2017","PRE10","offre Pass","5","0,000","0","0,000",5,"0,000","Mobile"]
["RIGRAIET","14 août 2017","PRE21","Melle5er","6","0,000","0","0,000",6,"0,000","Mobile"]
["SIGHW","14 août 2017","PRE10","offre Pass","2","0,000","0","0,000",2,"0,000","Mobile"]
["RIGRAIET","14 août 2017","P53287"," Clé 3G E3531 é?Offre Pass é? Bonus Internet 3Go - 1 mois      ","1","0,000","0","0,000",1,"0,000","Mobile"]
["ABLOUNA","14 août 2017","PRE23","El Jam3ia Mobile","2","0,000","0","0,000",2,"0,000","Mobile"]
["ABLOUNA","14 août 2017","HYB13","Flybox home","1","0,000","0","0,000",1,"0,000","Mobile"]
["ABLOUNA","14 août 2017","044004000010","Recharge Express","5","5,500","0","0,000",5,"5,500","Mobile"]
["SIGHW","14 août 2017","044004000010","Recharge Express","10","11,000","0","0,000",10,"11,000","Mobile"]
["RIGRAIET","14 août 2017","999100001003","SERVICE TRANSFERT CONTACT","2","6,000","0","0,000",2,"6,000","Mobile"]
["RIGRAIET","14 août 2017","044004000010","Recharge Express","15","16,500","0","0,000",15,"16,500","Mobile"]
["ABLOUNA","14 août 2017","PRE21","Melle5er","2","0,000","0","0,000",2,"0,000","Mobile"]
["ASLOGHM","14 août 2017","PRE17","3alami","1","0,000","0","0,000",1,"0,000","Mobile"]
["RIGRAIET","14 août 2017","PRE03","offre Simply","1","0,000","0","0,000",1,"0,000","Mobile"]
["SIGHW","14 août 2017","999100001003","SERVICE TRANSFERT CONTACT","2","6,000","0","0,000",2,"6,000","Mobile"]
["SIGHW","14 août 2017","ADV2","Avance 2 mois","1","58,000","0","0,000",1,"58,000","Mobile"]
["RIGRAIET","14 août 2017","HYB13","Flybox home","1","0,000","0","0,000",1,"0,000","Mobile"]
["RIGRAIET","14 août 2017","044004000010","Recharge Express","25","27,500","0","0,000",25,"27,500","Mobile"]
["RIGRAIET","14 août 2017","044004000010","Recharge Express","30","33,000","0","0,000",30,"33,000","Mobile"]
["SIGHW","14 août 2017","PRE17","3alami","1","0,000","0","0,000",1,"0,000","Mobile"]
["SIGHW","14 août 2017","044004000010","Recharge Express","90","99,000","0","0,000",90,"99,000","Mobile"]
["ASLOGHM","14 août 2017","P56567","Pack Sim data - offre Simply  7,5 Go + illimité","2","0,000","0","0,000",2,"0,000","Mobile"]
["ASLOGHM","14 août 2017","044004000010","Recharge Express","9","9,900","0","0,000",9,"9,900","Mobile"]
["ASLOGHM","14 août 2017","084006000285","CLE USB SANDISK 8GB","1","6,900","0","0,000",1,"6,900","Mobile"]
["ASLOGHM","14 août 2017","047006000255","SANGLE PVC PORTABLE","1","2,200","0","0,000",1,"2,200","Mobile"]
["ABLOUNA","14 août 2017","044004000010","Recharge Express","2","2,200","0","0,000",2,"2,200","Mobile"]
["SIGHW","14 août 2017","044004000010","Recharge Express","15","16,500","0","0,000",15,"16,500","Mobile"]
["ABLOUNA","14 août 2017","044004000010","Recharge Express","15","16,500","0","0,000",15,"16,500","Mobile"]
["RIGRAIET","14 août 2017","P60645"," Pack R??engagement Orange TAB 7 _ 4G NOIR - Flybox home - 12 mois ","1","0,000","0","0,000",1,"0,000","Mobile"]
["RIGRAIET","14 août 2017","044004000010","Recharge Express","30","33,000","0","0,000",30,"33,000","Mobile"]
["SIGHW","14 août 2017","044004000010","Recharge Express","44","48,400","0","0,000",44,"48,400","Mobile"]
["ASLOGHM","14 août 2017","PRE13","Edawa5","2","0,000","0","0,000",2,"0,000","Mobile"]
["ASLOGHM","14 août 2017","PRE10","offre Pass","4","0,000","0","0,000",4,"0,000","Mobile"]
["ASLOGHM","14 août 2017","P53327","Pack  - offre Pass","4","0,000","0","0,000",4,"0,000","Mobile"]
["ASLOGHM","14 août 2017","PRE21","Melle5er","5","0,000","0","0,000",5,"0,000","Mobile"]
["SIGHW","14 août 2017","044004000010","Recharge Express","30","33,000","0","0,000",30,"33,000","Mobile"]
["SIGHW","14 août 2017","044004000010","Recharge Express","25","27,500","0","0,000",25,"27,500","Mobile"]
["RIGRAIET","14 août 2017","999100001003","SERVICE TRANSFERT CONTACT","2","6,000","0","0,000",2,"6,000","Mobile"]
["SIGHW","14 août 2017","P59928"," Pack 2 mois - Flybox MAX - internet + voix","1","0,000","0","0,000",1,"0,000","Mobile"]
["SIGHW","14 août 2017","044004000010","Recharge Express","40","44,000","0","0,000",40,"44,000","Mobile"]
["SIGHW","14 août 2017","P53327","Pack  - offre Pass","2","0,000","0","0,000",2,"0,000","Mobile"]
["ABLOUNA","14 août 2017","044004000010","Recharge Express","30","33,000","0","0,000",30,"33,000","Mobile"]
["ASLOGHM","14 août 2017","044004000010","Recharge Express","30","33,000","0","0,000",30,"33,000","Mobile"]
["SIGHW","14 août 2017","PRE03","offre Simply","1","0,000","0","0,000",1,"0,000","Mobile"]
["SIGHW","14 août 2017","P56567","Pack Sim data - offre Simply  7,5 Go + illimité","1","0,000","0","0,000",1,"0,000","Mobile"]
["ASLOGHM","14 août 2017","PRE03","offre Simply","2","0,000","0","0,000",2,"0,000","Mobile"]
["RIGRAIET","14 août 2017","PRE13","Edawa5","1","0,000","0","0,000",1,"0,000","Mobile"]
["RIGRAIET","14 août 2017","P53327","Pack  - offre Pass","3","0,000","0","0,000",3,"0,000","Mobile"]
["SIGHW","14 août 2017","PRE21","Melle5er","5","0,000","0","0,000",5,"0,000","Mobile"]
["RIGRAIET","14 août 2017","P50759","Pack Clé 4G - Offre Pass - Bonus internet 5 Go- 2 mois","1","0,000","0","0,000",1,"0,000","Mobile"]
["RIGRAIET","14 août 2017","044004000010","Recharge Express","24","26,400","0","0,000",24,"26,400","Mobile"]
["SIGHW","14 août 2017","044004000010","Recharge Express","18","19,800","0","0,000",18,"19,800","Mobile"]
["ABLOUNA","14 août 2017","044004000010","Recharge Express","24","26,400","0","0,000",24,"26,400","Mobile"]
["ABLOUNA","14 août 2017","044004000010","Recharge Express","30","33,000","0","0,000",30,"33,000","Mobile"]
["ABLOUNA","14 août 2017","P50371"," Pack FLYBOX B310 - FLYBOX B310-CARTE SIM 4G FLYBOX-Flybox home - 24 mois ","1","0,000","0","0,000",1,"0,000","Mobile"]
["SIGHW","14 août 2017","044004000010","Recharge Express","2","2,200","0","0,000",2,"2,200","Mobile"]
["SIGHW","14 août 2017","HYB35","Flybox MAX","1","0,000","0","0,000",1,"0,000","Mobile"]
["RIGRAIET","14 août 2017","044004000010","Recharge Express","12","13,200","0","0,000",12,"13,200","Mobile"]
["SIGHW","14 août 2017","044004000010","Recharge Express","24","26,400","0","0,000",24,"26,400","Mobile"]
["RIGRAIET","14 août 2017","P56567","Pack Sim data - offre Simply  7,5 Go + illimité","1","0,000","0","0,000",1,"0,000","Mobile"]
["SIGHW","14 août 2017","043007000004","CARTE SIM 4G DATA MULTI SIM","2","10,000","0","0,000",2,"10,000","Mobile"]
["SIGHW","14 août 2017","043006000003","CARTE SIM 4G PRE MULTI SIM","5","0,000","0","0,000",5,"0,000","Mobile"]
["ABLOUNA","14 août 2017","085001000011","FLYBOX B310","1","0,000","0","0,000",1,"0,000","Mobile"]
["RIGRAIET","14 août 2017","079001000057","Orange TAB 7 - 4G NOIR","1","69,000","0","0,000",1,"69,000","Mobile"]
["ASLOGHM","14 août 2017","043007000004","CARTE SIM 4G DATA MULTI SIM","2","60,000","0","0,000",2,"60,000","Mobile"]
["ASLOGHM","14 août 2017","043006000003","CARTE SIM 4G PRE MULTI SIM","7","0,000","0","0,000",7,"0,000","Mobile"]
["ASLOGHM","14 août 2017","043007000004","CARTE SIM 4G DATA MULTI SIM","4","20,000","0","0,000",4,"20,000","Mobile"]
["RIGRAIET","14 août 2017","043006000003","CARTE SIM 4G PRE MULTI SIM","8","0,000","0","0,000",8,"0,000","Mobile"]
["RIGRAIET","14 août 2017","043006000003","CARTE SIM 4G PRE MULTI SIM","1","3,000","0","0,000",1,"3,000","Mobile"]
["RIGRAIET","14 août 2017","083025001002","SERVICOM EASY 3 WHTE BLCK","1","39,900","0","0,000",1,"39,900","Mobile"]
["RIGRAIET","14 août 2017","043007000004","CARTE SIM 4G DATA MULTI SIM","1","30,000","0","0,000",1,"30,000","Mobile"]
["ASLOGHM","14 août 2017","043006000003","CARTE SIM 4G PRE MULTI SIM","1","3,000","0","0,000",1,"3,000","Mobile"]
["ABLOUNA","14 août 2017","043006000003","CARTE SIM 4G PRE MULTI SIM","1","5,000","0","0,000",1,"5,000","Mobile"]
["RIGRAIET","14 août 2017","043006000003","CARTE SIM 4G PRE MULTI SIM","4","20,000","0","0,000",4,"20,000","Mobile"]
["SIGHW","14 août 2017","043007000004","CARTE SIM 4G DATA MULTI SIM","1","30,000","0","0,000",1,"30,000","Mobile"]
["ABLOUNA","14 août 2017","043008000001","CARTE SIM 4G FLYBOX","1","0,000","0","0,000",1,"0,000","Mobile"]
["SIGHW","14 août 2017","043006000003","CARTE SIM 4G PRE MULTI SIM","3","9,000","0","0,000",3,"9,000","Mobile"]
["ABLOUNA","14 août 2017","043006000003","CARTE SIM 4G PRE MULTI SIM","1","0,000","0","0,000",1,"0,000","Mobile"]
["RIGRAIET","14 août 2017","046002000041","CLE 4G E3372H","1","0,000","0","0,000",1,"0,000","Mobile"]
["SIGHW","14 août 2017","043006000003","CARTE SIM 4G PRE MULTI SIM","3","15,000","0","0,000",3,"15,000","Mobile"]
["RIGRAIET","14 août 2017","085001000011","FLYBOX B310","1","0,000","0","0,000",1,"0,000","Mobile"]
["RIGRAIET","14 août 2017","046002000034","CLE 3G E3531","1","0,000","0","0,000",1,"0,000","Mobile"]
["SIGHW","14 août 2017","085001000011","FLYBOX B310","1","0,000","0","0,000",1,"0,000","Mobile"]
["RIGRAIET","14 août 2017","188003000016","Modem Huawei HG532","1","0,000","0","0,000",1,"0,000","ADSL"]
["ABLOUNA","14 août 2017","043001000114","CARTE PREACTIVEE VD","2","6,000","0","0,000",2,"6,000","Mobile"]
["ABLOUNA","14 août 2017","045022002001","ORANGE IT 2110","1","32,000","0","0,000",1,"32,000","Mobile"]
["ASLOGHM","14 août 2017","043006000003","CARTE SIM 4G PRE MULTI SIM","1","5,000","0","0,000",1,"5,000","Mobile"]
["RIGRAIET","14 août 2017","043007000004","CARTE SIM 4G DATA MULTI SIM","1","40,000","0","0,000",1,"40,000","Mobile"]
["RIGRAIET","14 août 2017","043007000004","CARTE SIM 4G DATA MULTI SIM","3","15,000","0","0,000",3,"15,000","Mobile"]
["RIGRAIET","14 août 2017","043007000004","CARTE SIM 4G DATA MULTI SIM","1","14,000","0","0,000",1,"14,000","Mobile"]
["RIGRAIET","14 août 2017","043008000001","CARTE SIM 4G FLYBOX","1","0,000","0","0,000",1,"0,000","Mobile"]
["SIGHW","14 août 2017","043008000001","CARTE SIM 4G FLYBOX","3","0,000","0","0,000",3,"0,000","Mobile"]
["ABLOUNA","12 août 2017","PRE10","offre Pass","1","0,000","0","0,000",1,"0,000","Mobile"]
["ABLOUNA","12 août 2017","P56567","Pack Sim data - offre Simply  7,5 Go + illimité","1","0,000","0","0,000",1,"0,000","Mobile"]
["SIGHW","12 août 2017","044004000010","Recharge Express","24","26,400","0","0,000",24,"26,400","Mobile"]
["ABLOUNA","12 août 2017","P60702"," Pack HUAWEI GR5 2017 GOLD -  forfait optima 50  -  12 mois   -  Avance 2 mois","1","0,000","0","0,000",1,"0,000","Mobile"]
["RIGRAIET","12 août 2017","P53327","Pack  - offre Pass","1","0,000","0","0,000",1,"0,000","Mobile"]
["ABLOUNA","12 août 2017","044004000010","Recharge Express","18","19,800","0","0,000",18,"19,800","Mobile"]
["SIGHW","12 août 2017","PRE10","offre Pass","4","0,000","0","0,000",4,"0,000","Mobile"]
["RIGRAIET","12 août 2017","ADV2","Avance 2 mois","1","58,000","0","0,000",1,"58,000","Mobile"]
["ABLOUNA","12 août 2017","PRE21","Melle5er","4","0,000","0","0,000",4,"0,000","Mobile"]
["RIGRAIET","12 août 2017","044004000010","Recharge Express","50","55,000","0","0,000",50,"55,000","Mobile"]
["RIGRAIET","12 août 2017","PRE10","offre Pass","1","0,000","0","0,000",1,"0,000","Mobile"]
["RIGRAIET","12 août 2017","044004000010","Recharge Express","2","2,200","0","0,000",2,"2,200","Mobile"]
["ASLOGHM","12 août 2017","044004000010","Recharge Express","30","33,000","0","0,000",30,"33,000","Mobile"]
["RIGRAIET","12 août 2017","044004000010","Recharge Express","25","27,500","0","0,000",25,"27,500","Mobile"]
["RIGRAIET","12 août 2017","HYB30","forfait mix 20","1","0,000","0","0,000",1,"0,000","Mobile"]
["ABLOUNA","12 août 2017","P60712"," Pack R??engagement HUAWEI GR5 2017 SILVER  - forfait optima 50 -  12 mois ","1","0,000","0","0,000",1,"0,000","Mobile"]
["SIGHW","12 août 2017","044004000010","Recharge Express","2","2,200","0","0,000",2,"2,200","Mobile"]
["SIGHW","12 août 2017","P61147"," Pack AIRBOX 4G MW40 - offre Simply - bonus internet 7,5Go + illimit?? ","1","0,000","0","0,000",1,"0,000","Mobile"]
["RIGRAIET","12 août 2017","PRE21","Melle5er","5","0,000","0","0,000",5,"0,000","Mobile"]
["ABLOUNA","12 août 2017","POS01","forfait optima 50","2","0,000","0","0,000",2,"0,000","Mobile"]
["SIGHW","12 août 2017","P4048","Pack Réengagement - forfait mix 15 - injection 1 Go - 12 mois","1","0,000","0","0,000",1,"0,000","Mobile"]
["ABLOUNA","12 août 2017","HYB35","Flybox MAX","1","0,000","0","0,000",1,"0,000","Mobile"]
["SIGHW","12 août 2017","044004000010","Recharge Express","20","22,000","0","0,000",20,"22,000","Mobile"]
["SIGHW","12 août 2017","044004000010","Recharge Express","20","22,000","0","0,000",20,"22,000","Mobile"]
["SIGHW","12 août 2017","P53327","Pack  - offre Pass","4","0,000","0","0,000",4,"0,000","Mobile"]
["ABLOUNA","12 août 2017","PRE03","offre Simply","1","0,000","0","0,000",1,"0,000","Mobile"]
["ABLOUNA","12 août 2017","ADV2","Avance 2 mois","1","110,000","0","0,000",1,"110,000","Mobile"]
["RIGRAIET","12 août 2017","999100001003","SERVICE TRANSFERT CONTACT","1","3,000","0","0,000",1,"3,000","Mobile"]
["ASLOGHM","12 août 2017","PRE21","Melle5er","3","0,000","0","0,000",3,"0,000","Mobile"]
["RIGRAIET","12 août 2017","P59928"," Pack 2 mois - Flybox MAX - internet + voix","1","0,000","0","0,000",1,"0,000","Mobile"]
["SIGHW","12 août 2017","HYB01","forfait mix 15","1","0,000","0","0,000",1,"0,000","Mobile"]
["RIGRAIET","12 août 2017","P4049","Pack Réengagement - forfait mix 20 - injection 1 Go - 12 mois ","1","0,000","0","0,000",1,"0,000","Mobile"]
["ASLOGHM","12 août 2017","044004000010","Recharge Express","5","5,500","0","0,000",5,"5,500","Mobile"]
["SIGHW","12 août 2017","044004000010","Recharge Express","15","16,500","0","0,000",15,"16,500","Mobile"]
["SIGHW","12 août 2017","PRE21","Melle5er","3","0,000","0","0,000",3,"0,000","Mobile"]
["SIGHW","12 août 2017","044004000010","Recharge Express","30","33,000","0","0,000",30,"33,000","Mobile"]
["ABLOUNA","12 août 2017","044004000010","Recharge Express","20","22,000","0","0,000",20,"22,000","Mobile"]
["RIGRAIET","12 août 2017","HYB35","Flybox MAX","1","0,000","0","0,000",1,"0,000","Mobile"]
["RIGRAIET","12 août 2017","044004000010","Recharge Express","20","22,000","0","0,000",20,"22,000","Mobile"]
["ASLOGHM","12 août 2017","044004000010","Recharge Express","36","39,600","0","0,000",36,"39,600","Mobile"]
["ABLOUNA","12 août 2017","044004000010","Recharge Express","5","5,500","0","0,000",5,"5,500","Mobile"]
["SIGHW","12 août 2017","044004000010","Recharge Express","10","11,000","0","0,000",10,"11,000","Mobile"]
["SIGHW","12 août 2017","PRE17","3alami","3","0,000","0","0,000",3,"0,000","Mobile"]
["ASLOGHM","12 août 2017","999100001003","SERVICE TRANSFERT CONTACT","1","3,000","0","0,000",1,"3,000","Mobile"]
["ABLOUNA","12 août 2017","044004000010","Recharge Express","12","13,200","0","0,000",12,"13,200","Mobile"]
["RIGRAIET","12 août 2017","044004000010","Recharge Express","15","16,500","0","0,000",15,"16,500","Mobile"]
["ABLOUNA","12 août 2017","P59928"," Pack 2 mois - Flybox MAX - internet + voix","1","0,000","0","0,000",1,"0,000","Mobile"]
["ABLOUNA","12 août 2017","P53287"," Clé 3G E3531 é?Offre Pass é? Bonus Internet 3Go - 1 mois      ","1","0,000","0","0,000",1,"0,000","Mobile"]
["ABLOUNA","12 août 2017","044004000010","Recharge Express","1","1,100","0","0,000",1,"1,100","Mobile"]
["RIGRAIET","12 août 2017","044004000010","Recharge Express","1","1,100","0","0,000",1,"1,100","Mobile"]
["SIGHW","12 août 2017","PRE13","Edawa5","1","0,000","0","0,000",1,"0,000","Mobile"]
["ABLOUNA","12 août 2017","ADV2","Avance 2 mois","1","58,000","0","0,000",1,"58,000","Mobile"]
["RIGRAIET","12 août 2017","044004000010","Recharge Express","12","13,200","0","0,000",12,"13,200","Mobile"]
["SIGHW","12 août 2017","PRE03","offre Simply","1","0,000","0","0,000",1,"0,000","Mobile"]
["ABLOUNA","12 août 2017","083013025002","HUAWEI GR5 2017 GOLD","1","599,000","0","0,000",1,"599,000","Mobile"]
["RIGRAIET","12 août 2017","085001000011","FLYBOX B310","1","0,000","0","0,000",1,"0,000","Mobile"]
["SIGHW","12 août 2017","046002000056","AIRBOX 4G MW40","1","119,000","0","0,000",1,"119,000","Mobile"]
["RIGRAIET","12 août 2017","043006000003","CARTE SIM 4G PRE MULTI SIM","2","10,000","0","0,000",2,"10,000","Mobile"]
["RIGRAIET","12 août 2017","043008000001","CARTE SIM 4G FLYBOX","1","0,000","0","0,000",1,"0,000","Mobile"]
["RIGRAIET","12 août 2017","043006000003","CARTE SIM 4G PRE MULTI SIM","2","6,000","0","0,000",2,"6,000","Mobile"]
["SIGHW","12 août 2017","043007000004","CARTE SIM 4G DATA MULTI SIM","4","20,000","0","0,000",4,"20,000","Mobile"]
["RIGRAIET","12 août 2017","188003000016","Modem Huawei HG532","1","0,000","0","0,000",1,"0,000","ADSL"]
["SIGHW","12 août 2017","043007000004","CARTE SIM 4G DATA MULTI SIM","1","0,000","0","0,000",1,"0,000","Mobile"]
["SIGHW","12 août 2017","043006000003","CARTE SIM 4G PRE MULTI SIM","7","0,000","0","0,000",7,"0,000","Mobile"]
["ABLOUNA","12 août 2017","043006000003","CARTE SIM 4G PRE MULTI SIM","2","10,000","0","0,000",2,"10,000","Mobile"]
["RIGRAIET","12 août 2017","043007000004","CARTE SIM 4G DATA MULTI SIM","1","5,000","0","0,000",1,"5,000","Mobile"]
["ASLOGHM","12 août 2017","043006000003","CARTE SIM 4G PRE MULTI SIM","3","15,000","0","0,000",3,"15,000","Mobile"]
["ABLOUNA","12 août 2017","043006000003","CARTE SIM 4G PRE MULTI SIM","3","0,000","0","0,000",3,"0,000","Mobile"]
["ABLOUNA","12 août 2017","083013025001","HUAWEI GR5 2017 SILVER","1","549,000","0","0,000",1,"549,000","Mobile"]
["ABLOUNA","12 août 2017","043006000007","CARTE SIM 4G POST MULTI SIM","1","0,000","0","0,000",1,"0,000","Mobile"]
["RIGRAIET","12 août 2017","043006000003","CARTE SIM 4G PRE MULTI SIM","4","0,000","0","0,000",4,"0,000","Mobile"]
["ABLOUNA","12 août 2017","046002000034","CLE 3G E3531","1","0,000","0","0,000",1,"0,000","Mobile"]
["ABLOUNA","12 août 2017","043008000001","CARTE SIM 4G FLYBOX","1","0,000","0","0,000",1,"0,000","Mobile"]
["ASLOGHM","12 août 2017","043006000003","CARTE SIM 4G PRE MULTI SIM","2","0,000","0","0,000",2,"0,000","Mobile"]
["SIGHW","12 août 2017","043006000003","CARTE SIM 4G PRE MULTI SIM","2","10,000","0","0,000",2,"10,000","Mobile"]
["ABLOUNA","12 août 2017","043007000004","CARTE SIM 4G DATA MULTI SIM","1","14,000","0","0,000",1,"14,000","Mobile"]
["ABLOUNA","12 août 2017","085001000011","FLYBOX B310","1","0,000","0","0,000",1,"0,000","Mobile"]
["ABLOUNA","12 août 2017","043007000004","CARTE SIM 4G DATA MULTI SIM","1","30,000","0","0,000",1,"30,000","Mobile"]
["ASLOGHM","11 août 2017","P53327","Pack  - offre Pass","4","0,000","0","0,000",4,"0,000","Mobile"]
["ASLOGHM","11 août 2017","PRE03","offre Simply","4","0,000","0","0,000",4,"0,000","Mobile"]
["SIGHW","11 août 2017","P53327","Pack  - offre Pass","1","0,000","0","0,000",1,"0,000","Mobile"]
["ASLOGHM","11 août 2017","044004000010","Recharge Express","50","55,000","0","0,000",50,"55,000","Mobile"]
["SIGHW","11 août 2017","P59928"," Pack 2 mois - Flybox MAX - internet + voix","1","0,000","0","0,000",1,"0,000","Mobile"]
["ABLOUNA","11 août 2017","044004000010","Recharge Express","18","19,800","0","0,000",18,"19,800","Mobile"]
["SIGHW","11 août 2017","044004000010","Recharge Express","25","27,500","0","0,000",25,"27,500","Mobile"]
["ASLOGHM","11 août 2017","P56567","Pack Sim data - offre Simply  7,5 Go + illimité","2","0,000","0","0,000",2,"0,000","Mobile"]
["ASLOGHM","11 août 2017","P62599"," Pack Cle 3G E3531 + Orange Wifi dock - offre Simply 25 Go","2","0,000","0","0,000",2,"0,000","Mobile"]
["RIGRAIET","11 août 2017","P50329"," Pack Réengagement - forfait mix 15 Crédit 5DT - 12 mois","1","0,000","0","0,000",1,"0,000","Mobile"]
["RIGRAIET","11 août 2017","PRE24","Connecti","1","0,000","0","0,000",1,"0,000","Mobile"]
["ABLOUNA","11 août 2017","044004000010","Recharge Express","60","66,000","0","0,000",60,"66,000","Mobile"]
["SIGHW","11 août 2017","ADV2","Avance 2 mois","1","58,000","0","0,000",1,"58,000","Mobile"]
["ASLOGHM","11 août 2017","PRE10","offre Pass","4","0,000","0","0,000",4,"0,000","Mobile"]
["RIGRAIET","11 août 2017","P3079"," Pack de réengagement Flybox remise 20%","1","0,000","0","0,000",1,"0,000","Mobile"]
["ABLOUNA","11 août 2017","044004000010","Recharge Express","30","33,000","0","0,000",30,"33,000","Mobile"]
["RIGRAIET","11 août 2017","P56567","Pack Sim data - offre Simply  7,5 Go + illimité","2","0,000","0","0,000",2,"0,000","Mobile"]
["ABLOUNA","11 août 2017","PRE03","offre Simply","4","0,000","0","0,000",4,"0,000","Mobile"]
["SIGHW","11 août 2017","HYB12","Forfait clé 3G Intense","1","0,000","0","0,000",1,"0,000","Mobile"]
["SIGHW","11 août 2017","044004000010","Recharge Express","20","22,000","0","0,000",20,"22,000","Mobile"]
["RIGRAIET","11 août 2017","044004000010","Recharge Express","25","27,500","0","0,000",25,"27,500","Mobile"]
["RIGRAIET","11 août 2017","P61337"," Pack Pro  AIRBOX 4G MW40 - Forfait cl?? 3G Intense - 24 mois ","1","0,000","0","0,000",1,"0,000","Mobile"]
["ABLOUNA","11 août 2017","P56567","Pack Sim data - offre Simply  7,5 Go + illimité","1","0,000","0","0,000",1,"0,000","Mobile"]
["ASLOGHM","11 août 2017","HYB12","Forfait clé 3G Intense","1","0,000","0","0,000",1,"0,000","Mobile"]
["SIGHW","11 août 2017","HYB35","Flybox MAX","1","0,000","0","0,000",1,"0,000","Mobile"]
["RIGRAIET","11 août 2017","PRE21","Melle5er","5","0,000","0","0,000",5,"0,000","Mobile"]
["SIGHW","11 août 2017","044004000010","Recharge Express","20","22,000","0","0,000",20,"22,000","Mobile"]
["SIGHW","11 août 2017","999100001003","SERVICE TRANSFERT CONTACT","1","3,000","0","0,000",1,"3,000","Mobile"]
["RIGRAIET","11 août 2017","999100001003","SERVICE TRANSFERT CONTACT","4","12,000","0","0,000",4,"12,000","Mobile"]
["RIGRAIET","11 août 2017","044004000010","Recharge Express","12","13,200","0","0,000",12,"13,200","Mobile"]
["ABLOUNA","11 août 2017","PRE21","Melle5er","4","0,000","0","0,000",4,"0,000","Mobile"]
["RIGRAIET","11 août 2017","HYB13","Flybox home","1","0,000","0","0,000",1,"0,000","Mobile"]
["SIGHW","11 août 2017","044004000010","Recharge Express","30","33,000","0","0,000",30,"33,000","Mobile"]
["RIGRAIET","11 août 2017","044004000010","Recharge Express","60","66,000","0","0,000",60,"66,000","Mobile"]
["ABLOUNA","11 août 2017","044004000010","Recharge Express","20","22,000","0","0,000",20,"22,000","Mobile"]
["ASLOGHM","11 août 2017","P3078","Pack de réengagement IEW Forfait remise 20%","1","0,000","0","0,000",1,"0,000","Mobile"]
["ASLOGHM","11 août 2017","044004000010","Recharge Express","12","13,200","0","0,000",12,"13,200","Mobile"]
["SIGHW","11 août 2017","PRE10","offre Pass","2","0,000","0","0,000",2,"0,000","Mobile"]
["RIGRAIET","11 août 2017","044004000010","Recharge Express","30","33,000","0","0,000",30,"33,000","Mobile"]
["RIGRAIET","11 août 2017","044004000010","Recharge Express","10","11,000","0","0,000",10,"11,000","Mobile"]
["RIGRAIET","11 août 2017","HYB01","forfait mix 15","1","0,000","0","0,000",1,"0,000","Mobile"]
["SIGHW","11 août 2017","ADV2","Avance 2 mois","1","50,000","0","0,000",1,"50,000","Mobile"]
["SIGHW","11 août 2017","P61141"," Pack AIRBOX 4G MW40 - Forfait cl?? 3G Intense - 12 mois  - Avance 2 mois","1","0,000","0","0,000",1,"0,000","Mobile"]
["SIGHW","11 août 2017","PRE21","Melle5er","5","0,000","0","0,000",5,"0,000","Mobile"]
["SIGHW","11 août 2017","P53287"," Clé 3G E3531 é?Offre Pass é? Bonus Internet 3Go - 1 mois      ","1","0,000","0","0,000",1,"0,000","Mobile"]
["SIGHW","11 août 2017","044004000010","Recharge Express","6","6,600","0","0,000",6,"6,600","Mobile"]
["RIGRAIET","11 août 2017","POSA2","ADSL HOME","1","125,900","0","0,000",1,"125,900","ADSL"]
["ASLOGHM","11 août 2017","044004000010","Recharge Express","40","44,000","0","0,000",40,"44,000","Mobile"]
["ASLOGHM","11 août 2017","PRE21","Melle5er","11","0,000","0","0,000",11,"0,000","Mobile"]
["ASLOGHM","11 août 2017","044004000010","Recharge Express","20","22,000","0","0,000",20,"22,000","Mobile"]
["RIGRAIET","11 août 2017","HYB12","Forfait clé 3G Intense","1","0,000","0","0,000",1,"0,000","Mobile"]
["ASLOGHM","11 août 2017","PRE17","3alami","1","0,000","0","0,000",1,"0,000","Mobile"]
["ABLOUNA","11 août 2017","PRE17","3alami","1","0,000","0","0,000",1,"0,000","Mobile"]
["RIGRAIET","11 août 2017","PRE03","offre Simply","2","0,000","0","0,000",2,"0,000","Mobile"]
["ABLOUNA","11 août 2017","P59924"," Pack Sim data  - offre Simply- bonus internet 1Go- 1 mois","3","0,000","0","0,000",3,"0,000","Mobile"]
["RIGRAIET","11 août 2017","043006000003","CARTE SIM 4G PRE MULTI SIM","5","15,000","0","0,000",5,"15,000","Mobile"]
["ABLOUNA","11 août 2017","043006000003","CARTE SIM 4G PRE MULTI SIM","1","5,000","0","0,000",1,"5,000","Mobile"]
["RIGRAIET","11 août 2017","043007000004","CARTE SIM 4G DATA MULTI SIM","2","60,000","0","0,000",2,"60,000","Mobile"]
["RIGRAIET","11 août 2017","045001074003","SAMSUNG GRAND PRIME + GOLD","1","379,000","0","0,000",1,"379,000","Mobile"]
["SIGHW","11 août 2017","043006000003","CARTE SIM 4G PRE MULTI SIM","2","10,000","0","0,000",2,"10,000","Mobile"]
["RIGRAIET","11 août 2017","046002000056","AIRBOX 4G MW40","1","0,000","0","0,000",1,"0,000","Mobile"]
["RIGRAIET","11 août 2017","043007000004","CARTE SIM 4G DATA MULTI SIM","1","0,000","0","0,000",1,"0,000","Mobile"]
["RIGRAIET","11 août 2017","188003000016","Modem Huawei HG532","2","0,000","0","0,000",2,"0,000","ADSL"]
["ABLOUNA","11 août 2017","043007000004","CARTE SIM 4G DATA MULTI SIM","3","15,000","0","0,000",3,"15,000","Mobile"]
["RIGRAIET","11 août 2017","043006000003","CARTE SIM 4G PRE MULTI SIM","6","0,000","0","0,000",6,"0,000","Mobile"]
["SIGHW","11 août 2017","043006000003","CARTE SIM 4G PRE MULTI SIM","4","12,000","0","0,000",4,"12,000","Mobile"]
["SIGHW","11 août 2017","046002000034","CLE 3G E3531","1","0,000","0","0,000",1,"0,000","Mobile"]
["ASLOGHM","11 août 2017","043007000004","CARTE SIM 4G DATA MULTI SIM","2","60,000","0","0,000",2,"60,000","Mobile"]
["ABLOUNA","11 août 2017","045001074001","SAMSUNG GRAND PRIME + BLACK","1","379,000","0","0,000",1,"379,000","Mobile"]
["RIGRAIET","11 août 2017","043008000001","CARTE SIM 4G FLYBOX","1","0,000","0","0,000",1,"0,000","Mobile"]
["ASLOGHM","11 août 2017","043006000003","CARTE SIM 4G PRE MULTI SIM","8","0,000","0","0,000",8,"0,000","Mobile"]
["ASLOGHM","11 août 2017","043007000004","CARTE SIM 4G DATA MULTI SIM","4","20,000","0","0,000",4,"20,000","Mobile"]
["ASLOGHM","11 août 2017","047006000161","Orange Wifi dock","2","0,000","0","0,000",2,"0,000","Mobile"]
["ABLOUNA","11 août 2017","043006000003","CARTE SIM 4G PRE MULTI SIM","4","0,000","0","0,000",4,"0,000","Mobile"]
["RIGRAIET","11 août 2017","043006000003","CARTE SIM 4G PRE MULTI SIM","4","20,000","0","0,000",4,"20,000","Mobile"]
["SIGHW","11 août 2017","046002000056","AIRBOX 4G MW40","1","29,000","0","0,000",1,"29,000","Mobile"]
["SIGHW","11 août 2017","043006000003","CARTE SIM 4G PRE MULTI SIM","4","0,000","0","0,000",4,"0,000","Mobile"]
["ABLOUNA","11 août 2017","043006000003","CARTE SIM 4G PRE MULTI SIM","3","9,000","0","0,000",3,"9,000","Mobile"]
["SIGHW","11 août 2017","043008000001","CARTE SIM 4G FLYBOX","1","0,000","0","0,000",1,"0,000","Mobile"]
["ASLOGHM","11 août 2017","046002000034","CLE 3G E3531","2","78,000","0","0,000",2,"78,000","Mobile"]
["SIGHW","11 août 2017","043007000004","CARTE SIM 4G DATA MULTI SIM","1","14,000","0","0,000",1,"14,000","Mobile"]
["SIGHW","11 août 2017","043007000004","CARTE SIM 4G DATA MULTI SIM","1","5,000","0","0,000",1,"5,000","Mobile"]
["ASLOGHM","11 août 2017","043006000003","CARTE SIM 4G PRE MULTI SIM","5","25,000","0","0,000",5,"25,000","Mobile"]
["SIGHW","11 août 2017","188003000016","Modem Huawei HG532","1","0,000","0","0,000",1,"0,000","ADSL"]
["SIGHW","11 août 2017","085001000011","FLYBOX B310","1","0,000","0","0,000",1,"0,000","Mobile"]
["ASLOGHM","11 août 2017","043007000004","CARTE SIM 4G DATA MULTI SIM","2","0,000","0","0,000",2,"0,000","Mobile"]
["ASLOGHM","11 août 2017","043006000003","CARTE SIM 4G PRE MULTI SIM","2","6,000","0","0,000",2,"6,000","Mobile"]
["SIGHW","11 août 2017","043007000004","CARTE SIM 4G DATA MULTI SIM","2","0,000","0","0,000",2,"0,000","Mobile"]
["ABLOUNA","11 août 2017","188003000016","Modem Huawei HG532","1","0,000","0","0,000",1,"0,000","ADSL"]
["ABLOUNA","11 août 2017","043007000004","CARTE SIM 4G DATA MULTI SIM","1","30,000","0","0,000",1,"30,000","Mobile"]
["SIGHW","10 août 2017","P53327","Pack  - offre Pass","2","0,000","0","0,000",2,"0,000","Mobile"]
["SIGHW","10 août 2017","HYB29","Forfait clé 3G Access","1","0,000","0","0,000",1,"0,000","Mobile"]
["ABLOUNA","10 août 2017","044004000010","Recharge Express","50","55,000","0","0,000",50,"55,000","Mobile"]
["RIGRAIET","10 août 2017","PRE03","offre Simply","1","0,000","0","0,000",1,"0,000","Mobile"]
["RIGRAIET","10 août 2017","044004000010","Recharge Express","1","1,100","0","0,000",1,"1,100","Mobile"]
["ABLOUNA","10 août 2017","P59924"," Pack Sim data  - offre Simply- bonus internet 1Go- 1 mois","1","0,000","0","0,000",1,"0,000","Mobile"]
["ASLOGHM","10 août 2017","PRE10","offre Pass","4","0,000","0","0,000",4,"0,000","Mobile"]
["ASLOGHM","10 août 2017","044004000010","Recharge Express","10","11,000","0","0,000",10,"11,000","Mobile"]
["ASLOGHM","10 août 2017","PRE03","offre Simply","4","0,000","0","0,000",4,"0,000","Mobile"]
["SIGHW","10 août 2017","P3901","Pack de réengagement Forfait clé 3G Access remise 20%","1","0,000","0","0,000",1,"0,000","Mobile"]
["SIGHW","10 août 2017","HYB35","Flybox MAX","1","0,000","0","0,000",1,"0,000","Mobile"]
["ABLOUNA","10 août 2017","PRE17","3alami","1","0,000","0","0,000",1,"0,000","Mobile"]
["RIGRAIET","10 août 2017","P61147"," Pack AIRBOX 4G MW40 - offre Simply - bonus internet 7,5Go + illimit?? ","1","0,000","0","0,000",1,"0,000","Mobile"]
["ABLOUNA","10 août 2017","044004000010","Recharge Express","1","1,100","0","0,000",1,"1,100","Mobile"]
["ASLOGHM","10 août 2017","HYB13","Flybox home","1","0,000","0","0,000",1,"0,000","Mobile"]
["ABLOUNA","10 août 2017","P53287"," Clé 3G E3531 é?Offre Pass é? Bonus Internet 3Go - 1 mois      ","1","0,000","0","0,000",1,"0,000","Mobile"]
["RIGRAIET","10 août 2017","044004000010","Recharge Express","20","22,000","0","0,000",20,"22,000","Mobile"]
["ABLOUNA","10 août 2017","PRE13","Edawa5","1","0,000","0","0,000",1,"0,000","Mobile"]
["ASLOGHM","10 août 2017","PRE21","Melle5er","4","0,000","0","0,000",4,"0,000","Mobile"]
["SIGHW","10 août 2017","044004000010","Recharge Express","15","16,500","0","0,000",15,"16,500","Mobile"]
["RIGRAIET","10 août 2017","P59928"," Pack 2 mois - Flybox MAX - internet + voix","1","0,000","0","0,000",1,"0,000","Mobile"]
["SIGHW","10 août 2017","044004000010","Recharge Express","30","33,000","0","0,000",30,"33,000","Mobile"]
["ASLOGHM","10 août 2017","044004000010","Recharge Express","15","16,500","0","0,000",15,"16,500","Mobile"]
["ASLOGHM","10 août 2017","PRE13","Edawa5","2","0,000","0","0,000",2,"0,000","Mobile"]
["ASLOGHM","10 août 2017","P53327","Pack  - offre Pass","2","0,000","0","0,000",2,"0,000","Mobile"]
["ABLOUNA","10 août 2017","P62599"," Pack Cle 3G E3531 + Orange Wifi dock - offre Simply 25 Go","1","0,000","0","0,000",1,"0,000","Mobile"]
["ASLOGHM","10 août 2017","044004000010","Recharge Express","2","2,200","0","0,000",2,"2,200","Mobile"]
["ASLOGHM","10 août 2017","P3079"," Pack de réengagement Flybox remise 20%","1","0,000","0","0,000",1,"0,000","Mobile"]
["RIGRAIET","10 août 2017","ADV2","Avance 2 mois","1","58,000","0","0,000",1,"58,000","Mobile"]
["ABLOUNA","10 août 2017","044004000010","Recharge Express","24","26,400","0","0,000",24,"26,400","Mobile"]
["ASLOGHM","10 août 2017","P62599"," Pack Cle 3G E3531 + Orange Wifi dock - offre Simply 25 Go","1","0,000","0","0,000",1,"0,000","Mobile"]
["SIGHW","10 août 2017","ADV2","Avance 2 mois","1","58,000","0","0,000",1,"58,000","Mobile"]
["ASLOGHM","10 août 2017","P56567","Pack Sim data - offre Simply  7,5 Go + illimité","3","0,000","0","0,000",3,"0,000","Mobile"]
["RIGRAIET","10 août 2017","PRE10","offre Pass","3","0,000","0","0,000",3,"0,000","Mobile"]
["RIGRAIET","10 août 2017","P53327","Pack  - offre Pass","2","0,000","0","0,000",2,"0,000","Mobile"]
["SIGHW","10 août 2017","PRE13","Edawa5","6","0,000","0","0,000",6,"0,000","Mobile"]
["ASLOGHM","10 août 2017","P46890","PACK SIM DATA - 3G PASS - 1 MOIS","2","0,000","0","0,000",2,"0,000","Mobile"]
["ABLOUNA","10 août 2017","044004000010","Recharge Express","30","33,000","0","0,000",30,"33,000","Mobile"]
["SIGHW","10 août 2017","PRE03","offre Simply","2","0,000","0","0,000",2,"0,000","Mobile"]
["SIGHW","10 août 2017","P56567","Pack Sim data - offre Simply  7,5 Go + illimité","2","0,000","0","0,000",2,"0,000","Mobile"]
["RIGRAIET","10 août 2017","999100001003","SERVICE TRANSFERT CONTACT","1","3,000","0","0,000",1,"3,000","Mobile"]
["RIGRAIET","10 août 2017","P53287"," Clé 3G E3531 é?Offre Pass é? Bonus Internet 3Go - 1 mois      ","1","0,000","0","0,000",1,"0,000","Mobile"]
["RIGRAIET","10 août 2017","044004000010","Recharge Express","60","66,000","0","0,000",60,"66,000","Mobile"]
["RIGRAIET","10 août 2017","PRE21","Melle5er","5","0,000","0","0,000",5,"0,000","Mobile"]
["ASLOGHM","10 août 2017","044004000010","Recharge Express","36","39,600","0","0,000",36,"39,600","Mobile"]
["RIGRAIET","10 août 2017","HYB35","Flybox MAX","1","0,000","0","0,000",1,"0,000","Mobile"]
["SIGHW","10 août 2017","044004000010","Recharge Express","25","27,500","0","0,000",25,"27,500","Mobile"]
["RIGRAIET","10 août 2017","044004000010","Recharge Express","10","11,000","0","0,000",10,"11,000","Mobile"]
["ABLOUNA","10 août 2017","PRE10","offre Pass","1","0,000","0","0,000",1,"0,000","Mobile"]
["SIGHW","10 août 2017","POSA6","ADSL One","1","50,400","0","0,000",1,"50,400","ADSL"]
["SIGHW","10 août 2017","044004000010","Recharge Express","20","22,000","0","0,000",20,"22,000","Mobile"]
["SIGHW","10 août 2017","PRE24","Connecti","1","0,000","0","0,000",1,"0,000","Mobile"]
["SIGHW","10 août 2017","044004000010","Recharge Express","15","16,500","0","0,000",15,"16,500","Mobile"]
["SIGHW","10 août 2017","PRE10","offre Pass","3","0,000","0","0,000",3,"0,000","Mobile"]
["ABLOUNA","10 août 2017","044004000010","Recharge Express","45","49,500","0","0,000",45,"49,500","Mobile"]
["SIGHW","10 août 2017","999100001003","SERVICE TRANSFERT CONTACT","2","6,000","0","0,000",2,"6,000","Mobile"]
["ABLOUNA","10 août 2017","PRE21","Melle5er","5","0,000","0","0,000",5,"0,000","Mobile"]
["SIGHW","10 août 2017","PRE21","Melle5er","9","0,000","0","0,000",9,"0,000","Mobile"]
["SIGHW","10 août 2017","PRE17","3alami","4","0,000","0","0,000",4,"0,000","Mobile"]
["SIGHW","10 août 2017","P53287"," Clé 3G E3531 é?Offre Pass é? Bonus Internet 3Go - 1 mois      ","1","0,000","0","0,000",1,"0,000","Mobile"]
["SIGHW","10 août 2017","P59928"," Pack 2 mois - Flybox MAX - internet + voix","1","0,000","0","0,000",1,"0,000","Mobile"]
["ABLOUNA","10 août 2017","PRE03","offre Simply","2","0,000","0","0,000",2,"0,000","Mobile"]
["ABLOUNA","10 août 2017","044004000010","Recharge Express","2","2,200","0","0,000",2,"2,200","Mobile"]
["SIGHW","10 août 2017","188003000016","Modem Huawei HG532","1","0,000","0","0,000",1,"0,000","ADSL"]
["ASLOGHM","10 août 2017","043006000003","CARTE SIM 4G PRE MULTI SIM","1","3,000","0","0,000",1,"3,000","Mobile"]
["RIGRAIET","10 août 2017","043008000001","CARTE SIM 4G FLYBOX","1","0,000","0","0,000",1,"0,000","Mobile"]
["ABLOUNA","10 août 2017","043006000003","CARTE SIM 4G PRE MULTI SIM","2","10,000","0","0,000",2,"10,000","Mobile"]
["ABLOUNA","10 août 2017","043007000004","CARTE SIM 4G DATA MULTI SIM","1","0,000","0","0,000",1,"0,000","Mobile"]
["RIGRAIET","10 août 2017","046002000034","CLE 3G E3531","1","0,000","0","0,000",1,"0,000","Mobile"]
["RIGRAIET","10 août 2017","043006000003","CARTE SIM 4G PRE MULTI SIM","1","5,000","0","0,000",1,"5,000","Mobile"]
["ABLOUNA","10 août 2017","043006000003","CARTE SIM 4G PRE MULTI SIM","4","12,000","0","0,000",4,"12,000","Mobile"]
["ASLOGHM","10 août 2017","043007000004","CARTE SIM 4G DATA MULTI SIM","2","40,000","0","0,000",2,"40,000","Mobile"]
["ABLOUNA","10 août 2017","188003000016","Modem Huawei HG532","1","0,000","0","0,000",1,"0,000","ADSL"]
["SIGHW","10 août 2017","043007000004","CARTE SIM 4G DATA MULTI SIM","2","10,000","0","0,000",2,"10,000","Mobile"]
["RIGRAIET","10 août 2017","046002000056","AIRBOX 4G MW40","1","119,000","0","0,000",1,"119,000","Mobile"]
["ASLOGHM","10 août 2017","046002000034","CLE 3G E3531","1","39,000","0","0,000",1,"39,000","Mobile"]
["ASLOGHM","10 août 2017","047006000161","Orange Wifi dock","1","0,000","0","0,000",1,"0,000","Mobile"]
["ABLOUNA","10 août 2017","043007000004","CARTE SIM 4G DATA MULTI SIM","1","5,000","0","0,000",1,"5,000","Mobile"]
["ABLOUNA","10 août 2017","043006000003","CARTE SIM 4G PRE MULTI SIM","5","0,000","0","0,000",5,"0,000","Mobile"]
["RIGRAIET","10 août 2017","043006000003","CARTE SIM 4G PRE MULTI SIM","5","0,000","0","0,000",5,"0,000","Mobile"]
["ASLOGHM","10 août 2017","043006000003","CARTE SIM 4G PRE MULTI SIM","2","10,000","0","0,000",2,"10,000","Mobile"]
["ABLOUNA","10 août 2017","046002000034","CLE 3G E3531","1","39,000","0","0,000",1,"39,000","Mobile"]
["ABLOUNA","10 août 2017","047006000161","Orange Wifi dock","1","0,000","0","0,000",1,"0,000","Mobile"]
["SIGHW","10 août 2017","046002000034","CLE 3G E3531","1","0,000","0","0,000",1,"0,000","Mobile"]
["SIGHW","10 août 2017","043007000004","CARTE SIM 4G DATA MULTI SIM","1","14,000","0","0,000",1,"14,000","Mobile"]
["RIGRAIET","10 août 2017","085001000011","FLYBOX B310","1","0,000","0","0,000",1,"0,000","Mobile"]
["ABLOUNA","10 août 2017","046002000034","CLE 3G E3531","1","0,000","0","0,000",1,"0,000","Mobile"]
["ABLOUNA","10 août 2017","043007000004","CARTE SIM 4G DATA MULTI SIM","1","14,000","0","0,000",1,"14,000","Mobile"]
["ASLOGHM","10 août 2017","043006000003","CARTE SIM 4G PRE MULTI SIM","4","0,000","0","0,000",4,"0,000","Mobile"]
["RIGRAIET","10 août 2017","043007000004","CARTE SIM 4G DATA MULTI SIM","1","0,000","0","0,000",1,"0,000","Mobile"]
["RIGRAIET","10 août 2017","043007000004","CARTE SIM 4G DATA MULTI SIM","1","14,000","0","0,000",1,"14,000","Mobile"]
["ASLOGHM","10 août 2017","043007000004","CARTE SIM 4G DATA MULTI SIM","3","90,000","0","0,000",3,"90,000","Mobile"]
["SIGHW","10 août 2017","043007000004","CARTE SIM 4G DATA MULTI SIM","2","60,000","0","0,000",2,"60,000","Mobile"]
["SIGHW","10 août 2017","043006000003","CARTE SIM 4G PRE MULTI SIM","17","0,000","0","0,000",17,"0,000","Mobile"]
["RIGRAIET","10 août 2017","043006000003","CARTE SIM 4G PRE MULTI SIM","1","3,000","0","0,000",1,"3,000","Mobile"]
["RIGRAIET","10 août 2017","043007000004","CARTE SIM 4G DATA MULTI SIM","2","10,000","0","0,000",2,"10,000","Mobile"]
["ASLOGHM","10 août 2017","043007000004","CARTE SIM 4G DATA MULTI SIM","2","10,000","0","0,000",2,"10,000","Mobile"]
["SIGHW","10 août 2017","043008000001","CARTE SIM 4G FLYBOX","1","0,000","0","0,000",1,"0,000","Mobile"]
["SIGHW","10 août 2017","085001000011","FLYBOX B310","1","0,000","0","0,000",1,"0,000","Mobile"]
["ASLOGHM","10 août 2017","043007000004","CARTE SIM 4G DATA MULTI SIM","1","0,000","0","0,000",1,"0,000","Mobile"]
["SIGHW","10 août 2017","043006000003","CARTE SIM 4G PRE MULTI SIM","5","25,000","0","0,000",5,"25,000","Mobile"]
["RIGRAIET","10 août 2017","083025001003","SERVICOM EASY 3 BLEU","1","39,900","0","0,000",1,"39,900","Mobile"]
["SIGHW","9 août 2017","044004000010","Recharge Express","35","38,500","0","0,000",35,"38,500","Mobile"]
["RIGRAIET","9 août 2017","044004000010","Recharge Express","12","13,200","0","0,000",12,"13,200","Mobile"]
["ABLOUNA","9 août 2017","044004000010","Recharge Express","30","33,000","0","0,000",30,"33,000","Mobile"]
["SIGHW","9 août 2017","P53327","Pack  - offre Pass","4","0,000","0","0,000",4,"0,000","Mobile"]
["RIGRAIET","9 août 2017","PRE10","offre Pass","1","0,000","0","0,000",1,"0,000","Mobile"]
["ABLOUNA","9 août 2017","044004000010","Recharge Express","25","27,500","0","0,000",25,"27,500","Mobile"]
["RIGRAIET","9 août 2017","P61590"," Pack DOMINO E5220 WHITE - offre Simply 7,5Go + bonus 17,5Go","1","0,000","0","0,000",1,"0,000","Mobile"]
["SIGHW","9 août 2017","044004000010","Recharge Express","20","22,000","0","0,000",20,"22,000","Mobile"]
["RIGRAIET","9 août 2017","P53327","Pack  - offre Pass","1","0,000","0","0,000",1,"0,000","Mobile"]
["ASLOGHM","9 août 2017","P56567","Pack Sim data - offre Simply  7,5 Go + illimité","1","0,000","0","0,000",1,"0,000","Mobile"]
["RIGRAIET","9 août 2017","PRE03","offre Simply","1","0,000","0","0,000",1,"0,000","Mobile"]
["ABLOUNA","9 août 2017","PRE21","Melle5er","3","0,000","0","0,000",3,"0,000","Mobile"]
["ASLOGHM","9 août 2017","PRE21","Melle5er","4","0,000","0","0,000",4,"0,000","Mobile"]
["SIGHW","9 août 2017","044004000010","Recharge Express","10","11,000","0","0,000",10,"11,000","Mobile"]
["SIGHW","9 août 2017","PRE10","offre Pass","4","0,000","0","0,000",4,"0,000","Mobile"]
["SIGHW","9 août 2017","P62599"," Pack Cle 3G E3531 + Orange Wifi dock - offre Simply 25 Go","1","0,000","0","0,000",1,"0,000","Mobile"]
["ASLOGHM","9 août 2017","044004000010","Recharge Express","40","44,000","0","0,000",40,"44,000","Mobile"]
["SIGHW","9 août 2017","044004000010","Recharge Express","24","26,400","0","0,000",24,"26,400","Mobile"]
["RIGRAIET","9 août 2017","PRE12","Boouj","1","0,000","0","0,000",1,"0,000","Mobile"]
["RIGRAIET","9 août 2017","044004000010","Recharge Express","50","55,000","0","0,000",50,"55,000","Mobile"]
["SIGHW","9 août 2017","PRE21","Melle5er","6","0,000","0","0,000",6,"0,000","Mobile"]
["ABLOUNA","9 août 2017","PRE03","offre Simply","2","0,000","0","0,000",2,"0,000","Mobile"]
["ABLOUNA","9 août 2017","P56567","Pack Sim data - offre Simply  7,5 Go + illimité","2","0,000","0","0,000",2,"0,000","Mobile"]
["ASLOGHM","9 août 2017","044004000010","Recharge Express","10","11,000","0","0,000",10,"11,000","Mobile"]
["ABLOUNA","9 août 2017","044004000010","Recharge Express","10","11,000","0","0,000",10,"11,000","Mobile"]
["SIGHW","9 août 2017","PRE03","offre Simply","1","0,000","0","0,000",1,"0,000","Mobile"]
["ABLOUNA","9 août 2017","044004000010","Recharge Express","5","5,500","0","0,000",5,"5,500","Mobile"]
["ASLOGHM","9 août 2017","P53327","Pack  - offre Pass","1","0,000","0","0,000",1,"0,000","Mobile"]
["RIGRAIET","9 août 2017","P61615"," Pack NOKIA 3310 BLEU - Boouj","1","0,000","0","0,000",1,"0,000","Mobile"]
["RIGRAIET","9 août 2017","POSA2","ADSL HOME","1","178,600","0","0,000",1,"178,600","ADSL"]
["RIGRAIET","9 août 2017","044004000010","Recharge Express","3","3,300","0","0,000",3,"3,300","Mobile"]
["RIGRAIET","9 août 2017","044004000010","Recharge Express","30","33,000","0","0,000",30,"33,000","Mobile"]
["RIGRAIET","9 août 2017","PRE21","Melle5er","3","0,000","0","0,000",3,"0,000","Mobile"]
["ASLOGHM","9 août 2017","PRE10","offre Pass","1","0,000","0","0,000",1,"0,000","Mobile"]
["ASLOGHM","9 août 2017","044004000010","Recharge Express","24","26,400","0","0,000",24,"26,400","Mobile"]
["ASLOGHM","9 août 2017","PRE03","offre Simply","1","0,000","0","0,000",1,"0,000","Mobile"]
["ASLOGHM","9 août 2017","043007000004","CARTE SIM 4G DATA MULTI SIM","1","30,000","0","0,000",1,"30,000","Mobile"]
["RIGRAIET","9 août 2017","188003000016","Modem Huawei HG532","2","0,000","0","0,000",2,"0,000","ADSL"]
["ASLOGHM","9 août 2017","043006000003","CARTE SIM 4G PRE MULTI SIM","2","10,000","0","0,000",2,"10,000","Mobile"]
["ASLOGHM","9 août 2017","043006000003","CARTE SIM 4G PRE MULTI SIM","2","0,000","0","0,000",2,"0,000","Mobile"]
["ABLOUNA","9 août 2017","043006000003","CARTE SIM 4G PRE MULTI SIM","3","15,000","0","0,000",3,"15,000","Mobile"]
["RIGRAIET","9 août 2017","043006000003","CARTE SIM 4G PRE MULTI SIM","3","9,000","0","0,000",3,"9,000","Mobile"]
["RIGRAIET","9 août 2017","045003051001","NOKIA 3310 BLEU","1","139,000","0","0,000",1,"139,000","Mobile"]
["ABLOUNA","9 août 2017","043006000003","CARTE SIM 4G PRE MULTI SIM","1","3,000","0","0,000",1,"3,000","Mobile"]
["RIGRAIET","9 août 2017","046002000060","DOMINO E5220 WHITE","1","45,000","0","0,000",1,"45,000","Mobile"]
["SIGHW","9 août 2017","046002000034","CLE 3G E3531","1","39,000","0","0,000",1,"39,000","Mobile"]
["SIGHW","9 août 2017","047006000161","Orange Wifi dock","1","0,000","0","0,000",1,"0,000","Mobile"]
["ASLOGHM","9 août 2017","043007000004","CARTE SIM 4G DATA MULTI SIM","1","5,000","0","0,000",1,"5,000","Mobile"]
["SIGHW","9 août 2017","043006000003","CARTE SIM 4G PRE MULTI SIM","6","0,000","0","0,000",6,"0,000","Mobile"]
["SIGHW","9 août 2017","043007000004","CARTE SIM 4G DATA MULTI SIM","4","20,000","0","0,000",4,"20,000","Mobile"]
["RIGRAIET","9 août 2017","043006000003","CARTE SIM 4G PRE MULTI SIM","4","0,000","0","0,000",4,"0,000","Mobile"]
["SIGHW","9 août 2017","043007000004","CARTE SIM 4G DATA MULTI SIM","1","0,000","0","0,000",1,"0,000","Mobile"]
["RIGRAIET","9 août 2017","043007000004","CARTE SIM 4G DATA MULTI SIM","1","0,000","0","0,000",1,"0,000","Mobile"]
["RIGRAIET","9 août 2017","043007000004","CARTE SIM 4G DATA MULTI SIM","1","5,000","0","0,000",1,"5,000","Mobile"]
["ABLOUNA","9 août 2017","043007000004","CARTE SIM 4G DATA MULTI SIM","2","60,000","0","0,000",2,"60,000","Mobile"]
["ASLOGHM","8 août 2017","PRE23","El Jam3ia Mobile","2","0,000","0","0,000",2,"0,000","Mobile"]
["SIGHW","8 août 2017","P62430"," Pack NOKIA 3 DS Matte Black - forfait mix 50 - 12 mois  - Avance 2 mois","1","0,000","0","0,000",1,"0,000","Mobile"]
["RIGRAIET","8 août 2017","044004000010","Recharge Express","10","11,000","0","0,000",10,"11,000","Mobile"]
["ABLOUNA","8 août 2017","P59928"," Pack 2 mois - Flybox MAX - internet + voix","1","0,000","0","0,000",1,"0,000","Mobile"]
["ASLOGHM","8 août 2017","044004000010","Recharge Express","10","11,000","0","0,000",10,"11,000","Mobile"]
["ASLOGHM","8 août 2017","044004000010","Recharge Express","12","13,200","0","0,000",12,"13,200","Mobile"]
["ASLOGHM","8 août 2017","PRE03","offre Simply","3","0,000","0","0,000",3,"0,000","Mobile"]
["ASLOGHM","8 août 2017","PRE21","Melle5er","3","0,000","0","0,000",3,"0,000","Mobile"]
["ASLOGHM","8 août 2017","PRE17","3alami","2","0,000","0","0,000",2,"0,000","Mobile"]
["RIGRAIET","8 août 2017","044004000010","Recharge Express","24","26,400","0","0,000",24,"26,400","Mobile"]
["SIGHW","8 août 2017","HYB03","forfait mix 50","1","0,000","0","0,000",1,"0,000","Mobile"]
["SIGHW","8 août 2017","044004000010","Recharge Express","25","27,500","0","0,000",25,"27,500","Mobile"]
["ABLOUNA","8 août 2017","HYB35","Flybox MAX","1","0,000","0","0,000",1,"0,000","Mobile"]
["ABLOUNA","8 août 2017","PRE23","El Jam3ia Mobile","3","0,000","0","0,000",3,"0,000","Mobile"]
["ASLOGHM","8 août 2017","PRE10","offre Pass","2","0,000","0","0,000",2,"0,000","Mobile"]
["ASLOGHM","8 août 2017","P53327","Pack  - offre Pass","1","0,000","0","0,000",1,"0,000","Mobile"]
["SIGHW","8 août 2017","P56567","Pack Sim data - offre Simply  7,5 Go + illimité","1","0,000","0","0,000",1,"0,000","Mobile"]
["SIGHW","8 août 2017","PRE03","offre Simply","3","0,000","0","0,000",3,"0,000","Mobile"]
["SIGHW","8 août 2017","044004000010","Recharge Express","25","27,500","0","0,000",25,"27,500","Mobile"]
["RIGRAIET","8 août 2017","P51409"," Pack CLE 4G E3372H - CLE 4G E3372H-CARTE SIM 4G DATA MULTI SIM-Forfait clé 3G Intense - 12 mois ","1","0,000","0","0,000",1,"0,000","Mobile"]
["RIGRAIET","8 août 2017","PRE21","Melle5er","3","0,000","0","0,000",3,"0,000","Mobile"]
["RIGRAIET","8 août 2017","044004000010","Recharge Express","10","11,000","0","0,000",10,"11,000","Mobile"]
["RIGRAIET","8 août 2017","HYB12","Forfait clé 3G Intense","1","0,000","0","0,000",1,"0,000","Mobile"]
["SIGHW","8 août 2017","044004000010","Recharge Express","20","22,000","0","0,000",20,"22,000","Mobile"]
["ABLOUNA","8 août 2017","044004000010","Recharge Express","20","22,000","0","0,000",20,"22,000","Mobile"]
["ABLOUNA","8 août 2017","PRE17","3alami","1","0,000","0","0,000",1,"0,000","Mobile"]
["ABLOUNA","8 août 2017","044004000010","Recharge Express","7","7,700","0","0,000",7,"7,700","Mobile"]
["SIGHW","8 août 2017","044004000010","Recharge Express","30","33,000","0","0,000",30,"33,000","Mobile"]
["SIGHW","8 août 2017","PRE24","Connecti","1","0,000","0","0,000",1,"0,000","Mobile"]
["RIGRAIET","8 août 2017","999100001003","SERVICE TRANSFERT CONTACT","1","3,000","0","0,000",1,"3,000","Mobile"]
["RIGRAIET","8 août 2017","PRE10","offre Pass","2","0,000","0","0,000",2,"0,000","Mobile"]
["RIGRAIET","8 août 2017","P53327","Pack  - offre Pass","1","0,000","0","0,000",1,"0,000","Mobile"]
["SIGHW","8 août 2017","P61148"," Pack SERVICOM EASY MINI 3 BLACK RED - Melle5er","1","0,000","0","0,000",1,"0,000","Mobile"]
["ABLOUNA","8 août 2017","P56567","Pack Sim data - offre Simply  7,5 Go + illimité","1","0,000","0","0,000",1,"0,000","Mobile"]
["ASLOGHM","8 août 2017","P53287"," Clé 3G E3531 é?Offre Pass é? Bonus Internet 3Go - 1 mois      ","1","0,000","0","0,000",1,"0,000","Mobile"]
["RIGRAIET","8 août 2017","P46890","PACK SIM DATA - 3G PASS - 1 MOIS","1","0,000","0","0,000",1,"0,000","Mobile"]
["SIGHW","8 août 2017","P61590"," Pack DOMINO E5220 WHITE - offre Simply 7,5Go + bonus 17,5Go","2","0,000","0","0,000",2,"0,000","Mobile"]
["ASLOGHM","8 août 2017","044004000010","Recharge Express","60","66,000","0","0,000",60,"66,000","Mobile"]
["SIGHW","8 août 2017","ADV2","Avance 2 mois","1","110,000","0","0,000",1,"110,000","Mobile"]
["ABLOUNA","8 août 2017","044004000010","Recharge Express","10","9,320","0","0,000",10,"9,320","Mobile"]
["ASLOGHM","8 août 2017","044004000010","Recharge Express","40","44,000","0","0,000",40,"44,000","Mobile"]
["ABLOUNA","8 août 2017","PRE03","offre Simply","1","0,000","0","0,000",1,"0,000","Mobile"]
["ABLOUNA","8 août 2017","044004000010","Recharge Express","25","27,500","0","0,000",25,"27,500","Mobile"]
["ABLOUNA","8 août 2017","044004000010","Recharge Express","18","19,800","0","0,000",18,"19,800","Mobile"]
["SIGHW","8 août 2017","PRE21","Melle5er","7","0,000","0","0,000",7,"0,000","Mobile"]
["SIGHW","8 août 2017","PRE10","offre Pass","4","0,000","0","0,000",4,"0,000","Mobile"]
["SIGHW","8 août 2017","P53327","Pack  - offre Pass","3","0,000","0","0,000",3,"0,000","Mobile"]
["ABLOUNA","8 août 2017","PRE21","Melle5er","1","0,000","0","0,000",1,"0,000","Mobile"]
["ASLOGHM","8 août 2017","P56567","Pack Sim data - offre Simply  7,5 Go + illimité","2","0,000","0","0,000",2,"0,000","Mobile"]
["ASLOGHM","8 août 2017","044004000010","Recharge Express","10","11,000","0","0,000",10,"11,000","Mobile"]
["SIGHW","8 août 2017","999100001003","SERVICE TRANSFERT CONTACT","2","6,000","0","0,000",2,"6,000","Mobile"]
["ABLOUNA","8 août 2017","ADV2","Avance 2 mois","1","58,000","0","0,000",1,"58,000","Mobile"]
["ASLOGHM","8 août 2017","P61590"," Pack DOMINO E5220 WHITE - offre Simply 7,5Go + bonus 17,5Go","1","0,000","0","0,000",1,"0,000","Mobile"]
["SIGHW","8 août 2017","P53287"," Clé 3G E3531 é?Offre Pass é? Bonus Internet 3Go - 1 mois      ","1","0,000","0","0,000",1,"0,000","Mobile"]
["ABLOUNA","8 août 2017","044004000010","Recharge Express","9","9,900","0","0,000",9,"9,900","Mobile"]
["ASLOGHM","8 août 2017","PRE13","Edawa5","1","0,000","0","0,000",1,"0,000","Mobile"]
["RIGRAIET","8 août 2017","PRE03","offre Simply","1","0,000","0","0,000",1,"0,000","Mobile"]
["RIGRAIET","8 août 2017","P61590"," Pack DOMINO E5220 WHITE - offre Simply 7,5Go + bonus 17,5Go","1","0,000","0","0,000",1,"0,000","Mobile"]
["RIGRAIET","8 août 2017","043007000004","CARTE SIM 4G DATA MULTI SIM","2","0,000","0","0,000",2,"0,000","Mobile"]
["ABLOUNA","8 août 2017","043006000003","CARTE SIM 4G PRE MULTI SIM","3","9,000","0","0,000",3,"9,000","Mobile"]
["SIGHW","8 août 2017","083025001001","SERVICOM EASY 3 BLACK RED","1","33,000","0","0,000",1,"33,000","Mobile"]
["ABLOUNA","8 août 2017","043008000001","CARTE SIM 4G FLYBOX","1","0,000","0","0,000",1,"0,000","Mobile"]
["SIGHW","8 août 2017","043007000004","CARTE SIM 4G DATA MULTI SIM","2","0,000","0","0,000",2,"0,000","Mobile"]
["SIGHW","8 août 2017","083003015001","NOKIA 3 DS Matte Black","1","199,000","0","0,000",1,"199,000","Mobile"]
["ASLOGHM","8 août 2017","043007000004","CARTE SIM 4G DATA MULTI SIM","1","14,000","0","0,000",1,"14,000","Mobile"]
["SIGHW","8 août 2017","046002000034","CLE 3G E3531","1","0,000","0","0,000",1,"0,000","Mobile"]
["ABLOUNA","8 août 2017","085001000011","FLYBOX B310","1","0,000","0","0,000",1,"0,000","Mobile"]
["ASLOGHM","8 août 2017","043001000114","CARTE PREACTIVEE VD","2","6,000","0","0,000",2,"6,000","Mobile"]
["SIGHW","8 août 2017","043007000004","CARTE SIM 4G DATA MULTI SIM","1","30,000","0","0,000",1,"30,000","Mobile"]
["ASLOGHM","8 août 2017","043006000003","CARTE SIM 4G PRE MULTI SIM","3","9,000","0","0,000",3,"9,000","Mobile"]
["SIGHW","8 août 2017","043007000004","CARTE SIM 4G DATA MULTI SIM","1","14,000","0","0,000",1,"14,000","Mobile"]
["RIGRAIET","8 août 2017","043006000003","CARTE SIM 4G PRE MULTI SIM","3","0,000","0","0,000",3,"0,000","Mobile"]
["ABLOUNA","8 août 2017","043001000114","CARTE PREACTIVEE VD","3","9,000","0","0,000",3,"9,000","Mobile"]
["SIGHW","8 août 2017","043007000004","CARTE SIM 4G DATA MULTI SIM","3","15,000","0","0,000",3,"15,000","Mobile"]
["SIGHW","8 août 2017","043006000003","CARTE SIM 4G PRE MULTI SIM","9","0,000","0","0,000",9,"0,000","Mobile"]
["ASLOGHM","8 août 2017","043006000003","CARTE SIM 4G PRE MULTI SIM","4","20,000","0","0,000",4,"20,000","Mobile"]
["SIGHW","8 août 2017","043006000003","CARTE SIM 4G PRE MULTI SIM","2","10,000","0","0,000",2,"10,000","Mobile"]
["RIGRAIET","8 août 2017","043007000004","CARTE SIM 4G DATA MULTI SIM","1","5,000","0","0,000",1,"5,000","Mobile"]
["SIGHW","8 août 2017","046002000060","DOMINO E5220 WHITE","2","90,000","0","0,000",2,"90,000","Mobile"]
["RIGRAIET","8 août 2017","046002000041","CLE 4G E3372H","1","0,000","0","0,000",1,"0,000","Mobile"]
["ASLOGHM","8 août 2017","043006000003","CARTE SIM 4G PRE MULTI SIM","4","0,000","0","0,000",4,"0,000","Mobile"]
["ASLOGHM","8 août 2017","043007000004","CARTE SIM 4G DATA MULTI SIM","1","5,000","0","0,000",1,"5,000","Mobile"]
["ABLOUNA","8 août 2017","043006000003","CARTE SIM 4G PRE MULTI SIM","2","10,000","0","0,000",2,"10,000","Mobile"]
["ASLOGHM","8 août 2017","043007000004","CARTE SIM 4G DATA MULTI SIM","1","0,000","0","0,000",1,"0,000","Mobile"]
["ASLOGHM","8 août 2017","043007000004","CARTE SIM 4G DATA MULTI SIM","2","60,000","0","0,000",2,"60,000","Mobile"]
["ASLOGHM","8 août 2017","046002000034","CLE 3G E3531","1","0,000","0","0,000",1,"0,000","Mobile"]
["ABLOUNA","8 août 2017","043007000004","CARTE SIM 4G DATA MULTI SIM","1","30,000","0","0,000",1,"30,000","Mobile"]
["RIGRAIET","8 août 2017","046002000060","DOMINO E5220 WHITE","1","45,000","0","0,000",1,"45,000","Mobile"]
["RIGRAIET","8 août 2017","043006000003","CARTE SIM 4G PRE MULTI SIM","1","5,000","0","0,000",1,"5,000","Mobile"]
["RIGRAIET","8 août 2017","043006000003","CARTE SIM 4G PRE MULTI SIM","1","3,000","0","0,000",1,"3,000","Mobile"]
["ASLOGHM","8 août 2017","046002000060","DOMINO E5220 WHITE","1","45,000","0","0,000",1,"45,000","Mobile"]
["SIGHW","8 août 2017","043006000003","CARTE SIM 4G PRE MULTI SIM","2","6,000","0","0,000",2,"6,000","Mobile"]
["RIGRAIET","8 août 2017","043007000004","CARTE SIM 4G DATA MULTI SIM","1","20,000","0","0,000",1,"20,000","Mobile"]
["ASLOGHM","7 août 2017","P4049","Pack Réengagement - forfait mix 20 - injection 1 Go - 12 mois ","1","0,000","0","0,000",1,"0,000","Mobile"]
["ASLOGHM","7 août 2017","044004000010","Recharge Express","12","13,200","0","0,000",12,"13,200","Mobile"]
["ABLOUNA","7 août 2017","PRE23","El Jam3ia Mobile","3","0,000","0","0,000",3,"0,000","Mobile"]
["SIGHW","7 août 2017","P53327","Pack  - offre Pass","6","0,000","0","0,000",6,"0,000","Mobile"]
["ASLOGHM","7 août 2017","P53327","Pack  - offre Pass","2","0,000","0","0,000",2,"0,000","Mobile"]
["RIGRAIET","7 août 2017","PRE03","offre Simply","2","0,000","0","0,000",2,"0,000","Mobile"]
["ASLOGHM","7 août 2017","HYB35","Flybox MAX","2","0,000","0","0,000",2,"0,000","Mobile"]
["RIGRAIET","7 août 2017","P62599"," Pack Cle 3G E3531 + Orange Wifi dock - offre Simply 25 Go","1","0,000","0","0,000",1,"0,000","Mobile"]
["RIGRAIET","7 août 2017","044004000010","Recharge Express","10","11,000","0","0,000",10,"11,000","Mobile"]
["RIGRAIET","7 août 2017","044004000010","Recharge Express","60","66,000","0","0,000",60,"66,000","Mobile"]
["ASLOGHM","7 août 2017","044004000010","Recharge Express","25","27,500","0","0,000",25,"27,500","Mobile"]
["SIGHW","7 août 2017","PRE21","Melle5er","9","0,000","0","0,000",9,"0,000","Mobile"]
["ASLOGHM","7 août 2017","044004000010","Recharge Express","25","27,500","0","0,000",25,"27,500","Mobile"]
["ASLOGHM","7 août 2017","ADV2","Avance 2 mois","2","116,000","0","0,000",2,"116,000","Mobile"]
["ABLOUNA","7 août 2017","PRE03","offre Simply","3","0,000","0","0,000",3,"0,000","Mobile"]
["SIGHW","7 août 2017","044004000010","Recharge Express","15","16,500","0","0,000",15,"16,500","Mobile"]
["RIGRAIET","7 août 2017","PRE10","offre Pass","1","0,000","0","0,000",1,"0,000","Mobile"]
["SIGHW","7 août 2017","ADV1","Avance 1 mois","1","22,000","0","0,000",1,"22,000","Mobile"]
["SIGHW","7 août 2017","HYB30","forfait mix 20","1","0,000","0","0,000",1,"0,000","Mobile"]
["RIGRAIET","7 août 2017","044004000010","Recharge Express","20","22,000","0","0,000",20,"22,000","Mobile"]
["ABLOUNA","7 août 2017","044004000010","Recharge Express","15","16,500","0","0,000",15,"16,500","Mobile"]
["ASLOGHM","7 août 2017","PRE10","offre Pass","2","0,000","0","0,000",2,"0,000","Mobile"]
["ASLOGHM","7 août 2017","PRE03","offre Simply","1","0,000","0","0,000",1,"0,000","Mobile"]
["RIGRAIET","7 août 2017","044004000010","Recharge Express","6","6,600","0","0,000",6,"6,600","Mobile"]
["SIGHW","7 août 2017","PRE23","El Jam3ia Mobile","2","0,000","0","0,000",2,"0,000","Mobile"]
["SIGHW","7 août 2017","044004000010","Recharge Express","20","22,000","0","0,000",20,"22,000","Mobile"]
["SIGHW","7 août 2017","044004000010","Recharge Express","10","11,000","0","0,000",10,"11,000","Mobile"]
["ASLOGHM","7 août 2017","P59928"," Pack 2 mois - Flybox MAX - internet + voix","2","0,000","0","0,000",2,"0,000","Mobile"]
["SIGHW","7 août 2017","044004000010","Recharge Express","120","132,000","0","0,000",120,"132,000","Mobile"]
["SIGHW","7 août 2017","044004000010","Recharge Express","2","2,200","0","0,000",2,"2,200","Mobile"]
["RIGRAIET","7 août 2017","PRE19","Zen Plus","1","0,000","0","0,000",1,"0,000","Mobile"]
["RIGRAIET","7 août 2017","P53327","Pack  - offre Pass","1","0,000","0","0,000",1,"0,000","Mobile"]
["RIGRAIET","7 août 2017","044004000010","Recharge Express","3","3,300","0","0,000",3,"3,300","Mobile"]
["ASLOGHM","7 août 2017","044004000010","Recharge Express","20","22,000","0","0,000",20,"22,000","Mobile"]
["SIGHW","7 août 2017","PRE10","offre Pass","6","0,000","0","0,000",6,"0,000","Mobile"]
["SIGHW","7 août 2017","PRE17","3alami","2","0,000","0","0,000",2,"0,000","Mobile"]
["ASLOGHM","7 août 2017","P56567","Pack Sim data - offre Simply  7,5 Go + illimité","1","0,000","0","0,000",1,"0,000","Mobile"]
["RIGRAIET","7 août 2017","P56567","Pack Sim data - offre Simply  7,5 Go + illimité","1","0,000","0","0,000",1,"0,000","Mobile"]
["ASLOGHM","7 août 2017","PRE13","Edawa5","1","0,000","0","0,000",1,"0,000","Mobile"]
["ABLOUNA","7 août 2017","044004000010","Recharge Express","24","26,400","0","0,000",24,"26,400","Mobile"]
["ASLOGHM","7 août 2017","044004000010","Recharge Express","2","2,200","0","0,000",2,"2,200","Mobile"]
["RIGRAIET","7 août 2017","044004000010","Recharge Express","10","11,000","0","0,000",10,"11,000","Mobile"]
["SIGHW","7 août 2017","P60308"," Pack TECNO N9 WHITE -  forfait mix 20  -  12 mois   -  Avance 1 mois","1","0,000","0","0,000",1,"0,000","Mobile"]
["RIGRAIET","7 août 2017","POSA2","ADSL HOME","1","125,900","0","0,000",1,"125,900","ADSL"]
["RIGRAIET","7 août 2017","PRE21","Melle5er","6","0,000","0","0,000",6,"0,000","Mobile"]
["SIGHW","7 août 2017","044004000010","Recharge Express","45","49,500","0","0,000",45,"49,500","Mobile"]
["ASLOGHM","7 août 2017","PRE21","Melle5er","10","0,000","0","0,000",10,"0,000","Mobile"]
["ABLOUNA","7 août 2017","P61590"," Pack DOMINO E5220 WHITE - offre Simply 7,5Go + bonus 17,5Go","1","0,000","0","0,000",1,"0,000","Mobile"]
["SIGHW","7 août 2017","044004000010","Recharge Express","12","13,200","0","0,000",12,"13,200","Mobile"]
["SIGHW","7 août 2017","999100001003","SERVICE TRANSFERT CONTACT","3","9,000","0","0,000",3,"9,000","Mobile"]
["ASLOGHM","7 août 2017","POSA2","ADSL HOME","1","125,900","0","0,000",1,"125,900","ADSL"]
["ASLOGHM","7 août 2017","HYB30","forfait mix 20","1","0,000","0","0,000",1,"0,000","Mobile"]
["ABLOUNA","7 août 2017","044004000010","Recharge Express","10","11,000","0","0,000",10,"11,000","Mobile"]
["ASLOGHM","7 août 2017","044004000010","Recharge Express","20","22,000","0","0,000",20,"22,000","Mobile"]
["ABLOUNA","7 août 2017","P56567","Pack Sim data - offre Simply  7,5 Go + illimité","2","0,000","0","0,000",2,"0,000","Mobile"]
["SIGHW","7 août 2017","044004000010","Recharge Express","50","55,000","0","0,000",50,"55,000","Mobile"]
["SIGHW","7 août 2017","045019001002","TECNO N9 WHITE","1","159,000","0","0,000",1,"159,000","Mobile"]
["RIGRAIET","7 août 2017","043007000004","CARTE SIM 4G DATA MULTI SIM","1","5,000","0","0,000",1,"5,000","Mobile"]
["ASLOGHM","7 août 2017","043007000004","CARTE SIM 4G DATA MULTI SIM","2","10,000","0","0,000",2,"10,000","Mobile"]
["RIGRAIET","7 août 2017","043007000004","CARTE SIM 4G DATA MULTI SIM","1","0,000","0","0,000",1,"0,000","Mobile"]
["SIGHW","7 août 2017","043006000003","CARTE SIM 4G PRE MULTI SIM","10","0,000","0","0,000",10,"0,000","Mobile"]
["ASLOGHM","7 août 2017","085001000011","FLYBOX B310","2","0,000","0","0,000",2,"0,000","Mobile"]
["ABLOUNA","7 août 2017","043001000114","CARTE PREACTIVEE VD","3","9,000","0","0,000",3,"9,000","Mobile"]
["ASLOGHM","7 août 2017","043006000003","CARTE SIM 4G PRE MULTI SIM","1","3,000","0","0,000",1,"3,000","Mobile"]
["RIGRAIET","7 août 2017","046002000034","CLE 3G E3531","1","39,000","0","0,000",1,"39,000","Mobile"]
["RIGRAIET","7 août 2017","043006000003","CARTE SIM 4G PRE MULTI SIM","3","15,000","0","0,000",3,"15,000","Mobile"]
["RIGRAIET","7 août 2017","043006000003","CARTE SIM 4G PRE MULTI SIM","5","0,000","0","0,000",5,"0,000","Mobile"]
["ABLOUNA","7 août 2017","043006000003","CARTE SIM 4G PRE MULTI SIM","2","6,000","0","0,000",2,"6,000","Mobile"]
["ABLOUNA","7 août 2017","043006000003","CARTE SIM 4G PRE MULTI SIM","1","2,540","0","0,000",1,"2,540","Mobile"]
["ABLOUNA","7 août 2017","046002000060","DOMINO E5220 WHITE","1","45,000","0","0,000",1,"45,000","Mobile"]
["ABLOUNA","7 août 2017","043007000004","CARTE SIM 4G DATA MULTI SIM","1","0,000","0","0,000",1,"0,000","Mobile"]
["SIGHW","7 août 2017","043006000003","CARTE SIM 4G PRE MULTI SIM","5","25,000","0","0,000",5,"25,000","Mobile"]
["ASLOGHM","7 août 2017","188003000016","Modem Huawei HG532","1","0,000","0","0,000",1,"0,000","ADSL"]
["ASLOGHM","7 août 2017","043006000003","CARTE SIM 4G PRE MULTI SIM","7","0,000","0","0,000",7,"0,000","Mobile"]
["ABLOUNA","7 août 2017","043007000004","CARTE SIM 4G DATA MULTI SIM","2","60,000","0","0,000",2,"60,000","Mobile"]
["RIGRAIET","7 août 2017","043007000004","CARTE SIM 4G DATA MULTI SIM","1","30,000","0","0,000",1,"30,000","Mobile"]
["ASLOGHM","7 août 2017","043007000004","CARTE SIM 4G DATA MULTI SIM","1","30,000","0","0,000",1,"30,000","Mobile"]
["ASLOGHM","7 août 2017","043006000003","CARTE SIM 4G PRE MULTI SIM","4","20,000","0","0,000",4,"20,000","Mobile"]
["RIGRAIET","7 août 2017","188003000016","Modem Huawei HG532","1","0,000","0","0,000",1,"0,000","ADSL"]
["RIGRAIET","7 août 2017","047006000161","Orange Wifi dock","1","0,000","0","0,000",1,"0,000","Mobile"]
["RIGRAIET","7 août 2017","043006000003","CARTE SIM 4G PRE MULTI SIM","2","6,000","0","0,000",2,"6,000","Mobile"]
["SIGHW","7 août 2017","043007000004","CARTE SIM 4G DATA MULTI SIM","6","30,000","0","0,000",6,"30,000","Mobile"]
["ASLOGHM","7 août 2017","043008000001","CARTE SIM 4G FLYBOX","2","0,000","0","0,000",2,"0,000","Mobile"]
["SIGHW","7 août 2017","043006000003","CARTE SIM 4G PRE MULTI SIM","3","9,000","0","0,000",3,"9,000","Mobile"]
["ABLOUNA","7 août 2017","043007000004","CARTE SIM 4G DATA MULTI SIM","1","3,000","0","0,000",1,"3,000","Mobile"]
["SIGHW","7 août 2017","043001000114","CARTE PREACTIVEE VD","2","6,000","0","0,000",2,"6,000","Mobile"]
["SIGHW","5 août 2017","P61391"," Pack HUAWEI Y3_II BLACK - forfait mix 20 - 12 mois  - Avance 1 mois","1","0,000","0","0,000",1,"0,000","Mobile"]
["ASLOGHM","5 août 2017","P61590"," Pack DOMINO E5220 WHITE - offre Simply 7,5Go + bonus 17,5Go","1","0,000","0","0,000",1,"0,000","Mobile"]
["SIGHW","5 août 2017","HYB12","Forfait clé 3G Intense","1","0,000","0","0,000",1,"0,000","Mobile"]
["ABLOUNA","5 août 2017","PRE23","El Jam3ia Mobile","7","0,000","0","0,000",7,"0,000","Mobile"]
["ABLOUNA","5 août 2017","P56567","Pack Sim data - offre Simply  7,5 Go + illimité","2","0,000","0","0,000",2,"0,000","Mobile"]
["SIGHW","5 août 2017","044004000010","Recharge Express","25","27,500","0","0,000",25,"27,500","Mobile"]
["ASLOGHM","5 août 2017","044004000010","Recharge Express","20","22,000","0","0,000",20,"22,000","Mobile"]
["ASLOGHM","5 août 2017","P62599"," Pack Cle 3G E3531 + Orange Wifi dock - offre Simply 25 Go","1","0,000","0","0,000",1,"0,000","Mobile"]
["SIGHW","5 août 2017","ADV2","Avance 2 mois","1","110,000","0","0,000",1,"110,000","Mobile"]
["ABLOUNA","5 août 2017","PRE03","offre Simply","5","0,000","0","0,000",5,"0,000","Mobile"]
["ABLOUNA","5 août 2017","P61590"," Pack DOMINO E5220 WHITE - offre Simply 7,5Go + bonus 17,5Go","2","0,000","0","0,000",2,"0,000","Mobile"]
["ASLOGHM","5 août 2017","PRE03","offre Simply","3","0,000","0","0,000",3,"0,000","Mobile"]
["ASLOGHM","5 août 2017","044004000010","Recharge Express","12","13,200","0","0,000",12,"13,200","Mobile"]
["SIGHW","5 août 2017","P61148"," Pack SERVICOM EASY MINI 3 BLACK RED - Melle5er","1","0,000","0","0,000",1,"0,000","Mobile"]
["ASLOGHM","5 août 2017","PRE10","offre Pass","1","0,000","0","0,000",1,"0,000","Mobile"]
["ASLOGHM","5 août 2017","P53327","Pack  - offre Pass","1","0,000","0","0,000",1,"0,000","Mobile"]
["ABLOUNA","5 août 2017","PRE21","Melle5er","2","0,000","0","0,000",2,"0,000","Mobile"]
["ABLOUNA","5 août 2017","P59924"," Pack Sim data  - offre Simply- bonus internet 1Go- 1 mois","1","0,000","0","0,000",1,"0,000","Mobile"]
["SIGHW","5 août 2017","POSA6","ADSL One","1","50,400","0","0,000",1,"50,400","ADSL"]
["SIGHW","5 août 2017","999100001003","SERVICE TRANSFERT CONTACT","1","3,000","0","0,000",1,"3,000","Mobile"]
["ASLOGHM","5 août 2017","P56567","Pack Sim data - offre Simply  7,5 Go + illimité","1","0,000","0","0,000",1,"0,000","Mobile"]
["SIGHW","5 août 2017","P61427","Pack SAMSUNG J7 Prime 4G GOLD -  forfait mix 50  -  12 mois   -  Avance 2 mois","1","0,000","0","0,000",1,"0,000","Mobile"]
["ASLOGHM","5 août 2017","044004000010","Recharge Express","15","16,500","0","0,000",15,"16,500","Mobile"]
["SIGHW","5 août 2017","ADV1","Avance 1 mois","1","22,000","0","0,000",1,"22,000","Mobile"]
["ASLOGHM","5 août 2017","PRE21","Melle5er","3","0,000","0","0,000",3,"0,000","Mobile"]
["SIGHW","5 août 2017","PRE13","Edawa5","1","0,000","0","0,000",1,"0,000","Mobile"]
["ABLOUNA","5 août 2017","PRE17","3alami","2","0,000","0","0,000",2,"0,000","Mobile"]
["ASLOGHM","5 août 2017","044004000010","Recharge Express","60","66,000","0","0,000",60,"66,000","Mobile"]
["ABLOUNA","5 août 2017","044004000010","Recharge Express","15","16,500","0","0,000",15,"16,500","Mobile"]
["ABLOUNA","5 août 2017","044004000010","Recharge Express","30","33,000","0","0,000",30,"33,000","Mobile"]
["ABLOUNA","5 août 2017","044004000010","Recharge Express","3","3,300","0","0,000",3,"3,300","Mobile"]
["SIGHW","5 août 2017","ADV1","Avance 1 mois","1","25,000","0","0,000",1,"25,000","Mobile"]
["ASLOGHM","5 août 2017","044004000010","Recharge Express","60","66,000","0","0,000",60,"66,000","Mobile"]
["SIGHW","5 août 2017","HYB03","forfait mix 50","1","0,000","0","0,000",1,"0,000","Mobile"]
["SIGHW","5 août 2017","044004000010","Recharge Express","12","13,200","0","0,000",12,"13,200","Mobile"]
["ABLOUNA","5 août 2017","044004000010","Recharge Express","25","27,500","0","0,000",25,"27,500","Mobile"]
["SIGHW","5 août 2017","044004000010","Recharge Express","1","1,100","0","0,000",1,"1,100","Mobile"]
["ASLOGHM","5 août 2017","044004000010","Recharge Express","9","9,900","0","0,000",9,"9,900","Mobile"]
["SIGHW","5 août 2017","PRE03","offre Simply","1","0,000","0","0,000",1,"0,000","Mobile"]
["SIGHW","5 août 2017","P62599"," Pack Cle 3G E3531 + Orange Wifi dock - offre Simply 25 Go","1","0,000","0","0,000",1,"0,000","Mobile"]
["SIGHW","5 août 2017","HYB30","forfait mix 20","1","0,000","0","0,000",1,"0,000","Mobile"]
["SIGHW","5 août 2017","044004000010","Recharge Express","20","22,000","0","0,000",20,"22,000","Mobile"]
["SIGHW","5 août 2017","PRE21","Melle5er","3","0,000","0","0,000",3,"0,000","Mobile"]
["SIGHW","5 août 2017","P60641"," Pack Orange TAB 7 _ 4G NOIR - Forfait cl?? 3G Intense - 12 mois  - Avance 1 mois","1","0,000","0","0,000",1,"0,000","Mobile"]
["ABLOUNA","5 août 2017","044004000010","Recharge Express","30","33,000","0","0,000",30,"33,000","Mobile"]
["ASLOGHM","5 août 2017","043007000004","CARTE SIM 4G DATA MULTI SIM","2","0,000","0","0,000",2,"0,000","Mobile"]
["ASLOGHM","5 août 2017","043006000003","CARTE SIM 4G PRE MULTI SIM","3","0,000","0","0,000",3,"0,000","Mobile"]
["ASLOGHM","5 août 2017","043007000004","CARTE SIM 4G DATA MULTI SIM","1","5,000","0","0,000",1,"5,000","Mobile"]
["ABLOUNA","5 août 2017","043001000114","CARTE PREACTIVEE VD","7","21,000","0","0,000",7,"21,000","Mobile"]
["ABLOUNA","5 août 2017","043007000004","CARTE SIM 4G DATA MULTI SIM","1","5,000","0","0,000",1,"5,000","Mobile"]
["ABLOUNA","5 août 2017","043006000003","CARTE SIM 4G PRE MULTI SIM","3","15,000","0","0,000",3,"15,000","Mobile"]
["ABLOUNA","5 août 2017","043006000003","CARTE SIM 4G PRE MULTI SIM","5","15,000","0","0,000",5,"15,000","Mobile"]
["ABLOUNA","5 août 2017","043007000004","CARTE SIM 4G DATA MULTI SIM","2","0,000","0","0,000",2,"0,000","Mobile"]
["SIGHW","5 août 2017","047006000161","Orange Wifi dock","1","0,000","0","0,000",1,"0,000","Mobile"]
["SIGHW","5 août 2017","043006000003","CARTE SIM 4G PRE MULTI SIM","6","0,000","0","0,000",6,"0,000","Mobile"]
["ASLOGHM","5 août 2017","043007000004","CARTE SIM 4G DATA MULTI SIM","1","30,000","0","0,000",1,"30,000","Mobile"]
["ASLOGHM","5 août 2017","043006000003","CARTE SIM 4G PRE MULTI SIM","2","10,000","0","0,000",2,"10,000","Mobile"]
["SIGHW","5 août 2017","043006000003","CARTE SIM 4G PRE MULTI SIM","1","5,000","0","0,000",1,"5,000","Mobile"]
["ABLOUNA","5 août 2017","043007000004","CARTE SIM 4G DATA MULTI SIM","2","60,000","0","0,000",2,"60,000","Mobile"]
["SIGHW","5 août 2017","046002000034","CLE 3G E3531","1","39,000","0","0,000",1,"39,000","Mobile"]
["SIGHW","5 août 2017","079001000057","Orange TAB 7 - 4G NOIR","1","149,000","0","0,000",1,"149,000","Mobile"]
["SIGHW","5 août 2017","083001053002","SAMSUNG J7 Prime 4G GOLD","1","649,000","0","0,000",1,"649,000","Mobile"]
["ASLOGHM","5 août 2017","043006000003","CARTE SIM 4G PRE MULTI SIM","4","12,000","0","0,000",4,"12,000","Mobile"]
["SIGHW","5 août 2017","188003000016","Modem Huawei HG532","2","0,000","0","0,000",2,"0,000","ADSL"]
["ABLOUNA","5 août 2017","046002000060","DOMINO E5220 WHITE","2","90,000","0","0,000",2,"90,000","Mobile"]
["SIGHW","5 août 2017","083025001001","SERVICOM EASY 3 BLACK RED","1","33,000","0","0,000",1,"33,000","Mobile"]
["SIGHW","5 août 2017","045013018001","HUAWEI Y3-II BLACK","1","159,000","0","0,000",1,"159,000","Mobile"]
["SIGHW","5 août 2017","043007000004","CARTE SIM 4G DATA MULTI SIM","2","0,000","0","0,000",2,"0,000","Mobile"]
["ASLOGHM","5 août 2017","046002000034","CLE 3G E3531","1","39,000","0","0,000",1,"39,000","Mobile"]
["ASLOGHM","5 août 2017","047006000161","Orange Wifi dock","1","0,000","0","0,000",1,"0,000","Mobile"]
["ABLOUNA","5 août 2017","043006000003","CARTE SIM 4G PRE MULTI SIM","1","0,000","0","0,000",1,"0,000","Mobile"]
["ASLOGHM","5 août 2017","046002000060","DOMINO E5220 WHITE","1","45,000","0","0,000",1,"45,000","Mobile"]
["SIGHW","4 août 2017","PRE21","Melle5er","9","0,000","0","0,000",9,"0,000","Mobile"]
["ABLOUNA","4 août 2017","PRE03","offre Simply","5","0,000","0","0,000",5,"0,000","Mobile"]
["ASLOGHM","4 août 2017","PRE03","offre Simply","1","0,000","0","0,000",1,"0,000","Mobile"]
["SIGHW","4 août 2017","P53327","Pack  - offre Pass","3","0,000","0","0,000",3,"0,000","Mobile"]
["ASLOGHM","4 août 2017","044004000010","Recharge Express","35","38,500","0","0,000",35,"38,500","Mobile"]
["ASLOGHM","4 août 2017","044004000010","Recharge Express","9","9,900","0","0,000",9,"9,900","Mobile"]
["ASLOGHM","4 août 2017","P61590"," Pack DOMINO E5220 WHITE - offre Simply 7,5Go + bonus 17,5Go","1","0,000","0","0,000",1,"0,000","Mobile"]
["SIGHW","4 août 2017","P61216"," Pack SAMSUNG A3 2017 BLUE - Forfait mix 100 -  12 mois   -  Avance 2 mois","1","0,000","0","0,000",1,"0,000","Mobile"]
["SIGHW","4 août 2017","P61590"," Pack DOMINO E5220 WHITE - offre Simply 7,5Go + bonus 17,5Go","2","0,000","0","0,000",2,"0,000","Mobile"]
["ABLOUNA","4 août 2017","047006000255","SANGLE PVC PORTABLE","1","2,200","0","0,000",1,"2,200","Mobile"]
["ASLOGHM","4 août 2017","044004000010","Recharge Express","60","66,000","0","0,000",60,"66,000","Mobile"]
["ABLOUNA","4 août 2017","044004000010","Recharge Express","30","33,000","0","0,000",30,"33,000","Mobile"]
["ASLOGHM","4 août 2017","044004000010","Recharge Express","30","33,000","0","0,000",30,"33,000","Mobile"]
["ASLOGHM","4 août 2017","P46890","PACK SIM DATA - 3G PASS - 1 MOIS","1","0,000","0","0,000",1,"0,000","Mobile"]
["ASLOGHM","4 août 2017","044004000010","Recharge Express","25","27,500","0","0,000",25,"27,500","Mobile"]
["ASLOGHM","4 août 2017","044004000010","Recharge Express","3","3,300","0","0,000",3,"3,300","Mobile"]
["ABLOUNA","4 août 2017","P56567","Pack Sim data - offre Simply  7,5 Go + illimité","2","0,000","0","0,000",2,"0,000","Mobile"]
["SIGHW","4 août 2017","ADV2","Avance 2 mois","1","220,000","0","0,000",1,"220,000","Mobile"]
["ABLOUNA","4 août 2017","PRE10","offre Pass","1","0,000","0","0,000",1,"0,000","Mobile"]
["ABLOUNA","4 août 2017","P61590"," Pack DOMINO E5220 WHITE - offre Simply 7,5Go + bonus 17,5Go","3","0,000","0","0,000",3,"0,000","Mobile"]
["SIGHW","4 août 2017","044004000010","Recharge Express","20","22,000","0","0,000",20,"22,000","Mobile"]
["ABLOUNA","4 août 2017","HYB35","Flybox MAX","1","0,000","0","0,000",1,"0,000","Mobile"]
["SIGHW","4 août 2017","HYB31","Top du Top","1","0,000","0","0,000",1,"0,000","Mobile"]
["SIGHW","4 août 2017","P59469"," Pack Top du Top Convention 50 HUAWEI Y6_II BLACK - 24 mois ","1","0,000","0","0,000",1,"0,000","Mobile"]
["SIGHW","4 août 2017","HYB01","forfait mix 15","1","0,000","0","0,000",1,"0,000","Mobile"]
["ASLOGHM","4 août 2017","PRE21","Melle5er","5","0,000","0","0,000",5,"0,000","Mobile"]
["ASLOGHM","4 août 2017","PRE10","offre Pass","3","0,000","0","0,000",3,"0,000","Mobile"]
["ASLOGHM","4 août 2017","P53327","Pack  - offre Pass","2","0,000","0","0,000",2,"0,000","Mobile"]
["ABLOUNA","4 août 2017","044004000010","Recharge Express","40","44,000","0","0,000",40,"44,000","Mobile"]
["SIGHW","4 août 2017","PRE17","3alami","1","0,000","0","0,000",1,"0,000","Mobile"]
["ABLOUNA","4 août 2017","044004000010","Recharge Express","12","13,200","0","0,000",12,"13,200","Mobile"]
["ABLOUNA","4 août 2017","ADV2","Avance 2 mois","1","58,000","0","0,000",1,"58,000","Mobile"]
["ABLOUNA","4 août 2017","P59928"," Pack 2 mois - Flybox MAX - internet + voix","1","0,000","0","0,000",1,"0,000","Mobile"]
["SIGHW","4 août 2017","PRE03","offre Simply","3","0,000","0","0,000",3,"0,000","Mobile"]
["SIGHW","4 août 2017","P4048","Pack Réengagement - forfait mix 15 - injection 1 Go - 12 mois","1","0,000","0","0,000",1,"0,000","Mobile"]
["ABLOUNA","4 août 2017","PRE23","El Jam3ia Mobile","3","0,000","0","0,000",3,"0,000","Mobile"]
["SIGHW","4 août 2017","PRE24","Connecti","1","0,000","0","0,000",1,"0,000","Mobile"]
["ABLOUNA","4 août 2017","PRE17","3alami","1","0,000","0","0,000",1,"0,000","Mobile"]
["SIGHW","4 août 2017","044004000010","Recharge Express","30","33,000","0","0,000",30,"33,000","Mobile"]
["SIGHW","4 août 2017","PRE10","offre Pass","3","0,000","0","0,000",3,"0,000","Mobile"]
["SIGHW","4 août 2017","999100001003","SERVICE TRANSFERT CONTACT","3","9,000","0","0,000",3,"9,000","Mobile"]
["ABLOUNA","4 août 2017","044004000010","Recharge Express","8","8,800","0","0,000",8,"8,800","Mobile"]
["ASLOGHM","4 août 2017","044004000010","Recharge Express","40","44,000","0","0,000",40,"44,000","Mobile"]
["SIGHW","4 août 2017","HYB07","modele de contrat together","4","0,000","0","0,000",4,"0,000","Mobile"]
["SIGHW","4 août 2017","999100002001","ASSURANCE CASSE","1","0,000","0","0,000",1,"0,000","Mobile"]
["ASLOGHM","4 août 2017","PRE17","3alami","5","0,000","0","0,000",5,"0,000","Mobile"]
["SIGHW","4 août 2017","P56567","Pack Sim data - offre Simply  7,5 Go + illimité","1","0,000","0","0,000",1,"0,000","Mobile"]
["ABLOUNA","4 août 2017","P50759","Pack Clé 4G - Offre Pass - Bonus internet 5 Go- 2 mois","1","0,000","0","0,000",1,"0,000","Mobile"]
["ABLOUNA","4 août 2017","044004000010","Recharge Express","22","24,200","0","0,000",22,"24,200","Mobile"]
["ABLOUNA","4 août 2017","PRE21","Melle5er","2","0,000","0","0,000",2,"0,000","Mobile"]
["SIGHW","4 août 2017","HYB32","Forfait mix 100","1","0,000","0","0,000",1,"0,000","Mobile"]
["ABLOUNA","4 août 2017","043006000003","CARTE SIM 4G PRE MULTI SIM","4","12,000","0","0,000",4,"12,000","Mobile"]
["ASLOGHM","4 août 2017","043006000003","CARTE SIM 4G PRE MULTI SIM","7","35,000","0","0,000",7,"35,000","Mobile"]
["ABLOUNA","4 août 2017","043006000003","CARTE SIM 4G PRE MULTI SIM","3","0,000","0","0,000",3,"0,000","Mobile"]
["ABLOUNA","4 août 2017","043007000004","CARTE SIM 4G DATA MULTI SIM","3","0,000","0","0,000",3,"0,000","Mobile"]
["SIGHW","4 août 2017","045013024001","HUAWEI HUAWEI Y6-II BLACK","1","0,000","0","0,000",1,"0,000","Mobile"]
["ABLOUNA","4 août 2017","046002000060","DOMINO E5220 WHITE","3","135,000","0","0,000",3,"135,000","Mobile"]
["SIGHW","4 août 2017","046002000060","DOMINO E5220 WHITE","2","90,000","0","0,000",2,"90,000","Mobile"]
["SIGHW","4 août 2017","043006000007","CARTE SIM 4G POST MULTI SIM","4","0,000","0","0,000",4,"0,000","Mobile"]
["SIGHW","4 août 2017","043006000003","CARTE SIM 4G PRE MULTI SIM","14","0,000","0","0,000",14,"0,000","Mobile"]
["SIGHW","4 août 2017","043006000003","CARTE SIM 4G PRE MULTI SIM","3","15,000","0","0,000",3,"15,000","Mobile"]
["ABLOUNA","4 août 2017","043001000114","CARTE PREACTIVEE VD","3","9,000","0","0,000",3,"9,000","Mobile"]
["ABLOUNA","4 août 2017","043007000004","CARTE SIM 4G DATA MULTI SIM","1","40,000","0","0,000",1,"40,000","Mobile"]
["ABLOUNA","4 août 2017","043008000001","CARTE SIM 4G FLYBOX","1","0,000","0","0,000",1,"0,000","Mobile"]
["ASLOGHM","4 août 2017","046002000060","DOMINO E5220 WHITE","1","45,000","0","0,000",1,"45,000","Mobile"]
["ASLOGHM","4 août 2017","043007000004","CARTE SIM 4G DATA MULTI SIM","1","0,000","0","0,000",1,"0,000","Mobile"]
["ASLOGHM","4 août 2017","043007000004","CARTE SIM 4G DATA MULTI SIM","1","20,000","0","0,000",1,"20,000","Mobile"]
["ASLOGHM","4 août 2017","043006000003","CARTE SIM 4G PRE MULTI SIM","4","12,000","0","0,000",4,"12,000","Mobile"]
["SIGHW","4 août 2017","043007000004","CARTE SIM 4G DATA MULTI SIM","1","30,000","0","0,000",1,"30,000","Mobile"]
["ABLOUNA","4 août 2017","043007000004","CARTE SIM 4G DATA MULTI SIM","2","60,000","0","0,000",2,"60,000","Mobile"]
["SIGHW","4 août 2017","043007000004","CARTE SIM 4G DATA MULTI SIM","3","15,000","0","0,000",3,"15,000","Mobile"]
["ABLOUNA","4 août 2017","046002000041","CLE 4G E3372H","1","0,000","0","0,000",1,"0,000","Mobile"]
["SIGHW","4 août 2017","043007000004","CARTE SIM 4G DATA MULTI SIM","2","0,000","0","0,000",2,"0,000","Mobile"]
["ASLOGHM","4 août 2017","043007000004","CARTE SIM 4G DATA MULTI SIM","2","10,000","0","0,000",2,"10,000","Mobile"]
["ASLOGHM","4 août 2017","043006000003","CARTE SIM 4G PRE MULTI SIM","3","0,000","0","0,000",3,"0,000","Mobile"]
["ABLOUNA","4 août 2017","085001000011","FLYBOX B310","1","0,000","0","0,000",1,"0,000","Mobile"]
["SIGHW","4 août 2017","083001051004","SAMSUNG A3 2017 BLUE","1","599,000","0","0,000",1,"599,000","Mobile"]
["ABLOUNA","3 août 2017","P61590"," Pack DOMINO E5220 WHITE - offre Simply 7,5Go + bonus 17,5Go","5","0,000","0","0,000",5,"0,000","Mobile"]
["SIGHW","3 août 2017","P56567","Pack Sim data - offre Simply  7,5 Go + illimité","1","0,000","0","0,000",1,"0,000","Mobile"]
["ASLOGHM","3 août 2017","PRE10","offre Pass","3","0,000","0","0,000",3,"0,000","Mobile"]
["SIGHW","3 août 2017","044004000010","Recharge Express","1","1,100","0","0,000",1,"1,100","Mobile"]
["ASLOGHM","3 août 2017","044004000010","Recharge Express","12","13,200","0","0,000",12,"13,200","Mobile"]
["ABLOUNA","3 août 2017","P56567","Pack Sim data - offre Simply  7,5 Go + illimité","2","0,000","0","0,000",2,"0,000","Mobile"]
["ABLOUNA","3 août 2017","044004000010","Recharge Express","5","5,500","0","0,000",5,"5,500","Mobile"]
["SIGHW","3 août 2017","PRE10","offre Pass","3","0,000","0","0,000",3,"0,000","Mobile"]
["ABLOUNA","3 août 2017","044004000010","Recharge Express","4","4,400","0","0,000",4,"4,400","Mobile"]
["ASLOGHM","3 août 2017","044004000010","Recharge Express","2","2,200","0","0,000",2,"2,200","Mobile"]
["SIGHW","3 août 2017","HYB35","Flybox MAX","1","0,000","0","0,000",1,"0,000","Mobile"]
["ASLOGHM","3 août 2017","PRE21","Melle5er","3","0,000","0","0,000",3,"0,000","Mobile"]
["ABLOUNA","3 août 2017","044004000010","Recharge Express","10","11,000","0","0,000",10,"11,000","Mobile"]
["ABLOUNA","3 août 2017","044004000010","Recharge Express","7","7,700","0","0,000",7,"7,700","Mobile"]
["SIGHW","3 août 2017","P50759","Pack Clé 4G - Offre Pass - Bonus internet 5 Go- 2 mois","1","0,000","0","0,000",1,"0,000","Mobile"]
["ASLOGHM","3 août 2017","P53327","Pack  - offre Pass","2","0,000","0","0,000",2,"0,000","Mobile"]
["SIGHW","3 août 2017","044004000010","Recharge Express","40","44,000","0","0,000",40,"44,000","Mobile"]
["ABLOUNA","3 août 2017","PRE21","Melle5er","1","0,000","0","0,000",1,"0,000","Mobile"]
["ASLOGHM","3 août 2017","P53287"," Clé 3G E3531 é?Offre Pass é? Bonus Internet 3Go - 1 mois      ","1","0,000","0","0,000",1,"0,000","Mobile"]
["SIGHW","3 août 2017","ADV2","Avance 2 mois","1","58,000","0","0,000",1,"58,000","Mobile"]
["SIGHW","3 août 2017","PRE21","Melle5er","11","0,000","0","0,000",11,"0,000","Mobile"]
["SIGHW","3 août 2017","P53327","Pack  - offre Pass","2","0,000","0","0,000",2,"0,000","Mobile"]
["SIGHW","3 août 2017","PRE17","3alami","2","0,000","0","0,000",2,"0,000","Mobile"]
["ASLOGHM","3 août 2017","PRE17","3alami","2","0,000","0","0,000",2,"0,000","Mobile"]
["SIGHW","3 août 2017","PRE13","Edawa5","3","0,000","0","0,000",3,"0,000","Mobile"]
["ASLOGHM","3 août 2017","P61147"," Pack AIRBOX 4G MW40 - offre Simply - bonus internet 7,5Go + illimit?? ","1","0,000","0","0,000",1,"0,000","Mobile"]
["ASLOGHM","3 août 2017","044004000010","Recharge Express","4","4,400","0","0,000",4,"4,400","Mobile"]
["ASLOGHM","3 août 2017","HYB01","forfait mix 15","1","0,000","0","0,000",1,"0,000","Mobile"]
["ASLOGHM","3 août 2017","PRE03","offre Simply","1","0,000","0","0,000",1,"0,000","Mobile"]
["ABLOUNA","3 août 2017","PRE17","3alami","1","0,000","0","0,000",1,"0,000","Mobile"]
["SIGHW","3 août 2017","P59928"," Pack 2 mois - Flybox MAX - internet + voix","1","0,000","0","0,000",1,"0,000","Mobile"]
["ASLOGHM","3 août 2017","ADV1","Avance 1 mois","1","16,500","0","0,000",1,"16,500","Mobile"]
["ASLOGHM","3 août 2017","P49112","Pack  - forfait mix 15 - 12 mois  - Avance 1 mois","1","0,000","0","0,000",1,"0,000","Mobile"]
["SIGHW","3 août 2017","044004000010","Recharge Express","80","88,000","0","0,000",80,"88,000","Mobile"]
["ABLOUNA","3 août 2017","PRE23","El Jam3ia Mobile","2","0,000","0","0,000",2,"0,000","Mobile"]
["SIGHW","3 août 2017","POSA6","ADSL One","1","379,300","0","0,000",1,"379,300","ADSL"]
["ABLOUNA","3 août 2017","PRE24","Connecti","1","0,000","0","0,000",1,"0,000","Mobile"]
["SIGHW","3 août 2017","PRE03","offre Simply","1","0,000","0","0,000",1,"0,000","Mobile"]
["SIGHW","3 août 2017","044004000010","Recharge Express","2","2,200","0","0,000",2,"2,200","Mobile"]
["ASLOGHM","3 août 2017","044004000010","Recharge Express","22","24,200","0","0,000",22,"24,200","Mobile"]
["SIGHW","3 août 2017","999100001003","SERVICE TRANSFERT CONTACT","2","6,000","0","0,000",2,"6,000","Mobile"]
["ABLOUNA","3 août 2017","PRE03","offre Simply","7","0,000","0","0,000",7,"0,000","Mobile"]
["SIGHW","3 août 2017","044004000010","Recharge Express","20","22,000","0","0,000",20,"22,000","Mobile"]
["SIGHW","3 août 2017","044004000010","Recharge Express","30","33,000","0","0,000",30,"33,000","Mobile"]
["ASLOGHM","3 août 2017","044004000010","Recharge Express","10","11,000","0","0,000",10,"11,000","Mobile"]
["ASLOGHM","3 août 2017","043006000003","CARTE SIM 4G PRE MULTI SIM","2","6,000","0","0,000",2,"6,000","Mobile"]
["SIGHW","3 août 2017","085001000011","FLYBOX B310","1","0,000","0","0,000",1,"0,000","Mobile"]
["ASLOGHM","3 août 2017","043007000004","CARTE SIM 4G DATA MULTI SIM","1","14,000","0","0,000",1,"14,000","Mobile"]
["ASLOGHM","3 août 2017","043007000004","CARTE SIM 4G DATA MULTI SIM","2","10,000","0","0,000",2,"10,000","Mobile"]
["ABLOUNA","3 août 2017","043007000004","CARTE SIM 4G DATA MULTI SIM","5","0,000","0","0,000",5,"0,000","Mobile"]
["SIGHW","3 août 2017","043007000004","CARTE SIM 4G DATA MULTI SIM","1","40,000","0","0,000",1,"40,000","Mobile"]
["ASLOGHM","3 août 2017","043007000004","CARTE SIM 4G DATA MULTI SIM","1","3,000","0","0,000",1,"3,000","Mobile"]
["ASLOGHM","3 août 2017","043007000004","CARTE SIM 4G DATA MULTI SIM","1","0,000","0","0,000",1,"0,000","Mobile"]
["ABLOUNA","3 août 2017","043006000003","CARTE SIM 4G PRE MULTI SIM","5","15,000","0","0,000",5,"15,000","Mobile"]
["ABLOUNA","3 août 2017","043006000003","CARTE SIM 4G PRE MULTI SIM","1","5,000","0","0,000",1,"5,000","Mobile"]
["ASLOGHM","3 août 2017","046002000034","CLE 3G E3531","1","0,000","0","0,000",1,"0,000","Mobile"]
["ASLOGHM","3 août 2017","043006000003","CARTE SIM 4G PRE MULTI SIM","1","5,000","0","0,000",1,"5,000","Mobile"]
["ASLOGHM","3 août 2017","043006000003","CARTE SIM 4G PRE MULTI SIM","5","0,000","0","0,000",5,"0,000","Mobile"]
["SIGHW","3 août 2017","043006000003","CARTE SIM 4G PRE MULTI SIM","13","0,000","0","0,000",13,"0,000","Mobile"]
["SIGHW","3 août 2017","046002000041","CLE 4G E3372H","1","0,000","0","0,000",1,"0,000","Mobile"]
["SIGHW","3 août 2017","043006000003","CARTE SIM 4G PRE MULTI SIM","3","9,000","0","0,000",3,"9,000","Mobile"]
["ASLOGHM","3 août 2017","046002000056","AIRBOX 4G MW40","1","119,000","0","0,000",1,"119,000","Mobile"]
["SIGHW","3 août 2017","043007000004","CARTE SIM 4G DATA MULTI SIM","2","10,000","0","0,000",2,"10,000","Mobile"]
["SIGHW","3 août 2017","043006000003","CARTE SIM 4G PRE MULTI SIM","7","35,000","0","0,000",7,"35,000","Mobile"]
["ABLOUNA","3 août 2017","043006000003","CARTE SIM 4G PRE MULTI SIM","2","0,000","0","0,000",2,"0,000","Mobile"]
["ABLOUNA","3 août 2017","043001000114","CARTE PREACTIVEE VD","2","6,000","0","0,000",2,"6,000","Mobile"]
["SIGHW","3 août 2017","043008000001","CARTE SIM 4G FLYBOX","1","0,000","0","0,000",1,"0,000","Mobile"]
["ABLOUNA","3 août 2017","046002000060","DOMINO E5220 WHITE","5","225,000","0","0,000",5,"225,000","Mobile"]
["SIGHW","3 août 2017","043007000004","CARTE SIM 4G DATA MULTI SIM","1","30,000","0","0,000",1,"30,000","Mobile"]
["SIGHW","3 août 2017","188003000016","Modem Huawei HG532","1","0,000","0","0,000",1,"0,000","ADSL"]
["ABLOUNA","3 août 2017","043007000004","CARTE SIM 4G DATA MULTI SIM","2","60,000","0","0,000",2,"60,000","Mobile"]
["ASLOGHM","2 août 2017","P61590"," Pack DOMINO E5220 WHITE - offre Simply 7,5Go + bonus 17,5Go","1","0,000","0","0,000",1,"0,000","Mobile"]
["ABLOUNA","2 août 2017","044004000010","Recharge Express","7","7,700","0","0,000",7,"7,700","Mobile"]
["SIGHW","2 août 2017","044004000010","Recharge Express","10","11,000","0","0,000",10,"11,000","Mobile"]
["ABLOUNA","2 août 2017","POSA2","ADSL HOME","1","125,900","0","0,000",1,"125,900","ADSL"]
["SIGHW","2 août 2017","P61376"," Pack ORANGE IT 2110 - Melle5er","1","0,000","0","0,000",1,"0,000","Mobile"]
["ABLOUNA","2 août 2017","044004000010","Recharge Express","1","1,100","0","0,000",1,"1,100","Mobile"]
["ASLOGHM","2 août 2017","044004000010","Recharge Express","2","2,200","0","0,000",2,"2,200","Mobile"]
["ABLOUNA","2 août 2017","PRE13","Edawa5","1","0,000","0","0,000",1,"0,000","Mobile"]
["ASLOGHM","2 août 2017","PRE21","Melle5er","7","0,000","0","0,000",7,"0,000","Mobile"]
["ABLOUNA","2 août 2017","044004000010","Recharge Express","20","22,000","0","0,000",20,"22,000","Mobile"]
["SIGHW","2 août 2017","PRE10","offre Pass","4","0,000","0","0,000",4,"0,000","Mobile"]
["ASLOGHM","2 août 2017","P53287"," Clé 3G E3531 é?Offre Pass é? Bonus Internet 3Go - 1 mois      ","1","0,000","0","0,000",1,"0,000","Mobile"]
["SIGHW","2 août 2017","P61590"," Pack DOMINO E5220 WHITE - offre Simply 7,5Go + bonus 17,5Go","1","0,000","0","0,000",1,"0,000","Mobile"]
["ASLOGHM","2 août 2017","PRE10","offre Pass","3","0,000","0","0,000",3,"0,000","Mobile"]
["ABLOUNA","2 août 2017","PRE03","offre Simply","4","0,000","0","0,000",4,"0,000","Mobile"]
["SIGHW","2 août 2017","PRE21","Melle5er","5","0,000","0","0,000",5,"0,000","Mobile"]
["ASLOGHM","2 août 2017","044004000010","Recharge Express","24","26,400","0","0,000",24,"26,400","Mobile"]
["ABLOUNA","2 août 2017","P56567","Pack Sim data - offre Simply  7,5 Go + illimité","3","0,000","0","0,000",3,"0,000","Mobile"]
["ABLOUNA","2 août 2017","044004000010","Recharge Express","24","26,400","0","0,000",24,"26,400","Mobile"]
["SIGHW","2 août 2017","044004000010","Recharge Express","15","16,500","0","0,000",15,"16,500","Mobile"]
["SIGHW","2 août 2017","044004000010","Recharge Express","9","9,900","0","0,000",9,"9,900","Mobile"]
["RIGRAIET","2 août 2017","999100001003","SERVICE TRANSFERT CONTACT","2","6,000","0","0,000",2,"6,000","Mobile"]
["SIGHW","2 août 2017","PRE13","Edawa5","1","0,000","0","0,000",1,"0,000","Mobile"]
["SIGHW","2 août 2017","PRE03","offre Simply","1","0,000","0","0,000",1,"0,000","Mobile"]
["ASLOGHM","2 août 2017","P56567","Pack Sim data - offre Simply  7,5 Go + illimité","1","0,000","0","0,000",1,"0,000","Mobile"]
["ABLOUNA","2 août 2017","044004000010","Recharge Express","9","9,900","0","0,000",9,"9,900","Mobile"]
["ASLOGHM","2 août 2017","P53327","Pack  - offre Pass","2","0,000","0","0,000",2,"0,000","Mobile"]
["ASLOGHM","2 août 2017","P62599"," Pack Cle 3G E3531 + Orange Wifi dock - offre Simply 25 Go","1","0,000","0","0,000",1,"0,000","Mobile"]
["SIGHW","2 août 2017","044004000010","Recharge Express","1","1,100","0","0,000",1,"1,100","Mobile"]
["ABLOUNA","2 août 2017","P62599"," Pack Cle 3G E3531 + Orange Wifi dock - offre Simply 25 Go","1","0,000","0","0,000",1,"0,000","Mobile"]
["ASLOGHM","2 août 2017","PRE13","Edawa5","1","0,000","0","0,000",1,"0,000","Mobile"]
["RIGRAIET","2 août 2017","POSA2","ADSL HOME","1","178,600","0","0,000",1,"178,600","ADSL"]
["ABLOUNA","2 août 2017","PRE23","El Jam3ia Mobile","2","0,000","0","0,000",2,"0,000","Mobile"]
["ASLOGHM","2 août 2017","044004000010","Recharge Express","10","11,000","0","0,000",10,"11,000","Mobile"]
["ASLOGHM","2 août 2017","044004000010","Recharge Express","20","22,000","0","0,000",20,"22,000","Mobile"]
["ASLOGHM","2 août 2017","PRE03","offre Simply","3","0,000","0","0,000",3,"0,000","Mobile"]
["ABLOUNA","2 août 2017","044004000010","Recharge Express","20","22,000","0","0,000",20,"22,000","Mobile"]
["SIGHW","2 août 2017","P50759","Pack Clé 4G - Offre Pass - Bonus internet 5 Go- 2 mois","1","0,000","0","0,000",1,"0,000","Mobile"]
["RIGRAIET","2 août 2017","PRE21","Melle5er","1","0,000","0","0,000",1,"0,000","Mobile"]
["SIGHW","2 août 2017","PRE12","Boouj","1","0,000","0","0,000",1,"0,000","Mobile"]
["ASLOGHM","2 août 2017","POSA2","ADSL HOME","1","125,900","0","0,000",1,"125,900","ADSL"]
["SIGHW","2 août 2017","P53327","Pack  - offre Pass","3","0,000","0","0,000",3,"0,000","Mobile"]
["ASLOGHM","2 août 2017","044004000010","Recharge Express","60","66,000","0","0,000",60,"66,000","Mobile"]
["ASLOGHM","2 août 2017","043007000004","CARTE SIM 4G DATA MULTI SIM","1","14,000","0","0,000",1,"14,000","Mobile"]
["ASLOGHM","2 août 2017","046002000034","CLE 3G E3531","1","39,000","0","0,000",1,"39,000","Mobile"]
["SIGHW","2 août 2017","045022002001","ORANGE IT 2110","1","32,000","0","0,000",1,"32,000","Mobile"]
["ABLOUNA","2 août 2017","188003000016","Modem Huawei HG532","1","0,000","0","0,000",1,"0,000","ADSL"]
["ASLOGHM","2 août 2017","046002000060","DOMINO E5220 WHITE","1","45,000","0","0,000",1,"45,000","Mobile"]
["ABLOUNA","2 août 2017","043007000004","CARTE SIM 4G DATA MULTI SIM","1","0,000","0","0,000",1,"0,000","Mobile"]
["RIGRAIET","2 août 2017","188003000016","Modem Huawei HG532","1","0,000","0","0,000",1,"0,000","ADSL"]
["ABLOUNA","2 août 2017","043001000114","CARTE PREACTIVEE VD","2","6,000","0","0,000",2,"6,000","Mobile"]
["SIGHW","2 août 2017","046002000060","DOMINO E5220 WHITE","1","45,000","0","0,000",1,"45,000","Mobile"]
["ASLOGHM","2 août 2017","043006000003","CARTE SIM 4G PRE MULTI SIM","6","0,000","0","0,000",6,"0,000","Mobile"]
["ASLOGHM","2 août 2017","043007000004","CARTE SIM 4G DATA MULTI SIM","2","0,000","0","0,000",2,"0,000","Mobile"]
["SIGHW","2 août 2017","043007000004","CARTE SIM 4G DATA MULTI SIM","1","40,000","0","0,000",1,"40,000","Mobile"]
["ASLOGHM","2 août 2017","043007000004","CARTE SIM 4G DATA MULTI SIM","2","10,000","0","0,000",2,"10,000","Mobile"]
["RIGRAIET","2 août 2017","043006000003","CARTE SIM 4G PRE MULTI SIM","1","3,000","0","0,000",1,"3,000","Mobile"]
["ASLOGHM","2 août 2017","047006000161","Orange Wifi dock","1","0,000","0","0,000",1,"0,000","Mobile"]
["SIGHW","2 août 2017","043007000004","CARTE SIM 4G DATA MULTI SIM","3","15,000","0","0,000",3,"15,000","Mobile"]
["ASLOGHM","2 août 2017","188003000016","Modem Huawei HG532","1","0,000","0","0,000",1,"0,000","ADSL"]
["ABLOUNA","2 août 2017","046002000034","CLE 3G E3531","1","39,000","0","0,000",1,"39,000","Mobile"]
["SIGHW","2 août 2017","043006000003","CARTE SIM 4G PRE MULTI SIM","6","0,000","0","0,000",6,"0,000","Mobile"]
["RIGRAIET","2 août 2017","043006000003","CARTE SIM 4G PRE MULTI SIM","4","0,000","0","0,000",4,"0,000","Mobile"]
["ABLOUNA","2 août 2017","043007000004","CARTE SIM 4G DATA MULTI SIM","3","90,000","0","0,000",3,"90,000","Mobile"]
["ABLOUNA","2 août 2017","043006000003","CARTE SIM 4G PRE MULTI SIM","4","12,000","0","0,000",4,"12,000","Mobile"]
["ASLOGHM","2 août 2017","043007000004","CARTE SIM 4G DATA MULTI SIM","1","30,000","0","0,000",1,"30,000","Mobile"]
["SIGHW","2 août 2017","043007000004","CARTE SIM 4G DATA MULTI SIM","1","0,000","0","0,000",1,"0,000","Mobile"]
["ABLOUNA","2 août 2017","047006000161","Orange Wifi dock","1","0,000","0","0,000",1,"0,000","Mobile"]
["SIGHW","2 août 2017","043006000003","CARTE SIM 4G PRE MULTI SIM","2","6,000","0","0,000",2,"6,000","Mobile"]
["ASLOGHM","2 août 2017","043006000003","CARTE SIM 4G PRE MULTI SIM","1","3,000","0","0,000",1,"3,000","Mobile"]
["ABLOUNA","2 août 2017","043006000003","CARTE SIM 4G PRE MULTI SIM","1","0,000","0","0,000",1,"0,000","Mobile"]
["SIGHW","2 août 2017","043006000003","CARTE SIM 4G PRE MULTI SIM","1","5,000","0","0,000",1,"5,000","Mobile"]
["ASLOGHM","2 août 2017","046002000034","CLE 3G E3531","1","0,000","0","0,000",1,"0,000","Mobile"]
["ASLOGHM","2 août 2017","043006000003","CARTE SIM 4G PRE MULTI SIM","2","10,000","0","0,000",2,"10,000","Mobile"]
["SIGHW","2 août 2017","046002000041","CLE 4G E3372H","1","0,000","0","0,000",1,"0,000","Mobile"]
["SIGHW","1 août 2017","044004000010","Recharge Express","36","39,600","0","0,000",36,"39,600","Mobile"]
["ABLOUNA","1 août 2017","PRE03","offre Simply","1","0,000","0","0,000",1,"0,000","Mobile"]
["ASLOGHM","1 août 2017","PRE03","offre Simply","1","0,000","0","0,000",1,"0,000","Mobile"]
["SIGHW","1 août 2017","044004000010","Recharge Express","35","38,500","0","0,000",35,"38,500","Mobile"]
["ABLOUNA","1 août 2017","044004000010","Recharge Express","20","22,000","0","0,000",20,"22,000","Mobile"]
["ABLOUNA","1 août 2017","PRE17","3alami","1","0,000","0","0,000",1,"0,000","Mobile"]
["RIGRAIET","1 août 2017","044004000010","Recharge Express","2","2,200","0","0,000",2,"2,200","Mobile"]
["SIGHW","1 août 2017","PRE03","offre Simply","4","0,000","0","0,000",4,"0,000","Mobile"]
["SIGHW","1 août 2017","PRE10","offre Pass","3","0,000","0","0,000",3,"0,000","Mobile"]
["RIGRAIET","1 août 2017","044004000010","Recharge Express","3","3,300","0","0,000",3,"3,300","Mobile"]
["SIGHW","1 août 2017","PRE23","El Jam3ia Mobile","3","0,000","0","0,000",3,"0,000","Mobile"]
["RIGRAIET","1 août 2017","PRE23","El Jam3ia Mobile","1","0,000","0","0,000",1,"0,000","Mobile"]
["SIGHW","1 août 2017","044004000010","Recharge Express","1","1,100","0","0,000",1,"1,100","Mobile"]
["RIGRAIET","1 août 2017","P50759","Pack Clé 4G - Offre Pass - Bonus internet 5 Go- 2 mois","1","0,000","0","0,000",1,"0,000","Mobile"]
["ABLOUNA","1 août 2017","044004000010","Recharge Express","2","2,200","0","0,000",2,"2,200","Mobile"]
["ABLOUNA","1 août 2017","PRE23","El Jam3ia Mobile","3","0,000","0","0,000",3,"0,000","Mobile"]
["ASLOGHM","1 août 2017","P61376"," Pack ORANGE IT 2110 - Melle5er","1","0,000","0","0,000",1,"0,000","Mobile"]
["SIGHW","1 août 2017","044004000010","Recharge Express","60","66,000","0","0,000",60,"66,000","Mobile"]
["RIGRAIET","1 août 2017","PRE10","offre Pass","2","0,000","0","0,000",2,"0,000","Mobile"]
["ABLOUNA","1 août 2017","P61590"," Pack DOMINO E5220 WHITE - offre Simply 7,5Go + bonus 17,5Go","1","0,000","0","0,000",1,"0,000","Mobile"]
["SIGHW","1 août 2017","PRE21","Melle5er","6","0,000","0","0,000",6,"0,000","Mobile"]
["SIGHW","1 août 2017","P53327","Pack  - offre Pass","3","0,000","0","0,000",3,"0,000","Mobile"]
["RIGRAIET","1 août 2017","PRE03","offre Simply","2","0,000","0","0,000",2,"0,000","Mobile"]
["ASLOGHM","1 août 2017","044004000010","Recharge Express","2","2,200","0","0,000",2,"2,200","Mobile"]
["RIGRAIET","1 août 2017","044004000010","Recharge Express","30","33,000","0","0,000",30,"33,000","Mobile"]
["SIGHW","1 août 2017","HYB01","forfait mix 15","1","0,000","0","0,000",1,"0,000","Mobile"]
["ABLOUNA","1 août 2017","HYB12","Forfait clé 3G Intense","1","0,000","0","0,000",1,"0,000","Mobile"]
["ABLOUNA","1 août 2017","P61337"," Pack Pro  AIRBOX 4G MW40 - Forfait cl?? 3G Intense - 24 mois ","1","0,000","0","0,000",1,"0,000","Mobile"]
["ABLOUNA","1 août 2017","P50371"," Pack FLYBOX B310 - FLYBOX B310-CARTE SIM 4G FLYBOX-Flybox home - 24 mois ","1","0,000","0","0,000",1,"0,000","Mobile"]
["ASLOGHM","1 août 2017","P61590"," Pack DOMINO E5220 WHITE - offre Simply 7,5Go + bonus 17,5Go","1","0,000","0","0,000",1,"0,000","Mobile"]
["RIGRAIET","1 août 2017","POSA2","ADSL HOME","1","107,300","0","0,000",1,"107,300","ADSL"]
["ASLOGHM","1 août 2017","044004000010","Recharge Express","20","22,000","0","0,000",20,"22,000","Mobile"]
["ASLOGHM","1 août 2017","PRE13","Edawa5","3","0,000","0","0,000",3,"0,000","Mobile"]
["ABLOUNA","1 août 2017","PRE21","Melle5er","3","0,000","0","0,000",3,"0,000","Mobile"]
["SIGHW","1 août 2017","999100001003","SERVICE TRANSFERT CONTACT","2","6,000","0","0,000",2,"6,000","Mobile"]
["SIGHW","1 août 2017","P61147"," Pack AIRBOX 4G MW40 - offre Simply - bonus internet 7,5Go + illimit?? ","1","0,000","0","0,000",1,"0,000","Mobile"]
["ASLOGHM","1 août 2017","PRE21","Melle5er","2","0,000","0","0,000",2,"0,000","Mobile"]
["SIGHW","1 août 2017","044004000010","Recharge Express","20","22,000","0","0,000",20,"22,000","Mobile"]
["ABLOUNA","1 août 2017","044004000010","Recharge Express","4","4,400","0","0,000",4,"4,400","Mobile"]
["ABLOUNA","1 août 2017","044004000010","Recharge Express","20","22,000","0","0,000",20,"22,000","Mobile"]
["RIGRAIET","1 août 2017","044004000010","Recharge Express","12","13,200","0","0,000",12,"13,200","Mobile"]
["SIGHW","1 août 2017","P61590"," Pack DOMINO E5220 WHITE - offre Simply 7,5Go + bonus 17,5Go","2","0,000","0","0,000",2,"0,000","Mobile"]
["RIGRAIET","1 août 2017","999100001003","SERVICE TRANSFERT CONTACT","3","9,000","0","0,000",3,"9,000","Mobile"]
["SIGHW","1 août 2017","PRE13","Edawa5","2","0,000","0","0,000",2,"0,000","Mobile"]
["ABLOUNA","1 août 2017","PRE10","offre Pass","1","0,000","0","0,000",1,"0,000","Mobile"]
["RIGRAIET","1 août 2017","PRE21","Melle5er","3","0,000","0","0,000",3,"0,000","Mobile"]
["SIGHW","1 août 2017","P62599"," Pack Cle 3G E3531 + Orange Wifi dock - offre Simply 25 Go","1","0,000","0","0,000",1,"0,000","Mobile"]
["ABLOUNA","1 août 2017","044004000010","Recharge Express","30","33,000","0","0,000",30,"33,000","Mobile"]
["SIGHW","1 août 2017","PRE17","3alami","1","0,000","0","0,000",1,"0,000","Mobile"]
["RIGRAIET","1 août 2017","044004000010","Recharge Express","10","11,000","0","0,000",10,"11,000","Mobile"]
["RIGRAIET","1 août 2017","P61590"," Pack DOMINO E5220 WHITE - offre Simply 7,5Go + bonus 17,5Go","2","0,000","0","0,000",2,"0,000","Mobile"]
["RIGRAIET","1 août 2017","044004000010","Recharge Express","2","2,200","0","0,000",2,"2,200","Mobile"]
["ABLOUNA","1 août 2017","P50759","Pack Clé 4G - Offre Pass - Bonus internet 5 Go- 2 mois","1","0,000","0","0,000",1,"0,000","Mobile"]
["RIGRAIET","1 août 2017","P53327","Pack  - offre Pass","1","0,000","0","0,000",1,"0,000","Mobile"]
["ABLOUNA","1 août 2017","044004000010","Recharge Express","30","33,000","0","0,000",30,"33,000","Mobile"]
["ABLOUNA","1 août 2017","HYB13","Flybox home","1","0,000","0","0,000",1,"0,000","Mobile"]
["SIGHW","1 août 2017","P4048","Pack Réengagement - forfait mix 15 - injection 1 Go - 12 mois","1","0,000","0","0,000",1,"0,000","Mobile"]
["ASLOGHM","1 août 2017","043007000004","CARTE SIM 4G DATA MULTI SIM","1","0,000","0","0,000",1,"0,000","Mobile"]
["ABLOUNA","1 août 2017","046002000041","CLE 4G E3372H","1","0,000","0","0,000",1,"0,000","Mobile"]
["ASLOGHM","1 août 2017","045022002001","ORANGE IT 2110","1","32,000","0","0,000",1,"32,000","Mobile"]
["ABLOUNA","1 août 2017","085001000011","FLYBOX B310","1","0,000","0","0,000",1,"0,000","Mobile"]
["SIGHW","1 août 2017","043007000004","CARTE SIM 4G DATA MULTI SIM","4","0,000","0","0,000",4,"0,000","Mobile"]
["ASLOGHM","1 août 2017","043006000003","CARTE SIM 4G PRE MULTI SIM","4","12,000","0","0,000",4,"12,000","Mobile"]
["ABLOUNA","1 août 2017","046002000060","DOMINO E5220 WHITE","1","45,000","0","0,000",1,"45,000","Mobile"]
["ABLOUNA","1 août 2017","043007000004","CARTE SIM 4G DATA MULTI SIM","2","0,000","0","0,000",2,"0,000","Mobile"]
["RIGRAIET","1 août 2017","046002000041","CLE 4G E3372H","1","0,000","0","0,000",1,"0,000","Mobile"]
["RIGRAIET","1 août 2017","043001000114","CARTE PREACTIVEE VD","1","3,000","0","0,000",1,"3,000","Mobile"]
["ABLOUNA","1 août 2017","043006000003","CARTE SIM 4G PRE MULTI SIM","1","0,000","0","0,000",1,"0,000","Mobile"]
["SIGHW","1 août 2017","043002000005","CARTE SIM POSTPAYEE 2FF/3FF","1","0,000","0","0,000",1,"0,000","Mobile"]
["RIGRAIET","1 août 2017","188003000016","Modem Huawei HG532","1","0,000","0","0,000",1,"0,000","ADSL"]
["RIGRAIET","1 août 2017","043007000004","CARTE SIM 4G DATA MULTI SIM","1","40,000","0","0,000",1,"40,000","Mobile"]
["RIGRAIET","1 août 2017","043006000003","CARTE SIM 4G PRE MULTI SIM","7","0,000","0","0,000",7,"0,000","Mobile"]
["ASLOGHM","1 août 2017","043006000003","CARTE SIM 4G PRE MULTI SIM","2","0,000","0","0,000",2,"0,000","Mobile"]
["ABLOUNA","1 août 2017","046002000056","AIRBOX 4G MW40","1","0,000","0","0,000",1,"0,000","Mobile"]
["ABLOUNA","1 août 2017","043006000003","CARTE SIM 4G PRE MULTI SIM","6","18,000","0","0,000",6,"18,000","Mobile"]
["RIGRAIET","1 août 2017","046002000060","DOMINO E5220 WHITE","2","90,000","0","0,000",2,"90,000","Mobile"]
["SIGHW","1 août 2017","043001000114","CARTE PREACTIVEE VD","3","9,000","0","0,000",3,"9,000","Mobile"]
["SIGHW","1 août 2017","046002000060","DOMINO E5220 WHITE","2","90,000","0","0,000",2,"90,000","Mobile"]
["RIGRAIET","1 août 2017","043006000003","CARTE SIM 4G PRE MULTI SIM","3","9,000","0","0,000",3,"9,000","Mobile"]
["ABLOUNA","1 août 2017","043008000001","CARTE SIM 4G FLYBOX","1","0,000","0","0,000",1,"0,000","Mobile"]
["SIGHW","1 août 2017","047006000161","Orange Wifi dock","1","0,000","0","0,000",1,"0,000","Mobile"]
["SIGHW","1 août 2017","043006000003","CARTE SIM 4G PRE MULTI SIM","7","0,000","0","0,000",7,"0,000","Mobile"]
["ABLOUNA","1 août 2017","043006000003","CARTE SIM 4G PRE MULTI SIM","3","15,000","0","0,000",3,"15,000","Mobile"]
["RIGRAIET","1 août 2017","043007000004","CARTE SIM 4G DATA MULTI SIM","1","5,000","0","0,000",1,"5,000","Mobile"]
["ABLOUNA","1 août 2017","043007000004","CARTE SIM 4G DATA MULTI SIM","1","40,000","0","0,000",1,"40,000","Mobile"]
["SIGHW","1 août 2017","043007000004","CARTE SIM 4G DATA MULTI SIM","3","15,000","0","0,000",3,"15,000","Mobile"]
["SIGHW","1 août 2017","046002000056","AIRBOX 4G MW40","1","119,000","0","0,000",1,"119,000","Mobile"]
["ASLOGHM","1 août 2017","043006000003","CARTE SIM 4G PRE MULTI SIM","3","15,000","0","0,000",3,"15,000","Mobile"]
["ASLOGHM","1 août 2017","046002000060","DOMINO E5220 WHITE","1","45,000","0","0,000",1,"45,000","Mobile"]
["ABLOUNA","1 août 2017","043001000114","CARTE PREACTIVEE VD","1","0,000","0","0,000",1,"0,000","Mobile"]
["RIGRAIET","1 août 2017","043007000004","CARTE SIM 4G DATA MULTI SIM","2","0,000","0","0,000",2,"0,000","Mobile"]
["SIGHW","1 août 2017","046002000034","CLE 3G E3531","1","39,000","0","0,000",1,"39,000","Mobile"]
["ABLOUNA","1 août 2017","043001000114","CARTE PREACTIVEE VD","2","6,000","0","0,000",2,"6,000","Mobile"]
["SIGHW","1 août 2017","043006000003","CARTE SIM 4G PRE MULTI SIM","3","15,000","0","0,000",3,"15,000","Mobile"]

{"sheet":"TCD-Porta","index":17,"n_rows":42,"n_cols":14,"rows_kept":42,"cut":false,"hidden":false,"merged":[]}
["Créé par","Date demande","Numéro à porter","Statut demande"]
["Siwar Ghodbane","2017-08-01T15:52:34","28036291","Déconnectée"]
["Siwar Ghodbane","2017-08-01T17:58:56","24281002","Déconnectée"]
["Siwar Ghodbane","2017-08-02T10:43:13","21215848","Déconnectée",null,null,null,null,null,null,null,null,"Total Portabilité"]
["Siwar Ghodbane","2017-08-02T14:57:09","23465886","Déconnectée",null,null,null,null,null,null,null,null,"Créé par","Total"]
["Siwar Ghodbane","2017-08-03T09:14:49","98581572","Déconnectée",null,null,null,null,null,null,null,null,"Abderahmen Bellalouna",4]
["Siwar Ghodbane","2017-08-03T13:40:58","53555590","Déconnectée",null,null,null,null,null,null,null,null,"Asma Loghmari",7]
["Siwar Ghodbane","2017-08-03T17:09:59","97146650","Déconnectée",null,null,null,null,null,null,null,null,"Rim Graiet",4]
["Siwar Ghodbane","2017-08-03T17:55:18","21030668","Déconnectée",null,null,null,null,null,null,null,null,"Siwar Ghodbane",26]
["Siwar Ghodbane","2017-08-04T10:57:37","25733267","Déconnectée",null,null,null,null,null,null,null,null,"Total général",41]
["Siwar Ghodbane","2017-08-04T11:16:58","28336470","Déconnectée"]
["Siwar Ghodbane","2017-08-04T13:24:04","98403389","Déconnectée"]
["Siwar Ghodbane","2017-08-05T17:01:59","20852119","Déconnectée"]
["Siwar Ghodbane","2017-08-05T18:09:42","96688620","Déconnectée"]
["Asma Loghmari","2017-08-07T09:17:47","26241810","Déconnectée"]
["Asma Loghmari","2017-08-07T13:56:12","25222538","Déconnectée"]
["Asma Loghmari","2017-08-07T14:51:54","50641541","Déconnectée"]
["Rim Graiet","2017-08-09T10:21:51","28896663","Acceptée"]
["Siwar Ghodbane","2017-08-09T16:39:41","21044773","Acceptée"]
["Siwar Ghodbane","2017-08-09T17:21:03","21796295","Acceptée"]
["Asma Loghmari","2017-08-10T09:42:10","98451719","Acceptée"]
["Siwar Ghodbane","2017-08-10T10:03:56","29381643","Acceptée"]
["Siwar Ghodbane","2017-08-10T12:10:31","96238412","Acceptée"]
["Siwar Ghodbane","2017-08-10T12:25:42","96238330","Acceptée"]
["Siwar Ghodbane","2017-08-10T13:28:52","96238404","Acceptée"]
["Siwar Ghodbane","2017-08-10T13:46:46","96238427","Acceptée"]
["Abderahmen Bellalouna","2017-08-10T13:32:52","92551962","Acceptée"]
["Siwar Ghodbane","2017-08-10T14:01:07","96238413","Acceptée"]
["Siwar Ghodbane","2017-08-10T14:12:10","96238418","Acceptée"]
["Siwar Ghodbane","2017-08-10T14:28:26","96238327","Acceptée"]
["Siwar Ghodbane","2017-08-10T15:19:17","94026651","Acceptée"]
["Siwar Ghodbane","2017-08-11T09:03:18","20451719","Acceptée"]
["Siwar Ghodbane","2017-08-11T10:44:02","25577417","Acceptée"]
["Asma Loghmari","2017-08-11T12:44:51","52773664","Acceptée"]
["Rim Graiet","2017-08-11T15:08:23","99616574","Acceptée"]
["Rim Graiet","2017-08-12T15:56:34","95811961","Acceptée"]
["Asma Loghmari","2017-08-14T13:22:31","96515373","Acceptée"]
["Asma Loghmari","2017-08-14T19:10:07","22391305","Acceptée"]
["Abderahmen Bellalouna","2017-08-15T10:49:23","93981979","Validée"]
["Abderahmen Bellalouna","2017-08-15T10:57:48","25552447","Validée"]
["Abderahmen Bellalouna","2017-08-15T12:52:23","22306446","Validée"]
["Rim Graiet","2017-08-15T13:21:08","25239071","Validée"]

{"sheet":"Reeng","index":18,"n_rows":7,"n_cols":10,"rows_kept":7,"cut":false,"hidden":false,"merged":[[2,6,3,6],[2,7,3,7],[2,8,3,8],[2,9,3,9]]}
["Utilisateurs","Somme de Quantité payée",null,"CC","QTE"]
["ABLOUNA",{"$f":"IFERROR((VLOOKUP(A2,D:E,2,0)),0)","v":1},null,"ABLOUNA",1,null,null,"R","O","R/O"]
["ASLOGHM",{"$f":"IFERROR((VLOOKUP(A3,D:E,2,0)),0)","v":3},null,"ASLOGHM",3,null,"Réengagement",{"$f":"SUM(E:E)","v":12},{"$f":"juillet!D3","v":46},{"$f":"H3/I3","v":0.2608695652173913}]
["RIGRAIET",4,null,"RIGRAIET",4]
["SIGHW",4,null,"SIGHW",4]
["AmiraX",0]
["HanenX",0]

{"sheet":"PORTA","index":19,"n_rows":11,"n_cols":11,"rows_kept":11,"cut":false,"hidden":false,"merged":[[3,7,4,7],[3,8,4,8],[3,9,4,9],[3,10,4,10]]}
["Utilisateur","Nombre de RIO",null,"LOG","Nom et Prénom","QTE"]
["ABLOUNA",{"$f":"IFERROR((VLOOKUP(A2,D:F,3,0)),0)","v":4},null,{"$f":"VLOOKUP(E2,'Liste CC'!A:B,2,0)","v":"ABLOUNA"},"Abderahmen Bellalouna",4]
["ASLOGHM",7,null,{"$f":"VLOOKUP(E3,'Liste CC'!A:B,2,0)","v":"ASLOGHM"},"Asma Loghmari",7,null,null,"R","O","R/O"]
["RIGRAIET",4,null,{"$f":"VLOOKUP(E4,'Liste CC'!A:B,2,0)","v":"RIGRAIET"},"Rim Graiet",4,null,"Porta",{"$f":"SUM(F:F)","v":41},{"$f":"juillet!I3","v":100},{"$f":"I4/J4","v":0.41}]
["SIGHW",26,null,{"$f":"VLOOKUP(E5,'Liste CC'!A:B,2,0)","v":"SIGHW"},"Siwar Ghodbane",26]
["AmiraX",0,null,{"$f":"VLOOKUP(E6,'Liste CC'!A:B,2,0)","v":{"$error":"#N/A"}}]
["HanenX",0,null,{"$f":"VLOOKUP(E7,'Liste CC'!A:B,2,0)","v":{"$error":"#N/A"}}]
[null,0,null,{"$f":"VLOOKUP(E8,'Liste CC'!A:B,2,0)","v":{"$error":"#N/A"}}]
[null,0,null,{"$f":"VLOOKUP(E9,'Liste CC'!A:B,2,0)","v":{"$error":"#N/A"}}]
[null,0,null,{"$f":"VLOOKUP(E10,'Liste CC'!A:B,2,0)","v":{"$error":"#N/A"}}]
[null,0,null,{"$f":"VLOOKUP(E11,'Liste CC'!A:B,2,0)","v":{"$error":"#N/A"}}]

{"sheet":"Relax","index":20,"n_rows":7,"n_cols":11,"rows_kept":7,"cut":false,"hidden":false,"merged":[[2,7,3,7],[2,8,3,8],[2,9,3,9],[2,10,3,10]]}
["Utilisateur","Quantité Relax",null,"CC","QTE en Equi"]
["ABLOUNA",{"$f":"IFERROR((VLOOKUP(A2,D:E,2,0)),0)","v":0},null,"ASLOGHM",4,null,null,null,"R","O","R/O"]
["ASLOGHM",{"$f":"IFERROR((VLOOKUP(A3,D:E,2,0)),0)","v":4},null,"RIGRAIET",32,null,null,"Relax",{"$f":"SUM(E:E)","v":75},{"$f":"juillet!J3","v":70},{"$f":"I3/J3","v":1.0714285714285714}]
["RIGRAIET",32,null,"SIGHW",39]
["SIGHW",39]
["AmiraX",0]
["HanenX",0]

{"sheet":"TCD-Réeng","index":21,"n_rows":13,"n_cols":14,"rows_kept":13,"cut":false,"hidden":true,"merged":[]}
["Utilisateur","Date","Ref produit","Nom produit","Quantité payée","Prix de vente TTC payé","Quantité non payée","Prix de vente non payé","Quantité totale","Montant total","Marché"]
["RIGRAIET","14 août 2017","P60645"," Pack R??engagement Orange TAB 7 _ 4G NOIR - Flybox home - 12 mois ","1","0,000","0","0,000",1,"0,000","Mobile"]
["ABLOUNA","12 août 2017","P60712"," Pack R??engagement HUAWEI GR5 2017 SILVER  - forfait optima 50 -  12 mois ","1","0,000","0","0,000",1,"0,000","Mobile"]
["SIGHW","12 août 2017","P4048","Pack Réengagement - forfait mix 15 - injection 1 Go - 12 mois","1","0,000","0","0,000",1,"0,000","Mobile",null,"Total des réengagements"]
["RIGRAIET","12 août 2017","P4049","Pack Réengagement - forfait mix 20 - injection 1 Go - 12 mois ","1","0,000","0","0,000",1,"0,000","Mobile",null,"Utilisateur","Total"]
["RIGRAIET","11 août 2017","P50329"," Pack Réengagement - forfait mix 15 Crédit 5DT - 12 mois","1","0,000","0","0,000",1,"0,000","Mobile",null,"ABLOUNA",1]
["RIGRAIET","11 août 2017","P3079"," Pack de réengagement Flybox remise 20%","1","0,000","0","0,000",1,"0,000","Mobile",null,"ASLOGHM",3]
["ASLOGHM","11 août 2017","P3078","Pack de réengagement IEW Forfait remise 20%","1","0,000","0","0,000",1,"0,000","Mobile",null,"RIGRAIET",4]
["SIGHW","10 août 2017","P3901","Pack de réengagement Forfait clé 3G Access remise 20%","1","0,000","0","0,000",1,"0,000","Mobile",null,"SIGHW",4]
["ASLOGHM","10 août 2017","P3079"," Pack de réengagement Flybox remise 20%","1","0,000","0","0,000",1,"0,000","Mobile",null,"Total général",12]
["ASLOGHM","7 août 2017","P4049","Pack Réengagement - forfait mix 20 - injection 1 Go - 12 mois ","1","0,000","0","0,000",1,"0,000","Mobile"]
["SIGHW","4 août 2017","P4048","Pack Réengagement - forfait mix 15 - injection 1 Go - 12 mois","1","0,000","0","0,000",1,"0,000","Mobile"]
["SIGHW","1 août 2017","P4048","Pack Réengagement - forfait mix 15 - injection 1 Go - 12 mois","1","0,000","0","0,000",1,"0,000","Mobile"]

{"sheet":"TCD-Relax","index":22,"n_rows":21,"n_cols":14,"rows_kept":21,"cut":false,"hidden":true,"merged":[]}
["Utilisateur","Date","Ref produit","Nom produit","Quantité totale","Relax","Total Relax"]
["ASLOGHM","15 août 2017","999100001003","SERVICE TRANSFERT CONTACT",1,2,{"$f":"E2*F2","v":2}]
["RIGRAIET","14 août 2017","999100001003","SERVICE TRANSFERT CONTACT",2,2,4]
["SIGHW","14 août 2017","999100001003","SERVICE TRANSFERT CONTACT",2,2,4,null,null,null,null,null,"Somme de Total Relax"]
["RIGRAIET","14 août 2017","999100001003","SERVICE TRANSFERT CONTACT",2,2,4,null,null,null,null,null,"Utilisateur","Total"]
["RIGRAIET","12 août 2017","999100001003","SERVICE TRANSFERT CONTACT",1,2,2,null,null,null,null,null,"ASLOGHM",4]
["ASLOGHM","12 août 2017","999100001003","SERVICE TRANSFERT CONTACT",1,2,2,null,null,null,null,null,"RIGRAIET",32]
["SIGHW","11 août 2017","999100001003","SERVICE TRANSFERT CONTACT",1,2,2,null,null,null,null,null,"SIGHW",39]
["RIGRAIET","11 août 2017","999100001003","SERVICE TRANSFERT CONTACT",4,2,8,null,null,null,null,null,"Total général",75]
["RIGRAIET","10 août 2017","999100001003","SERVICE TRANSFERT CONTACT",1,2,2]
["SIGHW","10 août 2017","999100001003","SERVICE TRANSFERT CONTACT",2,2,4]
["RIGRAIET","8 août 2017","999100001003","SERVICE TRANSFERT CONTACT",1,2,2]
["SIGHW","8 août 2017","999100001003","SERVICE TRANSFERT CONTACT",2,2,4]
["SIGHW","7 août 2017","999100001003","SERVICE TRANSFERT CONTACT",3,2,6]
["SIGHW","5 août 2017","999100001003","SERVICE TRANSFERT CONTACT",1,2,2]
["SIGHW","4 août 2017","999100001003","SERVICE TRANSFERT CONTACT",3,2,6]
["SIGHW","4 août 2017","999100002001","ASSURANCE CASSE",1,3,3]
["SIGHW","3 août 2017","999100001003","SERVICE TRANSFERT CONTACT",2,2,4]
["RIGRAIET","2 août 2017","999100001003","SERVICE TRANSFERT CONTACT",2,2,4]
["SIGHW","1 août 2017","999100001003","SERVICE TRANSFERT CONTACT",2,2,4]
["RIGRAIET","1 août 2017","999100001003","SERVICE TRANSFERT CONTACT",3,2,6]