{"text_format":"1","workbook":"xlsx","n_sheets":10,"sheets":["Menu","Recap Infos","Rapport de Douane","Trait_Etrangers","Trait_Villageois","Feux_Alarme","LstVillage","Liste_Noire","Datas","Feuil1"],"not_rendered":{"charts":0,"images":0,"macros":1,"external_links":0,"defined_names":2,"comments":0,"pivot_tables":0},"unopened":[],"bounds":{"document_bytes":16777216,"sheet_cells":100000,"rows_first":2000,"rows_last":500,"rows_between":2000,"halvings":0,"cell_chars":16384,"cell_head_chars":4096},"cells_cut":0,"cells_raw":0,"read":"whole","date_system":"1900"}

{"sheet":"Menu","index":0,"n_rows":24,"n_cols":11,"rows_kept":24,"cut":false,"hidden":false,"merged":[[14,2,14,3],[14,5,14,7],[6,2,6,3],[7,2,7,3],[7,5,7,6],[8,5,8,6],[17,2,17,3],[17,5,17,7],[15,2,15,3],[15,5,15,7],[16,2,16,3],[16,5,16,7],[3,2,4,3],[4,5,4,6],[5,2,5,3],[5,5,5,6],[13,2,13,3],[13,5,13,7],[21,2,21,3],[21,5,21,7],[18,2,18,3],[18,5,18,7],[19,2,19,3],[19,5,19,7],[20,2,20,3],[20,5,20,7]]}
[]
[]
[]
[null,null,"Menu principal"]
[null,null,null,null,null,"Nom :",null,"Zakarine",null,null," "]
[null,null,"Feuille des Douanes",null,null,"Grade :",null,"Maréchale/Douanière",null,null," "]
[null,null,null,null,null,null,null,null,null,null," "]
[null,null,{"$f":"\"version \"&Datas!$D$38","v":"version 4.32"},null,null,"Ville :",null,"Tréguier",null,null," "]
[null,null,"IRL",{"$f":"TODAY()","v":"2017-06-02"},null,"Comté :",null,"Grand-Duché de Bretagne",null,null," "]
[null,null,"IG",{"$f":"DAY(Menu!$D$9)&\" \"&VLOOKUP(MONTH(Menu!$D$9),Datas!$R$9:$T$20,Datas!$R$5)&\" \"&YEAR(Menu!$D$9)-552","v":"2 Juin 1465"},null,null,null,null,null,null," "]
[null,null,null,null,null,null,null,null,null,null," "]
[null,null,"Liste des Feuilles :",null,null,null,null,null,null,null," "]
[null,null,null,null,null,null,null,null,null,null," "]
[null,null,"Menu",null,null,"Cette feuille, avec le QUI vous êtes",null,null,null,null," "]
[null,null,"Recap Infos",null,null,"Tableau récap des infos... Douanes/ Feux",null,null,null,null," "]
[null,null,"Rapport de Douane",null,null,"Copier / Coller la trame du rapport",null,null,null,null," "]
[null,null,"Trait_Etrangers",null,null,"Copier les données sur les étrangers",null,null,null,null," "]
[null,null,"Trait_Villageois",null,null,"Copier les données sur les Villageois !",null,null,null,null," "]
[null,null,"Feux_Alarme",null,null,"Voir l'analyse des étrangers",null,null,null,null," "]
[null,null,"Liste_Noire",null,null,"Voir la liste des PasBos",null,null,null,null," "]
[null,null,"LstVillage",null,null,"Expérimental",null,null,null,null," "]
[null,null,"Datas",null,null,"Données de configuration",null,null,null,null," "]
[null,null,null,null,null,null,null,null,null,null," "]
[null,null,null,null,null,null,null,null,null,null," "]

{"sheet":"Recap Infos","index":1,"n_rows":33,"n_cols":30,"rows_kept":33,"cut":false,"hidden":false,"merged":[[30,25,30,26],[32,8,32,9],[23,28,23,29],[24,8,24,9],[24,25,24,26],[24,28,24,29],[27,25,27,26],[28,25,28,26],[26,25,26,26],[23,25,23,27],[23,23,23,24],[16,2,16,3],[18,2,18,9],[21,5,21,9],[23,4,23,5],[23,6,23,7],[23,8,23,9],[5,5,5,9],[7,4,7,5],[7,6,7,7],[7,8,7,9],[25,25,25,26]]}
[]
[]
[]
[]
[]
[null,null,"Récapitulatif de Douane",null,null,"Concerne tous les pantins présents au Village"]
[]
[null,null,null,null,"VILLAGEOIS",null,"ETRANGERS",null,"RECAP GLOBAL"]
[null,null,null,null,"Total",{"$f":"Datas!$D$35","v":"Indésirables"},"Total",{"$f":"Datas!$D$35","v":"Indésirables"},"Total",{"$f":"Datas!$D$35","v":"Indésirables"}]
[null,null,null,"Arrivées",{"$f":"Trait_Villageois!N3","v":0},{"$f":"Trait_Villageois!O3","v":0},{"$f":"Trait_Etrangers!L3","v":0},{"$f":"Trait_Etrangers!M3","v":0},{"$f":"Trait_Villageois!P3","v":0},{"$f":"Trait_Villageois!Q3","v":0}]
[null,null,null,"Départs",{"$f":"Trait_Villageois!N4","v":0},{"$f":"Trait_Villageois!O4","v":0},{"$f":"Trait_Etrangers!L4","v":0},{"$f":"Trait_Etrangers!M4","v":0},{"$f":"Trait_Villageois!P4","v":0},{"$f":"Trait_Villageois!Q4","v":0}]
[null,null,null,"Présents Actifs",{"$f":"Trait_Villageois!N5","v":0},{"$f":"Trait_Villageois!O5","v":0},{"$f":"Trait_Etrangers!L5","v":0},{"$f":"Trait_Etrangers!M5","v":0},{"$f":"Trait_Villageois!P5","v":0},{"$f":"Trait_Villageois!Q5","v":0}]
[null,null,null,"Pantins présents",{"$f":"Trait_Villageois!N6","v":0},{"$f":"Trait_Villageois!O6","v":0},{"$f":"Trait_Etrangers!L6","v":0},{"$f":"Trait_Etrangers!M6","v":0},{"$f":"Trait_Villageois!P6","v":0},{"$f":"Trait_Villageois!Q6","v":0}]
[]
[null,null,null,"Retraites",{"$f":"Trait_Villageois!N8","v":0},{"$f":"Trait_Villageois!O8","v":0},{"$f":"Trait_Etrangers!L8","v":0},{"$f":"Trait_Etrangers!M8","v":0},{"$f":"Trait_Villageois!P8","v":0},{"$f":"Trait_Villageois!Q8","v":0}]
[null,null,null,"Morts",{"$f":"Trait_Villageois!N9","v":0},{"$f":"Trait_Villageois!O9","v":0},{"$f":"Trait_Etrangers!L9","v":0},{"$f":"Trait_Etrangers!M9","v":0},{"$f":"Trait_Villageois!P9","v":0},{"$f":"Trait_Villageois!Q9","v":0}]
[null,null,"Etrangers au Comté :",null,null,null,{"$f":"Feux_Alarme!$M$9","v":0},{"$f":"Feux_Alarme!$N$9","v":0}]
[]
[null,null,{"$f":"\"Compte Rendu du \"&DAY(Menu!$D$9)&\" \"&VLOOKUP(MONTH(Menu!$D$9),Datas!$R$9:$T$20,Datas!$R$5)&\" \"&YEAR(Menu!$D$9)-552&\" - \"&Menu!$H$8&\" - \"&Menu!$H$9","v":"Compte Rendu du 2 Juin 1465 - Tréguier - Grand-Duché de Bretagne"}]
[]
[]
[null,null,"Récapitulatif des Feux d'Alarme",null,null,"Concerne les étrangers présents au village"]
[]
[null,null,null,null,"FEUX ALARME",null,"GLOBAL ETR",null,"PART DU",null,null,null,null,null,null,null,null,null,null,null,null,null,null,"FEUX ALARME",null,"GLOBAL ETR",null,null,"PART DU"]
[null,null,null,null,"Total",{"$f":"Datas!$D$35","v":"Indésirables"},"Total",{"$f":"Datas!$D$35","v":"Indésirables"},"FEUX D'ALARME",null,null,null,null,null,null,null,null,null,null,null,null,null,null,"Total",{"$f":"Datas!$D$35","v":"Indésirables"},"Total",null,{"$f":"Datas!$D$35","v":"Indésirables"},"FEUX D'ALARME"]
[null,null,"Arrivées",null,{"$f":"Feux_Alarme!M4","v":0},{"$f":"Feux_Alarme!N4","v":0},{"$f":"Feux_Alarme!O4","v":0},{"$f":"Feux_Alarme!Q4","v":0},{"$f":"Feux_Alarme!R4","v":0},{"$f":"Feux_Alarme!S4","v":0},null,null,null,null,null,null,null,null,null,null,null,null,"Arrivées",{"$f":"SUM(Feux_Alarme!BA13:BA299)","v":0},{"$f":"SUM(Feux_Alarme!BB13:BB299)","v":0},{"$f":"SUM(Feux_Alarme!AY13:AY299)","v":0},null,{"$f":"SUM(Feux_Alarme!AZ13:AZ299)","v":{"$error":"#N/A"}},{"$f":"IF(Z26<>0,X26/Z26,0)","v":0},{"$f":"IF(AB26=0,0,Y26/AB26)","v":{"$error":"#N/A"}}]
[null,null,"Retraités",null,{"$f":"Feux_Alarme!M5","v":0},{"$f":"Feux_Alarme!N5","v":0},{"$f":"Feux_Alarme!O5","v":0},{"$f":"Feux_Alarme!Q5","v":0},{"$f":"Feux_Alarme!R5","v":0},{"$f":"Feux_Alarme!S5","v":0},null,null,null,null,null,null,null,null,null,null,null,null,"Retraités",{"$f":"SUM(Feux_Alarme!BG13:BG299)","v":{"$error":"#N/A"}},{"$f":"SUM(Feux_Alarme!BH13:BH299)","v":0},{"$f":"SUM(Feux_Alarme!BE13:BE299)","v":0},null,{"$f":"SUM(Feux_Alarme!BF13:BF299)","v":{"$error":"#N/A"}},{"$f":"IF(Z27<>0,X27/Z27,0)","v":0},{"$f":"IF(AB27=0,0,Y27/AB27)","v":{"$error":"#N/A"}}]
[null,null,"Présents (Etrangers)",null,{"$f":"Feux_Alarme!M6","v":0},{"$f":"Feux_Alarme!N6","v":0},{"$f":"Feux_Alarme!O6","v":0},{"$f":"Feux_Alarme!Q6","v":0},{"$f":"Feux_Alarme!R6","v":0},{"$f":"Feux_Alarme!S6","v":0},null,null,null,null,null,null,null,null,null,null,null,null,"Présents (Etrangers)",{"$f":"SUM(Feux_Alarme!AW13:AW299)","v":{"$error":"#N/A"}},{"$f":"SUM(Feux_Alarme!AX13:AX299)","v":{"$error":"#N/A"}},{"$f":"SUM(Feux_Alarme!BK13:BK299)","v":0},null,{"$f":"SUM(Feux_Alarme!BL13:BL299)","v":0},{"$f":"IF(Z28<>0,X28/Z28,0)","v":0},{"$f":"IF(AB28=0,0,Y28/AB28)","v":0}]
[null,null,"Pantins présents",null,{"$f":"Feux_Alarme!M7","v":0},{"$f":"Feux_Alarme!N7","v":0},{"$f":"Feux_Alarme!O7","v":0},{"$f":"Feux_Alarme!Q7","v":0},{"$f":"Feux_Alarme!R7","v":0},{"$f":"Feux_Alarme!S7","v":0},null,null,null,null,null,null,null,null,null,null,null,null,"Pantins présents",{"$f":"SUM(X26:X28)","v":{"$error":"#N/A"}},{"$f":"SUM(Y26:Y28)","v":{"$error":"#N/A"}},{"$f":"SUM(Z26:Z28)","v":0},null,{"$f":"SUM(AB26:AB28)","v":{"$error":"#N/A"}},{"$f":"IF(Z29<>0,X29/Z29,0)","v":0},{"$f":"IF(AB29=0,0,Y29/AB29)","v":{"$error":"#N/A"}}]
[]
[null,null,"Pantins Actifs Présents",null,{"$f":"Feux_Alarme!M9","v":0},{"$f":"Feux_Alarme!N9","v":0},{"$f":"Feux_Alarme!O9","v":0},{"$f":"Feux_Alarme!Q9","v":0},{"$f":"Feux_Alarme!R9","v":0},{"$f":"Feux_Alarme!S9","v":0},null,null,null,null,null,null,null,null,null,null,null,null,"Pantins Actifs Présents",{"$f":"X28+X26","v":{"$error":"#N/A"}},{"$f":"Y28+Y26","v":{"$error":"#N/A"}},{"$f":"Z28+Z26","v":0},null,{"$f":"AB28+AB26","v":{"$error":"#N/A"}},{"$f":"X31/Z31","v":{"$error":"#N/A"}},{"$f":"IF(AB31=0,0,Y31/AB31)","v":{"$error":"#N/A"}}]
[]
[null,null,null,null,null,null,null,{"$f":"Menu!C8","v":"version 4.32"},{"$f":"Menu!C7","v":0}]

{"sheet":"Rapport de Douane","index":2,"n_rows":42,"n_cols":7,"rows_kept":42,"cut":false,"hidden":false,"merged":[]}
[]
[null,null,"Rapport de Douane (presque fait tout seul...)"]
[null,null,"Recopier dans le forum"]
[null,null,"Et mettre la liste des gens sous la bonne catégorie;)"]
[]
[null,null,"COPIER DANS LE FORUM",null,null,"Présentation","Données"]
[null,null,{"$f":"IF(Datas!$M$14=1,$F7,\"\")","v":"[quote][quote][center][color=indigo][b][size=18]Rapport de Douanes de Tréguier - Grand-Duché de Bretagne[/size][/b][/color]"},null," ",{"$f":"\"[quote][quote][center][color=indigo][b][size=18]\"&$G7&\"[/size][/b][/color]\"","v":"[quote][quote][center][color=indigo][b][size=18]Rapport de Douanes de Tréguier - Grand-Duché de Bretagne[/size][/b][/color]"},{"$f":"\"Rapport de Douanes de \"&Menu!$H$8&\" - \"&Menu!$H$9","v":"Rapport de Douanes de Tréguier - Grand-Duché de Bretagne"}]
[null,null,{"$f":"IF(Datas!$M$14=1,$F8,\"\")","v":"[color=indigo][i][size=14]Maréchale/Douanière Zakarine - Le 2 Juin 1465[/size][/i][/color][/center][/quote]"},null," ",{"$f":"\"[color=indigo][i][size=14]\"&$G8&\"[/size][/i][/color][/center][/quote]\"","v":"[color=indigo][i][size=14]Maréchale/Douanière Zakarine - Le 2 Juin 1465[/size][/i][/color][/center][/quote]"},{"$f":"Menu!$H$6&\" \"&Menu!$H$5&\" - Le \"&DAY(Menu!$D$9)&\" \"&VLOOKUP(MONTH(Menu!$D$9),Datas!$R$9:$T$20,Datas!$R$5)&\" \"&YEAR(Menu!$D$9)-552","v":"Maréchale/Douanière Zakarine - Le 2 Juin 1465"}]
[null,null,{"$f":"IF(Datas!$M$14=1,$F9,\"\")","v":" "},null," "," "]
[null,null,{"$f":"IF(Datas!$M$14=1,$F10,\"\")","v":"[quote][center][color=darkred][u][b]RECAPITULATIF[/b][/u][/color]"},null," ",{"$f":"\"[quote][center]\"&Trait_Etrangers!$I2","v":"[quote][center][color=darkred][u][b]RECAPITULATIF[/b][/u][/color]"}]
[null,null,{"$f":"IF(Datas!$M$14=1,$F11,\"\")","v":"Arrivées : 0 [b][0][/b]"},null," ",{"$f":"Trait_Etrangers!$I3","v":"Arrivées : 0 [b][0][/b]"}]
[null,null,{"$f":"IF(Datas!$M$14=1,$F12,\"\")","v":"Départs : 0 [b][0][/b]"},null," ",{"$f":"Trait_Etrangers!$I4","v":"Départs : 0 [b][0][/b]"}]
[null,null,{"$f":"IF(Datas!$M$14=1,$F13,\"\")","v":"Déjà présents : 0 [b][0][/b]"},null," ",{"$f":"Trait_Etrangers!$I5","v":"Déjà présents : 0 [b][0][/b]"}]
[null,null,{"$f":"IF(Datas!$M$14=1,$F14,\"\")","v":"Donc en Ville : 0 [b][0][/b]"},null," ",{"$f":"Trait_Etrangers!$I6","v":"Donc en Ville : 0 [b][0][/b]"}]
[null,null,{"$f":"IF(Datas!$M$14=1,$F15,\"\")","v":"Etrangers au Comté : 0[b][0][/b]"},null," ",{"$f":"\"Etrangers au Comté : \"&Feux_Alarme!$M$9&\"[b][\"&Feux_Alarme!$N$9&\"][/b]\"","v":"Etrangers au Comté : 0[b][0][/b]"}]
[]
[null,null,{"$f":"IF(Datas!$M$14=1,$F17,\"\")","v":"En retraite: 0 [b][0][/b]"},null," ",{"$f":"Trait_Etrangers!$I8","v":"En retraite: 0 [b][0][/b]"}]
[null,null,{"$f":"IF(Datas!$M$14=1,$F18,\"\")","v":"Morts : 0 [b][0][/b][/center][/quote]"},null," ",{"$f":"Trait_Etrangers!$I9&\"[/center][/quote]\"","v":"Morts : 0 [b][0][/b][/center][/quote]"}]
[null,null,{"$f":"IF(Datas!$M$14=1,$F19,\"\")","v":" "},null," "," "]
[null,null,{"$f":"IF(Datas!$M$14=1,$F20,\"\")","v":"[quote][center][color=darkred][b]MOUVEMENTS :[/b][/color][/center]"},null," ",{"$f":"\"[quote][center][color=darkred][b]MOUVEMENTS :[/b][/color][/center]\"","v":"[quote][center][color=darkred][b]MOUVEMENTS :[/b][/color][/center]"}]
[null,null,null,null," "]
[null,null,{"$f":"IF(Datas!$M$14=1,$F22,\"\")","v":"[quote][center][u]Rapport du maréchal ou milicien : [/u][/center]"},null," ","[quote][center][u]Rapport du maréchal ou milicien : [/u][/center]"]
[null,null,{"$f":"IF(Datas!$M$14=1,$F23,\"\")","v":"(à coller ici)[/quote]"},null," ","(à coller ici)[/quote]"]
[null,null,{"$f":"IF(Datas!$M$14=1,$F24,\"\")","v":"[center][u]Les Arrivées [b]0[/b] :[/u] [b][0 PASBOS][/b][/center]"},null," ",{"$f":"\"[center][u]Les Arrivées [b]\"&Trait_Etrangers!$N$3&\"[/b] :[/u] [b][\"&Trait_Etrangers!$P$3&\" PASBOS][/b][/center]\"","v":"[center][u]Les Arrivées [b]0[/b] :[/u] [b][0 PASBOS][/b][/center]"}]
[null,null,null,null," "]
[null,null,{"$f":"IF(Datas!$M$14=1,$F26,\"\")","v":"[center][u]Les Départs [b]0[/b] :[/u] [b][0 PASBOS][/b][/center]"},null," ",{"$f":"\"[center][u]Les Départs [b]\"&Trait_Villageois!$P$4&\"[/b] :[/u] [b][\"&Trait_Villageois!$Q$4&\" PASBOS][/b][/center]\"","v":"[center][u]Les Départs [b]0[/b] :[/u] [b][0 PASBOS][/b][/center]"}]
[null,null,{"$f":"IF(Datas!$M$14=1,$F27,\"\")","v":"[/quote]"},null," ","[/quote]"]
[null,null,{"$f":"IF(Datas!$M$14=1,$F28,\"\")","v":"[quote][center][color=darkred][b]VILLAGEOIS :[/b][/color]"},null," ","[quote][center][color=darkred][b]VILLAGEOIS :[/b][/color]"]
[null,null,null,null," "]
[null,null,{"$f":"IF(Datas!$M$14=1,$F30,\"\")","v":"[u]Les Villageois présents [b]0[/b] :[/u] [b][0 PASBOS][/b][/center]"},null," ",{"$f":"\"[u]Les Villageois présents [b]\"&Trait_Villageois!$N$5&\"[/b] :[/u] [b][\"&Trait_Villageois!$O$5&\" PASBOS][/b][/center]\"","v":"[u]Les Villageois présents [b]0[/b] :[/u] [b][0 PASBOS][/b][/center]"}]
[null,null,null,null," "]
[null,null,{"$f":"IF(Datas!$M$14=1,$F32,\"\")","v":"[center][u]Les Villageois en retraite [b]0[/b] :[/u] [b][0 PASBOS][/b][/center]"},null," ",{"$f":"\"[center][u]Les Villageois en retraite [b]\"&Trait_Villageois!$N$8&\"[/b] :[/u] [b][\"&Trait_Villageois!$O$8&\" PASBOS][/b][/center]\"","v":"[center][u]Les Villageois en retraite [b]0[/b] :[/u] [b][0 PASBOS][/b][/center]"}]
[null,null,{"$f":"IF(Datas!$M$14=1,$F33,\"\")","v":"[/quote]"},null," ","[/quote]"]
[null,null,{"$f":"IF(Datas!$M$14=1,$F34,\"\")","v":"[quote][center][color=darkred][b]PRESENCE ETRANGERE :[/b][/color]"},null," ","[quote][center][color=darkred][b]PRESENCE ETRANGERE :[/b][/color]"]
[null,null,null,null," "]
[null,null,{"$f":"IF(Datas!$M$14=1,$F36,\"\")","v":"[u]Les Etrangers [b]0[/b] :[/u] [b][0 PASBOS][/b][/center]"},null,null,{"$f":"\"[u]Les Etrangers [b]\"&Trait_Etrangers!$L$5&\"[/b] :[/u] [b][\"&Trait_Etrangers!$M$5&\" PASBOS][/b][/center]\"","v":"[u]Les Etrangers [b]0[/b] :[/u] [b][0 PASBOS][/b][/center]"}]
[]
[null,null,{"$f":"IF(Datas!$M$14=1,$F38,\"\")","v":"[center][u]Les Etrangers en retraite [b]0[/b] :[/u] [b][0 PASBOS][/b][/center]"},null,null,{"$f":"\"[center][u]Les Etrangers en retraite [b]\"&Trait_Etrangers!$L$8&\"[/b] :[/u] [b][\"&Trait_Etrangers!$M$8&\" PASBOS][/b][/center]\"","v":"[center][u]Les Etrangers en retraite [b]0[/b] :[/u] [b][0 PASBOS][/b][/center]"}]
[null,null,{"$f":"IF(Datas!$M$14=1,$F39,\"\")","v":"[/quote]"},null,null,"[/quote]"]
[null,null,{"$f":"IF(Datas!$M$14=1,$F40,\"\")","v":"[quote][center][b]Paix à leur ame :[/b]"},null,null,"[quote][center][b]Paix à leur ame :[/b]"]
[null,null,{"$f":"IF(Datas!$M$14=1,$F41,\"\")","v":"[u]Les Morts [b]0[/b] :[/u] [b][0 PASBOS][/b][/center]"},null,null,{"$f":"\"[u]Les Morts [b]\"&Trait_Villageois!$P$9&\"[/b] :[/u] [b][\"&Trait_Villageois!$Q$9&\" PASBOS][/b][/center]\"","v":"[u]Les Morts [b]0[/b] :[/u] [b][0 PASBOS][/b][/center]"}]
[null,null,{"$f":"IF(Datas!$M$14=1,$F42,\"\")","v":"[/quote][/quote]"},null,null,"[/quote][/quote]"]

{"sheet":"Trait_Etrangers","index":3,"n_rows":299,"n_cols":82,"rows_kept":299,"cut":false,"hidden":false,"merged":[[5,13,5,14],[7,13,7,14],[8,13,8,14],[6,13,6,14],[0,1,1,7],[0,11,0,12],[0,13,0,15],[1,13,1,14],[3,1,4,7],[3,13,3,14],[4,13,4,14],[2,13,2,14],[10,42,10,46],[9,33,9,34],[6,1,6,7],[7,1,7,7],[9,29,9,30],[9,31,9,32],[10,6,11,6],[10,1,11,1],[10,3,11,3],[10,4,11,4],[9,25,9,26],[9,27,9,28],[10,5,11,5]]}
[null,"Aide aux Royaumes Renaissants",null,null,null,null,null,null,"COPIER FORUM"," ",null,"ETRANGERS",null,"RECAP GLOBAL",null,null,null,null,null,null,null,null,null,null,null,null,null,null,null,null,null,null,null,null," "]
[null,null,null,null,null,null,null,null,"[color=darkred][u][b]RECAPITULATIF[/b][/u][/color]"," ",null,"Total",{"$f":"Datas!$D$35","v":"Indésirables"},"Total",null,{"$f":"Datas!$D$35","v":"Indésirables"},null,null,null,null,null,null,null,null,null,null,null,null,null,null,null,null,null,null," ",null,null,null,null,null,null,null,null,null,null,null,null,null,"de la ville","blue","Ville","Du duché","green","Niveau","Niv.1","brown"]
[null,{"$f":"\"v\"&Datas!D38","v":"v4.32"},null,null,null,null,null,"UnderWorld   ",{"$f":"\"Arrivées : \"&N3&\" [b][\"&P3&\"][/b]\"","v":"Arrivées : 0 [b][0][/b]"}," ","Arrivées",{"$f":"SUM(Z13:Z299)","v":0},{"$f":"SUM(AA13:AA299)","v":0},{"$f":"L3+Trait_Villageois!N3","v":0},null,{"$f":"M3+Trait_Villageois!O3","v":0},null,null,null,null,null,null,null,null,null,null,null,null,null,null,null,null,null,null," ",null,null,null,null,null,null,null,null,null,null,null,null,null,"du duché","orange",null,"Etranger","red",null,"Niv.2","indigo"]
[null,"Analyse des ETRANGERS",null,null,null,null,null,null,{"$f":"\"Départs : \"&N4&\" [b][\"&P4&\"][/b]\"","v":"Départs : 0 [b][0][/b]"}," ","Départs",{"$f":"SUM(AB13:AB299)","v":0},{"$f":"SUM(AC13:AC299)","v":0},{"$f":"L4+Trait_Villageois!N4","v":0},null,{"$f":"M4+Trait_Villageois!O4","v":0},null,null,null,null,null,null,null,null,null,null,null,null,null,null,null,null,null,null," ",null,null,null,null,null,null,null,null,null,null,null,null,null,"étranger/abs","darkred",null,null,null,null,"Niv.3","olive"]
[null,null,null,null,null,null,null,null,{"$f":"\"Déjà présents : \"&N5&\" [b][\"&P5&\"][/b]\"","v":"Déjà présents : 0 [b][0][/b]"}," ","Présents (Etrangers)",{"$f":"SUM(AH13:AH299)","v":0},{"$f":"SUM(AI13:AI299)","v":0},{"$f":"L5+Trait_Villageois!N5","v":0},null,{"$f":"M5+Trait_Villageois!O5","v":0},null,null,null,null,null,null,null,null,null,null,null,null,null,null,null,null,null,null," ",null,null,null,null,null,null,null,null,null,null,null,null,null,null,null,null,null,null,null,"Niv.4","orange"]
[null,null,null,null,null,null,null,null,{"$f":"\"Donc en Ville : \"&N6&\" [b][\"&P6&\"][/b]\"","v":"Donc en Ville : 0 [b][0][/b]"}," ","Pantins présents",{"$f":"L5+L3","v":0},{"$f":"M5+M3","v":0},{"$f":"L6+Trait_Villageois!N6","v":0},null,{"$f":"M6+Trait_Villageois!O6","v":0},null,null,null,null,null,null,null,null,null,null,null,null,null,null,null,null,null,null," ",null,null,null,null,null,null,null,null,null,null,null,null,null,null,null,null,null,null,null,"Vag","black"]
[null,{"$f":"\"Rapport de \"&Menu!$H$5","v":"Rapport de Zakarine"},null,null,null,null,null,null,null," "]
[null,{"$f":"\"Compte Rendu du \"&DAY(Menu!$D$9)&\" \"&VLOOKUP(MONTH(Menu!$D$9),Datas!$R$9:$T$20,Datas!$R$5)&\" \"&YEAR(Menu!$D$9)-552","v":"Compte Rendu du 2 Juin 1465"},null,null,null,null,null,null,{"$f":"\"En retraite: \"&N8&\" [b][\"&P8&\"][/b]\"","v":"En retraite: 0 [b][0][/b]"}," ","Retraites",{"$f":"SUM(AD13:AD299)","v":0},{"$f":"SUM(AE13:AE299)","v":0},{"$f":"L8+Trait_Villageois!N8","v":0},null,{"$f":"M8+Trait_Villageois!O8","v":0},null,null,null,null,null,null,null,null,null,null,null,null,null,null,null,null,null,null,null,null,"Menu"]
[null,null,null,null,null,null,null,null,{"$f":"\"Morts : \"&N9&\" [b][\"&P9&\"][/b]\"","v":"Morts : 0 [b][0][/b]"},null,"Morts",{"$f":"SUM(AF13:AF299)","v":0},{"$f":"SUM(AG13:AG299)","v":0},{"$f":"L9+Trait_Villageois!N9","v":0},null,{"$f":"M9+Trait_Villageois!O9","v":0},null,null,null,null,null,null,null,null,null,null,null,null,null,null,null,null,null,null,null,null,{"$f":"SUM($AK$13:$AK$299)","v":0}]
[null,null,null,null,null,null,null,null,null,null,null,null,null,null,null,null,null,null,null,null,null,null,null,null,"Local","Arrivées",null,"Départs",null,"Retraites",null,"Morts",null,"Présents Actifs"]
[null,"COPIER\nFORUM",null,"Mort","Lst","Ret","Mvt","Lien Courrier","Pseudo","Royaume","Comté","Ville","Etat","Niv","PR","Ecus","Voie","Métier","Champ 1","Champ 2","Mvt",null,null,null,"e","a","LN","d","LN","R","LN","M","LN","e","LN",null,"Vide ?",null,null,null,null,null,"Insertion Conditionnelle",null,null,null,null,null,null,null,null,null,null,null,null,null,null,null,null,null,null,null,null,null,null,null,null,null,null,null,null,null,null,null,null,"Statistiques"]
[null,null,null,null,null,null,null,"COPIER LA LISTE DES PERSONNES EN DESSOUS",null,null,null,null,null,null,null,null,null,null,null,null,null,null,null,null,"Mvt","Total","Pasbos","Total","Pasbos","Total","Pasbos","Total","Pasbos","Total","Pasbos",null,null,null,null,"Insert LN ?","Prepa",null,"Ville","Comté","PR","Ecus","Niveau",null,"Joueur","Ville","Duché","PR","Ecus","Niveau","Prof","Champ",null,null,"Joueur","Rech Lst","Village ?","Couleur","Ville","Rech Lst","Village ?","Couleur",null,"Duché","Mort ?","Retraite ??",null,"Rech Lst Noire","Verdict","Lst Noire ?",null,"Arrivées","Départs","Retraites","Morts","LN","Surveillance","Etr"]
[null,{"$f":"IF(BQ13,\"[strike]\"&AN13&\"[/strike]\",IF(BR13,\"[i]\"&AN13&\"[/i]\",AN13))","v":""}," ",{"$f":"IF(M13=\"mort\",\"M\",\"\")","v":""},{"$f":"IF(ISERROR(BV13),\"\",IF(BV13=1,\"LN\",\"\"))","v":""},{"$f":"IF(M13=\"retraite\",\"R\",\"\")","v":""},{"$f":"IF(ISBLANK(Y13),\"\",Y13)","v":""},null,null,null,null,null,null,null,null,null,null,null,null,null,null,null,null,null,{"$f":"IF(OR(ISBLANK(U13),TRIM(U13)=\"\"),IF(ISBLANK($I13),\"\",$Y$11),IF(OR($F13=$AD$11,$D13=$AF$11),$Y$11,IF(U13=\"a/d\",\"\",U13)))","v":""},{"$f":"IF($Y13=Z$11,1,0)","v":0},{"$f":"IF(AND(Z13=1,$E13=AA$11),1,0)","v":0},{"$f":"IF($Y13=AB$11,1,0)","v":0},{"$f":"IF(AND(AB13=1,$E13=AC$11),1,0)","v":0},{"$f":"IF($F13=AD$11,1,0)","v":0},{"$f":"IF(AND(AD13=1,$E13=AE$11),1,0)","v":0},{"$f":"IF($D13=AF$11,1,0)","v":0},{"$f":"IF(AND(AF13=1,$E13=AG$11),1,0)","v":0},{"$f":"IF(AND($Y13=AH$11,(AD13+AF13)=0),1,0)","v":0},{"$f":"IF(AND(AH13=1,$E13=AI$11),1,0)","v":0},null,{"$f":"IF(AND(ISBLANK(I13),ISBLANK(K13),ISBLANK(L13),ISBLANK(P13)),0,1)","v":0},null,null,{"$f":"IF(AO13=\"\",\"\",IF(BV13=1,\"[b][color=red]\"&Datas!$D$32&\"[/color][/b]\"&AO13&\"[b][color=red]\"&Datas!$D$33&\"{\"&BU13&\"}[/color][/b]\",AO13))","v":""},{"$f":"IF(ISBLANK(M13),\"\",AW13&AQ13&AR13&AS13&AT13&AU13)","v":""}," ",{"$f":"IF(ISBLANK(Datas!$C$47),\"\",\" - \"&AX13)","v":{"$error":"#N/A"}},{"$f":"IF(ISBLANK(Datas!$C$48),\"\",\" - \"&AY13)","v":" - 0"},{"$f":"IF(ISBLANK(Datas!$C$49),\"\",\" - \"&AZ13)","v":""},{"$f":"IF(ISBLANK(Datas!$C$50),\"\",\" - \"&BA13)","v":" - Ecus:"},{"$f":"IF(ISBLANK(Datas!$C$51),\"\",\" - \"&BB13)","v":" - Niv: "},null,{"$f":"\"[b][color=\"&BJ13&\"]\"&BG13&\"[/color][/b]\"","v":{"$error":"#N/A"}},{"$f":"\"[b][color=\"&BN13&\"]\"&BK13&\"[/color][/b]\"","v":{"$error":"#N/A"}},{"$f":"BP13","v":0},{"$f":"\"PR:\"&O13","v":"PR:"},{"$f":"\"Ecus:\"&P13","v":"Ecus:"},{"$f":"\"Niv: \"&N13","v":"Niv: "},null,null,null,null,{"$f":"I13","v":0},{"$f":"VLOOKUP(BG13,LstVillage!$B$8:$C$283,1)","v":{"$error":"#N/A"}},{"$f":"IF(BH13<>BG13,0,1)","v":{"$error":"#N/A"}},{"$f":"IF(BI13=1,$AX$2,IF(BM13=1,$AX$3,$AX$4))","v":{"$error":"#N/A"}},{"$f":"L13","v":0},{"$f":"VLOOKUP(BK13,Datas!$G$6:$G$17,1)","v":{"$error":"#N/A"}},{"$f":"IF(BL13<>BK13,0,1)","v":{"$error":"#N/A"}},{"$f":"IF(BM13=1,$BA$2,$BA$3)","v":{"$error":"#N/A"}},null,{"$f":"K13","v":0},{"$f":"IF(F13=\"M\",1,0)","v":0},{"$f":"IF(F13=\"R\",1,0)","v":0},null,{"$f":"VLOOKUP(BG13,Liste_Noire!$B$15:$G$1208,1)","v":{"$error":"#N/A"}},{"$f":"VLOOKUP(BG13,Liste_Noire!$B$15:$G$1208,5)","v":{"$error":"#N/A"}},{"$f":"IF(ISERR(BT13),0,IF(BT13=BG13,1,0))","v":{"$error":"#N/A"}},null,{"$f":"IF(G13=\"a\",1,0)","v":0},{"$f":"IF(G13=\"d\",1,0)","v":0},{"$f":"IF(F13=\"R\",1,0)","v":0},{"$f":"IF(F13=\"M\",1,0)","v":0},{"$f":"IF(ISERROR(BV13),0,IF(BV13=1,IF(BU13=\"Liste Noire\",1,0),0))","v":0},{"$f":"IF(ISERROR(BV13),0,IF(BV13=1,IF(BU13=\"Surveillance\",1,0),0))","v":0},{"$f":"IF(ISBLANK(I13),0,1)","v":0}]
[null,""," ","","","","",null,null,null,null,null,null,null,null,null,null,null,null,null,null,null,null,null,"",0,0,0,0,0,0,0,0,0,0,null,0,null,null,{"$f":"IF(AO14=\"\",\"\",IF(BV14=1,\"[b][color=red]\"&Datas!$D$32&\"[/color][/b]\"&AO14&\"[b][color=red]\"&Datas!$D$33&\"{\"&BU14&\"}[/color][/b]\",AO14))","v":""},""," ",{"$f":"IF(ISBLANK(Datas!$C$47),\"\",\" - \"&AX14)","v":{"$error":"#N/A"}},{"$f":"IF(ISBLANK(Datas!$C$48),\"\",\" - \"&AY14)","v":" - 0"},{"$f":"IF(ISBLANK(Datas!$C$49),\"\",\" - \"&AZ14)","v":""},{"$f":"IF(ISBLANK(Datas!$C$50),\"\",\" - \"&BA14)","v":" - Ecus:"},{"$f":"IF(ISBLANK(Datas!$C$51),\"\",\" - \"&BB14)","v":" - Niv: "},null,{"$error":"#N/A"},{"$error":"#N/A"},0,"PR:","Ecus:","Niv: ",null,null,null,null,0,{"$f":"VLOOKUP(BG14,LstVillage!$B$8:$C$283,1)","v":{"$error":"#N/A"}},{"$error":"#N/A"},{"$error":"#N/A"},0,{"$f":"VLOOKUP(BK14,Datas!$G$6:$G$17,1)","v":{"$error":"#N/A"}},{"$error":"#N/A"},{"$error":"#N/A"},null,0,0,0,null,{"$f":"VLOOKUP(BG14,Liste_Noire!$B$15:$G$1208,1)","v":{"$error":"#N/A"}},{"$f":"VLOOKUP(BG14,Liste_Noire!$B$15:$G$1208,5)","v":{"$error":"#N/A"}},{"$error":"#N/A"},null,0,0,0,0,0,0,0]
[null,""," ","","","","",null,null,null,null,null,null,null,null,null,null,null,null,null,null,null,null,null,"",0,0,0,0,0,0,0,0,0,0,null,0,null,null,{"$f":"IF(AO15=\"\",\"\",IF(BV15=1,\"[b][color=red]\"&Datas!$D$32&\"[/color][/b]\"&AO15&\"[b][color=red]\"&Datas!$D$33&\"{\"&BU15&\"}[/color][/b]\",AO15))","v":""},""," ",{"$f":"IF(ISBLANK(Datas!$C$47),\"\",\" - \"&AX15)","v":{"$error":"#N/A"}},{"$f":"IF(ISBLANK(Datas!$C$48),\"\",\" - \"&AY15)","v":" - 0"},{"$f":"IF(ISBLANK(Datas!$C$49),\"\",\" - \"&AZ15)","v":""},{"$f":"IF(ISBLANK(Datas!$C$50),\"\",\" - \"&BA15)","v":" - Ecus:"},{"$f":"IF(ISBLANK(Datas!$C$51),\"\",\" - \"&BB15)","v":" - Niv: "},null,{"$error":"#N/A"},{"$error":"#N/A"},0,"PR:","Ecus:","Niv: ",null,null,null,null,0,{"$f":"VLOOKUP(BG15,LstVillage!$B$8:$C$283,1)","v":{"$error":"#N/A"}},{"$error":"#N/A"},{"$error":"#N/A"},0,{"$f":"VLOOKUP(BK15,Datas!$G$6:$G$17,1)","v":{"$error":"#N/A"}},{"$error":"#N/A"},{"$error":"#N/A"},null,0,0,0,null,{"$f":"VLOOKUP(BG15,Liste_Noire!$B$15:$G$1208,1)","v":{"$error":"#N/A"}},{"$f":"VLOOKUP(BG15,Liste_Noire!$B$15:$G$1208,5)","v":{"$error":"#N/A"}},{"$error":"#N/A"},null,0,0,0,0,0,0,0]
[null,""," ","","","","",null,null,null,null,null,null,null,null,null,null,null,null,null,null,null,null,null,"",0,0,0,0,0,0,0,0,0,0,null,0,null,null,{"$f":"IF(AO16=\"\",\"\",IF(BV16=1,\"[b][color=red]\"&Datas!$D$32&\"[/color][/b]\"&AO16&\"[b][color=red]\"&Datas!$D$33&\"{\"&BU16&\"}[/color][/b]\",AO16))","v":""},""," ",{"$f":"IF(ISBLANK(Datas!$C$47),\"\",\" - \"&AX16)","v":{"$error":"#N/A"}},{"$f":"IF(ISBLANK(Datas!$C$48),\"\",\" - \"&AY16)","v":" - 0"},{"$f":"IF(ISBLANK(Datas!$C$49),\"\",\" - \"&AZ16)","v":""},{"$f":"IF(ISBLANK(Datas!$C$50),\"\",\" - \"&BA16)","v":" - Ecus:"},{"$f":"IF(ISBLANK(Datas!$C$51),\"\",\" - \"&BB16)","v":" - Niv: "},null,{"$error":"#N/A"},{"$error":"#N/A"},0,"PR:","Ecus:","Niv: ",null,null,null,null,0,{"$f":"VLOOKUP(BG16,LstVillage!$B$8:$C$283,1)","v":{"$error":"#N/A"}},{"$error":"#N/A"},{"$error":"#N/A"},0,{"$f":"VLOOKUP(BK16,Datas!$G$6:$G$17,1)","v":{"$error":"#N/A"}},{"$error":"#N/A"},{"$error":"#N/A"},null,0,0,0,null,{"$f":"VLOOKUP(BG16,Liste_Noire!$B$15:$G$1208,1)","v":{"$error":"#N/A"}},{"$f":"VLOOKUP(BG16,Liste_Noire!$B$15:$G$1208,5)","v":{"$error":"#N/A"}},{"$error":"#N/A"},null,0,0,0,0,0,0,0]
[null,""," ","","","","",null,null,null,null,null,null,null,null,null,null,null,null,null,null,null,null,null,"",0,0,0,0,0,0,0,0,0,0,null,0,null,null,{"$f":"IF(AO17=\"\",\"\",IF(BV17=1,\"[b][color=red]\"&Datas!$D$32&\"[/color][/b]\"&AO17&\"[b][color=red]\"&Datas!$D$33&\"{\"&BU17&\"}[/color][/b]\",AO17))","v":""},""," ",{"$f":"IF(ISBLANK(Datas!$C$47),\"\",\" - \"&AX17)","v":{"$error":"#N/A"}},{"$f":"IF(ISBLANK(Datas!$C$48),\"\",\" - \"&AY17)","v":" - 0"},{"$f":"IF(ISBLANK(Datas!$C$49),\"\",\" - \"&AZ17)","v":""},{"$f":"IF(ISBLANK(Datas!$C$50),\"\",\" - \"&BA17)","v":" - Ecus:"},{"$f":"IF(ISBLANK(Datas!$C$51),\"\",\" - \"&BB17)","v":" - Niv: "},null,{"$error":"#N/A"},{"$error":"#N/A"},0,"PR:","Ecus:","Niv: ",null,null,null,null,0,{"$f":"VLOOKUP(BG17,LstVillage!$B$8:$C$283,1)","v":{"$error":"#N/A"}},{"$error":"#N/A"},{"$error":"#N/A"},0,{"$f":"VLOOKUP(BK17,Datas!$G$6:$G$17,1)","v":{"$error":"#N/A"}},{"$error":"#N/A"},{"$error":"#N/A"},null,0,0,0,null,{"$f":"VLOOKUP(BG17,Liste_Noire!$B$15:$G$1208,1)","v":{"$error":"#N/A"}},{"$f":"VLOOKUP(BG17,Liste_Noire!$B$15:$G$1208,5)","v":{"$error":"#N/A"}},{"$error":"#N/A"},null,0,0,0,0,0,0,0]
[null,""," ","","","","",null,null,null,null,null,null,null,null,null,null,null,null,null,null,null,null,null,"",0,0,0,0,0,0,0,0,0,0,null,0,null,null,{"$f":"IF(AO18=\"\",\"\",IF(BV18=1,\"[b][color=red]\"&Datas!$D$32&\"[/color][/b]\"&AO18&\"[b][color=red]\"&Datas!$D$33&\"{\"&BU18&\"}[/color][/b]\",AO18))","v":""},""," ",{"$f":"IF(ISBLANK(Datas!$C$47),\"\",\" - \"&AX18)","v":{"$error":"#N/A"}},{"$f":"IF(ISBLANK(Datas!$C$48),\"\",\" - \"&AY18)","v":" - 0"},{"$f":"IF(ISBLANK(Datas!$C$49),\"\",\" - \"&AZ18)","v":""},{"$f":"IF(ISBLANK(Datas!$C$50),\"\",\" - \"&BA18)","v":" - Ecus:"},{"$f":"IF(ISBLANK(Datas!$C$51),\"\",\" - \"&BB18)","v":" - Niv: "},null,{"$error":"#N/A"},{"$error":"#N/A"},0,"PR:","Ecus:","Niv: ",null,null,null,null,0,{"$f":"VLOOKUP(BG18,LstVillage!$B$8:$C$283,1)","v":{"$error":"#N/A"}},{"$error":"#N/A"},{"$error":"#N/A"},0,{"$f":"VLOOKUP(BK18,Datas!$G$6:$G$17,1)","v":{"$error":"#N/A"}},{"$error":"#N/A"},{"$error":"#N/A"},null,0,0,0,null,{"$f":"VLOOKUP(BG18,Liste_Noire!$B$15:$G$1208,1)","v":{"$error":"#N/A"}},{"$f":"VLOOKUP(BG18,Liste_Noire!$B$15:$G$1208,5)","v":{"$error":"#N/A"}},{"$error":"#N/A"},null,0,0,0,0,0,0,0]
[null,""," ","","","","",null,null,null,null,null,null,null,null,null,null,null,null,null,null,null,null,null,"",0,0,0,0,0,0,0,0,0,0,null,0,null,null,{"$f":"IF(AO19=\"\",\"\",IF(BV19=1,\"[b][color=red]\"&Datas!$D$32&\"[/color][/b]\"&AO19&\"[b][color=red]\"&Datas!$D$33&\"{\"&BU19&\"}[/color][/b]\",AO19))","v":""},""," ",{"$f":"IF(ISBLANK(Datas!$C$47),\"\",\" - \"&AX19)","v":{"$error":"#N/A"}},{"$f":"IF(ISBLANK(Datas!$C$48),\"\",\" - \"&AY19)","v":" - 0"},{"$f":"IF(ISBLANK(Datas!$C$49),\"\",\" - \"&AZ19)","v":""},{"$f":"IF(ISBLANK(Datas!$C$50),\"\",\" - \"&BA19)","v":" - Ecus:"},{"$f":"IF(ISBLANK(Datas!$C$51),\"\",\" - \"&BB19)","v":" - Niv: "},null,{"$error":"#N/A"},{"$error":"#N/A"},0,"PR:","Ecus:","Niv: ",null,null,null,null,0,{"$f":"VLOOKUP(BG19,LstVillage!$B$8:$C$283,1)","v":{"$error":"#N/A"}},{"$error":"#N/A"},{"$error":"#N/A"},0,{"$f":"VLOOKUP(BK19,Datas!$G$6:$G$17,1)","v":{"$error":"#N/A"}},{"$error":"#N/A"},{"$error":"#N/A"},null,0,0,0,null,{"$f":"VLOOKUP(BG19,Liste_Noire!$B$15:$G$1208,1)","v":{"$error":"#N/A"}},{"$f":"VLOOKUP(BG19,Liste_Noire!$B$15:$G$1208,5)","v":{"$error":"#N/A"}},{"$error":"#N/A"},null,0,0,0,0,0,0,0]
[null,""," ","","","","",null,null,null,null,null,null,null,null,null,null,null,null,null,null,null,null,null,"",0,0,0,0,0,0,0,0,0,0,null,0,null,null,{"$f":"IF(AO20=\"\",\"\",IF(BV20=1,\"[b][color=red]\"&Datas!$D$32&\"[/color][/b]\"&AO20&\"[b][color=red]\"&Datas!$D$33&\"{\"&BU20&\"}[/color][/b]\",AO20))","v":""},""," ",{"$f":"IF(ISBLANK(Datas!$C$47),\"\",\" - \"&AX20)","v":{"$error":"#N/A"}},{"$f":"IF(ISBLANK(Datas!$C$48),\"\",\" - \"&AY20)","v":" - 0"},{"$f":"IF(ISBLANK(Datas!$C$49),\"\",\" - \"&AZ20)","v":""},{"$f":"IF(ISBLANK(Datas!$C$50),\"\",\" - \"&BA20)","v":" - Ecus:"},{"$f":"IF(ISBLANK(Datas!$C$51),\"\",\" - \"&BB20)","v":" - Niv: "},null,{"$error":"#N/A"},{"$error":"#N/A"},0,"PR:","Ecus:","Niv: ",null,null,null,null,0,{"$f":"VLOOKUP(BG20,LstVillage!$B$8:$C$283,1)","v":{"$error":"#N/A"}},{"$error":"#N/A"},{"$error":"#N/A"},0,{"$f":"VLOOKUP(BK20,Datas!$G$6:$G$17,1)","v":{"$error":"#N/A"}},{"$error":"#N/A"},{"$error":"#N/A"},null,0,0,0,null,{"$f":"VLOOKUP(BG20,Liste_Noire!$B$15:$G$1208,1)","v":{"$error":"#N/A"}},{"$f":"VLOOKUP(BG20,Liste_Noire!$B$15:$G$1208,5)","v":{"$error":"#N/A"}},{"$error":"#N/A"},null,0,0,0,0,0,0,0]
[null,{"$f":"IF(BQ21,\"[strike]\"&AN21&\"[/strike]\",IF(BR21,\"[i]\"&AN21&\"[/i]\",AN21))","v":""}," ",{"$f":"IF(M21=\"mort\",\"M\",\"\")","v":""},{"$f":"IF(ISERROR(BV21),\"\",IF(BV21=1,\"LN\",\"\"))","v":""},{"$f":"IF(M21=\"retraite\",\"R\",\"\")","v":""},{"$f":"IF(ISBLANK(Y21),\"\",Y21)","v":""},null,null,null,null,null,null,null,null,null,null,null,null,null,null,null,null,null,{"$f":"IF(OR(ISBLANK(U21),TRIM(U21)=\"\"),IF(ISBLANK($I21),\"\",$Y$11),IF(OR($F21=$AD$11,$D21=$AF$11),$Y$11,IF(U21=\"a/d\",\"\",U21)))","v":""},{"$f":"IF($Y21=Z$11,1,0)","v":0},{"$f":"IF(AND(Z21=1,$E21=AA$11),1,0)","v":0},{"$f":"IF($Y21=AB$11,1,0)","v":0},{"$f":"IF(AND(AB21=1,$E21=AC$11),1,0)","v":0},{"$f":"IF($F21=AD$11,1,0)","v":0},{"$f":"IF(AND(AD21=1,$E21=AE$11),1,0)","v":0},{"$f":"IF($D21=AF$11,1,0)","v":0},{"$f":"IF(AND(AF21=1,$E21=AG$11),1,0)","v":0},{"$f":"IF(AND($Y21=AH$11,(AD21+AF21)=0),1,0)","v":0},{"$f":"IF(AND(AH21=1,$E21=AI$11),1,0)","v":0},null,{"$f":"IF(AND(ISBLANK(I21),ISBLANK(K21),ISBLANK(L21),ISBLANK(P21)),0,1)","v":0},null,null,{"$f":"IF(AO21=\"\",\"\",IF(BV21=1,\"[b][color=red]\"&Datas!$D$32&\"[/color][/b]\"&AO21&\"[b][color=red]\"&Datas!$D$33&\"{\"&BU21&\"}[/color][/b]\",AO21))","v":""},{"$f":"IF(ISBLANK(M21),\"\",AW21&AQ21&AR21&AS21&AT21&AU21)","v":""}," ",{"$f":"IF(ISBLANK(Datas!$C$47),\"\",\" - \"&AX21)","v":{"$error":"#N/A"}},{"$f":"IF(ISBLANK(Datas!$C$48),\"\",\" - \"&AY21)","v":" - 0"},{"$f":"IF(ISBLANK(Datas!$C$49),\"\",\" - \"&AZ21)","v":""},{"$f":"IF(ISBLANK(Datas!$C$50),\"\",\" - \"&BA21)","v":" - Ecus:"},{"$f":"IF(ISBLANK(Datas!$C$51),\"\",\" - \"&BB21)","v":" - Niv: "},null,{"$f":"\"[b][color=\"&BJ21&\"]\"&BG21&\"[/color][/b]\"","v":{"$error":"#N/A"}},{"$f":"\"[b][color=\"&BN21&\"]\"&BK21&\"[/color][/b]\"","v":{"$error":"#N/A"}},{"$f":"BP21","v":0},{"$f":"\"PR:\"&O21","v":"PR:"},{"$f":"\"Ecus:\"&P21","v":"Ecus:"},{"$f":"\"Niv: \"&N21","v":"Niv: "},null,null,null,null,{"$f":"I21","v":0},{"$f":"VLOOKUP(BG21,LstVillage!$B$8:$C$283,1)","v":{"$error":"#N/A"}},{"$f":"IF(BH21<>BG21,0,1)","v":{"$error":"#N/A"}},{"$f":"IF(BI21=1,$AX$2,IF(BM21=1,$AX$3,$AX$4))","v":{"$error":"#N/A"}},{"$f":"L21","v":0},{"$f":"VLOOKUP(BK21,Datas!$G$6:$G$17,1)","v":{"$error":"#N/A"}},{"$f":"IF(BL21<>BK21,0,1)","v":{"$error":"#N/A"}},{"$f":"IF(BM21=1,$BA$2,$BA$3)","v":{"$error":"#N/A"}},null,{"$f":"K21","v":0},{"$f":"IF(F21=\"M\",1,0)","v":0},{"$f":"IF(F21=\"R\",1,0)","v":0},null,{"$f":"VLOOKUP(BG21,Liste_Noire!$B$15:$G$1208,1)","v":{"$error":"#N/A"}},{"$f":"VLOOKUP(BG21,Liste_Noire!$B$15:$G$1208,5)","v":{"$error":"#N/A"}},{"$f":"IF(ISERR(BT21),0,IF(BT21=BG21,1,0))","v":{"$error":"#N/A"}},null,{"$f":"IF(G21=\"a\",1,0)","v":0},{"$f":"IF(G21=\"d\",1,0)","v":0},{"$f":"IF(F21=\"R\",1,0)","v":0},{"$f":"IF(F21=\"M\",1,0)","v":0},{"$f":"IF(ISERROR(BV21),0,IF(BV21=1,IF(BU21=\"Liste Noire\",1,0),0))","v":0},{"$f":"IF(ISERROR(BV21),0,IF(BV21=1,IF(BU21=\"Surveillance\",1,0),0))","v":0},{"$f":"IF(ISBLANK(I21),0,1)","v":0}]
[null,""," ","","","","",null,null,null,null,null,null,null,null,null,null,null,null,null,null,null,null,null,"",0,0,0,0,0,0,0,0,0,0,null,0,null,null,{"$f":"IF(AO22=\"\",\"\",IF(BV22=1,\"[b][color=red]\"&Datas!$D$32&\"[/color][/b]\"&AO22&\"[b][color=red]\"&Datas!$D$33&\"{\"&BU22&\"}[/color][/b]\",AO22))","v":""},""," ",{"$f":"IF(ISBLANK(Datas!$C$47),\"\",\" - \"&AX22)","v":{"$error":"#N/A"}},{"$f":"IF(ISBLANK(Datas!$C$48),\"\",\" - \"&AY22)","v":" - 0"},{"$f":"IF(ISBLANK(Datas!$C$49),\"\",\" - \"&AZ22)","v":""},{"$f":"IF(ISBLANK(Datas!$C$50),\"\",\" - \"&BA22)","v":" - Ecus:"},{"$f":"IF(ISBLANK(Datas!$C$51),\"\",\" - \"&BB22)","v":" - Niv: "},null,{"$error":"#N/A"},{"$error":"#N/A"},0,"PR:","Ecus:","Niv: ",null,null,null,null,0,{"$f":"VLOOKUP(BG22,LstVillage!$B$8:$C$283,1)","v":{"$error":"#N/A"}},{"$error":"#N/A"},{"$error":"#N/A"},0,{"$f":"VLOOKUP(BK22,Datas!$G$6:$G$17,1)","v":{"$error":"#N/A"}},{"$error":"#N/A"},{"$error":"#N/A"},null,0,0,0,null,{"$f":"VLOOKUP(BG22,Liste_Noire!$B$15:$G$1208,1)","v":{"$error":"#N/A"}},{"$f":"VLOOKUP(BG22,Liste_Noire!$B$15:$G$1208,5)","v":{"$error":"#N/A"}},{"$error":"#N/A"},null,0,0,0,0,0,0,0]
[null,""," ","","","","",null,null,null,null,null,null,null,null,null,null,null,null,null,null,null,null,null,"",0,0,0,0,0,0,0,0,0,0,null,0,null,null,{"$f":"IF(AO23=\"\",\"\",IF(BV23=1,\"[b][color=red]\"&Datas!$D$32&\"[/color][/b]\"&AO23&\"[b][color=red]\"&Datas!$D$33&\"{\"&BU23&\"}[/color][/b]\",AO23))","v":""},""," ",{"$f":"IF(ISBLANK(Datas!$C$47),\"\",\" - \"&AX23)","v":{"$error":"#N/A"}},{"$f":"IF(ISBLANK(Datas!$C$48),\"\",\" - \"&AY23)","v":" - 0"},{"$f":"IF(ISBLANK(Datas!$C$49),\"\",\" - \"&AZ23)","v":""},{"$f":"IF(ISBLANK(Datas!$C$50),\"\",\" - \"&BA23)","v":" - Ecus:"},{"$f":"IF(ISBLANK(Datas!$C$51),\"\",\" - \"&BB23)","v":" - Niv: "},null,{"$error":"#N/A"},{"$error":"#N/A"},0,"PR:","Ecus:","Niv: ",null,null,null,null,0,{"$f":"VLOOKUP(BG23,LstVillage!$B$8:$C$283,1)","v":{"$error":"#N/A"}},{"$error":"#N/A"},{"$error":"#N/A"},0,{"$f":"VLOOKUP(BK23,Datas!$G$6:$G$17,1)","v":{"$error":"#N/A"}},{"$error":"#N/A"},{"$error":"#N/A"},null,0,0,0,null,{"$f":"VLOOKUP(BG23,Liste_Noire!$B$15:$G$1208,1)","v":{"$error":"#N/A"}},{"$f":"VLOOKUP(BG23,Liste_Noire!$B$15:$G$1208,5)","v":{"$error":"#N/A"}},{"$error":"#N/A"},null,0,0,0,0,0,0,0]
[null,""," ","","","","",null,null,null,null,null,null,null,null,null,null,null,null,null,null,null,null,null,"",0,0,0,0,0,0,0,0,0,0,null,0,null,null,{"$f":"IF(AO24=\"\",\"\",IF(BV24=1,\"[b][color=red]\"&Datas!$D$32&\"[/color][/b]\"&AO24&\"[b][color=red]\"&Datas!$D$33&\"{\"&BU24&\"}[/color][/b]\",AO24))","v":""},""," ",{"$f":"IF(ISBLANK(Datas!$C$47),\"\",\" - \"&AX24)","v":{"$error":"#N/A"}},{"$f":"IF(ISBLANK(Datas!$C$48),\"\",\" - \"&AY24)","v":" - 0"},{"$f":"IF(ISBLANK(Datas!$C$49),\"\",\" - \"&AZ24)","v":""},{"$f":"IF(ISBLANK(Datas!$C$50),\"\",\" - \"&BA24)","v":" - Ecus:"},{"$f":"IF(ISBLANK(Datas!$C$51),\"\",\" - \"&BB24)","v":" - Niv: "},null,{"$error":"#N/A"},{"$error":"#N/A"},0,"PR:","Ecus:","Niv: ",null,null,null,null,0,{"$f":"VLOOKUP(BG24,LstVillage!$B$8:$C$283,1)","v":{"$error":"#N/A"}},{"$error":"#N/A"},{"$error":"#N/A"},0,{"$f":"VLOOKUP(BK24,Datas!$G$6:$G$17,1)","v":{"$error":"#N/A"}},{"$error":"#N/A"},{"$error":"#N/A"},null,0,0,0,null,{"$f":"VLOOKUP(BG24,Liste_Noire!$B$15:$G$1208,1)","v":{"$error":"#N/A"}},{"$f":"VLOOKUP(BG24,Liste_Noire!$B$15:$G$1208,5)","v":{"$error":"#N/A"}},{"$error":"#N/A"},null,0,0,0,0,0,0,0]
[null,""," ","","","","",null,null,null,null,null,null,null,null,null,null,null,null,null,null,null,null,null,"",0,0,0,0,0,0,0,0,0,0,null,0,null,null,{"$f":"IF(AO25=\"\",\"\",IF(BV25=1,\"[b][color=red]\"&Datas!$D$32&\"[/color][/b]\"&AO25&\"[b][color=red]\"&Datas!$D$33&\"{\"&BU25&\"}[/color][/b]\",AO25))","v":""},""," ",{"$f":"IF(ISBLANK(Datas!$C$47),\"\",\" - \"&AX25)","v":{"$error":"#N/A"}},{"$f":"IF(ISBLANK(Datas!$C$48),\"\",\" - \"&AY25)","v":" - 0"},{"$f":"IF(ISBLANK(Datas!$C$49),\"\",\" - \"&AZ25)","v":""},{"$f":"IF(ISBLANK(Datas!$C$50),\"\",\" - \"&BA25)","v":" - Ecus:"},{"$f":"IF(ISBLANK(Datas!$C$51),\"\",\" - \"&BB25)","v":" - Niv: "},null,{"$error":"#N/A"},{"$error":"#N/A"},0,"PR:","Ecus:","Niv: ",null,null,null,null,0,{"$f":"VLOOKUP(BG25,LstVillage!$B$8:$C$283,1)","v":{"$error":"#N/A"}},{"$error":"#N/A"},{"$error":"#N/A"},0,{"$f":"VLOOKUP(BK25,Datas!$G$6:$G$17,1)","v":{"$error":"#N/A"}},{"$error":"#N/A"},{"$error":"#N/A"},null,0,0,0,null,{"$f":"VLOOKUP(BG25,Liste_Noire!$B$15:$G$1208,1)","v":{"$error":"#N/A"}},{"$f":"VLOOKUP(BG25,Liste_Noire!$B$15:$G$1208,5)","v":{"$error":"#N/A"}},{"$error":"#N/A"},null,0,0,0,0,0,0,0]
[null,""," ","","","","",null,null,null,null,null,null,null,null,null,null,null,null,null,null,null,null,null,"",0,0,0,0,0,0,0,0,0,0,null,0,null,null,{"$f":"IF(AO26=\"\",\"\",IF(BV26=1,\"[b][color=red]\"&Datas!$D$32&\"[/color][/b]\"&AO26&\"[b][color=red]\"&Datas!$D$33&\"{\"&BU26&\"}[/color][/b]\",AO26))","v":""},""," ",{"$f":"IF(ISBLANK(Datas!$C$47),\"\",\" - \"&AX26)","v":{"$error":"#N/A"}},{"$f":"IF(ISBLANK(Datas!$C$48),\"\",\" - \"&AY26)","v":" - 0"},{"$f":"IF(ISBLANK(Datas!$C$49),\"\",\" - \"&AZ26)","v":""},{"$f":"IF(ISBLANK(Datas!$C$50),\"\",\" - \"&BA26)","v":" - Ecus:"},{"$f":"IF(ISBLANK(Datas!$C$51),\"\",\" - \"&BB26)","v":" - Niv: "},null,{"$error":"#N/A"},{"$error":"#N/A"},0,"PR:","Ecus:","Niv: ",null,null,null,null,0,{"$f":"VLOOKUP(BG26,LstVillage!$B$8:$C$283,1)","v":{"$error":"#N/A"}},{"$error":"#N/A"},{"$error":"#N/A"},0,{"$f":"VLOOKUP(BK26,Datas!$G$6:$G$17,1)","v":{"$error":"#N/A"}},{"$error":"#N/A"},{"$error":"#N/A"},null,0,0,0,null,{"$f":"VLOOKUP(BG26,Liste_Noire!$B$15:$G$1208,1)","v":{"$error":"#N/A"}},{"$f":"VLOOKUP(BG26,Liste_Noire!$B$15:$G$1208,5)","v":{"$error":"#N/A"}},{"$error":"#N/A"},null,0,0,0,0,0,0,0]
[null,""," ","","","","",null,null,null,null,null,null,null,null,null,null,null,null,null,null,null,null,null,"",0,0,0,0,0,0,0,0,0,0,null,0,null,null,{"$f":"IF(AO27=\"\",\"\",IF(BV27=1,\"[b][color=red]\"&Datas!$D$32&\"[/color][/b]\"&AO27&\"[b][color=red]\"&Datas!$D$33&\"{\"&BU27&\"}[/color][/b]\",AO27))","v":""},""," ",{"$f":"IF(ISBLANK(Datas!$C$47),\"\",\" - \"&AX27)","v":{"$error":"#N/A"}},{"$f":"IF(ISBLANK(Datas!$C$48),\"\",\" - \"&AY27)","v":" - 0"},{"$f":"IF(ISBLANK(Datas!$C$49),\"\",\" - \"&AZ27)","v":""},{"$f":"IF(ISBLANK(Datas!$C$50),\"\",\" - \"&BA27)","v":" - Ecus:"},{"$f":"IF(ISBLANK(Datas!$C$51),\"\",\" - \"&BB27)","v":" - Niv: "},null,{"$error":"#N/A"},{"$error":"#N/A"},0,"PR:","Ecus:","Niv: ",null,null,null,null,0,{"$f":"VLOOKUP(BG27,LstVillage!$B$8:$C$283,1)","v":{"$error":"#N/A"}},{"$error":"#N/A"},{"$error":"#N/A"},0,{"$f":"VLOOKUP(BK27,Datas!$G$6:$G$17,1)","v":{"$error":"#N/A"}},{"$error":"#N/A"},{"$error":"#N/A"},null,0,0,0,null,{"$f":"VLOOKUP(BG27,Liste_Noire!$B$15:$G$1208,1)","v":{"$error":"#N/A"}},{"$f":"VLOOKUP(BG27,Liste_Noire!$B$15:$G$1208,5)","v":{"$error":"#N/A"}},{"$error":"#N/A"},null,0,0,0,0,0,0,0]
[null,""," ","","","","",null,null,null,null,null,null,null,null,null,null,null,null,null,null,null,null,null,"",0,0,0,0,0,0,0,0,0,0,null,0,null,null,{"$f":"IF(AO28=\"\",\"\",IF(BV28=1,\"[b][color=red]\"&Datas!$D$32&\"[/color][/b]\"&AO28&\"[b][color=red]\"&Datas!$D$33&\"{\"&BU28&\"}[/color][/b]\",AO28))","v":""},""," ",{"$f":"IF(ISBLANK(Datas!$C$47),\"\",\" - \"&AX28)","v":{"$error":"#N/A"}},{"$f":"IF(ISBLANK(Datas!$C$48),\"\",\" - \"&AY28)","v":" - 0"},{"$f":"IF(ISBLANK(Datas!$C$49),\"\",\" - \"&AZ28)","v":""},{"$f":"IF(ISBLANK(Datas!$C$50),\"\",\" - \"&BA28)","v":" - Ecus:"},{"$f":"IF(ISBLANK(Datas!$C$51),\"\",\" - \"&BB28)","v":" - Niv: "},null,{"$error":"#N/A"},{"$error":"#N/A"},0,"PR:","Ecus:","Niv: ",null,null,null,null,0,{"$f":"VLOOKUP(BG28,LstVillage!$B$8:$C$283,1)","v":{"$error":"#N/A"}},{"$error":"#N/A"},{"$error":"#N/A"},0,{"$f":"VLOOKUP(BK28,Datas!$G$6:$G$17,1)","v":{"$error":"#N/A"}},{"$error":"#N/A"},{"$error":"#N/A"},null,0,0,0,null,{"$f":"VLOOKUP(BG28,Liste_Noire!$B$15:$G$1208,1)","v":{"$error":"#N/A"}},{"$f":"VLOOKUP(BG28,Liste_Noire!$B$15:$G$1208,5)","v":{"$error":"#N/A"}},{"$error":"#N/A"},null,0,0,0,0,0,0,0]
[null,""," ","","","","",null,null,null,null,null,null,null,null,null,null,null,null,null,null,null,null,null,"",0,0,0,0,0,0,0,0,0,0,null,0,null,null,{"$f":"IF(AO29=\"\",\"\",IF(BV29=1,\"[b][color=red]\"&Datas!$D$32&\"[/color][/b]\"&AO29&\"[b][color=red]\"&Datas!$D$33&\"{\"&BU29&\"}[/color][/b]\",AO29))","v":""},""," ",{"$f":"IF(ISBLANK(Datas!$C$47),\"\",\" - \"&AX29)","v":{"$error":"#N/A"}},{"$f":"IF(ISBLANK(Datas!$C$48),\"\",\" - \"&AY29)","v":" - 0"},{"$f":"IF(ISBLANK(Datas!$C$49),\"\",\" - \"&AZ29)","v":""},{"$f":"IF(ISBLANK(Datas!$C$50),\"\",\" - \"&BA29)","v":" - Ecus:"},{"$f":"IF(ISBLANK(Datas!$C$51),\"\",\" - \"&BB29)","v":" - Niv: "},null,{"$error":"#N/A"},{"$error":"#N/A"},0,"PR:","Ecus:","Niv: ",null,null,null,null,0,{"$f":"VLOOKUP(BG29,LstVillage!$B$8:$C$283,1)","v":{"$error":"#N/A"}},{"$error":"#N/A"},{"$error":"#N/A"},0,{"$f":"VLOOKUP(BK29,Datas!$G$6:$G$17,1)","v":{"$error":"#N/A"}},{"$error":"#N/A"},{"$error":"#N/A"},null,0,0,0,null,{"$f":"VLOOKUP(BG29,Liste_Noire!$B$15:$G$1208,1)","v":{"$error":"#N/A"}},{"$f":"VLOOKUP(BG29,Liste_Noire!$B$15:$G$1208,5)","v":{"$error":"#N/A"}},{"$error":"#N/A"},null,0,0,0,0,0,0,0]
[null,""," ","","","","",null,null,null,null,null,null,null,null,null,null,null,null,null,null,null,null,null,"",0,0,0,0,0,0,0,0,0,0,null,0,null,null,{"$f":"IF(AO30=\"\",\"\",IF(BV30=1,\"[b][color=red]\"&Datas!$D$32&\"[/color][/b]\"&AO30&\"[b][color=red]\"&Datas!$D$33&\"{\"&BU30&\"}[/color][/b]\",AO30))","v":""},""," ",{"$f":"IF(ISBLANK(Datas!$C$47),\"\",\" - \"&AX30)","v":{"$error":"#N/A"}},{"$f":"IF(ISBLANK(Datas!$C$48),\"\",\" - \"&AY30)","v":" - 0"},{"$f":"IF(ISBLANK(Datas!$C$49),\"\",\" - \"&AZ30)","v":""},{"$f":"IF(ISBLANK(Datas!$C$50),\"\",\" - \"&BA30)","v":" - Ecus:"},{"$f":"IF(ISBLANK(Datas!$C$51),\"\",\" - \"&BB30)","v":" - Niv: "},null,{"$error":"#N/A"},{"$error":"#N/A"},0,"PR:","Ecus:","Niv: ",null,null,null,null,0,{"$f":"VLOOKUP(BG30,LstVillage!$B$8:$C$283,1)","v":{"$error":"#N/A"}},{"$error":"#N/A"},{"$error":"#N/A"},0,{"$f":"VLOOKUP(BK30,Datas!$G$6:$G$17,1)","v":{"$error":"#N/A"}},{"$error":"#N/A"},{"$error":"#N/A"},null,0,0,0,null,{"$f":"VLOOKUP(BG30,Liste_Noire!$B$15:$G$1208,1)","v":{"$error":"#N/A"}},{"$f":"VLOOKUP(BG30,Liste_Noire!$B$15:$G$1208,5)","v":{"$error":"#N/A"}},{"$error":"#N/A"},null,0,0,0,0,0,0,0]
[null,""," ","","","","",null,null,null,null,null,null,null,null,null,null,null,null,null,null,null,null,null,"",0,0,0,0,0,0,0,0,0,0,null,0,null,null,{"$f":"IF(AO31=\"\",\"\",IF(BV31=1,\"[b][color=red]\"&Datas!$D$32&\"[/color][/b]\"&AO31&\"[b][color=red]\"&Datas!$D$33&\"{\"&BU31&\"}[/color][/b]\",AO31))","v":""},""," ",{"$f":"IF(ISBLANK(Datas!$C$47),\"\",\" - \"&AX31)","v":{"$error":"#N/A"}},{"$f":"IF(ISBLANK(Datas!$C$48),\"\",\" - \"&AY31)","v":" - 0"},{"$f":"IF(ISBLANK(Datas!$C$49),\"\",\" - \"&AZ31)","v":""},{"$f":"IF(ISBLANK(Datas!$C$50),\"\",\" - \"&BA31)","v":" - Ecus:"},{"$f":"IF(ISBLANK(Datas!$C$51),\"\",\" - \"&BB31)","v":" - Niv: "},null,{"$error":"#N/A"},{"$error":"#N/A"},0,"PR:","Ecus:","Niv: ",null,null,null,null,0,{"$f":"VLOOKUP(BG31,LstVillage!$B$8:$C$283,1)","v":{"$error":"#N/A"}},{"$error":"#N/A"},{"$error":"#N/A"},0,{"$f":"VLOOKUP(BK31,Datas!$G$6:$G$17,1)","v":{"$error":"#N/A"}},{"$error":"#N/A"},{"$error":"#N/A"},null,0,0,0,null,{"$f":"VLOOKUP(BG31,Liste_Noire!$B$15:$G$1208,1)","v":{"$error":"#N/A"}},{"$f":"VLOOKUP(BG31,Liste_Noire!$B$15:$G$1208,5)","v":{"$error":"#N/A"}},{"$error":"#N/A"},null,0,0,0,0,0,0,0]
[null,""," ","","","","",null,null,null,null,null,null,null,null,null,null,null,null,null,null,null,null,null,"",0,0,0,0,0,0,0,0,0,0,null,0,null,null,{"$f":"IF(AO32=\"\",\"\",IF(BV32=1,\"[b][color=red]\"&Datas!$D$32&\"[/color][/b]\"&AO32&\"[b][color=red]\"&Datas!$D$33&\"{\"&BU32&\"}[/color][/b]\",AO32))","v":""},""," ",{"$f":"IF(ISBLANK(Datas!$C$47),\"\",\" - \"&AX32)","v":{"$error":"#N/A"}},{"$f":"IF(ISBLANK(Datas!$C$48),\"\",\" - \"&AY32)","v":" - 0"},{"$f":"IF(ISBLANK(Datas!$C$49),\"\",\" - \"&AZ32)","v":""},{"$f":"IF(ISBLANK(Datas!$C$50),\"\",\" - \"&BA32)","v":" - Ecus:"},{"$f":"IF(ISBLANK(Datas!$C$51),\"\",\" - \"&BB32)","v":" - Niv: "},null,{"$error":"#N/A"},{"$error":"#N/A"},0,"PR:","Ecus:","Niv: ",null,null,null,null,0,{"$f":"VLOOKUP(BG32,LstVillage!$B$8:$C$283,1)","v":{"$error":"#N/A"}},{"$error":"#N/A"},{"$error":"#N/A"},0,{"$f":"VLOOKUP(BK32,Datas!$G$6:$G$17,1)","v":{"$error":"#N/A"}},{"$error":"#N/A"},{"$error":"#N/A"},null,0,0,0,null,{"$f":"VLOOKUP(BG32,Liste_Noire!$B$15:$G$1208,1)","v":{"$error":"#N/A"}},{"$f":"VLOOKUP(BG32,Liste_Noire!$B$15:$G$1208,5)","v":{"$error":"#N/A"}},{"$error":"#N/A"},null,0,0,0,0,0,0,0]
[null,""," ","","","","",null,null,null,null,null,null,null,null,null,null,null,null,null,null,null,null,null,"",0,0,0,0,0,0,0,0,0,0,null,0,null,null,{"$f":"IF(AO33=\"\",\"\",IF(BV33=1,\"[b][color=red]\"&Datas!$D$32&\"[/color][/b]\"&AO33&\"[b][color=red]\"&Datas!$D$33&\"{\"&BU33&\"}[/color][/b]\",AO33))","v":""},""," ",{"$f":"IF(ISBLANK(Datas!$C$47),\"\",\" - \"&AX33)","v":{"$error":"#N/A"}},{"$f":"IF(ISBLANK(Datas!$C$48),\"\",\" - \"&AY33)","v":" - 0"},{"$f":"IF(ISBLANK(Datas!$C$49),\"\",\" - \"&AZ33)","v":""},{"$f":"IF(ISBLANK(Datas!$C$50),\"\",\" - \"&BA33)","v":" - Ecus:"},{"$f":"IF(ISBLANK(Datas!$C$51),\"\",\" - \"&BB33)","v":" - Niv: "},null,{"$error":"#N/A"},{"$error":"#N/A"},0,"PR:","Ecus:","Niv: ",null,null,null,null,0,{"$f":"VLOOKUP(BG33,LstVillage!$B$8:$C$283,1)","v":{"$error":"#N/A"}},{"$error":"#N/A"},{"$error":"#N/A"},0,{"$f":"VLOOKUP(BK33,Datas!$G$6:$G$17,1)","v":{"$error":"#N/A"}},{"$error":"#N/A"},{"$error":"#N/A"},null,0,0,0,null,{"$f":"VLOOKUP(BG33,Liste_Noire!$B$15:$G$1208,1)","v":{"$error":"#N/A"}},{"$f":"VLOOKUP(BG33,Liste_Noire!$B$15:$G$1208,5)","v":{"$error":"#N/A"}},{"$error":"#N/A"},null,0,0,0,0,0,0,0]
[null,""," ","","","","",null,null,null,null,null,null,null,null,null,null,null,null,null,null,null,null,null,"",0,0,0,0,0,0,0,0,0,0,null,0,null,null,{"$f":"IF(AO34=\"\",\"\",IF(BV34=1,\"[b][color=red]\"&Datas!$D$32&\"[/color][/b]\"&AO34&\"[b][color=red]\"&Datas!$D$33&\"{\"&BU34&\"}[/color][/b]\",AO34))","v":""},""," ",{"$f":"IF(ISBLANK(Datas!$C$47),\"\",\" - \"&AX34)","v":{"$error":"#N/A"}},{"$f":"IF(ISBLANK(Datas!$C$48),\"\",\" - \"&AY34)","v":" - 0"},{"$f":"IF(ISBLANK(Datas!$C$49),\"\",\" - \"&AZ34)","v":""},{"$f":"IF(ISBLANK(Datas!$C$50),\"\",\" - \"&BA34)","v":" - Ecus:"},{"$f":"IF(ISBLANK(Datas!$C$51),\"\",\" - \"&BB34)","v":" - Niv: "},null,{"$error":"#N/A"},{"$error":"#N/A"},0,"PR:","Ecus:","Niv: ",null,null,null,null,0,{"$f":"VLOOKUP(BG34,LstVillage!$B$8:$C$283,1)","v":{"$error":"#N/A"}},{"$error":"#N/A"},{"$error":"#N/A"},0,{"$f":"VLOOKUP(BK34,Datas!$G$6:$G$17,1)","v":{"$error":"#N/A"}},{"$error":"#N/A"},{"$error":"#N/A"},null,0,0,0,null,{"$f":"VLOOKUP(BG34,Liste_Noire!$B$15:$G$1208,1)","v":{"$error":"#N/A"}},{"$f":"VLOOKUP(BG34,Liste_Noire!$B$15:$G$1208,5)","v":{"$error":"#N/A"}},{"$error":"#N/A"},null,0,0,0,0,0,0,0]
[null,""," ","","","","",null,null,null,null,null,null,null,null,null,null,null,null,null,null,null,null,null,"",0,0,0,0,0,0,0,0,0,0,null,0,null,null,{"$f":"IF(AO35=\"\",\"\",IF(BV35=1,\"[b][color=red]\"&Datas!$D$32&\"[/color][/b]\"&AO35&\"[b][color=red]\"&Datas!$D$33&\"{\"&BU35&\"}[/color][/b]\",AO35))","v":""},""," ",{"$f":"IF(ISBLANK(Datas!$C$47),\"\",\" - \"&AX35)","v":{"$error":"#N/A"}},{"$f":"IF(ISBLANK(Datas!$C$48),\"\",\" - \"&AY35)","v":" - 0"},{"$f":"IF(ISBLANK(Datas!$C$49),\"\",\" - \"&AZ35)","v":""},{"$f":"IF(ISBLANK(Datas!$C$50),\"\",\" - \"&BA35)","v":" - Ecus:"},{"$f":"IF(ISBLANK(Datas!$C$51),\"\",\" - \"&BB35)","v":" - Niv: "},null,{"$error":"#N/A"},{"$error":"#N/A"},0,"PR:","Ecus:","Niv: ",null,null,null,null,0,{"$f":"VLOOKUP(BG35,LstVillage!$B$8:$C$283,1)","v":{"$error":"#N/A"}},{"$error":"#N/A"},{"$error":"#N/A"},0,{"$f":"VLOOKUP(BK35,Datas!$G$6:$G$17,1)","v":{"$error":"#N/A"}},{"$error":"#N/A"},{"$error":"#N/A"},null,0,0,0,null,{"$f":"VLOOKUP(BG35,Liste_Noire!$B$15:$G$1208,1)","v":{"$error":"#N/A"}},{"$f":"VLOOKUP(BG35,Liste_Noire!$B$15:$G$1208,5)","v":{"$error":"#N/A"}},{"$error":"#N/A"},null,0,0,0,0,0,0,0]
[null,""," ","","","","",null,null,null,null,null,null,null,null,null,null,null,null,null,null,null,null,null,"",0,0,0,0,0,0,0,0,0,0,null,0,null,null,{"$f":"IF(AO36=\"\",\"\",IF(BV36=1,\"[b][color=red]\"&Datas!$D$32&\"[/color][/b]\"&AO36&\"[b][color=red]\"&Datas!$D$33&\"{\"&BU36&\"}[/color][/b]\",AO36))","v":""},""," ",{"$f":"IF(ISBLANK(Datas!$C$47),\"\",\" - \"&AX36)","v":{"$error":"#N/A"}},{"$f":"IF(ISBLANK(Datas!$C$48),\"\",\" - \"&AY36)","v":" - 0"},{"$f":"IF(ISBLANK(Datas!$C$49),\"\",\" - \"&AZ36)","v":""},{"$f":"IF(ISBLANK(Datas!$C$50),\"\",\" - \"&BA36)","v":" - Ecus:"},{"$f":"IF(ISBLANK(Datas!$C$51),\"\",\" - \"&BB36)","v":" - Niv: "},null,{"$error":"#N/A"},{"$error":"#N/A"},0,"PR:","Ecus:","Niv: ",null,null,null,null,0,{"$f":"VLOOKUP(BG36,LstVillage!$B$8:$C$283,1)","v":{"$error":"#N/A"}},{"$error":"#N/A"},{"$error":"#N/A"},0,{"$f":"VLOOKUP(BK36,Datas!$G$6:$G$17,1)","v":{"$error":"#N/A"}},{"$error":"#N/A"},{"$error":"#N/A"},null,0,0,0,null,{"$f":"VLOOKUP(BG36,Liste_Noire!$B$15:$G$1208,1)","v":{"$error":"#N/A"}},{"$f":"VLOOKUP(BG36,Liste_Noire!$B$15:$G$1208,5)","v":{"$error":"#N/A"}},{"$error":"#N/A"},null,0,0,0,0,0,0,0]
[null,""," ","","","","",null,null,null,null,null,null,null,null,null,null,null,null,null,null,null,null,null,"",0,0,0,0,0,0,0,0,0,0,null,0,null,null,{"$f":"IF(AO37=\"\",\"\",IF(BV37=1,\"[b][color=red]\"&Datas!$D$32&\"[/color][/b]\"&AO37&\"[b][color=red]\"&Datas!$D$33&\"{\"&BU37&\"}[/color][/b]\",AO37))","v":""},""," ",{"$f":"IF(ISBLANK(Datas!$C$47),\"\",\" - \"&AX37)","v":{"$error":"#N/A"}},{"$f":"IF(ISBLANK(Datas!$C$48),\"\",\" - \"&AY37)","v":" - 0"},{"$f":"IF(ISBLANK(Datas!$C$49),\"\",\" - \"&AZ37)","v":""},{"$f":"IF(ISBLANK(Datas!$C$50),\"\",\" - \"&BA37)","v":" - Ecus:"},{"$f":"IF(ISBLANK(Datas!$C$51),\"\",\" - \"&BB37)","v":" - Niv: "},null,{"$error":"#N/A"},{"$error":"#N/A"},0,"PR:","Ecus:","Niv: ",null,null,null,null,0,{"$f":"VLOOKUP(BG37,LstVillage!$B$8:$C$283,1)","v":{"$error":"#N/A"}},{"$error":"#N/A"},{"$error":"#N/A"},0,{"$f":"VLOOKUP(BK37,Datas!$G$6:$G$17,1)","v":{"$error":"#N/A"}},{"$error":"#N/A"},{"$error":"#N/A"},null,0,0,0,null,{"$f":"VLOOKUP(BG37,Liste_Noire!$B$15:$G$1208,1)","v":{"$error":"#N/A"}},{"$f":"VLOOKUP(BG37,Liste_Noire!$B$15:$G$1208,5)","v":{"$error":"#N/A"}},{"$error":"#N/A"},null,0,0,0,0,0,0,0]
[null,""," ","","","","",null,null,null,null,null,null,null,null,null,null,null,null,null,null,null,null,null,"",0,0,0,0,0,0,0,0,0,0,null,0,null,null,{"$f":"IF(AO38=\"\",\"\",IF(BV38=1,\"[b][color=red]\"&Datas!$D$32&\"[/color][/b]\"&AO38&\"[b][color=red]\"&Datas!$D$33&\"{\"&BU38&\"}[/color][/b]\",AO38))","v":""},""," ",{"$f":"IF(ISBLANK(Datas!$C$47),\"\",\" - \"&AX38)","v":{"$error":"#N/A"}},{"$f":"IF(ISBLANK(Datas!$C$48),\"\",\" - \"&AY38)","v":" - 0"},{"$f":"IF(ISBLANK(Datas!$C$49),\"\",\" - \"&AZ38)","v":""},{"$f":"IF(ISBLANK(Datas!$C$50),\"\",\" - \"&BA38)","v":" - Ecus:"},{"$f":"IF(ISBLANK(Datas!$C$51),\"\",\" - \"&BB38)","v":" - Niv: "},null,{"$error":"#N/A"},{"$error":"#N/A"},0,"PR:","Ecus:","Niv: ",null,null,null,null,0,{"$f":"VLOOKUP(BG38,LstVillage!$B$8:$C$283,1)","v":{"$error":"#N/A"}},{"$error":"#N/A"},{"$error":"#N/A"},0,{"$f":"VLOOKUP(BK38,Datas!$G$6:$G$17,1)","v":{"$error":"#N/A"}},{"$error":"#N/A"},{"$error":"#N/A"},null,0,0,0,null,{"$f":"VLOOKUP(BG38,Liste_Noire!$B$15:$G$1208,1)","v":{"$error":"#N/A"}},{"$f":"VLOOKUP(BG38,Liste_Noire!$B$15:$G$1208,5)","v":{"$error":"#N/A"}},{"$error":"#N/A"},null,0,0,0,0,0,0,0]
[null,""," ","","","","",null,null,null,null,null,null,null,null,null,null,null,null,null,null,null,null,null,"",0,0,0,0,0,0,0,0,0,0,null,0,null,null,{"$f":"IF(AO39=\"\",\"\",IF(BV39=1,\"[b][color=red]\"&Datas!$D$32&\"[/color][/b]\"&AO39&\"[b][color=red]\"&Datas!$D$33&\"{\"&BU39&\"}[/color][/b]\",AO39))","v":""},""," ",{"$f":"IF(ISBLANK(Datas!$C$47),\"\",\" - \"&AX39)","v":{"$error":"#N/A"}},{"$f":"IF(ISBLANK(Datas!$C$48),\"\",\" - \"&AY39)","v":" - 0"},{"$f":"IF(ISBLANK(Datas!$C$49),\"\",\" - \"&AZ39)","v":""},{"$f":"IF(ISBLANK(Datas!$C$50),\"\",\" - \"&BA39)","v":" - Ecus:"},{"$f":"IF(ISBLANK(Datas!$C$51),\"\",\" - \"&BB39)","v":" - Niv: "},null,{"$error":"#N/A"},{"$error":"#N/A"},0,"PR:","Ecus:","Niv: ",null,null,null,null,0,{"$f":"VLOOKUP(BG39,LstVillage!$B$8:$C$283,1)","v":{"$error":"#N/A"}},{"$error":"#N/A"},{"$error":"#N/A"},0,{"$f":"VLOOKUP(BK39,Datas!$G$6:$G$17,1)","v":{"$error":"#N/A"}},{"$error":"#N/A"},{"$error":"#N/A"},null,0,0,0,null,{"$f":"VLOOKUP(BG39,Liste_Noire!$B$15:$G$1208,1)","v":{"$error":"#N/A"}},{"$f":"VLOOKUP(BG39,Liste_Noire!$B$15:$G$1208,5)","v":{"$error":"#N/A"}},{"$error":"#N/A"},null,0,0,0,0,0,0,0]
[null,""," ","","","","",null,null,null,null,null,null,null,null,null,null,null,null,null,null,null,null,null,"",0,0,0,0,0,0,0,0,0,0,null,0,null,null,{"$f":"IF(AO40=\"\",\"\",IF(BV40=1,\"[b][color=red]\"&Datas!$D$32&\"[/color][/b]\"&AO40&\"[b][color=red]\"&Datas!$D$33&\"{\"&BU40&\"}[/color][/b]\",AO40))","v":""},""," ",{"$f":"IF(ISBLANK(Datas!$C$47),\"\",\" - \"&AX40)","v":{"$error":"#N/A"}},{"$f":"IF(ISBLANK(Datas!$C$48),\"\",\" - \"&AY40)","v":" - 0"},{"$f":"IF(ISBLANK(Datas!$C$49),\"\",\" - \"&AZ40)","v":""},{"$f":"IF(ISBLANK(Datas!$C$50),\"\",\" - \"&BA40)","v":" - Ecus:"},{"$f":"IF(ISBLANK(Datas!$C$51),\"\",\" - \"&BB40)","v":" - Niv: "},null,{"$error":"#N/A"},{"$error":"#N/A"},0,"PR:","Ecus:","Niv: ",null,null,null,null,0,{"$f":"VLOOKUP(BG40,LstVillage!$B$8:$C$283,1)","v":{"$error":"#N/A"}},{"$error":"#N/A"},{"$error":"#N/A"},0,{"$f":"VLOOKUP(BK40,Datas!$G$6:$G$17,1)","v":{"$error":"#N/A"}},{"$error":"#N/A"},{"$error":"#N/A"},null,0,0,0,null,{"$f":"VLOOKUP(BG40,Liste_Noire!$B$15:$G$1208,1)","v":{"$error":"#N/A"}},{"$f":"VLOOKUP(BG40,Liste_Noire!$B$15:$G$1208,5)","v":{"$error":"#N/A"}},{"$error":"#N/A"},null,0,0,0,0,0,0,0]
[null,""," ","","","","",null,null,null,null,null,null,null,null,null,null,null,null,null,null,null,null,null,"",0,0,0,0,0,0,0,0,0,0,null,0,null,null,{"$f":"IF(AO41=\"\",\"\",IF(BV41=1,\"[b][color=red]\"&Datas!$D$32&\"[/color][/b]\"&AO41&\"[b][color=red]\"&Datas!$D$33&\"{\"&BU41&\"}[/color][/b]\",AO41))","v":""},""," ",{"$f":"IF(ISBLANK(Datas!$C$47),\"\",\" - \"&AX41)","v":{"$error":"#N/A"}},{"$f":"IF(ISBLANK(Datas!$C$48),\"\",\" - \"&AY41)","v":" - 0"},{"$f":"IF(ISBLANK(Datas!$C$49),\"\",\" - \"&AZ41)","v":""},{"$f":"IF(ISBLANK(Datas!$C$50),\"\",\" - \"&BA41)","v":" - Ecus:"},{"$f":"IF(ISBLANK(Datas!$C$51),\"\",\" - \"&BB41)","v":" - Niv: "},null,{"$error":"#N/A"},{"$error":"#N/A"},0,"PR:","Ecus:","Niv: ",null,null,null,null,0,{"$f":"VLOOKUP(BG41,LstVillage!$B$8:$C$283,1)","v":{"$error":"#N/A"}},{"$error":"#N/A"},{"$error":"#N/A"},0,{"$f":"VLOOKUP(BK41,Datas!$G$6:$G$17,1)","v":{"$error":"#N/A"}},{"$error":"#N/A"},{"$error":"#N/A"},null,0,0,0,null,{"$f":"VLOOKUP(BG41,Liste_Noire!$B$15:$G$1208,1)","v":{"$error":"#N/A"}},{"$f":"VLOOKUP(BG41,Liste_Noire!$B$15:$G$1208,5)","v":{"$error":"#N/A"}},{"$error":"#N/A"},null,0,0,0,0,0,0,0]
[null,""," ","","","","",null,null,null,null,null,null,null,null,null,null,null,null,null,null,null,null,null,"",0,0,0,0,0,0,0,0,0,0,null,0,null,null,{"$f":"IF(AO42=\"\",\"\",IF(BV42=1,\"[b][color=red]\"&Datas!$D$32&\"[/color][/b]\"&AO42&\"[b][color=red]\"&Datas!$D$33&\"{\"&BU42&\"}[/color][/b]\",AO42))","v":""},""," ",{"$f":"IF(ISBLANK(Datas!$C$47),\"\",\" - \"&AX42)","v":{"$error":"#N/A"}},{"$f":"IF(ISBLANK(Datas!$C$48),\"\",\" - \"&AY42)","v":" - 0"},{"$f":"IF(ISBLANK(Datas!$C$49),\"\",\" - \"&AZ42)","v":""},{"$f":"IF(ISBLANK(Datas!$C$50),\"\",\" - \"&BA42)","v":" - Ecus:"},{"$f":"IF(ISBLANK(Datas!$C$51),\"\",\" - \"&BB42)","v":" - Niv: "},null,{"$error":"#N/A"},{"$error":"#N/A"},0,"PR:","Ecus:","Niv: ",null,null,null,null,0,{"$f":"VLOOKUP(BG42,LstVillage!$B$8:$C$283,1)","v":{"$error":"#N/A"}},{"$error":"#N/A"},{"$error":"#N/A"},0,{"$f":"VLOOKUP(BK42,Datas!$G$6:$G$17,1)","v":{"$error":"#N/A"}},{"$error":"#N/A"},{"$error":"#N/A"},null,0,0,0,null,{"$f":"VLOOKUP(BG42,Liste_Noire!$B$15:$G$1208,1)","v":{"$error":"#N/A"}},{"$f":"VLOOKUP(BG42,Liste_Noire!$B$15:$G$1208,5)","v":{"$error":"#N/A"}},{"$error":"#N/A"},null,0,0,0,0,0,0,0]
[null,""," ","","","","",null,null,null,null,null,null,null,null,null,null,null,null,null,null,null,null,null,"",0,0,0,0,0,0,0,0,0,0,null,0,null,null,{"$f":"IF(AO43=\"\",\"\",IF(BV43=1,\"[b][color=red]\"&Datas!$D$32&\"[/color][/b]\"&AO43&\"[b][color=red]\"&Datas!$D$33&\"{\"&BU43&\"}[/color][/b]\",AO43))","v":""},""," ",{"$f":"IF(ISBLANK(Datas!$C$47),\"\",\" - \"&AX43)","v":{"$error":"#N/A"}},{"$f":"IF(ISBLANK(Datas!$C$48),\"\",\" - \"&AY43)","v":" - 0"},{"$f":"IF(ISBLANK(Datas!$C$49),\"\",\" - \"&AZ43)","v":""},{"$f":"IF(ISBLANK(Datas!$C$50),\"\",\" - \"&BA43)","v":" - Ecus:"},{"$f":"IF(ISBLANK(Datas!$C$51),\"\",\" - \"&BB43)","v":" - Niv: "},null,{"$error":"#N/A"},{"$error":"#N/A"},0,"PR:","Ecus:","Niv: ",null,null,null,null,0,{"$f":"VLOOKUP(BG43,LstVillage!$B$8:$C$283,1)","v":{"$error":"#N/A"}},{"$error":"#N/A"},{"$error":"#N/A"},0,{"$f":"VLOOKUP(BK43,Datas!$G$6:$G$17,1)","v":{"$error":"#N/A"}},{"$error":"#N/A"},{"$error":"#N/A"},null,0,0,0,null,{"$f":"VLOOKUP(BG43,Liste_Noire!$B$15:$G$1208,1)","v":{"$error":"#N/A"}},{"$f":"VLOOKUP(BG43,Liste_Noire!$B$15:$G$1208,5)","v":{"$error":"#N/A"}},{"$error":"#N/A"},null,0,0,0,0,0,0,0]
[null,""," ","","","","",null,null,null,null,null,null,null,null,null,null,null,null,null,null,null,null,null,"",0,0,0,0,0,0,0,0,0,0,null,0,null,null,{"$f":"IF(AO44=\"\",\"\",IF(BV44=1,\"[b][color=red]\"&Datas!$D$32&\"[/color][/b]\"&AO44&\"[b][color=red]\"&Datas!$D$33&\"{\"&BU44&\"}[/color][/b]\",AO44))","v":""},""," ",{"$f":"IF(ISBLANK(Datas!$C$47),\"\",\" - \"&AX44)","v":{"$error":"#N/A"}},{"$f":"IF(ISBLANK(Datas!$C$48),\"\",\" - \"&AY44)","v":" - 0"},{"$f":"IF(ISBLANK(Datas!$C$49),\"\",\" - \"&AZ44)","v":""},{"$f":"IF(ISBLANK(Datas!$C$50),\"\",\" - \"&BA44)","v":" - Ecus:"},{"$f":"IF(ISBLANK(Datas!$C$51),\"\",\" - \"&BB44)","v":" - Niv: "},null,{"$error":"#N/A"},{"$error":"#N/A"},0,"PR:","Ecus:","Niv: ",null,null,null,null,0,{"$f":"VLOOKUP(BG44,LstVillage!$B$8:$C$283,1)","v":{"$error":"#N/A"}},{"$error":"#N/A"},{"$error":"#N/A"},0,{"$f":"VLOOKUP(BK44,Datas!$G$6:$G$17,1)","v":{"$error":"#N/A"}},{"$error":"#N/A"},{"$error":"#N/A"},null,0,0,0,null,{"$f":"VLOOKUP(BG44,Liste_Noire!$B$15:$G$1208,1)","v":{"$error":"#N/A"}},{"$f":"VLOOKUP(BG44,Liste_Noire!$B$15:$G$1208,5)","v":{"$error":"#N/A"}},{"$error":"#N/A"},null,0,0,0,0,0,0,0]
[null,""," ","","","","",null,null,null,null,null,null,null,null,null,null,null,null,null,null,null,null,null,"",0,0,0,0,0,0,0,0,0,0,null,0,null,null,{"$f":"IF(AO45=\"\",\"\",IF(BV45=1,\"[b][color=red]\"&Datas!$D$32&\"[/color][/b]\"&AO45&\"[b][color=red]\"&Datas!$D$33&\"{\"&BU45&\"}[/color][/b]\",AO45))","v":""},""," ",{"$f":"IF(ISBLANK(Datas!$C$47),\"\",\" - \"&AX45)","v":{"$error":"#N/A"}},{"$f":"IF(ISBLANK(Datas!$C$48),\"\",\" - \"&AY45)","v":" - 0"},{"$f":"IF(ISBLANK(Datas!$C$49),\"\",\" - \"&AZ45)","v":""},{"$f":"IF(ISBLANK(Datas!$C$50),\"\",\" - \"&BA45)","v":" - Ecus:"},{"$f":"IF(ISBLANK(Datas!$C$51),\"\",\" - \"&BB45)","v":" - Niv: "},null,{"$error":"#N/A"},{"$error":"#N/A"},0,"PR:","Ecus:","Niv: ",null,null,null,null,0,{"$f":"VLOOKUP(BG45,LstVillage!$B$8:$C$283,1)","v":{"$error":"#N/A"}},{"$error":"#N/A"},{"$error":"#N/A"},0,{"$f":"VLOOKUP(BK45,Datas!$G$6:$G$17,1)","v":{"$error":"#N/A"}},{"$error":"#N/A"},{"$error":"#N/A"},null,0,0,0,null,{"$f":"VLOOKUP(BG45,Liste_Noire!$B$15:$G$1208,1)","v":{"$error":"#N/A"}},{"$f":"VLOOKUP(BG45,Liste_Noire!$B$15:$G$1208,5)","v":{"$error":"#N/A"}},{"$error":"#N/A"},null,0,0,0,0,0,0,0]
[null,""," ","","","","",null,null,null,null,null,null,null,null,null,null,null,null,null,null,null,null,null,"",0,0,0,0,0,0,0,0,0,0,null,0,null,null,{"$f":"IF(AO46=\"\",\"\",IF(BV46=1,\"[b][color=red]\"&Datas!$D$32&\"[/color][/b]\"&AO46&\"[b][color=red]\"&Datas!$D$33&\"{\"&BU46&\"}[/color][/b]\",AO46))","v":""},""," ",{"$f":"IF(ISBLANK(Datas!$C$47),\"\",\" - \"&AX46)","v":{"$error":"#N/A"}},{"$f":"IF(ISBLANK(Datas!$C$48),\"\",\" - \"&AY46)","v":" - 0"},{"$f":"IF(ISBLANK(Datas!$C$49),\"\",\" - \"&AZ46)","v":""},{"$f":"IF(ISBLANK(Datas!$C$50),\"\",\" - \"&BA46)","v":" - Ecus:"},{"$f":"IF(ISBLANK(Datas!$C$51),\"\",\" - \"&BB46)","v":" - Niv: "},null,{"$error":"#N/A"},{"$error":"#N/A"},0,"PR:","Ecus:","Niv: ",null,null,null,null,0,{"$f":"VLOOKUP(BG46,LstVillage!$B$8:$C$283,1)","v":{"$error":"#N/A"}},{"$error":"#N/A"},{"$error":"#N/A"},0,{"$f":"VLOOKUP(BK46,Datas!$G$6:$G$17,1)","v":{"$error":"#N/A"}},{"$error":"#N/A"},{"$error":"#N/A"},null,0,0,0,null,{"$f":"VLOOKUP(BG46,Liste_Noire!$B$15:$G$1208,1)","v":{"$error":"#N/A"}},{"$f":"VLOOKUP(BG46,Liste_Noire!$B$15:$G$1208,5)","v":{"$error":"#N/A"}},{"$error":"#N/A"},null,0,0,0,0,0,0,0]
[null,""," ","","","","",null,null,null,null,null,null,null,null,null,null,null,null,null,null,null,null,null,"",0,0,0,0,0,0,0,0,0,0,null,0,null,null,{"$f":"IF(AO47=\"\",\"\",IF(BV47=1,\"[b][color=red]\"&Datas!$D$32&\"[/color][/b]\"&AO47&\"[b][color=red]\"&Datas!$D$33&\"{\"&BU47&\"}[/color][/b]\",AO47))","v":""},""," ",{"$f":"IF(ISBLANK(Datas!$C$47),\"\",\" - \"&AX47)","v":{"$error":"#N/A"}},{"$f":"IF(ISBLANK(Datas!$C$48),\"\",\" - \"&AY47)","v":" - 0"},{"$f":"IF(ISBLANK(Datas!$C$49),\"\",\" - \"&AZ47)","v":""},{"$f":"IF(ISBLANK(Datas!$C$50),\"\",\" - \"&BA47)","v":" - Ecus:"},{"$f":"IF(ISBLANK(Datas!$C$51),\"\",\" - \"&BB47)","v":" - Niv: "},null,{"$error":"#N/A"},{"$error":"#N/A"},0,"PR:","Ecus:","Niv: ",null,null,null,null,0,{"$f":"VLOOKUP(BG47,LstVillage!$B$8:$C$283,1)","v":{"$error":"#N/A"}},{"$error":"#N/A"},{"$error":"#N/A"},0,{"$f":"VLOOKUP(BK47,Datas!$G$6:$G$17,1)","v":{"$error":"#N/A"}},{"$error":"#N/A"},{"$error":"#N/A"},null,0,0,0,null,{"$f":"VLOOKUP(BG47,Liste_Noire!$B$15:$G$1208,1)","v":{"$error":"#N/A"}},{"$f":"VLOOKUP(BG47,Liste_Noire!$B$15:$G$1208,5)","v":{"$error":"#N/A"}},{"$error":"#N/A"},null,0,0,0,0,0,0,0]
[null,""," ","","","","",null,null,null,null,null,null,null,null,null,null,null,null,null,null,null,null,null,{"$f":"IF(OR(ISBLANK(U48),TRIM(U48)=\"\"),IF(ISBLANK($I48),\"\",$Y$11),IF(OR($F48=$AD$11,$D48=$AF$11),$Y$11,IF(U48=\"a/d\",\"\",U48)))","v":""},0,0,0,0,0,0,0,0,0,0,null,0,null,null,{"$f":"IF(AO48=\"\",\"\",IF(BV48=1,\"[b][color=red]\"&Datas!$D$32&\"[/color][/b]\"&AO48&\"[b][color=red]\"&Datas!$D$33&\"{\"&BU48&\"}[/color][/b]\",AO48))","v":""},""," ",{"$f":"IF(ISBLANK(Datas!$C$47),\"\",\" - \"&AX48)","v":{"$error":"#N/A"}},{"$f":"IF(ISBLANK(Datas!$C$48),\"\",\" - \"&AY48)","v":" - 0"},{"$f":"IF(ISBLANK(Datas!$C$49),\"\",\" - \"&AZ48)","v":""},{"$f":"IF(ISBLANK(Datas!$C$50),\"\",\" - \"&BA48)","v":" - Ecus:"},{"$f":"IF(ISBLANK(Datas!$C$51),\"\",\" - \"&BB48)","v":" - Niv: "},null,{"$error":"#N/A"},{"$error":"#N/A"},0,"PR:","Ecus:","Niv: ",null,null,null,null,0,{"$f":"VLOOKUP(BG48,LstVillage!$B$8:$C$283,1)","v":{"$error":"#N/A"}},{"$error":"#N/A"},{"$error":"#N/A"},0,{"$f":"VLOOKUP(BK48,Datas!$G$6:$G$17,1)","v":{"$error":"#N/A"}},{"$error":"#N/A"},{"$error":"#N/A"},null,0,0,0,null,{"$f":"VLOOKUP(BG48,Liste_Noire!$B$15:$G$1208,1)","v":{"$error":"#N/A"}},{"$f":"VLOOKUP(BG48,Liste_Noire!$B$15:$G$1208,5)","v":{"$error":"#N/A"}},{"$error":"#N/A"},null,0,0,0,0,0,0,0]
[null,""," ","","","","",null,null,null,null,null,null,null,null,null,null,null,null,null,null,null,null,null,"",0,0,0,0,0,0,0,0,0,0,null,0,null,null,{"$f":"IF(AO49=\"\",\"\",IF(BV49=1,\"[b][color=red]\"&Datas!$D$32&\"[/color][/b]\"&AO49&\"[b][color=red]\"&Datas!$D$33&\"{\"&BU49&\"}[/color][/b]\",AO49))","v":""},""," ",{"$f":"IF(ISBLANK(Datas!$C$47),\"\",\" - \"&AX49)","v":{"$error":"#N/A"}},{"$f":"IF(ISBLANK(Datas!$C$48),\"\",\" - \"&AY49)","v":" - 0"},{"$f":"IF(ISBLANK(Datas!$C$49),\"\",\" - \"&AZ49)","v":""},{"$f":"IF(ISBLANK(Datas!$C$50),\"\",\" - \"&BA49)","v":" - Ecus:"},{"$f":"IF(ISBLANK(Datas!$C$51),\"\",\" - \"&BB49)","v":" - Niv: "},null,{"$error":"#N/A"},{"$error":"#N/A"},0,"PR:","Ecus:","Niv: ",null,null,null,null,0,{"$f":"VLOOKUP(BG49,LstVillage!$B$8:$C$283,1)","v":{"$error":"#N/A"}},{"$error":"#N/A"},{"$error":"#N/A"},0,{"$f":"VLOOKUP(BK49,Datas!$G$6:$G$17,1)","v":{"$error":"#N/A"}},{"$error":"#N/A"},{"$error":"#N/A"},null,0,0,0,null,{"$f":"VLOOKUP(BG49,Liste_Noire!$B$15:$G$1208,1)","v":{"$error":"#N/A"}},{"$f":"VLOOKUP(BG49,Liste_Noire!$B$15:$G$1208,5)","v":{"$error":"#N/A"}},{"$error":"#N/A"},null,0,0,0,0,0,0,0]
[null,""," ","","","","",null,null,null,null,null,null,null,null,null,null,null,null,null,null,null,null,null,"",0,0,0,0,0,0,0,0,0,0,null,0,null,null,{"$f":"IF(AO50=\"\",\"\",IF(BV50=1,\"[b][color=red]\"&Datas!$D$32&\"[/color][/b]\"&AO50&\"[b][color=red]\"&Datas!$D$33&\"{\"&BU50&\"}[/color][/b]\",AO50))","v":""},""," ",{"$f":"IF(ISBLANK(Datas!$C$47),\"\",\" - \"&AX50)","v":{"$error":"#N/A"}},{"$f":"IF(ISBLANK(Datas!$C$48),\"\",\" - \"&AY50)","v":" - 0"},{"$f":"IF(ISBLANK(Datas!$C$49),\"\",\" - \"&AZ50)","v":""},{"$f":"IF(ISBLANK(Datas!$C$50),\"\",\" - \"&BA50)","v":" - Ecus:"},{"$f":"IF(ISBLANK(Datas!$C$51),\"\",\" - \"&BB50)","v":" - Niv: "},null,{"$error":"#N/A"},{"$error":"#N/A"},0,"PR:","Ecus:","Niv: ",null,null,null,null,0,{"$f":"VLOOKUP(BG50,LstVillage!$B$8:$C$283,1)","v":{"$error":"#N/A"}},{"$error":"#N/A"},{"$error":"#N/A"},0,{"$f":"VLOOKUP(BK50,Datas!$G$6:$G$17,1)","v":{"$error":"#N/A"}},{"$error":"#N/A"},{"$error":"#N/A"},null,0,0,0,null,{"$f":"VLOOKUP(BG50,Liste_Noire!$B$15:$G$1208,1)","v":{"$error":"#N/A"}},{"$f":"VLOOKUP(BG50,Liste_Noire!$B$15:$G$1208,5)","v":{"$error":"#N/A"}},{"$error":"#N/A"},null,0,0,0,0,0,0,0]
[null,""," ","","","","",null,null,null,null,null,null,null,null,null,null,null,null,null,null,null,null,null,"",0,0,0,0,0,0,0,0,0,0,null,0,null,null,{"$f":"IF(AO51=\"\",\"\",IF(BV51=1,\"[b][color=red]\"&Datas!$D$32&\"[/color][/b]\"&AO51&\"[b][color=red]\"&Datas!$D$33&\"{\"&BU51&\"}[/color][/b]\",AO51))","v":""},""," ",{"$f":"IF(ISBLANK(Datas!$C$47),\"\",\" - \"&AX51)","v":{"$error":"#N/A"}},{"$f":"IF(ISBLANK(Datas!$C$48),\"\",\" - \"&AY51)","v":" - 0"},{"$f":"IF(ISBLANK(Datas!$C$49),\"\",\" - \"&AZ51)","v":""},{"$f":"IF(ISBLANK(Datas!$C$50),\"\",\" - \"&BA51)","v":" - Ecus:"},{"$f":"IF(ISBLANK(Datas!$C$51),\"\",\" - \"&BB51)","v":" - Niv: "},null,{"$error":"#N/A"},{"$error":"#N/A"},0,"PR:","Ecus:","Niv: ",null,null,null,null,0,{"$f":"VLOOKUP(BG51,LstVillage!$B$8:$C$283,1)","v":{"$error":"#N/A"}},{"$error":"#N/A"},{"$error":"#N/A"},0,{"$f":"VLOOKUP(BK51,Datas!$G$6:$G$17,1)","v":{"$error":"#N/A"}},{"$error":"#N/A"},{"$error":"#N/A"},null,0,0,0,null,{"$f":"VLOOKUP(BG51,Liste_Noire!$B$15:$G$1208,1)","v":{"$error":"#N/A"}},{"$f":"VLOOKUP(BG51,Liste_Noire!$B$15:$G$1208,5)","v":{"$error":"#N/A"}},{"$error":"#N/A"},null,0,0,0,0,0,0,0]
[null,""," ","","","","",null,null,null,null,null,null,null,null,null,null,null,null,null,null,null,null,null,"",0,0,0,0,0,0,0,0,0,0,null,0,null,null,{"$f":"IF(AO52=\"\",\"\",IF(BV52=1,\"[b][color=red]\"&Datas!$D$32&\"[/color][/b]\"&AO52&\"[b][color=red]\"&Datas!$D$33&\"{\"&BU52&\"}[/color][/b]\",AO52))","v":""},""," ",{"$f":"IF(ISBLANK(Datas!$C$47),\"\",\" - \"&AX52)","v":{"$error":"#N/A"}},{"$f":"IF(ISBLANK(Datas!$C$48),\"\",\" - \"&AY52)","v":" - 0"},{"$f":"IF(ISBLANK(Datas!$C$49),\"\",\" - \"&AZ52)","v":""},{"$f":"IF(ISBLANK(Datas!$C$50),\"\",\" - \"&BA52)","v":" - Ecus:"},{"$f":"IF(ISBLANK(Datas!$C$51),\"\",\" - \"&BB52)","v":" - Niv: "},null,{"$error":"#N/A"},{"$error":"#N/A"},0,"PR:","Ecus:","Niv: ",null,null,null,null,0,{"$f":"VLOOKUP(BG52,LstVillage!$B$8:$C$283,1)","v":{"$error":"#N/A"}},{"$error":"#N/A"},{"$error":"#N/A"},0,{"$f":"VLOOKUP(BK52,Datas!$G$6:$G$17,1)","v":{"$error":"#N/A"}},{"$error":"#N/A"},{"$error":"#N/A"},null,0,0,0,null,{"$f":"VLOOKUP(BG52,Liste_Noire!$B$15:$G$1208,1)","v":{"$error":"#N/A"}},{"$f":"VLOOKUP(BG52,Liste_Noire!$B$15:$G$1208,5)","v":{"$error":"#N/A"}},{"$error":"#N/A"},null,0,0,0,0,0,0,0]
[null,""," ","","","","",null,null,null,null,null,null,null,null,null,null,null,null,null,null,null,null,null,"",0,0,0,0,0,0,0,0,0,0,null,0,null,null,{"$f":"IF(AO53=\"\",\"\",IF(BV53=1,\"[b][color=red]\"&Datas!$D$32&\"[/color][/b]\"&AO53&\"[b][color=red]\"&Datas!$D$33&\"{\"&BU53&\"}[/color][/b]\",AO53))","v":""},""," ",{"$f":"IF(ISBLANK(Datas!$C$47),\"\",\" - \"&AX53)","v":{"$error":"#N/A"}},{"$f":"IF(ISBLANK(Datas!$C$48),\"\",\" - \"&AY53)","v":" - 0"},{"$f":"IF(ISBLANK(Datas!$C$49),\"\",\" - \"&AZ53)","v":""},{"$f":"IF(ISBLANK(Datas!$C$50),\"\",\" - \"&BA53)","v":" - Ecus:"},{"$f":"IF(ISBLANK(Datas!$C$51),\"\",\" - \"&BB53)","v":" - Niv: "},null,{"$error":"#N/A"},{"$error":"#N/A"},0,"PR:","Ecus:","Niv: ",null,null,null,null,0,{"$f":"VLOOKUP(BG53,LstVillage!$B$8:$C$283,1)","v":{"$error":"#N/A"}},{"$error":"#N/A"},{"$error":"#N/A"},0,{"$f":"VLOOKUP(BK53,Datas!$G$6:$G$17,1)","v":{"$error":"#N/A"}},{"$error":"#N/A"},{"$error":"#N/A"},null,0,0,0,null,{"$f":"VLOOKUP(BG53,Liste_Noire!$B$15:$G$1208,1)","v":{"$error":"#N/A"}},{"$f":"VLOOKUP(BG53,Liste_Noire!$B$15:$G$1208,5)","v":{"$error":"#N/A"}},{"$error":"#N/A"},null,0,0,0,0,0,0,0]
[null,""," ","","","","",null,null,null,null,null,null,null,null,null,null,null,null,null,null,null,null,null,"",0,0,0,0,0,0,0,0,0,0,null,0,null,null,{"$f":"IF(AO54=\"\",\"\",IF(BV54=1,\"[b][color=red]\"&Datas!$D$32&\"[/color][/b]\"&AO54&\"[b][color=red]\"&Datas!$D$33&\"{\"&BU54&\"}[/color][/b]\",AO54))","v":""},""," ",{"$f":"IF(ISBLANK(Datas!$C$47),\"\",\" - \"&AX54)","v":{"$error":"#N/A"}},{"$f":"IF(ISBLANK(Datas!$C$48),\"\",\" - \"&AY54)","v":" - 0"},{"$f":"IF(ISBLANK(Datas!$C$49),\"\",\" - \"&AZ54)","v":""},{"$f":"IF(ISBLANK(Datas!$C$50),\"\",\" - \"&BA54)","v":" - Ecus:"},{"$f":"IF(ISBLANK(Datas!$C$51),\"\",\" - \"&BB54)","v":" - Niv: "},null,{"$error":"#N/A"},{"$error":"#N/A"},0,"PR:","Ecus:","Niv: ",null,null,null,null,0,{"$f":"VLOOKUP(BG54,LstVillage!$B$8:$C$283,1)","v":{"$error":"#N/A"}},{"$error":"#N/A"},{"$error":"#N/A"},0,{"$f":"VLOOKUP(BK54,Datas!$G$6:$G$17,1)","v":{"$error":"#N/A"}},{"$error":"#N/A"},{"$error":"#N/A"},null,0,0,0,null,{"$f":"VLOOKUP(BG54,Liste_Noire!$B$15:$G$1208,1)","v":{"$error":"#N/A"}},{"$f":"VLOOKUP(BG54,Liste_Noire!$B$15:$G$1208,5)","v":{"$error":"#N/A"}},{"$error":"#N/A"},null,0,0,0,0,0,0,0]
[null,""," ","","","","",null,null,null,null,null,null,null,null,null,null,null,null,null,null,null,null,null,"",0,0,0,0,0,0,0,0,0,0,null,0,null,null,{"$f":"IF(AO55=\"\",\"\",IF(BV55=1,\"[b][color=red]\"&Datas!$D$32&\"[/color][/b]\"&AO55&\"[b][color=red]\"&Datas!$D$33&\"{\"&BU55&\"}[/color][/b]\",AO55))","v":""},""," ",{"$f":"IF(ISBLANK(Datas!$C$47),\"\",\" - \"&AX55)","v":{"$error":"#N/A"}},{"$f":"IF(ISBLANK(Datas!$C$48),\"\",\" - \"&AY55)","v":" - 0"},{"$f":"IF(ISBLANK(Datas!$C$49),\"\",\" - \"&AZ55)","v":""},{"$f":"IF(ISBLANK(Datas!$C$50),\"\",\" - \"&BA55)","v":" - Ecus:"},{"$f":"IF(ISBLANK(Datas!$C$51),\"\",\" - \"&BB55)","v":" - Niv: "},null,{"$error":"#N/A"},{"$error":"#N/A"},0,"PR:","Ecus:","Niv: ",null,null,null,null,0,{"$f":"VLOOKUP(BG55,LstVillage!$B$8:$C$283,1)","v":{"$error":"#N/A"}},{"$error":"#N/A"},{"$error":"#N/A"},0,{"$f":"VLOOKUP(BK55,Datas!$G$6:$G$17,1)","v":{"$error":"#N/A"}},{"$error":"#N/A"},{"$error":"#N/A"},null,0,0,0,null,{"$f":"VLOOKUP(BG55,Liste_Noire!$B$15:$G$1208,1)","v":{"$error":"#N/A"}},{"$f":"VLOOKUP(BG55,Liste_Noire!$B$15:$G$1208,5)","v":{"$error":"#N/A"}},{"$error":"#N/A"},null,0,0,0,0,0,0,0]
[null,""," ","","","","",null,null,null,null,null,null,null,null,null,null,null,null,null,null,null,null,null,"",0,0,0,0,0,0,0,0,0,0,null,0,null,null,{"$f":"IF(AO56=\"\",\"\",IF(BV56=1,\"[b][color=red]\"&Datas!$D$32&\"[/color][/b]\"&AO56&\"[b][color=red]\"&Datas!$D$33&\"{\"&BU56&\"}[/color][/b]\",AO56))","v":""},""," ",{"$f":"IF(ISBLANK(Datas!$C$47),\"\",\" - \"&AX56)","v":{"$error":"#N/A"}},{"$f":"IF(ISBLANK(Datas!$C$48),\"\",\" - \"&AY56)","v":" - 0"},{"$f":"IF(ISBLANK(Datas!$C$49),\"\",\" - \"&AZ56)","v":""},{"$f":"IF(ISBLANK(Datas!$C$50),\"\",\" - \"&BA56)","v":" - Ecus:"},{"$f":"IF(ISBLANK(Datas!$C$51),\"\",\" - \"&BB56)","v":" - Niv: "},null,{"$error":"#N/A"},{"$error":"#N/A"},0,"PR:","Ecus:","Niv: ",null,null,null,null,0,{"$f":"VLOOKUP(BG56,LstVillage!$B$8:$C$283,1)","v":{"$error":"#N/A"}},{"$error":"#N/A"},{"$error":"#N/A"},0,{"$f":"VLOOKUP(BK56,Datas!$G$6:$G$17,1)","v":{"$error":"#N/A"}},{"$error":"#N/A"},{"$error":"#N/A"},null,0,0,0,null,{"$f":"VLOOKUP(BG56,Liste_Noire!$B$15:$G$1208,1)","v":{"$error":"#N/A"}},{"$f":"VLOOKUP(BG56,Liste_Noire!$B$15:$G$1208,5)","v":{"$error":"#N/A"}},{"$error":"#N/A"},null,0,0,0,0,0,0,0]
[null,""," ","","","","",null,null,null,null,null,null,null,null,null,null,null,null,null,null,null,null,null,"",0,0,0,0,0,0,0,0,0,0,null,0,null,null,{"$f":"IF(AO57=\"\",\"\",IF(BV57=1,\"[b][color=red]\"&Datas!$D$32&\"[/color][/b]\"&AO57&\"[b][color=red]\"&Datas!$D$33&\"{\"&BU57&\"}[/color][/b]\",AO57))","v":""},""," ",{"$f":"IF(ISBLANK(Datas!$C$47),\"\",\" - \"&AX57)","v":{"$error":"#N/A"}},{"$f":"IF(ISBLANK(Datas!$C$48),\"\",\" - \"&AY57)","v":" - 0"},{"$f":"IF(ISBLANK(Datas!$C$49),\"\",\" - \"&AZ57)","v":""},{"$f":"IF(ISBLANK(Datas!$C$50),\"\",\" - \"&BA57)","v":" - Ecus:"},{"$f":"IF(ISBLANK(Datas!$C$51),\"\",\" - \"&BB57)","v":" - Niv: "},null,{"$error":"#N/A"},{"$error":"#N/A"},0,"PR:","Ecus:","Niv: ",null,null,null,null,0,{"$f":"VLOOKUP(BG57,LstVillage!$B$8:$C$283,1)","v":{"$error":"#N/A"}},{"$error":"#N/A"},{"$error":"#N/A"},0,{"$f":"VLOOKUP(BK57,Datas!$G$6:$G$17,1)","v":{"$error":"#N/A"}},{"$error":"#N/A"},{"$error":"#N/A"},null,0,0,0,null,{"$f":"VLOOKUP(BG57,Liste_Noire!$B$15:$G$1208,1)","v":{"$error":"#N/A"}},{"$f":"VLOOKUP(BG57,Liste_Noire!$B$15:$G$1208,5)","v":{"$error":"#N/A"}},{"$error":"#N/A"},null,0,0,0,0,0,0,0]
[null,{"$f":"IF(BQ58,\"[strike]\"&AN58&\"[/strike]\",IF(BR58,\"[i]\"&AN58&\"[/i]\",AN58))","v":""}," ",{"$f":"IF(M58=\"mort\",\"M\",\"\")","v":""},{"$f":"IF(ISERROR(BV58),\"\",IF(BV58=1,\"LN\",\"\"))","v":""},{"$f":"IF(M58=\"retraite\",\"R\",\"\")","v":""},{"$f":"IF(ISBLANK(Y58),\"\",Y58)","v":""},null,null,null,null,null,null,null,null,null,null,null,null,null,null,null,null,null,"",{"$f":"IF($Y58=Z$11,1,0)","v":0},{"$f":"IF(AND(Z58=1,$E58=AA$11),1,0)","v":0},{"$f":"IF($Y58=AB$11,1,0)","v":0},{"$f":"IF(AND(AB58=1,$E58=AC$11),1,0)","v":0},{"$f":"IF($F58=AD$11,1,0)","v":0},{"$f":"IF(AND(AD58=1,$E58=AE$11),1,0)","v":0},{"$f":"IF($D58=AF$11,1,0)","v":0},{"$f":"IF(AND(AF58=1,$E58=AG$11),1,0)","v":0},{"$f":"IF(AND($Y58=AH$11,(AD58+AF58)=0),1,0)","v":0},{"$f":"IF(AND(AH58=1,$E58=AI$11),1,0)","v":0},null,{"$f":"IF(AND(ISBLANK(I58),ISBLANK(K58),ISBLANK(L58),ISBLANK(P58)),0,1)","v":0},null,null,{"$f":"IF(AO58=\"\",\"\",IF(BV58=1,\"[b][color=red]\"&Datas!$D$32&\"[/color][/b]\"&AO58&\"[b][color=red]\"&Datas!$D$33&\"{\"&BU58&\"}[/color][/b]\",AO58))","v":""},{"$f":"IF(ISBLANK(M58),\"\",AW58&AQ58&AR58&AS58&AT58&AU58)","v":""}," ",{"$f":"IF(ISBLANK(Datas!$C$47),\"\",\" - \"&AX58)","v":{"$error":"#N/A"}},{"$f":"IF(ISBLANK(Datas!$C$48),\"\",\" - \"&AY58)","v":" - 0"},{"$f":"IF(ISBLANK(Datas!$C$49),\"\",\" - \"&AZ58)","v":""},{"$f":"IF(ISBLANK(Datas!$C$50),\"\",\" - \"&BA58)","v":" - Ecus:"},{"$f":"IF(ISBLANK(Datas!$C$51),\"\",\" - \"&BB58)","v":" - Niv: "},null,{"$f":"\"[b][color=\"&BJ58&\"]\"&BG58&\"[/color][/b]\"","v":{"$error":"#N/A"}},{"$f":"\"[b][color=\"&BN58&\"]\"&BK58&\"[/color][/b]\"","v":{"$error":"#N/A"}},{"$f":"BP58","v":0},{"$f":"\"PR:\"&O58","v":"PR:"},{"$f":"\"Ecus:\"&P58","v":"Ecus:"},{"$f":"\"Niv: \"&N58","v":"Niv: "},null,null,null,null,{"$f":"I58","v":0},{"$f":"VLOOKUP(BG58,LstVillage!$B$8:$C$283,1)","v":{"$error":"#N/A"}},{"$f":"IF(BH58<>BG58,0,1)","v":{"$error":"#N/A"}},{"$f":"IF(BI58=1,$AX$2,IF(BM58=1,$AX$3,$AX$4))","v":{"$error":"#N/A"}},{"$f":"L58","v":0},{"$f":"VLOOKUP(BK58,Datas!$G$6:$G$17,1)","v":{"$error":"#N/A"}},{"$f":"IF(BL58<>BK58,0,1)","v":{"$error":"#N/A"}},{"$f":"IF(BM58=1,$BA$2,$BA$3)","v":{"$error":"#N/A"}},null,{"$f":"K58","v":0},{"$f":"IF(F58=\"M\",1,0)","v":0},{"$f":"IF(F58=\"R\",1,0)","v":0},null,{"$f":"VLOOKUP(BG58,Liste_Noire!$B$15:$G$1208,1)","v":{"$error":"#N/A"}},{"$f":"VLOOKUP(BG58,Liste_Noire!$B$15:$G$1208,5)","v":{"$error":"#N/A"}},{"$f":"IF(ISERR(BT58),0,IF(BT58=BG58,1,0))","v":{"$error":"#N/A"}},null,{"$f":"IF(G58=\"a\",1,0)","v":0},{"$f":"IF(G58=\"d\",1,0)","v":0},{"$f":"IF(F58=\"R\",1,0)","v":0},{"$f":"IF(F58=\"M\",1,0)","v":0},{"$f":"IF(ISERROR(BV58),0,IF(BV58=1,IF(BU58=\"Liste Noire\",1,0),0))","v":0},{"$f":"IF(ISERROR(BV58),0,IF(BV58=1,IF(BU58=\"Surveillance\",1,0),0))","v":0},{"$f":"IF(ISBLANK(I58),0,1)","v":0}]
[null,""," ","","","","",null,null,null,null,null,null,null,null,null,null,null,null,null,null,null,null,null,"",0,0,0,0,0,0,0,0,0,0,null,0,null,null,{"$f":"IF(AO59=\"\",\"\",IF(BV59=1,\"[b][color=red]\"&Datas!$D$32&\"[/color][/b]\"&AO59&\"[b][color=red]\"&Datas!$D$33&\"{\"&BU59&\"}[/color][/b]\",AO59))","v":""},""," ",{"$f":"IF(ISBLANK(Datas!$C$47),\"\",\" - \"&AX59)","v":{"$error":"#N/A"}},{"$f":"IF(ISBLANK(Datas!$C$48),\"\",\" - \"&AY59)","v":" - 0"},{"$f":"IF(ISBLANK(Datas!$C$49),\"\",\" - \"&AZ59)","v":""},{"$f":"IF(ISBLANK(Datas!$C$50),\"\",\" - \"&BA59)","v":" - Ecus:"},{"$f":"IF(ISBLANK(Datas!$C$51),\"\",\" - \"&BB59)","v":" - Niv: "},null,{"$error":"#N/A"},{"$error":"#N/A"},0,"PR:","Ecus:","Niv: ",null,null,null,null,0,{"$f":"VLOOKUP(BG59,LstVillage!$B$8:$C$283,1)","v":{"$error":"#N/A"}},{"$error":"#N/A"},{"$error":"#N/A"},0,{"$f":"VLOOKUP(BK59,Datas!$G$6:$G$17,1)","v":{"$error":"#N/A"}},{"$error":"#N/A"},{"$error":"#N/A"},null,0,0,0,null,{"$f":"VLOOKUP(BG59,Liste_Noire!$B$15:$G$1208,1)","v":{"$error":"#N/A"}},{"$f":"VLOOKUP(BG59,Liste_Noire!$B$15:$G$1208,5)","v":{"$error":"#N/A"}},{"$error":"#N/A"},null,0,0,0,0,0,0,0]
[null,""," ","","","","",null,null,null,null,null,null,null,null,null,null,null,null,null,null,null,null,null,"",0,0,0,0,0,0,0,0,0,0,null,0,null,null,{"$f":"IF(AO60=\"\",\"\",IF(BV60=1,\"[b][color=red]\"&Datas!$D$32&\"[/color][/b]\"&AO60&\"[b][color=red]\"&Datas!$D$33&\"{\"&BU60&\"}[/color][/b]\",AO60))","v":""},""," ",{"$f":"IF(ISBLANK(Datas!$C$47),\"\",\" - \"&AX60)","v":{"$error":"#N/A"}},{"$f":"IF(ISBLANK(Datas!$C$48),\"\",\" - \"&AY60)","v":" - 0"},{"$f":"IF(ISBLANK(Datas!$C$49),\"\",\" - \"&AZ60)","v":""},{"$f":"IF(ISBLANK(Datas!$C$50),\"\",\" - \"&BA60)","v":" - Ecus:"},{"$f":"IF(ISBLANK(Datas!$C$51),\"\",\" - \"&BB60)","v":" - Niv: "},null,{"$error":"#N/A"},{"$error":"#N/A"},0,"PR:","Ecus:","Niv: ",null,null,null,null,0,{"$f":"VLOOKUP(BG60,LstVillage!$B$8:$C$283,1)","v":{"$error":"#N/A"}},{"$error":"#N/A"},{"$error":"#N/A"},0,{"$f":"VLOOKUP(BK60,Datas!$G$6:$G$17,1)","v":{"$error":"#N/A"}},{"$error":"#N/A"},{"$error":"#N/A"},null,0,0,0,null,{"$f":"VLOOKUP(BG60,Liste_Noire!$B$15:$G$1208,1)","v":{"$error":"#N/A"}},{"$f":"VLOOKUP(BG60,Liste_Noire!$B$15:$G$1208,5)","v":{"$error":"#N/A"}},{"$error":"#N/A"},null,0,0,0,0,0,0,0]
[null,""," ","","","","",null,null,null,null,null,null,null,null,null,null,null,null,null,null,null,null,null,"",0,0,0,0,0,0,0,0,0,0,null,0,null,null,{"$f":"IF(AO61=\"\",\"\",IF(BV61=1,\"[b][color=red]\"&Datas!$D$32&\"[/color][/b]\"&AO61&\"[b][color=red]\"&Datas!$D$33&\"{\"&BU61&\"}[/color][/b]\",AO61))","v":""},""," ",{"$f":"IF(ISBLANK(Datas!$C$47),\"\",\" - \"&AX61)","v":{"$error":"#N/A"}},{"$f":"IF(ISBLANK(Datas!$C$48),\"\",\" - \"&AY61)","v":" - 0"},{"$f":"IF(ISBLANK(Datas!$C$49),\"\",\" - \"&AZ61)","v":""},{"$f":"IF(ISBLANK(Datas!$C$50),\"\",\" - \"&BA61)","v":" - Ecus:"},{"$f":"IF(ISBLANK(Datas!$C$51),\"\",\" - \"&BB61)","v":" - Niv: "},null,{"$error":"#N/A"},{"$error":"#N/A"},0,"PR:","Ecus:","Niv: ",null,null,null,null,0,{"$f":"VLOOKUP(BG61,LstVillage!$B$8:$C$283,1)","v":{"$error":"#N/A"}},{"$error":"#N/A"},{"$error":"#N/A"},0,{"$f":"VLOOKUP(BK61,Datas!$G$6:$G$17,1)","v":{"$error":"#N/A"}},{"$error":"#N/A"},{"$error":"#N/A"},null,0,0,0,null,{"$f":"VLOOKUP(BG61,Liste_Noire!$B$15:$G$1208,1)","v":{"$error":"#N/A"}},{"$f":"VLOOKUP(BG61,Liste_Noire!$B$15:$G$1208,5)","v":{"$error":"#N/A"}},{"$error":"#N/A"},null,0,0,0,0,0,0,0]
[null,""," ","","","","",null,null,null,null,null,null,null,null,null,null,null,null,null,null,null,null,null,"",0,0,0,0,0,0,0,0,0,0,null,0,null,null,{"$f":"IF(AO62=\"\",\"\",IF(BV62=1,\"[b][color=red]\"&Datas!$D$32&\"[/color][/b]\"&AO62&\"[b][color=red]\"&Datas!$D$33&\"{\"&BU62&\"}[/color][/b]\",AO62))","v":""},""," ",{"$f":"IF(ISBLANK(Datas!$C$47),\"\",\" - \"&AX62)","v":{"$error":"#N/A"}},{"$f":"IF(ISBLANK(Datas!$C$48),\"\",\" - \"&AY62)","v":" - 0"},{"$f":"IF(ISBLANK(Datas!$C$49),\"\",\" - \"&AZ62)","v":""},{"$f":"IF(ISBLANK(Datas!$C$50),\"\",\" - \"&BA62)","v":" - Ecus:"},{"$f":"IF(ISBLANK(Datas!$C$51),\"\",\" - \"&BB62)","v":" - Niv: "},null,{"$error":"#N/A"},{"$error":"#N/A"},0,"PR:","Ecus:","Niv: ",null,null,null,null,0,{"$f":"VLOOKUP(BG62,LstVillage!$B$8:$C$283,1)","v":{"$error":"#N/A"}},{"$error":"#N/A"},{"$error":"#N/A"},0,{"$f":"VLOOKUP(BK62,Datas!$G$6:$G$17,1)","v":{"$error":"#N/A"}},{"$error":"#N/A"},{"$error":"#N/A"},null,0,0,0,null,{"$f":"VLOOKUP(BG62,Liste_Noire!$B$15:$G$1208,1)","v":{"$error":"#N/A"}},{"$f":"VLOOKUP(BG62,Liste_Noire!$B$15:$G$1208,5)","v":{"$error":"#N/A"}},{"$error":"#N/A"},null,0,0,0,0,0,0,0]
[null,""," ","","","","",null,null,null,null,null,null,null,null,null,null,null,null,null,null,null,null,null,"",0,0,0,0,0,0,0,0,0,0,null,0,null,null,{"$f":"IF(AO63=\"\",\"\",IF(BV63=1,\"[b][color=red]\"&Datas!$D$32&\"[/color][/b]\"&AO63&\"[b][color=red]\"&Datas!$D$33&\"{\"&BU63&\"}[/color][/b]\",AO63))","v":""},""," ",{"$f":"IF(ISBLANK(Datas!$C$47),\"\",\" - \"&AX63)","v":{"$error":"#N/A"}},{"$f":"IF(ISBLANK(Datas!$C$48),\"\",\" - \"&AY63)","v":" - 0"},{"$f":"IF(ISBLANK(Datas!$C$49),\"\",\" - \"&AZ63)","v":""},{"$f":"IF(ISBLANK(Datas!$C$50),\"\",\" - \"&BA63)","v":" - Ecus:"},{"$f":"IF(ISBLANK(Datas!$C$51),\"\",\" - \"&BB63)","v":" - Niv: "},null,{"$error":"#N/A"},{"$error":"#N/A"},0,"PR:","Ecus:","Niv: ",null,null,null,null,0,{"$f":"VLOOKUP(BG63,LstVillage!$B$8:$C$283,1)","v":{"$error":"#N/A"}},{"$error":"#N/A"},{"$error":"#N/A"},0,{"$f":"VLOOKUP(BK63,Datas!$G$6:$G$17,1)","v":{"$error":"#N/A"}},{"$error":"#N/A"},{"$error":"#N/A"},null,0,0,0,null,{"$f":"VLOOKUP(BG63,Liste_Noire!$B$15:$G$1208,1)","v":{"$error":"#N/A"}},{"$f":"VLOOKUP(BG63,Liste_Noire!$B$15:$G$1208,5)","v":{"$error":"#N/A"}},{"$error":"#N/A"},null,0,0,0,0,0,0,0]
[null,""," ","","","","",null,null,null,null,null,null,null,null,null,null,null,null,null,null,null,null,null,"",0,0,0,0,0,0,0,0,0,0,null,0,null,null,{"$f":"IF(AO64=\"\",\"\",IF(BV64=1,\"[b][color=red]\"&Datas!$D$32&\"[/color][/b]\"&AO64&\"[b][color=red]\"&Datas!$D$33&\"{\"&BU64&\"}[/color][/b]\",AO64))","v":""},""," ",{"$f":"IF(ISBLANK(Datas!$C$47),\"\",\" - \"&AX64)","v":{"$error":"#N/A"}},{"$f":"IF(ISBLANK(Datas!$C$48),\"\",\" - \"&AY64)","v":" - 0"},{"$f":"IF(ISBLANK(Datas!$C$49),\"\",\" - \"&AZ64)","v":""},{"$f":"IF(ISBLANK(Datas!$C$50),\"\",\" - \"&BA64)","v":" - Ecus:"},{"$f":"IF(ISBLANK(Datas!$C$51),\"\",\" - \"&BB64)","v":" - Niv: "},null,{"$error":"#N/A"},{"$error":"#N/A"},0,"PR:","Ecus:","Niv: ",null,null,null,null,0,{"$f":"VLOOKUP(BG64,LstVillage!$B$8:$C$283,1)","v":{"$error":"#N/A"}},{"$error":"#N/A"},{"$error":"#N/A"},0,{"$f":"VLOOKUP(BK64,Datas!$G$6:$G$17,1)","v":{"$error":"#N/A"}},{"$error":"#N/A"},{"$error":"#N/A"},null,0,0,0,null,{"$f":"VLOOKUP(BG64,Liste_Noire!$B$15:$G$1208,1)","v":{"$error":"#N/A"}},{"$f":"VLOOKUP(BG64,Liste_Noire!$B$15:$G$1208,5)","v":{"$error":"#N/A"}},{"$error":"#N/A"},null,0,0,0,0,0,0,0]
[null,""," ","","","","",null,null,null,null,null,null,null,null,null,null,null,null,null,null,null,null,null,"",0,0,0,0,0,0,0,0,0,0,null,0,null,null,{"$f":"IF(AO65=\"\",\"\",IF(BV65=1,\"[b][color=red]\"&Datas!$D$32&\"[/color][/b]\"&AO65&\"[b][color=red]\"&Datas!$D$33&\"{\"&BU65&\"}[/color][/b]\",AO65))","v":""},""," ",{"$f":"IF(ISBLANK(Datas!$C$47),\"\",\" - \"&AX65)","v":{"$error":"#N/A"}},{"$f":"IF(ISBLANK(Datas!$C$48),\"\",\" - \"&AY65)","v":" - 0"},{"$f":"IF(ISBLANK(Datas!$C$49),\"\",\" - \"&AZ65)","v":""},{"$f":"IF(ISBLANK(Datas!$C$50),\"\",\" - \"&BA65)","v":" - Ecus:"},{"$f":"IF(ISBLANK(Datas!$C$51),\"\",\" - \"&BB65)","v":" - Niv: "},null,{"$error":"#N/A"},{"$error":"#N/A"},0,"PR:","Ecus:","Niv: ",null,null,null,null,0,{"$f":"VLOOKUP(BG65,LstVillage!$B$8:$C$283,1)","v":{"$error":"#N/A"}},{"$error":"#N/A"},{"$error":"#N/A"},0,{"$f":"VLOOKUP(BK65,Datas!$G$6:$G$17,1)","v":{"$error":"#N/A"}},{"$error":"#N/A"},{"$error":"#N/A"},null,0,0,0,null,{"$f":"VLOOKUP(BG65,Liste_Noire!$B$15:$G$1208,1)","v":{"$error":"#N/A"}},{"$f":"VLOOKUP(BG65,Liste_Noire!$B$15:$G$1208,5)","v":{"$error":"#N/A"}},{"$error":"#N/A"},null,0,0,0,0,0,0,0]
[null,""," ","","","","",null,null,null,null,null,null,null,null,null,null,null,null,null,null,null,null,null,"",0,0,0,0,0,0,0,0,0,0,null,0,null,null,{"$f":"IF(AO66=\"\",\"\",IF(BV66=1,\"[b][color=red]\"&Datas!$D$32&\"[/color][/b]\"&AO66&\"[b][color=red]\"&Datas!$D$33&\"{\"&BU66&\"}[/color][/b]\",AO66))","v":""},""," ",{"$f":"IF(ISBLANK(Datas!$C$47),\"\",\" - \"&AX66)","v":{"$error":"#N/A"}},{"$f":"IF(ISBLANK(Datas!$C$48),\"\",\" - \"&AY66)","v":" - 0"},{"$f":"IF(ISBLANK(Datas!$C$49),\"\",\" - \"&AZ66)","v":""},{"$f":"IF(ISBLANK(Datas!$C$50),\"\",\" - \"&BA66)","v":" - Ecus:"},{"$f":"IF(ISBLANK(Datas!$C$51),\"\",\" - \"&BB66)","v":" - Niv: "},null,{"$error":"#N/A"},{"$error":"#N/A"},0,"PR:","Ecus:","Niv: ",null,null,null,null,0,{"$f":"VLOOKUP(BG66,LstVillage!$B$8:$C$283,1)","v":{"$error":"#N/A"}},{"$error":"#N/A"},{"$error":"#N/A"},0,{"$f":"VLOOKUP(BK66,Datas!$G$6:$G$17,1)","v":{"$error":"#N/A"}},{"$error":"#N/A"},{"$error":"#N/A"},null,0,0,0,null,{"$f":"VLOOKUP(BG66,Liste_Noire!$B$15:$G$1208,1)","v":{"$error":"#N/A"}},{"$f":"VLOOKUP(BG66,Liste_Noire!$B$15:$G$1208,5)","v":{"$error":"#N/A"}},{"$error":"#N/A"},null,0,0,0,0,0,0,0]
[null,""," ","","","","",null,null,null,null,null,null,null,null,null,null,null,null,null,null,null,null,null,"",0,0,0,0,0,0,0,0,0,0,null,0,null,null,{"$f":"IF(AO67=\"\",\"\",IF(BV67=1,\"[b][color=red]\"&Datas!$D$32&\"[/color][/b]\"&AO67&\"[b][color=red]\"&Datas!$D$33&\"{\"&BU67&\"}[/color][/b]\",AO67))","v":""},""," ",{"$f":"IF(ISBLANK(Datas!$C$47),\"\",\" - \"&AX67)","v":{"$error":"#N/A"}},{"$f":"IF(ISBLANK(Datas!$C$48),\"\",\" - \"&AY67)","v":" - 0"},{"$f":"IF(ISBLANK(Datas!$C$49),\"\",\" - \"&AZ67)","v":""},{"$f":"IF(ISBLANK(Datas!$C$50),\"\",\" - \"&BA67)","v":" - Ecus:"},{"$f":"IF(ISBLANK(Datas!$C$51),\"\",\" - \"&BB67)","v":" - Niv: "},null,{"$error":"#N/A"},{"$error":"#N/A"},0,"PR:","Ecus:","Niv: ",null,null,null,null,0,{"$f":"VLOOKUP(BG67,LstVillage!$B$8:$C$283,1)","v":{"$error":"#N/A"}},{"$error":"#N/A"},{"$error":"#N/A"},0,{"$f":"VLOOKUP(BK67,Datas!$G$6:$G$17,1)","v":{"$error":"#N/A"}},{"$error":"#N/A"},{"$error":"#N/A"},null,0,0,0,null,{"$f":"VLOOKUP(BG67,Liste_Noire!$B$15:$G$1208,1)","v":{"$error":"#N/A"}},{"$f":"VLOOKUP(BG67,Liste_Noire!$B$15:$G$1208,5)","v":{"$error":"#N/A"}},{"$error":"#N/A"},null,0,0,0,0,0,0,0]
[null,""," ","","","","",null,null,null,null,null,null,null,null,null,null,null,null,null,null,null,null,null,"",0,0,0,0,0,0,0,0,0,0,null,0,null,null,{"$f":"IF(AO68=\"\",\"\",IF(BV68=1,\"[b][color=red]\"&Datas!$D$32&\"[/color][/b]\"&AO68&\"[b][color=red]\"&Datas!$D$33&\"{\"&BU68&\"}[/color][/b]\",AO68))","v":""},""," ",{"$f":"IF(ISBLANK(Datas!$C$47),\"\",\" - \"&AX68)","v":{"$error":"#N/A"}},{"$f":"IF(ISBLANK(Datas!$C$48),\"\",\" - \"&AY68)","v":" - 0"},{"$f":"IF(ISBLANK(Datas!$C$49),\"\",\" - \"&AZ68)","v":""},{"$f":"IF(ISBLANK(Datas!$C$50),\"\",\" - \"&BA68)","v":" - Ecus:"},{"$f":"IF(ISBLANK(Datas!$C$51),\"\",\" - \"&BB68)","v":" - Niv: "},null,{"$error":"#N/A"},{"$error":"#N/A"},0,"PR:","Ecus:","Niv: ",null,null,null,null,0,{"$f":"VLOOKUP(BG68,LstVillage!$B$8:$C$283,1)","v":{"$error":"#N/A"}},{"$error":"#N/A"},{"$error":"#N/A"},0,{"$f":"VLOOKUP(BK68,Datas!$G$6:$G$17,1)","v":{"$error":"#N/A"}},{"$error":"#N/A"},{"$error":"#N/A"},null,0,0,0,null,{"$f":"VLOOKUP(BG68,Liste_Noire!$B$15:$G$1208,1)","v":{"$error":"#N/A"}},{"$f":"VLOOKUP(BG68,Liste_Noire!$B$15:$G$1208,5)","v":{"$error":"#N/A"}},{"$error":"#N/A"},null,0,0,0,0,0,0,0]
[null,""," ","","","","",null,null,null,null,null,null,null,null,null,null,null,null,null,null,null,null,null,"",0,0,0,0,0,0,0,0,0,0,null,0,null,null,{"$f":"IF(AO69=\"\",\"\",IF(BV69=1,\"[b][color=red]\"&Datas!$D$32&\"[/color][/b]\"&AO69&\"[b][color=red]\"&Datas!$D$33&\"{\"&BU69&\"}[/color][/b]\",AO69))","v":""},""," ",{"$f":"IF(ISBLANK(Datas!$C$47),\"\",\" - \"&AX69)","v":{"$error":"#N/A"}},{"$f":"IF(ISBLANK(Datas!$C$48),\"\",\" - \"&AY69)","v":" - 0"},{"$f":"IF(ISBLANK(Datas!$C$49),\"\",\" - \"&AZ69)","v":""},{"$f":"IF(ISBLANK(Datas!$C$50),\"\",\" - \"&BA69)","v":" - Ecus:"},{"$f":"IF(ISBLANK(Datas!$C$51),\"\",\" - \"&BB69)","v":" - Niv: "},null,{"$error":"#N/A"},{"$error":"#N/A"},0,"PR:","Ecus:","Niv: ",null,null,null,null,0,{"$f":"VLOOKUP(BG69,LstVillage!$B$8:$C$283,1)","v":{"$error":"#N/A"}},{"$error":"#N/A"},{"$error":"#N/A"},0,{"$f":"VLOOKUP(BK69,Datas!$G$6:$G$17,1)","v":{"$error":"#N/A"}},{"$error":"#N/A"},{"$error":"#N/A"},null,0,0,0,null,{"$f":"VLOOKUP(BG69,Liste_Noire!$B$15:$G$1208,1)","v":{"$error":"#N/A"}},{"$f":"VLOOKUP(BG69,Liste_Noire!$B$15:$G$1208,5)","v":{"$error":"#N/A"}},{"$error":"#N/A"},null,0,0,0,0,0,0,0]
[null,""," ","","","","",null,null,null,null,null,null,null,null,null,null,null,null,null,null,null,null,null,"",0,0,0,0,0,0,0,0,0,0,null,0,null,null,{"$f":"IF(AO70=\"\",\"\",IF(BV70=1,\"[b][color=red]\"&Datas!$D$32&\"[/color][/b]\"&AO70&\"[b][color=red]\"&Datas!$D$33&\"{\"&BU70&\"}[/color][/b]\",AO70))","v":""},""," ",{"$f":"IF(ISBLANK(Datas!$C$47),\"\",\" - \"&AX70)","v":{"$error":"#N/A"}},{"$f":"IF(ISBLANK(Datas!$C$48),\"\",\" - \"&AY70)","v":" - 0"},{"$f":"IF(ISBLANK(Datas!$C$49),\"\",\" - \"&AZ70)","v":""},{"$f":"IF(ISBLANK(Datas!$C$50),\"\",\" - \"&BA70)","v":" - Ecus:"},{"$f":"IF(ISBLANK(Datas!$C$51),\"\",\" - \"&BB70)","v":" - Niv: "},null,{"$error":"#N/A"},{"$error":"#N/A"},0,"PR:","Ecus:","Niv: ",null,null,null,null,0,{"$f":"VLOOKUP(BG70,LstVillage!$B$8:$C$283,1)","v":{"$error":"#N/A"}},{"$error":"#N/A"},{"$error":"#N/A"},0,{"$f":"VLOOKUP(BK70,Datas!$G$6:$G$17,1)","v":{"$error":"#N/A"}},{"$error":"#N/A"},{"$error":"#N/A"},null,0,0,0,null,{"$f":"VLOOKUP(BG70,Liste_Noire!$B$15:$G$1208,1)","v":{"$error":"#N/A"}},{"$f":"VLOOKUP(BG70,Liste_Noire!$B$15:$G$1208,5)","v":{"$error":"#N/A"}},{"$error":"#N/A"},null,0,0,0,0,0,0,0]
[null,""," ","","","","",null,null,null,null,null,null,null,null,null,null,null,null,null,null,null,null,null,"",0,0,0,0,0,0,0,0,0,0,null,0,null,null,{"$f":"IF(AO71=\"\",\"\",IF(BV71=1,\"[b][color=red]\"&Datas!$D$32&\"[/color][/b]\"&AO71&\"[b][color=red]\"&Datas!$D$33&\"{\"&BU71&\"}[/color][/b]\",AO71))","v":""},""," ",{"$f":"IF(ISBLANK(Datas!$C$47),\"\",\" - \"&AX71)","v":{"$error":"#N/A"}},{"$f":"IF(ISBLANK(Datas!$C$48),\"\",\" - \"&AY71)","v":" - 0"},{"$f":"IF(ISBLANK(Datas!$C$49),\"\",\" - \"&AZ71)","v":""},{"$f":"IF(ISBLANK(Datas!$C$50),\"\",\" - \"&BA71)","v":" - Ecus:"},{"$f":"IF(ISBLANK(Datas!$C$51),\"\",\" - \"&BB71)","v":" - Niv: "},null,{"$error":"#N/A"},{"$error":"#N/A"},0,"PR:","Ecus:","Niv: ",null,null,null,null,0,{"$f":"VLOOKUP(BG71,LstVillage!$B$8:$C$283,1)","v":{"$error":"#N/A"}},{"$error":"#N/A"},{"$error":"#N/A"},0,{"$f":"VLOOKUP(BK71,Datas!$G$6:$G$17,1)","v":{"$error":"#N/A"}},{"$error":"#N/A"},{"$error":"#N/A"},null,0,0,0,null,{"$f":"VLOOKUP(BG71,Liste_Noire!$B$15:$G$1208,1)","v":{"$error":"#N/A"}},{"$f":"VLOOKUP(BG71,Liste_Noire!$B$15:$G$1208,5)","v":{"$error":"#N/A"}},{"$error":"#N/A"},null,0,0,0,0,0,0,0]
[null,""," ","","","","",null,null,null,null,null,null,null,null,null,null,null,null,null,null,null,null,null,"",0,0,0,0,0,0,0,0,0,0,null,0,null,null,{"$f":"IF(AO72=\"\",\"\",IF(BV72=1,\"[b][color=red]\"&Datas!$D$32&\"[/color][/b]\"&AO72&\"[b][color=red]\"&Datas!$D$33&\"{\"&BU72&\"}[/color][/b]\",AO72))","v":""},""," ",{"$f":"IF(ISBLANK(Datas!$C$47),\"\",\" - \"&AX72)","v":{"$error":"#N/A"}},{"$f":"IF(ISBLANK(Datas!$C$48),\"\",\" - \"&AY72)","v":" - 0"},{"$f":"IF(ISBLANK(Datas!$C$49),\"\",\" - \"&AZ72)","v":""},{"$f":"IF(ISBLANK(Datas!$C$50),\"\",\" - \"&BA72)","v":" - Ecus:"},{"$f":"IF(ISBLANK(Datas!$C$51),\"\",\" - \"&BB72)","v":" - Niv: "},null,{"$error":"#N/A"},{"$error":"#N/A"},0,"PR:","Ecus:","Niv: ",null,null,null,null,0,{"$f":"VLOOKUP(BG72,LstVillage!$B$8:$C$283,1)","v":{"$error":"#N/A"}},{"$error":"#N/A"},{"$error":"#N/A"},0,{"$f":"VLOOKUP(BK72,Datas!$G$6:$G$17,1)","v":{"$error":"#N/A"}},{"$error":"#N/A"},{"$error":"#N/A"},null,0,0,0,null,{"$f":"VLOOKUP(BG72,Liste_Noire!$B$15:$G$1208,1)","v":{"$error":"#N/A"}},{"$f":"VLOOKUP(BG72,Liste_Noire!$B$15:$G$1208,5)","v":{"$error":"#N/A"}},{"$error":"#N/A"},null,0,0,0,0,0,0,0]
[null,""," ","","","","",null,null,null,null,null,null,null,null,null,null,null,null,null,null,null,null,null,"",0,0,0,0,0,0,0,0,0,0,null,0,null,null,{"$f":"IF(AO73=\"\",\"\",IF(BV73=1,\"[b][color=red]\"&Datas!$D$32&\"[/color][/b]\"&AO73&\"[b][color=red]\"&Datas!$D$33&\"{\"&BU73&\"}[/color][/b]\",AO73))","v":""},""," ",{"$f":"IF(ISBLANK(Datas!$C$47),\"\",\" - \"&AX73)","v":{"$error":"#N/A"}},{"$f":"IF(ISBLANK(Datas!$C$48),\"\",\" - \"&AY73)","v":" - 0"},{"$f":"IF(ISBLANK(Datas!$C$49),\"\",\" - \"&AZ73)","v":""},{"$f":"IF(ISBLANK(Datas!$C$50),\"\",\" - \"&BA73)","v":" - Ecus:"},{"$f":"IF(ISBLANK(Datas!$C$51),\"\",\" - \"&BB73)","v":" - Niv: "},null,{"$error":"#N/A"},{"$error":"#N/A"},0,"PR:","Ecus:","Niv: ",null,null,null,null,0,{"$f":"VLOOKUP(BG73,LstVillage!$B$8:$C$283,1)","v":{"$error":"#N/A"}},{"$error":"#N/A"},{"$error":"#N/A"},0,{"$f":"VLOOKUP(BK73,Datas!$G$6:$G$17,1)","v":{"$error":"#N/A"}},{"$error":"#N/A"},{"$error":"#N/A"},null,0,0,0,null,{"$f":"VLOOKUP(BG73,Liste_Noire!$B$15:$G$1208,1)","v":{"$error":"#N/A"}},{"$f":"VLOOKUP(BG73,Liste_Noire!$B$15:$G$1208,5)","v":{"$error":"#N/A"}},{"$error":"#N/A"},null,0,0,0,0,0,0,0]
[null,""," ","","","","",null,null,null,null,null,null,null,null,null,null,null,null,null,null,null,null,null,"",0,0,0,0,0,0,0,0,0,0,null,0,null,null,{"$f":"IF(AO74=\"\",\"\",IF(BV74=1,\"[b][color=red]\"&Datas!$D$32&\"[/color][/b]\"&AO74&\"[b][color=red]\"&Datas!$D$33&\"{\"&BU74&\"}[/color][/b]\",AO74))","v":""},""," ",{"$f":"IF(ISBLANK(Datas!$C$47),\"\",\" - \"&AX74)","v":{"$error":"#N/A"}},{"$f":"IF(ISBLANK(Datas!$C$48),\"\",\" - \"&AY74)","v":" - 0"},{"$f":"IF(ISBLANK(Datas!$C$49),\"\",\" - \"&AZ74)","v":""},{"$f":"IF(ISBLANK(Datas!$C$50),\"\",\" - \"&BA74)","v":" - Ecus:"},{"$f":"IF(ISBLANK(Datas!$C$51),\"\",\" - \"&BB74)","v":" - Niv: "},null,{"$error":"#N/A"},{"$error":"#N/A"},0,"PR:","Ecus:","Niv: ",null,null,null,null,0,{"$f":"VLOOKUP(BG74,LstVillage!$B$8:$C$283,1)","v":{"$error":"#N/A"}},{"$error":"#N/A"},{"$error":"#N/A"},0,{"$f":"VLOOKUP(BK74,Datas!$G$6:$G$17,1)","v":{"$error":"#N/A"}},{"$error":"#N/A"},{"$error":"#N/A"},null,0,0,0,null,{"$f":"VLOOKUP(BG74,Liste_Noire!$B$15:$G$1208,1)","v":{"$error":"#N/A"}},{"$f":"VLOOKUP(BG74,Liste_Noire!$B$15:$G$1208,5)","v":{"$error":"#N/A"}},{"$error":"#N/A"},null,0,0,0,0,0,0,0]
[null,""," ","","","","",null,null,null,null,null,null,null,null,null,null,null,null,null,null,null,null,null,"",0,0,0,0,0,0,0,0,0,0,null,0,null,null,{"$f":"IF(AO75=\"\",\"\",IF(BV75=1,\"[b][color=red]\"&Datas!$D$32&\"[/color][/b]\"&AO75&\"[b][color=red]\"&Datas!$D$33&\"{\"&BU75&\"}[/color][/b]\",AO75))","v":""},""," ",{"$f":"IF(ISBLANK(Datas!$C$47),\"\",\" - \"&AX75)","v":{"$error":"#N/A"}},{"$f":"IF(ISBLANK(Datas!$C$48),\"\",\" - \"&AY75)","v":" - 0"},{"$f":"IF(ISBLANK(Datas!$C$49),\"\",\" - \"&AZ75)","v":""},{"$f":"IF(ISBLANK(Datas!$C$50),\"\",\" - \"&BA75)","v":" - Ecus:"},{"$f":"IF(ISBLANK(Datas!$C$51),\"\",\" - \"&BB75)","v":" - Niv: "},null,{"$error":"#N/A"},{"$error":"#N/A"},0,"PR:","Ecus:","Niv: ",null,null,null,null,0,{"$f":"VLOOKUP(BG75,LstVillage!$B$8:$C$283,1)","v":{"$error":"#N/A"}},{"$error":"#N/A"},{"$error":"#N/A"},0,{"$f":"VLOOKUP(BK75,Datas!$G$6:$G$17,1)","v":{"$error":"#N/A"}},{"$error":"#N/A"},{"$error":"#N/A"},null,0,0,0,null,{"$f":"VLOOKUP(BG75,Liste_Noire!$B$15:$G$1208,1)","v":{"$error":"#N/A"}},{"$f":"VLOOKUP(BG75,Liste_Noire!$B$15:$G$1208,5)","v":{"$error":"#N/A"}},{"$error":"#N/A"},null,0,0,0,0,0,0,0]
[null,""," ","","","","",null,null,null,null,null,null,null,null,null,null,null,null,null,null,null,null,null,"",0,0,0,0,0,0,0,0,0,0,null,0,null,null,{"$f":"IF(AO76=\"\",\"\",IF(BV76=1,\"[b][color=red]\"&Datas!$D$32&\"[/color][/b]\"&AO76&\"[b][color=red]\"&Datas!$D$33&\"{\"&BU76&\"}[/color][/b]\",AO76))","v":""},""," ",{"$f":"IF(ISBLANK(Datas!$C$47),\"\",\" - \"&AX76)","v":{"$error":"#N/A"}},{"$f":"IF(ISBLANK(Datas!$C$48),\"\",\" - \"&AY76)","v":" - 0"},{"$f":"IF(ISBLANK(Datas!$C$49),\"\",\" - \"&AZ76)","v":""},{"$f":"IF(ISBLANK(Datas!$C$50),\"\",\" - \"&BA76)","v":" - Ecus:"},{"$f":"IF(ISBLANK(Datas!$C$51),\"\",\" - \"&BB76)","v":" - Niv: "},null,{"$error":"#N/A"},{"$error":"#N/A"},0,"PR:","Ecus:","Niv: ",null,null,null,null,0,{"$f":"VLOOKUP(BG76,LstVillage!$B$8:$C$283,1)","v":{"$error":"#N/A"}},{"$error":"#N/A"},{"$error":"#N/A"},0,{"$f":"VLOOKUP(BK76,Datas!$G$6:$G$17,1)","v":{"$error":"#N/A"}},{"$error":"#N/A"},{"$error":"#N/A"},null,0,0,0,null,{"$f":"VLOOKUP(BG76,Liste_Noire!$B$15:$G$1208,1)","v":{"$error":"#N/A"}},{"$f":"VLOOKUP(BG76,Liste_Noire!$B$15:$G$1208,5)","v":{"$error":"#N/A"}},{"$error":"#N/A"},null,0,0,0,0,0,0,0]
[null,{"$f":"IF(BQ77,\"[strike]\"&AN77&\"[/strike]\",IF(BR77,\"[i]\"&AN77&\"[/i]\",AN77))","v":""}," ",{"$f":"IF(M77=\"mort\",\"M\",\"\")","v":""},{"$f":"IF(ISERROR(BV77),\"\",IF(BV77=1,\"LN\",\"\"))","v":""},{"$f":"IF(M77=\"retraite\",\"R\",\"\")","v":""},{"$f":"IF(ISBLANK(Y77),\"\",Y77)","v":""},null,null,null,null,null,null,null,null,null,null,null,null,null,null,null,null,null,"",{"$f":"IF($Y77=Z$11,1,0)","v":0},{"$f":"IF(AND(Z77=1,$E77=AA$11),1,0)","v":0},{"$f":"IF($Y77=AB$11,1,0)","v":0},{"$f":"IF(AND(AB77=1,$E77=AC$11),1,0)","v":0},{"$f":"IF($F77=AD$11,1,0)","v":0},{"$f":"IF(AND(AD77=1,$E77=AE$11),1,0)","v":0},{"$f":"IF($D77=AF$11,1,0)","v":0},{"$f":"IF(AND(AF77=1,$E77=AG$11),1,0)","v":0},{"$f":"IF(AND($Y77=AH$11,(AD77+AF77)=0),1,0)","v":0},{"$f":"IF(AND(AH77=1,$E77=AI$11),1,0)","v":0},null,{"$f":"IF(AND(ISBLANK(I77),ISBLANK(K77),ISBLANK(L77),ISBLANK(P77)),0,1)","v":0},null,null,{"$f":"IF(AO77=\"\",\"\",IF(BV77=1,\"[b][color=red]\"&Datas!$D$32&\"[/color][/b]\"&AO77&\"[b][color=red]\"&Datas!$D$33&\"{\"&BU77&\"}[/color][/b]\",AO77))","v":""},{"$f":"IF(ISBLANK(M77),\"\",AW77&AQ77&AR77&AS77&AT77&AU77)","v":""}," ",{"$f":"IF(ISBLANK(Datas!$C$47),\"\",\" - \"&AX77)","v":{"$error":"#N/A"}},{"$f":"IF(ISBLANK(Datas!$C$48),\"\",\" - \"&AY77)","v":" - 0"},{"$f":"IF(ISBLANK(Datas!$C$49),\"\",\" - \"&AZ77)","v":""},{"$f":"IF(ISBLANK(Datas!$C$50),\"\",\" - \"&BA77)","v":" - Ecus:"},{"$f":"IF(ISBLANK(Datas!$C$51),\"\",\" - \"&BB77)","v":" - Niv: "},null,{"$f":"\"[b][color=\"&BJ77&\"]\"&BG77&\"[/color][/b]\"","v":{"$error":"#N/A"}},{"$f":"\"[b][color=\"&BN77&\"]\"&BK77&\"[/color][/b]\"","v":{"$error":"#N/A"}},{"$f":"BP77","v":0},{"$f":"\"PR:\"&O77","v":"PR:"},{"$f":"\"Ecus:\"&P77","v":"Ecus:"},{"$f":"\"Niv: \"&N77","v":"Niv: "},null,null,null,null,{"$f":"I77","v":0},{"$f":"VLOOKUP(BG77,LstVillage!$B$8:$C$283,1)","v":{"$error":"#N/A"}},{"$f":"IF(BH77<>BG77,0,1)","v":{"$error":"#N/A"}},{"$f":"IF(BI77=1,$AX$2,IF(BM77=1,$AX$3,$AX$4))","v":{"$error":"#N/A"}},{"$f":"L77","v":0},{"$f":"VLOOKUP(BK77,Datas!$G$6:$G$17,1)","v":{"$error":"#N/A"}},{"$f":"IF(BL77<>BK77,0,1)","v":{"$error":"#N/A"}},{"$f":"IF(BM77=1,$BA$2,$BA$3)","v":{"$error":"#N/A"}},null,{"$f":"K77","v":0},{"$f":"IF(F77=\"M\",1,0)","v":0},{"$f":"IF(F77=\"R\",1,0)","v":0},null,{"$f":"VLOOKUP(BG77,Liste_Noire!$B$15:$G$1208,1)","v":{"$error":"#N/A"}},{"$f":"VLOOKUP(BG77,Liste_Noire!$B$15:$G$1208,5)","v":{"$error":"#N/A"}},{"$f":"IF(ISERR(BT77),0,IF(BT77=BG77,1,0))","v":{"$error":"#N/A"}},null,{"$f":"IF(G77=\"a\",1,0)","v":0},{"$f":"IF(G77=\"d\",1,0)","v":0},{"$f":"IF(F77=\"R\",1,0)","v":0},{"$f":"IF(F77=\"M\",1,0)","v":0},{"$f":"IF(ISERROR(BV77),0,IF(BV77=1,IF(BU77=\"Liste Noire\",1,0),0))","v":0},{"$f":"IF(ISERROR(BV77),0,IF(BV77=1,IF(BU77=\"Surveillance\",1,0),0))","v":0},{"$f":"IF(ISBLANK(I77),0,1)","v":0}]
[null,""," ","","","","",null,null,null,null,null,null,null,null,null,null,null,null,null,null,null,null,null,{"$f":"IF(OR(ISBLANK(U78),TRIM(U78)=\"\"),IF(ISBLANK($I78),\"\",$Y$11),IF(OR($F78=$AD$11,$D78=$AF$11),$Y$11,IF(U78=\"a/d\",\"\",U78)))","v":""},0,0,0,0,0,0,0,0,0,0,null,0,null,null,{"$f":"IF(AO78=\"\",\"\",IF(BV78=1,\"[b][color=red]\"&Datas!$D$32&\"[/color][/b]\"&AO78&\"[b][color=red]\"&Datas!$D$33&\"{\"&BU78&\"}[/color][/b]\",AO78))","v":""},""," ",{"$f":"IF(ISBLANK(Datas!$C$47),\"\",\" - \"&AX78)","v":{"$error":"#N/A"}},{"$f":"IF(ISBLANK(Datas!$C$48),\"\",\" - \"&AY78)","v":" - 0"},{"$f":"IF(ISBLANK(Datas!$C$49),\"\",\" - \"&AZ78)","v":""},{"$f":"IF(ISBLANK(Datas!$C$50),\"\",\" - \"&BA78)","v":" - Ecus:"},{"$f":"IF(ISBLANK(Datas!$C$51),\"\",\" - \"&BB78)","v":" - Niv: "},null,{"$error":"#N/A"},{"$error":"#N/A"},0,"PR:","Ecus:","Niv: ",null,null,null,null,0,{"$f":"VLOOKUP(BG78,LstVillage!$B$8:$C$283,1)","v":{"$error":"#N/A"}},{"$error":"#N/A"},{"$error":"#N/A"},0,{"$f":"VLOOKUP(BK78,Datas!$G$6:$G$17,1)","v":{"$error":"#N/A"}},{"$error":"#N/A"},{"$error":"#N/A"},null,0,0,0,null,{"$f":"VLOOKUP(BG78,Liste_Noire!$B$15:$G$1208,1)","v":{"$error":"#N/A"}},{"$f":"VLOOKUP(BG78,Liste_Noire!$B$15:$G$1208,5)","v":{"$error":"#N/A"}},{"$error":"#N/A"},null,0,0,0,0,0,0,0]
[null,""," ","","","","",null,null,null,null,null,null,null,null,null,null,null,null,null,null,null,null,null,"",0,0,0,0,0,0,0,0,0,0,null,0,null,null,{"$f":"IF(AO79=\"\",\"\",IF(BV79=1,\"[b][color=red]\"&Datas!$D$32&\"[/color][/b]\"&AO79&\"[b][color=red]\"&Datas!$D$33&\"{\"&BU79&\"}[/color][/b]\",AO79))","v":""},""," ",{"$f":"IF(ISBLANK(Datas!$C$47),\"\",\" - \"&AX79)","v":{"$error":"#N/A"}},{"$f":"IF(ISBLANK(Datas!$C$48),\"\",\" - \"&AY79)","v":" - 0"},{"$f":"IF(ISBLANK(Datas!$C$49),\"\",\" - \"&AZ79)","v":""},{"$f":"IF(ISBLANK(Datas!$C$50),\"\",\" - \"&BA79)","v":" - Ecus:"},{"$f":"IF(ISBLANK(Datas!$C$51),\"\",\" - \"&BB79)","v":" - Niv: "},null,{"$error":"#N/A"},{"$error":"#N/A"},0,"PR:","Ecus:","Niv: ",null,null,null,null,0,{"$f":"VLOOKUP(BG79,LstVillage!$B$8:$C$283,1)","v":{"$error":"#N/A"}},{"$error":"#N/A"},{"$error":"#N/A"},0,{"$f":"VLOOKUP(BK79,Datas!$G$6:$G$17,1)","v":{"$error":"#N/A"}},{"$error":"#N/A"},{"$error":"#N/A"},null,0,0,0,null,{"$f":"VLOOKUP(BG79,Liste_Noire!$B$15:$G$1208,1)","v":{"$error":"#N/A"}},{"$f":"VLOOKUP(BG79,Liste_Noire!$B$15:$G$1208,5)","v":{"$error":"#N/A"}},{"$error":"#N/A"},null,0,0,0,0,0,0,0]
[null,""," ","","","","",null,null,null,null,null,null,null,null,null,null,null,null,null,null,null,null,null,"",0,0,0,0,0,0,0,0,0,0,null,0,null,null,{"$f":"IF(AO80=\"\",\"\",IF(BV80=1,\"[b][color=red]\"&Datas!$D$32&\"[/color][/b]\"&AO80&\"[b][color=red]\"&Datas!$D$33&\"{\"&BU80&\"}[/color][/b]\",AO80))","v":""},""," ",{"$f":"IF(ISBLANK(Datas!$C$47),\"\",\" - \"&AX80)","v":{"$error":"#N/A"}},{"$f":"IF(ISBLANK(Datas!$C$48),\"\",\" - \"&AY80)","v":" - 0"},{"$f":"IF(ISBLANK(Datas!$C$49),\"\",\" - \"&AZ80)","v":""},{"$f":"IF(ISBLANK(Datas!$C$50),\"\",\" - \"&BA80)","v":" - Ecus:"},{"$f":"IF(ISBLANK(Datas!$C$51),\"\",\" - \"&BB80)","v":" - Niv: "},null,{"$error":"#N/A"},{"$error":"#N/A"},0,"PR:","Ecus:","Niv: ",null,null,null,null,0,{"$f":"VLOOKUP(BG80,LstVillage!$B$8:$C$283,1)","v":{"$error":"#N/A"}},{"$error":"#N/A"},{"$error":"#N/A"},0,{"$f":"VLOOKUP(BK80,Datas!$G$6:$G$17,1)","v":{"$error":"#N/A"}},{"$error":"#N/A"},{"$error":"#N/A"},null,0,0,0,null,{"$f":"VLOOKUP(BG80,Liste_Noire!$B$15:$G$1208,1)","v":{"$error":"#N/A"}},{"$f":"VLOOKUP(BG80,Liste_Noire!$B$15:$G$1208,5)","v":{"$error":"#N/A"}},{"$error":"#N/A"},null,0,0,0,0,0,0,0]
[null,""," ","","","","",null,null,null,null,null,null,null,null,null,null,null,null,null,null,null,null,null,"",0,0,0,0,0,0,0,0,0,0,null,0,null,null,{"$f":"IF(AO81=\"\",\"\",IF(BV81=1,\"[b][color=red]\"&Datas!$D$32&\"[/color][/b]\"&AO81&\"[b][color=red]\"&Datas!$D$33&\"{\"&BU81&\"}[/color][/b]\",AO81))","v":""},""," ",{"$f":"IF(ISBLANK(Datas!$C$47),\"\",\" - \"&AX81)","v":{"$error":"#N/A"}},{"$f":"IF(ISBLANK(Datas!$C$48),\"\",\" - \"&AY81)","v":" - 0"},{"$f":"IF(ISBLANK(Datas!$C$49),\"\",\" - \"&AZ81)","v":""},{"$f":"IF(ISBLANK(Datas!$C$50),\"\",\" - \"&BA81)","v":" - Ecus:"},{"$f":"IF(ISBLANK(Datas!$C$51),\"\",\" - \"&BB81)","v":" - Niv: "},null,{"$error":"#N/A"},{"$error":"#N/A"},0,"PR:","Ecus:","Niv: ",null,null,null,null,0,{"$f":"VLOOKUP(BG81,LstVillage!$B$8:$C$283,1)","v":{"$error":"#N/A"}},{"$error":"#N/A"},{"$error":"#N/A"},0,{"$f":"VLOOKUP(BK81,Datas!$G$6:$G$17,1)","v":{"$error":"#N/A"}},{"$error":"#N/A"},{"$error":"#N/A"},null,0,0,0,null,{"$f":"VLOOKUP(BG81,Liste_Noire!$B$15:$G$1208,1)","v":{"$error":"#N/A"}},{"$f":"VLOOKUP(BG81,Liste_Noire!$B$15:$G$1208,5)","v":{"$error":"#N/A"}},{"$error":"#N/A"},null,0,0,0,0,0,0,0]
[null,""," ","","","","",null,null,null,null,null,null,null,null,null,null,null,null,null,null,null,null,null,"",0,0,0,0,0,0,0,0,0,0,null,0,null,null,{"$f":"IF(AO82=\"\",\"\",IF(BV82=1,\"[b][color=red]\"&Datas!$D$32&\"[/color][/b]\"&AO82&\"[b][color=red]\"&Datas!$D$33&\"{\"&BU82&\"}[/color][/b]\",AO82))","v":""},""," ",{"$f":"IF(ISBLANK(Datas!$C$47),\"\",\" - \"&AX82)","v":{"$error":"#N/A"}},{"$f":"IF(ISBLANK(Datas!$C$48),\"\",\" - \"&AY82)","v":" - 0"},{"$f":"IF(ISBLANK(Datas!$C$49),\"\",\" - \"&AZ82)","v":""},{"$f":"IF(ISBLANK(Datas!$C$50),\"\",\" - \"&BA82)","v":" - Ecus:"},{"$f":"IF(ISBLANK(Datas!$C$51),\"\",\" - \"&BB82)","v":" - Niv: "},null,{"$error":"#N/A"},{"$error":"#N/A"},0,"PR:","Ecus:","Niv: ",null,null,null,null,0,{"$f":"VLOOKUP(BG82,LstVillage!$B$8:$C$283,1)","v":{"$error":"#N/A"}},{"$error":"#N/A"},{"$error":"#N/A"},0,{"$f":"VLOOKUP(BK82,Datas!$G$6:$G$17,1)","v":{"$error":"#N/A"}},{"$error":"#N/A"},{"$error":"#N/A"},null,0,0,0,null,{"$f":"VLOOKUP(BG82,Liste_Noire!$B$15:$G$1208,1)","v":{"$error":"#N/A"}},{"$f":"VLOOKUP(BG82,Liste_Noire!$B$15:$G$1208,5)","v":{"$error":"#N/A"}},{"$error":"#N/A"},null,0,0,0,0,0,0,0]
[null,""," ","","","","",null,null,null,null,null,null,null,null,null,null,null,null,null,null,null,null,null,"",0,0,0,0,0,0,0,0,0,0,null,0,null,null,{"$f":"IF(AO83=\"\",\"\",IF(BV83=1,\"[b][color=red]\"&Datas!$D$32&\"[/color][/b]\"&AO83&\"[b][color=red]\"&Datas!$D$33&\"{\"&BU83&\"}[/color][/b]\",AO83))","v":""},""," ",{"$f":"IF(ISBLANK(Datas!$C$47),\"\",\" - \"&AX83)","v":{"$error":"#N/A"}},{"$f":"IF(ISBLANK(Datas!$C$48),\"\",\" - \"&AY83)","v":" - 0"},{"$f":"IF(ISBLANK(Datas!$C$49),\"\",\" - \"&AZ83)","v":""},{"$f":"IF(ISBLANK(Datas!$C$50),\"\",\" - \"&BA83)","v":" - Ecus:"},{"$f":"IF(ISBLANK(Datas!$C$51),\"\",\" - \"&BB83)","v":" - Niv: "},null,{"$error":"#N/A"},{"$error":"#N/A"},0,"PR:","Ecus:","Niv: ",null,null,null,null,0,{"$f":"VLOOKUP(BG83,LstVillage!$B$8:$C$283,1)","v":{"$error":"#N/A"}},{"$error":"#N/A"},{"$error":"#N/A"},0,{"$f":"VLOOKUP(BK83,Datas!$G$6:$G$17,1)","v":{"$error":"#N/A"}},{"$error":"#N/A"},{"$error":"#N/A"},null,0,0,0,null,{"$f":"VLOOKUP(BG83,Liste_Noire!$B$15:$G$1208,1)","v":{"$error":"#N/A"}},{"$f":"VLOOKUP(BG83,Liste_Noire!$B$15:$G$1208,5)","v":{"$error":"#N/A"}},{"$error":"#N/A"},null,0,0,0,0,0,0,0]
[null,""," ","","","","",null,null,null,null,null,null,null,null,null,null,null,null,null,null,null,null,null,"",0,0,0,0,0,0,0,0,0,0,null,0,null,null,{"$f":"IF(AO84=\"\",\"\",IF(BV84=1,\"[b][color=red]\"&Datas!$D$32&\"[/color][/b]\"&AO84&\"[b][color=red]\"&Datas!$D$33&\"{\"&BU84&\"}[/color][/b]\",AO84))","v":""},""," ",{"$f":"IF(ISBLANK(Datas!$C$47),\"\",\" - \"&AX84)","v":{"$error":"#N/A"}},{"$f":"IF(ISBLANK(Datas!$C$48),\"\",\" - \"&AY84)","v":" - 0"},{"$f":"IF(ISBLANK(Datas!$C$49),\"\",\" - \"&AZ84)","v":""},{"$f":"IF(ISBLANK(Datas!$C$50),\"\",\" - \"&BA84)","v":" - Ecus:"},{"$f":"IF(ISBLANK(Datas!$C$51),\"\",\" - \"&BB84)","v":" - Niv: "},null,{"$error":"#N/A"},{"$error":"#N/A"},0,"PR:","Ecus:","Niv: ",null,null,null,null,0,{"$f":"VLOOKUP(BG84,LstVillage!$B$8:$C$283,1)","v":{"$error":"#N/A"}},{"$error":"#N/A"},{"$error":"#N/A"},0,{"$f":"VLOOKUP(BK84,Datas!$G$6:$G$17,1)","v":{"$error":"#N/A"}},{"$error":"#N/A"},{"$error":"#N/A"},null,0,0,0,null,{"$f":"VLOOKUP(BG84,Liste_Noire!$B$15:$G$1208,1)","v":{"$error":"#N/A"}},{"$f":"VLOOKUP(BG84,Liste_Noire!$B$15:$G$1208,5)","v":{"$error":"#N/A"}},{"$error":"#N/A"},null,0,0,0,0,0,0,0]
[null,""," ","","","","",null,null,null,null,null,null,null,null,null,null,null,null,null,null,null,null,null,"",0,0,0,0,0,0,0,0,0,0,null,0,null,null,{"$f":"IF(AO85=\"\",\"\",IF(BV85=1,\"[b][color=red]\"&Datas!$D$32&\"[/color][/b]\"&AO85&\"[b][color=red]\"&Datas!$D$33&\"{\"&BU85&\"}[/color][/b]\",AO85))","v":""},""," ",{"$f":"IF(ISBLANK(Datas!$C$47),\"\",\" - \"&AX85)","v":{"$error":"#N/A"}},{"$f":"IF(ISBLANK(Datas!$C$48),\"\",\" - \"&AY85)","v":" - 0"},{"$f":"IF(ISBLANK(Datas!$C$49),\"\",\" - \"&AZ85)","v":""},{"$f":"IF(ISBLANK(Datas!$C$50),\"\",\" - \"&BA85)","v":" - Ecus:"},{"$f":"IF(ISBLANK(Datas!$C$51),\"\",\" - \"&BB85)","v":" - Niv: "},null,{"$error":"#N/A"},{"$error":"#N/A"},0,"PR:","Ecus:","Niv: ",null,null,null,null,0,{"$f":"VLOOKUP(BG85,LstVillage!$B$8:$C$283,1)","v":{"$error":"#N/A"}},{"$error":"#N/A"},{"$error":"#N/A"},0,{"$f":"VLOOKUP(BK85,Datas!$G$6:$G$17,1)","v":{"$error":"#N/A"}},{"$error":"#N/A"},{"$error":"#N/A"},null,0,0,0,null,{"$f":"VLOOKUP(BG85,Liste_Noire!$B$15:$G$1208,1)","v":{"$error":"#N/A"}},{"$f":"VLOOKUP(BG85,Liste_Noire!$B$15:$G$1208,5)","v":{"$error":"#N/A"}},{"$error":"#N/A"},null,0,0,0,0,0,0,0]
[null,""," ","","","","",null,null,null,null,null,null,null,null,null,null,null,null,null,null,null,null,null,"",0,0,0,0,0,0,0,0,0,0,null,0,null,null,{"$f":"IF(AO86=\"\",\"\",IF(BV86=1,\"[b][color=red]\"&Datas!$D$32&\"[/color][/b]\"&AO86&\"[b][color=red]\"&Datas!$D$33&\"{\"&BU86&\"}[/color][/b]\",AO86))","v":""},""," ",{"$f":"IF(ISBLANK(Datas!$C$47),\"\",\" - \"&AX86)","v":{"$error":"#N/A"}},{"$f":"IF(ISBLANK(Datas!$C$48),\"\",\" - \"&AY86)","v":" - 0"},{"$f":"IF(ISBLANK(Datas!$C$49),\"\",\" - \"&AZ86)","v":""},{"$f":"IF(ISBLANK(Datas!$C$50),\"\",\" - \"&BA86)","v":" - Ecus:"},{"$f":"IF(ISBLANK(Datas!$C$51),\"\",\" - \"&BB86)","v":" - Niv: "},null,{"$error":"#N/A"},{"$error":"#N/A"},0,"PR:","Ecus:","Niv: ",null,null,null,null,0,{"$f":"VLOOKUP(BG86,LstVillage!$B$8:$C$283,1)","v":{"$error":"#N/A"}},{"$error":"#N/A"},{"$error":"#N/A"},0,{"$f":"VLOOKUP(BK86,Datas!$G$6:$G$17,1)","v":{"$error":"#N/A"}},{"$error":"#N/A"},{"$error":"#N/A"},null,0,0,0,null,{"$f":"VLOOKUP(BG86,Liste_Noire!$B$15:$G$1208,1)","v":{"$error":"#N/A"}},{"$f":"VLOOKUP(BG86,Liste_Noire!$B$15:$G$1208,5)","v":{"$error":"#N/A"}},{"$error":"#N/A"},null,0,0,0,0,0,0,0]
[null,""," ","","","","",null,null,null,null,null,null,null,null,null,null,null,null,null,null,null,null,null,"",0,0,0,0,0,0,0,0,0,0,null,0,null,null,{"$f":"IF(AO87=\"\",\"\",IF(BV87=1,\"[b][color=red]\"&Datas!$D$32&\"[/color][/b]\"&AO87&\"[b][color=red]\"&Datas!$D$33&\"{\"&BU87&\"}[/color][/b]\",AO87))","v":""},""," ",{"$f":"IF(ISBLANK(Datas!$C$47),\"\",\" - \"&AX87)","v":{"$error":"#N/A"}},{"$f":"IF(ISBLANK(Datas!$C$48),\"\",\" - \"&AY87)","v":" - 0"},{"$f":"IF(ISBLANK(Datas!$C$49),\"\",\" - \"&AZ87)","v":""},{"$f":"IF(ISBLANK(Datas!$C$50),\"\",\" - \"&BA87)","v":" - Ecus:"},{"$f":"IF(ISBLANK(Datas!$C$51),\"\",\" - \"&BB87)","v":" - Niv: "},null,{"$error":"#N/A"},{"$error":"#N/A"},0,"PR:","Ecus:","Niv: ",null,null,null,null,0,{"$f":"VLOOKUP(BG87,LstVillage!$B$8:$C$283,1)","v":{"$error":"#N/A"}},{"$error":"#N/A"},{"$error":"#N/A"},0,{"$f":"VLOOKUP(BK87,Datas!$G$6:$G$17,1)","v":{"$error":"#N/A"}},{"$error":"#N/A"},{"$error":"#N/A"},null,0,0,0,null,{"$f":"VLOOKUP(BG87,Liste_Noire!$B$15:$G$1208,1)","v":{"$error":"#N/A"}},{"$f":"VLOOKUP(BG87,Liste_Noire!$B$15:$G$1208,5)","v":{"$error":"#N/A"}},{"$error":"#N/A"},null,0,0,0,0,0,0,0]
[null,""," ","","","","",null,null,null,null,null,null,null,null,null,null,null,null,null,null,null,null,null,"",0,0,0,0,0,0,0,0,0,0,null,0,null,null,{"$f":"IF(AO88=\"\",\"\",IF(BV88=1,\"[b][color=red]\"&Datas!$D$32&\"[/color][/b]\"&AO88&\"[b][color=red]\"&Datas!$D$33&\"{\"&BU88&\"}[/color][/b]\",AO88))","v":""},""," ",{"$f":"IF(ISBLANK(Datas!$C$47),\"\",\" - \"&AX88)","v":{"$error":"#N/A"}},{"$f":"IF(ISBLANK(Datas!$C$48),\"\",\" - \"&AY88)","v":" - 0"},{"$f":"IF(ISBLANK(Datas!$C$49),\"\",\" - \"&AZ88)","v":""},{"$f":"IF(ISBLANK(Datas!$C$50),\"\",\" - \"&BA88)","v":" - Ecus:"},{"$f":"IF(ISBLANK(Datas!$C$51),\"\",\" - \"&BB88)","v":" - Niv: "},null,{"$error":"#N/A"},{"$error":"#N/A"},0,"PR:","Ecus:","Niv: ",null,null,null,null,0,{"$f":"VLOOKUP(BG88,LstVillage!$B$8:$C$283,1)","v":{"$error":"#N/A"}},{"$error":"#N/A"},{"$error":"#N/A"},0,{"$f":"VLOOKUP(BK88,Datas!$G$6:$G$17,1)","v":{"$error":"#N/A"}},{"$error":"#N/A"},{"$error":"#N/A"},null,0,0,0,null,{"$f":"VLOOKUP(BG88,Liste_Noire!$B$15:$G$1208,1)","v":{"$error":"#N/A"}},{"$f":"VLOOKUP(BG88,Liste_Noire!$B$15:$G$1208,5)","v":{"$error":"#N/A"}},{"$error":"#N/A"},null,0,0,0,0,0,0,0]
[null,""," ","","","","",null,null,null,null,null,null,null,null,null,null,null,null,null,null,null,null,null,"",0,0,0,0,0,0,0,0,0,0,null,0,null,null,{"$f":"IF(AO89=\"\",\"\",IF(BV89=1,\"[b][color=red]\"&Datas!$D$32&\"[/color][/b]\"&AO89&\"[b][color=red]\"&Datas!$D$33&\"{\"&BU89&\"}[/color][/b]\",AO89))","v":""},""," ",{"$f":"IF(ISBLANK(Datas!$C$47),\"\",\" - \"&AX89)","v":{"$error":"#N/A"}},{"$f":"IF(ISBLANK(Datas!$C$48),\"\",\" - \"&AY89)","v":" - 0"},{"$f":"IF(ISBLANK(Datas!$C$49),\"\",\" - \"&AZ89)","v":""},{"$f":"IF(ISBLANK(Datas!$C$50),\"\",\" - \"&BA89)","v":" - Ecus:"},{"$f":"IF(ISBLANK(Datas!$C$51),\"\",\" - \"&BB89)","v":" - Niv: "},null,{"$error":"#N/A"},{"$error":"#N/A"},0,"PR:","Ecus:","Niv: ",null,null,null,null,0,{"$f":"VLOOKUP(BG89,LstVillage!$B$8:$C$283,1)","v":{"$error":"#N/A"}},{"$error":"#N/A"},{"$error":"#N/A"},0,{"$f":"VLOOKUP(BK89,Datas!$G$6:$G$17,1)","v":{"$error":"#N/A"}},{"$error":"#N/A"},{"$error":"#N/A"},null,0,0,0,null,{"$f":"VLOOKUP(BG89,Liste_Noire!$B$15:$G$1208,1)","v":{"$error":"#N/A"}},{"$f":"VLOOKUP(BG89,Liste_Noire!$B$15:$G$1208,5)","v":{"$error":"#N/A"}},{"$error":"#N/A"},null,0,0,0,0,0,0,0]
[null,""," ","","","","",null,null,null,null,null,null,null,null,null,null,null,null,null,null,null,null,null,"",0,0,0,0,0,0,0,0,0,0,null,0,null,null,{"$f":"IF(AO90=\"\",\"\",IF(BV90=1,\"[b][color=red]\"&Datas!$D$32&\"[/color][/b]\"&AO90&\"[b][color=red]\"&Datas!$D$33&\"{\"&BU90&\"}[/color][/b]\",AO90))","v":""},""," ",{"$f":"IF(ISBLANK(Datas!$C$47),\"\",\" - \"&AX90)","v":{"$error":"#N/A"}},{"$f":"IF(ISBLANK(Datas!$C$48),\"\",\" - \"&AY90)","v":" - 0"},{"$f":"IF(ISBLANK(Datas!$C$49),\"\",\" - \"&AZ90)","v":""},{"$f":"IF(ISBLANK(Datas!$C$50),\"\",\" - \"&BA90)","v":" - Ecus:"},{"$f":"IF(ISBLANK(Datas!$C$51),\"\",\" - \"&BB90)","v":" - Niv: "},null,{"$error":"#N/A"},{"$error":"#N/A"},0,"PR:","Ecus:","Niv: ",null,null,null,null,0,{"$f":"VLOOKUP(BG90,LstVillage!$B$8:$C$283,1)","v":{"$error":"#N/A"}},{"$error":"#N/A"},{"$error":"#N/A"},0,{"$f":"VLOOKUP(BK90,Datas!$G$6:$G$17,1)","v":{"$error":"#N/A"}},{"$error":"#N/A"},{"$error":"#N/A"},null,0,0,0,null,{"$f":"VLOOKUP(BG90,Liste_Noire!$B$15:$G$1208,1)","v":{"$error":"#N/A"}},{"$f":"VLOOKUP(BG90,Liste_Noire!$B$15:$G$1208,5)","v":{"$error":"#N/A"}},{"$error":"#N/A"},null,0,0,0,0,0,0,0]
[null,""," ","","","","",null,null,null,null,null,null,null,null,null,null,null,null,null,null,null,null,null,"",0,0,0,0,0,0,0,0,0,0,null,0,null,null,{"$f":"IF(AO91=\"\",\"\",IF(BV91=1,\"[b][color=red]\"&Datas!$D$32&\"[/color][/b]\"&AO91&\"[b][color=red]\"&Datas!$D$33&\"{\"&BU91&\"}[/color][/b]\",AO91))","v":""},""," ",{"$f":"IF(ISBLANK(Datas!$C$47),\"\",\" - \"&AX91)","v":{"$error":"#N/A"}},{"$f":"IF(ISBLANK(Datas!$C$48),\"\",\" - \"&AY91)","v":" - 0"},{"$f":"IF(ISBLANK(Datas!$C$49),\"\",\" - \"&AZ91)","v":""},{"$f":"IF(ISBLANK(Datas!$C$50),\"\",\" - \"&BA91)","v":" - Ecus:"},{"$f":"IF(ISBLANK(Datas!$C$51),\"\",\" - \"&BB91)","v":" - Niv: "},null,{"$error":"#N/A"},{"$error":"#N/A"},0,"PR:","Ecus:","Niv: ",null,null,null,null,0,{"$f":"VLOOKUP(BG91,LstVillage!$B$8:$C$283,1)","v":{"$error":"#N/A"}},{"$error":"#N/A"},{"$error":"#N/A"},0,{"$f":"VLOOKUP(BK91,Datas!$G$6:$G$17,1)","v":{"$error":"#N/A"}},{"$error":"#N/A"},{"$error":"#N/A"},null,0,0,0,null,{"$f":"VLOOKUP(BG91,Liste_Noire!$B$15:$G$1208,1)","v":{"$error":"#N/A"}},{"$f":"VLOOKUP(BG91,Liste_Noire!$B$15:$G$1208,5)","v":{"$error":"#N/A"}},{"$error":"#N/A"},null,0,0,0,0,0,0,0]
[null,""," ","","","","",null,null,null,null,null,null,null,null,null,null,null,null,null,null,null,null,null,"",0,0,0,0,0,0,0,0,0,0,null,0,null,null,{"$f":"IF(AO92=\"\",\"\",IF(BV92=1,\"[b][color=red]\"&Datas!$D$32&\"[/color][/b]\"&AO92&\"[b][color=red]\"&Datas!$D$33&\"{\"&BU92&\"}[/color][/b]\",AO92))","v":""},""," ",{"$f":"IF(ISBLANK(Datas!$C$47),\"\",\" - \"&AX92)","v":{"$error":"#N/A"}},{"$f":"IF(ISBLANK(Datas!$C$48),\"\",\" - \"&AY92)","v":" - 0"},{"$f":"IF(ISBLANK(Datas!$C$49),\"\",\" - \"&AZ92)","v":""},{"$f":"IF(ISBLANK(Datas!$C$50),\"\",\" - \"&BA92)","v":" - Ecus:"},{"$f":"IF(ISBLANK(Datas!$C$51),\"\",\" - \"&BB92)","v":" - Niv: "},null,{"$error":"#N/A"},{"$error":"#N/A"},0,"PR:","Ecus:","Niv: ",null,null,null,null,0,{"$f":"VLOOKUP(BG92,LstVillage!$B$8:$C$283,1)","v":{"$error":"#N/A"}},{"$error":"#N/A"},{"$error":"#N/A"},0,{"$f":"VLOOKUP(BK92,Datas!$G$6:$G$17,1)","v":{"$error":"#N/A"}},{"$error":"#N/A"},{"$error":"#N/A"},null,0,0,0,null,{"$f":"VLOOKUP(BG92,Liste_Noire!$B$15:$G$1208,1)","v":{"$error":"#N/A"}},{"$f":"VLOOKUP(BG92,Liste_Noire!$B$15:$G$1208,5)","v":{"$error":"#N/A"}},{"$error":"#N/A"},null,0,0,0,0,0,0,0]
[null,""," ","","","","",null,null,null,null,null,null,null,null,null,null,null,null,null,null,null,null,null,"",0,0,0,0,0,0,0,0,0,0,null,0,null,null,{"$f":"IF(AO93=\"\",\"\",IF(BV93=1,\"[b][color=red]\"&Datas!$D$32&\"[/color][/b]\"&AO93&\"[b][color=red]\"&Datas!$D$33&\"{\"&BU93&\"}[/color][/b]\",AO93))","v":""},""," ",{"$f":"IF(ISBLANK(Datas!$C$47),\"\",\" - \"&AX93)","v":{"$error":"#N/A"}},{"$f":"IF(ISBLANK(Datas!$C$48),\"\",\" - \"&AY93)","v":" - 0"},{"$f":"IF(ISBLANK(Datas!$C$49),\"\",\" - \"&AZ93)","v":""},{"$f":"IF(ISBLANK(Datas!$C$50),\"\",\" - \"&BA93)","v":" - Ecus:"},{"$f":"IF(ISBLANK(Datas!$C$51),\"\",\" - \"&BB93)","v":" - Niv: "},null,{"$error":"#N/A"},{"$error":"#N/A"},0,"PR:","Ecus:","Niv: ",null,null,null,null,0,{"$f":"VLOOKUP(BG93,LstVillage!$B$8:$C$283,1)","v":{"$error":"#N/A"}},{"$error":"#N/A"},{"$error":"#N/A"},0,{"$f":"VLOOKUP(BK93,Datas!$G$6:$G$17,1)","v":{"$error":"#N/A"}},{"$error":"#N/A"},{"$error":"#N/A"},null,0,0,0,null,{"$f":"VLOOKUP(BG93,Liste_Noire!$B$15:$G$1208,1)","v":{"$error":"#N/A"}},{"$f":"VLOOKUP(BG93,Liste_Noire!$B$15:$G$1208,5)","v":{"$error":"#N/A"}},{"$error":"#N/A"},null,0,0,0,0,0,0,0]
[null,""," ","","","","",null,null,null,null,null,null,null,null,null,null,null,null,null,null,null,null,null,"",0,0,0,0,0,0,0,0,0,0,null,0,null,null,{"$f":"IF(AO94=\"\",\"\",IF(BV94=1,\"[b][color=red]\"&Datas!$D$32&\"[/color][/b]\"&AO94&\"[b][color=red]\"&Datas!$D$33&\"{\"&BU94&\"}[/color][/b]\",AO94))","v":""},""," ",{"$f":"IF(ISBLANK(Datas!$C$47),\"\",\" - \"&AX94)","v":{"$error":"#N/A"}},{"$f":"IF(ISBLANK(Datas!$C$48),\"\",\" - \"&AY94)","v":" - 0"},{"$f":"IF(ISBLANK(Datas!$C$49),\"\",\" - \"&AZ94)","v":""},{"$f":"IF(ISBLANK(Datas!$C$50),\"\",\" - \"&BA94)","v":" - Ecus:"},{"$f":"IF(ISBLANK(Datas!$C$51),\"\",\" - \"&BB94)","v":" - Niv: "},null,{"$error":"#N/A"},{"$error":"#N/A"},0,"PR:","Ecus:","Niv: ",null,null,null,null,0,{"$f":"VLOOKUP(BG94,LstVillage!$B$8:$C$283,1)","v":{"$error":"#N/A"}},{"$error":"#N/A"},{"$error":"#N/A"},0,{"$f":"VLOOKUP(BK94,Datas!$G$6:$G$17,1)","v":{"$error":"#N/A"}},{"$error":"#N/A"},{"$error":"#N/A"},null,0,0,0,null,{"$f":"VLOOKUP(BG94,Liste_Noire!$B$15:$G$1208,1)","v":{"$error":"#N/A"}},{"$f":"VLOOKUP(BG94,Liste_Noire!$B$15:$G$1208,5)","v":{"$error":"#N/A"}},{"$error":"#N/A"},null,0,0,0,0,0,0,0]
[null,""," ","","","","",null,null,null,null,null,null,null,null,null,null,null,null,null,null,null,null,null,"",0,0,0,0,0,0,0,0,0,0,null,0,null,null,{"$f":"IF(AO95=\"\",\"\",IF(BV95=1,\"[b][color=red]\"&Datas!$D$32&\"[/color][/b]\"&AO95&\"[b][color=red]\"&Datas!$D$33&\"{\"&BU95&\"}[/color][/b]\",AO95))","v":""},""," ",{"$f":"IF(ISBLANK(Datas!$C$47),\"\",\" - \"&AX95)","v":{"$error":"#N/A"}},{"$f":"IF(ISBLANK(Datas!$C$48),\"\",\" - \"&AY95)","v":" - 0"},{"$f":"IF(ISBLANK(Datas!$C$49),\"\",\" - \"&AZ95)","v":""},{"$f":"IF(ISBLANK(Datas!$C$50),\"\",\" - \"&BA95)","v":" - Ecus:"},{"$f":"IF(ISBLANK(Datas!$C$51),\"\",\" - \"&BB95)","v":" - Niv: "},null,{"$error":"#N/A"},{"$error":"#N/A"},0,"PR:","Ecus:","Niv: ",null,null,null,null,0,{"$f":"VLOOKUP(BG95,LstVillage!$B$8:$C$283,1)","v":{"$error":"#N/A"}},{"$error":"#N/A"},{"$error":"#N/A"},0,{"$f":"VLOOKUP(BK95,Datas!$G$6:$G$17,1)","v":{"$error":"#N/A"}},{"$error":"#N/A"},{"$error":"#N/A"},null,0,0,0,null,{"$f":"VLOOKUP(BG95,Liste_Noire!$B$15:$G$1208,1)","v":{"$error":"#N/A"}},{"$f":"VLOOKUP(BG95,Liste_Noire!$B$15:$G$1208,5)","v":{"$error":"#N/A"}},{"$error":"#N/A"},null,0,0,0,0,0,0,0]
[null,""," ","","","","",null,null,null,null,null,null,null,null,null,null,null,null,null,null,null,null,null,"",0,0,0,0,0,0,0,0,0,0,null,0,null,null,{"$f":"IF(AO96=\"\",\"\",IF(BV96=1,\"[b][color=red]\"&Datas!$D$32&\"[/color][/b]\"&AO96&\"[b][color=red]\"&Datas!$D$33&\"{\"&BU96&\"}[/color][/b]\",AO96))","v":""},""," ",{"$f":"IF(ISBLANK(Datas!$C$47),\"\",\" - \"&AX96)","v":{"$error":"#N/A"}},{"$f":"IF(ISBLANK(Datas!$C$48),\"\",\" - \"&AY96)","v":" - 0"},{"$f":"IF(ISBLANK(Datas!$C$49),\"\",\" - \"&AZ96)","v":""},{"$f":"IF(ISBLANK(Datas!$C$50),\"\",\" - \"&BA96)","v":" - Ecus:"},{"$f":"IF(ISBLANK(Datas!$C$51),\"\",\" - \"&BB96)","v":" - Niv: "},null,{"$error":"#N/A"},{"$error":"#N/A"},0,"PR:","Ecus:","Niv: ",null,null,null,null,0,{"$f":"VLOOKUP(BG96,LstVillage!$B$8:$C$283,1)","v":{"$error":"#N/A"}},{"$error":"#N/A"},{"$error":"#N/A"},0,{"$f":"VLOOKUP(BK96,Datas!$G$6:$G$17,1)","v":{"$error":"#N/A"}},{"$error":"#N/A"},{"$error":"#N/A"},null,0,0,0,null,{"$f":"VLOOKUP(BG96,Liste_Noire!$B$15:$G$1208,1)","v":{"$error":"#N/A"}},{"$f":"VLOOKUP(BG96,Liste_Noire!$B$15:$G$1208,5)","v":{"$error":"#N/A"}},{"$error":"#N/A"},null,0,0,0,0,0,0,0]
[null,""," ","","","","",null,null,null,null,null,null,null,null,null,null,null,null,null,null,null,null,null,"",0,0,0,0,0,0,0,0,0,0,null,0,null,null,{"$f":"IF(AO97=\"\",\"\",IF(BV97=1,\"[b][color=red]\"&Datas!$D$32&\"[/color][/b]\"&AO97&\"[b][color=red]\"&Datas!$D$33&\"{\"&BU97&\"}[/color][/b]\",AO97))","v":""},""," ",{"$f":"IF(ISBLANK(Datas!$C$47),\"\",\" - \"&AX97)","v":{"$error":"#N/A"}},{"$f":"IF(ISBLANK(Datas!$C$48),\"\",\" - \"&AY97)","v":" - 0"},{"$f":"IF(ISBLANK(Datas!$C$49),\"\",\" - \"&AZ97)","v":""},{"$f":"IF(ISBLANK(Datas!$C$50),\"\",\" - \"&BA97)","v":" - Ecus:"},{"$f":"IF(ISBLANK(Datas!$C$51),\"\",\" - \"&BB97)","v":" - Niv: "},null,{"$error":"#N/A"},{"$error":"#N/A"},0,"PR:","Ecus:","Niv: ",null,null,null,null,0,{"$f":"VLOOKUP(BG97,LstVillage!$B$8:$C$283,1)","v":{"$error":"#N/A"}},{"$error":"#N/A"},{"$error":"#N/A"},0,{"$f":"VLOOKUP(BK97,Datas!$G$6:$G$17,1)","v":{"$error":"#N/A"}},{"$error":"#N/A"},{"$error":"#N/A"},null,0,0,0,null,{"$f":"VLOOKUP(BG97,Liste_Noire!$B$15:$G$1208,1)","v":{"$error":"#N/A"}},{"$f":"VLOOKUP(BG97,Liste_Noire!$B$15:$G$1208,5)","v":{"$error":"#N/A"}},{"$error":"#N/A"},null,0,0,0,0,0,0,0]
[null,""," ","","","","",null,null,null,null,null,null,null,null,null,null,null,null,null,null,null,null,null,"",0,0,0,0,0,0,0,0,0,0,null,0,null,null,{"$f":"IF(AO98=\"\",\"\",IF(BV98=1,\"[b][color=red]\"&Datas!$D$32&\"[/color][/b]\"&AO98&\"[b][color=red]\"&Datas!$D$33&\"{\"&BU98&\"}[/color][/b]\",AO98))","v":""},""," ",{"$f":"IF(ISBLANK(Datas!$C$47),\"\",\" - \"&AX98)","v":{"$error":"#N/A"}},{"$f":"IF(ISBLANK(Datas!$C$48),\"\",\" - \"&AY98)","v":" - 0"},{"$f":"IF(ISBLANK(Datas!$C$49),\"\",\" - \"&AZ98)","v":""},{"$f":"IF(ISBLANK(Datas!$C$50),\"\",\" - \"&BA98)","v":" - Ecus:"},{"$f":"IF(ISBLANK(Datas!$C$51),\"\",\" - \"&BB98)","v":" - Niv: "},null,{"$error":"#N/A"},{"$error":"#N/A"},0,"PR:","Ecus:","Niv: ",null,null,null,null,0,{"$f":"VLOOKUP(BG98,LstVillage!$B$8:$C$283,1)","v":{"$error":"#N/A"}},{"$error":"#N/A"},{"$error":"#N/A"},0,{"$f":"VLOOKUP(BK98,Datas!$G$6:$G$17,1)","v":{"$error":"#N/A"}},{"$error":"#N/A"},{"$error":"#N/A"},null,0,0,0,null,{"$f":"VLOOKUP(BG98,Liste_Noire!$B$15:$G$1208,1)","v":{"$error":"#N/A"}},{"$f":"VLOOKUP(BG98,Liste_Noire!$B$15:$G$1208,5)","v":{"$error":"#N/A"}},{"$error":"#N/A"},null,0,0,0,0,0,0,0]
[null,""," ","","","","",null,null,null,null,null,null,null,null,null,null,null,null,null,null,null,null,null,"",0,0,0,0,0,0,0,0,0,0,null,0,null,null,{"$f":"IF(AO99=\"\",\"\",IF(BV99=1,\"[b][color=red]\"&Datas!$D$32&\"[/color][/b]\"&AO99&\"[b][color=red]\"&Datas!$D$33&\"{\"&BU99&\"}[/color][/b]\",AO99))","v":""},""," ",{"$f":"IF(ISBLANK(Datas!$C$47),\"\",\" - \"&AX99)","v":{"$error":"#N/A"}},{"$f":"IF(ISBLANK(Datas!$C$48),\"\",\" - \"&AY99)","v":" - 0"},{"$f":"IF(ISBLANK(Datas!$C$49),\"\",\" - \"&AZ99)","v":""},{"$f":"IF(ISBLANK(Datas!$C$50),\"\",\" - \"&BA99)","v":" - Ecus:"},{"$f":"IF(ISBLANK(Datas!$C$51),\"\",\" - \"&BB99)","v":" - Niv: "},null,{"$error":"#N/A"},{"$error":"#N/A"},0,"PR:","Ecus:","Niv: ",null,null,null,null,0,{"$f":"VLOOKUP(BG99,LstVillage!$B$8:$C$283,1)","v":{"$error":"#N/A"}},{"$error":"#N/A"},{"$error":"#N/A"},0,{"$f":"VLOOKUP(BK99,Datas!$G$6:$G$17,1)","v":{"$error":"#N/A"}},{"$error":"#N/A"},{"$error":"#N/A"},null,0,0,0,null,{"$f":"VLOOKUP(BG99,Liste_Noire!$B$15:$G$1208,1)","v":{"$error":"#N/A"}},{"$f":"VLOOKUP(BG99,Liste_Noire!$B$15:$G$1208,5)","v":{"$error":"#N/A"}},{"$error":"#N/A"},null,0,0,0,0,0,0,0]
[null,""," ","","","","",null,null,null,null,null,null,null,null,null,null,null,null,null,null,null,null,null,"",0,0,0,0,0,0,0,0,0,0,null,0,null,null,{"$f":"IF(AO100=\"\",\"\",IF(BV100=1,\"[b][color=red]\"&Datas!$D$32&\"[/color][/b]\"&AO100&\"[b][color=red]\"&Datas!$D$33&\"{\"&BU100&\"}[/color][/b]\",AO100))","v":""},""," ",{"$f":"IF(ISBLANK(Datas!$C$47),\"\",\" - \"&AX100)","v":{"$error":"#N/A"}},{"$f":"IF(ISBLANK(Datas!$C$48),\"\",\" - \"&AY100)","v":" - 0"},{"$f":"IF(ISBLANK(Datas!$C$49),\"\",\" - \"&AZ100)","v":""},{"$f":"IF(ISBLANK(Datas!$C$50),\"\",\" - \"&BA100)","v":" - Ecus:"},{"$f":"IF(ISBLANK(Datas!$C$51),\"\",\" - \"&BB100)","v":" - Niv: "},null,{"$error":"#N/A"},{"$error":"#N/A"},0,"PR:","Ecus:","Niv: ",null,null,null,null,0,{"$f":"VLOOKUP(BG100,LstVillage!$B$8:$C$283,1)","v":{"$error":"#N/A"}},{"$error":"#N/A"},{"$error":"#N/A"},0,{"$f":"VLOOKUP(BK100,Datas!$G$6:$G$17,1)","v":{"$error":"#N/A"}},{"$error":"#N/A"},{"$error":"#N/A"},null,0,0,0,null,{"$f":"VLOOKUP(BG100,Liste_Noire!$B$15:$G$1208,1)","v":{"$error":"#N/A"}},{"$f":"VLOOKUP(BG100,Liste_Noire!$B$15:$G$1208,5)","v":{"$error":"#N/A"}},{"$error":"#N/A"},null,0,0,0,0,0,0,0]
[null,""," ","","","","",null,null,null,null,null,null,null,null,null,null,null,null,null,null,null,null,null,"",0,0,0,0,0,0,0,0,0,0,null,0,null,null,{"$f":"IF(AO101=\"\",\"\",IF(BV101=1,\"[b][color=red]\"&Datas!$D$32&\"[/color][/b]\"&AO101&\"[b][color=red]\"&Datas!$D$33&\"{\"&BU101&\"}[/color][/b]\",AO101))","v":""},""," ",{"$f":"IF(ISBLANK(Datas!$C$47),\"\",\" - \"&AX101)","v":{"$error":"#N/A"}},{"$f":"IF(ISBLANK(Datas!$C$48),\"\",\" - \"&AY101)","v":" - 0"},{"$f":"IF(ISBLANK(Datas!$C$49),\"\",\" - \"&AZ101)","v":""},{"$f":"IF(ISBLANK(Datas!$C$50),\"\",\" - \"&BA101)","v":" - Ecus:"},{"$f":"IF(ISBLANK(Datas!$C$51),\"\",\" - \"&BB101)","v":" - Niv: "},null,{"$error":"#N/A"},{"$error":"#N/A"},0,"PR:","Ecus:","Niv: ",null,null,null,null,0,{"$f":"VLOOKUP(BG101,LstVillage!$B$8:$C$283,1)","v":{"$error":"#N/A"}},{"$error":"#N/A"},{"$error":"#N/A"},0,{"$f":"VLOOKUP(BK101,Datas!$G$6:$G$17,1)","v":{"$error":"#N/A"}},{"$error":"#N/A"},{"$error":"#N/A"},null,0,0,0,null,{"$f":"VLOOKUP(BG101,Liste_Noire!$B$15:$G$1208,1)","v":{"$error":"#N/A"}},{"$f":"VLOOKUP(BG101,Liste_Noire!$B$15:$G$1208,5)","v":{"$error":"#N/A"}},{"$error":"#N/A"},null,0,0,0,0,0,0,0]
[null,""," ","","","","",null,null,null,null,null,null,null,null,null,null,null,null,null,null,null,null,null,"",0,0,0,0,0,0,0,0,0,0,null,0,null,null,{"$f":"IF(AO102=\"\",\"\",IF(BV102=1,\"[b][color=red]\"&Datas!$D$32&\"[/color][/b]\"&AO102&\"[b][color=red]\"&Datas!$D$33&\"{\"&BU102&\"}[/color][/b]\",AO102))","v":""},""," ",{"$f":"IF(ISBLANK(Datas!$C$47),\"\",\" - \"&AX102)","v":{"$error":"#N/A"}},{"$f":"IF(ISBLANK(Datas!$C$48),\"\",\" - \"&AY102)","v":" - 0"},{"$f":"IF(ISBLANK(Datas!$C$49),\"\",\" - \"&AZ102)","v":""},{"$f":"IF(ISBLANK(Datas!$C$50),\"\",\" - \"&BA102)","v":" - Ecus:"},{"$f":"IF(ISBLANK(Datas!$C$51),\"\",\" - \"&BB102)","v":" - Niv: "},null,{"$error":"#N/A"},{"$error":"#N/A"},0,"PR:","Ecus:","Niv: ",null,null,null,null,0,{"$f":"VLOOKUP(BG102,LstVillage!$B$8:$C$283,1)","v":{"$error":"#N/A"}},{"$error":"#N/A"},{"$error":"#N/A"},0,{"$f":"VLOOKUP(BK102,Datas!$G$6:$G$17,1)","v":{"$error":"#N/A"}},{"$error":"#N/A"},{"$error":"#N/A"},null,0,0,0,null,{"$f":"VLOOKUP(BG102,Liste_Noire!$B$15:$G$1208,1)","v":{"$error":"#N/A"}},{"$f":"VLOOKUP(BG102,Liste_Noire!$B$15:$G$1208,5)","v":{"$error":"#N/A"}},{"$error":"#N/A"},null,0,0,0,0,0,0,0]
[null,""," ","","","","",null,null,null,null,null,null,null,null,null,null,null,null,null,null,null,null,null,"",0,0,0,0,0,0,0,0,0,0,null,0,null,null,{"$f":"IF(AO103=\"\",\"\",IF(BV103=1,\"[b][color=red]\"&Datas!$D$32&\"[/color][/b]\"&AO103&\"[b][color=red]\"&Datas!$D$33&\"{\"&BU103&\"}[/color][/b]\",AO103))","v":""},""," ",{"$f":"IF(ISBLANK(Datas!$C$47),\"\",\" - \"&AX103)","v":{"$error":"#N/A"}},{"$f":"IF(ISBLANK(Datas!$C$48),\"\",\" - \"&AY103)","v":" - 0"},{"$f":"IF(ISBLANK(Datas!$C$49),\"\",\" - \"&AZ103)","v":""},{"$f":"IF(ISBLANK(Datas!$C$50),\"\",\" - \"&BA103)","v":" - Ecus:"},{"$f":"IF(ISBLANK(Datas!$C$51),\"\",\" - \"&BB103)","v":" - Niv: "},null,{"$error":"#N/A"},{"$error":"#N/A"},0,"PR:","Ecus:","Niv: ",null,null,null,null,0,{"$f":"VLOOKUP(BG103,LstVillage!$B$8:$C$283,1)","v":{"$error":"#N/A"}},{"$error":"#N/A"},{"$error":"#N/A"},0,{"$f":"VLOOKUP(BK103,Datas!$G$6:$G$17,1)","v":{"$error":"#N/A"}},{"$error":"#N/A"},{"$error":"#N/A"},null,0,0,0,null,{"$f":"VLOOKUP(BG103,Liste_Noire!$B$15:$G$1208,1)","v":{"$error":"#N/A"}},{"$f":"VLOOKUP(BG103,Liste_Noire!$B$15:$G$1208,5)","v":{"$error":"#N/A"}},{"$error":"#N/A"},null,0,0,0,0,0,0,0]
[null,""," ","","","","",null,null,null,null,null,null,null,null,null,null,null,null,null,null,null,null,null,"",0,0,0,0,0,0,0,0,0,0,null,0,null,null,{"$f":"IF(AO104=\"\",\"\",IF(BV104=1,\"[b][color=red]\"&Datas!$D$32&\"[/color][/b]\"&AO104&\"[b][color=red]\"&Datas!$D$33&\"{\"&BU104&\"}[/color][/b]\",AO104))","v":""},""," ",{"$f":"IF(ISBLANK(Datas!$C$47),\"\",\" - \"&AX104)","v":{"$error":"#N/A"}},{"$f":"IF(ISBLANK(Datas!$C$48),\"\",\" - \"&AY104)","v":" - 0"},{"$f":"IF(ISBLANK(Datas!$C$49),\"\",\" - \"&AZ104)","v":""},{"$f":"IF(ISBLANK(Datas!$C$50),\"\",\" - \"&BA104)","v":" - Ecus:"},{"$f":"IF(ISBLANK(Datas!$C$51),\"\",\" - \"&BB104)","v":" - Niv: "},null,{"$error":"#N/A"},{"$error":"#N/A"},0,"PR:","Ecus:","Niv: ",null,null,null,null,0,{"$f":"VLOOKUP(BG104,LstVillage!$B$8:$C$283,1)","v":{"$error":"#N/A"}},{"$error":"#N/A"},{"$error":"#N/A"},0,{"$f":"VLOOKUP(BK104,Datas!$G$6:$G$17,1)","v":{"$error":"#N/A"}},{"$error":"#N/A"},{"$error":"#N/A"},null,0,0,0,null,{"$f":"VLOOKUP(BG104,Liste_Noire!$B$15:$G$1208,1)","v":{"$error":"#N/A"}},{"$f":"VLOOKUP(BG104,Liste_Noire!$B$15:$G$1208,5)","v":{"$error":"#N/A"}},{"$error":"#N/A"},null,0,0,0,0,0,0,0]
[null,""," ","","","","",null,null,null,null,null,null,null,null,null,null,null,null,null,null,null,null,null,"",0,0,0,0,0,0,0,0,0,0,null,0,null,null,{"$f":"IF(AO105=\"\",\"\",IF(BV105=1,\"[b][color=red]\"&Datas!$D$32&\"[/color][/b]\"&AO105&\"[b][color=red]\"&Datas!$D$33&\"{\"&BU105&\"}[/color][/b]\",AO105))","v":""},""," ",{"$f":"IF(ISBLANK(Datas!$C$47),\"\",\" - \"&AX105)","v":{"$error":"#N/A"}},{"$f":"IF(ISBLANK(Datas!$C$48),\"\",\" - \"&AY105)","v":" - 0"},{"$f":"IF(ISBLANK(Datas!$C$49),\"\",\" - \"&AZ105)","v":""},{"$f":"IF(ISBLANK(Datas!$C$50),\"\",\" - \"&BA105)","v":" - Ecus:"},{"$f":"IF(ISBLANK(Datas!$C$51),\"\",\" - \"&BB105)","v":" - Niv: "},null,{"$error":"#N/A"},{"$error":"#N/A"},0,"PR:","Ecus:","Niv: ",null,null,null,null,0,{"$f":"VLOOKUP(BG105,LstVillage!$B$8:$C$283,1)","v":{"$error":"#N/A"}},{"$error":"#N/A"},{"$error":"#N/A"},0,{"$f":"VLOOKUP(BK105,Datas!$G$6:$G$17,1)","v":{"$error":"#N/A"}},{"$error":"#N/A"},{"$error":"#N/A"},null,0,0,0,null,{"$f":"VLOOKUP(BG105,Liste_Noire!$B$15:$G$1208,1)","v":{"$error":"#N/A"}},{"$f":"VLOOKUP(BG105,Liste_Noire!$B$15:$G$1208,5)","v":{"$error":"#N/A"}},{"$error":"#N/A"},null,0,0,0,0,0,0,0]
[null,""," ","","","","",null,null,null,null,null,null,null,null,null,null,null,null,null,null,null,null,null,"",0,0,0,0,0,0,0,0,0,0,null,0,null,null,{"$f":"IF(AO106=\"\",\"\",IF(BV106=1,\"[b][color=red]\"&Datas!$D$32&\"[/color][/b]\"&AO106&\"[b][color=red]\"&Datas!$D$33&\"{\"&BU106&\"}[/color][/b]\",AO106))","v":""},""," ",{"$f":"IF(ISBLANK(Datas!$C$47),\"\",\" - \"&AX106)","v":{"$error":"#N/A"}},{"$f":"IF(ISBLANK(Datas!$C$48),\"\",\" - \"&AY106)","v":" - 0"},{"$f":"IF(ISBLANK(Datas!$C$49),\"\",\" - \"&AZ106)","v":""},{"$f":"IF(ISBLANK(Datas!$C$50),\"\",\" - \"&BA106)","v":" - Ecus:"},{"$f":"IF(ISBLANK(Datas!$C$51),\"\",\" - \"&BB106)","v":" - Niv: "},null,{"$error":"#N/A"},{"$error":"#N/A"},0,"PR:","Ecus:","Niv: ",null,null,null,null,0,{"$f":"VLOOKUP(BG106,LstVillage!$B$8:$C$283,1)","v":{"$error":"#N/A"}},{"$error":"#N/A"},{"$error":"#N/A"},0,{"$f":"VLOOKUP(BK106,Datas!$G$6:$G$17,1)","v":{"$error":"#N/A"}},{"$error":"#N/A"},{"$error":"#N/A"},null,0,0,0,null,{"$f":"VLOOKUP(BG106,Liste_Noire!$B$15:$G$1208,1)","v":{"$error":"#N/A"}},{"$f":"VLOOKUP(BG106,Liste_Noire!$B$15:$G$1208,5)","v":{"$error":"#N/A"}},{"$error":"#N/A"},null,0,0,0,0,0,0,0]
[null,""," ","","","","",null,null,null,null,null,null,null,null,null,null,null,null,null,null,null,null,null,"",0,0,0,0,0,0,0,0,0,0,null,0,null,null,{"$f":"IF(AO107=\"\",\"\",IF(BV107=1,\"[b][color=red]\"&Datas!$D$32&\"[/color][/b]\"&AO107&\"[b][color=red]\"&Datas!$D$33&\"{\"&BU107&\"}[/color][/b]\",AO107))","v":""},""," ",{"$f":"IF(ISBLANK(Datas!$C$47),\"\",\" - \"&AX107)","v":{"$error":"#N/A"}},{"$f":"IF(ISBLANK(Datas!$C$48),\"\",\" - \"&AY107)","v":" - 0"},{"$f":"IF(ISBLANK(Datas!$C$49),\"\",\" - \"&AZ107)","v":""},{"$f":"IF(ISBLANK(Datas!$C$50),\"\",\" - \"&BA107)","v":" - Ecus:"},{"$f":"IF(ISBLANK(Datas!$C$51),\"\",\" - \"&BB107)","v":" - Niv: "},null,{"$error":"#N/A"},{"$error":"#N/A"},0,"PR:","Ecus:","Niv: ",null,null,null,null,0,{"$f":"VLOOKUP(BG107,LstVillage!$B$8:$C$283,1)","v":{"$error":"#N/A"}},{"$error":"#N/A"},{"$error":"#N/A"},0,{"$f":"VLOOKUP(BK107,Datas!$G$6:$G$17,1)","v":{"$error":"#N/A"}},{"$error":"#N/A"},{"$error":"#N/A"},null,0,0,0,null,{"$f":"VLOOKUP(BG107,Liste_Noire!$B$15:$G$1208,1)","v":{"$error":"#N/A"}},{"$f":"VLOOKUP(BG107,Liste_Noire!$B$15:$G$1208,5)","v":{"$error":"#N/A"}},{"$error":"#N/A"},null,0,0,0,0,0,0,0]
[null,""," ","","","","",null,null,null,null,null,null,null,null,null,null,null,null,null,null,null,null,null,"",0,0,0,0,0,0,0,0,0,0,null,0,null,null,{"$f":"IF(AO108=\"\",\"\",IF(BV108=1,\"[b][color=red]\"&Datas!$D$32&\"[/color][/b]\"&AO108&\"[b][color=red]\"&Datas!$D$33&\"{\"&BU108&\"}[/color][/b]\",AO108))","v":""},""," ",{"$f":"IF(ISBLANK(Datas!$C$47),\"\",\" - \"&AX108)","v":{"$error":"#N/A"}},{"$f":"IF(ISBLANK(Datas!$C$48),\"\",\" - \"&AY108)","v":" - 0"},{"$f":"IF(ISBLANK(Datas!$C$49),\"\",\" - \"&AZ108)","v":""},{"$f":"IF(ISBLANK(Datas!$C$50),\"\",\" - \"&BA108)","v":" - Ecus:"},{"$f":"IF(ISBLANK(Datas!$C$51),\"\",\" - \"&BB108)","v":" - Niv: "},null,{"$error":"#N/A"},{"$error":"#N/A"},0,"PR:","Ecus:","Niv: ",null,null,null,null,0,{"$f":"VLOOKUP(BG108,LstVillage!$B$8:$C$283,1)","v":{"$error":"#N/A"}},{"$error":"#N/A"},{"$error":"#N/A"},0,{"$f":"VLOOKUP(BK108,Datas!$G$6:$G$17,1)","v":{"$error":"#N/A"}},{"$error":"#N/A"},{"$error":"#N/A"},null,0,0,0,null,{"$f":"VLOOKUP(BG108,Liste_Noire!$B$15:$G$1208,1)","v":{"$error":"#N/A"}},{"$f":"VLOOKUP(BG108,Liste_Noire!$B$15:$G$1208,5)","v":{"$error":"#N/A"}},{"$error":"#N/A"},null,0,0,0,0,0,0,0]
[null,""," ","","","","",null,null,null,null,null,null,null,null,null,null,null,null,null,null,null,null,null,"",0,0,0,0,0,0,0,0,0,0,null,0,null,null,{"$f":"IF(AO109=\"\",\"\",IF(BV109=1,\"[b][color=red]\"&Datas!$D$32&\"[/color][/b]\"&AO109&\"[b][color=red]\"&Datas!$D$33&\"{\"&BU109&\"}[/color][/b]\",AO109))","v":""},""," ",{"$f":"IF(ISBLANK(Datas!$C$47),\"\",\" - \"&AX109)","v":{"$error":"#N/A"}},{"$f":"IF(ISBLANK(Datas!$C$48),\"\",\" - \"&AY109)","v":" - 0"},{"$f":"IF(ISBLANK(Datas!$C$49),\"\",\" - \"&AZ109)","v":""},{"$f":"IF(ISBLANK(Datas!$C$50),\"\",\" - \"&BA109)","v":" - Ecus:"},{"$f":"IF(ISBLANK(Datas!$C$51),\"\",\" - \"&BB109)","v":" - Niv: "},null,{"$error":"#N/A"},{"$error":"#N/A"},0,"PR:","Ecus:","Niv: ",null,null,null,null,0,{"$f":"VLOOKUP(BG109,LstVillage!$B$8:$C$283,1)","v":{"$error":"#N/A"}},{"$error":"#N/A"},{"$error":"#N/A"},0,{"$f":"VLOOKUP(BK109,Datas!$G$6:$G$17,1)","v":{"$error":"#N/A"}},{"$error":"#N/A"},{"$error":"#N/A"},null,0,0,0,null,{"$f":"VLOOKUP(BG109,Liste_Noire!$B$15:$G$1208,1)","v":{"$error":"#N/A"}},{"$f":"VLOOKUP(BG109,Liste_Noire!$B$15:$G$1208,5)","v":{"$error":"#N/A"}},{"$error":"#N/A"},null,0,0,0,0,0,0,0]
[null,""," ","","","","",null,null,null,null,null,null,null,null,null,null,null,null,null,null,null,null,null,"",0,0,0,0,0,0,0,0,0,0,null,0,null,null,{"$f":"IF(AO110=\"\",\"\",IF(BV110=1,\"[b][color=red]\"&Datas!$D$32&\"[/color][/b]\"&AO110&\"[b][color=red]\"&Datas!$D$33&\"{\"&BU110&\"}[/color][/b]\",AO110))","v":""},""," ",{"$f":"IF(ISBLANK(Datas!$C$47),\"\",\" - \"&AX110)","v":{"$error":"#N/A"}},{"$f":"IF(ISBLANK(Datas!$C$48),\"\",\" - \"&AY110)","v":" - 0"},{"$f":"IF(ISBLANK(Datas!$C$49),\"\",\" - \"&AZ110)","v":""},{"$f":"IF(ISBLANK(Datas!$C$50),\"\",\" - \"&BA110)","v":" - Ecus:"},{"$f":"IF(ISBLANK(Datas!$C$51),\"\",\" - \"&BB110)","v":" - Niv: "},null,{"$error":"#N/A"},{"$error":"#N/A"},0,"PR:","Ecus:","Niv: ",null,null,null,null,0,{"$f":"VLOOKUP(BG110,LstVillage!$B$8:$C$283,1)","v":{"$error":"#N/A"}},{"$error":"#N/A"},{"$error":"#N/A"},0,{"$f":"VLOOKUP(BK110,Datas!$G$6:$G$17,1)","v":{"$error":"#N/A"}},{"$error":"#N/A"},{"$error":"#N/A"},null,0,0,0,null,{"$f":"VLOOKUP(BG110,Liste_Noire!$B$15:$G$1208,1)","v":{"$error":"#N/A"}},{"$f":"VLOOKUP(BG110,Liste_Noire!$B$15:$G$1208,5)","v":{"$error":"#N/A"}},{"$error":"#N/A"},null,0,0,0,0,0,0,0]
[null,""," ","","","","",null,null,null,null,null,null,null,null,null,null,null,null,null,null,null,null,null,"",0,0,0,0,0,0,0,0,0,0,null,0,null,null,{"$f":"IF(AO111=\"\",\"\",IF(BV111=1,\"[b][color=red]\"&Datas!$D$32&\"[/color][/b]\"&AO111&\"[b][color=red]\"&Datas!$D$33&\"{\"&BU111&\"}[/color][/b]\",AO111))","v":""},""," ",{"$f":"IF(ISBLANK(Datas!$C$47),\"\",\" - \"&AX111)","v":{"$error":"#N/A"}},{"$f":"IF(ISBLANK(Datas!$C$48),\"\",\" - \"&AY111)","v":" - 0"},{"$f":"IF(ISBLANK(Datas!$C$49),\"\",\" - \"&AZ111)","v":""},{"$f":"IF(ISBLANK(Datas!$C$50),\"\",\" - \"&BA111)","v":" - Ecus:"},{"$f":"IF(ISBLANK(Datas!$C$51),\"\",\" - \"&BB111)","v":" - Niv: "},null,{"$error":"#N/A"},{"$error":"#N/A"},0,"PR:","Ecus:","Niv: ",null,null,null,null,0,{"$f":"VLOOKUP(BG111,LstVillage!$B$8:$C$283,1)","v":{"$error":"#N/A"}},{"$error":"#N/A"},{"$error":"#N/A"},0,{"$f":"VLOOKUP(BK111,Datas!$G$6:$G$17,1)","v":{"$error":"#N/A"}},{"$error":"#N/A"},{"$error":"#N/A"},null,0,0,0,null,{"$f":"VLOOKUP(BG111,Liste_Noire!$B$15:$G$1208,1)","v":{"$error":"#N/A"}},{"$f":"VLOOKUP(BG111,Liste_Noire!$B$15:$G$1208,5)","v":{"$error":"#N/A"}},{"$error":"#N/A"},null,0,0,0,0,0,0,0]
[null,""," ","","","","",null,null,null,null,null,null,null,null,null,null,null,null,null,null,null,null,null,"",0,0,0,0,0,0,0,0,0,0,null,0,null,null,{"$f":"IF(AO112=\"\",\"\",IF(BV112=1,\"[b][color=red]\"&Datas!$D$32&\"[/color][/b]\"&AO112&\"[b][color=red]\"&Datas!$D$33&\"{\"&BU112&\"}[/color][/b]\",AO112))","v":""},""," ",{"$f":"IF(ISBLANK(Datas!$C$47),\"\",\" - \"&AX112)","v":{"$error":"#N/A"}},{"$f":"IF(ISBLANK(Datas!$C$48),\"\",\" - \"&AY112)","v":" - 0"},{"$f":"IF(ISBLANK(Datas!$C$49),\"\",\" - \"&AZ112)","v":""},{"$f":"IF(ISBLANK(Datas!$C$50),\"\",\" - \"&BA112)","v":" - Ecus:"},{"$f":"IF(ISBLANK(Datas!$C$51),\"\",\" - \"&BB112)","v":" - Niv: "},null,{"$error":"#N/A"},{"$error":"#N/A"},0,"PR:","Ecus:","Niv: ",null,null,null,null,0,{"$f":"VLOOKUP(BG112,LstVillage!$B$8:$C$283,1)","v":{"$error":"#N/A"}},{"$error":"#N/A"},{"$error":"#N/A"},0,{"$f":"VLOOKUP(BK112,Datas!$G$6:$G$17,1)","v":{"$error":"#N/A"}},{"$error":"#N/A"},{"$error":"#N/A"},null,0,0,0,null,{"$f":"VLOOKUP(BG112,Liste_Noire!$B$15:$G$1208,1)","v":{"$error":"#N/A"}},{"$f":"VLOOKUP(BG112,Liste_Noire!$B$15:$G$1208,5)","v":{"$error":"#N/A"}},{"$error":"#N/A"},null,0,0,0,0,0,0,0]
[null,""," ","","","","",null,null,null,null,null,null,null,null,null,null,null,null,null,null,null,null,null,"",0,0,0,0,0,0,0,0,0,0,null,0,null,null,{"$f":"IF(AO113=\"\",\"\",IF(BV113=1,\"[b][color=red]\"&Datas!$D$32&\"[/color][/b]\"&AO113&\"[b][color=red]\"&Datas!$D$33&\"{\"&BU113&\"}[/color][/b]\",AO113))","v":""},""," ",{"$f":"IF(ISBLANK(Datas!$C$47),\"\",\" - \"&AX113)","v":{"$error":"#N/A"}},{"$f":"IF(ISBLANK(Datas!$C$48),\"\",\" - \"&AY113)","v":" - 0"},{"$f":"IF(ISBLANK(Datas!$C$49),\"\",\" - \"&AZ113)","v":""},{"$f":"IF(ISBLANK(Datas!$C$50),\"\",\" - \"&BA113)","v":" - Ecus:"},{"$f":"IF(ISBLANK(Datas!$C$51),\"\",\" - \"&BB113)","v":" - Niv: "},null,{"$error":"#N/A"},{"$error":"#N/A"},0,"PR:","Ecus:","Niv: ",null,null,null,null,0,{"$f":"VLOOKUP(BG113,LstVillage!$B$8:$C$283,1)","v":{"$error":"#N/A"}},{"$error":"#N/A"},{"$error":"#N/A"},0,{"$f":"VLOOKUP(BK113,Datas!$G$6:$G$17,1)","v":{"$error":"#N/A"}},{"$error":"#N/A"},{"$error":"#N/A"},null,0,0,0,null,{"$f":"VLOOKUP(BG113,Liste_Noire!$B$15:$G$1208,1)","v":{"$error":"#N/A"}},{"$f":"VLOOKUP(BG113,Liste_Noire!$B$15:$G$1208,5)","v":{"$error":"#N/A"}},{"$error":"#N/A"},null,0,0,0,0,0,0,0]
[null,""," ","","","","",null,null,null,null,null,null,null,null,null,null,null,null,null,null,null,null,null,"",0,0,0,0,0,0,0,0,0,0,null,0,null,null,{"$f":"IF(AO114=\"\",\"\",IF(BV114=1,\"[b][color=red]\"&Datas!$D$32&\"[/color][/b]\"&AO114&\"[b][color=red]\"&Datas!$D$33&\"{\"&BU114&\"}[/color][/b]\",AO114))","v":""},""," ",{"$f":"IF(ISBLANK(Datas!$C$47),\"\",\" - \"&AX114)","v":{"$error":"#N/A"}},{"$f":"IF(ISBLANK(Datas!$C$48),\"\",\" - \"&AY114)","v":" - 0"},{"$f":"IF(ISBLANK(Datas!$C$49),\"\",\" - \"&AZ114)","v":""},{"$f":"IF(ISBLANK(Datas!$C$50),\"\",\" - \"&BA114)","v":" - Ecus:"},{"$f":"IF(ISBLANK(Datas!$C$51),\"\",\" - \"&BB114)","v":" - Niv: "},null,{"$error":"#N/A"},{"$error":"#N/A"},0,"PR:","Ecus:","Niv: ",null,null,null,null,0,{"$f":"VLOOKUP(BG114,LstVillage!$B$8:$C$283,1)","v":{"$error":"#N/A"}},{"$error":"#N/A"},{"$error":"#N/A"},0,{"$f":"VLOOKUP(BK114,Datas!$G$6:$G$17,1)","v":{"$error":"#N/A"}},{"$error":"#N/A"},{"$error":"#N/A"},null,0,0,0,null,{"$f":"VLOOKUP(BG114,Liste_Noire!$B$15:$G$1208,1)","v":{"$error":"#N/A"}},{"$f":"VLOOKUP(BG114,Liste_Noire!$B$15:$G$1208,5)","v":{"$error":"#N/A"}},{"$error":"#N/A"},null,0,0,0,0,0,0,0]
[null,""," ","","","","",null,null,null,null,null,null,null,null,null,null,null,null,null,null,null,null,null,"",0,0,0,0,0,0,0,0,0,0,null,0,null,null,{"$f":"IF(AO115=\"\",\"\",IF(BV115=1,\"[b][color=red]\"&Datas!$D$32&\"[/color][/b]\"&AO115&\"[b][color=red]\"&Datas!$D$33&\"{\"&BU115&\"}[/color][/b]\",AO115))","v":""},""," ",{"$f":"IF(ISBLANK(Datas!$C$47),\"\",\" - \"&AX115)","v":{"$error":"#N/A"}},{"$f":"IF(ISBLANK(Datas!$C$48),\"\",\" - \"&AY115)","v":" - 0"},{"$f":"IF(ISBLANK(Datas!$C$49),\"\",\" - \"&AZ115)","v":""},{"$f":"IF(ISBLANK(Datas!$C$50),\"\",\" - \"&BA115)","v":" - Ecus:"},{"$f":"IF(ISBLANK(Datas!$C$51),\"\",\" - \"&BB115)","v":" - Niv: "},null,{"$error":"#N/A"},{"$error":"#N/A"},0,"PR:","Ecus:","Niv: ",null,null,null,null,0,{"$f":"VLOOKUP(BG115,LstVillage!$B$8:$C$283,1)","v":{"$error":"#N/A"}},{"$error":"#N/A"},{"$error":"#N/A"},0,{"$f":"VLOOKUP(BK115,Datas!$G$6:$G$17,1)","v":{"$error":"#N/A"}},{"$error":"#N/A"},{"$error":"#N/A"},null,0,0,0,null,{"$f":"VLOOKUP(BG115,Liste_Noire!$B$15:$G$1208,1)","v":{"$error":"#N/A"}},{"$f":"VLOOKUP(BG115,Liste_Noire!$B$15:$G$1208,5)","v":{"$error":"#N/A"}},{"$error":"#N/A"},null,0,0,0,0,0,0,0]
[null,""," ","","","","",null,null,null,null,null,null,null,null,null,null,null,null,null,null,null,null,null,"",0,0,0,0,0,0,0,0,0,0,null,0,null,null,{"$f":"IF(AO116=\"\",\"\",IF(BV116=1,\"[b][color=red]\"&Datas!$D$32&\"[/color][/b]\"&AO116&\"[b][color=red]\"&Datas!$D$33&\"{\"&BU116&\"}[/color][/b]\",AO116))","v":""},""," ",{"$f":"IF(ISBLANK(Datas!$C$47),\"\",\" - \"&AX116)","v":{"$error":"#N/A"}},{"$f":"IF(ISBLANK(Datas!$C$48),\"\",\" - \"&AY116)","v":" - 0"},{"$f":"IF(ISBLANK(Datas!$C$49),\"\",\" - \"&AZ116)","v":""},{"$f":"IF(ISBLANK(Datas!$C$50),\"\",\" - \"&BA116)","v":" - Ecus:"},{"$f":"IF(ISBLANK(Datas!$C$51),\"\",\" - \"&BB116)","v":" - Niv: "},null,{"$error":"#N/A"},{"$error":"#N/A"},0,"PR:","Ecus:","Niv: ",null,null,null,null,0,{"$f":"VLOOKUP(BG116,LstVillage!$B$8:$C$283,1)","v":{"$error":"#N/A"}},{"$error":"#N/A"},{"$error":"#N/A"},0,{"$f":"VLOOKUP(BK116,Datas!$G$6:$G$17,1)","v":{"$error":"#N/A"}},{"$error":"#N/A"},{"$error":"#N/A"},null,0,0,0,null,{"$f":"VLOOKUP(BG116,Liste_Noire!$B$15:$G$1208,1)","v":{"$error":"#N/A"}},{"$f":"VLOOKUP(BG116,Liste_Noire!$B$15:$G$1208,5)","v":{"$error":"#N/A"}},{"$error":"#N/A"},null,0,0,0,0,0,0,0]
[null,""," ","","","","",null,null,null,null,null,null,null,null,null,null,null,null,null,null,null,null,null,"",0,0,0,0,0,0,0,0,0,0,null,0,null,null,{"$f":"IF(AO117=\"\",\"\",IF(BV117=1,\"[b][color=red]\"&Datas!$D$32&\"[/color][/b]\"&AO117&\"[b][color=red]\"&Datas!$D$33&\"{\"&BU117&\"}[/color][/b]\",AO117))","v":""},""," ",{"$f":"IF(ISBLANK(Datas!$C$47),\"\",\" - \"&AX117)","v":{"$error":"#N/A"}},{"$f":"IF(ISBLANK(Datas!$C$48),\"\",\" - \"&AY117)","v":" - 0"},{"$f":"IF(ISBLANK(Datas!$C$49),\"\",\" - \"&AZ117)","v":""},{"$f":"IF(ISBLANK(Datas!$C$50),\"\",\" - \"&BA117)","v":" - Ecus:"},{"$f":"IF(ISBLANK(Datas!$C$51),\"\",\" - \"&BB117)","v":" - Niv: "},null,{"$error":"#N/A"},{"$error":"#N/A"},0,"PR:","Ecus:","Niv: ",null,null,null,null,0,{"$f":"VLOOKUP(BG117,LstVillage!$B$8:$C$283,1)","v":{"$error":"#N/A"}},{"$error":"#N/A"},{"$error":"#N/A"},0,{"$f":"VLOOKUP(BK117,Datas!$G$6:$G$17,1)","v":{"$error":"#N/A"}},{"$error":"#N/A"},{"$error":"#N/A"},null,0,0,0,null,{"$f":"VLOOKUP(BG117,Liste_Noire!$B$15:$G$1208,1)","v":{"$error":"#N/A"}},{"$f":"VLOOKUP(BG117,Liste_Noire!$B$15:$G$1208,5)","v":{"$error":"#N/A"}},{"$error":"#N/A"},null,0,0,0,0,0,0,0]
[null,""," ","","","","",null,null,null,null,null,null,null,null,null,null,null,null,null,null,null,null,null,"",0,0,0,0,0,0,0,0,0,0,null,0,null,null,{"$f":"IF(AO118=\"\",\"\",IF(BV118=1,\"[b][color=red]\"&Datas!$D$32&\"[/color][/b]\"&AO118&\"[b][color=red]\"&Datas!$D$33&\"{\"&BU118&\"}[/color][/b]\",AO118))","v":""},""," ",{"$f":"IF(ISBLANK(Datas!$C$47),\"\",\" - \"&AX118)","v":{"$error":"#N/A"}},{"$f":"IF(ISBLANK(Datas!$C$48),\"\",\" - \"&AY118)","v":" - 0"},{"$f":"IF(ISBLANK(Datas!$C$49),\"\",\" - \"&AZ118)","v":""},{"$f":"IF(ISBLANK(Datas!$C$50),\"\",\" - \"&BA118)","v":" - Ecus:"},{"$f":"IF(ISBLANK(Datas!$C$51),\"\",\" - \"&BB118)","v":" - Niv: "},null,{"$error":"#N/A"},{"$error":"#N/A"},0,"PR:","Ecus:","Niv: ",null,null,null,null,0,{"$f":"VLOOKUP(BG118,LstVillage!$B$8:$C$283,1)","v":{"$error":"#N/A"}},{"$error":"#N/A"},{"$error":"#N/A"},0,{"$f":"VLOOKUP(BK118,Datas!$G$6:$G$17,1)","v":{"$error":"#N/A"}},{"$error":"#N/A"},{"$error":"#N/A"},null,0,0,0,null,{"$f":"VLOOKUP(BG118,Liste_Noire!$B$15:$G$1208,1)","v":{"$error":"#N/A"}},{"$f":"VLOOKUP(BG118,Liste_Noire!$B$15:$G$1208,5)","v":{"$error":"#N/A"}},{"$error":"#N/A"},null,0,0,0,0,0,0,0]
[null,""," ","","","","",null,null,null,null,null,null,null,null,null,null,null,null,null,null,null,null,null,"",0,0,0,0,0,0,0,0,0,0,null,0,null,null,{"$f":"IF(AO119=\"\",\"\",IF(BV119=1,\"[b][color=red]\"&Datas!$D$32&\"[/color][/b]\"&AO119&\"[b][color=red]\"&Datas!$D$33&\"{\"&BU119&\"}[/color][/b]\",AO119))","v":""},""," ",{"$f":"IF(ISBLANK(Datas!$C$47),\"\",\" - \"&AX119)","v":{"$error":"#N/A"}},{"$f":"IF(ISBLANK(Datas!$C$48),\"\",\" - \"&AY119)","v":" - 0"},{"$f":"IF(ISBLANK(Datas!$C$49),\"\",\" - \"&AZ119)","v":""},{"$f":"IF(ISBLANK(Datas!$C$50),\"\",\" - \"&BA119)","v":" - Ecus:"},{"$f":"IF(ISBLANK(Datas!$C$51),\"\",\" - \"&BB119)","v":" - Niv: "},null,{"$error":"#N/A"},{"$error":"#N/A"},0,"PR:","Ecus:","Niv: ",null,null,null,null,0,{"$f":"VLOOKUP(BG119,LstVillage!$B$8:$C$283,1)","v":{"$error":"#N/A"}},{"$error":"#N/A"},{"$error":"#N/A"},0,{"$f":"VLOOKUP(BK119,Datas!$G$6:$G$17,1)","v":{"$error":"#N/A"}},{"$error":"#N/A"},{"$error":"#N/A"},null,0,0,0,null,{"$f":"VLOOKUP(BG119,Liste_Noire!$B$15:$G$1208,1)","v":{"$error":"#N/A"}},{"$f":"VLOOKUP(BG119,Liste_Noire!$B$15:$G$1208,5)","v":{"$error":"#N/A"}},{"$error":"#N/A"},null,0,0,0,0,0,0,0]
[null,""," ","","","","",null,null,null,null,null,null,null,null,null,null,null,null,null,null,null,null,null,"",0,0,0,0,0,0,0,0,0,0,null,0,null,null,{"$f":"IF(AO120=\"\",\"\",IF(BV120=1,\"[b][color=red]\"&Datas!$D$32&\"[/color][/b]\"&AO120&\"[b][color=red]\"&Datas!$D$33&\"{\"&BU120&\"}[/color][/b]\",AO120))","v":""},""," ",{"$f":"IF(ISBLANK(Datas!$C$47),\"\",\" - \"&AX120)","v":{"$error":"#N/A"}},{"$f":"IF(ISBLANK(Datas!$C$48),\"\",\" - \"&AY120)","v":" - 0"},{"$f":"IF(ISBLANK(Datas!$C$49),\"\",\" - \"&AZ120)","v":""},{"$f":"IF(ISBLANK(Datas!$C$50),\"\",\" - \"&BA120)","v":" - Ecus:"},{"$f":"IF(ISBLANK(Datas!$C$51),\"\",\" - \"&BB120)","v":" - Niv: "},null,{"$error":"#N/A"},{"$error":"#N/A"},0,"PR:","Ecus:","Niv: ",null,null,null,null,0,{"$f":"VLOOKUP(BG120,LstVillage!$B$8:$C$283,1)","v":{"$error":"#N/A"}},{"$error":"#N/A"},{"$error":"#N/A"},0,{"$f":"VLOOKUP(BK120,Datas!$G$6:$G$17,1)","v":{"$error":"#N/A"}},{"$error":"#N/A"},{"$error":"#N/A"},null,0,0,0,null,{"$f":"VLOOKUP(BG120,Liste_Noire!$B$15:$G$1208,1)","v":{"$error":"#N/A"}},{"$f":"VLOOKUP(BG120,Liste_Noire!$B$15:$G$1208,5)","v":{"$error":"#N/A"}},{"$error":"#N/A"},null,0,0,0,0,0,0,0]
[null,""," ","","","","",null,null,null,null,null,null,null,null,null,null,null,null,null,null,null,null,null,"",0,0,0,0,0,0,0,0,0,0,null,0,null,null,{"$f":"IF(AO121=\"\",\"\",IF(BV121=1,\"[b][color=red]\"&Datas!$D$32&\"[/color][/b]\"&AO121&\"[b][color=red]\"&Datas!$D$33&\"{\"&BU121&\"}[/color][/b]\",AO121))","v":""},""," ",{"$f":"IF(ISBLANK(Datas!$C$47),\"\",\" - \"&AX121)","v":{"$error":"#N/A"}},{"$f":"IF(ISBLANK(Datas!$C$48),\"\",\" - \"&AY121)","v":" - 0"},{"$f":"IF(ISBLANK(Datas!$C$49),\"\",\" - \"&AZ121)","v":""},{"$f":"IF(ISBLANK(Datas!$C$50),\"\",\" - \"&BA121)","v":" - Ecus:"},{"$f":"IF(ISBLANK(Datas!$C$51),\"\",\" - \"&BB121)","v":" - Niv: "},null,{"$error":"#N/A"},{"$error":"#N/A"},0,"PR:","Ecus:","Niv: ",null,null,null,null,0,{"$f":"VLOOKUP(BG121,LstVillage!$B$8:$C$283,1)","v":{"$error":"#N/A"}},{"$error":"#N/A"},{"$error":"#N/A"},0,{"$f":"VLOOKUP(BK121,Datas!$G$6:$G$17,1)","v":{"$error":"#N/A"}},{"$error":"#N/A"},{"$error":"#N/A"},null,0,0,0,null,{"$f":"VLOOKUP(BG121,Liste_Noire!$B$15:$G$1208,1)","v":{"$error":"#N/A"}},{"$f":"VLOOKUP(BG121,Liste_Noire!$B$15:$G$1208,5)","v":{"$error":"#N/A"}},{"$error":"#N/A"},null,0,0,0,0,0,0,0]
[null,""," ","","","","",null,null,null,null,null,null,null,null,null,null,null,null,null,null,null,null,null,"",0,0,0,0,0,0,0,0,0,0,null,0,null,null,{"$f":"IF(AO122=\"\",\"\",IF(BV122=1,\"[b][color=red]\"&Datas!$D$32&\"[/color][/b]\"&AO122&\"[b][color=red]\"&Datas!$D$33&\"{\"&BU122&\"}[/color][/b]\",AO122))","v":""},""," ",{"$f":"IF(ISBLANK(Datas!$C$47),\"\",\" - \"&AX122)","v":{"$error":"#N/A"}},{"$f":"IF(ISBLANK(Datas!$C$48),\"\",\" - \"&AY122)","v":" - 0"},{"$f":"IF(ISBLANK(Datas!$C$49),\"\",\" - \"&AZ122)","v":""},{"$f":"IF(ISBLANK(Datas!$C$50),\"\",\" - \"&BA122)","v":" - Ecus:"},{"$f":"IF(ISBLANK(Datas!$C$51),\"\",\" - \"&BB122)","v":" - Niv: "},null,{"$error":"#N/A"},{"$error":"#N/A"},0,"PR:","Ecus:","Niv: ",null,null,null,null,0,{"$f":"VLOOKUP(BG122,LstVillage!$B$8:$C$283,1)","v":{"$error":"#N/A"}},{"$error":"#N/A"},{"$error":"#N/A"},0,{"$f":"VLOOKUP(BK122,Datas!$G$6:$G$17,1)","v":{"$error":"#N/A"}},{"$error":"#N/A"},{"$error":"#N/A"},null,0,0,0,null,{"$f":"VLOOKUP(BG122,Liste_Noire!$B$15:$G$1208,1)","v":{"$error":"#N/A"}},{"$f":"VLOOKUP(BG122,Liste_Noire!$B$15:$G$1208,5)","v":{"$error":"#N/A"}},{"$error":"#N/A"},null,0,0,0,0,0,0,0]
[null,""," ","","","","",null,null,null,null,null,null,null,null,null,null,null,null,null,null,null,null,null,"",0,0,0,0,0,0,0,0,0,0,null,0,null,null,{"$f":"IF(AO123=\"\",\"\",IF(BV123=1,\"[b][color=red]\"&Datas!$D$32&\"[/color][/b]\"&AO123&\"[b][color=red]\"&Datas!$D$33&\"{\"&BU123&\"}[/color][/b]\",AO123))","v":""},""," ",{"$f":"IF(ISBLANK(Datas!$C$47),\"\",\" - \"&AX123)","v":{"$error":"#N/A"}},{"$f":"IF(ISBLANK(Datas!$C$48),\"\",\" - \"&AY123)","v":" - 0"},{"$f":"IF(ISBLANK(Datas!$C$49),\"\",\" - \"&AZ123)","v":""},{"$f":"IF(ISBLANK(Datas!$C$50),\"\",\" - \"&BA123)","v":" - Ecus:"},{"$f":"IF(ISBLANK(Datas!$C$51),\"\",\" - \"&BB123)","v":" - Niv: "},null,{"$error":"#N/A"},{"$error":"#N/A"},0,"PR:","Ecus:","Niv: ",null,null,null,null,0,{"$f":"VLOOKUP(BG123,LstVillage!$B$8:$C$283,1)","v":{"$error":"#N/A"}},{"$error":"#N/A"},{"$error":"#N/A"},0,{"$f":"VLOOKUP(BK123,Datas!$G$6:$G$17,1)","v":{"$error":"#N/A"}},{"$error":"#N/A"},{"$error":"#N/A"},null,0,0,0,null,{"$f":"VLOOKUP(BG123,Liste_Noire!$B$15:$G$1208,1)","v":{"$error":"#N/A"}},{"$f":"VLOOKUP(BG123,Liste_Noire!$B$15:$G$1208,5)","v":{"$error":"#N/A"}},{"$error":"#N/A"},null,0,0,0,0,0,0,0]
[null,""," ","","","","",null,null,null,null,null,null,null,null,null,null,null,null,null,null,null,null,null,"",0,0,0,0,0,0,0,0,0,0,null,0,null,null,{"$f":"IF(AO124=\"\",\"\",IF(BV124=1,\"[b][color=red]\"&Datas!$D$32&\"[/color][/b]\"&AO124&\"[b][color=red]\"&Datas!$D$33&\"{\"&BU124&\"}[/color][/b]\",AO124))","v":""},""," ",{"$f":"IF(ISBLANK(Datas!$C$47),\"\",\" - \"&AX124)","v":{"$error":"#N/A"}},{"$f":"IF(ISBLANK(Datas!$C$48),\"\",\" - \"&AY124)","v":" - 0"},{"$f":"IF(ISBLANK(Datas!$C$49),\"\",\" - \"&AZ124)","v":""},{"$f":"IF(ISBLANK(Datas!$C$50),\"\",\" - \"&BA124)","v":" - Ecus:"},{"$f":"IF(ISBLANK(Datas!$C$51),\"\",\" - \"&BB124)","v":" - Niv: "},null,{"$error":"#N/A"},{"$error":"#N/A"},0,"PR:","Ecus:","Niv: ",null,null,null,null,0,{"$f":"VLOOKUP(BG124,LstVillage!$B$8:$C$283,1)","v":{"$error":"#N/A"}},{"$error":"#N/A"},{"$error":"#N/A"},0,{"$f":"VLOOKUP(BK124,Datas!$G$6:$G$17,1)","v":{"$error":"#N/A"}},{"$error":"#N/A"},{"$error":"#N/A"},null,0,0,0,null,{"$f":"VLOOKUP(BG124,Liste_Noire!$B$15:$G$1208,1)","v":{"$error":"#N/A"}},{"$f":"VLOOKUP(BG124,Liste_Noire!$B$15:$G$1208,5)","v":{"$error":"#N/A"}},{"$error":"#N/A"},null,0,0,0,0,0,0,0]
[null,""," ","","","","",null,null,null,null,null,null,null,null,null,null,null,null,null,null,null,null,null,"",0,0,0,0,0,0,0,0,0,0,null,0,null,null,{"$f":"IF(AO125=\"\",\"\",IF(BV125=1,\"[b][color=red]\"&Datas!$D$32&\"[/color][/b]\"&AO125&\"[b][color=red]\"&Datas!$D$33&\"{\"&BU125&\"}[/color][/b]\",AO125))","v":""},""," ",{"$f":"IF(ISBLANK(Datas!$C$47),\"\",\" - \"&AX125)","v":{"$error":"#N/A"}},{"$f":"IF(ISBLANK(Datas!$C$48),\"\",\" - \"&AY125)","v":" - 0"},{"$f":"IF(ISBLANK(Datas!$C$49),\"\",\" - \"&AZ125)","v":""},{"$f":"IF(ISBLANK(Datas!$C$50),\"\",\" - \"&BA125)","v":" - Ecus:"},{"$f":"IF(ISBLANK(Datas!$C$51),\"\",\" - \"&BB125)","v":" - Niv: "},null,{"$error":"#N/A"},{"$error":"#N/A"},0,"PR:","Ecus:","Niv: ",null,null,null,null,0,{"$f":"VLOOKUP(BG125,LstVillage!$B$8:$C$283,1)","v":{"$error":"#N/A"}},{"$error":"#N/A"},{"$error":"#N/A"},0,{"$f":"VLOOKUP(BK125,Datas!$G$6:$G$17,1)","v":{"$error":"#N/A"}},{"$error":"#N/A"},{"$error":"#N/A"},null,0,0,0,null,{"$f":"VLOOKUP(BG125,Liste_Noire!$B$15:$G$1208,1)","v":{"$error":"#N/A"}},{"$f":"VLOOKUP(BG125,Liste_Noire!$B$15:$G$1208,5)","v":{"$error":"#N/A"}},{"$error":"#N/A"},null,0,0,0,0,0,0,0]
[null,""," ","","","","",null,null,null,null,null,null,null,null,null,null,null,null,null,null,null,null,null,"",0,0,0,0,0,0,0,0,0,0,null,0,null,null,{"$f":"IF(AO126=\"\",\"\",IF(BV126=1,\"[b][color=red]\"&Datas!$D$32&\"[/color][/b]\"&AO126&\"[b][color=red]\"&Datas!$D$33&\"{\"&BU126&\"}[/color][/b]\",AO126))","v":""},""," ",{"$f":"IF(ISBLANK(Datas!$C$47),\"\",\" - \"&AX126)","v":{"$error":"#N/A"}},{"$f":"IF(ISBLANK(Datas!$C$48),\"\",\" - \"&AY126)","v":" - 0"},{"$f":"IF(ISBLANK(Datas!$C$49),\"\",\" - \"&AZ126)","v":""},{"$f":"IF(ISBLANK(Datas!$C$50),\"\",\" - \"&BA126)","v":" - Ecus:"},{"$f":"IF(ISBLANK(Datas!$C$51),\"\",\" - \"&BB126)","v":" - Niv: "},null,{"$error":"#N/A"},{"$error":"#N/A"},0,"PR:","Ecus:","Niv: ",null,null,null,null,0,{"$f":"VLOOKUP(BG126,LstVillage!$B$8:$C$283,1)","v":{"$error":"#N/A"}},{"$error":"#N/A"},{"$error":"#N/A"},0,{"$f":"VLOOKUP(BK126,Datas!$G$6:$G$17,1)","v":{"$error":"#N/A"}},{"$error":"#N/A"},{"$error":"#N/A"},null,0,0,0,null,{"$f":"VLOOKUP(BG126,Liste_Noire!$B$15:$G$1208,1)","v":{"$error":"#N/A"}},{"$f":"VLOOKUP(BG126,Liste_Noire!$B$15:$G$1208,5)","v":{"$error":"#N/A"}},{"$error":"#N/A"},null,0,0,0,0,0,0,0]
[null,""," ","","","","",null,null,null,null,null,null,null,null,null,null,null,null,null,null,null,null,null,"",0,0,0,0,0,0,0,0,0,0,null,0,null,null,{"$f":"IF(AO127=\"\",\"\",IF(BV127=1,\"[b][color=red]\"&Datas!$D$32&\"[/color][/b]\"&AO127&\"[b][color=red]\"&Datas!$D$33&\"{\"&BU127&\"}[/color][/b]\",AO127))","v":""},""," ",{"$f":"IF(ISBLANK(Datas!$C$47),\"\",\" - \"&AX127)","v":{"$error":"#N/A"}},{"$f":"IF(ISBLANK(Datas!$C$48),\"\",\" - \"&AY127)","v":" - 0"},{"$f":"IF(ISBLANK(Datas!$C$49),\"\",\" - \"&AZ127)","v":""},{"$f":"IF(ISBLANK(Datas!$C$50),\"\",\" - \"&BA127)","v":" - Ecus:"},{"$f":"IF(ISBLANK(Datas!$C$51),\"\",\" - \"&BB127)","v":" - Niv: "},null,{"$error":"#N/A"},{"$error":"#N/A"},0,"PR:","Ecus:","Niv: ",null,null,null,null,0,{"$f":"VLOOKUP(BG127,LstVillage!$B$8:$C$283,1)","v":{"$error":"#N/A"}},{"$error":"#N/A"},{"$error":"#N/A"},0,{"$f":"VLOOKUP(BK127,Datas!$G$6:$G$17,1)","v":{"$error":"#N/A"}},{"$error":"#N/A"},{"$error":"#N/A"},null,0,0,0,null,{"$f":"VLOOKUP(BG127,Liste_Noire!$B$15:$G$1208,1)","v":{"$error":"#N/A"}},{"$f":"VLOOKUP(BG127,Liste_Noire!$B$15:$G$1208,5)","v":{"$error":"#N/A"}},{"$error":"#N/A"},null,0,0,0,0,0,0,0]
[null,""," ","","","","",null,null,null,null,null,null,null,null,null,null,null,null,null,null,null,null,null,"",0,0,0,0,0,0,0,0,0,0,null,0,null,null,{"$f":"IF(AO128=\"\",\"\",IF(BV128=1,\"[b][color=red]\"&Datas!$D$32&\"[/color][/b]\"&AO128&\"[b][color=red]\"&Datas!$D$33&\"{\"&BU128&\"}[/color][/b]\",AO128))","v":""},""," ",{"$f":"IF(ISBLANK(Datas!$C$47),\"\",\" - \"&AX128)","v":{"$error":"#N/A"}},{"$f":"IF(ISBLANK(Datas!$C$48),\"\",\" - \"&AY128)","v":" - 0"},{"$f":"IF(ISBLANK(Datas!$C$49),\"\",\" - \"&AZ128)","v":""},{"$f":"IF(ISBLANK(Datas!$C$50),\"\",\" - \"&BA128)","v":" - Ecus:"},{"$f":"IF(ISBLANK(Datas!$C$51),\"\",\" - \"&BB128)","v":" - Niv: "},null,{"$error":"#N/A"},{"$error":"#N/A"},0,"PR:","Ecus:","Niv: ",null,null,null,null,0,{"$f":"VLOOKUP(BG128,LstVillage!$B$8:$C$283,1)","v":{"$error":"#N/A"}},{"$error":"#N/A"},{"$error":"#N/A"},0,{"$f":"VLOOKUP(BK128,Datas!$G$6:$G$17,1)","v":{"$error":"#N/A"}},{"$error":"#N/A"},{"$error":"#N/A"},null,0,0,0,null,{"$f":"VLOOKUP(BG128,Liste_Noire!$B$15:$G$1208,1)","v":{"$error":"#N/A"}},{"$f":"VLOOKUP(BG128,Liste_Noire!$B$15:$G$1208,5)","v":{"$error":"#N/A"}},{"$error":"#N/A"},null,0,0,0,0,0,0,0]
[null,""," ","","","","",null,null,null,null,null,null,null,null,null,null,null,null,null,null,null,null,null,"",0,0,0,0,0,0,0,0,0,0,null,0,null,null,{"$f":"IF(AO129=\"\",\"\",IF(BV129=1,\"[b][color=red]\"&Datas!$D$32&\"[/color][/b]\"&AO129&\"[b][color=red]\"&Datas!$D$33&\"{\"&BU129&\"}[/color][/b]\",AO129))","v":""},""," ",{"$f":"IF(ISBLANK(Datas!$C$47),\"\",\" - \"&AX129)","v":{"$error":"#N/A"}},{"$f":"IF(ISBLANK(Datas!$C$48),\"\",\" - \"&AY129)","v":" - 0"},{"$f":"IF(ISBLANK(Datas!$C$49),\"\",\" - \"&AZ129)","v":""},{"$f":"IF(ISBLANK(Datas!$C$50),\"\",\" - \"&BA129)","v":" - Ecus:"},{"$f":"IF(ISBLANK(Datas!$C$51),\"\",\" - \"&BB129)","v":" - Niv: "},null,{"$error":"#N/A"},{"$error":"#N/A"},0,"PR:","Ecus:","Niv: ",null,null,null,null,0,{"$f":"VLOOKUP(BG129,LstVillage!$B$8:$C$283,1)","v":{"$error":"#N/A"}},{"$error":"#N/A"},{"$error":"#N/A"},0,{"$f":"VLOOKUP(BK129,Datas!$G$6:$G$17,1)","v":{"$error":"#N/A"}},{"$error":"#N/A"},{"$error":"#N/A"},null,0,0,0,null,{"$f":"VLOOKUP(BG129,Liste_Noire!$B$15:$G$1208,1)","v":{"$error":"#N/A"}},{"$f":"VLOOKUP(BG129,Liste_Noire!$B$15:$G$1208,5)","v":{"$error":"#N/A"}},{"$error":"#N/A"},null,0,0,0,0,0,0,0]
[null,""," ","","","","",null,null,null,null,null,null,null,null,null,null,null,null,null,null,null,null,null,"",0,0,0,0,0,0,0,0,0,0,null,0,null,null,{"$f":"IF(AO130=\"\",\"\",IF(BV130=1,\"[b][color=red]\"&Datas!$D$32&\"[/color][/b]\"&AO130&\"[b][color=red]\"&Datas!$D$33&\"{\"&BU130&\"}[/color][/b]\",AO130))","v":""},""," ",{"$f":"IF(ISBLANK(Datas!$C$47),\"\",\" - \"&AX130)","v":{"$error":"#N/A"}},{"$f":"IF(ISBLANK(Datas!$C$48),\"\",\" - \"&AY130)","v":" - 0"},{"$f":"IF(ISBLANK(Datas!$C$49),\"\",\" - \"&AZ130)","v":""},{"$f":"IF(ISBLANK(Datas!$C$50),\"\",\" - \"&BA130)","v":" - Ecus:"},{"$f":"IF(ISBLANK(Datas!$C$51),\"\",\" - \"&BB130)","v":" - Niv: "},null,{"$error":"#N/A"},{"$error":"#N/A"},0,"PR:","Ecus:","Niv: ",null,null,null,null,0,{"$f":"VLOOKUP(BG130,LstVillage!$B$8:$C$283,1)","v":{"$error":"#N/A"}},{"$error":"#N/A"},{"$error":"#N/A"},0,{"$f":"VLOOKUP(BK130,Datas!$G$6:$G$17,1)","v":{"$error":"#N/A"}},{"$error":"#N/A"},{"$error":"#N/A"},null,0,0,0,null,{"$f":"VLOOKUP(BG130,Liste_Noire!$B$15:$G$1208,1)","v":{"$error":"#N/A"}},{"$f":"VLOOKUP(BG130,Liste_Noire!$B$15:$G$1208,5)","v":{"$error":"#N/A"}},{"$error":"#N/A"},null,0,0,0,0,0,0,0]
[null,""," ","","","","",null,null,null,null,null,null,null,null,null,null,null,null,null,null,null,null,null,"",0,0,0,0,0,0,0,0,0,0,null,0,null,null,{"$f":"IF(AO131=\"\",\"\",IF(BV131=1,\"[b][color=red]\"&Datas!$D$32&\"[/color][/b]\"&AO131&\"[b][color=red]\"&Datas!$D$33&\"{\"&BU131&\"}[/color][/b]\",AO131))","v":""},""," ",{"$f":"IF(ISBLANK(Datas!$C$47),\"\",\" - \"&AX131)","v":{"$error":"#N/A"}},{"$f":"IF(ISBLANK(Datas!$C$48),\"\",\" - \"&AY131)","v":" - 0"},{"$f":"IF(ISBLANK(Datas!$C$49),\"\",\" - \"&AZ131)","v":""},{"$f":"IF(ISBLANK(Datas!$C$50),\"\",\" - \"&BA131)","v":" - Ecus:"},{"$f":"IF(ISBLANK(Datas!$C$51),\"\",\" - \"&BB131)","v":" - Niv: "},null,{"$error":"#N/A"},{"$error":"#N/A"},0,"PR:","Ecus:","Niv: ",null,null,null,null,0,{"$f":"VLOOKUP(BG131,LstVillage!$B$8:$C$283,1)","v":{"$error":"#N/A"}},{"$error":"#N/A"},{"$error":"#N/A"},0,{"$f":"VLOOKUP(BK131,Datas!$G$6:$G$17,1)","v":{"$error":"#N/A"}},{"$error":"#N/A"},{"$error":"#N/A"},null,0,0,0,null,{"$f":"VLOOKUP(BG131,Liste_Noire!$B$15:$G$1208,1)","v":{"$error":"#N/A"}},{"$f":"VLOOKUP(BG131,Liste_Noire!$B$15:$G$1208,5)","v":{"$error":"#N/A"}},{"$error":"#N/A"},null,0,0,0,0,0,0,0]
[null,""," ","","","","",null,null,null,null,null,null,null,null,null,null,null,null,null,null,null,null,null,"",0,0,0,0,0,0,0,0,0,0,null,0,null,null,{"$f":"IF(AO132=\"\",\"\",IF(BV132=1,\"[b][color=red]\"&Datas!$D$32&\"[/color][/b]\"&AO132&\"[b][color=red]\"&Datas!$D$33&\"{\"&BU132&\"}[/color][/b]\",AO132))","v":""},""," ",{"$f":"IF(ISBLANK(Datas!$C$47),\"\",\" - \"&AX132)","v":{"$error":"#N/A"}},{"$f":"IF(ISBLANK(Datas!$C$48),\"\",\" - \"&AY132)","v":" - 0"},{"$f":"IF(ISBLANK(Datas!$C$49),\"\",\" - \"&AZ132)","v":""},{"$f":"IF(ISBLANK(Datas!$C$50),\"\",\" - \"&BA132)","v":" - Ecus:"},{"$f":"IF(ISBLANK(Datas!$C$51),\"\",\" - \"&BB132)","v":" - Niv: "},null,{"$error":"#N/A"},{"$error":"#N/A"},0,"PR:","Ecus:","Niv: ",null,null,null,null,0,{"$f":"VLOOKUP(BG132,LstVillage!$B$8:$C$283,1)","v":{"$error":"#N/A"}},{"$error":"#N/A"},{"$error":"#N/A"},0,{"$f":"VLOOKUP(BK132,Datas!$G$6:$G$17,1)","v":{"$error":"#N/A"}},{"$error":"#N/A"},{"$error":"#N/A"},null,0,0,0,null,{"$f":"VLOOKUP(BG132,Liste_Noire!$B$15:$G$1208,1)","v":{"$error":"#N/A"}},{"$f":"VLOOKUP(BG132,Liste_Noire!$B$15:$G$1208,5)","v":{"$error":"#N/A"}},{"$error":"#N/A"},null,0,0,0,0,0,0,0]
[null,""," ","","","","",null,null,null,null,null,null,null,null,null,null,null,null,null,null,null,null,null,"",0,0,0,0,0,0,0,0,0,0,null,0,null,null,{"$f":"IF(AO133=\"\",\"\",IF(BV133=1,\"[b][color=red]\"&Datas!$D$32&\"[/color][/b]\"&AO133&\"[b][color=red]\"&Datas!$D$33&\"{\"&BU133&\"}[/color][/b]\",AO133))","v":""},""," ",{"$f":"IF(ISBLANK(Datas!$C$47),\"\",\" - \"&AX133)","v":{"$error":"#N/A"}},{"$f":"IF(ISBLANK(Datas!$C$48),\"\",\" - \"&AY133)","v":" - 0"},{"$f":"IF(ISBLANK(Datas!$C$49),\"\",\" - \"&AZ133)","v":""},{"$f":"IF(ISBLANK(Datas!$C$50),\"\",\" - \"&BA133)","v":" - Ecus:"},{"$f":"IF(ISBLANK(Datas!$C$51),\"\",\" - \"&BB133)","v":" - Niv: "},null,{"$error":"#N/A"},{"$error":"#N/A"},0,"PR:","Ecus:","Niv: ",null,null,null,null,0,{"$f":"VLOOKUP(BG133,LstVillage!$B$8:$C$283,1)","v":{"$error":"#N/A"}},{"$error":"#N/A"},{"$error":"#N/A"},0,{"$f":"VLOOKUP(BK133,Datas!$G$6:$G$17,1)","v":{"$error":"#N/A"}},{"$error":"#N/A"},{"$error":"#N/A"},null,0,0,0,null,{"$f":"VLOOKUP(BG133,Liste_Noire!$B$15:$G$1208,1)","v":{"$error":"#N/A"}},{"$f":"VLOOKUP(BG133,Liste_Noire!$B$15:$G$1208,5)","v":{"$error":"#N/A"}},{"$error":"#N/A"},null,0,0,0,0,0,0,0]
[null,""," ","","","","",null,null,null,null,null,null,null,null,null,null,null,null,null,null,null,null,null,"",0,0,0,0,0,0,0,0,0,0,null,0,null,null,{"$f":"IF(AO134=\"\",\"\",IF(BV134=1,\"[b][color=red]\"&Datas!$D$32&\"[/color][/b]\"&AO134&\"[b][color=red]\"&Datas!$D$33&\"{\"&BU134&\"}[/color][/b]\",AO134))","v":""},""," ",{"$f":"IF(ISBLANK(Datas!$C$47),\"\",\" - \"&AX134)","v":{"$error":"#N/A"}},{"$f":"IF(ISBLANK(Datas!$C$48),\"\",\" - \"&AY134)","v":" - 0"},{"$f":"IF(ISBLANK(Datas!$C$49),\"\",\" - \"&AZ134)","v":""},{"$f":"IF(ISBLANK(Datas!$C$50),\"\",\" - \"&BA134)","v":" - Ecus:"},{"$f":"IF(ISBLANK(Datas!$C$51),\"\",\" - \"&BB134)","v":" - Niv: "},null,{"$error":"#N/A"},{"$error":"#N/A"},0,"PR:","Ecus:","Niv: ",null,null,null,null,0,{"$f":"VLOOKUP(BG134,LstVillage!$B$8:$C$283,1)","v":{"$error":"#N/A"}},{"$error":"#N/A"},{"$error":"#N/A"},0,{"$f":"VLOOKUP(BK134,Datas!$G$6:$G$17,1)","v":{"$error":"#N/A"}},{"$error":"#N/A"},{"$error":"#N/A"},null,0,0,0,null,{"$f":"VLOOKUP(BG134,Liste_Noire!$B$15:$G$1208,1)","v":{"$error":"#N/A"}},{"$f":"VLOOKUP(BG134,Liste_Noire!$B$15:$G$1208,5)","v":{"$error":"#N/A"}},{"$error":"#N/A"},null,0,0,0,0,0,0,0]
[null,""," ","","","","",null,null,null,null,null,null,null,null,null,null,null,null,null,null,null,null,null,"",0,0,0,0,0,0,0,0,0,0,null,0,null,null,{"$f":"IF(AO135=\"\",\"\",IF(BV135=1,\"[b][color=red]\"&Datas!$D$32&\"[/color][/b]\"&AO135&\"[b][color=red]\"&Datas!$D$33&\"{\"&BU135&\"}[/color][/b]\",AO135))","v":""},""," ",{"$f":"IF(ISBLANK(Datas!$C$47),\"\",\" - \"&AX135)","v":{"$error":"#N/A"}},{"$f":"IF(ISBLANK(Datas!$C$48),\"\",\" - \"&AY135)","v":" - 0"},{"$f":"IF(ISBLANK(Datas!$C$49),\"\",\" - \"&AZ135)","v":""},{"$f":"IF(ISBLANK(Datas!$C$50),\"\",\" - \"&BA135)","v":" - Ecus:"},{"$f":"IF(ISBLANK(Datas!$C$51),\"\",\" - \"&BB135)","v":" - Niv: "},null,{"$error":"#N/A"},{"$error":"#N/A"},0,"PR:","Ecus:","Niv: ",null,null,null,null,0,{"$f":"VLOOKUP(BG135,LstVillage!$B$8:$C$283,1)","v":{"$error":"#N/A"}},{"$error":"#N/A"},{"$error":"#N/A"},0,{"$f":"VLOOKUP(BK135,Datas!$G$6:$G$17,1)","v":{"$error":"#N/A"}},{"$error":"#N/A"},{"$error":"#N/A"},null,0,0,0,null,{"$f":"VLOOKUP(BG135,Liste_Noire!$B$15:$G$1208,1)","v":{"$error":"#N/A"}},{"$f":"VLOOKUP(BG135,Liste_Noire!$B$15:$G$1208,5)","v":{"$error":"#N/A"}},{"$error":"#N/A"},null,0,0,0,0,0,0,0]
[null,""," ","","","","",null,null,null,null,null,null,null,null,null,null,null,null,null,null,null,null,null,"",0,0,0,0,0,0,0,0,0,0,null,0,null,null,{"$f":"IF(AO136=\"\",\"\",IF(BV136=1,\"[b][color=red]\"&Datas!$D$32&\"[/color][/b]\"&AO136&\"[b][color=red]\"&Datas!$D$33&\"{\"&BU136&\"}[/color][/b]\",AO136))","v":""},""," ",{"$f":"IF(ISBLANK(Datas!$C$47),\"\",\" - \"&AX136)","v":{"$error":"#N/A"}},{"$f":"IF(ISBLANK(Datas!$C$48),\"\",\" - \"&AY136)","v":" - 0"},{"$f":"IF(ISBLANK(Datas!$C$49),\"\",\" - \"&AZ136)","v":""},{"$f":"IF(ISBLANK(Datas!$C$50),\"\",\" - \"&BA136)","v":" - Ecus:"},{"$f":"IF(ISBLANK(Datas!$C$51),\"\",\" - \"&BB136)","v":" - Niv: "},null,{"$error":"#N/A"},{"$error":"#N/A"},0,"PR:","Ecus:","Niv: ",null,null,null,null,0,{"$f":"VLOOKUP(BG136,LstVillage!$B$8:$C$283,1)","v":{"$error":"#N/A"}},{"$error":"#N/A"},{"$error":"#N/A"},0,{"$f":"VLOOKUP(BK136,Datas!$G$6:$G$17,1)","v":{"$error":"#N/A"}},{"$error":"#N/A"},{"$error":"#N/A"},null,0,0,0,null,{"$f":"VLOOKUP(BG136,Liste_Noire!$B$15:$G$1208,1)","v":{"$error":"#N/A"}},{"$f":"VLOOKUP(BG136,Liste_Noire!$B$15:$G$1208,5)","v":{"$error":"#N/A"}},{"$error":"#N/A"},null,0,0,0,0,0,0,0]
[null,""," ","","","","",null,null,null,null,null,null,null,null,null,null,null,null,null,null,null,null,null,"",0,0,0,0,0,0,0,0,0,0,null,0,null,null,{"$f":"IF(AO137=\"\",\"\",IF(BV137=1,\"[b][color=red]\"&Datas!$D$32&\"[/color][/b]\"&AO137&\"[b][color=red]\"&Datas!$D$33&\"{\"&BU137&\"}[/color][/b]\",AO137))","v":""},""," ",{"$f":"IF(ISBLANK(Datas!$C$47),\"\",\" - \"&AX137)","v":{"$error":"#N/A"}},{"$f":"IF(ISBLANK(Datas!$C$48),\"\",\" - \"&AY137)","v":" - 0"},{"$f":"IF(ISBLANK(Datas!$C$49),\"\",\" - \"&AZ137)","v":""},{"$f":"IF(ISBLANK(Datas!$C$50),\"\",\" - \"&BA137)","v":" - Ecus:"},{"$f":"IF(ISBLANK(Datas!$C$51),\"\",\" - \"&BB137)","v":" - Niv: "},null,{"$error":"#N/A"},{"$error":"#N/A"},0,"PR:","Ecus:","Niv: ",null,null,null,null,0,{"$f":"VLOOKUP(BG137,LstVillage!$B$8:$C$283,1)","v":{"$error":"#N/A"}},{"$error":"#N/A"},{"$error":"#N/A"},0,{"$f":"VLOOKUP(BK137,Datas!$G$6:$G$17,1)","v":{"$error":"#N/A"}},{"$error":"#N/A"},{"$error":"#N/A"},null,0,0,0,null,{"$f":"VLOOKUP(BG137,Liste_Noire!$B$15:$G$1208,1)","v":{"$error":"#N/A"}},{"$f":"VLOOKUP(BG137,Liste_Noire!$B$15:$G$1208,5)","v":{"$error":"#N/A"}},{"$error":"#N/A"},null,0,0,0,0,0,0,0]
[null,""," ","","","","",null,null,null,null,null,null,null,null,null,null,null,null,null,null,null,null,null,"",0,0,0,0,0,0,0,0,0,0,null,0,null,null,{"$f":"IF(AO138=\"\",\"\",IF(BV138=1,\"[b][color=red]\"&Datas!$D$32&\"[/color][/b]\"&AO138&\"[b][color=red]\"&Datas!$D$33&\"{\"&BU138&\"}[/color][/b]\",AO138))","v":""},""," ",{"$f":"IF(ISBLANK(Datas!$C$47),\"\",\" - \"&AX138)","v":{"$error":"#N/A"}},{"$f":"IF(ISBLANK(Datas!$C$48),\"\",\" - \"&AY138)","v":" - 0"},{"$f":"IF(ISBLANK(Datas!$C$49),\"\",\" - \"&AZ138)","v":""},{"$f":"IF(ISBLANK(Datas!$C$50),\"\",\" - \"&BA138)","v":" - Ecus:"},{"$f":"IF(ISBLANK(Datas!$C$51),\"\",\" - \"&BB138)","v":" - Niv: "},null,{"$error":"#N/A"},{"$error":"#N/A"},0,"PR:","Ecus:","Niv: ",null,null,null,null,0,{"$f":"VLOOKUP(BG138,LstVillage!$B$8:$C$283,1)","v":{"$error":"#N/A"}},{"$error":"#N/A"},{"$error":"#N/A"},0,{"$f":"VLOOKUP(BK138,Datas!$G$6:$G$17,1)","v":{"$error":"#N/A"}},{"$error":"#N/A"},{"$error":"#N/A"},null,0,0,0,null,{"$f":"VLOOKUP(BG138,Liste_Noire!$B$15:$G$1208,1)","v":{"$error":"#N/A"}},{"$f":"VLOOKUP(BG138,Liste_Noire!$B$15:$G$1208,5)","v":{"$error":"#N/A"}},{"$error":"#N/A"},null,0,0,0,0,0,0,0]
[null,""," ","","","","",null,null,null,null,null,null,null,null,null,null,null,null,null,null,null,null,null,"",0,0,0,0,0,0,0,0,0,0,null,0,null,null,{"$f":"IF(AO139=\"\",\"\",IF(BV139=1,\"[b][color=red]\"&Datas!$D$32&\"[/color][/b]\"&AO139&\"[b][color=red]\"&Datas!$D$33&\"{\"&BU139&\"}[/color][/b]\",AO139))","v":""},""," ",{"$f":"IF(ISBLANK(Datas!$C$47),\"\",\" - \"&AX139)","v":{"$error":"#N/A"}},{"$f":"IF(ISBLANK(Datas!$C$48),\"\",\" - \"&AY139)","v":" - 0"},{"$f":"IF(ISBLANK(Datas!$C$49),\"\",\" - \"&AZ139)","v":""},{"$f":"IF(ISBLANK(Datas!$C$50),\"\",\" - \"&BA139)","v":" - Ecus:"},{"$f":"IF(ISBLANK(Datas!$C$51),\"\",\" - \"&BB139)","v":" - Niv: "},null,{"$error":"#N/A"},{"$error":"#N/A"},0,"PR:","Ecus:","Niv: ",null,null,null,null,0,{"$f":"VLOOKUP(BG139,LstVillage!$B$8:$C$283,1)","v":{"$error":"#N/A"}},{"$error":"#N/A"},{"$error":"#N/A"},0,{"$f":"VLOOKUP(BK139,Datas!$G$6:$G$17,1)","v":{"$error":"#N/A"}},{"$error":"#N/A"},{"$error":"#N/A"},null,0,0,0,null,{"$f":"VLOOKUP(BG139,Liste_Noire!$B$15:$G$1208,1)","v":{"$error":"#N/A"}},{"$f":"VLOOKUP(BG139,Liste_Noire!$B$15:$G$1208,5)","v":{"$error":"#N/A"}},{"$error":"#N/A"},null,0,0,0,0,0,0,0]
[null,""," ","","","","",null,null,null,null,null,null,null,null,null,null,null,null,null,null,null,null,null,"",0,0,0,0,0,0,0,0,0,0,null,0,null,null,{"$f":"IF(AO140=\"\",\"\",IF(BV140=1,\"[b][color=red]\"&Datas!$D$32&\"[/color][/b]\"&AO140&\"[b][color=red]\"&Datas!$D$33&\"{\"&BU140&\"}[/color][/b]\",AO140))","v":""},""," ",{"$f":"IF(ISBLANK(Datas!$C$47),\"\",\" - \"&AX140)","v":{"$error":"#N/A"}},{"$f":"IF(ISBLANK(Datas!$C$48),\"\",\" - \"&AY140)","v":" - 0"},{"$f":"IF(ISBLANK(Datas!$C$49),\"\",\" - \"&AZ140)","v":""},{"$f":"IF(ISBLANK(Datas!$C$50),\"\",\" - \"&BA140)","v":" - Ecus:"},{"$f":"IF(ISBLANK(Datas!$C$51),\"\",\" - \"&BB140)","v":" - Niv: "},null,{"$error":"#N/A"},{"$error":"#N/A"},0,"PR:","Ecus:","Niv: ",null,null,null,null,0,{"$f":"VLOOKUP(BG140,LstVillage!$B$8:$C$283,1)","v":{"$error":"#N/A"}},{"$error":"#N/A"},{"$error":"#N/A"},0,{"$f":"VLOOKUP(BK140,Datas!$G$6:$G$17,1)","v":{"$error":"#N/A"}},{"$error":"#N/A"},{"$error":"#N/A"},null,0,0,0,null,{"$f":"VLOOKUP(BG140,Liste_Noire!$B$15:$G$1208,1)","v":{"$error":"#N/A"}},{"$f":"VLOOKUP(BG140,Liste_Noire!$B$15:$G$1208,5)","v":{"$error":"#N/A"}},{"$error":"#N/A"},null,0,0,0,0,0,0,0]
[null,{"$f":"IF(BQ141,\"[strike]\"&AN141&\"[/strike]\",IF(BR141,\"[i]\"&AN141&\"[/i]\",AN141))","v":""}," ",{"$f":"IF(M141=\"mort\",\"M\",\"\")","v":""},{"$f":"IF(ISERROR(BV141),\"\",IF(BV141=1,\"LN\",\"\"))","v":""},{"$f":"IF(M141=\"retraite\",\"R\",\"\")","v":""},{"$f":"IF(ISBLANK(Y141),\"\",Y141)","v":""},null,null,null,null,null,null,null,null,null,null,null,null,null,null,null,null,null,"",{"$f":"IF($Y141=Z$11,1,0)","v":0},{"$f":"IF(AND(Z141=1,$E141=AA$11),1,0)","v":0},{"$f":"IF($Y141=AB$11,1,0)","v":0},{"$f":"IF(AND(AB141=1,$E141=AC$11),1,0)","v":0},{"$f":"IF($F141=AD$11,1,0)","v":0},{"$f":"IF(AND(AD141=1,$E141=AE$11),1,0)","v":0},{"$f":"IF($D141=AF$11,1,0)","v":0},{"$f":"IF(AND(AF141=1,$E141=AG$11),1,0)","v":0},{"$f":"IF(AND($Y141=AH$11,(AD141+AF141)=0),1,0)","v":0},{"$f":"IF(AND(AH141=1,$E141=AI$11),1,0)","v":0},null,{"$f":"IF(AND(ISBLANK(I141),ISBLANK(K141),ISBLANK(L141),ISBLANK(P141)),0,1)","v":0},null,null,{"$f":"IF(AO141=\"\",\"\",IF(BV141=1,\"[b][color=red]\"&Datas!$D$32&\"[/color][/b]\"&AO141&\"[b][color=red]\"&Datas!$D$33&\"{\"&BU141&\"}[/color][/b]\",AO141))","v":""},{"$f":"IF(ISBLANK(M141),\"\",AW141&AQ141&AR141&AS141&AT141&AU141)","v":""}," ",{"$f":"IF(ISBLANK(Datas!$C$47),\"\",\" - \"&AX141)","v":{"$error":"#N/A"}},{"$f":"IF(ISBLANK(Datas!$C$48),\"\",\" - \"&AY141)","v":" - 0"},{"$f":"IF(ISBLANK(Datas!$C$49),\"\",\" - \"&AZ141)","v":""},{"$f":"IF(ISBLANK(Datas!$C$50),\"\",\" - \"&BA141)","v":" - Ecus:"},{"$f":"IF(ISBLANK(Datas!$C$51),\"\",\" - \"&BB141)","v":" - Niv: "},null,{"$f":"\"[b][color=\"&BJ141&\"]\"&BG141&\"[/color][/b]\"","v":{"$error":"#N/A"}},{"$f":"\"[b][color=\"&BN141&\"]\"&BK141&\"[/color][/b]\"","v":{"$error":"#N/A"}},{"$f":"BP141","v":0},{"$f":"\"PR:\"&O141","v":"PR:"},{"$f":"\"Ecus:\"&P141","v":"Ecus:"},{"$f":"\"Niv: \"&N141","v":"Niv: "},null,null,null,null,{"$f":"I141","v":0},{"$f":"VLOOKUP(BG141,LstVillage!$B$8:$C$283,1)","v":{"$error":"#N/A"}},{"$f":"IF(BH141<>BG141,0,1)","v":{"$error":"#N/A"}},{"$f":"IF(BI141=1,$AX$2,IF(BM141=1,$AX$3,$AX$4))","v":{"$error":"#N/A"}},{"$f":"L141","v":0},{"$f":"VLOOKUP(BK141,Datas!$G$6:$G$17,1)","v":{"$error":"#N/A"}},{"$f":"IF(BL141<>BK141,0,1)","v":{"$error":"#N/A"}},{"$f":"IF(BM141=1,$BA$2,$BA$3)","v":{"$error":"#N/A"}},null,{"$f":"K141","v":0},{"$f":"IF(F141=\"M\",1,0)","v":0},{"$f":"IF(F141=\"R\",1,0)","v":0},null,{"$f":"VLOOKUP(BG141,Liste_Noire!$B$15:$G$1208,1)","v":{"$error":"#N/A"}},{"$f":"VLOOKUP(BG141,Liste_Noire!$B$15:$G$1208,5)","v":{"$error":"#N/A"}},{"$f":"IF(ISERR(BT141),0,IF(BT141=BG141,1,0))","v":{"$error":"#N/A"}},null,{"$f":"IF(G141=\"a\",1,0)","v":0},{"$f":"IF(G141=\"d\",1,0)","v":0},{"$f":"IF(F141=\"R\",1,0)","v":0},{"$f":"IF(F141=\"M\",1,0)","v":0},{"$f":"IF(ISERROR(BV141),0,IF(BV141=1,IF(BU141=\"Liste Noire\",1,0),0))","v":0},{"$f":"IF(ISERROR(BV141),0,IF(BV141=1,IF(BU141=\"Surveillance\",1,0),0))","v":0},{"$f":"IF(ISBLANK(I141),0,1)","v":0}]
[null,""," ","","","","",null,null,null,null,null,null,null,null,null,null,null,null,null,null,null,null,null,{"$f":"IF(OR(ISBLANK(U142),TRIM(U142)=\"\"),IF(ISBLANK($I142),\"\",$Y$11),IF(OR($F142=$AD$11,$D142=$AF$11),$Y$11,IF(U142=\"a/d\",\"\",U142)))","v":""},0,0,0,0,0,0,0,0,0,0,null,0,null,null,{"$f":"IF(AO142=\"\",\"\",IF(BV142=1,\"[b][color=red]\"&Datas!$D$32&\"[/color][/b]\"&AO142&\"[b][color=red]\"&Datas!$D$33&\"{\"&BU142&\"}[/color][/b]\",AO142))","v":""},""," ",{"$f":"IF(ISBLANK(Datas!$C$47),\"\",\" - \"&AX142)","v":{"$error":"#N/A"}},{"$f":"IF(ISBLANK(Datas!$C$48),\"\",\" - \"&AY142)","v":" - 0"},{"$f":"IF(ISBLANK(Datas!$C$49),\"\",\" - \"&AZ142)","v":""},{"$f":"IF(ISBLANK(Datas!$C$50),\"\",\" - \"&BA142)","v":" - Ecus:"},{"$f":"IF(ISBLANK(Datas!$C$51),\"\",\" - \"&BB142)","v":" - Niv: "},null,{"$error":"#N/A"},{"$error":"#N/A"},0,"PR:","Ecus:","Niv: ",null,null,null,null,0,{"$f":"VLOOKUP(BG142,LstVillage!$B$8:$C$283,1)","v":{"$error":"#N/A"}},{"$error":"#N/A"},{"$error":"#N/A"},0,{"$f":"VLOOKUP(BK142,Datas!$G$6:$G$17,1)","v":{"$error":"#N/A"}},{"$error":"#N/A"},{"$error":"#N/A"},null,0,0,0,null,{"$f":"VLOOKUP(BG142,Liste_Noire!$B$15:$G$1208,1)","v":{"$error":"#N/A"}},{"$f":"VLOOKUP(BG142,Liste_Noire!$B$15:$G$1208,5)","v":{"$error":"#N/A"}},{"$error":"#N/A"},null,0,0,0,0,0,0,0]
[null,""," ","","","","",null,null,null,null,null,null,null,null,null,null,null,null,null,null,null,null,null,"",0,0,0,0,0,0,0,0,0,0,null,0,null,null,{"$f":"IF(AO143=\"\",\"\",IF(BV143=1,\"[b][color=red]\"&Datas!$D$32&\"[/color][/b]\"&AO143&\"[b][color=red]\"&Datas!$D$33&\"{\"&BU143&\"}[/color][/b]\",AO143))","v":""},""," ",{"$f":"IF(ISBLANK(Datas!$C$47),\"\",\" - \"&AX143)","v":{"$error":"#N/A"}},{"$f":"IF(ISBLANK(Datas!$C$48),\"\",\" - \"&AY143)","v":" - 0"},{"$f":"IF(ISBLANK(Datas!$C$49),\"\",\" - \"&AZ143)","v":""},{"$f":"IF(ISBLANK(Datas!$C$50),\"\",\" - \"&BA143)","v":" - Ecus:"},{"$f":"IF(ISBLANK(Datas!$C$51),\"\",\" - \"&BB143)","v":" - Niv: "},null,{"$error":"#N/A"},{"$error":"#N/A"},0,"PR:","Ecus:","Niv: ",null,null,null,null,0,{"$f":"VLOOKUP(BG143,LstVillage!$B$8:$C$283,1)","v":{"$error":"#N/A"}},{"$error":"#N/A"},{"$error":"#N/A"},0,{"$f":"VLOOKUP(BK143,Datas!$G$6:$G$17,1)","v":{"$error":"#N/A"}},{"$error":"#N/A"},{"$error":"#N/A"},null,0,0,0,null,{"$f":"VLOOKUP(BG143,Liste_Noire!$B$15:$G$1208,1)","v":{"$error":"#N/A"}},{"$f":"VLOOKUP(BG143,Liste_Noire!$B$15:$G$1208,5)","v":{"$error":"#N/A"}},{"$error":"#N/A"},null,0,0,0,0,0,0,0]
[null,""," ","","","","",null,null,null,null,null,null,null,null,null,null,null,null,null,null,null,null,null,"",0,0,0,0,0,0,0,0,0,0,null,0,null,null,{"$f":"IF(AO144=\"\",\"\",IF(BV144=1,\"[b][color=red]\"&Datas!$D$32&\"[/color][/b]\"&AO144&\"[b][color=red]\"&Datas!$D$33&\"{\"&BU144&\"}[/color][/b]\",AO144))","v":""},""," ",{"$f":"IF(ISBLANK(Datas!$C$47),\"\",\" - \"&AX144)","v":{"$error":"#N/A"}},{"$f":"IF(ISBLANK(Datas!$C$48),\"\",\" - \"&AY144)","v":" - 0"},{"$f":"IF(ISBLANK(Datas!$C$49),\"\",\" - \"&AZ144)","v":""},{"$f":"IF(ISBLANK(Datas!$C$50),\"\",\" - \"&BA144)","v":" - Ecus:"},{"$f":"IF(ISBLANK(Datas!$C$51),\"\",\" - \"&BB144)","v":" - Niv: "},null,{"$error":"#N/A"},{"$error":"#N/A"},0,"PR:","Ecus:","Niv: ",null,null,null,null,0,{"$f":"VLOOKUP(BG144,LstVillage!$B$8:$C$283,1)","v":{"$error":"#N/A"}},{"$error":"#N/A"},{"$error":"#N/A"},0,{"$f":"VLOOKUP(BK144,Datas!$G$6:$G$17,1)","v":{"$error":"#N/A"}},{"$error":"#N/A"},{"$error":"#N/A"},null,0,0,0,null,{"$f":"VLOOKUP(BG144,Liste_Noire!$B$15:$G$1208,1)","v":{"$error":"#N/A"}},{"$f":"VLOOKUP(BG144,Liste_Noire!$B$15:$G$1208,5)","v":{"$error":"#N/A"}},{"$error":"#N/A"},null,0,0,0,0,0,0,0]
[null,""," ","","","","",null,null,null,null,null,null,null,null,null,null,null,null,null,null,null,null,null,"",0,0,0,0,0,0,0,0,0,0,null,0,null,null,{"$f":"IF(AO145=\"\",\"\",IF(BV145=1,\"[b][color=red]\"&Datas!$D$32&\"[/color][/b]\"&AO145&\"[b][color=red]\"&Datas!$D$33&\"{\"&BU145&\"}[/color][/b]\",AO145))","v":""},""," ",{"$f":"IF(ISBLANK(Datas!$C$47),\"\",\" - \"&AX145)","v":{"$error":"#N/A"}},{"$f":"IF(ISBLANK(Datas!$C$48),\"\",\" - \"&AY145)","v":" - 0"},{"$f":"IF(ISBLANK(Datas!$C$49),\"\",\" - \"&AZ145)","v":""},{"$f":"IF(ISBLANK(Datas!$C$50),\"\",\" - \"&BA145)","v":" - Ecus:"},{"$f":"IF(ISBLANK(Datas!$C$51),\"\",\" - \"&BB145)","v":" - Niv: "},null,{"$error":"#N/A"},{"$error":"#N/A"},0,"PR:","Ecus:","Niv: ",null,null,null,null,0,{"$f":"VLOOKUP(BG145,LstVillage!$B$8:$C$283,1)","v":{"$error":"#N/A"}},{"$error":"#N/A"},{"$error":"#N/A"},0,{"$f":"VLOOKUP(BK145,Datas!$G$6:$G$17,1)","v":{"$error":"#N/A"}},{"$error":"#N/A"},{"$error":"#N/A"},null,0,0,0,null,{"$f":"VLOOKUP(BG145,Liste_Noire!$B$15:$G$1208,1)","v":{"$error":"#N/A"}},{"$f":"VLOOKUP(BG145,Liste_Noire!$B$15:$G$1208,5)","v":{"$error":"#N/A"}},{"$error":"#N/A"},null,0,0,0,0,0,0,0]
[null,""," ","","","","",null,null,null,null,null,null,null,null,null,null,null,null,null,null,null,null,null,"",0,0,0,0,0,0,0,0,0,0,null,0,null,null,{"$f":"IF(AO146=\"\",\"\",IF(BV146=1,\"[b][color=red]\"&Datas!$D$32&\"[/color][/b]\"&AO146&\"[b][color=red]\"&Datas!$D$33&\"{\"&BU146&\"}[/color][/b]\",AO146))","v":""},""," ",{"$f":"IF(ISBLANK(Datas!$C$47),\"\",\" - \"&AX146)","v":{"$error":"#N/A"}},{"$f":"IF(ISBLANK(Datas!$C$48),\"\",\" - \"&AY146)","v":" - 0"},{"$f":"IF(ISBLANK(Datas!$C$49),\"\",\" - \"&AZ146)","v":""},{"$f":"IF(ISBLANK(Datas!$C$50),\"\",\" - \"&BA146)","v":" - Ecus:"},{"$f":"IF(ISBLANK(Datas!$C$51),\"\",\" - \"&BB146)","v":" - Niv: "},null,{"$error":"#N/A"},{"$error":"#N/A"},0,"PR:","Ecus:","Niv: ",null,null,null,null,0,{"$f":"VLOOKUP(BG146,LstVillage!$B$8:$C$283,1)","v":{"$error":"#N/A"}},{"$error":"#N/A"},{"$error":"#N/A"},0,{"$f":"VLOOKUP(BK146,Datas!$G$6:$G$17,1)","v":{"$error":"#N/A"}},{"$error":"#N/A"},{"$error":"#N/A"},null,0,0,0,null,{"$f":"VLOOKUP(BG146,Liste_Noire!$B$15:$G$1208,1)","v":{"$error":"#N/A"}},{"$f":"VLOOKUP(BG146,Liste_Noire!$B$15:$G$1208,5)","v":{"$error":"#N/A"}},{"$error":"#N/A"},null,0,0,0,0,0,0,0]
[null,""," ","","","","",null,null,null,null,null,null,null,null,null,null,null,null,null,null,null,null,null,"",0,0,0,0,0,0,0,0,0,0,null,0,null,null,{"$f":"IF(AO147=\"\",\"\",IF(BV147=1,\"[b][color=red]\"&Datas!$D$32&\"[/color][/b]\"&AO147&\"[b][color=red]\"&Datas!$D$33&\"{\"&BU147&\"}[/color][/b]\",AO147))","v":""},""," ",{"$f":"IF(ISBLANK(Datas!$C$47),\"\",\" - \"&AX147)","v":{"$error":"#N/A"}},{"$f":"IF(ISBLANK(Datas!$C$48),\"\",\" - \"&AY147)","v":" - 0"},{"$f":"IF(ISBLANK(Datas!$C$49),\"\",\" - \"&AZ147)","v":""},{"$f":"IF(ISBLANK(Datas!$C$50),\"\",\" - \"&BA147)","v":" - Ecus:"},{"$f":"IF(ISBLANK(Datas!$C$51),\"\",\" - \"&BB147)","v":" - Niv: "},null,{"$error":"#N/A"},{"$error":"#N/A"},0,"PR:","Ecus:","Niv: ",null,null,null,null,0,{"$f":"VLOOKUP(BG147,LstVillage!$B$8:$C$283,1)","v":{"$error":"#N/A"}},{"$error":"#N/A"},{"$error":"#N/A"},0,{"$f":"VLOOKUP(BK147,Datas!$G$6:$G$17,1)","v":{"$error":"#N/A"}},{"$error":"#N/A"},{"$error":"#N/A"},null,0,0,0,null,{"$f":"VLOOKUP(BG147,Liste_Noire!$B$15:$G$1208,1)","v":{"$error":"#N/A"}},{"$f":"VLOOKUP(BG147,Liste_Noire!$B$15:$G$1208,5)","v":{"$error":"#N/A"}},{"$error":"#N/A"},null,0,0,0,0,0,0,0]
[null,""," ","","","","",null,null,null,null,null,null,null,null,null,null,null,null,null,null,null,null,null,"",0,0,0,0,0,0,0,0,0,0,null,0,null,null,{"$f":"IF(AO148=\"\",\"\",IF(BV148=1,\"[b][color=red]\"&Datas!$D$32&\"[/color][/b]\"&AO148&\"[b][color=red]\"&Datas!$D$33&\"{\"&BU148&\"}[/color][/b]\",AO148))","v":""},""," ",{"$f":"IF(ISBLANK(Datas!$C$47),\"\",\" - \"&AX148)","v":{"$error":"#N/A"}},{"$f":"IF(ISBLANK(Datas!$C$48),\"\",\" - \"&AY148)","v":" - 0"},{"$f":"IF(ISBLANK(Datas!$C$49),\"\",\" - \"&AZ148)","v":""},{"$f":"IF(ISBLANK(Datas!$C$50),\"\",\" - \"&BA148)","v":" - Ecus:"},{"$f":"IF(ISBLANK(Datas!$C$51),\"\",\" - \"&BB148)","v":" - Niv: "},null,{"$error":"#N/A"},{"$error":"#N/A"},0,"PR:","Ecus:","Niv: ",null,null,null,null,0,{"$f":"VLOOKUP(BG148,LstVillage!$B$8:$C$283,1)","v":{"$error":"#N/A"}},{"$error":"#N/A"},{"$error":"#N/A"},0,{"$f":"VLOOKUP(BK148,Datas!$G$6:$G$17,1)","v":{"$error":"#N/A"}},{"$error":"#N/A"},{"$error":"#N/A"},null,0,0,0,null,{"$f":"VLOOKUP(BG148,Liste_Noire!$B$15:$G$1208,1)","v":{"$error":"#N/A"}},{"$f":"VLOOKUP(BG148,Liste_Noire!$B$15:$G$1208,5)","v":{"$error":"#N/A"}},{"$error":"#N/A"},null,0,0,0,0,0,0,0]
[null,""," ","","","","",null,null,null,null,null,null,null,null,null,null,null,null,null,null,null,null,null,"",0,0,0,0,0,0,0,0,0,0,null,0,null,null,{"$f":"IF(AO149=\"\",\"\",IF(BV149=1,\"[b][color=red]\"&Datas!$D$32&\"[/color][/b]\"&AO149&\"[b][color=red]\"&Datas!$D$33&\"{\"&BU149&\"}[/color][/b]\",AO149))","v":""},""," ",{"$f":"IF(ISBLANK(Datas!$C$47),\"\",\" - \"&AX149)","v":{"$error":"#N/A"}},{"$f":"IF(ISBLANK(Datas!$C$48),\"\",\" - \"&AY149)","v":" - 0"},{"$f":"IF(ISBLANK(Datas!$C$49),\"\",\" - \"&AZ149)","v":""},{"$f":"IF(ISBLANK(Datas!$C$50),\"\",\" - \"&BA149)","v":" - Ecus:"},{"$f":"IF(ISBLANK(Datas!$C$51),\"\",\" - \"&BB149)","v":" - Niv: "},null,{"$error":"#N/A"},{"$error":"#N/A"},0,"PR:","Ecus:","Niv: ",null,null,null,null,0,{"$f":"VLOOKUP(BG149,LstVillage!$B$8:$C$283,1)","v":{"$error":"#N/A"}},{"$error":"#N/A"},{"$error":"#N/A"},0,{"$f":"VLOOKUP(BK149,Datas!$G$6:$G$17,1)","v":{"$error":"#N/A"}},{"$error":"#N/A"},{"$error":"#N/A"},null,0,0,0,null,{"$f":"VLOOKUP(BG149,Liste_Noire!$B$15:$G$1208,1)","v":{"$error":"#N/A"}},{"$f":"VLOOKUP(BG149,Liste_Noire!$B$15:$G$1208,5)","v":{"$error":"#N/A"}},{"$error":"#N/A"},null,0,0,0,0,0,0,0]
[null,""," ","","","","",null,null,null,null,null,null,null,null,null,null,null,null,null,null,null,null,null,"",0,0,0,0,0,0,0,0,0,0,null,0,null,null,{"$f":"IF(AO150=\"\",\"\",IF(BV150=1,\"[b][color=red]\"&Datas!$D$32&\"[/color][/b]\"&AO150&\"[b][color=red]\"&Datas!$D$33&\"{\"&BU150&\"}[/color][/b]\",AO150))","v":""},""," ",{"$f":"IF(ISBLANK(Datas!$C$47),\"\",\" - \"&AX150)","v":{"$error":"#N/A"}},{"$f":"IF(ISBLANK(Datas!$C$48),\"\",\" - \"&AY150)","v":" - 0"},{"$f":"IF(ISBLANK(Datas!$C$49),\"\",\" - \"&AZ150)","v":""},{"$f":"IF(ISBLANK(Datas!$C$50),\"\",\" - \"&BA150)","v":" - Ecus:"},{"$f":"IF(ISBLANK(Datas!$C$51),\"\",\" - \"&BB150)","v":" - Niv: "},null,{"$error":"#N/A"},{"$error":"#N/A"},0,"PR:","Ecus:","Niv: ",null,null,null,null,0,{"$f":"VLOOKUP(BG150,LstVillage!$B$8:$C$283,1)","v":{"$error":"#N/A"}},{"$error":"#N/A"},{"$error":"#N/A"},0,{"$f":"VLOOKUP(BK150,Datas!$G$6:$G$17,1)","v":{"$error":"#N/A"}},{"$error":"#N/A"},{"$error":"#N/A"},null,0,0,0,null,{"$f":"VLOOKUP(BG150,Liste_Noire!$B$15:$G$1208,1)","v":{"$error":"#N/A"}},{"$f":"VLOOKUP(BG150,Liste_Noire!$B$15:$G$1208,5)","v":{"$error":"#N/A"}},{"$error":"#N/A"},null,0,0,0,0,0,0,0]
[null,""," ","","","","",null,null,null,null,null,null,null,null,null,null,null,null,null,null,null,null,null,"",0,0,0,0,0,0,0,0,0,0,null,0,null,null,{"$f":"IF(AO151=\"\",\"\",IF(BV151=1,\"[b][color=red]\"&Datas!$D$32&\"[/color][/b]\"&AO151&\"[b][color=red]\"&Datas!$D$33&\"{\"&BU151&\"}[/color][/b]\",AO151))","v":""},""," ",{"$f":"IF(ISBLANK(Datas!$C$47),\"\",\" - \"&AX151)","v":{"$error":"#N/A"}},{"$f":"IF(ISBLANK(Datas!$C$48),\"\",\" - \"&AY151)","v":" - 0"},{"$f":"IF(ISBLANK(Datas!$C$49),\"\",\" - \"&AZ151)","v":""},{"$f":"IF(ISBLANK(Datas!$C$50),\"\",\" - \"&BA151)","v":" - Ecus:"},{"$f":"IF(ISBLANK(Datas!$C$51),\"\",\" - \"&BB151)","v":" - Niv: "},null,{"$error":"#N/A"},{"$error":"#N/A"},0,"PR:","Ecus:","Niv: ",null,null,null,null,0,{"$f":"VLOOKUP(BG151,LstVillage!$B$8:$C$283,1)","v":{"$error":"#N/A"}},{"$error":"#N/A"},{"$error":"#N/A"},0,{"$f":"VLOOKUP(BK151,Datas!$G$6:$G$17,1)","v":{"$error":"#N/A"}},{"$error":"#N/A"},{"$error":"#N/A"},null,0,0,0,null,{"$f":"VLOOKUP(BG151,Liste_Noire!$B$15:$G$1208,1)","v":{"$error":"#N/A"}},{"$f":"VLOOKUP(BG151,Liste_Noire!$B$15:$G$1208,5)","v":{"$error":"#N/A"}},{"$error":"#N/A"},null,0,0,0,0,0,0,0]
[null,""," ","","","","",null,null,null,null,null,null,null,null,null,null,null,null,null,null,null,null,null,"",0,0,0,0,0,0,0,0,0,0,null,0,null,null,{"$f":"IF(AO152=\"\",\"\",IF(BV152=1,\"[b][color=red]\"&Datas!$D$32&\"[/color][/b]\"&AO152&\"[b][color=red]\"&Datas!$D$33&\"{\"&BU152&\"}[/color][/b]\",AO152))","v":""},""," ",{"$f":"IF(ISBLANK(Datas!$C$47),\"\",\" - \"&AX152)","v":{"$error":"#N/A"}},{"$f":"IF(ISBLANK(Datas!$C$48),\"\",\" - \"&AY152)","v":" - 0"},{"$f":"IF(ISBLANK(Datas!$C$49),\"\",\" - \"&AZ152)","v":""},{"$f":"IF(ISBLANK(Datas!$C$50),\"\",\" - \"&BA152)","v":" - Ecus:"},{"$f":"IF(ISBLANK(Datas!$C$51),\"\",\" - \"&BB152)","v":" - Niv: "},null,{"$error":"#N/A"},{"$error":"#N/A"},0,"PR:","Ecus:","Niv: ",null,null,null,null,0,{"$f":"VLOOKUP(BG152,LstVillage!$B$8:$C$283,1)","v":{"$error":"#N/A"}},{"$error":"#N/A"},{"$error":"#N/A"},0,{"$f":"VLOOKUP(BK152,Datas!$G$6:$G$17,1)","v":{"$error":"#N/A"}},{"$error":"#N/A"},{"$error":"#N/A"},null,0,0,0,null,{"$f":"VLOOKUP(BG152,Liste_Noire!$B$15:$G$1208,1)","v":{"$error":"#N/A"}},{"$f":"VLOOKUP(BG152,Liste_Noire!$B$15:$G$1208,5)","v":{"$error":"#N/A"}},{"$error":"#N/A"},null,0,0,0,0,0,0,0]
[null,""," ","","","","",null,null,null,null,null,null,null,null,null,null,null,null,null,null,null,null,null,"",0,0,0,0,0,0,0,0,0,0,null,0,null,null,{"$f":"IF(AO153=\"\",\"\",IF(BV153=1,\"[b][color=red]\"&Datas!$D$32&\"[/color][/b]\"&AO153&\"[b][color=red]\"&Datas!$D$33&\"{\"&BU153&\"}[/color][/b]\",AO153))","v":""},""," ",{"$f":"IF(ISBLANK(Datas!$C$47),\"\",\" - \"&AX153)","v":{"$error":"#N/A"}},{"$f":"IF(ISBLANK(Datas!$C$48),\"\",\" - \"&AY153)","v":" - 0"},{"$f":"IF(ISBLANK(Datas!$C$49),\"\",\" - \"&AZ153)","v":""},{"$f":"IF(ISBLANK(Datas!$C$50),\"\",\" - \"&BA153)","v":" - Ecus:"},{"$f":"IF(ISBLANK(Datas!$C$51),\"\",\" - \"&BB153)","v":" - Niv: "},null,{"$error":"#N/A"},{"$error":"#N/A"},0,"PR:","Ecus:","Niv: ",null,null,null,null,0,{"$f":"VLOOKUP(BG153,LstVillage!$B$8:$C$283,1)","v":{"$error":"#N/A"}},{"$error":"#N/A"},{"$error":"#N/A"},0,{"$f":"VLOOKUP(BK153,Datas!$G$6:$G$17,1)","v":{"$error":"#N/A"}},{"$error":"#N/A"},{"$error":"#N/A"},null,0,0,0,null,{"$f":"VLOOKUP(BG153,Liste_Noire!$B$15:$G$1208,1)","v":{"$error":"#N/A"}},{"$f":"VLOOKUP(BG153,Liste_Noire!$B$15:$G$1208,5)","v":{"$error":"#N/A"}},{"$error":"#N/A"},null,0,0,0,0,0,0,0]
[null,""," ","","","","",null,null,null,null,null,null,null,null,null,null,null,null,null,null,null,null,null,"",0,0,0,0,0,0,0,0,0,0,null,0,null,null,{"$f":"IF(AO154=\"\",\"\",IF(BV154=1,\"[b][color=red]\"&Datas!$D$32&\"[/color][/b]\"&AO154&\"[b][color=red]\"&Datas!$D$33&\"{\"&BU154&\"}[/color][/b]\",AO154))","v":""},""," ",{"$f":"IF(ISBLANK(Datas!$C$47),\"\",\" - \"&AX154)","v":{"$error":"#N/A"}},{"$f":"IF(ISBLANK(Datas!$C$48),\"\",\" - \"&AY154)","v":" - 0"},{"$f":"IF(ISBLANK(Datas!$C$49),\"\",\" - \"&AZ154)","v":""},{"$f":"IF(ISBLANK(Datas!$C$50),\"\",\" - \"&BA154)","v":" - Ecus:"},{"$f":"IF(ISBLANK(Datas!$C$51),\"\",\" - \"&BB154)","v":" - Niv: "},null,{"$error":"#N/A"},{"$error":"#N/A"},0,"PR:","Ecus:","Niv: ",null,null,null,null,0,{"$f":"VLOOKUP(BG154,LstVillage!$B$8:$C$283,1)","v":{"$error":"#N/A"}},{"$error":"#N/A"},{"$error":"#N/A"},0,{"$f":"VLOOKUP(BK154,Datas!$G$6:$G$17,1)","v":{"$error":"#N/A"}},{"$error":"#N/A"},{"$error":"#N/A"},null,0,0,0,null,{"$f":"VLOOKUP(BG154,Liste_Noire!$B$15:$G$1208,1)","v":{"$error":"#N/A"}},{"$f":"VLOOKUP(BG154,Liste_Noire!$B$15:$G$1208,5)","v":{"$error":"#N/A"}},{"$error":"#N/A"},null,0,0,0,0,0,0,0]
[null,""," ","","","","",null,null,null,null,null,null,null,null,null,null,null,null,null,null,null,null,null,"",0,0,0,0,0,0,0,0,0,0,null,0,null,null,{"$f":"IF(AO155=\"\",\"\",IF(BV155=1,\"[b][color=red]\"&Datas!$D$32&\"[/color][/b]\"&AO155&\"[b][color=red]\"&Datas!$D$33&\"{\"&BU155&\"}[/color][/b]\",AO155))","v":""},""," ",{"$f":"IF(ISBLANK(Datas!$C$47),\"\",\" - \"&AX155)","v":{"$error":"#N/A"}},{"$f":"IF(ISBLANK(Datas!$C$48),\"\",\" - \"&AY155)","v":" - 0"},{"$f":"IF(ISBLANK(Datas!$C$49),\"\",\" - \"&AZ155)","v":""},{"$f":"IF(ISBLANK(Datas!$C$50),\"\",\" - \"&BA155)","v":" - Ecus:"},{"$f":"IF(ISBLANK(Datas!$C$51),\"\",\" - \"&BB155)","v":" - Niv: "},null,{"$error":"#N/A"},{"$error":"#N/A"},0,"PR:","Ecus:","Niv: ",null,null,null,null,0,{"$f":"VLOOKUP(BG155,LstVillage!$B$8:$C$283,1)","v":{"$error":"#N/A"}},{"$error":"#N/A"},{"$error":"#N/A"},0,{"$f":"VLOOKUP(BK155,Datas!$G$6:$G$17,1)","v":{"$error":"#N/A"}},{"$error":"#N/A"},{"$error":"#N/A"},null,0,0,0,null,{"$f":"VLOOKUP(BG155,Liste_Noire!$B$15:$G$1208,1)","v":{"$error":"#N/A"}},{"$f":"VLOOKUP(BG155,Liste_Noire!$B$15:$G$1208,5)","v":{"$error":"#N/A"}},{"$error":"#N/A"},null,0,0,0,0,0,0,0]
[null,""," ","","","","",null,null,null,null,null,null,null,null,null,null,null,null,null,null,null,null,null,"",0,0,0,0,0,0,0,0,0,0,null,0,null,null,{"$f":"IF(AO156=\"\",\"\",IF(BV156=1,\"[b][color=red]\"&Datas!$D$32&\"[/color][/b]\"&AO156&\"[b][color=red]\"&Datas!$D$33&\"{\"&BU156&\"}[/color][/b]\",AO156))","v":""},""," ",{"$f":"IF(ISBLANK(Datas!$C$47),\"\",\" - \"&AX156)","v":{"$error":"#N/A"}},{"$f":"IF(ISBLANK(Datas!$C$48),\"\",\" - \"&AY156)","v":" - 0"},{"$f":"IF(ISBLANK(Datas!$C$49),\"\",\" - \"&AZ156)","v":""},{"$f":"IF(ISBLANK(Datas!$C$50),\"\",\" - \"&BA156)","v":" - Ecus:"},{"$f":"IF(ISBLANK(Datas!$C$51),\"\",\" - \"&BB156)","v":" - Niv: "},null,{"$error":"#N/A"},{"$error":"#N/A"},0,"PR:","Ecus:","Niv: ",null,null,null,null,0,{"$f":"VLOOKUP(BG156,LstVillage!$B$8:$C$283,1)","v":{"$error":"#N/A"}},{"$error":"#N/A"},{"$error":"#N/A"},0,{"$f":"VLOOKUP(BK156,Datas!$G$6:$G$17,1)","v":{"$error":"#N/A"}},{"$error":"#N/A"},{"$error":"#N/A"},null,0,0,0,null,{"$f":"VLOOKUP(BG156,Liste_Noire!$B$15:$G$1208,1)","v":{"$error":"#N/A"}},{"$f":"VLOOKUP(BG156,Liste_Noire!$B$15:$G$1208,5)","v":{"$error":"#N/A"}},{"$error":"#N/A"},null,0,0,0,0,0,0,0]
[null,""," ","","","","",null,null,null,null,null,null,null,null,null,null,null,null,null,null,null,null,null,"",0,0,0,0,0,0,0,0,0,0,null,0,null,null,{"$f":"IF(AO157=\"\",\"\",IF(BV157=1,\"[b][color=red]\"&Datas!$D$32&\"[/color][/b]\"&AO157&\"[b][color=red]\"&Datas!$D$33&\"{\"&BU157&\"}[/color][/b]\",AO157))","v":""},""," ",{"$f":"IF(ISBLANK(Datas!$C$47),\"\",\" - \"&AX157)","v":{"$error":"#N/A"}},{"$f":"IF(ISBLANK(Datas!$C$48),\"\",\" - \"&AY157)","v":" - 0"},{"$f":"IF(ISBLANK(Datas!$C$49),\"\",\" - \"&AZ157)","v":""},{"$f":"IF(ISBLANK(Datas!$C$50),\"\",\" - \"&BA157)","v":" - Ecus:"},{"$f":"IF(ISBLANK(Datas!$C$51),\"\",\" - \"&BB157)","v":" - Niv: "},null,{"$error":"#N/A"},{"$error":"#N/A"},0,"PR:","Ecus:","Niv: ",null,null,null,null,0,{"$f":"VLOOKUP(BG157,LstVillage!$B$8:$C$283,1)","v":{"$error":"#N/A"}},{"$error":"#N/A"},{"$error":"#N/A"},0,{"$f":"VLOOKUP(BK157,Datas!$G$6:$G$17,1)","v":{"$error":"#N/A"}},{"$error":"#N/A"},{"$error":"#N/A"},null,0,0,0,null,{"$f":"VLOOKUP(BG157,Liste_Noire!$B$15:$G$1208,1)","v":{"$error":"#N/A"}},{"$f":"VLOOKUP(BG157,Liste_Noire!$B$15:$G$1208,5)","v":{"$error":"#N/A"}},{"$error":"#N/A"},null,0,0,0,0,0,0,0]
[null,""," ","","","","",null,null,null,null,null,null,null,null,null,null,null,null,null,null,null,null,null,"",0,0,0,0,0,0,0,0,0,0,null,0,null,null,{"$f":"IF(AO158=\"\",\"\",IF(BV158=1,\"[b][color=red]\"&Datas!$D$32&\"[/color][/b]\"&AO158&\"[b][color=red]\"&Datas!$D$33&\"{\"&BU158&\"}[/color][/b]\",AO158))","v":""},""," ",{"$f":"IF(ISBLANK(Datas!$C$47),\"\",\" - \"&AX158)","v":{"$error":"#N/A"}},{"$f":"IF(ISBLANK(Datas!$C$48),\"\",\" - \"&AY158)","v":" - 0"},{"$f":"IF(ISBLANK(Datas!$C$49),\"\",\" - \"&AZ158)","v":""},{"$f":"IF(ISBLANK(Datas!$C$50),\"\",\" - \"&BA158)","v":" - Ecus:"},{"$f":"IF(ISBLANK(Datas!$C$51),\"\",\" - \"&BB158)","v":" - Niv: "},null,{"$error":"#N/A"},{"$error":"#N/A"},0,"PR:","Ecus:","Niv: ",null,null,null,null,0,{"$f":"VLOOKUP(BG158,LstVillage!$B$8:$C$283,1)","v":{"$error":"#N/A"}},{"$error":"#N/A"},{"$error":"#N/A"},0,{"$f":"VLOOKUP(BK158,Datas!$G$6:$G$17,1)","v":{"$error":"#N/A"}},{"$error":"#N/A"},{"$error":"#N/A"},null,0,0,0,null,{"$f":"VLOOKUP(BG158,Liste_Noire!$B$15:$G$1208,1)","v":{"$error":"#N/A"}},{"$f":"VLOOKUP(BG158,Liste_Noire!$B$15:$G$1208,5)","v":{"$error":"#N/A"}},{"$error":"#N/A"},null,0,0,0,0,0,0,0]
[null,""," ","","","","",null,null,null,null,null,null,null,null,null,null,null,null,null,null,null,null,null,"",0,0,0,0,0,0,0,0,0,0,null,0,null,null,{"$f":"IF(AO159=\"\",\"\",IF(BV159=1,\"[b][color=red]\"&Datas!$D$32&\"[/color][/b]\"&AO159&\"[b][color=red]\"&Datas!$D$33&\"{\"&BU159&\"}[/color][/b]\",AO159))","v":""},""," ",{"$f":"IF(ISBLANK(Datas!$C$47),\"\",\" - \"&AX159)","v":{"$error":"#N/A"}},{"$f":"IF(ISBLANK(Datas!$C$48),\"\",\" - \"&AY159)","v":" - 0"},{"$f":"IF(ISBLANK(Datas!$C$49),\"\",\" - \"&AZ159)","v":""},{"$f":"IF(ISBLANK(Datas!$C$50),\"\",\" - \"&BA159)","v":" - Ecus:"},{"$f":"IF(ISBLANK(Datas!$C$51),\"\",\" - \"&BB159)","v":" - Niv: "},null,{"$error":"#N/A"},{"$error":"#N/A"},0,"PR:","Ecus:","Niv: ",null,null,null,null,0,{"$f":"VLOOKUP(BG159,LstVillage!$B$8:$C$283,1)","v":{"$error":"#N/A"}},{"$error":"#N/A"},{"$error":"#N/A"},0,{"$f":"VLOOKUP(BK159,Datas!$G$6:$G$17,1)","v":{"$error":"#N/A"}},{"$error":"#N/A"},{"$error":"#N/A"},null,0,0,0,null,{"$f":"VLOOKUP(BG159,Liste_Noire!$B$15:$G$1208,1)","v":{"$error":"#N/A"}},{"$f":"VLOOKUP(BG159,Liste_Noire!$B$15:$G$1208,5)","v":{"$error":"#N/A"}},{"$error":"#N/A"},null,0,0,0,0,0,0,0]
[null,""," ","","","","",null,null,null,null,null,null,null,null,null,null,null,null,null,null,null,null,null,"",0,0,0,0,0,0,0,0,0,0,null,0,null,null,{"$f":"IF(AO160=\"\",\"\",IF(BV160=1,\"[b][color=red]\"&Datas!$D$32&\"[/color][/b]\"&AO160&\"[b][color=red]\"&Datas!$D$33&\"{\"&BU160&\"}[/color][/b]\",AO160))","v":""},""," ",{"$f":"IF(ISBLANK(Datas!$C$47),\"\",\" - \"&AX160)","v":{"$error":"#N/A"}},{"$f":"IF(ISBLANK(Datas!$C$48),\"\",\" - \"&AY160)","v":" - 0"},{"$f":"IF(ISBLANK(Datas!$C$49),\"\",\" - \"&AZ160)","v":""},{"$f":"IF(ISBLANK(Datas!$C$50),\"\",\" - \"&BA160)","v":" - Ecus:"},{"$f":"IF(ISBLANK(Datas!$C$51),\"\",\" - \"&BB160)","v":" - Niv: "},null,{"$error":"#N/A"},{"$error":"#N/A"},0,"PR:","Ecus:","Niv: ",null,null,null,null,0,{"$f":"VLOOKUP(BG160,LstVillage!$B$8:$C$283,1)","v":{"$error":"#N/A"}},{"$error":"#N/A"},{"$error":"#N/A"},0,{"$f":"VLOOKUP(BK160,Datas!$G$6:$G$17,1)","v":{"$error":"#N/A"}},{"$error":"#N/A"},{"$error":"#N/A"},null,0,0,0,null,{"$f":"VLOOKUP(BG160,Liste_Noire!$B$15:$G$1208,1)","v":{"$error":"#N/A"}},{"$f":"VLOOKUP(BG160,Liste_Noire!$B$15:$G$1208,5)","v":{"$error":"#N/A"}},{"$error":"#N/A"},null,0,0,0,0,0,0,0]
[null,""," ","","","","",null,null,null,null,null,null,null,null,null,null,null,null,null,null,null,null,null,"",0,0,0,0,0,0,0,0,0,0,null,0,null,null,{"$f":"IF(AO161=\"\",\"\",IF(BV161=1,\"[b][color=red]\"&Datas!$D$32&\"[/color][/b]\"&AO161&\"[b][color=red]\"&Datas!$D$33&\"{\"&BU161&\"}[/color][/b]\",AO161))","v":""},""," ",{"$f":"IF(ISBLANK(Datas!$C$47),\"\",\" - \"&AX161)","v":{"$error":"#N/A"}},{"$f":"IF(ISBLANK(Datas!$C$48),\"\",\" - \"&AY161)","v":" - 0"},{"$f":"IF(ISBLANK(Datas!$C$49),\"\",\" - \"&AZ161)","v":""},{"$f":"IF(ISBLANK(Datas!$C$50),\"\",\" - \"&BA161)","v":" - Ecus:"},{"$f":"IF(ISBLANK(Datas!$C$51),\"\",\" - \"&BB161)","v":" - Niv: "},null,{"$error":"#N/A"},{"$error":"#N/A"},0,"PR:","Ecus:","Niv: ",null,null,null,null,0,{"$f":"VLOOKUP(BG161,LstVillage!$B$8:$C$283,1)","v":{"$error":"#N/A"}},{"$error":"#N/A"},{"$error":"#N/A"},0,{"$f":"VLOOKUP(BK161,Datas!$G$6:$G$17,1)","v":{"$error":"#N/A"}},{"$error":"#N/A"},{"$error":"#N/A"},null,0,0,0,null,{"$f":"VLOOKUP(BG161,Liste_Noire!$B$15:$G$1208,1)","v":{"$error":"#N/A"}},{"$f":"VLOOKUP(BG161,Liste_Noire!$B$15:$G$1208,5)","v":{"$error":"#N/A"}},{"$error":"#N/A"},null,0,0,0,0,0,0,0]
[null,""," ","","","","",null,null,null,null,null,null,null,null,null,null,null,null,null,null,null,null,null,"",0,0,0,0,0,0,0,0,0,0,null,0,null,null,{"$f":"IF(AO162=\"\",\"\",IF(BV162=1,\"[b][color=red]\"&Datas!$D$32&\"[/color][/b]\"&AO162&\"[b][color=red]\"&Datas!$D$33&\"{\"&BU162&\"}[/color][/b]\",AO162))","v":""},""," ",{"$f":"IF(ISBLANK(Datas!$C$47),\"\",\" - \"&AX162)","v":{"$error":"#N/A"}},{"$f":"IF(ISBLANK(Datas!$C$48),\"\",\" - \"&AY162)","v":" - 0"},{"$f":"IF(ISBLANK(Datas!$C$49),\"\",\" - \"&AZ162)","v":""},{"$f":"IF(ISBLANK(Datas!$C$50),\"\",\" - \"&BA162)","v":" - Ecus:"},{"$f":"IF(ISBLANK(Datas!$C$51),\"\",\" - \"&BB162)","v":" - Niv: "},null,{"$error":"#N/A"},{"$error":"#N/A"},0,"PR:","Ecus:","Niv: ",null,null,null,null,0,{"$f":"VLOOKUP(BG162,LstVillage!$B$8:$C$283,1)","v":{"$error":"#N/A"}},{"$error":"#N/A"},{"$error":"#N/A"},0,{"$f":"VLOOKUP(BK162,Datas!$G$6:$G$17,1)","v":{"$error":"#N/A"}},{"$error":"#N/A"},{"$error":"#N/A"},null,0,0,0,null,{"$f":"VLOOKUP(BG162,Liste_Noire!$B$15:$G$1208,1)","v":{"$error":"#N/A"}},{"$f":"VLOOKUP(BG162,Liste_Noire!$B$15:$G$1208,5)","v":{"$error":"#N/A"}},{"$error":"#N/A"},null,0,0,0,0,0,0,0]
[null,""," ","","","","",null,null,null,null,null,null,null,null,null,null,null,null,null,null,null,null,null,"",0,0,0,0,0,0,0,0,0,0,null,0,null,null,{"$f":"IF(AO163=\"\",\"\",IF(BV163=1,\"[b][color=red]\"&Datas!$D$32&\"[/color][/b]\"&AO163&\"[b][color=red]\"&Datas!$D$33&\"{\"&BU163&\"}[/color][/b]\",AO163))","v":""},""," ",{"$f":"IF(ISBLANK(Datas!$C$47),\"\",\" - \"&AX163)","v":{"$error":"#N/A"}},{"$f":"IF(ISBLANK(Datas!$C$48),\"\",\" - \"&AY163)","v":" - 0"},{"$f":"IF(ISBLANK(Datas!$C$49),\"\",\" - \"&AZ163)","v":""},{"$f":"IF(ISBLANK(Datas!$C$50),\"\",\" - \"&BA163)","v":" - Ecus:"},{"$f":"IF(ISBLANK(Datas!$C$51),\"\",\" - \"&BB163)","v":" - Niv: "},null,{"$error":"#N/A"},{"$error":"#N/A"},0,"PR:","Ecus:","Niv: ",null,null,null,null,0,{"$f":"VLOOKUP(BG163,LstVillage!$B$8:$C$283,1)","v":{"$error":"#N/A"}},{"$error":"#N/A"},{"$error":"#N/A"},0,{"$f":"VLOOKUP(BK163,Datas!$G$6:$G$17,1)","v":{"$error":"#N/A"}},{"$error":"#N/A"},{"$error":"#N/A"},null,0,0,0,null,{"$f":"VLOOKUP(BG163,Liste_Noire!$B$15:$G$1208,1)","v":{"$error":"#N/A"}},{"$f":"VLOOKUP(BG163,Liste_Noire!$B$15:$G$1208,5)","v":{"$error":"#N/A"}},{"$error":"#N/A"},null,0,0,0,0,0,0,0]
[null,""," ","","","","",null,null,null,null,null,null,null,null,null,null,null,null,null,null,null,null,null,"",0,0,0,0,0,0,0,0,0,0,null,0,null,null,{"$f":"IF(AO164=\"\",\"\",IF(BV164=1,\"[b][color=red]\"&Datas!$D$32&\"[/color][/b]\"&AO164&\"[b][color=red]\"&Datas!$D$33&\"{\"&BU164&\"}[/color][/b]\",AO164))","v":""},""," ",{"$f":"IF(ISBLANK(Datas!$C$47),\"\",\" - \"&AX164)","v":{"$error":"#N/A"}},{"$f":"IF(ISBLANK(Datas!$C$48),\"\",\" - \"&AY164)","v":" - 0"},{"$f":"IF(ISBLANK(Datas!$C$49),\"\",\" - \"&AZ164)","v":""},{"$f":"IF(ISBLANK(Datas!$C$50),\"\",\" - \"&BA164)","v":" - Ecus:"},{"$f":"IF(ISBLANK(Datas!$C$51),\"\",\" - \"&BB164)","v":" - Niv: "},null,{"$error":"#N/A"},{"$error":"#N/A"},0,"PR:","Ecus:","Niv: ",null,null,null,null,0,{"$f":"VLOOKUP(BG164,LstVillage!$B$8:$C$283,1)","v":{"$error":"#N/A"}},{"$error":"#N/A"},{"$error":"#N/A"},0,{"$f":"VLOOKUP(BK164,Datas!$G$6:$G$17,1)","v":{"$error":"#N/A"}},{"$error":"#N/A"},{"$error":"#N/A"},null,0,0,0,null,{"$f":"VLOOKUP(BG164,Liste_Noire!$B$15:$G$1208,1)","v":{"$error":"#N/A"}},{"$f":"VLOOKUP(BG164,Liste_Noire!$B$15:$G$1208,5)","v":{"$error":"#N/A"}},{"$error":"#N/A"},null,0,0,0,0,0,0,0]
[null,""," ","","","","",null,null,null,null,null,null,null,null,null,null,null,null,null,null,null,null,null,"",0,0,0,0,0,0,0,0,0,0,null,0,null,null,{"$f":"IF(AO165=\"\",\"\",IF(BV165=1,\"[b][color=red]\"&Datas!$D$32&\"[/color][/b]\"&AO165&\"[b][color=red]\"&Datas!$D$33&\"{\"&BU165&\"}[/color][/b]\",AO165))","v":""},""," ",{"$f":"IF(ISBLANK(Datas!$C$47),\"\",\" - \"&AX165)","v":{"$error":"#N/A"}},{"$f":"IF(ISBLANK(Datas!$C$48),\"\",\" - \"&AY165)","v":" - 0"},{"$f":"IF(ISBLANK(Datas!$C$49),\"\",\" - \"&AZ165)","v":""},{"$f":"IF(ISBLANK(Datas!$C$50),\"\",\" - \"&BA165)","v":" - Ecus:"},{"$f":"IF(ISBLANK(Datas!$C$51),\"\",\" - \"&BB165)","v":" - Niv: "},null,{"$error":"#N/A"},{"$error":"#N/A"},0,"PR:","Ecus:","Niv: ",null,null,null,null,0,{"$f":"VLOOKUP(BG165,LstVillage!$B$8:$C$283,1)","v":{"$error":"#N/A"}},{"$error":"#N/A"},{"$error":"#N/A"},0,{"$f":"VLOOKUP(BK165,Datas!$G$6:$G$17,1)","v":{"$error":"#N/A"}},{"$error":"#N/A"},{"$error":"#N/A"},null,0,0,0,null,{"$f":"VLOOKUP(BG165,Liste_Noire!$B$15:$G$1208,1)","v":{"$error":"#N/A"}},{"$f":"VLOOKUP(BG165,Liste_Noire!$B$15:$G$1208,5)","v":{"$error":"#N/A"}},{"$error":"#N/A"},null,0,0,0,0,0,0,0]
[null,""," ","","","","",null,null,null,null,null,null,null,null,null,null,null,null,null,null,null,null,null,"",0,0,0,0,0,0,0,0,0,0,null,0,null,null,{"$f":"IF(AO166=\"\",\"\",IF(BV166=1,\"[b][color=red]\"&Datas!$D$32&\"[/color][/b]\"&AO166&\"[b][color=red]\"&Datas!$D$33&\"{\"&BU166&\"}[/color][/b]\",AO166))","v":""},""," ",{"$f":"IF(ISBLANK(Datas!$C$47),\"\",\" - \"&AX166)","v":{"$error":"#N/A"}},{"$f":"IF(ISBLANK(Datas!$C$48),\"\",\" - \"&AY166)","v":" - 0"},{"$f":"IF(ISBLANK(Datas!$C$49),\"\",\" - \"&AZ166)","v":""},{"$f":"IF(ISBLANK(Datas!$C$50),\"\",\" - \"&BA166)","v":" - Ecus:"},{"$f":"IF(ISBLANK(Datas!$C$51),\"\",\" - \"&BB166)","v":" - Niv: "},null,{"$error":"#N/A"},{"$error":"#N/A"},0,"PR:","Ecus:","Niv: ",null,null,null,null,0,{"$f":"VLOOKUP(BG166,LstVillage!$B$8:$C$283,1)","v":{"$error":"#N/A"}},{"$error":"#N/A"},{"$error":"#N/A"},0,{"$f":"VLOOKUP(BK166,Datas!$G$6:$G$17,1)","v":{"$error":"#N/A"}},{"$error":"#N/A"},{"$error":"#N/A"},null,0,0,0,null,{"$f":"VLOOKUP(BG166,Liste_Noire!$B$15:$G$1208,1)","v":{"$error":"#N/A"}},{"$f":"VLOOKUP(BG166,Liste_Noire!$B$15:$G$1208,5)","v":{"$error":"#N/A"}},{"$error":"#N/A"},null,0,0,0,0,0,0,0]
[null,""," ","","","","",null,null,null,null,null,null,null,null,null,null,null,null,null,null,null,null,null,"",0,0,0,0,0,0,0,0,0,0,null,0,null,null,{"$f":"IF(AO167=\"\",\"\",IF(BV167=1,\"[b][color=red]\"&Datas!$D$32&\"[/color][/b]\"&AO167&\"[b][color=red]\"&Datas!$D$33&\"{\"&BU167&\"}[/color][/b]\",AO167))","v":""},""," ",{"$f":"IF(ISBLANK(Datas!$C$47),\"\",\" - \"&AX167)","v":{"$error":"#N/A"}},{"$f":"IF(ISBLANK(Datas!$C$48),\"\",\" - \"&AY167)","v":" - 0"},{"$f":"IF(ISBLANK(Datas!$C$49),\"\",\" - \"&AZ167)","v":""},{"$f":"IF(ISBLANK(Datas!$C$50),\"\",\" - \"&BA167)","v":" - Ecus:"},{"$f":"IF(ISBLANK(Datas!$C$51),\"\",\" - \"&BB167)","v":" - Niv: "},null,{"$error":"#N/A"},{"$error":"#N/A"},0,"PR:","Ecus:","Niv: ",null,null,null,null,0,{"$f":"VLOOKUP(BG167,LstVillage!$B$8:$C$283,1)","v":{"$error":"#N/A"}},{"$error":"#N/A"},{"$error":"#N/A"},0,{"$f":"VLOOKUP(BK167,Datas!$G$6:$G$17,1)","v":{"$error":"#N/A"}},{"$error":"#N/A"},{"$error":"#N/A"},null,0,0,0,null,{"$f":"VLOOKUP(BG167,Liste_Noire!$B$15:$G$1208,1)","v":{"$error":"#N/A"}},{"$f":"VLOOKUP(BG167,Liste_Noire!$B$15:$G$1208,5)","v":{"$error":"#N/A"}},{"$error":"#N/A"},null,0,0,0,0,0,0,0]
[null,""," ","","","","",null,null,null,null,null,null,null,null,null,null,null,null,null,null,null,null,null,"",0,0,0,0,0,0,0,0,0,0,null,0,null,null,{"$f":"IF(AO168=\"\",\"\",IF(BV168=1,\"[b][color=red]\"&Datas!$D$32&\"[/color][/b]\"&AO168&\"[b][color=red]\"&Datas!$D$33&\"{\"&BU168&\"}[/color][/b]\",AO168))","v":""},""," ",{"$f":"IF(ISBLANK(Datas!$C$47),\"\",\" - \"&AX168)","v":{"$error":"#N/A"}},{"$f":"IF(ISBLANK(Datas!$C$48),\"\",\" - \"&AY168)","v":" - 0"},{"$f":"IF(ISBLANK(Datas!$C$49),\"\",\" - \"&AZ168)","v":""},{"$f":"IF(ISBLANK(Datas!$C$50),\"\",\" - \"&BA168)","v":" - Ecus:"},{"$f":"IF(ISBLANK(Datas!$C$51),\"\",\" - \"&BB168)","v":" - Niv: "},null,{"$error":"#N/A"},{"$error":"#N/A"},0,"PR:","Ecus:","Niv: ",null,null,null,null,0,{"$f":"VLOOKUP(BG168,LstVillage!$B$8:$C$283,1)","v":{"$error":"#N/A"}},{"$error":"#N/A"},{"$error":"#N/A"},0,{"$f":"VLOOKUP(BK168,Datas!$G$6:$G$17,1)","v":{"$error":"#N/A"}},{"$error":"#N/A"},{"$error":"#N/A"},null,0,0,0,null,{"$f":"VLOOKUP(BG168,Liste_Noire!$B$15:$G$1208,1)","v":{"$error":"#N/A"}},{"$f":"VLOOKUP(BG168,Liste_Noire!$B$15:$G$1208,5)","v":{"$error":"#N/A"}},{"$error":"#N/A"},null,0,0,0,0,0,0,0]
[null,""," ","","","","",null,null,null,null,null,null,null,null,null,null,null,null,null,null,null,null,null,"",0,0,0,0,0,0,0,0,0,0,null,0,null,null,{"$f":"IF(AO169=\"\",\"\",IF(BV169=1,\"[b][color=red]\"&Datas!$D$32&\"[/color][/b]\"&AO169&\"[b][color=red]\"&Datas!$D$33&\"{\"&BU169&\"}[/color][/b]\",AO169))","v":""},""," ",{"$f":"IF(ISBLANK(Datas!$C$47),\"\",\" - \"&AX169)","v":{"$error":"#N/A"}},{"$f":"IF(ISBLANK(Datas!$C$48),\"\",\" - \"&AY169)","v":" - 0"},{"$f":"IF(ISBLANK(Datas!$C$49),\"\",\" - \"&AZ169)","v":""},{"$f":"IF(ISBLANK(Datas!$C$50),\"\",\" - \"&BA169)","v":" - Ecus:"},{"$f":"IF(ISBLANK(Datas!$C$51),\"\",\" - \"&BB169)","v":" - Niv: "},null,{"$error":"#N/A"},{"$error":"#N/A"},0,"PR:","Ecus:","Niv: ",null,null,null,null,0,{"$f":"VLOOKUP(BG169,LstVillage!$B$8:$C$283,1)","v":{"$error":"#N/A"}},{"$error":"#N/A"},{"$error":"#N/A"},0,{"$f":"VLOOKUP(BK169,Datas!$G$6:$G$17,1)","v":{"$error":"#N/A"}},{"$error":"#N/A"},{"$error":"#N/A"},null,0,0,0,null,{"$f":"VLOOKUP(BG169,Liste_Noire!$B$15:$G$1208,1)","v":{"$error":"#N/A"}},{"$f":"VLOOKUP(BG169,Liste_Noire!$B$15:$G$1208,5)","v":{"$error":"#N/A"}},{"$error":"#N/A"},null,0,0,0,0,0,0,0]
[null,""," ","","","","",null,null,null,null,null,null,null,null,null,null,null,null,null,null,null,null,null,"",0,0,0,0,0,0,0,0,0,0,null,0,null,null,{"$f":"IF(AO170=\"\",\"\",IF(BV170=1,\"[b][color=red]\"&Datas!$D$32&\"[/color][/b]\"&AO170&\"[b][color=red]\"&Datas!$D$33&\"{\"&BU170&\"}[/color][/b]\",AO170))","v":""},""," ",{"$f":"IF(ISBLANK(Datas!$C$47),\"\",\" - \"&AX170)","v":{"$error":"#N/A"}},{"$f":"IF(ISBLANK(Datas!$C$48),\"\",\" - \"&AY170)","v":" - 0"},{"$f":"IF(ISBLANK(Datas!$C$49),\"\",\" - \"&AZ170)","v":""},{"$f":"IF(ISBLANK(Datas!$C$50),\"\",\" - \"&BA170)","v":" - Ecus:"},{"$f":"IF(ISBLANK(Datas!$C$51),\"\",\" - \"&BB170)","v":" - Niv: "},null,{"$error":"#N/A"},{"$error":"#N/A"},0,"PR:","Ecus:","Niv: ",null,null,null,null,0,{"$f":"VLOOKUP(BG170,LstVillage!$B$8:$C$283,1)","v":{"$error":"#N/A"}},{"$error":"#N/A"},{"$error":"#N/A"},0,{"$f":"VLOOKUP(BK170,Datas!$G$6:$G$17,1)","v":{"$error":"#N/A"}},{"$error":"#N/A"},{"$error":"#N/A"},null,0,0,0,null,{"$f":"VLOOKUP(BG170,Liste_Noire!$B$15:$G$1208,1)","v":{"$error":"#N/A"}},{"$f":"VLOOKUP(BG170,Liste_Noire!$B$15:$G$1208,5)","v":{"$error":"#N/A"}},{"$error":"#N/A"},null,0,0,0,0,0,0,0]
[null,""," ","","","","",null,null,null,null,null,null,null,null,null,null,null,null,null,null,null,null,null,"",0,0,0,0,0,0,0,0,0,0,null,0,null,null,{"$f":"IF(AO171=\"\",\"\",IF(BV171=1,\"[b][color=red]\"&Datas!$D$32&\"[/color][/b]\"&AO171&\"[b][color=red]\"&Datas!$D$33&\"{\"&BU171&\"}[/color][/b]\",AO171))","v":""},""," ",{"$f":"IF(ISBLANK(Datas!$C$47),\"\",\" - \"&AX171)","v":{"$error":"#N/A"}},{"$f":"IF(ISBLANK(Datas!$C$48),\"\",\" - \"&AY171)","v":" - 0"},{"$f":"IF(ISBLANK(Datas!$C$49),\"\",\" - \"&AZ171)","v":""},{"$f":"IF(ISBLANK(Datas!$C$50),\"\",\" - \"&BA171)","v":" - Ecus:"},{"$f":"IF(ISBLANK(Datas!$C$51),\"\",\" - \"&BB171)","v":" - Niv: "},null,{"$error":"#N/A"},{"$error":"#N/A"},0,"PR:","Ecus:","Niv: ",null,null,null,null,0,{"$f":"VLOOKUP(BG171,LstVillage!$B$8:$C$283,1)","v":{"$error":"#N/A"}},{"$error":"#N/A"},{"$error":"#N/A"},0,{"$f":"VLOOKUP(BK171,Datas!$G$6:$G$17,1)","v":{"$error":"#N/A"}},{"$error":"#N/A"},{"$error":"#N/A"},null,0,0,0,null,{"$f":"VLOOKUP(BG171,Liste_Noire!$B$15:$G$1208,1)","v":{"$error":"#N/A"}},{"$f":"VLOOKUP(BG171,Liste_Noire!$B$15:$G$1208,5)","v":{"$error":"#N/A"}},{"$error":"#N/A"},null,0,0,0,0,0,0,0]
[null,""," ","","","","",null,null,null,null,null,null,null,null,null,null,null,null,null,null,null,null,null,"",0,0,0,0,0,0,0,0,0,0,null,0,null,null,{"$f":"IF(AO172=\"\",\"\",IF(BV172=1,\"[b][color=red]\"&Datas!$D$32&\"[/color][/b]\"&AO172&\"[b][color=red]\"&Datas!$D$33&\"{\"&BU172&\"}[/color][/b]\",AO172))","v":""},""," ",{"$f":"IF(ISBLANK(Datas!$C$47),\"\",\" - \"&AX172)","v":{"$error":"#N/A"}},{"$f":"IF(ISBLANK(Datas!$C$48),\"\",\" - \"&AY172)","v":" - 0"},{"$f":"IF(ISBLANK(Datas!$C$49),\"\",\" - \"&AZ172)","v":""},{"$f":"IF(ISBLANK(Datas!$C$50),\"\",\" - \"&BA172)","v":" - Ecus:"},{"$f":"IF(ISBLANK(Datas!$C$51),\"\",\" - \"&BB172)","v":" - Niv: "},null,{"$error":"#N/A"},{"$error":"#N/A"},0,"PR:","Ecus:","Niv: ",null,null,null,null,0,{"$f":"VLOOKUP(BG172,LstVillage!$B$8:$C$283,1)","v":{"$error":"#N/A"}},{"$error":"#N/A"},{"$error":"#N/A"},0,{"$f":"VLOOKUP(BK172,Datas!$G$6:$G$17,1)","v":{"$error":"#N/A"}},{"$error":"#N/A"},{"$error":"#N/A"},null,0,0,0,null,{"$f":"VLOOKUP(BG172,Liste_Noire!$B$15:$G$1208,1)","v":{"$error":"#N/A"}},{"$f":"VLOOKUP(BG172,Liste_Noire!$B$15:$G$1208,5)","v":{"$error":"#N/A"}},{"$error":"#N/A"},null,0,0,0,0,0,0,0]
[null,""," ","","","","",null,null,null,null,null,null,null,null,null,null,null,null,null,null,null,null,null,"",0,0,0,0,0,0,0,0,0,0,null,0,null,null,{"$f":"IF(AO173=\"\",\"\",IF(BV173=1,\"[b][color=red]\"&Datas!$D$32&\"[/color][/b]\"&AO173&\"[b][color=red]\"&Datas!$D$33&\"{\"&BU173&\"}[/color][/b]\",AO173))","v":""},""," ",{"$f":"IF(ISBLANK(Datas!$C$47),\"\",\" - \"&AX173)","v":{"$error":"#N/A"}},{"$f":"IF(ISBLANK(Datas!$C$48),\"\",\" - \"&AY173)","v":" - 0"},{"$f":"IF(ISBLANK(Datas!$C$49),\"\",\" - \"&AZ173)","v":""},{"$f":"IF(ISBLANK(Datas!$C$50),\"\",\" - \"&BA173)","v":" - Ecus:"},{"$f":"IF(ISBLANK(Datas!$C$51),\"\",\" - \"&BB173)","v":" - Niv: "},null,{"$error":"#N/A"},{"$error":"#N/A"},0,"PR:","Ecus:","Niv: ",null,null,null,null,0,{"$f":"VLOOKUP(BG173,LstVillage!$B$8:$C$283,1)","v":{"$error":"#N/A"}},{"$error":"#N/A"},{"$error":"#N/A"},0,{"$f":"VLOOKUP(BK173,Datas!$G$6:$G$17,1)","v":{"$error":"#N/A"}},{"$error":"#N/A"},{"$error":"#N/A"},null,0,0,0,null,{"$f":"VLOOKUP(BG173,Liste_Noire!$B$15:$G$1208,1)","v":{"$error":"#N/A"}},{"$f":"VLOOKUP(BG173,Liste_Noire!$B$15:$G$1208,5)","v":{"$error":"#N/A"}},{"$error":"#N/A"},null,0,0,0,0,0,0,0]
[null,""," ","","","","",null,null,null,null,null,null,null,null,null,null,null,null,null,null,null,null,null,"",0,0,0,0,0,0,0,0,0,0,null,0,null,null,{"$f":"IF(AO174=\"\",\"\",IF(BV174=1,\"[b][color=red]\"&Datas!$D$32&\"[/color][/b]\"&AO174&\"[b][color=red]\"&Datas!$D$33&\"{\"&BU174&\"}[/color][/b]\",AO174))","v":""},""," ",{"$f":"IF(ISBLANK(Datas!$C$47),\"\",\" - \"&AX174)","v":{"$error":"#N/A"}},{"$f":"IF(ISBLANK(Datas!$C$48),\"\",\" - \"&AY174)","v":" - 0"},{"$f":"IF(ISBLANK(Datas!$C$49),\"\",\" - \"&AZ174)","v":""},{"$f":"IF(ISBLANK(Datas!$C$50),\"\",\" - \"&BA174)","v":" - Ecus:"},{"$f":"IF(ISBLANK(Datas!$C$51),\"\",\" - \"&BB174)","v":" - Niv: "},null,{"$error":"#N/A"},{"$error":"#N/A"},0,"PR:","Ecus:","Niv: ",null,null,null,null,0,{"$f":"VLOOKUP(BG174,LstVillage!$B$8:$C$283,1)","v":{"$error":"#N/A"}},{"$error":"#N/A"},{"$error":"#N/A"},0,{"$f":"VLOOKUP(BK174,Datas!$G$6:$G$17,1)","v":{"$error":"#N/A"}},{"$error":"#N/A"},{"$error":"#N/A"},null,0,0,0,null,{"$f":"VLOOKUP(BG174,Liste_Noire!$B$15:$G$1208,1)","v":{"$error":"#N/A"}},{"$f":"VLOOKUP(BG174,Liste_Noire!$B$15:$G$1208,5)","v":{"$error":"#N/A"}},{"$error":"#N/A"},null,0,0,0,0,0,0,0]
[null,""," ","","","","",null,null,null,null,null,null,null,null,null,null,null,null,null,null,null,null,null,"",0,0,0,0,0,0,0,0,0,0,null,0,null,null,{"$f":"IF(AO175=\"\",\"\",IF(BV175=1,\"[b][color=red]\"&Datas!$D$32&\"[/color][/b]\"&AO175&\"[b][color=red]\"&Datas!$D$33&\"{\"&BU175&\"}[/color][/b]\",AO175))","v":""},""," ",{"$f":"IF(ISBLANK(Datas!$C$47),\"\",\" - \"&AX175)","v":{"$error":"#N/A"}},{"$f":"IF(ISBLANK(Datas!$C$48),\"\",\" - \"&AY175)","v":" - 0"},{"$f":"IF(ISBLANK(Datas!$C$49),\"\",\" - \"&AZ175)","v":""},{"$f":"IF(ISBLANK(Datas!$C$50),\"\",\" - \"&BA175)","v":" - Ecus:"},{"$f":"IF(ISBLANK(Datas!$C$51),\"\",\" - \"&BB175)","v":" - Niv: "},null,{"$error":"#N/A"},{"$error":"#N/A"},0,"PR:","Ecus:","Niv: ",null,null,null,null,0,{"$f":"VLOOKUP(BG175,LstVillage!$B$8:$C$283,1)","v":{"$error":"#N/A"}},{"$error":"#N/A"},{"$error":"#N/A"},0,{"$f":"VLOOKUP(BK175,Datas!$G$6:$G$17,1)","v":{"$error":"#N/A"}},{"$error":"#N/A"},{"$error":"#N/A"},null,0,0,0,null,{"$f":"VLOOKUP(BG175,Liste_Noire!$B$15:$G$1208,1)","v":{"$error":"#N/A"}},{"$f":"VLOOKUP(BG175,Liste_Noire!$B$15:$G$1208,5)","v":{"$error":"#N/A"}},{"$error":"#N/A"},null,0,0,0,0,0,0,0]
[null,""," ","","","","",null,null,null,null,null,null,null,null,null,null,null,null,null,null,null,null,null,"",0,0,0,0,0,0,0,0,0,0,null,0,null,null,{"$f":"IF(AO176=\"\",\"\",IF(BV176=1,\"[b][color=red]\"&Datas!$D$32&\"[/color][/b]\"&AO176&\"[b][color=red]\"&Datas!$D$33&\"{\"&BU176&\"}[/color][/b]\",AO176))","v":""},""," ",{"$f":"IF(ISBLANK(Datas!$C$47),\"\",\" - \"&AX176)","v":{"$error":"#N/A"}},{"$f":"IF(ISBLANK(Datas!$C$48),\"\",\" - \"&AY176)","v":" - 0"},{"$f":"IF(ISBLANK(Datas!$C$49),\"\",\" - \"&AZ176)","v":""},{"$f":"IF(ISBLANK(Datas!$C$50),\"\",\" - \"&BA176)","v":" - Ecus:"},{"$f":"IF(ISBLANK(Datas!$C$51),\"\",\" - \"&BB176)","v":" - Niv: "},null,{"$error":"#N/A"},{"$error":"#N/A"},0,"PR:","Ecus:","Niv: ",null,null,null,null,0,{"$f":"VLOOKUP(BG176,LstVillage!$B$8:$C$283,1)","v":{"$error":"#N/A"}},{"$error":"#N/A"},{"$error":"#N/A"},0,{"$f":"VLOOKUP(BK176,Datas!$G$6:$G$17,1)","v":{"$error":"#N/A"}},{"$error":"#N/A"},{"$error":"#N/A"},null,0,0,0,null,{"$f":"VLOOKUP(BG176,Liste_Noire!$B$15:$G$1208,1)","v":{"$error":"#N/A"}},{"$f":"VLOOKUP(BG176,Liste_Noire!$B$15:$G$1208,5)","v":{"$error":"#N/A"}},{"$error":"#N/A"},null,0,0,0,0,0,0,0]
[null,""," ","","","","",null,null,null,null,null,null,null,null,null,null,null,null,null,null,null,null,null,"",0,0,0,0,0,0,0,0,0,0,null,0,null,null,{"$f":"IF(AO177=\"\",\"\",IF(BV177=1,\"[b][color=red]\"&Datas!$D$32&\"[/color][/b]\"&AO177&\"[b][color=red]\"&Datas!$D$33&\"{\"&BU177&\"}[/color][/b]\",AO177))","v":""},""," ",{"$f":"IF(ISBLANK(Datas!$C$47),\"\",\" - \"&AX177)","v":{"$error":"#N/A"}},{"$f":"IF(ISBLANK(Datas!$C$48),\"\",\" - \"&AY177)","v":" - 0"},{"$f":"IF(ISBLANK(Datas!$C$49),\"\",\" - \"&AZ177)","v":""},{"$f":"IF(ISBLANK(Datas!$C$50),\"\",\" - \"&BA177)","v":" - Ecus:"},{"$f":"IF(ISBLANK(Datas!$C$51),\"\",\" - \"&BB177)","v":" - Niv: "},null,{"$error":"#N/A"},{"$error":"#N/A"},0,"PR:","Ecus:","Niv: ",null,null,null,null,0,{"$f":"VLOOKUP(BG177,LstVillage!$B$8:$C$283,1)","v":{"$error":"#N/A"}},{"$error":"#N/A"},{"$error":"#N/A"},0,{"$f":"VLOOKUP(BK177,Datas!$G$6:$G$17,1)","v":{"$error":"#N/A"}},{"$error":"#N/A"},{"$error":"#N/A"},null,0,0,0,null,{"$f":"VLOOKUP(BG177,Liste_Noire!$B$15:$G$1208,1)","v":{"$error":"#N/A"}},{"$f":"VLOOKUP(BG177,Liste_Noire!$B$15:$G$1208,5)","v":{"$error":"#N/A"}},{"$error":"#N/A"},null,0,0,0,0,0,0,0]
[null,""," ","","","","",null,null,null,null,null,null,null,null,null,null,null,null,null,null,null,null,null,"",0,0,0,0,0,0,0,0,0,0,null,0,null,null,{"$f":"IF(AO178=\"\",\"\",IF(BV178=1,\"[b][color=red]\"&Datas!$D$32&\"[/color][/b]\"&AO178&\"[b][color=red]\"&Datas!$D$33&\"{\"&BU178&\"}[/color][/b]\",AO178))","v":""},""," ",{"$f":"IF(ISBLANK(Datas!$C$47),\"\",\" - \"&AX178)","v":{"$error":"#N/A"}},{"$f":"IF(ISBLANK(Datas!$C$48),\"\",\" - \"&AY178)","v":" - 0"},{"$f":"IF(ISBLANK(Datas!$C$49),\"\",\" - \"&AZ178)","v":""},{"$f":"IF(ISBLANK(Datas!$C$50),\"\",\" - \"&BA178)","v":" - Ecus:"},{"$f":"IF(ISBLANK(Datas!$C$51),\"\",\" - \"&BB178)","v":" - Niv: "},null,{"$error":"#N/A"},{"$error":"#N/A"},0,"PR:","Ecus:","Niv: ",null,null,null,null,0,{"$f":"VLOOKUP(BG178,LstVillage!$B$8:$C$283,1)","v":{"$error":"#N/A"}},{"$error":"#N/A"},{"$error":"#N/A"},0,{"$f":"VLOOKUP(BK178,Datas!$G$6:$G$17,1)","v":{"$error":"#N/A"}},{"$error":"#N/A"},{"$error":"#N/A"},null,0,0,0,null,{"$f":"VLOOKUP(BG178,Liste_Noire!$B$15:$G$1208,1)","v":{"$error":"#N/A"}},{"$f":"VLOOKUP(BG178,Liste_Noire!$B$15:$G$1208,5)","v":{"$error":"#N/A"}},{"$error":"#N/A"},null,0,0,0,0,0,0,0]
[null,""," ","","","","",null,null,null,null,null,null,null,null,null,null,null,null,null,null,null,null,null,"",0,0,0,0,0,0,0,0,0,0,null,0,null,null,{"$f":"IF(AO179=\"\",\"\",IF(BV179=1,\"[b][color=red]\"&Datas!$D$32&\"[/color][/b]\"&AO179&\"[b][color=red]\"&Datas!$D$33&\"{\"&BU179&\"}[/color][/b]\",AO179))","v":""},""," ",{"$f":"IF(ISBLANK(Datas!$C$47),\"\",\" - \"&AX179)","v":{"$error":"#N/A"}},{"$f":"IF(ISBLANK(Datas!$C$48),\"\",\" - \"&AY179)","v":" - 0"},{"$f":"IF(ISBLANK(Datas!$C$49),\"\",\" - \"&AZ179)","v":""},{"$f":"IF(ISBLANK(Datas!$C$50),\"\",\" - \"&BA179)","v":" - Ecus:"},{"$f":"IF(ISBLANK(Datas!$C$51),\"\",\" - \"&BB179)","v":" - Niv: "},null,{"$error":"#N/A"},{"$error":"#N/A"},0,"PR:","Ecus:","Niv: ",null,null,null,null,0,{"$f":"VLOOKUP(BG179,LstVillage!$B$8:$C$283,1)","v":{"$error":"#N/A"}},{"$error":"#N/A"},{"$error":"#N/A"},0,{"$f":"VLOOKUP(BK179,Datas!$G$6:$G$17,1)","v":{"$error":"#N/A"}},{"$error":"#N/A"},{"$error":"#N/A"},null,0,0,0,null,{"$f":"VLOOKUP(BG179,Liste_Noire!$B$15:$G$1208,1)","v":{"$error":"#N/A"}},{"$f":"VLOOKUP(BG179,Liste_Noire!$B$15:$G$1208,5)","v":{"$error":"#N/A"}},{"$error":"#N/A"},null,0,0,0,0,0,0,0]
[null,""," ","","","","",null,null,null,null,null,null,null,null,null,null,null,null,null,null,null,null,null,"",0,0,0,0,0,0,0,0,0,0,null,0,null,null,{"$f":"IF(AO180=\"\",\"\",IF(BV180=1,\"[b][color=red]\"&Datas!$D$32&\"[/color][/b]\"&AO180&\"[b][color=red]\"&Datas!$D$33&\"{\"&BU180&\"}[/color][/b]\",AO180))","v":""},""," ",{"$f":"IF(ISBLANK(Datas!$C$47),\"\",\" - \"&AX180)","v":{"$error":"#N/A"}},{"$f":"IF(ISBLANK(Datas!$C$48),\"\",\" - \"&AY180)","v":" - 0"},{"$f":"IF(ISBLANK(Datas!$C$49),\"\",\" - \"&AZ180)","v":""},{"$f":"IF(ISBLANK(Datas!$C$50),\"\",\" - \"&BA180)","v":" - Ecus:"},{"$f":"IF(ISBLANK(Datas!$C$51),\"\",\" - \"&BB180)","v":" - Niv: "},null,{"$error":"#N/A"},{"$error":"#N/A"},0,"PR:","Ecus:","Niv: ",null,null,null,null,0,{"$f":"VLOOKUP(BG180,LstVillage!$B$8:$C$283,1)","v":{"$error":"#N/A"}},{"$error":"#N/A"},{"$error":"#N/A"},0,{"$f":"VLOOKUP(BK180,Datas!$G$6:$G$17,1)","v":{"$error":"#N/A"}},{"$error":"#N/A"},{"$error":"#N/A"},null,0,0,0,null,{"$f":"VLOOKUP(BG180,Liste_Noire!$B$15:$G$1208,1)","v":{"$error":"#N/A"}},{"$f":"VLOOKUP(BG180,Liste_Noire!$B$15:$G$1208,5)","v":{"$error":"#N/A"}},{"$error":"#N/A"},null,0,0,0,0,0,0,0]
[null,""," ","","","","",null,null,null,null,null,null,null,null,null,null,null,null,null,null,null,null,null,"",0,0,0,0,0,0,0,0,0,0,null,0,null,null,{"$f":"IF(AO181=\"\",\"\",IF(BV181=1,\"[b][color=red]\"&Datas!$D$32&\"[/color][/b]\"&AO181&\"[b][color=red]\"&Datas!$D$33&\"{\"&BU181&\"}[/color][/b]\",AO181))","v":""},""," ",{"$f":"IF(ISBLANK(Datas!$C$47),\"\",\" - \"&AX181)","v":{"$error":"#N/A"}},{"$f":"IF(ISBLANK(Datas!$C$48),\"\",\" - \"&AY181)","v":" - 0"},{"$f":"IF(ISBLANK(Datas!$C$49),\"\",\" - \"&AZ181)","v":""},{"$f":"IF(ISBLANK(Datas!$C$50),\"\",\" - \"&BA181)","v":" - Ecus:"},{"$f":"IF(ISBLANK(Datas!$C$51),\"\",\" - \"&BB181)","v":" - Niv: "},null,{"$error":"#N/A"},{"$error":"#N/A"},0,"PR:","Ecus:","Niv: ",null,null,null,null,0,{"$f":"VLOOKUP(BG181,LstVillage!$B$8:$C$283,1)","v":{"$error":"#N/A"}},{"$error":"#N/A"},{"$error":"#N/A"},0,{"$f":"VLOOKUP(BK181,Datas!$G$6:$G$17,1)","v":{"$error":"#N/A"}},{"$error":"#N/A"},{"$error":"#N/A"},null,0,0,0,null,{"$f":"VLOOKUP(BG181,Liste_Noire!$B$15:$G$1208,1)","v":{"$error":"#N/A"}},{"$f":"VLOOKUP(BG181,Liste_Noire!$B$15:$G$1208,5)","v":{"$error":"#N/A"}},{"$error":"#N/A"},null,0,0,0,0,0,0,0]
[null,""," ","","","","",null,null,null,null,null,null,null,null,null,null,null,null,null,null,null,null,null,"",0,0,0,0,0,0,0,0,0,0,null,0,null,null,{"$f":"IF(AO182=\"\",\"\",IF(BV182=1,\"[b][color=red]\"&Datas!$D$32&\"[/color][/b]\"&AO182&\"[b][color=red]\"&Datas!$D$33&\"{\"&BU182&\"}[/color][/b]\",AO182))","v":""},""," ",{"$f":"IF(ISBLANK(Datas!$C$47),\"\",\" - \"&AX182)","v":{"$error":"#N/A"}},{"$f":"IF(ISBLANK(Datas!$C$48),\"\",\" - \"&AY182)","v":" - 0"},{"$f":"IF(ISBLANK(Datas!$C$49),\"\",\" - \"&AZ182)","v":""},{"$f":"IF(ISBLANK(Datas!$C$50),\"\",\" - \"&BA182)","v":" - Ecus:"},{"$f":"IF(ISBLANK(Datas!$C$51),\"\",\" - \"&BB182)","v":" - Niv: "},null,{"$error":"#N/A"},{"$error":"#N/A"},0,"PR:","Ecus:","Niv: ",null,null,null,null,0,{"$f":"VLOOKUP(BG182,LstVillage!$B$8:$C$283,1)","v":{"$error":"#N/A"}},{"$error":"#N/A"},{"$error":"#N/A"},0,{"$f":"VLOOKUP(BK182,Datas!$G$6:$G$17,1)","v":{"$error":"#N/A"}},{"$error":"#N/A"},{"$error":"#N/A"},null,0,0,0,null,{"$f":"VLOOKUP(BG182,Liste_Noire!$B$15:$G$1208,1)","v":{"$error":"#N/A"}},{"$f":"VLOOKUP(BG182,Liste_Noire!$B$15:$G$1208,5)","v":{"$error":"#N/A"}},{"$error":"#N/A"},null,0,0,0,0,0,0,0]
[null,""," ","","","","",null,null,null,null,null,null,null,null,null,null,null,null,null,null,null,null,null,"",0,0,0,0,0,0,0,0,0,0,null,0,null,null,{"$f":"IF(AO183=\"\",\"\",IF(BV183=1,\"[b][color=red]\"&Datas!$D$32&\"[/color][/b]\"&AO183&\"[b][color=red]\"&Datas!$D$33&\"{\"&BU183&\"}[/color][/b]\",AO183))","v":""},""," ",{"$f":"IF(ISBLANK(Datas!$C$47),\"\",\" - \"&AX183)","v":{"$error":"#N/A"}},{"$f":"IF(ISBLANK(Datas!$C$48),\"\",\" - \"&AY183)","v":" - 0"},{"$f":"IF(ISBLANK(Datas!$C$49),\"\",\" - \"&AZ183)","v":""},{"$f":"IF(ISBLANK(Datas!$C$50),\"\",\" - \"&BA183)","v":" - Ecus:"},{"$f":"IF(ISBLANK(Datas!$C$51),\"\",\" - \"&BB183)","v":" - Niv: "},null,{"$error":"#N/A"},{"$error":"#N/A"},0,"PR:","Ecus:","Niv: ",null,null,null,null,0,{"$f":"VLOOKUP(BG183,LstVillage!$B$8:$C$283,1)","v":{"$error":"#N/A"}},{"$error":"#N/A"},{"$error":"#N/A"},0,{"$f":"VLOOKUP(BK183,Datas!$G$6:$G$17,1)","v":{"$error":"#N/A"}},{"$error":"#N/A"},{"$error":"#N/A"},null,0,0,0,null,{"$f":"VLOOKUP(BG183,Liste_Noire!$B$15:$G$1208,1)","v":{"$error":"#N/A"}},{"$f":"VLOOKUP(BG183,Liste_Noire!$B$15:$G$1208,5)","v":{"$error":"#N/A"}},{"$error":"#N/A"},null,0,0,0,0,0,0,0]
[null,""," ","","","","",null,null,null,null,null,null,null,null,null,null,null,null,null,null,null,null,null,"",0,0,0,0,0,0,0,0,0,0,null,0,null,null,{"$f":"IF(AO184=\"\",\"\",IF(BV184=1,\"[b][color=red]\"&Datas!$D$32&\"[/color][/b]\"&AO184&\"[b][color=red]\"&Datas!$D$33&\"{\"&BU184&\"}[/color][/b]\",AO184))","v":""},""," ",{"$f":"IF(ISBLANK(Datas!$C$47),\"\",\" - \"&AX184)","v":{"$error":"#N/A"}},{"$f":"IF(ISBLANK(Datas!$C$48),\"\",\" - \"&AY184)","v":" - 0"},{"$f":"IF(ISBLANK(Datas!$C$49),\"\",\" - \"&AZ184)","v":""},{"$f":"IF(ISBLANK(Datas!$C$50),\"\",\" - \"&BA184)","v":" - Ecus:"},{"$f":"IF(ISBLANK(Datas!$C$51),\"\",\" - \"&BB184)","v":" - Niv: "},null,{"$error":"#N/A"},{"$error":"#N/A"},0,"PR:","Ecus:","Niv: ",null,null,null,null,0,{"$f":"VLOOKUP(BG184,LstVillage!$B$8:$C$283,1)","v":{"$error":"#N/A"}},{"$error":"#N/A"},{"$error":"#N/A"},0,{"$f":"VLOOKUP(BK184,Datas!$G$6:$G$17,1)","v":{"$error":"#N/A"}},{"$error":"#N/A"},{"$error":"#N/A"},null,0,0,0,null,{"$f":"VLOOKUP(BG184,Liste_Noire!$B$15:$G$1208,1)","v":{"$error":"#N/A"}},{"$f":"VLOOKUP(BG184,Liste_Noire!$B$15:$G$1208,5)","v":{"$error":"#N/A"}},{"$error":"#N/A"},null,0,0,0,0,0,0,0]
[null,""," ","","","","",null,null,null,null,null,null,null,null,null,null,null,null,null,null,null,null,null,"",0,0,0,0,0,0,0,0,0,0,null,0,null,null,{"$f":"IF(AO185=\"\",\"\",IF(BV185=1,\"[b][color=red]\"&Datas!$D$32&\"[/color][/b]\"&AO185&\"[b][color=red]\"&Datas!$D$33&\"{\"&BU185&\"}[/color][/b]\",AO185))","v":""},""," ",{"$f":"IF(ISBLANK(Datas!$C$47),\"\",\" - \"&AX185)","v":{"$error":"#N/A"}},{"$f":"IF(ISBLANK(Datas!$C$48),\"\",\" - \"&AY185)","v":" - 0"},{"$f":"IF(ISBLANK(Datas!$C$49),\"\",\" - \"&AZ185)","v":""},{"$f":"IF(ISBLANK(Datas!$C$50),\"\",\" - \"&BA185)","v":" - Ecus:"},{"$f":"IF(ISBLANK(Datas!$C$51),\"\",\" - \"&BB185)","v":" - Niv: "},null,{"$error":"#N/A"},{"$error":"#N/A"},0,"PR:","Ecus:","Niv: ",null,null,null,null,0,{"$f":"VLOOKUP(BG185,LstVillage!$B$8:$C$283,1)","v":{"$error":"#N/A"}},{"$error":"#N/A"},{"$error":"#N/A"},0,{"$f":"VLOOKUP(BK185,Datas!$G$6:$G$17,1)","v":{"$error":"#N/A"}},{"$error":"#N/A"},{"$error":"#N/A"},null,0,0,0,null,{"$f":"VLOOKUP(BG185,Liste_Noire!$B$15:$G$1208,1)","v":{"$error":"#N/A"}},{"$f":"VLOOKUP(BG185,Liste_Noire!$B$15:$G$1208,5)","v":{"$error":"#N/A"}},{"$error":"#N/A"},null,0,0,0,0,0,0,0]
[null,""," ","","","","",null,null,null,null,null,null,null,null,null,null,null,null,null,null,null,null,null,"",0,0,0,0,0,0,0,0,0,0,null,0,null,null,{"$f":"IF(AO186=\"\",\"\",IF(BV186=1,\"[b][color=red]\"&Datas!$D$32&\"[/color][/b]\"&AO186&\"[b][color=red]\"&Datas!$D$33&\"{\"&BU186&\"}[/color][/b]\",AO186))","v":""},""," ",{"$f":"IF(ISBLANK(Datas!$C$47),\"\",\" - \"&AX186)","v":{"$error":"#N/A"}},{"$f":"IF(ISBLANK(Datas!$C$48),\"\",\" - \"&AY186)","v":" - 0"},{"$f":"IF(ISBLANK(Datas!$C$49),\"\",\" - \"&AZ186)","v":""},{"$f":"IF(ISBLANK(Datas!$C$50),\"\",\" - \"&BA186)","v":" - Ecus:"},{"$f":"IF(ISBLANK(Datas!$C$51),\"\",\" - \"&BB186)","v":" - Niv: "},null,{"$error":"#N/A"},{"$error":"#N/A"},0,"PR:","Ecus:","Niv: ",null,null,null,null,0,{"$f":"VLOOKUP(BG186,LstVillage!$B$8:$C$283,1)","v":{"$error":"#N/A"}},{"$error":"#N/A"},{"$error":"#N/A"},0,{"$f":"VLOOKUP(BK186,Datas!$G$6:$G$17,1)","v":{"$error":"#N/A"}},{"$error":"#N/A"},{"$error":"#N/A"},null,0,0,0,null,{"$f":"VLOOKUP(BG186,Liste_Noire!$B$15:$G$1208,1)","v":{"$error":"#N/A"}},{"$f":"VLOOKUP(BG186,Liste_Noire!$B$15:$G$1208,5)","v":{"$error":"#N/A"}},{"$error":"#N/A"},null,0,0,0,0,0,0,0]
[null,""," ","","","","",null,null,null,null,null,null,null,null,null,null,null,null,null,null,null,null,null,"",0,0,0,0,0,0,0,0,0,0,null,0,null,null,{"$f":"IF(AO187=\"\",\"\",IF(BV187=1,\"[b][color=red]\"&Datas!$D$32&\"[/color][/b]\"&AO187&\"[b][color=red]\"&Datas!$D$33&\"{\"&BU187&\"}[/color][/b]\",AO187))","v":""},""," ",{"$f":"IF(ISBLANK(Datas!$C$47),\"\",\" - \"&AX187)","v":{"$error":"#N/A"}},{"$f":"IF(ISBLANK(Datas!$C$48),\"\",\" - \"&AY187)","v":" - 0"},{"$f":"IF(ISBLANK(Datas!$C$49),\"\",\" - \"&AZ187)","v":""},{"$f":"IF(ISBLANK(Datas!$C$50),\"\",\" - \"&BA187)","v":" - Ecus:"},{"$f":"IF(ISBLANK(Datas!$C$51),\"\",\" - \"&BB187)","v":" - Niv: "},null,{"$error":"#N/A"},{"$error":"#N/A"},0,"PR:","Ecus:","Niv: ",null,null,null,null,0,{"$f":"VLOOKUP(BG187,LstVillage!$B$8:$C$283,1)","v":{"$error":"#N/A"}},{"$error":"#N/A"},{"$error":"#N/A"},0,{"$f":"VLOOKUP(BK187,Datas!$G$6:$G$17,1)","v":{"$error":"#N/A"}},{"$error":"#N/A"},{"$error":"#N/A"},null,0,0,0,null,{"$f":"VLOOKUP(BG187,Liste_Noire!$B$15:$G$1208,1)","v":{"$error":"#N/A"}},{"$f":"VLOOKUP(BG187,Liste_Noire!$B$15:$G$1208,5)","v":{"$error":"#N/A"}},{"$error":"#N/A"},null,0,0,0,0,0,0,0]
[null,""," ","","","","",null,null,null,null,null,null,null,null,null,null,null,null,null,null,null,null,null,"",0,0,0,0,0,0,0,0,0,0,null,0,null,null,{"$f":"IF(AO188=\"\",\"\",IF(BV188=1,\"[b][color=red]\"&Datas!$D$32&\"[/color][/b]\"&AO188&\"[b][color=red]\"&Datas!$D$33&\"{\"&BU188&\"}[/color][/b]\",AO188))","v":""},""," ",{"$f":"IF(ISBLANK(Datas!$C$47),\"\",\" - \"&AX188)","v":{"$error":"#N/A"}},{"$f":"IF(ISBLANK(Datas!$C$48),\"\",\" - \"&AY188)","v":" - 0"},{"$f":"IF(ISBLANK(Datas!$C$49),\"\",\" - \"&AZ188)","v":""},{"$f":"IF(ISBLANK(Datas!$C$50),\"\",\" - \"&BA188)","v":" - Ecus:"},{"$f":"IF(ISBLANK(Datas!$C$51),\"\",\" - \"&BB188)","v":" - Niv: "},null,{"$error":"#N/A"},{"$error":"#N/A"},0,"PR:","Ecus:","Niv: ",null,null,null,null,0,{"$f":"VLOOKUP(BG188,LstVillage!$B$8:$C$283,1)","v":{"$error":"#N/A"}},{"$error":"#N/A"},{"$error":"#N/A"},0,{"$f":"VLOOKUP(BK188,Datas!$G$6:$G$17,1)","v":{"$error":"#N/A"}},{"$error":"#N/A"},{"$error":"#N/A"},null,0,0,0,null,{"$f":"VLOOKUP(BG188,Liste_Noire!$B$15:$G$1208,1)","v":{"$error":"#N/A"}},{"$f":"VLOOKUP(BG188,Liste_Noire!$B$15:$G$1208,5)","v":{"$error":"#N/A"}},{"$error":"#N/A"},null,0,0,0,0,0,0,0]
[null,""," ","","","","",null,null,null,null,null,null,null,null,null,null,null,null,null,null,null,null,null,"",0,0,0,0,0,0,0,0,0,0,null,0,null,null,{"$f":"IF(AO189=\"\",\"\",IF(BV189=1,\"[b][color=red]\"&Datas!$D$32&\"[/color][/b]\"&AO189&\"[b][color=red]\"&Datas!$D$33&\"{\"&BU189&\"}[/color][/b]\",AO189))","v":""},""," ",{"$f":"IF(ISBLANK(Datas!$C$47),\"\",\" - \"&AX189)","v":{"$error":"#N/A"}},{"$f":"IF(ISBLANK(Datas!$C$48),\"\",\" - \"&AY189)","v":" - 0"},{"$f":"IF(ISBLANK(Datas!$C$49),\"\",\" - \"&AZ189)","v":""},{"$f":"IF(ISBLANK(Datas!$C$50),\"\",\" - \"&BA189)","v":" - Ecus:"},{"$f":"IF(ISBLANK(Datas!$C$51),\"\",\" - \"&BB189)","v":" - Niv: "},null,{"$error":"#N/A"},{"$error":"#N/A"},0,"PR:","Ecus:","Niv: ",null,null,null,null,0,{"$f":"VLOOKUP(BG189,LstVillage!$B$8:$C$283,1)","v":{"$error":"#N/A"}},{"$error":"#N/A"},{"$error":"#N/A"},0,{"$f":"VLOOKUP(BK189,Datas!$G$6:$G$17,1)","v":{"$error":"#N/A"}},{"$error":"#N/A"},{"$error":"#N/A"},null,0,0,0,null,{"$f":"VLOOKUP(BG189,Liste_Noire!$B$15:$G$1208,1)","v":{"$error":"#N/A"}},{"$f":"VLOOKUP(BG189,Liste_Noire!$B$15:$G$1208,5)","v":{"$error":"#N/A"}},{"$error":"#N/A"},null,0,0,0,0,0,0,0]
[null,""," ","","","","",null,null,null,null,null,null,null,null,null,null,null,null,null,null,null,null,null,"",0,0,0,0,0,0,0,0,0,0,null,0,null,null,{"$f":"IF(AO190=\"\",\"\",IF(BV190=1,\"[b][color=red]\"&Datas!$D$32&\"[/color][/b]\"&AO190&\"[b][color=red]\"&Datas!$D$33&\"{\"&BU190&\"}[/color][/b]\",AO190))","v":""},""," ",{"$f":"IF(ISBLANK(Datas!$C$47),\"\",\" - \"&AX190)","v":{"$error":"#N/A"}},{"$f":"IF(ISBLANK(Datas!$C$48),\"\",\" - \"&AY190)","v":" - 0"},{"$f":"IF(ISBLANK(Datas!$C$49),\"\",\" - \"&AZ190)","v":""},{"$f":"IF(ISBLANK(Datas!$C$50),\"\",\" - \"&BA190)","v":" - Ecus:"},{"$f":"IF(ISBLANK(Datas!$C$51),\"\",\" - \"&BB190)","v":" - Niv: "},null,{"$error":"#N/A"},{"$error":"#N/A"},0,"PR:","Ecus:","Niv: ",null,null,null,null,0,{"$f":"VLOOKUP(BG190,LstVillage!$B$8:$C$283,1)","v":{"$error":"#N/A"}},{"$error":"#N/A"},{"$error":"#N/A"},0,{"$f":"VLOOKUP(BK190,Datas!$G$6:$G$17,1)","v":{"$error":"#N/A"}},{"$error":"#N/A"},{"$error":"#N/A"},null,0,0,0,null,{"$f":"VLOOKUP(BG190,Liste_Noire!$B$15:$G$1208,1)","v":{"$error":"#N/A"}},{"$f":"VLOOKUP(BG190,Liste_Noire!$B$15:$G$1208,5)","v":{"$error":"#N/A"}},{"$error":"#N/A"},null,0,0,0,0,0,0,0]
[null,""," ","","","","",null,null,null,null,null,null,null,null,null,null,null,null,null,null,null,null,null,"",0,0,0,0,0,0,0,0,0,0,null,0,null,null,{"$f":"IF(AO191=\"\",\"\",IF(BV191=1,\"[b][color=red]\"&Datas!$D$32&\"[/color][/b]\"&AO191&\"[b][color=red]\"&Datas!$D$33&\"{\"&BU191&\"}[/color][/b]\",AO191))","v":""},""," ",{"$f":"IF(ISBLANK(Datas!$C$47),\"\",\" - \"&AX191)","v":{"$error":"#N/A"}},{"$f":"IF(ISBLANK(Datas!$C$48),\"\",\" - \"&AY191)","v":" - 0"},{"$f":"IF(ISBLANK(Datas!$C$49),\"\",\" - \"&AZ191)","v":""},{"$f":"IF(ISBLANK(Datas!$C$50),\"\",\" - \"&BA191)","v":" - Ecus:"},{"$f":"IF(ISBLANK(Datas!$C$51),\"\",\" - \"&BB191)","v":" - Niv: "},null,{"$error":"#N/A"},{"$error":"#N/A"},0,"PR:","Ecus:","Niv: ",null,null,null,null,0,{"$f":"VLOOKUP(BG191,LstVillage!$B$8:$C$283,1)","v":{"$error":"#N/A"}},{"$error":"#N/A"},{"$error":"#N/A"},0,{"$f":"VLOOKUP(BK191,Datas!$G$6:$G$17,1)","v":{"$error":"#N/A"}},{"$error":"#N/A"},{"$error":"#N/A"},null,0,0,0,null,{"$f":"VLOOKUP(BG191,Liste_Noire!$B$15:$G$1208,1)","v":{"$error":"#N/A"}},{"$f":"VLOOKUP(BG191,Liste_Noire!$B$15:$G$1208,5)","v":{"$error":"#N/A"}},{"$error":"#N/A"},null,0,0,0,0,0,0,0]
[null,""," ","","","","",null,null,null,null,null,null,null,null,null,null,null,null,null,null,null,null,null,"",0,0,0,0,0,0,0,0,0,0,null,0,null,null,{"$f":"IF(AO192=\"\",\"\",IF(BV192=1,\"[b][color=red]\"&Datas!$D$32&\"[/color][/b]\"&AO192&\"[b][color=red]\"&Datas!$D$33&\"{\"&BU192&\"}[/color][/b]\",AO192))","v":""},""," ",{"$f":"IF(ISBLANK(Datas!$C$47),\"\",\" - \"&AX192)","v":{"$error":"#N/A"}},{"$f":"IF(ISBLANK(Datas!$C$48),\"\",\" - \"&AY192)","v":" - 0"},{"$f":"IF(ISBLANK(Datas!$C$49),\"\",\" - \"&AZ192)","v":""},{"$f":"IF(ISBLANK(Datas!$C$50),\"\",\" - \"&BA192)","v":" - Ecus:"},{"$f":"IF(ISBLANK(Datas!$C$51),\"\",\" - \"&BB192)","v":" - Niv: "},null,{"$error":"#N/A"},{"$error":"#N/A"},0,"PR:","Ecus:","Niv: ",null,null,null,null,0,{"$f":"VLOOKUP(BG192,LstVillage!$B$8:$C$283,1)","v":{"$error":"#N/A"}},{"$error":"#N/A"},{"$error":"#N/A"},0,{"$f":"VLOOKUP(BK192,Datas!$G$6:$G$17,1)","v":{"$error":"#N/A"}},{"$error":"#N/A"},{"$error":"#N/A"},null,0,0,0,null,{"$f":"VLOOKUP(BG192,Liste_Noire!$B$15:$G$1208,1)","v":{"$error":"#N/A"}},{"$f":"VLOOKUP(BG192,Liste_Noire!$B$15:$G$1208,5)","v":{"$error":"#N/A"}},{"$error":"#N/A"},null,0,0,0,0,0,0,0]
[null,""," ","","","","",null,null,null,null,null,null,null,null,null,null,null,null,null,null,null,null,null,"",0,0,0,0,0,0,0,0,0,0,null,0,null,null,{"$f":"IF(AO193=\"\",\"\",IF(BV193=1,\"[b][color=red]\"&Datas!$D$32&\"[/color][/b]\"&AO193&\"[b][color=red]\"&Datas!$D$33&\"{\"&BU193&\"}[/color][/b]\",AO193))","v":""},""," ",{"$f":"IF(ISBLANK(Datas!$C$47),\"\",\" - \"&AX193)","v":{"$error":"#N/A"}},{"$f":"IF(ISBLANK(Datas!$C$48),\"\",\" - \"&AY193)","v":" - 0"},{"$f":"IF(ISBLANK(Datas!$C$49),\"\",\" - \"&AZ193)","v":""},{"$f":"IF(ISBLANK(Datas!$C$50),\"\",\" - \"&BA193)","v":" - Ecus:"},{"$f":"IF(ISBLANK(Datas!$C$51),\"\",\" - \"&BB193)","v":" - Niv: "},null,{"$error":"#N/A"},{"$error":"#N/A"},0,"PR:","Ecus:","Niv: ",null,null,null,null,0,{"$f":"VLOOKUP(BG193,LstVillage!$B$8:$C$283,1)","v":{"$error":"#N/A"}},{"$error":"#N/A"},{"$error":"#N/A"},0,{"$f":"VLOOKUP(BK193,Datas!$G$6:$G$17,1)","v":{"$error":"#N/A"}},{"$error":"#N/A"},{"$error":"#N/A"},null,0,0,0,null,{"$f":"VLOOKUP(BG193,Liste_Noire!$B$15:$G$1208,1)","v":{"$error":"#N/A"}},{"$f":"VLOOKUP(BG193,Liste_Noire!$B$15:$G$1208,5)","v":{"$error":"#N/A"}},{"$error":"#N/A"},null,0,0,0,0,0,0,0]
[null,""," ","","","","",null,null,null,null,null,null,null,null,null,null,null,null,null,null,null,null,null,"",0,0,0,0,0,0,0,0,0,0,null,0,null,null,{"$f":"IF(AO194=\"\",\"\",IF(BV194=1,\"[b][color=red]\"&Datas!$D$32&\"[/color][/b]\"&AO194&\"[b][color=red]\"&Datas!$D$33&\"{\"&BU194&\"}[/color][/b]\",AO194))","v":""},""," ",{"$f":"IF(ISBLANK(Datas!$C$47),\"\",\" - \"&AX194)","v":{"$error":"#N/A"}},{"$f":"IF(ISBLANK(Datas!$C$48),\"\",\" - \"&AY194)","v":" - 0"},{"$f":"IF(ISBLANK(Datas!$C$49),\"\",\" - \"&AZ194)","v":""},{"$f":"IF(ISBLANK(Datas!$C$50),\"\",\" - \"&BA194)","v":" - Ecus:"},{"$f":"IF(ISBLANK(Datas!$C$51),\"\",\" - \"&BB194)","v":" - Niv: "},null,{"$error":"#N/A"},{"$error":"#N/A"},0,"PR:","Ecus:","Niv: ",null,null,null,null,0,{"$f":"VLOOKUP(BG194,LstVillage!$B$8:$C$283,1)","v":{"$error":"#N/A"}},{"$error":"#N/A"},{"$error":"#N/A"},0,{"$f":"VLOOKUP(BK194,Datas!$G$6:$G$17,1)","v":{"$error":"#N/A"}},{"$error":"#N/A"},{"$error":"#N/A"},null,0,0,0,null,{"$f":"VLOOKUP(BG194,Liste_Noire!$B$15:$G$1208,1)","v":{"$error":"#N/A"}},{"$f":"VLOOKUP(BG194,Liste_Noire!$B$15:$G$1208,5)","v":{"$error":"#N/A"}},{"$error":"#N/A"},null,0,0,0,0,0,0,0]
[null,""," ","","","","",null,null,null,null,null,null,null,null,null,null,null,null,null,null,null,null,null,"",0,0,0,0,0,0,0,0,0,0,null,0,null,null,{"$f":"IF(AO195=\"\",\"\",IF(BV195=1,\"[b][color=red]\"&Datas!$D$32&\"[/color][/b]\"&AO195&\"[b][color=red]\"&Datas!$D$33&\"{\"&BU195&\"}[/color][/b]\",AO195))","v":""},""," ",{"$f":"IF(ISBLANK(Datas!$C$47),\"\",\" - \"&AX195)","v":{"$error":"#N/A"}},{"$f":"IF(ISBLANK(Datas!$C$48),\"\",\" - \"&AY195)","v":" - 0"},{"$f":"IF(ISBLANK(Datas!$C$49),\"\",\" - \"&AZ195)","v":""},{"$f":"IF(ISBLANK(Datas!$C$50),\"\",\" - \"&BA195)","v":" - Ecus:"},{"$f":"IF(ISBLANK(Datas!$C$51),\"\",\" - \"&BB195)","v":" - Niv: "},null,{"$error":"#N/A"},{"$error":"#N/A"},0,"PR:","Ecus:","Niv: ",null,null,null,null,0,{"$f":"VLOOKUP(BG195,LstVillage!$B$8:$C$283,1)","v":{"$error":"#N/A"}},{"$error":"#N/A"},{"$error":"#N/A"},0,{"$f":"VLOOKUP(BK195,Datas!$G$6:$G$17,1)","v":{"$error":"#N/A"}},{"$error":"#N/A"},{"$error":"#N/A"},null,0,0,0,null,{"$f":"VLOOKUP(BG195,Liste_Noire!$B$15:$G$1208,1)","v":{"$error":"#N/A"}},{"$f":"VLOOKUP(BG195,Liste_Noire!$B$15:$G$1208,5)","v":{"$error":"#N/A"}},{"$error":"#N/A"},null,0,0,0,0,0,0,0]
[null,""," ","","","","",null,null,null,null,null,null,null,null,null,null,null,null,null,null,null,null,null,"",0,0,0,0,0,0,0,0,0,0,null,0,null,null,{"$f":"IF(AO196=\"\",\"\",IF(BV196=1,\"[b][color=red]\"&Datas!$D$32&\"[/color][/b]\"&AO196&\"[b][color=red]\"&Datas!$D$33&\"{\"&BU196&\"}[/color][/b]\",AO196))","v":""},""," ",{"$f":"IF(ISBLANK(Datas!$C$47),\"\",\" - \"&AX196)","v":{"$error":"#N/A"}},{"$f":"IF(ISBLANK(Datas!$C$48),\"\",\" - \"&AY196)","v":" - 0"},{"$f":"IF(ISBLANK(Datas!$C$49),\"\",\" - \"&AZ196)","v":""},{"$f":"IF(ISBLANK(Datas!$C$50),\"\",\" - \"&BA196)","v":" - Ecus:"},{"$f":"IF(ISBLANK(Datas!$C$51),\"\",\" - \"&BB196)","v":" - Niv: "},null,{"$error":"#N/A"},{"$error":"#N/A"},0,"PR:","Ecus:","Niv: ",null,null,null,null,0,{"$f":"VLOOKUP(BG196,LstVillage!$B$8:$C$283,1)","v":{"$error":"#N/A"}},{"$error":"#N/A"},{"$error":"#N/A"},0,{"$f":"VLOOKUP(BK196,Datas!$G$6:$G$17,1)","v":{"$error":"#N/A"}},{"$error":"#N/A"},{"$error":"#N/A"},null,0,0,0,null,{"$f":"VLOOKUP(BG196,Liste_Noire!$B$15:$G$1208,1)","v":{"$error":"#N/A"}},{"$f":"VLOOKUP(BG196,Liste_Noire!$B$15:$G$1208,5)","v":{"$error":"#N/A"}},{"$error":"#N/A"},null,0,0,0,0,0,0,0]
[null,""," ","","","","",null,null,null,null,null,null,null,null,null,null,null,null,null,null,null,null,null,"",0,0,0,0,0,0,0,0,0,0,null,0,null,null,{"$f":"IF(AO197=\"\",\"\",IF(BV197=1,\"[b][color=red]\"&Datas!$D$32&\"[/color][/b]\"&AO197&\"[b][color=red]\"&Datas!$D$33&\"{\"&BU197&\"}[/color][/b]\",AO197))","v":""},""," ",{"$f":"IF(ISBLANK(Datas!$C$47),\"\",\" - \"&AX197)","v":{"$error":"#N/A"}},{"$f":"IF(ISBLANK(Datas!$C$48),\"\",\" - \"&AY197)","v":" - 0"},{"$f":"IF(ISBLANK(Datas!$C$49),\"\",\" - \"&AZ197)","v":""},{"$f":"IF(ISBLANK(Datas!$C$50),\"\",\" - \"&BA197)","v":" - Ecus:"},{"$f":"IF(ISBLANK(Datas!$C$51),\"\",\" - \"&BB197)","v":" - Niv: "},null,{"$error":"#N/A"},{"$error":"#N/A"},0,"PR:","Ecus:","Niv: ",null,null,null,null,0,{"$f":"VLOOKUP(BG197,LstVillage!$B$8:$C$283,1)","v":{"$error":"#N/A"}},{"$error":"#N/A"},{"$error":"#N/A"},0,{"$f":"VLOOKUP(BK197,Datas!$G$6:$G$17,1)","v":{"$error":"#N/A"}},{"$error":"#N/A"},{"$error":"#N/A"},null,0,0,0,null,{"$f":"VLOOKUP(BG197,Liste_Noire!$B$15:$G$1208,1)","v":{"$error":"#N/A"}},{"$f":"VLOOKUP(BG197,Liste_Noire!$B$15:$G$1208,5)","v":{"$error":"#N/A"}},{"$error":"#N/A"},null,0,0,0,0,0,0,0]
[null,""," ","","","","",null,null,null,null,null,null,null,null,null,null,null,null,null,null,null,null,null,"",0,0,0,0,0,0,0,0,0,0,null,0,null,null,{"$f":"IF(AO198=\"\",\"\",IF(BV198=1,\"[b][color=red]\"&Datas!$D$32&\"[/color][/b]\"&AO198&\"[b][color=red]\"&Datas!$D$33&\"{\"&BU198&\"}[/color][/b]\",AO198))","v":""},""," ",{"$f":"IF(ISBLANK(Datas!$C$47),\"\",\" - \"&AX198)","v":{"$error":"#N/A"}},{"$f":"IF(ISBLANK(Datas!$C$48),\"\",\" - \"&AY198)","v":" - 0"},{"$f":"IF(ISBLANK(Datas!$C$49),\"\",\" - \"&AZ198)","v":""},{"$f":"IF(ISBLANK(Datas!$C$50),\"\",\" - \"&BA198)","v":" - Ecus:"},{"$f":"IF(ISBLANK(Datas!$C$51),\"\",\" - \"&BB198)","v":" - Niv: "},null,{"$error":"#N/A"},{"$error":"#N/A"},0,"PR:","Ecus:","Niv: ",null,null,null,null,0,{"$f":"VLOOKUP(BG198,LstVillage!$B$8:$C$283,1)","v":{"$error":"#N/A"}},{"$error":"#N/A"},{"$error":"#N/A"},0,{"$f":"VLOOKUP(BK198,Datas!$G$6:$G$17,1)","v":{"$error":"#N/A"}},{"$error":"#N/A"},{"$error":"#N/A"},null,0,0,0,null,{"$f":"VLOOKUP(BG198,Liste_Noire!$B$15:$G$1208,1)","v":{"$error":"#N/A"}},{"$f":"VLOOKUP(BG198,Liste_Noire!$B$15:$G$1208,5)","v":{"$error":"#N/A"}},{"$error":"#N/A"},null,0,0,0,0,0,0,0]
[null,""," ","","","","",null,null,null,null,null,null,null,null,null,null,null,null,null,null,null,null,null,"",0,0,0,0,0,0,0,0,0,0,null,0,null,null,{"$f":"IF(AO199=\"\",\"\",IF(BV199=1,\"[b][color=red]\"&Datas!$D$32&\"[/color][/b]\"&AO199&\"[b][color=red]\"&Datas!$D$33&\"{\"&BU199&\"}[/color][/b]\",AO199))","v":""},""," ",{"$f":"IF(ISBLANK(Datas!$C$47),\"\",\" - \"&AX199)","v":{"$error":"#N/A"}},{"$f":"IF(ISBLANK(Datas!$C$48),\"\",\" - \"&AY199)","v":" - 0"},{"$f":"IF(ISBLANK(Datas!$C$49),\"\",\" - \"&AZ199)","v":""},{"$f":"IF(ISBLANK(Datas!$C$50),\"\",\" - \"&BA199)","v":" - Ecus:"},{"$f":"IF(ISBLANK(Datas!$C$51),\"\",\" - \"&BB199)","v":" - Niv: "},null,{"$error":"#N/A"},{"$error":"#N/A"},0,"PR:","Ecus:","Niv: ",null,null,null,null,0,{"$f":"VLOOKUP(BG199,LstVillage!$B$8:$C$283,1)","v":{"$error":"#N/A"}},{"$error":"#N/A"},{"$error":"#N/A"},0,{"$f":"VLOOKUP(BK199,Datas!$G$6:$G$17,1)","v":{"$error":"#N/A"}},{"$error":"#N/A"},{"$error":"#N/A"},null,0,0,0,null,{"$f":"VLOOKUP(BG199,Liste_Noire!$B$15:$G$1208,1)","v":{"$error":"#N/A"}},{"$f":"VLOOKUP(BG199,Liste_Noire!$B$15:$G$1208,5)","v":{"$error":"#N/A"}},{"$error":"#N/A"},null,0,0,0,0,0,0,0]
[null,""," ","","","","",null,null,null,null,null,null,null,null,null,null,null,null,null,null,null,null,null,"",0,0,0,0,0,0,0,0,0,0,null,0,null,null,{"$f":"IF(AO200=\"\",\"\",IF(BV200=1,\"[b][color=red]\"&Datas!$D$32&\"[/color][/b]\"&AO200&\"[b][color=red]\"&Datas!$D$33&\"{\"&BU200&\"}[/color][/b]\",AO200))","v":""},""," ",{"$f":"IF(ISBLANK(Datas!$C$47),\"\",\" - \"&AX200)","v":{"$error":"#N/A"}},{"$f":"IF(ISBLANK(Datas!$C$48),\"\",\" - \"&AY200)","v":" - 0"},{"$f":"IF(ISBLANK(Datas!$C$49),\"\",\" - \"&AZ200)","v":""},{"$f":"IF(ISBLANK(Datas!$C$50),\"\",\" - \"&BA200)","v":" - Ecus:"},{"$f":"IF(ISBLANK(Datas!$C$51),\"\",\" - \"&BB200)","v":" - Niv: "},null,{"$error":"#N/A"},{"$error":"#N/A"},0,"PR:","Ecus:","Niv: ",null,null,null,null,0,{"$f":"VLOOKUP(BG200,LstVillage!$B$8:$C$283,1)","v":{"$error":"#N/A"}},{"$error":"#N/A"},{"$error":"#N/A"},0,{"$f":"VLOOKUP(BK200,Datas!$G$6:$G$17,1)","v":{"$error":"#N/A"}},{"$error":"#N/A"},{"$error":"#N/A"},null,0,0,0,null,{"$f":"VLOOKUP(BG200,Liste_Noire!$B$15:$G$1208,1)","v":{"$error":"#N/A"}},{"$f":"VLOOKUP(BG200,Liste_Noire!$B$15:$G$1208,5)","v":{"$error":"#N/A"}},{"$error":"#N/A"},null,0,0,0,0,0,0,0]
[null,""," ","","","","",null,null,null,null,null,null,null,null,null,null,null,null,null,null,null,null,null,"",0,0,0,0,0,0,0,0,0,0,null,0,null,null,{"$f":"IF(AO201=\"\",\"\",IF(BV201=1,\"[b][color=red]\"&Datas!$D$32&\"[/color][/b]\"&AO201&\"[b][color=red]\"&Datas!$D$33&\"{\"&BU201&\"}[/color][/b]\",AO201))","v":""},""," ",{"$f":"IF(ISBLANK(Datas!$C$47),\"\",\" - \"&AX201)","v":{"$error":"#N/A"}},{"$f":"IF(ISBLANK(Datas!$C$48),\"\",\" - \"&AY201)","v":" - 0"},{"$f":"IF(ISBLANK(Datas!$C$49),\"\",\" - \"&AZ201)","v":""},{"$f":"IF(ISBLANK(Datas!$C$50),\"\",\" - \"&BA201)","v":" - Ecus:"},{"$f":"IF(ISBLANK(Datas!$C$51),\"\",\" - \"&BB201)","v":" - Niv: "},null,{"$error":"#N/A"},{"$error":"#N/A"},0,"PR:","Ecus:","Niv: ",null,null,null,null,0,{"$f":"VLOOKUP(BG201,LstVillage!$B$8:$C$283,1)","v":{"$error":"#N/A"}},{"$error":"#N/A"},{"$error":"#N/A"},0,{"$f":"VLOOKUP(BK201,Datas!$G$6:$G$17,1)","v":{"$error":"#N/A"}},{"$error":"#N/A"},{"$error":"#N/A"},null,0,0,0,null,{"$f":"VLOOKUP(BG201,Liste_Noire!$B$15:$G$1208,1)","v":{"$error":"#N/A"}},{"$f":"VLOOKUP(BG201,Liste_Noire!$B$15:$G$1208,5)","v":{"$error":"#N/A"}},{"$error":"#N/A"},null,0,0,0,0,0,0,0]
[null,""," ","","","","",null,null,null,null,null,null,null,null,null,null,null,null,null,null,null,null,null,"",0,0,0,0,0,0,0,0,0,0,null,0,null,null,{"$f":"IF(AO202=\"\",\"\",IF(BV202=1,\"[b][color=red]\"&Datas!$D$32&\"[/color][/b]\"&AO202&\"[b][color=red]\"&Datas!$D$33&\"{\"&BU202&\"}[/color][/b]\",AO202))","v":""},""," ",{"$f":"IF(ISBLANK(Datas!$C$47),\"\",\" - \"&AX202)","v":{"$error":"#N/A"}},{"$f":"IF(ISBLANK(Datas!$C$48),\"\",\" - \"&AY202)","v":" - 0"},{"$f":"IF(ISBLANK(Datas!$C$49),\"\",\" - \"&AZ202)","v":""},{"$f":"IF(ISBLANK(Datas!$C$50),\"\",\" - \"&BA202)","v":" - Ecus:"},{"$f":"IF(ISBLANK(Datas!$C$51),\"\",\" - \"&BB202)","v":" - Niv: "},null,{"$error":"#N/A"},{"$error":"#N/A"},0,"PR:","Ecus:","Niv: ",null,null,null,null,0,{"$f":"VLOOKUP(BG202,LstVillage!$B$8:$C$283,1)","v":{"$error":"#N/A"}},{"$error":"#N/A"},{"$error":"#N/A"},0,{"$f":"VLOOKUP(BK202,Datas!$G$6:$G$17,1)","v":{"$error":"#N/A"}},{"$error":"#N/A"},{"$error":"#N/A"},null,0,0,0,null,{"$f":"VLOOKUP(BG202,Liste_Noire!$B$15:$G$1208,1)","v":{"$error":"#N/A"}},{"$f":"VLOOKUP(BG202,Liste_Noire!$B$15:$G$1208,5)","v":{"$error":"#N/A"}},{"$error":"#N/A"},null,0,0,0,0,0,0,0]
[null,""," ","","","","",null,null,null,null,null,null,null,null,null,null,null,null,null,null,null,null,null,"",0,0,0,0,0,0,0,0,0,0,null,0,null,null,{"$f":"IF(AO203=\"\",\"\",IF(BV203=1,\"[b][color=red]\"&Datas!$D$32&\"[/color][/b]\"&AO203&\"[b][color=red]\"&Datas!$D$33&\"{\"&BU203&\"}[/color][/b]\",AO203))","v":""},""," ",{"$f":"IF(ISBLANK(Datas!$C$47),\"\",\" - \"&AX203)","v":{"$error":"#N/A"}},{"$f":"IF(ISBLANK(Datas!$C$48),\"\",\" - \"&AY203)","v":" - 0"},{"$f":"IF(ISBLANK(Datas!$C$49),\"\",\" - \"&AZ203)","v":""},{"$f":"IF(ISBLANK(Datas!$C$50),\"\",\" - \"&BA203)","v":" - Ecus:"},{"$f":"IF(ISBLANK(Datas!$C$51),\"\",\" - \"&BB203)","v":" - Niv: "},null,{"$error":"#N/A"},{"$error":"#N/A"},0,"PR:","Ecus:","Niv: ",null,null,null,null,0,{"$f":"VLOOKUP(BG203,LstVillage!$B$8:$C$283,1)","v":{"$error":"#N/A"}},{"$error":"#N/A"},{"$error":"#N/A"},0,{"$f":"VLOOKUP(BK203,Datas!$G$6:$G$17,1)","v":{"$error":"#N/A"}},{"$error":"#N/A"},{"$error":"#N/A"},null,0,0,0,null,{"$f":"VLOOKUP(BG203,Liste_Noire!$B$15:$G$1208,1)","v":{"$error":"#N/A"}},{"$f":"VLOOKUP(BG203,Liste_Noire!$B$15:$G$1208,5)","v":{"$error":"#N/A"}},{"$error":"#N/A"},null,0,0,0,0,0,0,0]
[null,""," ","","","","",null,null,null,null,null,null,null,null,null,null,null,null,null,null,null,null,null,"",0,0,0,0,0,0,0,0,0,0,null,0,null,null,{"$f":"IF(AO204=\"\",\"\",IF(BV204=1,\"[b][color=red]\"&Datas!$D$32&\"[/color][/b]\"&AO204&\"[b][color=red]\"&Datas!$D$33&\"{\"&BU204&\"}[/color][/b]\",AO204))","v":""},""," ",{"$f":"IF(ISBLANK(Datas!$C$47),\"\",\" - \"&AX204)","v":{"$error":"#N/A"}},{"$f":"IF(ISBLANK(Datas!$C$48),\"\",\" - \"&AY204)","v":" - 0"},{"$f":"IF(ISBLANK(Datas!$C$49),\"\",\" - \"&AZ204)","v":""},{"$f":"IF(ISBLANK(Datas!$C$50),\"\",\" - \"&BA204)","v":" - Ecus:"},{"$f":"IF(ISBLANK(Datas!$C$51),\"\",\" - \"&BB204)","v":" - Niv: "},null,{"$error":"#N/A"},{"$error":"#N/A"},0,"PR:","Ecus:","Niv: ",null,null,null,null,0,{"$f":"VLOOKUP(BG204,LstVillage!$B$8:$C$283,1)","v":{"$error":"#N/A"}},{"$error":"#N/A"},{"$error":"#N/A"},0,{"$f":"VLOOKUP(BK204,Datas!$G$6:$G$17,1)","v":{"$error":"#N/A"}},{"$error":"#N/A"},{"$error":"#N/A"},null,0,0,0,null,{"$f":"VLOOKUP(BG204,Liste_Noire!$B$15:$G$1208,1)","v":{"$error":"#N/A"}},{"$f":"VLOOKUP(BG204,Liste_Noire!$B$15:$G$1208,5)","v":{"$error":"#N/A"}},{"$error":"#N/A"},null,0,0,0,0,0,0,0]
[null,{"$f":"IF(BQ205,\"[strike]\"&AN205&\"[/strike]\",IF(BR205,\"[i]\"&AN205&\"[/i]\",AN205))","v":""}," ",{"$f":"IF(M205=\"mort\",\"M\",\"\")","v":""},{"$f":"IF(ISERROR(BV205),\"\",IF(BV205=1,\"LN\",\"\"))","v":""},{"$f":"IF(M205=\"retraite\",\"R\",\"\")","v":""},{"$f":"IF(ISBLANK(Y205),\"\",Y205)","v":""},null,null,null,null,null,null,null,null,null,null,null,null,null,null,null,null,null,"",{"$f":"IF($Y205=Z$11,1,0)","v":0},{"$f":"IF(AND(Z205=1,$E205=AA$11),1,0)","v":0},{"$f":"IF($Y205=AB$11,1,0)","v":0},{"$f":"IF(AND(AB205=1,$E205=AC$11),1,0)","v":0},{"$f":"IF($F205=AD$11,1,0)","v":0},{"$f":"IF(AND(AD205=1,$E205=AE$11),1,0)","v":0},{"$f":"IF($D205=AF$11,1,0)","v":0},{"$f":"IF(AND(AF205=1,$E205=AG$11),1,0)","v":0},{"$f":"IF(AND($Y205=AH$11,(AD205+AF205)=0),1,0)","v":0},{"$f":"IF(AND(AH205=1,$E205=AI$11),1,0)","v":0},null,{"$f":"IF(AND(ISBLANK(I205),ISBLANK(K205),ISBLANK(L205),ISBLANK(P205)),0,1)","v":0},null,null,{"$f":"IF(AO205=\"\",\"\",IF(BV205=1,\"[b][color=red]\"&Datas!$D$32&\"[/color][/b]\"&AO205&\"[b][color=red]\"&Datas!$D$33&\"{\"&BU205&\"}[/color][/b]\",AO205))","v":""},{"$f":"IF(ISBLANK(M205),\"\",AW205&AQ205&AR205&AS205&AT205&AU205)","v":""}," ",{"$f":"IF(ISBLANK(Datas!$C$47),\"\",\" - \"&AX205)","v":{"$error":"#N/A"}},{"$f":"IF(ISBLANK(Datas!$C$48),\"\",\" - \"&AY205)","v":" - 0"},{"$f":"IF(ISBLANK(Datas!$C$49),\"\",\" - \"&AZ205)","v":""},{"$f":"IF(ISBLANK(Datas!$C$50),\"\",\" - \"&BA205)","v":" - Ecus:"},{"$f":"IF(ISBLANK(Datas!$C$51),\"\",\" - \"&BB205)","v":" - Niv: "},null,{"$f":"\"[b][color=\"&BJ205&\"]\"&BG205&\"[/color][/b]\"","v":{"$error":"#N/A"}},{"$f":"\"[b][color=\"&BN205&\"]\"&BK205&\"[/color][/b]\"","v":{"$error":"#N/A"}},{"$f":"BP205","v":0},{"$f":"\"PR:\"&O205","v":"PR:"},{"$f":"\"Ecus:\"&P205","v":"Ecus:"},{"$f":"\"Niv: \"&N205","v":"Niv: "},null,null,null,null,{"$f":"I205","v":0},{"$f":"VLOOKUP(BG205,LstVillage!$B$8:$C$283,1)","v":{"$error":"#N/A"}},{"$f":"IF(BH205<>BG205,0,1)","v":{"$error":"#N/A"}},{"$f":"IF(BI205=1,$AX$2,IF(BM205=1,$AX$3,$AX$4))","v":{"$error":"#N/A"}},{"$f":"L205","v":0},{"$f":"VLOOKUP(BK205,Datas!$G$6:$G$17,1)","v":{"$error":"#N/A"}},{"$f":"IF(BL205<>BK205,0,1)","v":{"$error":"#N/A"}},{"$f":"IF(BM205=1,$BA$2,$BA$3)","v":{"$error":"#N/A"}},null,{"$f":"K205","v":0},{"$f":"IF(F205=\"M\",1,0)","v":0},{"$f":"IF(F205=\"R\",1,0)","v":0},null,{"$f":"VLOOKUP(BG205,Liste_Noire!$B$15:$G$1208,1)","v":{"$error":"#N/A"}},{"$f":"VLOOKUP(BG205,Liste_Noire!$B$15:$G$1208,5)","v":{"$error":"#N/A"}},{"$f":"IF(ISERR(BT205),0,IF(BT205=BG205,1,0))","v":{"$error":"#N/A"}},null,{"$f":"IF(G205=\"a\",1,0)","v":0},{"$f":"IF(G205=\"d\",1,0)","v":0},{"$f":"IF(F205=\"R\",1,0)","v":0},{"$f":"IF(F205=\"M\",1,0)","v":0},{"$f":"IF(ISERROR(BV205),0,IF(BV205=1,IF(BU205=\"Liste Noire\",1,0),0))","v":0},{"$f":"IF(ISERROR(BV205),0,IF(BV205=1,IF(BU205=\"Surveillance\",1,0),0))","v":0},{"$f":"IF(ISBLANK(I205),0,1)","v":0}]
[null,""," ","","","","",null,null,null,null,null,null,null,null,null,null,null,null,null,null,null,null,null,{"$f":"IF(OR(ISBLANK(U206),TRIM(U206)=\"\"),IF(ISBLANK($I206),\"\",$Y$11),IF(OR($F206=$AD$11,$D206=$AF$11),$Y$11,IF(U206=\"a/d\",\"\",U206)))","v":""},0,0,0,0,0,0,0,0,0,0,null,0,null,null,{"$f":"IF(AO206=\"\",\"\",IF(BV206=1,\"[b][color=red]\"&Datas!$D$32&\"[/color][/b]\"&AO206&\"[b][color=red]\"&Datas!$D$33&\"{\"&BU206&\"}[/color][/b]\",AO206))","v":""},""," ",{"$f":"IF(ISBLANK(Datas!$C$47),\"\",\" - \"&AX206)","v":{"$error":"#N/A"}},{"$f":"IF(ISBLANK(Datas!$C$48),\"\",\" - \"&AY206)","v":" - 0"},{"$f":"IF(ISBLANK(Datas!$C$49),\"\",\" - \"&AZ206)","v":""},{"$f":"IF(ISBLANK(Datas!$C$50),\"\",\" - \"&BA206)","v":" - Ecus:"},{"$f":"IF(ISBLANK(Datas!$C$51),\"\",\" - \"&BB206)","v":" - Niv: "},null,{"$error":"#N/A"},{"$error":"#N/A"},0,"PR:","Ecus:","Niv: ",null,null,null,null,0,{"$f":"VLOOKUP(BG206,LstVillage!$B$8:$C$283,1)","v":{"$error":"#N/A"}},{"$error":"#N/A"},{"$error":"#N/A"},0,{"$f":"VLOOKUP(BK206,Datas!$G$6:$G$17,1)","v":{"$error":"#N/A"}},{"$error":"#N/A"},{"$error":"#N/A"},null,0,0,0,null,{"$f":"VLOOKUP(BG206,Liste_Noire!$B$15:$G$1208,1)","v":{"$error":"#N/A"}},{"$f":"VLOOKUP(BG206,Liste_Noire!$B$15:$G$1208,5)","v":{"$error":"#N/A"}},{"$error":"#N/A"},null,0,0,0,0,0,0,0]
[null,""," ","","","","",null,null,null,null,null,null,null,null,null,null,null,null,null,null,null,null,null,"",0,0,0,0,0,0,0,0,0,0,null,0,null,null,{"$f":"IF(AO207=\"\",\"\",IF(BV207=1,\"[b][color=red]\"&Datas!$D$32&\"[/color][/b]\"&AO207&\"[b][color=red]\"&Datas!$D$33&\"{\"&BU207&\"}[/color][/b]\",AO207))","v":""},""," ",{"$f":"IF(ISBLANK(Datas!$C$47),\"\",\" - \"&AX207)","v":{"$error":"#N/A"}},{"$f":"IF(ISBLANK(Datas!$C$48),\"\",\" - \"&AY207)","v":" - 0"},{"$f":"IF(ISBLANK(Datas!$C$49),\"\",\" - \"&AZ207)","v":""},{"$f":"IF(ISBLANK(Datas!$C$50),\"\",\" - \"&BA207)","v":" - Ecus:"},{"$f":"IF(ISBLANK(Datas!$C$51),\"\",\" - \"&BB207)","v":" - Niv: "},null,{"$error":"#N/A"},{"$error":"#N/A"},0,"PR:","Ecus:","Niv: ",null,null,null,null,0,{"$f":"VLOOKUP(BG207,LstVillage!$B$8:$C$283,1)","v":{"$error":"#N/A"}},{"$error":"#N/A"},{"$error":"#N/A"},0,{"$f":"VLOOKUP(BK207,Datas!$G$6:$G$17,1)","v":{"$error":"#N/A"}},{"$error":"#N/A"},{"$error":"#N/A"},null,0,0,0,null,{"$f":"VLOOKUP(BG207,Liste_Noire!$B$15:$G$1208,1)","v":{"$error":"#N/A"}},{"$f":"VLOOKUP(BG207,Liste_Noire!$B$15:$G$1208,5)","v":{"$error":"#N/A"}},{"$error":"#N/A"},null,0,0,0,0,0,0,0]
[null,""," ","","","","",null,null,null,null,null,null,null,null,null,null,null,null,null,null,null,null,null,"",0,0,0,0,0,0,0,0,0,0,null,0,null,null,{"$f":"IF(AO208=\"\",\"\",IF(BV208=1,\"[b][color=red]\"&Datas!$D$32&\"[/color][/b]\"&AO208&\"[b][color=red]\"&Datas!$D$33&\"{\"&BU208&\"}[/color][/b]\",AO208))","v":""},""," ",{"$f":"IF(ISBLANK(Datas!$C$47),\"\",\" - \"&AX208)","v":{"$error":"#N/A"}},{"$f":"IF(ISBLANK(Datas!$C$48),\"\",\" - \"&AY208)","v":" - 0"},{"$f":"IF(ISBLANK(Datas!$C$49),\"\",\" - \"&AZ208)","v":""},{"$f":"IF(ISBLANK(Datas!$C$50),\"\",\" - \"&BA208)","v":" - Ecus:"},{"$f":"IF(ISBLANK(Datas!$C$51),\"\",\" - \"&BB208)","v":" - Niv: "},null,{"$error":"#N/A"},{"$error":"#N/A"},0,"PR:","Ecus:","Niv: ",null,null,null,null,0,{"$f":"VLOOKUP(BG208,LstVillage!$B$8:$C$283,1)","v":{"$error":"#N/A"}},{"$error":"#N/A"},{"$error":"#N/A"},0,{"$f":"VLOOKUP(BK208,Datas!$G$6:$G$17,1)","v":{"$error":"#N/A"}},{"$error":"#N/A"},{"$error":"#N/A"},null,0,0,0,null,{"$f":"VLOOKUP(BG208,Liste_Noire!$B$15:$G$1208,1)","v":{"$error":"#N/A"}},{"$f":"VLOOKUP(BG208,Liste_Noire!$B$15:$G$1208,5)","v":{"$error":"#N/A"}},{"$error":"#N/A"},null,0,0,0,0,0,0,0]
[null,""," ","","","","",null,null,null,null,null,null,null,null,null,null,null,null,null,null,null,null,null,"",0,0,0,0,0,0,0,0,0,0,null,0,null,null,{"$f":"IF(AO209=\"\",\"\",IF(BV209=1,\"[b][color=red]\"&Datas!$D$32&\"[/color][/b]\"&AO209&\"[b][color=red]\"&Datas!$D$33&\"{\"&BU209&\"}[/color][/b]\",AO209))","v":""},""," ",{"$f":"IF(ISBLANK(Datas!$C$47),\"\",\" - \"&AX209)","v":{"$error":"#N/A"}},{"$f":"IF(ISBLANK(Datas!$C$48),\"\",\" - \"&AY209)","v":" - 0"},{"$f":"IF(ISBLANK(Datas!$C$49),\"\",\" - \"&AZ209)","v":""},{"$f":"IF(ISBLANK(Datas!$C$50),\"\",\" - \"&BA209)","v":" - Ecus:"},{"$f":"IF(ISBLANK(Datas!$C$51),\"\",\" - \"&BB209)","v":" - Niv: "},null,{"$error":"#N/A"},{"$error":"#N/A"},0,"PR:","Ecus:","Niv: ",null,null,null,null,0,{"$f":"VLOOKUP(BG209,LstVillage!$B$8:$C$283,1)","v":{"$error":"#N/A"}},{"$error":"#N/A"},{"$error":"#N/A"},0,{"$f":"VLOOKUP(BK209,Datas!$G$6:$G$17,1)","v":{"$error":"#N/A"}},{"$error":"#N/A"},{"$error":"#N/A"},null,0,0,0,null,{"$f":"VLOOKUP(BG209,Liste_Noire!$B$15:$G$1208,1)","v":{"$error":"#N/A"}},{"$f":"VLOOKUP(BG209,Liste_Noire!$B$15:$G$1208,5)","v":{"$error":"#N/A"}},{"$error":"#N/A"},null,0,0,0,0,0,0,0]
[null,""," ","","","","",null,null,null,null,null,null,null,null,null,null,null,null,null,null,null,null,null,"",0,0,0,0,0,0,0,0,0,0,null,0,null,null,{"$f":"IF(AO210=\"\",\"\",IF(BV210=1,\"[b][color=red]\"&Datas!$D$32&\"[/color][/b]\"&AO210&\"[b][color=red]\"&Datas!$D$33&\"{\"&BU210&\"}[/color][/b]\",AO210))","v":""},""," ",{"$f":"IF(ISBLANK(Datas!$C$47),\"\",\" - \"&AX210)","v":{"$error":"#N/A"}},{"$f":"IF(ISBLANK(Datas!$C$48),\"\",\" - \"&AY210)","v":" - 0"},{"$f":"IF(ISBLANK(Datas!$C$49),\"\",\" - \"&AZ210)","v":""},{"$f":"IF(ISBLANK(Datas!$C$50),\"\",\" - \"&BA210)","v":" - Ecus:"},{"$f":"IF(ISBLANK(Datas!$C$51),\"\",\" - \"&BB210)","v":" - Niv: "},null,{"$error":"#N/A"},{"$error":"#N/A"},0,"PR:","Ecus:","Niv: ",null,null,null,null,0,{"$f":"VLOOKUP(BG210,LstVillage!$B$8:$C$283,1)","v":{"$error":"#N/A"}},{"$error":"#N/A"},{"$error":"#N/A"},0,{"$f":"VLOOKUP(BK210,Datas!$G$6:$G$17,1)","v":{"$error":"#N/A"}},{"$error":"#N/A"},{"$error":"#N/A"},null,0,0,0,null,{"$f":"VLOOKUP(BG210,Liste_Noire!$B$15:$G$1208,1)","v":{"$error":"#N/A"}},{"$f":"VLOOKUP(BG210,Liste_Noire!$B$15:$G$1208,5)","v":{"$error":"#N/A"}},{"$error":"#N/A"},null,0,0,0,0,0,0,0]
[null,""," ","","","","",null,null,null,null,null,null,null,null,null,null,null,null,null,null,null,null,null,"",0,0,0,0,0,0,0,0,0,0,null,0,null,null,{"$f":"IF(AO211=\"\",\"\",IF(BV211=1,\"[b][color=red]\"&Datas!$D$32&\"[/color][/b]\"&AO211&\"[b][color=red]\"&Datas!$D$33&\"{\"&BU211&\"}[/color][/b]\",AO211))","v":""},""," ",{"$f":"IF(ISBLANK(Datas!$C$47),\"\",\" - \"&AX211)","v":{"$error":"#N/A"}},{"$f":"IF(ISBLANK(Datas!$C$48),\"\",\" - \"&AY211)","v":" - 0"},{"$f":"IF(ISBLANK(Datas!$C$49),\"\",\" - \"&AZ211)","v":""},{"$f":"IF(ISBLANK(Datas!$C$50),\"\",\" - \"&BA211)","v":" - Ecus:"},{"$f":"IF(ISBLANK(Datas!$C$51),\"\",\" - \"&BB211)","v":" - Niv: "},null,{"$error":"#N/A"},{"$error":"#N/A"},0,"PR:","Ecus:","Niv: ",null,null,null,null,0,{"$f":"VLOOKUP(BG211,LstVillage!$B$8:$C$283,1)","v":{"$error":"#N/A"}},{"$error":"#N/A"},{"$error":"#N/A"},0,{"$f":"VLOOKUP(BK211,Datas!$G$6:$G$17,1)","v":{"$error":"#N/A"}},{"$error":"#N/A"},{"$error":"#N/A"},null,0,0,0,null,{"$f":"VLOOKUP(BG211,Liste_Noire!$B$15:$G$1208,1)","v":{"$error":"#N/A"}},{"$f":"VLOOKUP(BG211,Liste_Noire!$B$15:$G$1208,5)","v":{"$error":"#N/A"}},{"$error":"#N/A"},null,0,0,0,0,0,0,0]
[null,""," ","","","","",null,null,null,null,null,null,null,null,null,null,null,null,null,null,null,null,null,"",0,0,0,0,0,0,0,0,0,0,null,0,null,null,{"$f":"IF(AO212=\"\",\"\",IF(BV212=1,\"[b][color=red]\"&Datas!$D$32&\"[/color][/b]\"&AO212&\"[b][color=red]\"&Datas!$D$33&\"{\"&BU212&\"}[/color][/b]\",AO212))","v":""},""," ",{"$f":"IF(ISBLANK(Datas!$C$47),\"\",\" - \"&AX212)","v":{"$error":"#N/A"}},{"$f":"IF(ISBLANK(Datas!$C$48),\"\",\" - \"&AY212)","v":" - 0"},{"$f":"IF(ISBLANK(Datas!$C$49),\"\",\" - \"&AZ212)","v":""},{"$f":"IF(ISBLANK(Datas!$C$50),\"\",\" - \"&BA212)","v":" - Ecus:"},{"$f":"IF(ISBLANK(Datas!$C$51),\"\",\" - \"&BB212)","v":" - Niv: "},null,{"$error":"#N/A"},{"$error":"#N/A"},0,"PR:","Ecus:","Niv: ",null,null,null,null,0,{"$f":"VLOOKUP(BG212,LstVillage!$B$8:$C$283,1)","v":{"$error":"#N/A"}},{"$error":"#N/A"},{"$error":"#N/A"},0,{"$f":"VLOOKUP(BK212,Datas!$G$6:$G$17,1)","v":{"$error":"#N/A"}},{"$error":"#N/A"},{"$error":"#N/A"},null,0,0,0,null,{"$f":"VLOOKUP(BG212,Liste_Noire!$B$15:$G$1208,1)","v":{"$error":"#N/A"}},{"$f":"VLOOKUP(BG212,Liste_Noire!$B$15:$G$1208,5)","v":{"$error":"#N/A"}},{"$error":"#N/A"},null,0,0,0,0,0,0,0]
[null,""," ","","","","",null,null,null,null,null,null,null,null,null,null,null,null,null,null,null,null,null,"",0,0,0,0,0,0,0,0,0,0,null,0,null,null,{"$f":"IF(AO213=\"\",\"\",IF(BV213=1,\"[b][color=red]\"&Datas!$D$32&\"[/color][/b]\"&AO213&\"[b][color=red]\"&Datas!$D$33&\"{\"&BU213&\"}[/color][/b]\",AO213))","v":""},""," ",{"$f":"IF(ISBLANK(Datas!$C$47),\"\",\" - \"&AX213)","v":{"$error":"#N/A"}},{"$f":"IF(ISBLANK(Datas!$C$48),\"\",\" - \"&AY213)","v":" - 0"},{"$f":"IF(ISBLANK(Datas!$C$49),\"\",\" - \"&AZ213)","v":""},{"$f":"IF(ISBLANK(Datas!$C$50),\"\",\" - \"&BA213)","v":" - Ecus:"},{"$f":"IF(ISBLANK(Datas!$C$51),\"\",\" - \"&BB213)","v":" - Niv: "},null,{"$error":"#N/A"},{"$error":"#N/A"},0,"PR:","Ecus:","Niv: ",null,null,null,null,0,{"$f":"VLOOKUP(BG213,LstVillage!$B$8:$C$283,1)","v":{"$error":"#N/A"}},{"$error":"#N/A"},{"$error":"#N/A"},0,{"$f":"VLOOKUP(BK213,Datas!$G$6:$G$17,1)","v":{"$error":"#N/A"}},{"$error":"#N/A"},{"$error":"#N/A"},null,0,0,0,null,{"$f":"VLOOKUP(BG213,Liste_Noire!$B$15:$G$1208,1)","v":{"$error":"#N/A"}},{"$f":"VLOOKUP(BG213,Liste_Noire!$B$15:$G$1208,5)","v":{"$error":"#N/A"}},{"$error":"#N/A"},null,0,0,0,0,0,0,0]
[null,""," ","","","","",null,null,null,null,null,null,null,null,null,null,null,null,null,null,null,null,null,"",0,0,0,0,0,0,0,0,0,0,null,0,null,null,{"$f":"IF(AO214=\"\",\"\",IF(BV214=1,\"[b][color=red]\"&Datas!$D$32&\"[/color][/b]\"&AO214&\"[b][color=red]\"&Datas!$D$33&\"{\"&BU214&\"}[/color][/b]\",AO214))","v":""},""," ",{"$f":"IF(ISBLANK(Datas!$C$47),\"\",\" - \"&AX214)","v":{"$error":"#N/A"}},{"$f":"IF(ISBLANK(Datas!$C$48),\"\",\" - \"&AY214)","v":" - 0"},{"$f":"IF(ISBLANK(Datas!$C$49),\"\",\" - \"&AZ214)","v":""},{"$f":"IF(ISBLANK(Datas!$C$50),\"\",\" - \"&BA214)","v":" - Ecus:"},{"$f":"IF(ISBLANK(Datas!$C$51),\"\",\" - \"&BB214)","v":" - Niv: "},null,{"$error":"#N/A"},{"$error":"#N/A"},0,"PR:","Ecus:","Niv: ",null,null,null,null,0,{"$f":"VLOOKUP(BG214,LstVillage!$B$8:$C$283,1)","v":{"$error":"#N/A"}},{"$error":"#N/A"},{"$error":"#N/A"},0,{"$f":"VLOOKUP(BK214,Datas!$G$6:$G$17,1)","v":{"$error":"#N/A"}},{"$error":"#N/A"},{"$error":"#N/A"},null,0,0,0,null,{"$f":"VLOOKUP(BG214,Liste_Noire!$B$15:$G$1208,1)","v":{"$error":"#N/A"}},{"$f":"VLOOKUP(BG214,Liste_Noire!$B$15:$G$1208,5)","v":{"$error":"#N/A"}},{"$error":"#N/A"},null,0,0,0,0,0,0,0]
[null,""," ","","","","",null,null,null,null,null,null,null,null,null,null,null,null,null,null,null,null,null,"",0,0,0,0,0,0,0,0,0,0,null,0,null,null,{"$f":"IF(AO215=\"\",\"\",IF(BV215=1,\"[b][color=red]\"&Datas!$D$32&\"[/color][/b]\"&AO215&\"[b][color=red]\"&Datas!$D$33&\"{\"&BU215&\"}[/color][/b]\",AO215))","v":""},""," ",{"$f":"IF(ISBLANK(Datas!$C$47),\"\",\" - \"&AX215)","v":{"$error":"#N/A"}},{"$f":"IF(ISBLANK(Datas!$C$48),\"\",\" - \"&AY215)","v":" - 0"},{"$f":"IF(ISBLANK(Datas!$C$49),\"\",\" - \"&AZ215)","v":""},{"$f":"IF(ISBLANK(Datas!$C$50),\"\",\" - \"&BA215)","v":" - Ecus:"},{"$f":"IF(ISBLANK(Datas!$C$51),\"\",\" - \"&BB215)","v":" - Niv: "},null,{"$error":"#N/A"},{"$error":"#N/A"},0,"PR:","Ecus:","Niv: ",null,null,null,null,0,{"$f":"VLOOKUP(BG215,LstVillage!$B$8:$C$283,1)","v":{"$error":"#N/A"}},{"$error":"#N/A"},{"$error":"#N/A"},0,{"$f":"VLOOKUP(BK215,Datas!$G$6:$G$17,1)","v":{"$error":"#N/A"}},{"$error":"#N/A"},{"$error":"#N/A"},null,0,0,0,null,{"$f":"VLOOKUP(BG215,Liste_Noire!$B$15:$G$1208,1)","v":{"$error":"#N/A"}},{"$f":"VLOOKUP(BG215,Liste_Noire!$B$15:$G$1208,5)","v":{"$error":"#N/A"}},{"$error":"#N/A"},null,0,0,0,0,0,0,0]
[null,""," ","","","","",null,null,null,null,null,null,null,null,null,null,null,null,null,null,null,null,null,"",0,0,0,0,0,0,0,0,0,0,null,0,null,null,{"$f":"IF(AO216=\"\",\"\",IF(BV216=1,\"[b][color=red]\"&Datas!$D$32&\"[/color][/b]\"&AO216&\"[b][color=red]\"&Datas!$D$33&\"{\"&BU216&\"}[/color][/b]\",AO216))","v":""},""," ",{"$f":"IF(ISBLANK(Datas!$C$47),\"\",\" - \"&AX216)","v":{"$error":"#N/A"}},{"$f":"IF(ISBLANK(Datas!$C$48),\"\",\" - \"&AY216)","v":" - 0"},{"$f":"IF(ISBLANK(Datas!$C$49),\"\",\" - \"&AZ216)","v":""},{"$f":"IF(ISBLANK(Datas!$C$50),\"\",\" - \"&BA216)","v":" - Ecus:"},{"$f":"IF(ISBLANK(Datas!$C$51),\"\",\" - \"&BB216)","v":" - Niv: "},null,{"$error":"#N/A"},{"$error":"#N/A"},0,"PR:","Ecus:","Niv: ",null,null,null,null,0,{"$f":"VLOOKUP(BG216,LstVillage!$B$8:$C$283,1)","v":{"$error":"#N/A"}},{"$error":"#N/A"},{"$error":"#N/A"},0,{"$f":"VLOOKUP(BK216,Datas!$G$6:$G$17,1)","v":{"$error":"#N/A"}},{"$error":"#N/A"},{"$error":"#N/A"},null,0,0,0,null,{"$f":"VLOOKUP(BG216,Liste_Noire!$B$15:$G$1208,1)","v":{"$error":"#N/A"}},{"$f":"VLOOKUP(BG216,Liste_Noire!$B$15:$G$1208,5)","v":{"$error":"#N/A"}},{"$error":"#N/A"},null,0,0,0,0,0,0,0]
[null,""," ","","","","",null,null,null,null,null,null,null,null,null,null,null,null,null,null,null,null,null,"",0,0,0,0,0,0,0,0,0,0,null,0,null,null,{"$f":"IF(AO217=\"\",\"\",IF(BV217=1,\"[b][color=red]\"&Datas!$D$32&\"[/color][/b]\"&AO217&\"[b][color=red]\"&Datas!$D$33&\"{\"&BU217&\"}[/color][/b]\",AO217))","v":""},""," ",{"$f":"IF(ISBLANK(Datas!$C$47),\"\",\" - \"&AX217)","v":{"$error":"#N/A"}},{"$f":"IF(ISBLANK(Datas!$C$48),\"\",\" - \"&AY217)","v":" - 0"},{"$f":"IF(ISBLANK(Datas!$C$49),\"\",\" - \"&AZ217)","v":""},{"$f":"IF(ISBLANK(Datas!$C$50),\"\",\" - \"&BA217)","v":" - Ecus:"},{"$f":"IF(ISBLANK(Datas!$C$51),\"\",\" - \"&BB217)","v":" - Niv: "},null,{"$error":"#N/A"},{"$error":"#N/A"},0,"PR:","Ecus:","Niv: ",null,null,null,null,0,{"$f":"VLOOKUP(BG217,LstVillage!$B$8:$C$283,1)","v":{"$error":"#N/A"}},{"$error":"#N/A"},{"$error":"#N/A"},0,{"$f":"VLOOKUP(BK217,Datas!$G$6:$G$17,1)","v":{"$error":"#N/A"}},{"$error":"#N/A"},{"$error":"#N/A"},null,0,0,0,null,{"$f":"VLOOKUP(BG217,Liste_Noire!$B$15:$G$1208,1)","v":{"$error":"#N/A"}},{"$f":"VLOOKUP(BG217,Liste_Noire!$B$15:$G$1208,5)","v":{"$error":"#N/A"}},{"$error":"#N/A"},null,0,0,0,0,0,0,0]
[null,""," ","","","","",null,null,null,null,null,null,null,null,null,null,null,null,null,null,null,null,null,"",0,0,0,0,0,0,0,0,0,0,null,0,null,null,{"$f":"IF(AO218=\"\",\"\",IF(BV218=1,\"[b][color=red]\"&Datas!$D$32&\"[/color][/b]\"&AO218&\"[b][color=red]\"&Datas!$D$33&\"{\"&BU218&\"}[/color][/b]\",AO218))","v":""},""," ",{"$f":"IF(ISBLANK(Datas!$C$47),\"\",\" - \"&AX218)","v":{"$error":"#N/A"}},{"$f":"IF(ISBLANK(Datas!$C$48),\"\",\" - \"&AY218)","v":" - 0"},{"$f":"IF(ISBLANK(Datas!$C$49),\"\",\" - \"&AZ218)","v":""},{"$f":"IF(ISBLANK(Datas!$C$50),\"\",\" - \"&BA218)","v":" - Ecus:"},{"$f":"IF(ISBLANK(Datas!$C$51),\"\",\" - \"&BB218)","v":" - Niv: "},null,{"$error":"#N/A"},{"$error":"#N/A"},0,"PR:","Ecus:","Niv: ",null,null,null,null,0,{"$f":"VLOOKUP(BG218,LstVillage!$B$8:$C$283,1)","v":{"$error":"#N/A"}},{"$error":"#N/A"},{"$error":"#N/A"},0,{"$f":"VLOOKUP(BK218,Datas!$G$6:$G$17,1)","v":{"$error":"#N/A"}},{"$error":"#N/A"},{"$error":"#N/A"},null,0,0,0,null,{"$f":"VLOOKUP(BG218,Liste_Noire!$B$15:$G$1208,1)","v":{"$error":"#N/A"}},{"$f":"VLOOKUP(BG218,Liste_Noire!$B$15:$G$1208,5)","v":{"$error":"#N/A"}},{"$error":"#N/A"},null,0,0,0,0,0,0,0]
[null,""," ","","","","",null,null,null,null,null,null,null,null,null,null,null,null,null,null,null,null,null,"",0,0,0,0,0,0,0,0,0,0,null,0,null,null,{"$f":"IF(AO219=\"\",\"\",IF(BV219=1,\"[b][color=red]\"&Datas!$D$32&\"[/color][/b]\"&AO219&\"[b][color=red]\"&Datas!$D$33&\"{\"&BU219&\"}[/color][/b]\",AO219))","v":""},""," ",{"$f":"IF(ISBLANK(Datas!$C$47),\"\",\" - \"&AX219)","v":{"$error":"#N/A"}},{"$f":"IF(ISBLANK(Datas!$C$48),\"\",\" - \"&AY219)","v":" - 0"},{"$f":"IF(ISBLANK(Datas!$C$49),\"\",\" - \"&AZ219)","v":""},{"$f":"IF(ISBLANK(Datas!$C$50),\"\",\" - \"&BA219)","v":" - Ecus:"},{"$f":"IF(ISBLANK(Datas!$C$51),\"\",\" - \"&BB219)","v":" - Niv: "},null,{"$error":"#N/A"},{"$error":"#N/A"},0,"PR:","Ecus:","Niv: ",null,null,null,null,0,{"$f":"VLOOKUP(BG219,LstVillage!$B$8:$C$283,1)","v":{"$error":"#N/A"}},{"$error":"#N/A"},{"$error":"#N/A"},0,{"$f":"VLOOKUP(BK219,Datas!$G$6:$G$17,1)","v":{"$error":"#N/A"}},{"$error":"#N/A"},{"$error":"#N/A"},null,0,0,0,null,{"$f":"VLOOKUP(BG219,Liste_Noire!$B$15:$G$1208,1)","v":{"$error":"#N/A"}},{"$f":"VLOOKUP(BG219,Liste_Noire!$B$15:$G$1208,5)","v":{"$error":"#N/A"}},{"$error":"#N/A"},null,0,0,0,0,0,0,0]
[null,""," ","","","","",null,null,null,null,null,null,null,null,null,null,null,null,null,null,null,null,null,"",0,0,0,0,0,0,0,0,0,0,null,0,null,null,{"$f":"IF(AO220=\"\",\"\",IF(BV220=1,\"[b][color=red]\"&Datas!$D$32&\"[/color][/b]\"&AO220&\"[b][color=red]\"&Datas!$D$33&\"{\"&BU220&\"}[/color][/b]\",AO220))","v":""},""," ",{"$f":"IF(ISBLANK(Datas!$C$47),\"\",\" - \"&AX220)","v":{"$error":"#N/A"}},{"$f":"IF(ISBLANK(Datas!$C$48),\"\",\" - \"&AY220)","v":" - 0"},{"$f":"IF(ISBLANK(Datas!$C$49),\"\",\" - \"&AZ220)","v":""},{"$f":"IF(ISBLANK(Datas!$C$50),\"\",\" - \"&BA220)","v":" - Ecus:"},{"$f":"IF(ISBLANK(Datas!$C$51),\"\",\" - \"&BB220)","v":" - Niv: "},null,{"$error":"#N/A"},{"$error":"#N/A"},0,"PR:","Ecus:","Niv: ",null,null,null,null,0,{"$f":"VLOOKUP(BG220,LstVillage!$B$8:$C$283,1)","v":{"$error":"#N/A"}},{"$error":"#N/A"},{"$error":"#N/A"},0,{"$f":"VLOOKUP(BK220,Datas!$G$6:$G$17,1)","v":{"$error":"#N/A"}},{"$error":"#N/A"},{"$error":"#N/A"},null,0,0,0,null,{"$f":"VLOOKUP(BG220,Liste_Noire!$B$15:$G$1208,1)","v":{"$error":"#N/A"}},{"$f":"VLOOKUP(BG220,Liste_Noire!$B$15:$G$1208,5)","v":{"$error":"#N/A"}},{"$error":"#N/A"},null,0,0,0,0,0,0,0]
[null,""," ","","","","",null,null,null,null,null,null,null,null,null,null,null,null,null,null,null,null,null,"",0,0,0,0,0,0,0,0,0,0,null,0,null,null,{"$f":"IF(AO221=\"\",\"\",IF(BV221=1,\"[b][color=red]\"&Datas!$D$32&\"[/color][/b]\"&AO221&\"[b][color=red]\"&Datas!$D$33&\"{\"&BU221&\"}[/color][/b]\",AO221))","v":""},""," ",{"$f":"IF(ISBLANK(Datas!$C$47),\"\",\" - \"&AX221)","v":{"$error":"#N/A"}},{"$f":"IF(ISBLANK(Datas!$C$48),\"\",\" - \"&AY221)","v":" - 0"},{"$f":"IF(ISBLANK(Datas!$C$49),\"\",\" - \"&AZ221)","v":""},{"$f":"IF(ISBLANK(Datas!$C$50),\"\",\" - \"&BA221)","v":" - Ecus:"},{"$f":"IF(ISBLANK(Datas!$C$51),\"\",\" - \"&BB221)","v":" - Niv: "},null,{"$error":"#N/A"},{"$error":"#N/A"},0,"PR:","Ecus:","Niv: ",null,null,null,null,0,{"$f":"VLOOKUP(BG221,LstVillage!$B$8:$C$283,1)","v":{"$error":"#N/A"}},{"$error":"#N/A"},{"$error":"#N/A"},0,{"$f":"VLOOKUP(BK221,Datas!$G$6:$G$17,1)","v":{"$error":"#N/A"}},{"$error":"#N/A"},{"$error":"#N/A"},null,0,0,0,null,{"$f":"VLOOKUP(BG221,Liste_Noire!$B$15:$G$1208,1)","v":{"$error":"#N/A"}},{"$f":"VLOOKUP(BG221,Liste_Noire!$B$15:$G$1208,5)","v":{"$error":"#N/A"}},{"$error":"#N/A"},null,0,0,0,0,0,0,0]
[null,""," ","","","","",null,null,null,null,null,null,null,null,null,null,null,null,null,null,null,null,null,"",0,0,0,0,0,0,0,0,0,0,null,0,null,null,{"$f":"IF(AO222=\"\",\"\",IF(BV222=1,\"[b][color=red]\"&Datas!$D$32&\"[/color][/b]\"&AO222&\"[b][color=red]\"&Datas!$D$33&\"{\"&BU222&\"}[/color][/b]\",AO222))","v":""},""," ",{"$f":"IF(ISBLANK(Datas!$C$47),\"\",\" - \"&AX222)","v":{"$error":"#N/A"}},{"$f":"IF(ISBLANK(Datas!$C$48),\"\",\" - \"&AY222)","v":" - 0"},{"$f":"IF(ISBLANK(Datas!$C$49),\"\",\" - \"&AZ222)","v":""},{"$f":"IF(ISBLANK(Datas!$C$50),\"\",\" - \"&BA222)","v":" - Ecus:"},{"$f":"IF(ISBLANK(Datas!$C$51),\"\",\" - \"&BB222)","v":" - Niv: "},null,{"$error":"#N/A"},{"$error":"#N/A"},0,"PR:","Ecus:","Niv: ",null,null,null,null,0,{"$f":"VLOOKUP(BG222,LstVillage!$B$8:$C$283,1)","v":{"$error":"#N/A"}},{"$error":"#N/A"},{"$error":"#N/A"},0,{"$f":"VLOOKUP(BK222,Datas!$G$6:$G$17,1)","v":{"$error":"#N/A"}},{"$error":"#N/A"},{"$error":"#N/A"},null,0,0,0,null,{"$f":"VLOOKUP(BG222,Liste_Noire!$B$15:$G$1208,1)","v":{"$error":"#N/A"}},{"$f":"VLOOKUP(BG222,Liste_Noire!$B$15:$G$1208,5)","v":{"$error":"#N/A"}},{"$error":"#N/A"},null,0,0,0,0,0,0,0]
[null,""," ","","","","",null,null,null,null,null,null,null,null,null,null,null,null,null,null,null,null,null,"",0,0,0,0,0,0,0,0,0,0,null,0,null,null,{"$f":"IF(AO223=\"\",\"\",IF(BV223=1,\"[b][color=red]\"&Datas!$D$32&\"[/color][/b]\"&AO223&\"[b][color=red]\"&Datas!$D$33&\"{\"&BU223&\"}[/color][/b]\",AO223))","v":""},""," ",{"$f":"IF(ISBLANK(Datas!$C$47),\"\",\" - \"&AX223)","v":{"$error":"#N/A"}},{"$f":"IF(ISBLANK(Datas!$C$48),\"\",\" - \"&AY223)","v":" - 0"},{"$f":"IF(ISBLANK(Datas!$C$49),\"\",\" - \"&AZ223)","v":""},{"$f":"IF(ISBLANK(Datas!$C$50),\"\",\" - \"&BA223)","v":" - Ecus:"},{"$f":"IF(ISBLANK(Datas!$C$51),\"\",\" - \"&BB223)","v":" - Niv: "},null,{"$error":"#N/A"},{"$error":"#N/A"},0,"PR:","Ecus:","Niv: ",null,null,null,null,0,{"$f":"VLOOKUP(BG223,LstVillage!$B$8:$C$283,1)","v":{"$error":"#N/A"}},{"$error":"#N/A"},{"$error":"#N/A"},0,{"$f":"VLOOKUP(BK223,Datas!$G$6:$G$17,1)","v":{"$error":"#N/A"}},{"$error":"#N/A"},{"$error":"#N/A"},null,0,0,0,null,{"$f":"VLOOKUP(BG223,Liste_Noire!$B$15:$G$1208,1)","v":{"$error":"#N/A"}},{"$f":"VLOOKUP(BG223,Liste_Noire!$B$15:$G$1208,5)","v":{"$error":"#N/A"}},{"$error":"#N/A"},null,0,0,0,0,0,0,0]
[null,""," ","","","","",null,null,null,null,null,null,null,null,null,null,null,null,null,null,null,null,null,"",0,0,0,0,0,0,0,0,0,0,null,0,null,null,{"$f":"IF(AO224=\"\",\"\",IF(BV224=1,\"[b][color=red]\"&Datas!$D$32&\"[/color][/b]\"&AO224&\"[b][color=red]\"&Datas!$D$33&\"{\"&BU224&\"}[/color][/b]\",AO224))","v":""},""," ",{"$f":"IF(ISBLANK(Datas!$C$47),\"\",\" - \"&AX224)","v":{"$error":"#N/A"}},{"$f":"IF(ISBLANK(Datas!$C$48),\"\",\" - \"&AY224)","v":" - 0"},{"$f":"IF(ISBLANK(Datas!$C$49),\"\",\" - \"&AZ224)","v":""},{"$f":"IF(ISBLANK(Datas!$C$50),\"\",\" - \"&BA224)","v":" - Ecus:"},{"$f":"IF(ISBLANK(Datas!$C$51),\"\",\" - \"&BB224)","v":" - Niv: "},null,{"$error":"#N/A"},{"$error":"#N/A"},0,"PR:","Ecus:","Niv: ",null,null,null,null,0,{"$f":"VLOOKUP(BG224,LstVillage!$B$8:$C$283,1)","v":{"$error":"#N/A"}},{"$error":"#N/A"},{"$error":"#N/A"},0,{"$f":"VLOOKUP(BK224,Datas!$G$6:$G$17,1)","v":{"$error":"#N/A"}},{"$error":"#N/A"},{"$error":"#N/A"},null,0,0,0,null,{"$f":"VLOOKUP(BG224,Liste_Noire!$B$15:$G$1208,1)","v":{"$error":"#N/A"}},{"$f":"VLOOKUP(BG224,Liste_Noire!$B$15:$G$1208,5)","v":{"$error":"#N/A"}},{"$error":"#N/A"},null,0,0,0,0,0,0,0]
[null,""," ","","","","",null,null,null,null,null,null,null,null,null,null,null,null,null,null,null,null,null,"",0,0,0,0,0,0,0,0,0,0,null,0,null,null,{"$f":"IF(AO225=\"\",\"\",IF(BV225=1,\"[b][color=red]\"&Datas!$D$32&\"[/color][/b]\"&AO225&\"[b][color=red]\"&Datas!$D$33&\"{\"&BU225&\"}[/color][/b]\",AO225))","v":""},""," ",{"$f":"IF(ISBLANK(Datas!$C$47),\"\",\" - \"&AX225)","v":{"$error":"#N/A"}},{"$f":"IF(ISBLANK(Datas!$C$48),\"\",\" - \"&AY225)","v":" - 0"},{"$f":"IF(ISBLANK(Datas!$C$49),\"\",\" - \"&AZ225)","v":""},{"$f":"IF(ISBLANK(Datas!$C$50),\"\",\" - \"&BA225)","v":" - Ecus:"},{"$f":"IF(ISBLANK(Datas!$C$51),\"\",\" - \"&BB225)","v":" - Niv: "},null,{"$error":"#N/A"},{"$error":"#N/A"},0,"PR:","Ecus:","Niv: ",null,null,null,null,0,{"$f":"VLOOKUP(BG225,LstVillage!$B$8:$C$283,1)","v":{"$error":"#N/A"}},{"$error":"#N/A"},{"$error":"#N/A"},0,{"$f":"VLOOKUP(BK225,Datas!$G$6:$G$17,1)","v":{"$error":"#N/A"}},{"$error":"#N/A"},{"$error":"#N/A"},null,0,0,0,null,{"$f":"VLOOKUP(BG225,Liste_Noire!$B$15:$G$1208,1)","v":{"$error":"#N/A"}},{"$f":"VLOOKUP(BG225,Liste_Noire!$B$15:$G$1208,5)","v":{"$error":"#N/A"}},{"$error":"#N/A"},null,0,0,0,0,0,0,0]
[null,""," ","","","","",null,null,null,null,null,null,null,null,null,null,null,null,null,null,null,null,null,"",0,0,0,0,0,0,0,0,0,0,null,0,null,null,{"$f":"IF(AO226=\"\",\"\",IF(BV226=1,\"[b][color=red]\"&Datas!$D$32&\"[/color][/b]\"&AO226&\"[b][color=red]\"&Datas!$D$33&\"{\"&BU226&\"}[/color][/b]\",AO226))","v":""},""," ",{"$f":"IF(ISBLANK(Datas!$C$47),\"\",\" - \"&AX226)","v":{"$error":"#N/A"}},{"$f":"IF(ISBLANK(Datas!$C$48),\"\",\" - \"&AY226)","v":" - 0"},{"$f":"IF(ISBLANK(Datas!$C$49),\"\",\" - \"&AZ226)","v":""},{"$f":"IF(ISBLANK(Datas!$C$50),\"\",\" - \"&BA226)","v":" - Ecus:"},{"$f":"IF(ISBLANK(Datas!$C$51),\"\",\" - \"&BB226)","v":" - Niv: "},null,{"$error":"#N/A"},{"$error":"#N/A"},0,"PR:","Ecus:","Niv: ",null,null,null,null,0,{"$f":"VLOOKUP(BG226,LstVillage!$B$8:$C$283,1)","v":{"$error":"#N/A"}},{"$error":"#N/A"},{"$error":"#N/A"},0,{"$f":"VLOOKUP(BK226,Datas!$G$6:$G$17,1)","v":{"$error":"#N/A"}},{"$error":"#N/A"},{"$error":"#N/A"},null,0,0,0,null,{"$f":"VLOOKUP(BG226,Liste_Noire!$B$15:$G$1208,1)","v":{"$error":"#N/A"}},{"$f":"VLOOKUP(BG226,Liste_Noire!$B$15:$G$1208,5)","v":{"$error":"#N/A"}},{"$error":"#N/A"},null,0,0,0,0,0,0,0]
[null,""," ","","","","",null,null,null,null,null,null,null,null,null,null,null,null,null,null,null,null,null,"",0,0,0,0,0,0,0,0,0,0,null,0,null,null,{"$f":"IF(AO227=\"\",\"\",IF(BV227=1,\"[b][color=red]\"&Datas!$D$32&\"[/color][/b]\"&AO227&\"[b][color=red]\"&Datas!$D$33&\"{\"&BU227&\"}[/color][/b]\",AO227))","v":""},""," ",{"$f":"IF(ISBLANK(Datas!$C$47),\"\",\" - \"&AX227)","v":{"$error":"#N/A"}},{"$f":"IF(ISBLANK(Datas!$C$48),\"\",\" - \"&AY227)","v":" - 0"},{"$f":"IF(ISBLANK(Datas!$C$49),\"\",\" - \"&AZ227)","v":""},{"$f":"IF(ISBLANK(Datas!$C$50),\"\",\" - \"&BA227)","v":" - Ecus:"},{"$f":"IF(ISBLANK(Datas!$C$51),\"\",\" - \"&BB227)","v":" - Niv: "},null,{"$error":"#N/A"},{"$error":"#N/A"},0,"PR:","Ecus:","Niv: ",null,null,null,null,0,{"$f":"VLOOKUP(BG227,LstVillage!$B$8:$C$283,1)","v":{"$error":"#N/A"}},{"$error":"#N/A"},{"$error":"#N/A"},0,{"$f":"VLOOKUP(BK227,Datas!$G$6:$G$17,1)","v":{"$error":"#N/A"}},{"$error":"#N/A"},{"$error":"#N/A"},null,0,0,0,null,{"$f":"VLOOKUP(BG227,Liste_Noire!$B$15:$G$1208,1)","v":{"$error":"#N/A"}},{"$f":"VLOOKUP(BG227,Liste_Noire!$B$15:$G$1208,5)","v":{"$error":"#N/A"}},{"$error":"#N/A"},null,0,0,0,0,0,0,0]
[null,""," ","","","","",null,null,null,null,null,null,null,null,null,null,null,null,null,null,null,null,null,"",0,0,0,0,0,0,0,0,0,0,null,0,null,null,{"$f":"IF(AO228=\"\",\"\",IF(BV228=1,\"[b][color=red]\"&Datas!$D$32&\"[/color][/b]\"&AO228&\"[b][color=red]\"&Datas!$D$33&\"{\"&BU228&\"}[/color][/b]\",AO228))","v":""},""," ",{"$f":"IF(ISBLANK(Datas!$C$47),\"\",\" - \"&AX228)","v":{"$error":"#N/A"}},{"$f":"IF(ISBLANK(Datas!$C$48),\"\",\" - \"&AY228)","v":" - 0"},{"$f":"IF(ISBLANK(Datas!$C$49),\"\",\" - \"&AZ228)","v":""},{"$f":"IF(ISBLANK(Datas!$C$50),\"\",\" - \"&BA228)","v":" - Ecus:"},{"$f":"IF(ISBLANK(Datas!$C$51),\"\",\" - \"&BB228)","v":" - Niv: "},null,{"$error":"#N/A"},{"$error":"#N/A"},0,"PR:","Ecus:","Niv: ",null,null,null,null,0,{"$f":"VLOOKUP(BG228,LstVillage!$B$8:$C$283,1)","v":{"$error":"#N/A"}},{"$error":"#N/A"},{"$error":"#N/A"},0,{"$f":"VLOOKUP(BK228,Datas!$G$6:$G$17,1)","v":{"$error":"#N/A"}},{"$error":"#N/A"},{"$error":"#N/A"},null,0,0,0,null,{"$f":"VLOOKUP(BG228,Liste_Noire!$B$15:$G$1208,1)","v":{"$error":"#N/A"}},{"$f":"VLOOKUP(BG228,Liste_Noire!$B$15:$G$1208,5)","v":{"$error":"#N/A"}},{"$error":"#N/A"},null,0,0,0,0,0,0,0]
[null,""," ","","","","",null,null,null,null,null,null,null,null,null,null,null,null,null,null,null,null,null,"",0,0,0,0,0,0,0,0,0,0,null,0,null,null,{"$f":"IF(AO229=\"\",\"\",IF(BV229=1,\"[b][color=red]\"&Datas!$D$32&\"[/color][/b]\"&AO229&\"[b][color=red]\"&Datas!$D$33&\"{\"&BU229&\"}[/color][/b]\",AO229))","v":""},""," ",{"$f":"IF(ISBLANK(Datas!$C$47),\"\",\" - \"&AX229)","v":{"$error":"#N/A"}},{"$f":"IF(ISBLANK(Datas!$C$48),\"\",\" - \"&AY229)","v":" - 0"},{"$f":"IF(ISBLANK(Datas!$C$49),\"\",\" - \"&AZ229)","v":""},{"$f":"IF(ISBLANK(Datas!$C$50),\"\",\" - \"&BA229)","v":" - Ecus:"},{"$f":"IF(ISBLANK(Datas!$C$51),\"\",\" - \"&BB229)","v":" - Niv: "},null,{"$error":"#N/A"},{"$error":"#N/A"},0,"PR:","Ecus:","Niv: ",null,null,null,null,0,{"$f":"VLOOKUP(BG229,LstVillage!$B$8:$C$283,1)","v":{"$error":"#N/A"}},{"$error":"#N/A"},{"$error":"#N/A"},0,{"$f":"VLOOKUP(BK229,Datas!$G$6:$G$17,1)","v":{"$error":"#N/A"}},{"$error":"#N/A"},{"$error":"#N/A"},null,0,0,0,null,{"$f":"VLOOKUP(BG229,Liste_Noire!$B$15:$G$1208,1)","v":{"$error":"#N/A"}},{"$f":"VLOOKUP(BG229,Liste_Noire!$B$15:$G$1208,5)","v":{"$error":"#N/A"}},{"$error":"#N/A"},null,0,0,0,0,0,0,0]
[null,""," ","","","","",null,null,null,null,null,null,null,null,null,null,null,null,null,null,null,null,null,"",0,0,0,0,0,0,0,0,0,0,null,0,null,null,{"$f":"IF(AO230=\"\",\"\",IF(BV230=1,\"[b][color=red]\"&Datas!$D$32&\"[/color][/b]\"&AO230&\"[b][color=red]\"&Datas!$D$33&\"{\"&BU230&\"}[/color][/b]\",AO230))","v":""},""," ",{"$f":"IF(ISBLANK(Datas!$C$47),\"\",\" - \"&AX230)","v":{"$error":"#N/A"}},{"$f":"IF(ISBLANK(Datas!$C$48),\"\",\" - \"&AY230)","v":" - 0"},{"$f":"IF(ISBLANK(Datas!$C$49),\"\",\" - \"&AZ230)","v":""},{"$f":"IF(ISBLANK(Datas!$C$50),\"\",\" - \"&BA230)","v":" - Ecus:"},{"$f":"IF(ISBLANK(Datas!$C$51),\"\",\" - \"&BB230)","v":" - Niv: "},null,{"$error":"#N/A"},{"$error":"#N/A"},0,"PR:","Ecus:","Niv: ",null,null,null,null,0,{"$f":"VLOOKUP(BG230,LstVillage!$B$8:$C$283,1)","v":{"$error":"#N/A"}},{"$error":"#N/A"},{"$error":"#N/A"},0,{"$f":"VLOOKUP(BK230,Datas!$G$6:$G$17,1)","v":{"$error":"#N/A"}},{"$error":"#N/A"},{"$error":"#N/A"},null,0,0,0,null,{"$f":"VLOOKUP(BG230,Liste_Noire!$B$15:$G$1208,1)","v":{"$error":"#N/A"}},{"$f":"VLOOKUP(BG230,Liste_Noire!$B$15:$G$1208,5)","v":{"$error":"#N/A"}},{"$error":"#N/A"},null,0,0,0,0,0,0,0]
[null,""," ","","","","",null,null,null,null,null,null,null,null,null,null,null,null,null,null,null,null,null,"",0,0,0,0,0,0,0,0,0,0,null,0,null,null,{"$f":"IF(AO231=\"\",\"\",IF(BV231=1,\"[b][color=red]\"&Datas!$D$32&\"[/color][/b]\"&AO231&\"[b][color=red]\"&Datas!$D$33&\"{\"&BU231&\"}[/color][/b]\",AO231))","v":""},""," ",{"$f":"IF(ISBLANK(Datas!$C$47),\"\",\" - \"&AX231)","v":{"$error":"#N/A"}},{"$f":"IF(ISBLANK(Datas!$C$48),\"\",\" - \"&AY231)","v":" - 0"},{"$f":"IF(ISBLANK(Datas!$C$49),\"\",\" - \"&AZ231)","v":""},{"$f":"IF(ISBLANK(Datas!$C$50),\"\",\" - \"&BA231)","v":" - Ecus:"},{"$f":"IF(ISBLANK(Datas!$C$51),\"\",\" - \"&BB231)","v":" - Niv: "},null,{"$error":"#N/A"},{"$error":"#N/A"},0,"PR:","Ecus:","Niv: ",null,null,null,null,0,{"$f":"VLOOKUP(BG231,LstVillage!$B$8:$C$283,1)","v":{"$error":"#N/A"}},{"$error":"#N/A"},{"$error":"#N/A"},0,{"$f":"VLOOKUP(BK231,Datas!$G$6:$G$17,1)","v":{"$error":"#N/A"}},{"$error":"#N/A"},{"$error":"#N/A"},null,0,0,0,null,{"$f":"VLOOKUP(BG231,Liste_Noire!$B$15:$G$1208,1)","v":{"$error":"#N/A"}},{"$f":"VLOOKUP(BG231,Liste_Noire!$B$15:$G$1208,5)","v":{"$error":"#N/A"}},{"$error":"#N/A"},null,0,0,0,0,0,0,0]
[null,""," ","","","","",null,null,null,null,null,null,null,null,null,null,null,null,null,null,null,null,null,"",0,0,0,0,0,0,0,0,0,0,null,0,null,null,{"$f":"IF(AO232=\"\",\"\",IF(BV232=1,\"[b][color=red]\"&Datas!$D$32&\"[/color][/b]\"&AO232&\"[b][color=red]\"&Datas!$D$33&\"{\"&BU232&\"}[/color][/b]\",AO232))","v":""},""," ",{"$f":"IF(ISBLANK(Datas!$C$47),\"\",\" - \"&AX232)","v":{"$error":"#N/A"}},{"$f":"IF(ISBLANK(Datas!$C$48),\"\",\" - \"&AY232)","v":" - 0"},{"$f":"IF(ISBLANK(Datas!$C$49),\"\",\" - \"&AZ232)","v":""},{"$f":"IF(ISBLANK(Datas!$C$50),\"\",\" - \"&BA232)","v":" - Ecus:"},{"$f":"IF(ISBLANK(Datas!$C$51),\"\",\" - \"&BB232)","v":" - Niv: "},null,{"$error":"#N/A"},{"$error":"#N/A"},0,"PR:","Ecus:","Niv: ",null,null,null,null,0,{"$f":"VLOOKUP(BG232,LstVillage!$B$8:$C$283,1)","v":{"$error":"#N/A"}},{"$error":"#N/A"},{"$error":"#N/A"},0,{"$f":"VLOOKUP(BK232,Datas!$G$6:$G$17,1)","v":{"$error":"#N/A"}},{"$error":"#N/A"},{"$error":"#N/A"},null,0,0,0,null,{"$f":"VLOOKUP(BG232,Liste_Noire!$B$15:$G$1208,1)","v":{"$error":"#N/A"}},{"$f":"VLOOKUP(BG232,Liste_Noire!$B$15:$G$1208,5)","v":{"$error":"#N/A"}},{"$error":"#N/A"},null,0,0,0,0,0,0,0]
[null,""," ","","","","",null,null,null,null,null,null,null,null,null,null,null,null,null,null,null,null,null,"",0,0,0,0,0,0,0,0,0,0,null,0,null,null,{"$f":"IF(AO233=\"\",\"\",IF(BV233=1,\"[b][color=red]\"&Datas!$D$32&\"[/color][/b]\"&AO233&\"[b][color=red]\"&Datas!$D$33&\"{\"&BU233&\"}[/color][/b]\",AO233))","v":""},""," ",{"$f":"IF(ISBLANK(Datas!$C$47),\"\",\" - \"&AX233)","v":{"$error":"#N/A"}},{"$f":"IF(ISBLANK(Datas!$C$48),\"\",\" - \"&AY233)","v":" - 0"},{"$f":"IF(ISBLANK(Datas!$C$49),\"\",\" - \"&AZ233)","v":""},{"$f":"IF(ISBLANK(Datas!$C$50),\"\",\" - \"&BA233)","v":" - Ecus:"},{"$f":"IF(ISBLANK(Datas!$C$51),\"\",\" - \"&BB233)","v":" - Niv: "},null,{"$error":"#N/A"},{"$error":"#N/A"},0,"PR:","Ecus:","Niv: ",null,null,null,null,0,{"$f":"VLOOKUP(BG233,LstVillage!$B$8:$C$283,1)","v":{"$error":"#N/A"}},{"$error":"#N/A"},{"$error":"#N/A"},0,{"$f":"VLOOKUP(BK233,Datas!$G$6:$G$17,1)","v":{"$error":"#N/A"}},{"$error":"#N/A"},{"$error":"#N/A"},null,0,0,0,null,{"$f":"VLOOKUP(BG233,Liste_Noire!$B$15:$G$1208,1)","v":{"$error":"#N/A"}},{"$f":"VLOOKUP(BG233,Liste_Noire!$B$15:$G$1208,5)","v":{"$error":"#N/A"}},{"$error":"#N/A"},null,0,0,0,0,0,0,0]
[null,""," ","","","","",null,null,null,null,null,null,null,null,null,null,null,null,null,null,null,null,null,"",0,0,0,0,0,0,0,0,0,0,null,0,null,null,{"$f":"IF(AO234=\"\",\"\",IF(BV234=1,\"[b][color=red]\"&Datas!$D$32&\"[/color][/b]\"&AO234&\"[b][color=red]\"&Datas!$D$33&\"{\"&BU234&\"}[/color][/b]\",AO234))","v":""},""," ",{"$f":"IF(ISBLANK(Datas!$C$47),\"\",\" - \"&AX234)","v":{"$error":"#N/A"}},{"$f":"IF(ISBLANK(Datas!$C$48),\"\",\" - \"&AY234)","v":" - 0"},{"$f":"IF(ISBLANK(Datas!$C$49),\"\",\" - \"&AZ234)","v":""},{"$f":"IF(ISBLANK(Datas!$C$50),\"\",\" - \"&BA234)","v":" - Ecus:"},{"$f":"IF(ISBLANK(Datas!$C$51),\"\",\" - \"&BB234)","v":" - Niv: "},null,{"$error":"#N/A"},{"$error":"#N/A"},0,"PR:","Ecus:","Niv: ",null,null,null,null,0,{"$f":"VLOOKUP(BG234,LstVillage!$B$8:$C$283,1)","v":{"$error":"#N/A"}},{"$error":"#N/A"},{"$error":"#N/A"},0,{"$f":"VLOOKUP(BK234,Datas!$G$6:$G$17,1)","v":{"$error":"#N/A"}},{"$error":"#N/A"},{"$error":"#N/A"},null,0,0,0,null,{"$f":"VLOOKUP(BG234,Liste_Noire!$B$15:$G$1208,1)","v":{"$error":"#N/A"}},{"$f":"VLOOKUP(BG234,Liste_Noire!$B$15:$G$1208,5)","v":{"$error":"#N/A"}},{"$error":"#N/A"},null,0,0,0,0,0,0,0]
[null,""," ","","","","",null,null,null,null,null,null,null,null,null,null,null,null,null,null,null,null,null,"",0,0,0,0,0,0,0,0,0,0,null,0,null,null,{"$f":"IF(AO235=\"\",\"\",IF(BV235=1,\"[b][color=red]\"&Datas!$D$32&\"[/color][/b]\"&AO235&\"[b][color=red]\"&Datas!$D$33&\"{\"&BU235&\"}[/color][/b]\",AO235))","v":""},""," ",{"$f":"IF(ISBLANK(Datas!$C$47),\"\",\" - \"&AX235)","v":{"$error":"#N/A"}},{"$f":"IF(ISBLANK(Datas!$C$48),\"\",\" - \"&AY235)","v":" - 0"},{"$f":"IF(ISBLANK(Datas!$C$49),\"\",\" - \"&AZ235)","v":""},{"$f":"IF(ISBLANK(Datas!$C$50),\"\",\" - \"&BA235)","v":" - Ecus:"},{"$f":"IF(ISBLANK(Datas!$C$51),\"\",\" - \"&BB235)","v":" - Niv: "},null,{"$error":"#N/A"},{"$error":"#N/A"},0,"PR:","Ecus:","Niv: ",null,null,null,null,0,{"$f":"VLOOKUP(BG235,LstVillage!$B$8:$C$283,1)","v":{"$error":"#N/A"}},{"$error":"#N/A"},{"$error":"#N/A"},0,{"$f":"VLOOKUP(BK235,Datas!$G$6:$G$17,1)","v":{"$error":"#N/A"}},{"$error":"#N/A"},{"$error":"#N/A"},null,0,0,0,null,{"$f":"VLOOKUP(BG235,Liste_Noire!$B$15:$G$1208,1)","v":{"$error":"#N/A"}},{"$f":"VLOOKUP(BG235,Liste_Noire!$B$15:$G$1208,5)","v":{"$error":"#N/A"}},{"$error":"#N/A"},null,0,0,0,0,0,0,0]
[null,""," ","","","","",null,null,null,null,null,null,null,null,null,null,null,null,null,null,null,null,null,"",0,0,0,0,0,0,0,0,0,0,null,0,null,null,{"$f":"IF(AO236=\"\",\"\",IF(BV236=1,\"[b][color=red]\"&Datas!$D$32&\"[/color][/b]\"&AO236&\"[b][color=red]\"&Datas!$D$33&\"{\"&BU236&\"}[/color][/b]\",AO236))","v":""},""," ",{"$f":"IF(ISBLANK(Datas!$C$47),\"\",\" - \"&AX236)","v":{"$error":"#N/A"}},{"$f":"IF(ISBLANK(Datas!$C$48),\"\",\" - \"&AY236)","v":" - 0"},{"$f":"IF(ISBLANK(Datas!$C$49),\"\",\" - \"&AZ236)","v":""},{"$f":"IF(ISBLANK(Datas!$C$50),\"\",\" - \"&BA236)","v":" - Ecus:"},{"$f":"IF(ISBLANK(Datas!$C$51),\"\",\" - \"&BB236)","v":" - Niv: "},null,{"$error":"#N/A"},{"$error":"#N/A"},0,"PR:","Ecus:","Niv: ",null,null,null,null,0,{"$f":"VLOOKUP(BG236,LstVillage!$B$8:$C$283,1)","v":{"$error":"#N/A"}},{"$error":"#N/A"},{"$error":"#N/A"},0,{"$f":"VLOOKUP(BK236,Datas!$G$6:$G$17,1)","v":{"$error":"#N/A"}},{"$error":"#N/A"},{"$error":"#N/A"},null,0,0,0,null,{"$f":"VLOOKUP(BG236,Liste_Noire!$B$15:$G$1208,1)","v":{"$error":"#N/A"}},{"$f":"VLOOKUP(BG236,Liste_Noire!$B$15:$G$1208,5)","v":{"$error":"#N/A"}},{"$error":"#N/A"},null,0,0,0,0,0,0,0]
[null,""," ","","","","",null,null,null,null,null,null,null,null,null,null,null,null,null,null,null,null,null,"",0,0,0,0,0,0,0,0,0,0,null,0,null,null,{"$f":"IF(AO237=\"\",\"\",IF(BV237=1,\"[b][color=red]\"&Datas!$D$32&\"[/color][/b]\"&AO237&\"[b][color=red]\"&Datas!$D$33&\"{\"&BU237&\"}[/color][/b]\",AO237))","v":""},""," ",{"$f":"IF(ISBLANK(Datas!$C$47),\"\",\" - \"&AX237)","v":{"$error":"#N/A"}},{"$f":"IF(ISBLANK(Datas!$C$48),\"\",\" - \"&AY237)","v":" - 0"},{"$f":"IF(ISBLANK(Datas!$C$49),\"\",\" - \"&AZ237)","v":""},{"$f":"IF(ISBLANK(Datas!$C$50),\"\",\" - \"&BA237)","v":" - Ecus:"},{"$f":"IF(ISBLANK(Datas!$C$51),\"\",\" - \"&BB237)","v":" - Niv: "},null,{"$error":"#N/A"},{"$error":"#N/A"},0,"PR:","Ecus:","Niv: ",null,null,null,null,0,{"$f":"VLOOKUP(BG237,LstVillage!$B$8:$C$283,1)","v":{"$error":"#N/A"}},{"$error":"#N/A"},{"$error":"#N/A"},0,{"$f":"VLOOKUP(BK237,Datas!$G$6:$G$17,1)","v":{"$error":"#N/A"}},{"$error":"#N/A"},{"$error":"#N/A"},null,0,0,0,null,{"$f":"VLOOKUP(BG237,Liste_Noire!$B$15:$G$1208,1)","v":{"$error":"#N/A"}},{"$f":"VLOOKUP(BG237,Liste_Noire!$B$15:$G$1208,5)","v":{"$error":"#N/A"}},{"$error":"#N/A"},null,0,0,0,0,0,0,0]
[null,""," ","","","","",null,null,null,null,null,null,null,null,null,null,null,null,null,null,null,null,null,"",0,0,0,0,0,0,0,0,0,0,null,0,null,null,{"$f":"IF(AO238=\"\",\"\",IF(BV238=1,\"[b][color=red]\"&Datas!$D$32&\"[/color][/b]\"&AO238&\"[b][color=red]\"&Datas!$D$33&\"{\"&BU238&\"}[/color][/b]\",AO238))","v":""},""," ",{"$f":"IF(ISBLANK(Datas!$C$47),\"\",\" - \"&AX238)","v":{"$error":"#N/A"}},{"$f":"IF(ISBLANK(Datas!$C$48),\"\",\" - \"&AY238)","v":" - 0"},{"$f":"IF(ISBLANK(Datas!$C$49),\"\",\" - \"&AZ238)","v":""},{"$f":"IF(ISBLANK(Datas!$C$50),\"\",\" - \"&BA238)","v":" - Ecus:"},{"$f":"IF(ISBLANK(Datas!$C$51),\"\",\" - \"&BB238)","v":" - Niv: "},null,{"$error":"#N/A"},{"$error":"#N/A"},0,"PR:","Ecus:","Niv: ",null,null,null,null,0,{"$f":"VLOOKUP(BG238,LstVillage!$B$8:$C$283,1)","v":{"$error":"#N/A"}},{"$error":"#N/A"},{"$error":"#N/A"},0,{"$f":"VLOOKUP(BK238,Datas!$G$6:$G$17,1)","v":{"$error":"#N/A"}},{"$error":"#N/A"},{"$error":"#N/A"},null,0,0,0,null,{"$f":"VLOOKUP(BG238,Liste_Noire!$B$15:$G$1208,1)","v":{"$error":"#N/A"}},{"$f":"VLOOKUP(BG238,Liste_Noire!$B$15:$G$1208,5)","v":{"$error":"#N/A"}},{"$error":"#N/A"},null,0,0,0,0,0,0,0]
[null,""," ","","","","",null,null,null,null,null,null,null,null,null,null,null,null,null,null,null,null,null,"",0,0,0,0,0,0,0,0,0,0,null,0,null,null,{"$f":"IF(AO239=\"\",\"\",IF(BV239=1,\"[b][color=red]\"&Datas!$D$32&\"[/color][/b]\"&AO239&\"[b][color=red]\"&Datas!$D$33&\"{\"&BU239&\"}[/color][/b]\",AO239))","v":""},""," ",{"$f":"IF(ISBLANK(Datas!$C$47),\"\",\" - \"&AX239)","v":{"$error":"#N/A"}},{"$f":"IF(ISBLANK(Datas!$C$48),\"\",\" - \"&AY239)","v":" - 0"},{"$f":"IF(ISBLANK(Datas!$C$49),\"\",\" - \"&AZ239)","v":""},{"$f":"IF(ISBLANK(Datas!$C$50),\"\",\" - \"&BA239)","v":" - Ecus:"},{"$f":"IF(ISBLANK(Datas!$C$51),\"\",\" - \"&BB239)","v":" - Niv: "},null,{"$error":"#N/A"},{"$error":"#N/A"},0,"PR:","Ecus:","Niv: ",null,null,null,null,0,{"$f":"VLOOKUP(BG239,LstVillage!$B$8:$C$283,1)","v":{"$error":"#N/A"}},{"$error":"#N/A"},{"$error":"#N/A"},0,{"$f":"VLOOKUP(BK239,Datas!$G$6:$G$17,1)","v":{"$error":"#N/A"}},{"$error":"#N/A"},{"$error":"#N/A"},null,0,0,0,null,{"$f":"VLOOKUP(BG239,Liste_Noire!$B$15:$G$1208,1)","v":{"$error":"#N/A"}},{"$f":"VLOOKUP(BG239,Liste_Noire!$B$15:$G$1208,5)","v":{"$error":"#N/A"}},{"$error":"#N/A"},null,0,0,0,0,0,0,0]
[null,""," ","","","","",null,null,null,null,null,null,null,null,null,null,null,null,null,null,null,null,null,"",0,0,0,0,0,0,0,0,0,0,null,0,null,null,{"$f":"IF(AO240=\"\",\"\",IF(BV240=1,\"[b][color=red]\"&Datas!$D$32&\"[/color][/b]\"&AO240&\"[b][color=red]\"&Datas!$D$33&\"{\"&BU240&\"}[/color][/b]\",AO240))","v":""},""," ",{"$f":"IF(ISBLANK(Datas!$C$47),\"\",\" - \"&AX240)","v":{"$error":"#N/A"}},{"$f":"IF(ISBLANK(Datas!$C$48),\"\",\" - \"&AY240)","v":" - 0"},{"$f":"IF(ISBLANK(Datas!$C$49),\"\",\" - \"&AZ240)","v":""},{"$f":"IF(ISBLANK(Datas!$C$50),\"\",\" - \"&BA240)","v":" - Ecus:"},{"$f":"IF(ISBLANK(Datas!$C$51),\"\",\" - \"&BB240)","v":" - Niv: "},null,{"$error":"#N/A"},{"$error":"#N/A"},0,"PR:","Ecus:","Niv: ",null,null,null,null,0,{"$f":"VLOOKUP(BG240,LstVillage!$B$8:$C$283,1)","v":{"$error":"#N/A"}},{"$error":"#N/A"},{"$error":"#N/A"},0,{"$f":"VLOOKUP(BK240,Datas!$G$6:$G$17,1)","v":{"$error":"#N/A"}},{"$error":"#N/A"},{"$error":"#N/A"},null,0,0,0,null,{"$f":"VLOOKUP(BG240,Liste_Noire!$B$15:$G$1208,1)","v":{"$error":"#N/A"}},{"$f":"VLOOKUP(BG240,Liste_Noire!$B$15:$G$1208,5)","v":{"$error":"#N/A"}},{"$error":"#N/A"},null,0,0,0,0,0,0,0]
[null,""," ","","","","",null,null,null,null,null,null,null,null,null,null,null,null,null,null,null,null,null,"",0,0,0,0,0,0,0,0,0,0,null,0,null,null,{"$f":"IF(AO241=\"\",\"\",IF(BV241=1,\"[b][color=red]\"&Datas!$D$32&\"[/color][/b]\"&AO241&\"[b][color=red]\"&Datas!$D$33&\"{\"&BU241&\"}[/color][/b]\",AO241))","v":""},""," ",{"$f":"IF(ISBLANK(Datas!$C$47),\"\",\" - \"&AX241)","v":{"$error":"#N/A"}},{"$f":"IF(ISBLANK(Datas!$C$48),\"\",\" - \"&AY241)","v":" - 0"},{"$f":"IF(ISBLANK(Datas!$C$49),\"\",\" - \"&AZ241)","v":""},{"$f":"IF(ISBLANK(Datas!$C$50),\"\",\" - \"&BA241)","v":" - Ecus:"},{"$f":"IF(ISBLANK(Datas!$C$51),\"\",\" - \"&BB241)","v":" - Niv: "},null,{"$error":"#N/A"},{"$error":"#N/A"},0,"PR:","Ecus:","Niv: ",null,null,null,null,0,{"$f":"VLOOKUP(BG241,LstVillage!$B$8:$C$283,1)","v":{"$error":"#N/A"}},{"$error":"#N/A"},{"$error":"#N/A"},0,{"$f":"VLOOKUP(BK241,Datas!$G$6:$G$17,1)","v":{"$error":"#N/A"}},{"$error":"#N/A"},{"$error":"#N/A"},null,0,0,0,null,{"$f":"VLOOKUP(BG241,Liste_Noire!$B$15:$G$1208,1)","v":{"$error":"#N/A"}},{"$f":"VLOOKUP(BG241,Liste_Noire!$B$15:$G$1208,5)","v":{"$error":"#N/A"}},{"$error":"#N/A"},null,0,0,0,0,0,0,0]
[null,""," ","","","","",null,null,null,null,null,null,null,null,null,null,null,null,null,null,null,null,null,"",0,0,0,0,0,0,0,0,0,0,null,0,null,null,{"$f":"IF(AO242=\"\",\"\",IF(BV242=1,\"[b][color=red]\"&Datas!$D$32&\"[/color][/b]\"&AO242&\"[b][color=red]\"&Datas!$D$33&\"{\"&BU242&\"}[/color][/b]\",AO242))","v":""},""," ",{"$f":"IF(ISBLANK(Datas!$C$47),\"\",\" - \"&AX242)","v":{"$error":"#N/A"}},{"$f":"IF(ISBLANK(Datas!$C$48),\"\",\" - \"&AY242)","v":" - 0"},{"$f":"IF(ISBLANK(Datas!$C$49),\"\",\" - \"&AZ242)","v":""},{"$f":"IF(ISBLANK(Datas!$C$50),\"\",\" - \"&BA242)","v":" - Ecus:"},{"$f":"IF(ISBLANK(Datas!$C$51),\"\",\" - \"&BB242)","v":" - Niv: "},null,{"$error":"#N/A"},{"$error":"#N/A"},0,"PR:","Ecus:","Niv: ",null,null,null,null,0,{"$f":"VLOOKUP(BG242,LstVillage!$B$8:$C$283,1)","v":{"$error":"#N/A"}},{"$error":"#N/A"},{"$error":"#N/A"},0,{"$f":"VLOOKUP(BK242,Datas!$G$6:$G$17,1)","v":{"$error":"#N/A"}},{"$error":"#N/A"},{"$error":"#N/A"},null,0,0,0,null,{"$f":"VLOOKUP(BG242,Liste_Noire!$B$15:$G$1208,1)","v":{"$error":"#N/A"}},{"$f":"VLOOKUP(BG242,Liste_Noire!$B$15:$G$1208,5)","v":{"$error":"#N/A"}},{"$error":"#N/A"},null,0,0,0,0,0,0,0]
[null,""," ","","","","",null,null,null,null,null,null,null,null,null,null,null,null,null,null,null,null,null,"",0,0,0,0,0,0,0,0,0,0,null,0,null,null,{"$f":"IF(AO243=\"\",\"\",IF(BV243=1,\"[b][color=red]\"&Datas!$D$32&\"[/color][/b]\"&AO243&\"[b][color=red]\"&Datas!$D$33&\"{\"&BU243&\"}[/color][/b]\",AO243))","v":""},""," ",{"$f":"IF(ISBLANK(Datas!$C$47),\"\",\" - \"&AX243)","v":{"$error":"#N/A"}},{"$f":"IF(ISBLANK(Datas!$C$48),\"\",\" - \"&AY243)","v":" - 0"},{"$f":"IF(ISBLANK(Datas!$C$49),\"\",\" - \"&AZ243)","v":""},{"$f":"IF(ISBLANK(Datas!$C$50),\"\",\" - \"&BA243)","v":" - Ecus:"},{"$f":"IF(ISBLANK(Datas!$C$51),\"\",\" - \"&BB243)","v":" - Niv: "},null,{"$error":"#N/A"},{"$error":"#N/A"},0,"PR:","Ecus:","Niv: ",null,null,null,null,0,{"$f":"VLOOKUP(BG243,LstVillage!$B$8:$C$283,1)","v":{"$error":"#N/A"}},{"$error":"#N/A"},{"$error":"#N/A"},0,{"$f":"VLOOKUP(BK243,Datas!$G$6:$G$17,1)","v":{"$error":"#N/A"}},{"$error":"#N/A"},{"$error":"#N/A"},null,0,0,0,null,{"$f":"VLOOKUP(BG243,Liste_Noire!$B$15:$G$1208,1)","v":{"$error":"#N/A"}},{"$f":"VLOOKUP(BG243,Liste_Noire!$B$15:$G$1208,5)","v":{"$error":"#N/A"}},{"$error":"#N/A"},null,0,0,0,0,0,0,0]
[null,""," ","","","","",null,null,null,null,null,null,null,null,null,null,null,null,null,null,null,null,null,"",0,0,0,0,0,0,0,0,0,0,null,0,null,null,{"$f":"IF(AO244=\"\",\"\",IF(BV244=1,\"[b][color=red]\"&Datas!$D$32&\"[/color][/b]\"&AO244&\"[b][color=red]\"&Datas!$D$33&\"{\"&BU244&\"}[/color][/b]\",AO244))","v":""},""," ",{"$f":"IF(ISBLANK(Datas!$C$47),\"\",\" - \"&AX244)","v":{"$error":"#N/A"}},{"$f":"IF(ISBLANK(Datas!$C$48),\"\",\" - \"&AY244)","v":" - 0"},{"$f":"IF(ISBLANK(Datas!$C$49),\"\",\" - \"&AZ244)","v":""},{"$f":"IF(ISBLANK(Datas!$C$50),\"\",\" - \"&BA244)","v":" - Ecus:"},{"$f":"IF(ISBLANK(Datas!$C$51),\"\",\" - \"&BB244)","v":" - Niv: "},null,{"$error":"#N/A"},{"$error":"#N/A"},0,"PR:","Ecus:","Niv: ",null,null,null,null,0,{"$f":"VLOOKUP(BG244,LstVillage!$B$8:$C$283,1)","v":{"$error":"#N/A"}},{"$error":"#N/A"},{"$error":"#N/A"},0,{"$f":"VLOOKUP(BK244,Datas!$G$6:$G$17,1)","v":{"$error":"#N/A"}},{"$error":"#N/A"},{"$error":"#N/A"},null,0,0,0,null,{"$f":"VLOOKUP(BG244,Liste_Noire!$B$15:$G$1208,1)","v":{"$error":"#N/A"}},{"$f":"VLOOKUP(BG244,Liste_Noire!$B$15:$G$1208,5)","v":{"$error":"#N/A"}},{"$error":"#N/A"},null,0,0,0,0,0,0,0]
[null,""," ","","","","",null,null,null,null,null,null,null,null,null,null,null,null,null,null,null,null,null,"",0,0,0,0,0,0,0,0,0,0,null,0,null,null,{"$f":"IF(AO245=\"\",\"\",IF(BV245=1,\"[b][color=red]\"&Datas!$D$32&\"[/color][/b]\"&AO245&\"[b][color=red]\"&Datas!$D$33&\"{\"&BU245&\"}[/color][/b]\",AO245))","v":""},""," ",{"$f":"IF(ISBLANK(Datas!$C$47),\"\",\" - \"&AX245)","v":{"$error":"#N/A"}},{"$f":"IF(ISBLANK(Datas!$C$48),\"\",\" - \"&AY245)","v":" - 0"},{"$f":"IF(ISBLANK(Datas!$C$49),\"\",\" - \"&AZ245)","v":""},{"$f":"IF(ISBLANK(Datas!$C$50),\"\",\" - \"&BA245)","v":" - Ecus:"},{"$f":"IF(ISBLANK(Datas!$C$51),\"\",\" - \"&BB245)","v":" - Niv: "},null,{"$error":"#N/A"},{"$error":"#N/A"},0,"PR:","Ecus:","Niv: ",null,null,null,null,0,{"$f":"VLOOKUP(BG245,LstVillage!$B$8:$C$283,1)","v":{"$error":"#N/A"}},{"$error":"#N/A"},{"$error":"#N/A"},0,{"$f":"VLOOKUP(BK245,Datas!$G$6:$G$17,1)","v":{"$error":"#N/A"}},{"$error":"#N/A"},{"$error":"#N/A"},null,0,0,0,null,{"$f":"VLOOKUP(BG245,Liste_Noire!$B$15:$G$1208,1)","v":{"$error":"#N/A"}},{"$f":"VLOOKUP(BG245,Liste_Noire!$B$15:$G$1208,5)","v":{"$error":"#N/A"}},{"$error":"#N/A"},null,0,0,0,0,0,0,0]
[null,""," ","","","","",null,null,null,null,null,null,null,null,null,null,null,null,null,null,null,null,null,"",0,0,0,0,0,0,0,0,0,0,null,0,null,null,{"$f":"IF(AO246=\"\",\"\",IF(BV246=1,\"[b][color=red]\"&Datas!$D$32&\"[/color][/b]\"&AO246&\"[b][color=red]\"&Datas!$D$33&\"{\"&BU246&\"}[/color][/b]\",AO246))","v":""},""," ",{"$f":"IF(ISBLANK(Datas!$C$47),\"\",\" - \"&AX246)","v":{"$error":"#N/A"}},{"$f":"IF(ISBLANK(Datas!$C$48),\"\",\" - \"&AY246)","v":" - 0"},{"$f":"IF(ISBLANK(Datas!$C$49),\"\",\" - \"&AZ246)","v":""},{"$f":"IF(ISBLANK(Datas!$C$50),\"\",\" - \"&BA246)","v":" - Ecus:"},{"$f":"IF(ISBLANK(Datas!$C$51),\"\",\" - \"&BB246)","v":" - Niv: "},null,{"$error":"#N/A"},{"$error":"#N/A"},0,"PR:","Ecus:","Niv: ",null,null,null,null,0,{"$f":"VLOOKUP(BG246,LstVillage!$B$8:$C$283,1)","v":{"$error":"#N/A"}},{"$error":"#N/A"},{"$error":"#N/A"},0,{"$f":"VLOOKUP(BK246,Datas!$G$6:$G$17,1)","v":{"$error":"#N/A"}},{"$error":"#N/A"},{"$error":"#N/A"},null,0,0,0,null,{"$f":"VLOOKUP(BG246,Liste_Noire!$B$15:$G$1208,1)","v":{"$error":"#N/A"}},{"$f":"VLOOKUP(BG246,Liste_Noire!$B$15:$G$1208,5)","v":{"$error":"#N/A"}},{"$error":"#N/A"},null,0,0,0,0,0,0,0]
[null,""," ","","","","",null,null,null,null,null,null,null,null,null,null,null,null,null,null,null,null,null,"",0,0,0,0,0,0,0,0,0,0,null,0,null,null,{"$f":"IF(AO247=\"\",\"\",IF(BV247=1,\"[b][color=red]\"&Datas!$D$32&\"[/color][/b]\"&AO247&\"[b][color=red]\"&Datas!$D$33&\"{\"&BU247&\"}[/color][/b]\",AO247))","v":""},""," ",{"$f":"IF(ISBLANK(Datas!$C$47),\"\",\" - \"&AX247)","v":{"$error":"#N/A"}},{"$f":"IF(ISBLANK(Datas!$C$48),\"\",\" - \"&AY247)","v":" - 0"},{"$f":"IF(ISBLANK(Datas!$C$49),\"\",\" - \"&AZ247)","v":""},{"$f":"IF(ISBLANK(Datas!$C$50),\"\",\" - \"&BA247)","v":" - Ecus:"},{"$f":"IF(ISBLANK(Datas!$C$51),\"\",\" - \"&BB247)","v":" - Niv: "},null,{"$error":"#N/A"},{"$error":"#N/A"},0,"PR:","Ecus:","Niv: ",null,null,null,null,0,{"$f":"VLOOKUP(BG247,LstVillage!$B$8:$C$283,1)","v":{"$error":"#N/A"}},{"$error":"#N/A"},{"$error":"#N/A"},0,{"$f":"VLOOKUP(BK247,Datas!$G$6:$G$17,1)","v":{"$error":"#N/A"}},{"$error":"#N/A"},{"$error":"#N/A"},null,0,0,0,null,{"$f":"VLOOKUP(BG247,Liste_Noire!$B$15:$G$1208,1)","v":{"$error":"#N/A"}},{"$f":"VLOOKUP(BG247,Liste_Noire!$B$15:$G$1208,5)","v":{"$error":"#N/A"}},{"$error":"#N/A"},null,0,0,0,0,0,0,0]
[null,""," ","","","","",null,null,null,null,null,null,null,null,null,null,null,null,null,null,null,null,null,"",0,0,0,0,0,0,0,0,0,0,null,0,null,null,{"$f":"IF(AO248=\"\",\"\",IF(BV248=1,\"[b][color=red]\"&Datas!$D$32&\"[/color][/b]\"&AO248&\"[b][color=red]\"&Datas!$D$33&\"{\"&BU248&\"}[/color][/b]\",AO248))","v":""},""," ",{"$f":"IF(ISBLANK(Datas!$C$47),\"\",\" - \"&AX248)","v":{"$error":"#N/A"}},{"$f":"IF(ISBLANK(Datas!$C$48),\"\",\" - \"&AY248)","v":" - 0"},{"$f":"IF(ISBLANK(Datas!$C$49),\"\",\" - \"&AZ248)","v":""},{"$f":"IF(ISBLANK(Datas!$C$50),\"\",\" - \"&BA248)","v":" - Ecus:"},{"$f":"IF(ISBLANK(Datas!$C$51),\"\",\" - \"&BB248)","v":" - Niv: "},null,{"$error":"#N/A"},{"$error":"#N/A"},0,"PR:","Ecus:","Niv: ",null,null,null,null,0,{"$f":"VLOOKUP(BG248,LstVillage!$B$8:$C$283,1)","v":{"$error":"#N/A"}},{"$error":"#N/A"},{"$error":"#N/A"},0,{"$f":"VLOOKUP(BK248,Datas!$G$6:$G$17,1)","v":{"$error":"#N/A"}},{"$error":"#N/A"},{"$error":"#N/A"},null,0,0,0,null,{"$f":"VLOOKUP(BG248,Liste_Noire!$B$15:$G$1208,1)","v":{"$error":"#N/A"}},{"$f":"VLOOKUP(BG248,Liste_Noire!$B$15:$G$1208,5)","v":{"$error":"#N/A"}},{"$error":"#N/A"},null,0,0,0,0,0,0,0]
[null,""," ","","","","",null,null,null,null,null,null,null,null,null,null,null,null,null,null,null,null,null,"",0,0,0,0,0,0,0,0,0,0,null,0,null,null,{"$f":"IF(AO249=\"\",\"\",IF(BV249=1,\"[b][color=red]\"&Datas!$D$32&\"[/color][/b]\"&AO249&\"[b][color=red]\"&Datas!$D$33&\"{\"&BU249&\"}[/color][/b]\",AO249))","v":""},""," ",{"$f":"IF(ISBLANK(Datas!$C$47),\"\",\" - \"&AX249)","v":{"$error":"#N/A"}},{"$f":"IF(ISBLANK(Datas!$C$48),\"\",\" - \"&AY249)","v":" - 0"},{"$f":"IF(ISBLANK(Datas!$C$49),\"\",\" - \"&AZ249)","v":""},{"$f":"IF(ISBLANK(Datas!$C$50),\"\",\" - \"&BA249)","v":" - Ecus:"},{"$f":"IF(ISBLANK(Datas!$C$51),\"\",\" - \"&BB249)","v":" - Niv: "},null,{"$error":"#N/A"},{"$error":"#N/A"},0,"PR:","Ecus:","Niv: ",null,null,null,null,0,{"$f":"VLOOKUP(BG249,LstVillage!$B$8:$C$283,1)","v":{"$error":"#N/A"}},{"$error":"#N/A"},{"$error":"#N/A"},0,{"$f":"VLOOKUP(BK249,Datas!$G$6:$G$17,1)","v":{"$error":"#N/A"}},{"$error":"#N/A"},{"$error":"#N/A"},null,0,0,0,null,{"$f":"VLOOKUP(BG249,Liste_Noire!$B$15:$G$1208,1)","v":{"$error":"#N/A"}},{"$f":"VLOOKUP(BG249,Liste_Noire!$B$15:$G$1208,5)","v":{"$error":"#N/A"}},{"$error":"#N/A"},null,0,0,0,0,0,0,0]
[null,""," ","","","","",null,null,null,null,null,null,null,null,null,null,null,null,null,null,null,null,null,"",0,0,0,0,0,0,0,0,0,0,null,0,null,null,{"$f":"IF(AO250=\"\",\"\",IF(BV250=1,\"[b][color=red]\"&Datas!$D$32&\"[/color][/b]\"&AO250&\"[b][color=red]\"&Datas!$D$33&\"{\"&BU250&\"}[/color][/b]\",AO250))","v":""},""," ",{"$f":"IF(ISBLANK(Datas!$C$47),\"\",\" - \"&AX250)","v":{"$error":"#N/A"}},{"$f":"IF(ISBLANK(Datas!$C$48),\"\",\" - \"&AY250)","v":" - 0"},{"$f":"IF(ISBLANK(Datas!$C$49),\"\",\" - \"&AZ250)","v":""},{"$f":"IF(ISBLANK(Datas!$C$50),\"\",\" - \"&BA250)","v":" - Ecus:"},{"$f":"IF(ISBLANK(Datas!$C$51),\"\",\" - \"&BB250)","v":" - Niv: "},null,{"$error":"#N/A"},{"$error":"#N/A"},0,"PR:","Ecus:","Niv: ",null,null,null,null,0,{"$f":"VLOOKUP(BG250,LstVillage!$B$8:$C$283,1)","v":{"$error":"#N/A"}},{"$error":"#N/A"},{"$error":"#N/A"},0,{"$f":"VLOOKUP(BK250,Datas!$G$6:$G$17,1)","v":{"$error":"#N/A"}},{"$error":"#N/A"},{"$error":"#N/A"},null,0,0,0,null,{"$f":"VLOOKUP(BG250,Liste_Noire!$B$15:$G$1208,1)","v":{"$error":"#N/A"}},{"$f":"VLOOKUP(BG250,Liste_Noire!$B$15:$G$1208,5)","v":{"$error":"#N/A"}},{"$error":"#N/A"},null,0,0,0,0,0,0,0]
[null,""," ","","","","",null,null,null,null,null,null,null,null,null,null,null,null,null,null,null,null,null,"",0,0,0,0,0,0,0,0,0,0,null,0,null,null,{"$f":"IF(AO251=\"\",\"\",IF(BV251=1,\"[b][color=red]\"&Datas!$D$32&\"[/color][/b]\"&AO251&\"[b][color=red]\"&Datas!$D$33&\"{\"&BU251&\"}[/color][/b]\",AO251))","v":""},""," ",{"$f":"IF(ISBLANK(Datas!$C$47),\"\",\" - \"&AX251)","v":{"$error":"#N/A"}},{"$f":"IF(ISBLANK(Datas!$C$48),\"\",\" - \"&AY251)","v":" - 0"},{"$f":"IF(ISBLANK(Datas!$C$49),\"\",\" - \"&AZ251)","v":""},{"$f":"IF(ISBLANK(Datas!$C$50),\"\",\" - \"&BA251)","v":" - Ecus:"},{"$f":"IF(ISBLANK(Datas!$C$51),\"\",\" - \"&BB251)","v":" - Niv: "},null,{"$error":"#N/A"},{"$error":"#N/A"},0,"PR:","Ecus:","Niv: ",null,null,null,null,0,{"$f":"VLOOKUP(BG251,LstVillage!$B$8:$C$283,1)","v":{"$error":"#N/A"}},{"$error":"#N/A"},{"$error":"#N/A"},0,{"$f":"VLOOKUP(BK251,Datas!$G$6:$G$17,1)","v":{"$error":"#N/A"}},{"$error":"#N/A"},{"$error":"#N/A"},null,0,0,0,null,{"$f":"VLOOKUP(BG251,Liste_Noire!$B$15:$G$1208,1)","v":{"$error":"#N/A"}},{"$f":"VLOOKUP(BG251,Liste_Noire!$B$15:$G$1208,5)","v":{"$error":"#N/A"}},{"$error":"#N/A"},null,0,0,0,0,0,0,0]
[null,""," ","","","","",null,null,null,null,null,null,null,null,null,null,null,null,null,null,null,null,null,"",0,0,0,0,0,0,0,0,0,0,null,0,null,null,{"$f":"IF(AO252=\"\",\"\",IF(BV252=1,\"[b][color=red]\"&Datas!$D$32&\"[/color][/b]\"&AO252&\"[b][color=red]\"&Datas!$D$33&\"{\"&BU252&\"}[/color][/b]\",AO252))","v":""},""," ",{"$f":"IF(ISBLANK(Datas!$C$47),\"\",\" - \"&AX252)","v":{"$error":"#N/A"}},{"$f":"IF(ISBLANK(Datas!$C$48),\"\",\" - \"&AY252)","v":" - 0"},{"$f":"IF(ISBLANK(Datas!$C$49),\"\",\" - \"&AZ252)","v":""},{"$f":"IF(ISBLANK(Datas!$C$50),\"\",\" - \"&BA252)","v":" - Ecus:"},{"$f":"IF(ISBLANK(Datas!$C$51),\"\",\" - \"&BB252)","v":" - Niv: "},null,{"$error":"#N/A"},{"$error":"#N/A"},0,"PR:","Ecus:","Niv: ",null,null,null,null,0,{"$f":"VLOOKUP(BG252,LstVillage!$B$8:$C$283,1)","v":{"$error":"#N/A"}},{"$error":"#N/A"},{"$error":"#N/A"},0,{"$f":"VLOOKUP(BK252,Datas!$G$6:$G$17,1)","v":{"$error":"#N/A"}},{"$error":"#N/A"},{"$error":"#N/A"},null,0,0,0,null,{"$f":"VLOOKUP(BG252,Liste_Noire!$B$15:$G$1208,1)","v":{"$error":"#N/A"}},{"$f":"VLOOKUP(BG252,Liste_Noire!$B$15:$G$1208,5)","v":{"$error":"#N/A"}},{"$error":"#N/A"},null,0,0,0,0,0,0,0]
[null,""," ","","","","",null,null,null,null,null,null,null,null,null,null,null,null,null,null,null,null,null,"",0,0,0,0,0,0,0,0,0,0,null,0,null,null,{"$f":"IF(AO253=\"\",\"\",IF(BV253=1,\"[b][color=red]\"&Datas!$D$32&\"[/color][/b]\"&AO253&\"[b][color=red]\"&Datas!$D$33&\"{\"&BU253&\"}[/color][/b]\",AO253))","v":""},""," ",{"$f":"IF(ISBLANK(Datas!$C$47),\"\",\" - \"&AX253)","v":{"$error":"#N/A"}},{"$f":"IF(ISBLANK(Datas!$C$48),\"\",\" - \"&AY253)","v":" - 0"},{"$f":"IF(ISBLANK(Datas!$C$49),\"\",\" - \"&AZ253)","v":""},{"$f":"IF(ISBLANK(Datas!$C$50),\"\",\" - \"&BA253)","v":" - Ecus:"},{"$f":"IF(ISBLANK(Datas!$C$51),\"\",\" - \"&BB253)","v":" - Niv: "},null,{"$error":"#N/A"},{"$error":"#N/A"},0,"PR:","Ecus:","Niv: ",null,null,null,null,0,{"$f":"VLOOKUP(BG253,LstVillage!$B$8:$C$283,1)","v":{"$error":"#N/A"}},{"$error":"#N/A"},{"$error":"#N/A"},0,{"$f":"VLOOKUP(BK253,Datas!$G$6:$G$17,1)","v":{"$error":"#N/A"}},{"$error":"#N/A"},{"$error":"#N/A"},null,0,0,0,null,{"$f":"VLOOKUP(BG253,Liste_Noire!$B$15:$G$1208,1)","v":{"$error":"#N/A"}},{"$f":"VLOOKUP(BG253,Liste_Noire!$B$15:$G$1208,5)","v":{"$error":"#N/A"}},{"$error":"#N/A"},null,0,0,0,0,0,0,0]
[null,""," ","","","","",null,null,null,null,null,null,null,null,null,null,null,null,null,null,null,null,null,"",0,0,0,0,0,0,0,0,0,0,null,0,null,null,{"$f":"IF(AO254=\"\",\"\",IF(BV254=1,\"[b][color=red]\"&Datas!$D$32&\"[/color][/b]\"&AO254&\"[b][color=red]\"&Datas!$D$33&\"{\"&BU254&\"}[/color][/b]\",AO254))","v":""},""," ",{"$f":"IF(ISBLANK(Datas!$C$47),\"\",\" - \"&AX254)","v":{"$error":"#N/A"}},{"$f":"IF(ISBLANK(Datas!$C$48),\"\",\" - \"&AY254)","v":" - 0"},{"$f":"IF(ISBLANK(Datas!$C$49),\"\",\" - \"&AZ254)","v":""},{"$f":"IF(ISBLANK(Datas!$C$50),\"\",\" - \"&BA254)","v":" - Ecus:"},{"$f":"IF(ISBLANK(Datas!$C$51),\"\",\" - \"&BB254)","v":" - Niv: "},null,{"$error":"#N/A"},{"$error":"#N/A"},0,"PR:","Ecus:","Niv: ",null,null,null,null,0,{"$f":"VLOOKUP(BG254,LstVillage!$B$8:$C$283,1)","v":{"$error":"#N/A"}},{"$error":"#N/A"},{"$error":"#N/A"},0,{"$f":"VLOOKUP(BK254,Datas!$G$6:$G$17,1)","v":{"$error":"#N/A"}},{"$error":"#N/A"},{"$error":"#N/A"},null,0,0,0,null,{"$f":"VLOOKUP(BG254,Liste_Noire!$B$15:$G$1208,1)","v":{"$error":"#N/A"}},{"$f":"VLOOKUP(BG254,Liste_Noire!$B$15:$G$1208,5)","v":{"$error":"#N/A"}},{"$error":"#N/A"},null,0,0,0,0,0,0,0]
[null,""," ","","","","",null,null,null,null,null,null,null,null,null,null,null,null,null,null,null,null,null,"",0,0,0,0,0,0,0,0,0,0,null,0,null,null,{"$f":"IF(AO255=\"\",\"\",IF(BV255=1,\"[b][color=red]\"&Datas!$D$32&\"[/color][/b]\"&AO255&\"[b][color=red]\"&Datas!$D$33&\"{\"&BU255&\"}[/color][/b]\",AO255))","v":""},""," ",{"$f":"IF(ISBLANK(Datas!$C$47),\"\",\" - \"&AX255)","v":{"$error":"#N/A"}},{"$f":"IF(ISBLANK(Datas!$C$48),\"\",\" - \"&AY255)","v":" - 0"},{"$f":"IF(ISBLANK(Datas!$C$49),\"\",\" - \"&AZ255)","v":""},{"$f":"IF(ISBLANK(Datas!$C$50),\"\",\" - \"&BA255)","v":" - Ecus:"},{"$f":"IF(ISBLANK(Datas!$C$51),\"\",\" - \"&BB255)","v":" - Niv: "},null,{"$error":"#N/A"},{"$error":"#N/A"},0,"PR:","Ecus:","Niv: ",null,null,null,null,0,{"$f":"VLOOKUP(BG255,LstVillage!$B$8:$C$283,1)","v":{"$error":"#N/A"}},{"$error":"#N/A"},{"$error":"#N/A"},0,{"$f":"VLOOKUP(BK255,Datas!$G$6:$G$17,1)","v":{"$error":"#N/A"}},{"$error":"#N/A"},{"$error":"#N/A"},null,0,0,0,null,{"$f":"VLOOKUP(BG255,Liste_Noire!$B$15:$G$1208,1)","v":{"$error":"#N/A"}},{"$f":"VLOOKUP(BG255,Liste_Noire!$B$15:$G$1208,5)","v":{"$error":"#N/A"}},{"$error":"#N/A"},null,0,0,0,0,0,0,0]
[null,""," ","","","","",null,null,null,null,null,null,null,null,null,null,null,null,null,null,null,null,null,"",0,0,0,0,0,0,0,0,0,0,null,0,null,null,{"$f":"IF(AO256=\"\",\"\",IF(BV256=1,\"[b][color=red]\"&Datas!$D$32&\"[/color][/b]\"&AO256&\"[b][color=red]\"&Datas!$D$33&\"{\"&BU256&\"}[/color][/b]\",AO256))","v":""},""," ",{"$f":"IF(ISBLANK(Datas!$C$47),\"\",\" - \"&AX256)","v":{"$error":"#N/A"}},{"$f":"IF(ISBLANK(Datas!$C$48),\"\",\" - \"&AY256)","v":" - 0"},{"$f":"IF(ISBLANK(Datas!$C$49),\"\",\" - \"&AZ256)","v":""},{"$f":"IF(ISBLANK(Datas!$C$50),\"\",\" - \"&BA256)","v":" - Ecus:"},{"$f":"IF(ISBLANK(Datas!$C$51),\"\",\" - \"&BB256)","v":" - Niv: "},null,{"$error":"#N/A"},{"$error":"#N/A"},0,"PR:","Ecus:","Niv: ",null,null,null,null,0,{"$f":"VLOOKUP(BG256,LstVillage!$B$8:$C$283,1)","v":{"$error":"#N/A"}},{"$error":"#N/A"},{"$error":"#N/A"},0,{"$f":"VLOOKUP(BK256,Datas!$G$6:$G$17,1)","v":{"$error":"#N/A"}},{"$error":"#N/A"},{"$error":"#N/A"},null,0,0,0,null,{"$f":"VLOOKUP(BG256,Liste_Noire!$B$15:$G$1208,1)","v":{"$error":"#N/A"}},{"$f":"VLOOKUP(BG256,Liste_Noire!$B$15:$G$1208,5)","v":{"$error":"#N/A"}},{"$error":"#N/A"},null,0,0,0,0,0,0,0]
[null,""," ","","","","",null,null,null,null,null,null,null,null,null,null,null,null,null,null,null,null,null,"",0,0,0,0,0,0,0,0,0,0,null,0,null,null,{"$f":"IF(AO257=\"\",\"\",IF(BV257=1,\"[b][color=red]\"&Datas!$D$32&\"[/color][/b]\"&AO257&\"[b][color=red]\"&Datas!$D$33&\"{\"&BU257&\"}[/color][/b]\",AO257))","v":""},""," ",{"$f":"IF(ISBLANK(Datas!$C$47),\"\",\" - \"&AX257)","v":{"$error":"#N/A"}},{"$f":"IF(ISBLANK(Datas!$C$48),\"\",\" - \"&AY257)","v":" - 0"},{"$f":"IF(ISBLANK(Datas!$C$49),\"\",\" - \"&AZ257)","v":""},{"$f":"IF(ISBLANK(Datas!$C$50),\"\",\" - \"&BA257)","v":" - Ecus:"},{"$f":"IF(ISBLANK(Datas!$C$51),\"\",\" - \"&BB257)","v":" - Niv: "},null,{"$error":"#N/A"},{"$error":"#N/A"},0,"PR:","Ecus:","Niv: ",null,null,null,null,0,{"$f":"VLOOKUP(BG257,LstVillage!$B$8:$C$283,1)","v":{"$error":"#N/A"}},{"$error":"#N/A"},{"$error":"#N/A"},0,{"$f":"VLOOKUP(BK257,Datas!$G$6:$G$17,1)","v":{"$error":"#N/A"}},{"$error":"#N/A"},{"$error":"#N/A"},null,0,0,0,null,{"$f":"VLOOKUP(BG257,Liste_Noire!$B$15:$G$1208,1)","v":{"$error":"#N/A"}},{"$f":"VLOOKUP(BG257,Liste_Noire!$B$15:$G$1208,5)","v":{"$error":"#N/A"}},{"$error":"#N/A"},null,0,0,0,0,0,0,0]
[null,""," ","","","","",null,null,null,null,null,null,null,null,null,null,null,null,null,null,null,null,null,"",0,0,0,0,0,0,0,0,0,0,null,0,null,null,{"$f":"IF(AO258=\"\",\"\",IF(BV258=1,\"[b][color=red]\"&Datas!$D$32&\"[/color][/b]\"&AO258&\"[b][color=red]\"&Datas!$D$33&\"{\"&BU258&\"}[/color][/b]\",AO258))","v":""},""," ",{"$f":"IF(ISBLANK(Datas!$C$47),\"\",\" - \"&AX258)","v":{"$error":"#N/A"}},{"$f":"IF(ISBLANK(Datas!$C$48),\"\",\" - \"&AY258)","v":" - 0"},{"$f":"IF(ISBLANK(Datas!$C$49),\"\",\" - \"&AZ258)","v":""},{"$f":"IF(ISBLANK(Datas!$C$50),\"\",\" - \"&BA258)","v":" - Ecus:"},{"$f":"IF(ISBLANK(Datas!$C$51),\"\",\" - \"&BB258)","v":" - Niv: "},null,{"$error":"#N/A"},{"$error":"#N/A"},0,"PR:","Ecus:","Niv: ",null,null,null,null,0,{"$f":"VLOOKUP(BG258,LstVillage!$B$8:$C$283,1)","v":{"$error":"#N/A"}},{"$error":"#N/A"},{"$error":"#N/A"},0,{"$f":"VLOOKUP(BK258,Datas!$G$6:$G$17,1)","v":{"$error":"#N/A"}},{"$error":"#N/A"},{"$error":"#N/A"},null,0,0,0,null,{"$f":"VLOOKUP(BG258,Liste_Noire!$B$15:$G$1208,1)","v":{"$error":"#N/A"}},{"$f":"VLOOKUP(BG258,Liste_Noire!$B$15:$G$1208,5)","v":{"$error":"#N/A"}},{"$error":"#N/A"},null,0,0,0,0,0,0,0]
[null,""," ","","","","",null,null,null,null,null,null,null,null,null,null,null,null,null,null,null,null,null,"",0,0,0,0,0,0,0,0,0,0,null,0,null,null,{"$f":"IF(AO259=\"\",\"\",IF(BV259=1,\"[b][color=red]\"&Datas!$D$32&\"[/color][/b]\"&AO259&\"[b][color=red]\"&Datas!$D$33&\"{\"&BU259&\"}[/color][/b]\",AO259))","v":""},""," ",{"$f":"IF(ISBLANK(Datas!$C$47),\"\",\" - \"&AX259)","v":{"$error":"#N/A"}},{"$f":"IF(ISBLANK(Datas!$C$48),\"\",\" - \"&AY259)","v":" - 0"},{"$f":"IF(ISBLANK(Datas!$C$49),\"\",\" - \"&AZ259)","v":""},{"$f":"IF(ISBLANK(Datas!$C$50),\"\",\" - \"&BA259)","v":" - Ecus:"},{"$f":"IF(ISBLANK(Datas!$C$51),\"\",\" - \"&BB259)","v":" - Niv: "},null,{"$error":"#N/A"},{"$error":"#N/A"},0,"PR:","Ecus:","Niv: ",null,null,null,null,0,{"$f":"VLOOKUP(BG259,LstVillage!$B$8:$C$283,1)","v":{"$error":"#N/A"}},{"$error":"#N/A"},{"$error":"#N/A"},0,{"$f":"VLOOKUP(BK259,Datas!$G$6:$G$17,1)","v":{"$error":"#N/A"}},{"$error":"#N/A"},{"$error":"#N/A"},null,0,0,0,null,{"$f":"VLOOKUP(BG259,Liste_Noire!$B$15:$G$1208,1)","v":{"$error":"#N/A"}},{"$f":"VLOOKUP(BG259,Liste_Noire!$B$15:$G$1208,5)","v":{"$error":"#N/A"}},{"$error":"#N/A"},null,0,0,0,0,0,0,0]
[null,""," ","","","","",null,null,null,null,null,null,null,null,null,null,null,null,null,null,null,null,null,"",0,0,0,0,0,0,0,0,0,0,null,0,null,null,{"$f":"IF(AO260=\"\",\"\",IF(BV260=1,\"[b][color=red]\"&Datas!$D$32&\"[/color][/b]\"&AO260&\"[b][color=red]\"&Datas!$D$33&\"{\"&BU260&\"}[/color][/b]\",AO260))","v":""},""," ",{"$f":"IF(ISBLANK(Datas!$C$47),\"\",\" - \"&AX260)","v":{"$error":"#N/A"}},{"$f":"IF(ISBLANK(Datas!$C$48),\"\",\" - \"&AY260)","v":" - 0"},{"$f":"IF(ISBLANK(Datas!$C$49),\"\",\" - \"&AZ260)","v":""},{"$f":"IF(ISBLANK(Datas!$C$50),\"\",\" - \"&BA260)","v":" - Ecus:"},{"$f":"IF(ISBLANK(Datas!$C$51),\"\",\" - \"&BB260)","v":" - Niv: "},null,{"$error":"#N/A"},{"$error":"#N/A"},0,"PR:","Ecus:","Niv: ",null,null,null,null,0,{"$f":"VLOOKUP(BG260,LstVillage!$B$8:$C$283,1)","v":{"$error":"#N/A"}},{"$error":"#N/A"},{"$error":"#N/A"},0,{"$f":"VLOOKUP(BK260,Datas!$G$6:$G$17,1)","v":{"$error":"#N/A"}},{"$error":"#N/A"},{"$error":"#N/A"},null,0,0,0,null,{"$f":"VLOOKUP(BG260,Liste_Noire!$B$15:$G$1208,1)","v":{"$error":"#N/A"}},{"$f":"VLOOKUP(BG260,Liste_Noire!$B$15:$G$1208,5)","v":{"$error":"#N/A"}},{"$error":"#N/A"},null,0,0,0,0,0,0,0]
[null,""," ","","","","",null,null,null,null,null,null,null,null,null,null,null,null,null,null,null,null,null,"",0,0,0,0,0,0,0,0,0,0,null,0,null,null,{"$f":"IF(AO261=\"\",\"\",IF(BV261=1,\"[b][color=red]\"&Datas!$D$32&\"[/color][/b]\"&AO261&\"[b][color=red]\"&Datas!$D$33&\"{\"&BU261&\"}[/color][/b]\",AO261))","v":""},""," ",{"$f":"IF(ISBLANK(Datas!$C$47),\"\",\" - \"&AX261)","v":{"$error":"#N/A"}},{"$f":"IF(ISBLANK(Datas!$C$48),\"\",\" - \"&AY261)","v":" - 0"},{"$f":"IF(ISBLANK(Datas!$C$49),\"\",\" - \"&AZ261)","v":""},{"$f":"IF(ISBLANK(Datas!$C$50),\"\",\" - \"&BA261)","v":" - Ecus:"},{"$f":"IF(ISBLANK(Datas!$C$51),\"\",\" - \"&BB261)","v":" - Niv: "},null,{"$error":"#N/A"},{"$error":"#N/A"},0,"PR:","Ecus:","Niv: ",null,null,null,null,0,{"$f":"VLOOKUP(BG261,LstVillage!$B$8:$C$283,1)","v":{"$error":"#N/A"}},{"$error":"#N/A"},{"$error":"#N/A"},0,{"$f":"VLOOKUP(BK261,Datas!$G$6:$G$17,1)","v":{"$error":"#N/A"}},{"$error":"#N/A"},{"$error":"#N/A"},null,0,0,0,null,{"$f":"VLOOKUP(BG261,Liste_Noire!$B$15:$G$1208,1)","v":{"$error":"#N/A"}},{"$f":"VLOOKUP(BG261,Liste_Noire!$B$15:$G$1208,5)","v":{"$error":"#N/A"}},{"$error":"#N/A"},null,0,0,0,0,0,0,0]
[null,""," ","","","","",null,null,null,null,null,null,null,null,null,null,null,null,null,null,null,null,null,"",0,0,0,0,0,0,0,0,0,0,null,0,null,null,{"$f":"IF(AO262=\"\",\"\",IF(BV262=1,\"[b][color=red]\"&Datas!$D$32&\"[/color][/b]\"&AO262&\"[b][color=red]\"&Datas!$D$33&\"{\"&BU262&\"}[/color][/b]\",AO262))","v":""},""," ",{"$f":"IF(ISBLANK(Datas!$C$47),\"\",\" - \"&AX262)","v":{"$error":"#N/A"}},{"$f":"IF(ISBLANK(Datas!$C$48),\"\",\" - \"&AY262)","v":" - 0"},{"$f":"IF(ISBLANK(Datas!$C$49),\"\",\" - \"&AZ262)","v":""},{"$f":"IF(ISBLANK(Datas!$C$50),\"\",\" - \"&BA262)","v":" - Ecus:"},{"$f":"IF(ISBLANK(Datas!$C$51),\"\",\" - \"&BB262)","v":" - Niv: "},null,{"$error":"#N/A"},{"$error":"#N/A"},0,"PR:","Ecus:","Niv: ",null,null,null,null,0,{"$f":"VLOOKUP(BG262,LstVillage!$B$8:$C$283,1)","v":{"$error":"#N/A"}},{"$error":"#N/A"},{"$error":"#N/A"},0,{"$f":"VLOOKUP(BK262,Datas!$G$6:$G$17,1)","v":{"$error":"#N/A"}},{"$error":"#N/A"},{"$error":"#N/A"},null,0,0,0,null,{"$f":"VLOOKUP(BG262,Liste_Noire!$B$15:$G$1208,1)","v":{"$error":"#N/A"}},{"$f":"VLOOKUP(BG262,Liste_Noire!$B$15:$G$1208,5)","v":{"$error":"#N/A"}},{"$error":"#N/A"},null,0,0,0,0,0,0,0]
[null,""," ","","","","",null,null,null,null,null,null,null,null,null,null,null,null,null,null,null,null,null,"",0,0,0,0,0,0,0,0,0,0,null,0,null,null,{"$f":"IF(AO263=\"\",\"\",IF(BV263=1,\"[b][color=red]\"&Datas!$D$32&\"[/color][/b]\"&AO263&\"[b][color=red]\"&Datas!$D$33&\"{\"&BU263&\"}[/color][/b]\",AO263))","v":""},""," ",{"$f":"IF(ISBLANK(Datas!$C$47),\"\",\" - \"&AX263)","v":{"$error":"#N/A"}},{"$f":"IF(ISBLANK(Datas!$C$48),\"\",\" - \"&AY263)","v":" - 0"},{"$f":"IF(ISBLANK(Datas!$C$49),\"\",\" - \"&AZ263)","v":""},{"$f":"IF(ISBLANK(Datas!$C$50),\"\",\" - \"&BA263)","v":" - Ecus:"},{"$f":"IF(ISBLANK(Datas!$C$51),\"\",\" - \"&BB263)","v":" - Niv: "},null,{"$error":"#N/A"},{"$error":"#N/A"},0,"PR:","Ecus:","Niv: ",null,null,null,null,0,{"$f":"VLOOKUP(BG263,LstVillage!$B$8:$C$283,1)","v":{"$error":"#N/A"}},{"$error":"#N/A"},{"$error":"#N/A"},0,{"$f":"VLOOKUP(BK263,Datas!$G$6:$G$17,1)","v":{"$error":"#N/A"}},{"$error":"#N/A"},{"$error":"#N/A"},null,0,0,0,null,{"$f":"VLOOKUP(BG263,Liste_Noire!$B$15:$G$1208,1)","v":{"$error":"#N/A"}},{"$f":"VLOOKUP(BG263,Liste_Noire!$B$15:$G$1208,5)","v":{"$error":"#N/A"}},{"$error":"#N/A"},null,0,0,0,0,0,0,0]
[null,""," ","","","","",null,null,null,null,null,null,null,null,null,null,null,null,null,null,null,null,null,"",0,0,0,0,0,0,0,0,0,0,null,0,null,null,{"$f":"IF(AO264=\"\",\"\",IF(BV264=1,\"[b][color=red]\"&Datas!$D$32&\"[/color][/b]\"&AO264&\"[b][color=red]\"&Datas!$D$33&\"{\"&BU264&\"}[/color][/b]\",AO264))","v":""},""," ",{"$f":"IF(ISBLANK(Datas!$C$47),\"\",\" - \"&AX264)","v":{"$error":"#N/A"}},{"$f":"IF(ISBLANK(Datas!$C$48),\"\",\" - \"&AY264)","v":" - 0"},{"$f":"IF(ISBLANK(Datas!$C$49),\"\",\" - \"&AZ264)","v":""},{"$f":"IF(ISBLANK(Datas!$C$50),\"\",\" - \"&BA264)","v":" - Ecus:"},{"$f":"IF(ISBLANK(Datas!$C$51),\"\",\" - \"&BB264)","v":" - Niv: "},null,{"$error":"#N/A"},{"$error":"#N/A"},0,"PR:","Ecus:","Niv: ",null,null,null,null,0,{"$f":"VLOOKUP(BG264,LstVillage!$B$8:$C$283,1)","v":{"$error":"#N/A"}},{"$error":"#N/A"},{"$error":"#N/A"},0,{"$f":"VLOOKUP(BK264,Datas!$G$6:$G$17,1)","v":{"$error":"#N/A"}},{"$error":"#N/A"},{"$error":"#N/A"},null,0,0,0,null,{"$f":"VLOOKUP(BG264,Liste_Noire!$B$15:$G$1208,1)","v":{"$error":"#N/A"}},{"$f":"VLOOKUP(BG264,Liste_Noire!$B$15:$G$1208,5)","v":{"$error":"#N/A"}},{"$error":"#N/A"},null,0,0,0,0,0,0,0]
[null,""," ","","","","",null,null,null,null,null,null,null,null,null,null,null,null,null,null,null,null,null,"",0,0,0,0,0,0,0,0,0,0,null,0,null,null,{"$f":"IF(AO265=\"\",\"\",IF(BV265=1,\"[b][color=red]\"&Datas!$D$32&\"[/color][/b]\"&AO265&\"[b][color=red]\"&Datas!$D$33&\"{\"&BU265&\"}[/color][/b]\",AO265))","v":""},""," ",{"$f":"IF(ISBLANK(Datas!$C$47),\"\",\" - \"&AX265)","v":{"$error":"#N/A"}},{"$f":"IF(ISBLANK(Datas!$C$48),\"\",\" - \"&AY265)","v":" - 0"},{"$f":"IF(ISBLANK(Datas!$C$49),\"\",\" - \"&AZ265)","v":""},{"$f":"IF(ISBLANK(Datas!$C$50),\"\",\" - \"&BA265)","v":" - Ecus:"},{"$f":"IF(ISBLANK(Datas!$C$51),\"\",\" - \"&BB265)","v":" - Niv: "},null,{"$error":"#N/A"},{"$error":"#N/A"},0,"PR:","Ecus:","Niv: ",null,null,null,null,0,{"$f":"VLOOKUP(BG265,LstVillage!$B$8:$C$283,1)","v":{"$error":"#N/A"}},{"$error":"#N/A"},{"$error":"#N/A"},0,{"$f":"VLOOKUP(BK265,Datas!$G$6:$G$17,1)","v":{"$error":"#N/A"}},{"$error":"#N/A"},{"$error":"#N/A"},null,0,0,0,null,{"$f":"VLOOKUP(BG265,Liste_Noire!$B$15:$G$1208,1)","v":{"$error":"#N/A"}},{"$f":"VLOOKUP(BG265,Liste_Noire!$B$15:$G$1208,5)","v":{"$error":"#N/A"}},{"$error":"#N/A"},null,0,0,0,0,0,0,0]
[null,""," ","","","","",null,null,null,null,null,null,null,null,null,null,null,null,null,null,null,null,null,"",0,0,0,0,0,0,0,0,0,0,null,0,null,null,{"$f":"IF(AO266=\"\",\"\",IF(BV266=1,\"[b][color=red]\"&Datas!$D$32&\"[/color][/b]\"&AO266&\"[b][color=red]\"&Datas!$D$33&\"{\"&BU266&\"}[/color][/b]\",AO266))","v":""},""," ",{"$f":"IF(ISBLANK(Datas!$C$47),\"\",\" - \"&AX266)","v":{"$error":"#N/A"}},{"$f":"IF(ISBLANK(Datas!$C$48),\"\",\" - \"&AY266)","v":" - 0"},{"$f":"IF(ISBLANK(Datas!$C$49),\"\",\" - \"&AZ266)","v":""},{"$f":"IF(ISBLANK(Datas!$C$50),\"\",\" - \"&BA266)","v":" - Ecus:"},{"$f":"IF(ISBLANK(Datas!$C$51),\"\",\" - \"&BB266)","v":" - Niv: "},null,{"$error":"#N/A"},{"$error":"#N/A"},0,"PR:","Ecus:","Niv: ",null,null,null,null,0,{"$f":"VLOOKUP(BG266,LstVillage!$B$8:$C$283,1)","v":{"$error":"#N/A"}},{"$error":"#N/A"},{"$error":"#N/A"},0,{"$f":"VLOOKUP(BK266,Datas!$G$6:$G$17,1)","v":{"$error":"#N/A"}},{"$error":"#N/A"},{"$error":"#N/A"},null,0,0,0,null,{"$f":"VLOOKUP(BG266,Liste_Noire!$B$15:$G$1208,1)","v":{"$error":"#N/A"}},{"$f":"VLOOKUP(BG266,Liste_Noire!$B$15:$G$1208,5)","v":{"$error":"#N/A"}},{"$error":"#N/A"},null,0,0,0,0,0,0,0]
[null,""," ","","","","",null,null,null,null,null,null,null,null,null,null,null,null,null,null,null,null,null,"",0,0,0,0,0,0,0,0,0,0,null,0,null,null,{"$f":"IF(AO267=\"\",\"\",IF(BV267=1,\"[b][color=red]\"&Datas!$D$32&\"[/color][/b]\"&AO267&\"[b][color=red]\"&Datas!$D$33&\"{\"&BU267&\"}[/color][/b]\",AO267))","v":""},""," ",{"$f":"IF(ISBLANK(Datas!$C$47),\"\",\" - \"&AX267)","v":{"$error":"#N/A"}},{"$f":"IF(ISBLANK(Datas!$C$48),\"\",\" - \"&AY267)","v":" - 0"},{"$f":"IF(ISBLANK(Datas!$C$49),\"\",\" - \"&AZ267)","v":""},{"$f":"IF(ISBLANK(Datas!$C$50),\"\",\" - \"&BA267)","v":" - Ecus:"},{"$f":"IF(ISBLANK(Datas!$C$51),\"\",\" - \"&BB267)","v":" - Niv: "},null,{"$error":"#N/A"},{"$error":"#N/A"},0,"PR:","Ecus:","Niv: ",null,null,null,null,0,{"$f":"VLOOKUP(BG267,LstVillage!$B$8:$C$283,1)","v":{"$error":"#N/A"}},{"$error":"#N/A"},{"$error":"#N/A"},0,{"$f":"VLOOKUP(BK267,Datas!$G$6:$G$17,1)","v":{"$error":"#N/A"}},{"$error":"#N/A"},{"$error":"#N/A"},null,0,0,0,null,{"$f":"VLOOKUP(BG267,Liste_Noire!$B$15:$G$1208,1)","v":{"$error":"#N/A"}},{"$f":"VLOOKUP(BG267,Liste_Noire!$B$15:$G$1208,5)","v":{"$error":"#N/A"}},{"$error":"#N/A"},null,0,0,0,0,0,0,0]
[null,""," ","","","","",null,null,null,null,null,null,null,null,null,null,null,null,null,null,null,null,null,"",0,0,0,0,0,0,0,0,0,0,null,0,null,null,{"$f":"IF(AO268=\"\",\"\",IF(BV268=1,\"[b][color=red]\"&Datas!$D$32&\"[/color][/b]\"&AO268&\"[b][color=red]\"&Datas!$D$33&\"{\"&BU268&\"}[/color][/b]\",AO268))","v":""},""," ",{"$f":"IF(ISBLANK(Datas!$C$47),\"\",\" - \"&AX268)","v":{"$error":"#N/A"}},{"$f":"IF(ISBLANK(Datas!$C$48),\"\",\" - \"&AY268)","v":" - 0"},{"$f":"IF(ISBLANK(Datas!$C$49),\"\",\" - \"&AZ268)","v":""},{"$f":"IF(ISBLANK(Datas!$C$50),\"\",\" - \"&BA268)","v":" - Ecus:"},{"$f":"IF(ISBLANK(Datas!$C$51),\"\",\" - \"&BB268)","v":" - Niv: "},null,{"$error":"#N/A"},{"$error":"#N/A"},0,"PR:","Ecus:","Niv: ",null,null,null,null,0,{"$f":"VLOOKUP(BG268,LstVillage!$B$8:$C$283,1)","v":{"$error":"#N/A"}},{"$error":"#N/A"},{"$error":"#N/A"},0,{"$f":"VLOOKUP(BK268,Datas!$G$6:$G$17,1)","v":{"$error":"#N/A"}},{"$error":"#N/A"},{"$error":"#N/A"},null,0,0,0,null,{"$f":"VLOOKUP(BG268,Liste_Noire!$B$15:$G$1208,1)","v":{"$error":"#N/A"}},{"$f":"VLOOKUP(BG268,Liste_Noire!$B$15:$G$1208,5)","v":{"$error":"#N/A"}},{"$error":"#N/A"},null,0,0,0,0,0,0,0]
[null,{"$f":"IF(BQ269,\"[strike]\"&AN269&\"[/strike]\",IF(BR269,\"[i]\"&AN269&\"[/i]\",AN269))","v":""}," ",{"$f":"IF(M269=\"mort\",\"M\",\"\")","v":""},{"$f":"IF(ISERROR(BV269),\"\",IF(BV269=1,\"LN\",\"\"))","v":""},{"$f":"IF(M269=\"retraite\",\"R\",\"\")","v":""},{"$f":"IF(ISBLANK(Y269),\"\",Y269)","v":""},null,null,null,null,null,null,null,null,null,null,null,null,null,null,null,null,null,"",{"$f":"IF($Y269=Z$11,1,0)","v":0},{"$f":"IF(AND(Z269=1,$E269=AA$11),1,0)","v":0},{"$f":"IF($Y269=AB$11,1,0)","v":0},{"$f":"IF(AND(AB269=1,$E269=AC$11),1,0)","v":0},{"$f":"IF($F269=AD$11,1,0)","v":0},{"$f":"IF(AND(AD269=1,$E269=AE$11),1,0)","v":0},{"$f":"IF($D269=AF$11,1,0)","v":0},{"$f":"IF(AND(AF269=1,$E269=AG$11),1,0)","v":0},{"$f":"IF(AND($Y269=AH$11,(AD269+AF269)=0),1,0)","v":0},{"$f":"IF(AND(AH269=1,$E269=AI$11),1,0)","v":0},null,{"$f":"IF(AND(ISBLANK(I269),ISBLANK(K269),ISBLANK(L269),ISBLANK(P269)),0,1)","v":0},null,null,{"$f":"IF(AO269=\"\",\"\",IF(BV269=1,\"[b][color=red]\"&Datas!$D$32&\"[/color][/b]\"&AO269&\"[b][color=red]\"&Datas!$D$33&\"{\"&BU269&\"}[/color][/b]\",AO269))","v":""},{"$f":"IF(ISBLANK(M269),\"\",AW269&AQ269&AR269&AS269&AT269&AU269)","v":""}," ",{"$f":"IF(ISBLANK(Datas!$C$47),\"\",\" - \"&AX269)","v":{"$error":"#N/A"}},{"$f":"IF(ISBLANK(Datas!$C$48),\"\",\" - \"&AY269)","v":" - 0"},{"$f":"IF(ISBLANK(Datas!$C$49),\"\",\" - \"&AZ269)","v":""},{"$f":"IF(ISBLANK(Datas!$C$50),\"\",\" - \"&BA269)","v":" - Ecus:"},{"$f":"IF(ISBLANK(Datas!$C$51),\"\",\" - \"&BB269)","v":" - Niv: "},null,{"$f":"\"[b][color=\"&BJ269&\"]\"&BG269&\"[/color][/b]\"","v":{"$error":"#N/A"}},{"$f":"\"[b][color=\"&BN269&\"]\"&BK269&\"[/color][/b]\"","v":{"$error":"#N/A"}},{"$f":"BP269","v":0},{"$f":"\"PR:\"&O269","v":"PR:"},{"$f":"\"Ecus:\"&P269","v":"Ecus:"},{"$f":"\"Niv: \"&N269","v":"Niv: "},null,null,null,null,{"$f":"I269","v":0},{"$f":"VLOOKUP(BG269,LstVillage!$B$8:$C$283,1)","v":{"$error":"#N/A"}},{"$f":"IF(BH269<>BG269,0,1)","v":{"$error":"#N/A"}},{"$f":"IF(BI269=1,$AX$2,IF(BM269=1,$AX$3,$AX$4))","v":{"$error":"#N/A"}},{"$f":"L269","v":0},{"$f":"VLOOKUP(BK269,Datas!$G$6:$G$17,1)","v":{"$error":"#N/A"}},{"$f":"IF(BL269<>BK269,0,1)","v":{"$error":"#N/A"}},{"$f":"IF(BM269=1,$BA$2,$BA$3)","v":{"$error":"#N/A"}},null,{"$f":"K269","v":0},{"$f":"IF(F269=\"M\",1,0)","v":0},{"$f":"IF(F269=\"R\",1,0)","v":0},null,{"$f":"VLOOKUP(BG269,Liste_Noire!$B$15:$G$1208,1)","v":{"$error":"#N/A"}},{"$f":"VLOOKUP(BG269,Liste_Noire!$B$15:$G$1208,5)","v":{"$error":"#N/A"}},{"$f":"IF(ISERR(BT269),0,IF(BT269=BG269,1,0))","v":{"$error":"#N/A"}},null,{"$f":"IF(G269=\"a\",1,0)","v":0},{"$f":"IF(G269=\"d\",1,0)","v":0},{"$f":"IF(F269=\"R\",1,0)","v":0},{"$f":"IF(F269=\"M\",1,0)","v":0},{"$f":"IF(ISERROR(BV269),0,IF(BV269=1,IF(BU269=\"Liste Noire\",1,0),0))","v":0},{"$f":"IF(ISERROR(BV269),0,IF(BV269=1,IF(BU269=\"Surveillance\",1,0),0))","v":0},{"$f":"IF(ISBLANK(I269),0,1)","v":0}]
[null,""," ","","","","",null,null,null,null,null,null,null,null,null,null,null,null,null,null,null,null,null,{"$f":"IF(OR(ISBLANK(U270),TRIM(U270)=\"\"),IF(ISBLANK($I270),\"\",$Y$11),IF(OR($F270=$AD$11,$D270=$AF$11),$Y$11,IF(U270=\"a/d\",\"\",U270)))","v":""},0,0,0,0,0,0,0,0,0,0,null,0,null,null,{"$f":"IF(AO270=\"\",\"\",IF(BV270=1,\"[b][color=red]\"&Datas!$D$32&\"[/color][/b]\"&AO270&\"[b][color=red]\"&Datas!$D$33&\"{\"&BU270&\"}[/color][/b]\",AO270))","v":""},""," ",{"$f":"IF(ISBLANK(Datas!$C$47),\"\",\" - \"&AX270)","v":{"$error":"#N/A"}},{"$f":"IF(ISBLANK(Datas!$C$48),\"\",\" - \"&AY270)","v":" - 0"},{"$f":"IF(ISBLANK(Datas!$C$49),\"\",\" - \"&AZ270)","v":""},{"$f":"IF(ISBLANK(Datas!$C$50),\"\",\" - \"&BA270)","v":" - Ecus:"},{"$f":"IF(ISBLANK(Datas!$C$51),\"\",\" - \"&BB270)","v":" - Niv: "},null,{"$error":"#N/A"},{"$error":"#N/A"},0,"PR:","Ecus:","Niv: ",null,null,null,null,0,{"$f":"VLOOKUP(BG270,LstVillage!$B$8:$C$283,1)","v":{"$error":"#N/A"}},{"$error":"#N/A"},{"$error":"#N/A"},0,{"$f":"VLOOKUP(BK270,Datas!$G$6:$G$17,1)","v":{"$error":"#N/A"}},{"$error":"#N/A"},{"$error":"#N/A"},null,0,0,0,null,{"$f":"VLOOKUP(BG270,Liste_Noire!$B$15:$G$1208,1)","v":{"$error":"#N/A"}},{"$f":"VLOOKUP(BG270,Liste_Noire!$B$15:$G$1208,5)","v":{"$error":"#N/A"}},{"$error":"#N/A"},null,0,0,0,0,0,0,0]
[null,""," ","","","","",null,null,null,null,null,null,null,null,null,null,null,null,null,null,null,null,null,"",0,0,0,0,0,0,0,0,0,0,null,0,null,null,{"$f":"IF(AO271=\"\",\"\",IF(BV271=1,\"[b][color=red]\"&Datas!$D$32&\"[/color][/b]\"&AO271&\"[b][color=red]\"&Datas!$D$33&\"{\"&BU271&\"}[/color][/b]\",AO271))","v":""},""," ",{"$f":"IF(ISBLANK(Datas!$C$47),\"\",\" - \"&AX271)","v":{"$error":"#N/A"}},{"$f":"IF(ISBLANK(Datas!$C$48),\"\",\" - \"&AY271)","v":" - 0"},{"$f":"IF(ISBLANK(Datas!$C$49),\"\",\" - \"&AZ271)","v":""},{"$f":"IF(ISBLANK(Datas!$C$50),\"\",\" - \"&BA271)","v":" - Ecus:"},{"$f":"IF(ISBLANK(Datas!$C$51),\"\",\" - \"&BB271)","v":" - Niv: "},null,{"$error":"#N/A"},{"$error":"#N/A"},0,"PR:","Ecus:","Niv: ",null,null,null,null,0,{"$f":"VLOOKUP(BG271,LstVillage!$B$8:$C$283,1)","v":{"$error":"#N/A"}},{"$error":"#N/A"},{"$error":"#N/A"},0,{"$f":"VLOOKUP(BK271,Datas!$G$6:$G$17,1)","v":{"$error":"#N/A"}},{"$error":"#N/A"},{"$error":"#N/A"},null,0,0,0,null,{"$f":"VLOOKUP(BG271,Liste_Noire!$B$15:$G$1208,1)","v":{"$error":"#N/A"}},{"$f":"VLOOKUP(BG271,Liste_Noire!$B$15:$G$1208,5)","v":{"$error":"#N/A"}},{"$error":"#N/A"},null,0,0,0,0,0,0,0]
[null,""," ","","","","",null,null,null,null,null,null,null,null,null,null,null,null,null,null,null,null,null,"",0,0,0,0,0,0,0,0,0,0,null,0,null,null,{"$f":"IF(AO272=\"\",\"\",IF(BV272=1,\"[b][color=red]\"&Datas!$D$32&\"[/color][/b]\"&AO272&\"[b][color=red]\"&Datas!$D$33&\"{\"&BU272&\"}[/color][/b]\",AO272))","v":""},""," ",{"$f":"IF(ISBLANK(Datas!$C$47),\"\",\" - \"&AX272)","v":{"$error":"#N/A"}},{"$f":"IF(ISBLANK(Datas!$C$48),\"\",\" - \"&AY272)","v":" - 0"},{"$f":"IF(ISBLANK(Datas!$C$49),\"\",\" - \"&AZ272)","v":""},{"$f":"IF(ISBLANK(Datas!$C$50),\"\",\" - \"&BA272)","v":" - Ecus:"},{"$f":"IF(ISBLANK(Datas!$C$51),\"\",\" - \"&BB272)","v":" - Niv: "},null,{"$error":"#N/A"},{"$error":"#N/A"},0,"PR:","Ecus:","Niv: ",null,null,null,null,0,{"$f":"VLOOKUP(BG272,LstVillage!$B$8:$C$283,1)","v":{"$error":"#N/A"}},{"$error":"#N/A"},{"$error":"#N/A"},0,{"$f":"VLOOKUP(BK272,Datas!$G$6:$G$17,1)","v":{"$error":"#N/A"}},{"$error":"#N/A"},{"$error":"#N/A"},null,0,0,0,null,{"$f":"VLOOKUP(BG272,Liste_Noire!$B$15:$G$1208,1)","v":{"$error":"#N/A"}},{"$f":"VLOOKUP(BG272,Liste_Noire!$B$15:$G$1208,5)","v":{"$error":"#N/A"}},{"$error":"#N/A"},null,0,0,0,0,0,0,0]
[null,""," ","","","","",null,null,null,null,null,null,null,null,null,null,null,null,null,null,null,null,null,"",0,0,0,0,0,0,0,0,0,0,null,0,null,null,{"$f":"IF(AO273=\"\",\"\",IF(BV273=1,\"[b][color=red]\"&Datas!$D$32&\"[/color][/b]\"&AO273&\"[b][color=red]\"&Datas!$D$33&\"{\"&BU273&\"}[/color][/b]\",AO273))","v":""},""," ",{"$f":"IF(ISBLANK(Datas!$C$47),\"\",\" - \"&AX273)","v":{"$error":"#N/A"}},{"$f":"IF(ISBLANK(Datas!$C$48),\"\",\" - \"&AY273)","v":" - 0"},{"$f":"IF(ISBLANK(Datas!$C$49),\"\",\" - \"&AZ273)","v":""},{"$f":"IF(ISBLANK(Datas!$C$50),\"\",\" - \"&BA273)","v":" - Ecus:"},{"$f":"IF(ISBLANK(Datas!$C$51),\"\",\" - \"&BB273)","v":" - Niv: "},null,{"$error":"#N/A"},{"$error":"#N/A"},0,"PR:","Ecus:","Niv: ",null,null,null,null,0,{"$f":"VLOOKUP(BG273,LstVillage!$B$8:$C$283,1)","v":{"$error":"#N/A"}},{"$error":"#N/A"},{"$error":"#N/A"},0,{"$f":"VLOOKUP(BK273,Datas!$G$6:$G$17,1)","v":{"$error":"#N/A"}},{"$error":"#N/A"},{"$error":"#N/A"},null,0,0,0,null,{"$f":"VLOOKUP(BG273,Liste_Noire!$B$15:$G$1208,1)","v":{"$error":"#N/A"}},{"$f":"VLOOKUP(BG273,Liste_Noire!$B$15:$G$1208,5)","v":{"$error":"#N/A"}},{"$error":"#N/A"},null,0,0,0,0,0,0,0]
[null,""," ","","","","",null,null,null,null,null,null,null,null,null,null,null,null,null,null,null,null,null,"",0,0,0,0,0,0,0,0,0,0,null,0,null,null,{"$f":"IF(AO274=\"\",\"\",IF(BV274=1,\"[b][color=red]\"&Datas!$D$32&\"[/color][/b]\"&AO274&\"[b][color=red]\"&Datas!$D$33&\"{\"&BU274&\"}[/color][/b]\",AO274))","v":""},""," ",{"$f":"IF(ISBLANK(Datas!$C$47),\"\",\" - \"&AX274)","v":{"$error":"#N/A"}},{"$f":"IF(ISBLANK(Datas!$C$48),\"\",\" - \"&AY274)","v":" - 0"},{"$f":"IF(ISBLANK(Datas!$C$49),\"\",\" - \"&AZ274)","v":""},{"$f":"IF(ISBLANK(Datas!$C$50),\"\",\" - \"&BA274)","v":" - Ecus:"},{"$f":"IF(ISBLANK(Datas!$C$51),\"\",\" - \"&BB274)","v":" - Niv: "},null,{"$error":"#N/A"},{"$error":"#N/A"},0,"PR:","Ecus:","Niv: ",null,null,null,null,0,{"$f":"VLOOKUP(BG274,LstVillage!$B$8:$C$283,1)","v":{"$error":"#N/A"}},{"$error":"#N/A"},{"$error":"#N/A"},0,{"$f":"VLOOKUP(BK274,Datas!$G$6:$G$17,1)","v":{"$error":"#N/A"}},{"$error":"#N/A"},{"$error":"#N/A"},null,0,0,0,null,{"$f":"VLOOKUP(BG274,Liste_Noire!$B$15:$G$1208,1)","v":{"$error":"#N/A"}},{"$f":"VLOOKUP(BG274,Liste_Noire!$B$15:$G$1208,5)","v":{"$error":"#N/A"}},{"$error":"#N/A"},null,0,0,0,0,0,0,0]
[null,""," ","","","","",null,null,null,null,null,null,null,null,null,null,null,null,null,null,null,null,null,"",0,0,0,0,0,0,0,0,0,0,null,0,null,null,{"$f":"IF(AO275=\"\",\"\",IF(BV275=1,\"[b][color=red]\"&Datas!$D$32&\"[/color][/b]\"&AO275&\"[b][color=red]\"&Datas!$D$33&\"{\"&BU275&\"}[/color][/b]\",AO275))","v":""},""," ",{"$f":"IF(ISBLANK(Datas!$C$47),\"\",\" - \"&AX275)","v":{"$error":"#N/A"}},{"$f":"IF(ISBLANK(Datas!$C$48),\"\",\" - \"&AY275)","v":" - 0"},{"$f":"IF(ISBLANK(Datas!$C$49),\"\",\" - \"&AZ275)","v":""},{"$f":"IF(ISBLANK(Datas!$C$50),\"\",\" - \"&BA275)","v":" - Ecus:"},{"$f":"IF(ISBLANK(Datas!$C$51),\"\",\" - \"&BB275)","v":" - Niv: "},null,{"$error":"#N/A"},{"$error":"#N/A"},0,"PR:","Ecus:","Niv: ",null,null,null,null,0,{"$f":"VLOOKUP(BG275,LstVillage!$B$8:$C$283,1)","v":{"$error":"#N/A"}},{"$error":"#N/A"},{"$error":"#N/A"},0,{"$f":"VLOOKUP(BK275,Datas!$G$6:$G$17,1)","v":{"$error":"#N/A"}},{"$error":"#N/A"},{"$error":"#N/A"},null,0,0,0,null,{"$f":"VLOOKUP(BG275,Liste_Noire!$B$15:$G$1208,1)","v":{"$error":"#N/A"}},{"$f":"VLOOKUP(BG275,Liste_Noire!$B$15:$G$1208,5)","v":{"$error":"#N/A"}},{"$error":"#N/A"},null,0,0,0,0,0,0,0]
[null,""," ","","","","",null,null,null,null,null,null,null,null,null,null,null,null,null,null,null,null,null,"",0,0,0,0,0,0,0,0,0,0,null,0,null,null,{"$f":"IF(AO276=\"\",\"\",IF(BV276=1,\"[b][color=red]\"&Datas!$D$32&\"[/color][/b]\"&AO276&\"[b][color=red]\"&Datas!$D$33&\"{\"&BU276&\"}[/color][/b]\",AO276))","v":""},""," ",{"$f":"IF(ISBLANK(Datas!$C$47),\"\",\" - \"&AX276)","v":{"$error":"#N/A"}},{"$f":"IF(ISBLANK(Datas!$C$48),\"\",\" - \"&AY276)","v":" - 0"},{"$f":"IF(ISBLANK(Datas!$C$49),\"\",\" - \"&AZ276)","v":""},{"$f":"IF(ISBLANK(Datas!$C$50),\"\",\" - \"&BA276)","v":" - Ecus:"},{"$f":"IF(ISBLANK(Datas!$C$51),\"\",\" - \"&BB276)","v":" - Niv: "},null,{"$error":"#N/A"},{"$error":"#N/A"},0,"PR:","Ecus:","Niv: ",null,null,null,null,0,{"$f":"VLOOKUP(BG276,LstVillage!$B$8:$C$283,1)","v":{"$error":"#N/A"}},{"$error":"#N/A"},{"$error":"#N/A"},0,{"$f":"VLOOKUP(BK276,Datas!$G$6:$G$17,1)","v":{"$error":"#N/A"}},{"$error":"#N/A"},{"$error":"#N/A"},null,0,0,0,null,{"$f":"VLOOKUP(BG276,Liste_Noire!$B$15:$G$1208,1)","v":{"$error":"#N/A"}},{"$f":"VLOOKUP(BG276,Liste_Noire!$B$15:$G$1208,5)","v":{"$error":"#N/A"}},{"$error":"#N/A"},null,0,0,0,0,0,0,0]
[null,""," ","","","","",null,null,null,null,null,null,null,null,null,null,null,null,null,null,null,null,null,"",0,0,0,0,0,0,0,0,0,0,null,0,null,null,{"$f":"IF(AO277=\"\",\"\",IF(BV277=1,\"[b][color=red]\"&Datas!$D$32&\"[/color][/b]\"&AO277&\"[b][color=red]\"&Datas!$D$33&\"{\"&BU277&\"}[/color][/b]\",AO277))","v":""},""," ",{"$f":"IF(ISBLANK(Datas!$C$47),\"\",\" - \"&AX277)","v":{"$error":"#N/A"}},{"$f":"IF(ISBLANK(Datas!$C$48),\"\",\" - \"&AY277)","v":" - 0"},{"$f":"IF(ISBLANK(Datas!$C$49),\"\",\" - \"&AZ277)","v":""},{"$f":"IF(ISBLANK(Datas!$C$50),\"\",\" - \"&BA277)","v":" - Ecus:"},{"$f":"IF(ISBLANK(Datas!$C$51),\"\",\" - \"&BB277)","v":" - Niv: "},null,{"$error":"#N/A"},{"$error":"#N/A"},0,"PR:","Ecus:","Niv: ",null,null,null,null,0,{"$f":"VLOOKUP(BG277,LstVillage!$B$8:$C$283,1)","v":{"$error":"#N/A"}},{"$error":"#N/A"},{"$error":"#N/A"},0,{"$f":"VLOOKUP(BK277,Datas!$G$6:$G$17,1)","v":{"$error":"#N/A"}},{"$error":"#N/A"},{"$error":"#N/A"},null,0,0,0,null,{"$f":"VLOOKUP(BG277,Liste_Noire!$B$15:$G$1208,1)","v":{"$error":"#N/A"}},{"$f":"VLOOKUP(BG277,Liste_Noire!$B$15:$G$1208,5)","v":{"$error":"#N/A"}},{"$error":"#N/A"},null,0,0,0,0,0,0,0]
[null,""," ","","","","",null,null,null,null,null,null,null,null,null,null,null,null,null,null,null,null,null,"",0,0,0,0,0,0,0,0,0,0,null,0,null,null,{"$f":"IF(AO278=\"\",\"\",IF(BV278=1,\"[b][color=red]\"&Datas!$D$32&\"[/color][/b]\"&AO278&\"[b][color=red]\"&Datas!$D$33&\"{\"&BU278&\"}[/color][/b]\",AO278))","v":""},""," ",{"$f":"IF(ISBLANK(Datas!$C$47),\"\",\" - \"&AX278)","v":{"$error":"#N/A"}},{"$f":"IF(ISBLANK(Datas!$C$48),\"\",\" - \"&AY278)","v":" - 0"},{"$f":"IF(ISBLANK(Datas!$C$49),\"\",\" - \"&AZ278)","v":""},{"$f":"IF(ISBLANK(Datas!$C$50),\"\",\" - \"&BA278)","v":" - Ecus:"},{"$f":"IF(ISBLANK(Datas!$C$51),\"\",\" - \"&BB278)","v":" - Niv: "},null,{"$error":"#N/A"},{"$error":"#N/A"},0,"PR:","Ecus:","Niv: ",null,null,null,null,0,{"$f":"VLOOKUP(BG278,LstVillage!$B$8:$C$283,1)","v":{"$error":"#N/A"}},{"$error":"#N/A"},{"$error":"#N/A"},0,{"$f":"VLOOKUP(BK278,Datas!$G$6:$G$17,1)","v":{"$error":"#N/A"}},{"$error":"#N/A"},{"$error":"#N/A"},null,0,0,0,null,{"$f":"VLOOKUP(BG278,Liste_Noire!$B$15:$G$1208,1)","v":{"$error":"#N/A"}},{"$f":"VLOOKUP(BG278,Liste_Noire!$B$15:$G$1208,5)","v":{"$error":"#N/A"}},{"$error":"#N/A"},null,0,0,0,0,0,0,0]
[null,""," ","","","","",null,null,null,null,null,null,null,null,null,null,null,null,null,null,null,null,null,"",0,0,0,0,0,0,0,0,0,0,null,0,null,null,{"$f":"IF(AO279=\"\",\"\",IF(BV279=1,\"[b][color=red]\"&Datas!$D$32&\"[/color][/b]\"&AO279&\"[b][color=red]\"&Datas!$D$33&\"{\"&BU279&\"}[/color][/b]\",AO279))","v":""},""," ",{"$f":"IF(ISBLANK(Datas!$C$47),\"\",\" - \"&AX279)","v":{"$error":"#N/A"}},{"$f":"IF(ISBLANK(Datas!$C$48),\"\",\" - \"&AY279)","v":" - 0"},{"$f":"IF(ISBLANK(Datas!$C$49),\"\",\" - \"&AZ279)","v":""},{"$f":"IF(ISBLANK(Datas!$C$50),\"\",\" - \"&BA279)","v":" - Ecus:"},{"$f":"IF(ISBLANK(Datas!$C$51),\"\",\" - \"&BB279)","v":" - Niv: "},null,{"$error":"#N/A"},{"$error":"#N/A"},0,"PR:","Ecus:","Niv: ",null,null,null,null,0,{"$f":"VLOOKUP(BG279,LstVillage!$B$8:$C$283,1)","v":{"$error":"#N/A"}},{"$error":"#N/A"},{"$error":"#N/A"},0,{"$f":"VLOOKUP(BK279,Datas!$G$6:$G$17,1)","v":{"$error":"#N/A"}},{"$error":"#N/A"},{"$error":"#N/A"},null,0,0,0,null,{"$f":"VLOOKUP(BG279,Liste_Noire!$B$15:$G$1208,1)","v":{"$error":"#N/A"}},{"$f":"VLOOKUP(BG279,Liste_Noire!$B$15:$G$1208,5)","v":{"$error":"#N/A"}},{"$error":"#N/A"},null,0,0,0,0,0,0,0]
[null,""," ","","","","",null,null,null,null,null,null,null,null,null,null,null,null,null,null,null,null,null,"",0,0,0,0,0,0,0,0,0,0,null,0,null,null,{"$f":"IF(AO280=\"\",\"\",IF(BV280=1,\"[b][color=red]\"&Datas!$D$32&\"[/color][/b]\"&AO280&\"[b][color=red]\"&Datas!$D$33&\"{\"&BU280&\"}[/color][/b]\",AO280))","v":""},""," ",{"$f":"IF(ISBLANK(Datas!$C$47),\"\",\" - \"&AX280)","v":{"$error":"#N/A"}},{"$f":"IF(ISBLANK(Datas!$C$48),\"\",\" - \"&AY280)","v":" - 0"},{"$f":"IF(ISBLANK(Datas!$C$49),\"\",\" - \"&AZ280)","v":""},{"$f":"IF(ISBLANK(Datas!$C$50),\"\",\" - \"&BA280)","v":" - Ecus:"},{"$f":"IF(ISBLANK(Datas!$C$51),\"\",\" - \"&BB280)","v":" - Niv: "},null,{"$error":"#N/A"},{"$error":"#N/A"},0,"PR:","Ecus:","Niv: ",null,null,null,null,0,{"$f":"VLOOKUP(BG280,LstVillage!$B$8:$C$283,1)","v":{"$error":"#N/A"}},{"$error":"#N/A"},{"$error":"#N/A"},0,{"$f":"VLOOKUP(BK280,Datas!$G$6:$G$17,1)","v":{"$error":"#N/A"}},{"$error":"#N/A"},{"$error":"#N/A"},null,0,0,0,null,{"$f":"VLOOKUP(BG280,Liste_Noire!$B$15:$G$1208,1)","v":{"$error":"#N/A"}},{"$f":"VLOOKUP(BG280,Liste_Noire!$B$15:$G$1208,5)","v":{"$error":"#N/A"}},{"$error":"#N/A"},null,0,0,0,0,0,0,0]
[null,""," ","","","","",null,null,null,null,null,null,null,null,null,null,null,null,null,null,null,null,null,"",0,0,0,0,0,0,0,0,0,0,null,0,null,null,{"$f":"IF(AO281=\"\",\"\",IF(BV281=1,\"[b][color=red]\"&Datas!$D$32&\"[/color][/b]\"&AO281&\"[b][color=red]\"&Datas!$D$33&\"{\"&BU281&\"}[/color][/b]\",AO281))","v":""},""," ",{"$f":"IF(ISBLANK(Datas!$C$47),\"\",\" - \"&AX281)","v":{"$error":"#N/A"}},{"$f":"IF(ISBLANK(Datas!$C$48),\"\",\" - \"&AY281)","v":" - 0"},{"$f":"IF(ISBLANK(Datas!$C$49),\"\",\" - \"&AZ281)","v":""},{"$f":"IF(ISBLANK(Datas!$C$50),\"\",\" - \"&BA281)","v":" - Ecus:"},{"$f":"IF(ISBLANK(Datas!$C$51),\"\",\" - \"&BB281)","v":" - Niv: "},null,{"$error":"#N/A"},{"$error":"#N/A"},0,"PR:","Ecus:","Niv: ",null,null,null,null,0,{"$f":"VLOOKUP(BG281,LstVillage!$B$8:$C$283,1)","v":{"$error":"#N/A"}},{"$error":"#N/A"},{"$error":"#N/A"},0,{"$f":"VLOOKUP(BK281,Datas!$G$6:$G$17,1)","v":{"$error":"#N/A"}},{"$error":"#N/A"},{"$error":"#N/A"},null,0,0,0,null,{"$f":"VLOOKUP(BG281,Liste_Noire!$B$15:$G$1208,1)","v":{"$error":"#N/A"}},{"$f":"VLOOKUP(BG281,Liste_Noire!$B$15:$G$1208,5)","v":{"$error":"#N/A"}},{"$error":"#N/A"},null,0,0,0,0,0,0,0]
[null,""," ","","","","",null,null,null,null,null,null,null,null,null,null,null,null,null,null,null,null,null,"",0,0,0,0,0,0,0,0,0,0,null,0,null,null,{"$f":"IF(AO282=\"\",\"\",IF(BV282=1,\"[b][color=red]\"&Datas!$D$32&\"[/color][/b]\"&AO282&\"[b][color=red]\"&Datas!$D$33&\"{\"&BU282&\"}[/color][/b]\",AO282))","v":""},""," ",{"$f":"IF(ISBLANK(Datas!$C$47),\"\",\" - \"&AX282)","v":{"$error":"#N/A"}},{"$f":"IF(ISBLANK(Datas!$C$48),\"\",\" - \"&AY282)","v":" - 0"},{"$f":"IF(ISBLANK(Datas!$C$49),\"\",\" - \"&AZ282)","v":""},{"$f":"IF(ISBLANK(Datas!$C$50),\"\",\" - \"&BA282)","v":" - Ecus:"},{"$f":"IF(ISBLANK(Datas!$C$51),\"\",\" - \"&BB282)","v":" - Niv: "},null,{"$error":"#N/A"},{"$error":"#N/A"},0,"PR:","Ecus:","Niv: ",null,null,null,null,0,{"$f":"VLOOKUP(BG282,LstVillage!$B$8:$C$283,1)","v":{"$error":"#N/A"}},{"$error":"#N/A"},{"$error":"#N/A"},0,{"$f":"VLOOKUP(BK282,Datas!$G$6:$G$17,1)","v":{"$error":"#N/A"}},{"$error":"#N/A"},{"$error":"#N/A"},null,0,0,0,null,{"$f":"VLOOKUP(BG282,Liste_Noire!$B$15:$G$1208,1)","v":{"$error":"#N/A"}},{"$f":"VLOOKUP(BG282,Liste_Noire!$B$15:$G$1208,5)","v":{"$error":"#N/A"}},{"$error":"#N/A"},null,0,0,0,0,0,0,0]
[null,""," ","","","","",null,null,null,null,null,null,null,null,null,null,null,null,null,null,null,null,null,"",0,0,0,0,0,0,0,0,0,0,null,0,null,null,{"$f":"IF(AO283=\"\",\"\",IF(BV283=1,\"[b][color=red]\"&Datas!$D$32&\"[/color][/b]\"&AO283&\"[b][color=red]\"&Datas!$D$33&\"{\"&BU283&\"}[/color][/b]\",AO283))","v":""},""," ",{"$f":"IF(ISBLANK(Datas!$C$47),\"\",\" - \"&AX283)","v":{"$error":"#N/A"}},{"$f":"IF(ISBLANK(Datas!$C$48),\"\",\" - \"&AY283)","v":" - 0"},{"$f":"IF(ISBLANK(Datas!$C$49),\"\",\" - \"&AZ283)","v":""},{"$f":"IF(ISBLANK(Datas!$C$50),\"\",\" - \"&BA283)","v":" - Ecus:"},{"$f":"IF(ISBLANK(Datas!$C$51),\"\",\" - \"&BB283)","v":" - Niv: "},null,{"$error":"#N/A"},{"$error":"#N/A"},0,"PR:","Ecus:","Niv: ",null,null,null,null,0,{"$f":"VLOOKUP(BG283,LstVillage!$B$8:$C$283,1)","v":{"$error":"#N/A"}},{"$error":"#N/A"},{"$error":"#N/A"},0,{"$f":"VLOOKUP(BK283,Datas!$G$6:$G$17,1)","v":{"$error":"#N/A"}},{"$error":"#N/A"},{"$error":"#N/A"},null,0,0,0,null,{"$f":"VLOOKUP(BG283,Liste_Noire!$B$15:$G$1208,1)","v":{"$error":"#N/A"}},{"$f":"VLOOKUP(BG283,Liste_Noire!$B$15:$G$1208,5)","v":{"$error":"#N/A"}},{"$error":"#N/A"},null,0,0,0,0,0,0,0]
[null,""," ","","","","",null,null,null,null,null,null,null,null,null,null,null,null,null,null,null,null,null,"",0,0,0,0,0,0,0,0,0,0,null,0,null,null,{"$f":"IF(AO284=\"\",\"\",IF(BV284=1,\"[b][color=red]\"&Datas!$D$32&\"[/color][/b]\"&AO284&\"[b][color=red]\"&Datas!$D$33&\"{\"&BU284&\"}[/color][/b]\",AO284))","v":""},""," ",{"$f":"IF(ISBLANK(Datas!$C$47),\"\",\" - \"&AX284)","v":{"$error":"#N/A"}},{"$f":"IF(ISBLANK(Datas!$C$48),\"\",\" - \"&AY284)","v":" - 0"},{"$f":"IF(ISBLANK(Datas!$C$49),\"\",\" - \"&AZ284)","v":""},{"$f":"IF(ISBLANK(Datas!$C$50),\"\",\" - \"&BA284)","v":" - Ecus:"},{"$f":"IF(ISBLANK(Datas!$C$51),\"\",\" - \"&BB284)","v":" - Niv: "},null,{"$error":"#N/A"},{"$error":"#N/A"},0,"PR:","Ecus:","Niv: ",null,null,null,null,0,{"$f":"VLOOKUP(BG284,LstVillage!$B$8:$C$283,1)","v":{"$error":"#N/A"}},{"$error":"#N/A"},{"$error":"#N/A"},0,{"$f":"VLOOKUP(BK284,Datas!$G$6:$G$17,1)","v":{"$error":"#N/A"}},{"$error":"#N/A"},{"$error":"#N/A"},null,0,0,0,null,{"$f":"VLOOKUP(BG284,Liste_Noire!$B$15:$G$1208,1)","v":{"$error":"#N/A"}},{"$f":"VLOOKUP(BG284,Liste_Noire!$B$15:$G$1208,5)","v":{"$error":"#N/A"}},{"$error":"#N/A"},null,0,0,0,0,0,0,0]
[null,""," ","","","","",null,null,null,null,null,null,null,null,null,null,null,null,null,null,null,null,null,"",0,0,0,0,0,0,0,0,0,0,null,0,null,null,{"$f":"IF(AO285=\"\",\"\",IF(BV285=1,\"[b][color=red]\"&Datas!$D$32&\"[/color][/b]\"&AO285&\"[b][color=red]\"&Datas!$D$33&\"{\"&BU285&\"}[/color][/b]\",AO285))","v":""},""," ",{"$f":"IF(ISBLANK(Datas!$C$47),\"\",\" - \"&AX285)","v":{"$error":"#N/A"}},{"$f":"IF(ISBLANK(Datas!$C$48),\"\",\" - \"&AY285)","v":" - 0"},{"$f":"IF(ISBLANK(Datas!$C$49),\"\",\" - \"&AZ285)","v":""},{"$f":"IF(ISBLANK(Datas!$C$50),\"\",\" - \"&BA285)","v":" - Ecus:"},{"$f":"IF(ISBLANK(Datas!$C$51),\"\",\" - \"&BB285)","v":" - Niv: "},null,{"$error":"#N/A"},{"$error":"#N/A"},0,"PR:","Ecus:","Niv: ",null,null,null,null,0,{"$f":"VLOOKUP(BG285,LstVillage!$B$8:$C$283,1)","v":{"$error":"#N/A"}},{"$error":"#N/A"},{"$error":"#N/A"},0,{"$f":"VLOOKUP(BK285,Datas!$G$6:$G$17,1)","v":{"$error":"#N/A"}},{"$error":"#N/A"},{"$error":"#N/A"},null,0,0,0,null,{"$f":"VLOOKUP(BG285,Liste_Noire!$B$15:$G$1208,1)","v":{"$error":"#N/A"}},{"$f":"VLOOKUP(BG285,Liste_Noire!$B$15:$G$1208,5)","v":{"$error":"#N/A"}},{"$error":"#N/A"},null,0,0,0,0,0,0,0]
[null,""," ","","","","",null,null,null,null,null,null,null,null,null,null,null,null,null,null,null,null,null,"",0,0,0,0,0,0,0,0,0,0,null,0,null,null,{"$f":"IF(AO286=\"\",\"\",IF(BV286=1,\"[b][color=red]\"&Datas!$D$32&\"[/color][/b]\"&AO286&\"[b][color=red]\"&Datas!$D$33&\"{\"&BU286&\"}[/color][/b]\",AO286))","v":""},""," ",{"$f":"IF(ISBLANK(Datas!$C$47),\"\",\" - \"&AX286)","v":{"$error":"#N/A"}},{"$f":"IF(ISBLANK(Datas!$C$48),\"\",\" - \"&AY286)","v":" - 0"},{"$f":"IF(ISBLANK(Datas!$C$49),\"\",\" - \"&AZ286)","v":""},{"$f":"IF(ISBLANK(Datas!$C$50),\"\",\" - \"&BA286)","v":" - Ecus:"},{"$f":"IF(ISBLANK(Datas!$C$51),\"\",\" - \"&BB286)","v":" - Niv: "},null,{"$error":"#N/A"},{"$error":"#N/A"},0,"PR:","Ecus:","Niv: ",null,null,null,null,0,{"$f":"VLOOKUP(BG286,LstVillage!$B$8:$C$283,1)","v":{"$error":"#N/A"}},{"$error":"#N/A"},{"$error":"#N/A"},0,{"$f":"VLOOKUP(BK286,Datas!$G$6:$G$17,1)","v":{"$error":"#N/A"}},{"$error":"#N/A"},{"$error":"#N/A"},null,0,0,0,null,{"$f":"VLOOKUP(BG286,Liste_Noire!$B$15:$G$1208,1)","v":{"$error":"#N/A"}},{"$f":"VLOOKUP(BG286,Liste_Noire!$B$15:$G$1208,5)","v":{"$error":"#N/A"}},{"$error":"#N/A"},null,0,0,0,0,0,0,0]
[null,""," ","","","","",null,null,null,null,null,null,null,null,null,null,null,null,null,null,null,null,null,"",0,0,0,0,0,0,0,0,0,0,null,0,null,null,{"$f":"IF(AO287=\"\",\"\",IF(BV287=1,\"[b][color=red]\"&Datas!$D$32&\"[/color][/b]\"&AO287&\"[b][color=red]\"&Datas!$D$33&\"{\"&BU287&\"}[/color][/b]\",AO287))","v":""},""," ",{"$f":"IF(ISBLANK(Datas!$C$47),\"\",\" - \"&AX287)","v":{"$error":"#N/A"}},{"$f":"IF(ISBLANK(Datas!$C$48),\"\",\" - \"&AY287)","v":" - 0"},{"$f":"IF(ISBLANK(Datas!$C$49),\"\",\" - \"&AZ287)","v":""},{"$f":"IF(ISBLANK(Datas!$C$50),\"\",\" - \"&BA287)","v":" - Ecus:"},{"$f":"IF(ISBLANK(Datas!$C$51),\"\",\" - \"&BB287)","v":" - Niv: "},null,{"$error":"#N/A"},{"$error":"#N/A"},0,"PR:","Ecus:","Niv: ",null,null,null,null,0,{"$f":"VLOOKUP(BG287,LstVillage!$B$8:$C$283,1)","v":{"$error":"#N/A"}},{"$error":"#N/A"},{"$error":"#N/A"},0,{"$f":"VLOOKUP(BK287,Datas!$G$6:$G$17,1)","v":{"$error":"#N/A"}},{"$error":"#N/A"},{"$error":"#N/A"},null,0,0,0,null,{"$f":"VLOOKUP(BG287,Liste_Noire!$B$15:$G$1208,1)","v":{"$error":"#N/A"}},{"$f":"VLOOKUP(BG287,Liste_Noire!$B$15:$G$1208,5)","v":{"$error":"#N/A"}},{"$error":"#N/A"},null,0,0,0,0,0,0,0]
[null,""," ","","","","",null,null,null,null,null,null,null,null,null,null,null,null,null,null,null,null,null,"",0,0,0,0,0,0,0,0,0,0,null,0,null,null,{"$f":"IF(AO288=\"\",\"\",IF(BV288=1,\"[b][color=red]\"&Datas!$D$32&\"[/color][/b]\"&AO288&\"[b][color=red]\"&Datas!$D$33&\"{\"&BU288&\"}[/color][/b]\",AO288))","v":""},""," ",{"$f":"IF(ISBLANK(Datas!$C$47),\"\",\" - \"&AX288)","v":{"$error":"#N/A"}},{"$f":"IF(ISBLANK(Datas!$C$48),\"\",\" - \"&AY288)","v":" - 0"},{"$f":"IF(ISBLANK(Datas!$C$49),\"\",\" - \"&AZ288)","v":""},{"$f":"IF(ISBLANK(Datas!$C$50),\"\",\" - \"&BA288)","v":" - Ecus:"},{"$f":"IF(ISBLANK(Datas!$C$51),\"\",\" - \"&BB288)","v":" - Niv: "},null,{"$error":"#N/A"},{"$error":"#N/A"},0,"PR:","Ecus:","Niv: ",null,null,null,null,0,{"$f":"VLOOKUP(BG288,LstVillage!$B$8:$C$283,1)","v":{"$error":"#N/A"}},{"$error":"#N/A"},{"$error":"#N/A"},0,{"$f":"VLOOKUP(BK288,Datas!$G$6:$G$17,1)","v":{"$error":"#N/A"}},{"$error":"#N/A"},{"$error":"#N/A"},null,0,0,0,null,{"$f":"VLOOKUP(BG288,Liste_Noire!$B$15:$G$1208,1)","v":{"$error":"#N/A"}},{"$f":"VLOOKUP(BG288,Liste_Noire!$B$15:$G$1208,5)","v":{"$error":"#N/A"}},{"$error":"#N/A"},null,0,0,0,0,0,0,0]
[null,""," ","","","","",null,null,null,null,null,null,null,null,null,null,null,null,null,null,null,null,null,"",0,0,0,0,0,0,0,0,0,0,null,0,null,null,{"$f":"IF(AO289=\"\",\"\",IF(BV289=1,\"[b][color=red]\"&Datas!$D$32&\"[/color][/b]\"&AO289&\"[b][color=red]\"&Datas!$D$33&\"{\"&BU289&\"}[/color][/b]\",AO289))","v":""},""," ",{"$f":"IF(ISBLANK(Datas!$C$47),\"\",\" - \"&AX289)","v":{"$error":"#N/A"}},{"$f":"IF(ISBLANK(Datas!$C$48),\"\",\" - \"&AY289)","v":" - 0"},{"$f":"IF(ISBLANK(Datas!$C$49),\"\",\" - \"&AZ289)","v":""},{"$f":"IF(ISBLANK(Datas!$C$50),\"\",\" - \"&BA289)","v":" - Ecus:"},{"$f":"IF(ISBLANK(Datas!$C$51),\"\",\" - \"&BB289)","v":" - Niv: "},null,{"$error":"#N/A"},{"$error":"#N/A"},0,"PR:","Ecus:","Niv: ",null,null,null,null,0,{"$f":"VLOOKUP(BG289,LstVillage!$B$8:$C$283,1)","v":{"$error":"#N/A"}},{"$error":"#N/A"},{"$error":"#N/A"},0,{"$f":"VLOOKUP(BK289,Datas!$G$6:$G$17,1)","v":{"$error":"#N/A"}},{"$error":"#N/A"},{"$error":"#N/A"},null,0,0,0,null,{"$f":"VLOOKUP(BG289,Liste_Noire!$B$15:$G$1208,1)","v":{"$error":"#N/A"}},{"$f":"VLOOKUP(BG289,Liste_Noire!$B$15:$G$1208,5)","v":{"$error":"#N/A"}},{"$error":"#N/A"},null,0,0,0,0,0,0,0]
[null,""," ","","","","",null,null,null,null,null,null,null,null,null,null,null,null,null,null,null,null,null,"",0,0,0,0,0,0,0,0,0,0,null,0,null,null,{"$f":"IF(AO290=\"\",\"\",IF(BV290=1,\"[b][color=red]\"&Datas!$D$32&\"[/color][/b]\"&AO290&\"[b][color=red]\"&Datas!$D$33&\"{\"&BU290&\"}[/color][/b]\",AO290))","v":""},""," ",{"$f":"IF(ISBLANK(Datas!$C$47),\"\",\" - \"&AX290)","v":{"$error":"#N/A"}},{"$f":"IF(ISBLANK(Datas!$C$48),\"\",\" - \"&AY290)","v":" - 0"},{"$f":"IF(ISBLANK(Datas!$C$49),\"\",\" - \"&AZ290)","v":""},{"$f":"IF(ISBLANK(Datas!$C$50),\"\",\" - \"&BA290)","v":" - Ecus:"},{"$f":"IF(ISBLANK(Datas!$C$51),\"\",\" - \"&BB290)","v":" - Niv: "},null,{"$error":"#N/A"},{"$error":"#N/A"},0,"PR:","Ecus:","Niv: ",null,null,null,null,0,{"$f":"VLOOKUP(BG290,LstVillage!$B$8:$C$283,1)","v":{"$error":"#N/A"}},{"$error":"#N/A"},{"$error":"#N/A"},0,{"$f":"VLOOKUP(BK290,Datas!$G$6:$G$17,1)","v":{"$error":"#N/A"}},{"$error":"#N/A"},{"$error":"#N/A"},null,0,0,0,null,{"$f":"VLOOKUP(BG290,Liste_Noire!$B$15:$G$1208,1)","v":{"$error":"#N/A"}},{"$f":"VLOOKUP(BG290,Liste_Noire!$B$15:$G$1208,5)","v":{"$error":"#N/A"}},{"$error":"#N/A"},null,0,0,0,0,0,0,0]
[null,""," ","","","","",null,null,null,null,null,null,null,null,null,null,null,null,null,null,null,null,null,"",0,0,0,0,0,0,0,0,0,0,null,0,null,null,{"$f":"IF(AO291=\"\",\"\",IF(BV291=1,\"[b][color=red]\"&Datas!$D$32&\"[/color][/b]\"&AO291&\"[b][color=red]\"&Datas!$D$33&\"{\"&BU291&\"}[/color][/b]\",AO291))","v":""},""," ",{"$f":"IF(ISBLANK(Datas!$C$47),\"\",\" - \"&AX291)","v":{"$error":"#N/A"}},{"$f":"IF(ISBLANK(Datas!$C$48),\"\",\" - \"&AY291)","v":" - 0"},{"$f":"IF(ISBLANK(Datas!$C$49),\"\",\" - \"&AZ291)","v":""},{"$f":"IF(ISBLANK(Datas!$C$50),\"\",\" - \"&BA291)","v":" - Ecus:"},{"$f":"IF(ISBLANK(Datas!$C$51),\"\",\" - \"&BB291)","v":" - Niv: "},null,{"$error":"#N/A"},{"$error":"#N/A"},0,"PR:","Ecus:","Niv: ",null,null,null,null,0,{"$f":"VLOOKUP(BG291,LstVillage!$B$8:$C$283,1)","v":{"$error":"#N/A"}},{"$error":"#N/A"},{"$error":"#N/A"},0,{"$f":"VLOOKUP(BK291,Datas!$G$6:$G$17,1)","v":{"$error":"#N/A"}},{"$error":"#N/A"},{"$error":"#N/A"},null,0,0,0,null,{"$f":"VLOOKUP(BG291,Liste_Noire!$B$15:$G$1208,1)","v":{"$error":"#N/A"}},{"$f":"VLOOKUP(BG291,Liste_Noire!$B$15:$G$1208,5)","v":{"$error":"#N/A"}},{"$error":"#N/A"},null,0,0,0,0,0,0,0]
[null,""," ","","","","",null,null,null,null,null,null,null,null,null,null,null,null,null,null,null,null,null,"",0,0,0,0,0,0,0,0,0,0,null,0,null,null,{"$f":"IF(AO292=\"\",\"\",IF(BV292=1,\"[b][color=red]\"&Datas!$D$32&\"[/color][/b]\"&AO292&\"[b][color=red]\"&Datas!$D$33&\"{\"&BU292&\"}[/color][/b]\",AO292))","v":""},""," ",{"$f":"IF(ISBLANK(Datas!$C$47),\"\",\" - \"&AX292)","v":{"$error":"#N/A"}},{"$f":"IF(ISBLANK(Datas!$C$48),\"\",\" - \"&AY292)","v":" - 0"},{"$f":"IF(ISBLANK(Datas!$C$49),\"\",\" - \"&AZ292)","v":""},{"$f":"IF(ISBLANK(Datas!$C$50),\"\",\" - \"&BA292)","v":" - Ecus:"},{"$f":"IF(ISBLANK(Datas!$C$51),\"\",\" - \"&BB292)","v":" - Niv: "},null,{"$error":"#N/A"},{"$error":"#N/A"},0,"PR:","Ecus:","Niv: ",null,null,null,null,0,{"$f":"VLOOKUP(BG292,LstVillage!$B$8:$C$283,1)","v":{"$error":"#N/A"}},{"$error":"#N/A"},{"$error":"#N/A"},0,{"$f":"VLOOKUP(BK292,Datas!$G$6:$G$17,1)","v":{"$error":"#N/A"}},{"$error":"#N/A"},{"$error":"#N/A"},null,0,0,0,null,{"$f":"VLOOKUP(BG292,Liste_Noire!$B$15:$G$1208,1)","v":{"$error":"#N/A"}},{"$f":"VLOOKUP(BG292,Liste_Noire!$B$15:$G$1208,5)","v":{"$error":"#N/A"}},{"$error":"#N/A"},null,0,0,0,0,0,0,0]
[null,""," ","","","","",null,null,null,null,null,null,null,null,null,null,null,null,null,null,null,null,null,"",0,0,0,0,0,0,0,0,0,0,null,0,null,null,{"$f":"IF(AO293=\"\",\"\",IF(BV293=1,\"[b][color=red]\"&Datas!$D$32&\"[/color][/b]\"&AO293&\"[b][color=red]\"&Datas!$D$33&\"{\"&BU293&\"}[/color][/b]\",AO293))","v":""},""," ",{"$f":"IF(ISBLANK(Datas!$C$47),\"\",\" - \"&AX293)","v":{"$error":"#N/A"}},{"$f":"IF(ISBLANK(Datas!$C$48),\"\",\" - \"&AY293)","v":" - 0"},{"$f":"IF(ISBLANK(Datas!$C$49),\"\",\" - \"&AZ293)","v":""},{"$f":"IF(ISBLANK(Datas!$C$50),\"\",\" - \"&BA293)","v":" - Ecus:"},{"$f":"IF(ISBLANK(Datas!$C$51),\"\",\" - \"&BB293)","v":" - Niv: "},null,{"$error":"#N/A"},{"$error":"#N/A"},0,"PR:","Ecus:","Niv: ",null,null,null,null,0,{"$f":"VLOOKUP(BG293,LstVillage!$B$8:$C$283,1)","v":{"$error":"#N/A"}},{"$error":"#N/A"},{"$error":"#N/A"},0,{"$f":"VLOOKUP(BK293,Datas!$G$6:$G$17,1)","v":{"$error":"#N/A"}},{"$error":"#N/A"},{"$error":"#N/A"},null,0,0,0,null,{"$f":"VLOOKUP(BG293,Liste_Noire!$B$15:$G$1208,1)","v":{"$error":"#N/A"}},{"$f":"VLOOKUP(BG293,Liste_Noire!$B$15:$G$1208,5)","v":{"$error":"#N/A"}},{"$error":"#N/A"},null,0,0,0,0,0,0,0]
[null,""," ","","","","",null,null,null,null,null,null,null,null,null,null,null,null,null,null,null,null,null,"",0,0,0,0,0,0,0,0,0,0,null,0,null,null,{"$f":"IF(AO294=\"\",\"\",IF(BV294=1,\"[b][color=red]\"&Datas!$D$32&\"[/color][/b]\"&AO294&\"[b][color=red]\"&Datas!$D$33&\"{\"&BU294&\"}[/color][/b]\",AO294))","v":""},""," ",{"$f":"IF(ISBLANK(Datas!$C$47),\"\",\" - \"&AX294)","v":{"$error":"#N/A"}},{"$f":"IF(ISBLANK(Datas!$C$48),\"\",\" - \"&AY294)","v":" - 0"},{"$f":"IF(ISBLANK(Datas!$C$49),\"\",\" - \"&AZ294)","v":""},{"$f":"IF(ISBLANK(Datas!$C$50),\"\",\" - \"&BA294)","v":" - Ecus:"},{"$f":"IF(ISBLANK(Datas!$C$51),\"\",\" - \"&BB294)","v":" - Niv: "},null,{"$error":"#N/A"},{"$error":"#N/A"},0,"PR:","Ecus:","Niv: ",null,null,null,null,0,{"$f":"VLOOKUP(BG294,LstVillage!$B$8:$C$283,1)","v":{"$error":"#N/A"}},{"$error":"#N/A"},{"$error":"#N/A"},0,{"$f":"VLOOKUP(BK294,Datas!$G$6:$G$17,1)","v":{"$error":"#N/A"}},{"$error":"#N/A"},{"$error":"#N/A"},null,0,0,0,null,{"$f":"VLOOKUP(BG294,Liste_Noire!$B$15:$G$1208,1)","v":{"$error":"#N/A"}},{"$f":"VLOOKUP(BG294,Liste_Noire!$B$15:$G$1208,5)","v":{"$error":"#N/A"}},{"$error":"#N/A"},null,0,0,0,0,0,0,0]
[null,""," ","","","","",null,null,null,null,null,null,null,null,null,null,null,null,null,null,null,null,null,"",0,0,0,0,0,0,0,0,0,0,null,0,null,null,{"$f":"IF(AO295=\"\",\"\",IF(BV295=1,\"[b][color=red]\"&Datas!$D$32&\"[/color][/b]\"&AO295&\"[b][color=red]\"&Datas!$D$33&\"{\"&BU295&\"}[/color][/b]\",AO295))","v":""},""," ",{"$f":"IF(ISBLANK(Datas!$C$47),\"\",\" - \"&AX295)","v":{"$error":"#N/A"}},{"$f":"IF(ISBLANK(Datas!$C$48),\"\",\" - \"&AY295)","v":" - 0"},{"$f":"IF(ISBLANK(Datas!$C$49),\"\",\" - \"&AZ295)","v":""},{"$f":"IF(ISBLANK(Datas!$C$50),\"\",\" - \"&BA295)","v":" - Ecus:"},{"$f":"IF(ISBLANK(Datas!$C$51),\"\",\" - \"&BB295)","v":" - Niv: "},null,{"$error":"#N/A"},{"$error":"#N/A"},0,"PR:","Ecus:","Niv: ",null,null,null,null,0,{"$f":"VLOOKUP(BG295,LstVillage!$B$8:$C$283,1)","v":{"$error":"#N/A"}},{"$error":"#N/A"},{"$error":"#N/A"},0,{"$f":"VLOOKUP(BK295,Datas!$G$6:$G$17,1)","v":{"$error":"#N/A"}},{"$error":"#N/A"},{"$error":"#N/A"},null,0,0,0,null,{"$f":"VLOOKUP(BG295,Liste_Noire!$B$15:$G$1208,1)","v":{"$error":"#N/A"}},{"$f":"VLOOKUP(BG295,Liste_Noire!$B$15:$G$1208,5)","v":{"$error":"#N/A"}},{"$error":"#N/A"},null,0,0,0,0,0,0,0]
[null,""," ","","","","",null,null,null,null,null,null,null,null,null,null,null,null,null,null,null,null,null,"",0,0,0,0,0,0,0,0,0,0,null,0,null,null,{"$f":"IF(AO296=\"\",\"\",IF(BV296=1,\"[b][color=red]\"&Datas!$D$32&\"[/color][/b]\"&AO296&\"[b][color=red]\"&Datas!$D$33&\"{\"&BU296&\"}[/color][/b]\",AO296))","v":""},""," ",{"$f":"IF(ISBLANK(Datas!$C$47),\"\",\" - \"&AX296)","v":{"$error":"#N/A"}},{"$f":"IF(ISBLANK(Datas!$C$48),\"\",\" - \"&AY296)","v":" - 0"},{"$f":"IF(ISBLANK(Datas!$C$49),\"\",\" - \"&AZ296)","v":""},{"$f":"IF(ISBLANK(Datas!$C$50),\"\",\" - \"&BA296)","v":" - Ecus:"},{"$f":"IF(ISBLANK(Datas!$C$51),\"\",\" - \"&BB296)","v":" - Niv: "},null,{"$error":"#N/A"},{"$error":"#N/A"},0,"PR:","Ecus:","Niv: ",null,null,null,null,0,{"$f":"VLOOKUP(BG296,LstVillage!$B$8:$C$283,1)","v":{"$error":"#N/A"}},{"$error":"#N/A"},{"$error":"#N/A"},0,{"$f":"VLOOKUP(BK296,Datas!$G$6:$G$17,1)","v":{"$error":"#N/A"}},{"$error":"#N/A"},{"$error":"#N/A"},null,0,0,0,null,{"$f":"VLOOKUP(BG296,Liste_Noire!$B$15:$G$1208,1)","v":{"$error":"#N/A"}},{"$f":"VLOOKUP(BG296,Liste_Noire!$B$15:$G$1208,5)","v":{"$error":"#N/A"}},{"$error":"#N/A"},null,0,0,0,0,0,0,0]
[null,""," ","","","","",null,null,null,null,null,null,null,null,null,null,null,null,null,null,null,null,null,"",0,0,0,0,0,0,0,0,0,0,null,0,null,null,{"$f":"IF(AO297=\"\",\"\",IF(BV297=1,\"[b][color=red]\"&Datas!$D$32&\"[/color][/b]\"&AO297&\"[b][color=red]\"&Datas!$D$33&\"{\"&BU297&\"}[/color][/b]\",AO297))","v":""},""," ",{"$f":"IF(ISBLANK(Datas!$C$47),\"\",\" - \"&AX297)","v":{"$error":"#N/A"}},{"$f":"IF(ISBLANK(Datas!$C$48),\"\",\" - \"&AY297)","v":" - 0"},{"$f":"IF(ISBLANK(Datas!$C$49),\"\",\" - \"&AZ297)","v":""},{"$f":"IF(ISBLANK(Datas!$C$50),\"\",\" - \"&BA297)","v":" - Ecus:"},{"$f":"IF(ISBLANK(Datas!$C$51),\"\",\" - \"&BB297)","v":" - Niv: "},null,{"$error":"#N/A"},{"$error":"#N/A"},0,"PR:","Ecus:","Niv: ",null,null,null,null,0,{"$f":"VLOOKUP(BG297,LstVillage!$B$8:$C$283,1)","v":{"$error":"#N/A"}},{"$error":"#N/A"},{"$error":"#N/A"},0,{"$f":"VLOOKUP(BK297,Datas!$G$6:$G$17,1)","v":{"$error":"#N/A"}},{"$error":"#N/A"},{"$error":"#N/A"},null,0,0,0,null,{"$f":"VLOOKUP(BG297,Liste_Noire!$B$15:$G$1208,1)","v":{"$error":"#N/A"}},{"$f":"VLOOKUP(BG297,Liste_Noire!$B$15:$G$1208,5)","v":{"$error":"#N/A"}},{"$error":"#N/A"},null,0,0,0,0,0,0,0]
[null,""," ","","","","",null,null,null,null,null,null,null,null,null,null,null,null,null,null,null,null,null,"",0,0,0,0,0,0,0,0,0,0,null,0,null,null,{"$f":"IF(AO298=\"\",\"\",IF(BV298=1,\"[b][color=red]\"&Datas!$D$32&\"[/color][/b]\"&AO298&\"[b][color=red]\"&Datas!$D$33&\"{\"&BU298&\"}[/color][/b]\",AO298))","v":""},""," ",{"$f":"IF(ISBLANK(Datas!$C$47),\"\",\" - \"&AX298)","v":{"$error":"#N/A"}},{"$f":"IF(ISBLANK(Datas!$C$48),\"\",\" - \"&AY298)","v":" - 0"},{"$f":"IF(ISBLANK(Datas!$C$49),\"\",\" - \"&AZ298)","v":""},{"$f":"IF(ISBLANK(Datas!$C$50),\"\",\" - \"&BA298)","v":" - Ecus:"},{"$f":"IF(ISBLANK(Datas!$C$51),\"\",\" - \"&BB298)","v":" - Niv: "},null,{"$error":"#N/A"},{"$error":"#N/A"},0,"PR:","Ecus:","Niv: ",null,null,null,null,0,{"$f":"VLOOKUP(BG298,LstVillage!$B$8:$C$283,1)","v":{"$error":"#N/A"}},{"$error":"#N/A"},{"$error":"#N/A"},0,{"$f":"VLOOKUP(BK298,Datas!$G$6:$G$17,1)","v":{"$error":"#N/A"}},{"$error":"#N/A"},{"$error":"#N/A"},null,0,0,0,null,{"$f":"VLOOKUP(BG298,Liste_Noire!$B$15:$G$1208,1)","v":{"$error":"#N/A"}},{"$f":"VLOOKUP(BG298,Liste_Noire!$B$15:$G$1208,5)","v":{"$error":"#N/A"}},{"$error":"#N/A"},null,0,0,0,0,0,0,0]
[null,""," ","","","","",null,null,null,null,null,null,null,null,null,null,null,null,null,null,null,null,null,"",0,0,0,0,0,0,0,0,0,0,null,0,null,null,{"$f":"IF(AO299=\"\",\"\",IF(BV299=1,\"[b][color=red]\"&Datas!$D$32&\"[/color][/b]\"&AO299&\"[b][color=red]\"&Datas!$D$33&\"{\"&BU299&\"}[/color][/b]\",AO299))","v":""},""," ",{"$f":"IF(ISBLANK(Datas!$C$47),\"\",\" - \"&AX299)","v":{"$error":"#N/A"}},{"$f":"IF(ISBLANK(Datas!$C$48),\"\",\" - \"&AY299)","v":" - 0"},{"$f":"IF(ISBLANK(Datas!$C$49),\"\",\" - \"&AZ299)","v":""},{"$f":"IF(ISBLANK(Datas!$C$50),\"\",\" - \"&BA299)","v":" - Ecus:"},{"$f":"IF(ISBLANK(Datas!$C$51),\"\",\" - \"&BB299)","v":" - Niv: "},null,{"$error":"#N/A"},{"$error":"#N/A"},0,"PR:","Ecus:","Niv: ",null,null,null,null,0,{"$f":"VLOOKUP(BG299,LstVillage!$B$8:$C$283,1)","v":{"$error":"#N/A"}},{"$error":"#N/A"},{"$error":"#N/A"},0,{"$f":"VLOOKUP(BK299,Datas!$G$6:$G$17,1)","v":{"$error":"#N/A"}},{"$error":"#N/A"},{"$error":"#N/A"},null,0,0,0,null,{"$f":"VLOOKUP(BG299,Liste_Noire!$B$15:$G$1208,1)","v":{"$error":"#N/A"}},{"$f":"VLOOKUP(BG299,Liste_Noire!$B$15:$G$1208,5)","v":{"$error":"#N/A"}},{"$error":"#N/A"},null,0,0,0,0,0,0,0]

{"sheet":"Trait_Villageois","index":4,"n_rows":302,"n_cols":78,"rows_kept":302,"cut":false,"hidden":false,"merged":[[10,4,11,4],[10,5,11,5],[8,11,8,12],[10,38,10,42],[8,1,8,5],[8,6,8,7],[9,24,9,25],[9,26,9,27],[9,28,9,29],[9,30,9,31],[0,13,0,14],[10,6,11,6],[9,22,9,23],[0,15,0,16],[2,11,2,12],[5,9,5,12],[6,1,6,6],[3,1,4,7],[3,11,3,12],[0,1,1,7],[10,1,11,1],[10,3,11,3],[2,4,2,5],[4,11,4,12],[7,1,7,6],[7,11,7,12]]}
[null,"Aide aux Royaumes Renaissants",null,null,null,null,null,null,null,null,null,null,null,"VILLAGEOIS",null,"RECAP GLOBAL",null,null,null," "]
[null,null,null,null,null,null,null,null,null,null,null,null,null,"Total",{"$f":"Datas!D35","v":"Indésirables"},"Total",{"$f":"Datas!D35","v":"Indésirables"},null,null," ",null,null,null,null,null,null,null,null,null,null,null,null,null,null,null,null,null,null,null,null,null,null,null,null,"de la ville","blue","Ville","Du duché","green","Niveau","Niv.1","brown"]
[null,{"$f":"\"v\"&Datas!D38","v":"v4.32"},null,null,null,null,null,"UnderWorld",null,null,null,"Arrivées",null,{"$f":"SUM(W13:W300)","v":0},{"$f":"SUM(X13:X300)","v":0},{"$f":"N3+Trait_Etrangers!L3","v":0},{"$f":"O3+Trait_Etrangers!M3","v":0},null,null," ",null,null,null,null,null,null,null,null,null,null,null,null,null,null,null,null,null,null,null,null,null,null,null,null,"du duché","orange",null,"Etranger","red",null,"Niv.2","indigo"]
[null,"Analyse des Villageois",null,null,null,null,null,null,null,null,null,"Départs",null,{"$f":"SUM(Y13:Y300)","v":0},{"$f":"SUM(Z13:Z300)","v":0},{"$f":"N4+Trait_Etrangers!L4","v":0},{"$f":"O4+Trait_Etrangers!M4","v":0},null,null," ",null,null,null,null,null,null,null,null,null,null,null,null,null,null,null,null,null,null,null,null,null,null,null,null,"étranger/abs","darkred",null,null,null,null,"Niv.3","olive"]
[null,null,null,null,null,null,null,null,null,null,null,"Présents Actifs",null,{"$f":"SUM(AE13:AE300)","v":0},{"$f":"SUM(AF13:AF300)","v":0},{"$f":"N5+Trait_Etrangers!L5","v":0},{"$f":"O5+Trait_Etrangers!M5","v":0},null,null," ",null,null,null,null,null,null,null,null,null,null,null,null,null,null,null,null,null,null,null,null,null,null,null,null,null,null,null,null,null,null,"Niv.4","orange"]
[null,null,null,null,null,null,null,null,null,"Pantins présents",null,null,null,{"$f":"N5+N3","v":0},{"$f":"O5+O3","v":0},{"$f":"N6+Trait_Etrangers!L6","v":0},{"$f":"O6+Trait_Etrangers!M6","v":0},null,null," ",null,null,null,null,null,null,null,null,null,null,null,null,null,null,null,null,null,null,null,null,null,null,null,null,null,null,null,null,null,null,"Vag","black"]
[null,"Ville traitement :",null,null,null,null,null,"Duché :"]
[null,{"$f":"Menu!H8","v":"Tréguier"},null,null,null,null,null,"Comté du Languedoc",null,null,null,"Retraites",null,{"$f":"SUM(AA13:AA300)","v":0},{"$f":"SUM(AB13:AB300)","v":0},{"$f":"N8+Trait_Etrangers!L8","v":0},{"$f":"O8+Trait_Etrangers!M8","v":0}]
[null,{"$f":"Menu!$H$5","v":"Zakarine"},null,null,null,null,{"$f":"\"Compte Rendu du \"&DAY(Menu!$D$9)&\" \"&VLOOKUP(MONTH(Menu!$D$9),Datas!$R$9:$T$20,Datas!$R$5)&\" \"&YEAR(Menu!$D$9)-552","v":"Compte Rendu du 2 Juin 1465"},null,null,null,null,"Morts",null,{"$f":"SUM(AC13:AC300)","v":0},{"$f":"SUM(AD13:AD300)","v":0},{"$f":"N9+Trait_Etrangers!L9","v":0},{"$f":"O9+Trait_Etrangers!M9","v":0},null,null,null,null,null,null,null,null,null,null,null,null,null,null,null,null,"Menu"]
[null,null,null,null,null,null,null,null,null,null,null,null,null,null,null,null,null,null,null," ",null,"Local","Arrivées",null,"Départs",null,"Retraites",null,"Morts",null,"Présents Actifs",null,null,{"$f":"SUM($AH$13:$AH$299)","v":0}]
[null,"COPIER\nFORUM",null,"Mort","Lst","Ret","Mvt","Lien Courrier","Pseudo","Etat","Niv","PR","Ecus","Voie","Métier","Champ 1","Champ 2","Mvt",null," ",null,"v","a","LN","d","LN","R","LN","M","LN","v","LN",null,null,null,null,null,null,"Insertion Conditionnelle",null,null,null,null,null,null,null,null,null,null,null,null,null,null,null,null,null,null,null,null,null,null,null,null,null,null,null,null,null,null,null,null,"Statistiques"]
[null,null,null,null,null,null,null,"COPIER LA LISTE DES PERSONNES EN DESSOUS",null,null,null,null,null,null,null,null,null,null,null," ",null,"Mvt","Total","Pasbos","Total","Pasbos","Total","Pasbos","Total","Pasbos","Total","Pasbos",null,"Vide ??",null,"Insert LN ?","Prepa",null,"Ville","Comté","PR","Ecus","Niveau",null,"Joueur","Ville","Duché","PR","Ecus","Niveau","Prof","Champ",null,null,"Joueur","Rech Lst","Village ?","Couleur","Ville","Rech Lst","Village ?","Couleur",null,"Duché","Mort ?","Retraite ??",null,"Rech Lst Noire","Verdict","Lst Noire ?",null,"Arrivées","Départs","Retraites","Morts","LN","Surveillance","Villageois"]
[null,{"$f":"IF(BM13,\"[strike]\"&AJ13&\"[/strike]\",IF(BN13,\"[i]\"&AJ13&\"[/i]\",AJ13))","v":""}," ",{"$f":"IF(J13=\"mort\",\"M\",\"\")","v":""},{"$f":"IF(ISERROR(BR13),\"\",IF(BR13=1,\"LN\",\"\"))","v":""},{"$f":"IF(J13=\"retraite\",\"R\",\"\")","v":""},null,null,null,null,null,null,null," "," "," "," ",null,null," ",null,{"$f":"IF(OR(ISBLANK(R13),TRIM(R13)=\"\"),IF(ISBLANK($I13),\"\",$V$11),IF(OR($F13=$AA$11,$D13=$AC$11),$V$11,IF(R13=\"a/d\",\"\",R13)))","v":""},{"$f":"IF($V13=W$11,1,0)","v":0},{"$f":"IF(AND(W13=1,$E13=X$11),1,0)","v":0},{"$f":"IF($V13=Y$11,1,0)","v":0},{"$f":"IF(AND(Y13=1,$E13=Z$11),1,0)","v":0},{"$f":"IF($F13=AA$11,1,0)","v":0},{"$f":"IF(AND(AA13=1,$E13=AB$11),1,0)","v":0},{"$f":"IF($D13=AC$11,1,0)","v":0},{"$f":"IF(AND(AC13=1,$E13=AD$11),1,0)","v":0},{"$f":"IF(AND($V13=AE$11,(AA13+AC13)=0),1,0)","v":0},{"$f":"IF(AND(AE13=1,$E13=AF$11),1,0)","v":0},null,{"$f":"IF(AND(ISBLANK(I13),ISBLANK(J13),ISBLANK(L13),ISBLANK(M13)),0,1)","v":0},null,{"$f":"IF(AK13=\"\",\"\",IF(BR13=1,\"[b][color=red]\"&Datas!$D$32&\"[/color][/b]\"&AK13&\"[b][color=red]\"&Datas!$D$33&\"{\"&BQ13&\"}[/color][/b]\",AK13))","v":""},{"$f":"IF(ISBLANK(I13),\"\",AS13&AM13&AN13&AO13&AP13&AQ13)","v":""}," ",{"$f":"IF(ISBLANK(Datas!$C$41),\"\",\" - \"&AT13)","v":" - [color=red][b]Tréguier[/b][/color]"},{"$f":"IF(ISBLANK(Datas!$C$42),\"\",\" - \"&AU13)","v":""},{"$f":"IF(ISBLANK(Datas!$C$43),\"\",\" - \"&AV13)","v":" - PR:"},{"$f":"IF(ISBLANK(Datas!$C$44),\"\",\" - \"&AW13)","v":" - Ecus: "},{"$f":"IF(ISBLANK(Datas!$C$45),\"\",\" - \"&AX13)","v":" - Niv: "}," ",{"$f":"\"[b][color=\"&BF13&\"]\"&BC13&\"[/color][/b]\"","v":"[b][color=blue]0[/color][/b]"},{"$f":"\"[color=\"&BJ13&\"][b]\"&BG13&\"[/b][/color]\"","v":"[color=red][b]Tréguier[/b][/color]"},{"$f":"$H$8","v":"Comté du Languedoc"},{"$f":"\"PR:\"&L13","v":"PR:"},{"$f":"\"Ecus: \"&M13","v":"Ecus: "},{"$f":"\"Niv: \"&K13","v":"Niv: "},null,null,null,null,{"$f":"I13","v":0},{"$f":"VLOOKUP(BC13,LstVillage!$B$8:$C$283,1)","v":{"$error":"#N/A"}},{"$f":"1","v":1},{"$f":"IF(BE13=1,$AT$2,IF(BI13=1,$AT$3,$AT$4))","v":"blue"},{"$f":"$B$8","v":"Tréguier"},{"$f":"VLOOKUP(BG13,Datas!$G$6:$G$17,1)","v":"Nîmes"},{"$f":"IF(BH13<>BG13,0,1)","v":0},{"$f":"IF(BI13=1,$AW$2,$AW$3)","v":"red"},null,{"$f":"$H$8","v":"Comté du Languedoc"},{"$f":"IF(F13=\"M\",1,0)","v":0},{"$f":"IF(F13=\"R\",1,0)","v":0},null,{"$f":"VLOOKUP(BC13,Liste_Noire!$B$15:$G$1208,1)","v":{"$error":"#N/A"}},{"$f":"VLOOKUP(BC13,Liste_Noire!$B$15:$G$1208,5)","v":{"$error":"#N/A"}},{"$f":"IF(ISERR(BP13),0,IF(BP13=BC13,1,0))","v":{"$error":"#N/A"}},null,{"$f":"IF(G13=\"a\",1,0)","v":0},{"$f":"IF(G13=\"d\",1,0)","v":0},{"$f":"IF(F13=\"R\",1,0)","v":0},{"$f":"IF(F13=\"M\",1,0)","v":0},0,0,{"$f":"IF(ISBLANK(I13),0,1)","v":0}]
[null,""," ","","","",{"$f":"IF(ISBLANK(V14),\"\",V14)","v":""},null,null,null,null,null,null,null,null,null,null,null,null," ",null,"",0,0,0,0,0,0,0,0,0,0,null,0,null,{"$f":"IF(AK14=\"\",\"\",IF(BR14=1,\"[b][color=red]\"&Datas!$D$32&\"[/color][/b]\"&AK14&\"[b][color=red]\"&Datas!$D$33&\"{\"&BQ14&\"}[/color][/b]\",AK14))","v":""},""," ",{"$f":"IF(ISBLANK(Datas!$C$41),\"\",\" - \"&AT14)","v":" - [color=red][b]Tréguier[/b][/color]"},{"$f":"IF(ISBLANK(Datas!$C$42),\"\",\" - \"&AU14)","v":""},{"$f":"IF(ISBLANK(Datas!$C$43),\"\",\" - \"&AV14)","v":" - PR:"},{"$f":"IF(ISBLANK(Datas!$C$44),\"\",\" - \"&AW14)","v":" - Ecus: "},{"$f":"IF(ISBLANK(Datas!$C$45),\"\",\" - \"&AX14)","v":" - Niv: "}," ","[b][color=blue]0[/color][/b]","[color=red][b]Tréguier[/b][/color]","Comté du Languedoc","PR:","Ecus: ","Niv: ",null,null,null,null,0,{"$f":"VLOOKUP(BC14,LstVillage!$B$8:$C$283,1)","v":{"$error":"#N/A"}},{"$f":"1","v":1},"blue","Tréguier",{"$f":"VLOOKUP(BG14,Datas!$G$6:$G$17,1)","v":"Nîmes"},0,"red",null,"Comté du Languedoc",0,0,null,{"$f":"VLOOKUP(BC14,Liste_Noire!$B$15:$G$1208,1)","v":{"$error":"#N/A"}},{"$f":"VLOOKUP(BC14,Liste_Noire!$B$15:$G$1208,5)","v":{"$error":"#N/A"}},{"$error":"#N/A"},null,0,0,0,0,0,0,0]
[null,""," ","","","","",null,null,null,null,null,null,null,null,null,null,null,null," ",null,"",0,0,0,0,0,0,0,0,0,0,null,0,null,{"$f":"IF(AK15=\"\",\"\",IF(BR15=1,\"[b][color=red]\"&Datas!$D$32&\"[/color][/b]\"&AK15&\"[b][color=red]\"&Datas!$D$33&\"{\"&BQ15&\"}[/color][/b]\",AK15))","v":""},""," ",{"$f":"IF(ISBLANK(Datas!$C$41),\"\",\" - \"&AT15)","v":" - [color=red][b]Tréguier[/b][/color]"},{"$f":"IF(ISBLANK(Datas!$C$42),\"\",\" - \"&AU15)","v":""},{"$f":"IF(ISBLANK(Datas!$C$43),\"\",\" - \"&AV15)","v":" - PR:"},{"$f":"IF(ISBLANK(Datas!$C$44),\"\",\" - \"&AW15)","v":" - Ecus: "},{"$f":"IF(ISBLANK(Datas!$C$45),\"\",\" - \"&AX15)","v":" - Niv: "}," ","[b][color=blue]0[/color][/b]","[color=red][b]Tréguier[/b][/color]","Comté du Languedoc","PR:","Ecus: ","Niv: ",null,null,null,null,0,{"$f":"VLOOKUP(BC15,LstVillage!$B$8:$C$283,1)","v":{"$error":"#N/A"}},{"$f":"1","v":1},"blue","Tréguier",{"$f":"VLOOKUP(BG15,Datas!$G$6:$G$17,1)","v":"Nîmes"},0,"red",null,"Comté du Languedoc",0,0,null,{"$f":"VLOOKUP(BC15,Liste_Noire!$B$15:$G$1208,1)","v":{"$error":"#N/A"}},{"$f":"VLOOKUP(BC15,Liste_Noire!$B$15:$G$1208,5)","v":{"$error":"#N/A"}},{"$error":"#N/A"},null,0,0,0,0,0,0,0]
[null,""," ","","","","",null,null,null,null,null,null,null,null,null,null,null,null," ",null,"",0,0,0,0,0,0,0,0,0,0,null,0,null,{"$f":"IF(AK16=\"\",\"\",IF(BR16=1,\"[b][color=red]\"&Datas!$D$32&\"[/color][/b]\"&AK16&\"[b][color=red]\"&Datas!$D$33&\"{\"&BQ16&\"}[/color][/b]\",AK16))","v":""},""," ",{"$f":"IF(ISBLANK(Datas!$C$41),\"\",\" - \"&AT16)","v":" - [color=red][b]Tréguier[/b][/color]"},{"$f":"IF(ISBLANK(Datas!$C$42),\"\",\" - \"&AU16)","v":""},{"$f":"IF(ISBLANK(Datas!$C$43),\"\",\" - \"&AV16)","v":" - PR:"},{"$f":"IF(ISBLANK(Datas!$C$44),\"\",\" - \"&AW16)","v":" - Ecus: "},{"$f":"IF(ISBLANK(Datas!$C$45),\"\",\" - \"&AX16)","v":" - Niv: "}," ","[b][color=blue]0[/color][/b]","[color=red][b]Tréguier[/b][/color]","Comté du Languedoc","PR:","Ecus: ","Niv: ",null,null,null,null,0,{"$f":"VLOOKUP(BC16,LstVillage!$B$8:$C$283,1)","v":{"$error":"#N/A"}},{"$f":"1","v":1},"blue","Tréguier",{"$f":"VLOOKUP(BG16,Datas!$G$6:$G$17,1)","v":"Nîmes"},0,"red",null,"Comté du Languedoc",0,0,null,{"$f":"VLOOKUP(BC16,Liste_Noire!$B$15:$G$1208,1)","v":{"$error":"#N/A"}},{"$f":"VLOOKUP(BC16,Liste_Noire!$B$15:$G$1208,5)","v":{"$error":"#N/A"}},{"$error":"#N/A"},null,0,0,0,0,0,0,0]
[null,""," ","","","","",null,null,null,null,null,null,null,null,null,null,null,null," ",null,"",0,0,0,0,0,0,0,0,0,0,null,0,null,{"$f":"IF(AK17=\"\",\"\",IF(BR17=1,\"[b][color=red]\"&Datas!$D$32&\"[/color][/b]\"&AK17&\"[b][color=red]\"&Datas!$D$33&\"{\"&BQ17&\"}[/color][/b]\",AK17))","v":""},""," ",{"$f":"IF(ISBLANK(Datas!$C$41),\"\",\" - \"&AT17)","v":" - [color=red][b]Tréguier[/b][/color]"},{"$f":"IF(ISBLANK(Datas!$C$42),\"\",\" - \"&AU17)","v":""},{"$f":"IF(ISBLANK(Datas!$C$43),\"\",\" - \"&AV17)","v":" - PR:"},{"$f":"IF(ISBLANK(Datas!$C$44),\"\",\" - \"&AW17)","v":" - Ecus: "},{"$f":"IF(ISBLANK(Datas!$C$45),\"\",\" - \"&AX17)","v":" - Niv: "}," ","[b][color=blue]0[/color][/b]","[color=red][b]Tréguier[/b][/color]","Comté du Languedoc","PR:","Ecus: ","Niv: ",null,null,null,null,0,{"$f":"VLOOKUP(BC17,LstVillage!$B$8:$C$283,1)","v":{"$error":"#N/A"}},{"$f":"1","v":1},"blue","Tréguier",{"$f":"VLOOKUP(BG17,Datas!$G$6:$G$17,1)","v":"Nîmes"},0,"red",null,"Comté du Languedoc",0,0,null,{"$f":"VLOOKUP(BC17,Liste_Noire!$B$15:$G$1208,1)","v":{"$error":"#N/A"}},{"$f":"VLOOKUP(BC17,Liste_Noire!$B$15:$G$1208,5)","v":{"$error":"#N/A"}},{"$error":"#N/A"},null,0,0,0,0,0,0,0]
[null,""," ","","","","",null,null,null,null,null,null,null,null,null,null,null,null," ",null,"",0,0,0,0,0,0,0,0,0,0,null,0,null,{"$f":"IF(AK18=\"\",\"\",IF(BR18=1,\"[b][color=red]\"&Datas!$D$32&\"[/color][/b]\"&AK18&\"[b][color=red]\"&Datas!$D$33&\"{\"&BQ18&\"}[/color][/b]\",AK18))","v":""},""," ",{"$f":"IF(ISBLANK(Datas!$C$41),\"\",\" - \"&AT18)","v":" - [color=red][b]Tréguier[/b][/color]"},{"$f":"IF(ISBLANK(Datas!$C$42),\"\",\" - \"&AU18)","v":""},{"$f":"IF(ISBLANK(Datas!$C$43),\"\",\" - \"&AV18)","v":" - PR:"},{"$f":"IF(ISBLANK(Datas!$C$44),\"\",\" - \"&AW18)","v":" - Ecus: "},{"$f":"IF(ISBLANK(Datas!$C$45),\"\",\" - \"&AX18)","v":" - Niv: "}," ","[b][color=blue]0[/color][/b]","[color=red][b]Tréguier[/b][/color]","Comté du Languedoc","PR:","Ecus: ","Niv: ",null,null,null,null,0,{"$f":"VLOOKUP(BC18,LstVillage!$B$8:$C$283,1)","v":{"$error":"#N/A"}},{"$f":"1","v":1},"blue","Tréguier",{"$f":"VLOOKUP(BG18,Datas!$G$6:$G$17,1)","v":"Nîmes"},0,"red",null,"Comté du Languedoc",0,0,null,{"$f":"VLOOKUP(BC18,Liste_Noire!$B$15:$G$1208,1)","v":{"$error":"#N/A"}},{"$f":"VLOOKUP(BC18,Liste_Noire!$B$15:$G$1208,5)","v":{"$error":"#N/A"}},{"$error":"#N/A"},null,0,0,0,0,0,0,0]
[null,""," ","","","","",null,null,null,null,null,null,null,null,null,null,null,null," ",null,"",0,0,0,0,0,0,0,0,0,0,null,0,null,{"$f":"IF(AK19=\"\",\"\",IF(BR19=1,\"[b][color=red]\"&Datas!$D$32&\"[/color][/b]\"&AK19&\"[b][color=red]\"&Datas!$D$33&\"{\"&BQ19&\"}[/color][/b]\",AK19))","v":""},""," ",{"$f":"IF(ISBLANK(Datas!$C$41),\"\",\" - \"&AT19)","v":" - [color=red][b]Tréguier[/b][/color]"},{"$f":"IF(ISBLANK(Datas!$C$42),\"\",\" - \"&AU19)","v":""},{"$f":"IF(ISBLANK(Datas!$C$43),\"\",\" - \"&AV19)","v":" - PR:"},{"$f":"IF(ISBLANK(Datas!$C$44),\"\",\" - \"&AW19)","v":" - Ecus: "},{"$f":"IF(ISBLANK(Datas!$C$45),\"\",\" - \"&AX19)","v":" - Niv: "}," ","[b][color=blue]0[/color][/b]","[color=red][b]Tréguier[/b][/color]","Comté du Languedoc","PR:","Ecus: ","Niv: ",null,null,null,null,0,{"$f":"VLOOKUP(BC19,LstVillage!$B$8:$C$283,1)","v":{"$error":"#N/A"}},{"$f":"1","v":1},"blue","Tréguier",{"$f":"VLOOKUP(BG19,Datas!$G$6:$G$17,1)","v":"Nîmes"},0,"red",null,"Comté du Languedoc",0,0,null,{"$f":"VLOOKUP(BC19,Liste_Noire!$B$15:$G$1208,1)","v":{"$error":"#N/A"}},{"$f":"VLOOKUP(BC19,Liste_Noire!$B$15:$G$1208,5)","v":{"$error":"#N/A"}},{"$error":"#N/A"},null,0,0,0,0,0,0,0]
[null,""," ","","","","",null,null,null,null,null,null,null,null,null,null,null,null," ",null,"",0,0,0,0,0,0,0,0,0,0,null,0,null,{"$f":"IF(AK20=\"\",\"\",IF(BR20=1,\"[b][color=red]\"&Datas!$D$32&\"[/color][/b]\"&AK20&\"[b][color=red]\"&Datas!$D$33&\"{\"&BQ20&\"}[/color][/b]\",AK20))","v":""},""," ",{"$f":"IF(ISBLANK(Datas!$C$41),\"\",\" - \"&AT20)","v":" - [color=red][b]Tréguier[/b][/color]"},{"$f":"IF(ISBLANK(Datas!$C$42),\"\",\" - \"&AU20)","v":""},{"$f":"IF(ISBLANK(Datas!$C$43),\"\",\" - \"&AV20)","v":" - PR:"},{"$f":"IF(ISBLANK(Datas!$C$44),\"\",\" - \"&AW20)","v":" - Ecus: "},{"$f":"IF(ISBLANK(Datas!$C$45),\"\",\" - \"&AX20)","v":" - Niv: "}," ","[b][color=blue]0[/color][/b]","[color=red][b]Tréguier[/b][/color]","Comté du Languedoc","PR:","Ecus: ","Niv: ",null,null,null,null,0,{"$f":"VLOOKUP(BC20,LstVillage!$B$8:$C$283,1)","v":{"$error":"#N/A"}},{"$f":"1","v":1},"blue","Tréguier",{"$f":"VLOOKUP(BG20,Datas!$G$6:$G$17,1)","v":"Nîmes"},0,"red",null,"Comté du Languedoc",0,0,null,{"$f":"VLOOKUP(BC20,Liste_Noire!$B$15:$G$1208,1)","v":{"$error":"#N/A"}},{"$f":"VLOOKUP(BC20,Liste_Noire!$B$15:$G$1208,5)","v":{"$error":"#N/A"}},{"$error":"#N/A"},null,0,0,0,0,0,0,0]
[null,""," ","","","","",null,null,null,null,null,null,null,null,null,null,null,null," ",null,"",0,0,0,0,0,0,0,0,0,0,null,0,null,{"$f":"IF(AK21=\"\",\"\",IF(BR21=1,\"[b][color=red]\"&Datas!$D$32&\"[/color][/b]\"&AK21&\"[b][color=red]\"&Datas!$D$33&\"{\"&BQ21&\"}[/color][/b]\",AK21))","v":""},""," ",{"$f":"IF(ISBLANK(Datas!$C$41),\"\",\" - \"&AT21)","v":" - [color=red][b]Tréguier[/b][/color]"},{"$f":"IF(ISBLANK(Datas!$C$42),\"\",\" - \"&AU21)","v":""},{"$f":"IF(ISBLANK(Datas!$C$43),\"\",\" - \"&AV21)","v":" - PR:"},{"$f":"IF(ISBLANK(Datas!$C$44),\"\",\" - \"&AW21)","v":" - Ecus: "},{"$f":"IF(ISBLANK(Datas!$C$45),\"\",\" - \"&AX21)","v":" - Niv: "}," ","[b][color=blue]0[/color][/b]","[color=red][b]Tréguier[/b][/color]","Comté du Languedoc","PR:","Ecus: ","Niv: ",null,null,null,null,0,{"$f":"VLOOKUP(BC21,LstVillage!$B$8:$C$283,1)","v":{"$error":"#N/A"}},{"$f":"1","v":1},"blue","Tréguier",{"$f":"VLOOKUP(BG21,Datas!$G$6:$G$17,1)","v":"Nîmes"},0,"red",null,"Comté du Languedoc",0,0,null,{"$f":"VLOOKUP(BC21,Liste_Noire!$B$15:$G$1208,1)","v":{"$error":"#N/A"}},{"$f":"VLOOKUP(BC21,Liste_Noire!$B$15:$G$1208,5)","v":{"$error":"#N/A"}},{"$error":"#N/A"},null,0,0,0,0,0,0,0]
[null,""," ","","","","",null,null,null,null,null,null,null,null,null,null,null,null," ",null,"",0,0,0,0,0,0,0,0,0,0,null,0,null,{"$f":"IF(AK22=\"\",\"\",IF(BR22=1,\"[b][color=red]\"&Datas!$D$32&\"[/color][/b]\"&AK22&\"[b][color=red]\"&Datas!$D$33&\"{\"&BQ22&\"}[/color][/b]\",AK22))","v":""},""," ",{"$f":"IF(ISBLANK(Datas!$C$41),\"\",\" - \"&AT22)","v":" - [color=red][b]Tréguier[/b][/color]"},{"$f":"IF(ISBLANK(Datas!$C$42),\"\",\" - \"&AU22)","v":""},{"$f":"IF(ISBLANK(Datas!$C$43),\"\",\" - \"&AV22)","v":" - PR:"},{"$f":"IF(ISBLANK(Datas!$C$44),\"\",\" - \"&AW22)","v":" - Ecus: "},{"$f":"IF(ISBLANK(Datas!$C$45),\"\",\" - \"&AX22)","v":" - Niv: "}," ","[b][color=blue]0[/color][/b]","[color=red][b]Tréguier[/b][/color]","Comté du Languedoc","PR:","Ecus: ","Niv: ",null,null,null,null,0,{"$f":"VLOOKUP(BC22,LstVillage!$B$8:$C$283,1)","v":{"$error":"#N/A"}},{"$f":"1","v":1},"blue","Tréguier",{"$f":"VLOOKUP(BG22,Datas!$G$6:$G$17,1)","v":"Nîmes"},0,"red",null,"Comté du Languedoc",0,0,null,{"$f":"VLOOKUP(BC22,Liste_Noire!$B$15:$G$1208,1)","v":{"$error":"#N/A"}},{"$f":"VLOOKUP(BC22,Liste_Noire!$B$15:$G$1208,5)","v":{"$error":"#N/A"}},{"$error":"#N/A"},null,0,0,0,0,0,0,0]
[null,""," ","","","","",null,null,null,null,null,null,null,null,null,null,null,null," ",null,"",0,0,0,0,0,0,0,0,0,0,null,0,null,{"$f":"IF(AK23=\"\",\"\",IF(BR23=1,\"[b][color=red]\"&Datas!$D$32&\"[/color][/b]\"&AK23&\"[b][color=red]\"&Datas!$D$33&\"{\"&BQ23&\"}[/color][/b]\",AK23))","v":""},""," ",{"$f":"IF(ISBLANK(Datas!$C$41),\"\",\" - \"&AT23)","v":" - [color=red][b]Tréguier[/b][/color]"},{"$f":"IF(ISBLANK(Datas!$C$42),\"\",\" - \"&AU23)","v":""},{"$f":"IF(ISBLANK(Datas!$C$43),\"\",\" - \"&AV23)","v":" - PR:"},{"$f":"IF(ISBLANK(Datas!$C$44),\"\",\" - \"&AW23)","v":" - Ecus: "},{"$f":"IF(ISBLANK(Datas!$C$45),\"\",\" - \"&AX23)","v":" - Niv: "}," ","[b][color=blue]0[/color][/b]","[color=red][b]Tréguier[/b][/color]","Comté du Languedoc","PR:","Ecus: ","Niv: ",null,null,null,null,0,{"$f":"VLOOKUP(BC23,LstVillage!$B$8:$C$283,1)","v":{"$error":"#N/A"}},{"$f":"1","v":1},"blue","Tréguier",{"$f":"VLOOKUP(BG23,Datas!$G$6:$G$17,1)","v":"Nîmes"},0,"red",null,"Comté du Languedoc",0,0,null,{"$f":"VLOOKUP(BC23,Liste_Noire!$B$15:$G$1208,1)","v":{"$error":"#N/A"}},{"$f":"VLOOKUP(BC23,Liste_Noire!$B$15:$G$1208,5)","v":{"$error":"#N/A"}},{"$error":"#N/A"},null,0,0,0,0,0,0,0]
[null,""," ","","","","",null,null,null,null,null,null,null,null,null,null,null,null," ",null,"",0,0,0,0,0,0,0,0,0,0,null,0,null,{"$f":"IF(AK24=\"\",\"\",IF(BR24=1,\"[b][color=red]\"&Datas!$D$32&\"[/color][/b]\"&AK24&\"[b][color=red]\"&Datas!$D$33&\"{\"&BQ24&\"}[/color][/b]\",AK24))","v":""},""," ",{"$f":"IF(ISBLANK(Datas!$C$41),\"\",\" - \"&AT24)","v":" - [color=red][b]Tréguier[/b][/color]"},{"$f":"IF(ISBLANK(Datas!$C$42),\"\",\" - \"&AU24)","v":""},{"$f":"IF(ISBLANK(Datas!$C$43),\"\",\" - \"&AV24)","v":" - PR:"},{"$f":"IF(ISBLANK(Datas!$C$44),\"\",\" - \"&AW24)","v":" - Ecus: "},{"$f":"IF(ISBLANK(Datas!$C$45),\"\",\" - \"&AX24)","v":" - Niv: "}," ","[b][color=blue]0[/color][/b]","[color=red][b]Tréguier[/b][/color]","Comté du Languedoc","PR:","Ecus: ","Niv: ",null,null,null,null,0,{"$f":"VLOOKUP(BC24,LstVillage!$B$8:$C$283,1)","v":{"$error":"#N/A"}},{"$f":"1","v":1},"blue","Tréguier",{"$f":"VLOOKUP(BG24,Datas!$G$6:$G$17,1)","v":"Nîmes"},0,"red",null,"Comté du Languedoc",0,0,null,{"$f":"VLOOKUP(BC24,Liste_Noire!$B$15:$G$1208,1)","v":{"$error":"#N/A"}},{"$f":"VLOOKUP(BC24,Liste_Noire!$B$15:$G$1208,5)","v":{"$error":"#N/A"}},{"$error":"#N/A"},null,0,0,0,0,0,0,0]
[null,""," ","","","","",null,null,null,null,null,null,null,null,null,null,null,null," ",null,"",0,0,0,0,0,0,0,0,0,0,null,0,null,{"$f":"IF(AK25=\"\",\"\",IF(BR25=1,\"[b][color=red]\"&Datas!$D$32&\"[/color][/b]\"&AK25&\"[b][color=red]\"&Datas!$D$33&\"{\"&BQ25&\"}[/color][/b]\",AK25))","v":""},""," ",{"$f":"IF(ISBLANK(Datas!$C$41),\"\",\" - \"&AT25)","v":" - [color=red][b]Tréguier[/b][/color]"},{"$f":"IF(ISBLANK(Datas!$C$42),\"\",\" - \"&AU25)","v":""},{"$f":"IF(ISBLANK(Datas!$C$43),\"\",\" - \"&AV25)","v":" - PR:"},{"$f":"IF(ISBLANK(Datas!$C$44),\"\",\" - \"&AW25)","v":" - Ecus: "},{"$f":"IF(ISBLANK(Datas!$C$45),\"\",\" - \"&AX25)","v":" - Niv: "}," ","[b][color=blue]0[/color][/b]","[color=red][b]Tréguier[/b][/color]","Comté du Languedoc","PR:","Ecus: ","Niv: ",null,null,null,null,0,{"$f":"VLOOKUP(BC25,LstVillage!$B$8:$C$283,1)","v":{"$error":"#N/A"}},{"$f":"1","v":1},"blue","Tréguier",{"$f":"VLOOKUP(BG25,Datas!$G$6:$G$17,1)","v":"Nîmes"},0,"red",null,"Comté du Languedoc",0,0,null,{"$f":"VLOOKUP(BC25,Liste_Noire!$B$15:$G$1208,1)","v":{"$error":"#N/A"}},{"$f":"VLOOKUP(BC25,Liste_Noire!$B$15:$G$1208,5)","v":{"$error":"#N/A"}},{"$error":"#N/A"},null,0,0,0,0,0,0,0]
[null,""," ","","","","",null,null,null,null,null,null,null,null,null,null,null,null," ",null,"",0,0,0,0,0,0,0,0,0,0,null,0,null,{"$f":"IF(AK26=\"\",\"\",IF(BR26=1,\"[b][color=red]\"&Datas!$D$32&\"[/color][/b]\"&AK26&\"[b][color=red]\"&Datas!$D$33&\"{\"&BQ26&\"}[/color][/b]\",AK26))","v":""},""," ",{"$f":"IF(ISBLANK(Datas!$C$41),\"\",\" - \"&AT26)","v":" - [color=red][b]Tréguier[/b][/color]"},{"$f":"IF(ISBLANK(Datas!$C$42),\"\",\" - \"&AU26)","v":""},{"$f":"IF(ISBLANK(Datas!$C$43),\"\",\" - \"&AV26)","v":" - PR:"},{"$f":"IF(ISBLANK(Datas!$C$44),\"\",\" - \"&AW26)","v":" - Ecus: "},{"$f":"IF(ISBLANK(Datas!$C$45),\"\",\" - \"&AX26)","v":" - Niv: "}," ","[b][color=blue]0[/color][/b]","[color=red][b]Tréguier[/b][/color]","Comté du Languedoc","PR:","Ecus: ","Niv: ",null,null,null,null,0,{"$f":"VLOOKUP(BC26,LstVillage!$B$8:$C$283,1)","v":{"$error":"#N/A"}},{"$f":"1","v":1},"blue","Tréguier",{"$f":"VLOOKUP(BG26,Datas!$G$6:$G$17,1)","v":"Nîmes"},0,"red",null,"Comté du Languedoc",0,0,null,{"$f":"VLOOKUP(BC26,Liste_Noire!$B$15:$G$1208,1)","v":{"$error":"#N/A"}},{"$f":"VLOOKUP(BC26,Liste_Noire!$B$15:$G$1208,5)","v":{"$error":"#N/A"}},{"$error":"#N/A"},null,0,0,0,0,0,0,0]
[null,""," ","","","","",null,null,null,null,null,null,null,null,null,null,null,null," ",null,"",0,0,0,0,0,0,0,0,0,0,null,0,null,{"$f":"IF(AK27=\"\",\"\",IF(BR27=1,\"[b][color=red]\"&Datas!$D$32&\"[/color][/b]\"&AK27&\"[b][color=red]\"&Datas!$D$33&\"{\"&BQ27&\"}[/color][/b]\",AK27))","v":""},""," ",{"$f":"IF(ISBLANK(Datas!$C$41),\"\",\" - \"&AT27)","v":" - [color=red][b]Tréguier[/b][/color]"},{"$f":"IF(ISBLANK(Datas!$C$42),\"\",\" - \"&AU27)","v":""},{"$f":"IF(ISBLANK(Datas!$C$43),\"\",\" - \"&AV27)","v":" - PR:"},{"$f":"IF(ISBLANK(Datas!$C$44),\"\",\" - \"&AW27)","v":" - Ecus: "},{"$f":"IF(ISBLANK(Datas!$C$45),\"\",\" - \"&AX27)","v":" - Niv: "}," ","[b][color=blue]0[/color][/b]","[color=red][b]Tréguier[/b][/color]","Comté du Languedoc","PR:","Ecus: ","Niv: ",null,null,null,null,0,{"$f":"VLOOKUP(BC27,LstVillage!$B$8:$C$283,1)","v":{"$error":"#N/A"}},{"$f":"1","v":1},"blue","Tréguier",{"$f":"VLOOKUP(BG27,Datas!$G$6:$G$17,1)","v":"Nîmes"},0,"red",null,"Comté du Languedoc",0,0,null,{"$f":"VLOOKUP(BC27,Liste_Noire!$B$15:$G$1208,1)","v":{"$error":"#N/A"}},{"$f":"VLOOKUP(BC27,Liste_Noire!$B$15:$G$1208,5)","v":{"$error":"#N/A"}},{"$error":"#N/A"},null,0,0,0,0,0,0,0]
[null,""," ","","","","",null,null,null,null,null,null,null,null,null,null,null,null," ",null,"",0,0,0,0,0,0,0,0,0,0,null,0,null,{"$f":"IF(AK28=\"\",\"\",IF(BR28=1,\"[b][color=red]\"&Datas!$D$32&\"[/color][/b]\"&AK28&\"[b][color=red]\"&Datas!$D$33&\"{\"&BQ28&\"}[/color][/b]\",AK28))","v":""},""," ",{"$f":"IF(ISBLANK(Datas!$C$41),\"\",\" - \"&AT28)","v":" - [color=red][b]Tréguier[/b][/color]"},{"$f":"IF(ISBLANK(Datas!$C$42),\"\",\" - \"&AU28)","v":""},{"$f":"IF(ISBLANK(Datas!$C$43),\"\",\" - \"&AV28)","v":" - PR:"},{"$f":"IF(ISBLANK(Datas!$C$44),\"\",\" - \"&AW28)","v":" - Ecus: "},{"$f":"IF(ISBLANK(Datas!$C$45),\"\",\" - \"&AX28)","v":" - Niv: "}," ","[b][color=blue]0[/color][/b]","[color=red][b]Tréguier[/b][/color]","Comté du Languedoc","PR:","Ecus: ","Niv: ",null,null,null,null,0,{"$f":"VLOOKUP(BC28,LstVillage!$B$8:$C$283,1)","v":{"$error":"#N/A"}},{"$f":"1","v":1},"blue","Tréguier",{"$f":"VLOOKUP(BG28,Datas!$G$6:$G$17,1)","v":"Nîmes"},0,"red",null,"Comté du Languedoc",0,0,null,{"$f":"VLOOKUP(BC28,Liste_Noire!$B$15:$G$1208,1)","v":{"$error":"#N/A"}},{"$f":"VLOOKUP(BC28,Liste_Noire!$B$15:$G$1208,5)","v":{"$error":"#N/A"}},{"$error":"#N/A"},null,0,0,0,0,0,0,0]
[null,""," ","","","","",null,null,null,null,null,null,null,null,null,null,null,null," ",null,"",0,0,0,0,0,0,0,0,0,0,null,0,null,{"$f":"IF(AK29=\"\",\"\",IF(BR29=1,\"[b][color=red]\"&Datas!$D$32&\"[/color][/b]\"&AK29&\"[b][color=red]\"&Datas!$D$33&\"{\"&BQ29&\"}[/color][/b]\",AK29))","v":""},""," ",{"$f":"IF(ISBLANK(Datas!$C$41),\"\",\" - \"&AT29)","v":" - [color=red][b]Tréguier[/b][/color]"},{"$f":"IF(ISBLANK(Datas!$C$42),\"\",\" - \"&AU29)","v":""},{"$f":"IF(ISBLANK(Datas!$C$43),\"\",\" - \"&AV29)","v":" - PR:"},{"$f":"IF(ISBLANK(Datas!$C$44),\"\",\" - \"&AW29)","v":" - Ecus: "},{"$f":"IF(ISBLANK(Datas!$C$45),\"\",\" - \"&AX29)","v":" - Niv: "}," ","[b][color=blue]0[/color][/b]","[color=red][b]Tréguier[/b][/color]","Comté du Languedoc","PR:","Ecus: ","Niv: ",null,null,null,null,0,{"$f":"VLOOKUP(BC29,LstVillage!$B$8:$C$283,1)","v":{"$error":"#N/A"}},{"$f":"1","v":1},"blue","Tréguier",{"$f":"VLOOKUP(BG29,Datas!$G$6:$G$17,1)","v":"Nîmes"},0,"red",null,"Comté du Languedoc",0,0,null,{"$f":"VLOOKUP(BC29,Liste_Noire!$B$15:$G$1208,1)","v":{"$error":"#N/A"}},{"$f":"VLOOKUP(BC29,Liste_Noire!$B$15:$G$1208,5)","v":{"$error":"#N/A"}},{"$error":"#N/A"},null,0,0,0,0,0,0,0]
[null,""," ","","","","",null,null,null,null,null,null,null,null,null,null,null,null," ",null,"",0,0,0,0,0,0,0,0,0,0,null,0,null,{"$f":"IF(AK30=\"\",\"\",IF(BR30=1,\"[b][color=red]\"&Datas!$D$32&\"[/color][/b]\"&AK30&\"[b][color=red]\"&Datas!$D$33&\"{\"&BQ30&\"}[/color][/b]\",AK30))","v":""},""," ",{"$f":"IF(ISBLANK(Datas!$C$41),\"\",\" - \"&AT30)","v":" - [color=red][b]Tréguier[/b][/color]"},{"$f":"IF(ISBLANK(Datas!$C$42),\"\",\" - \"&AU30)","v":""},{"$f":"IF(ISBLANK(Datas!$C$43),\"\",\" - \"&AV30)","v":" - PR:"},{"$f":"IF(ISBLANK(Datas!$C$44),\"\",\" - \"&AW30)","v":" - Ecus: "},{"$f":"IF(ISBLANK(Datas!$C$45),\"\",\" - \"&AX30)","v":" - Niv: "}," ","[b][color=blue]0[/color][/b]","[color=red][b]Tréguier[/b][/color]","Comté du Languedoc","PR:","Ecus: ","Niv: ",null,null,null,null,0,{"$f":"VLOOKUP(BC30,LstVillage!$B$8:$C$283,1)","v":{"$error":"#N/A"}},{"$f":"1","v":1},"blue","Tréguier",{"$f":"VLOOKUP(BG30,Datas!$G$6:$G$17,1)","v":"Nîmes"},0,"red",null,"Comté du Languedoc",0,0,null,{"$f":"VLOOKUP(BC30,Liste_Noire!$B$15:$G$1208,1)","v":{"$error":"#N/A"}},{"$f":"VLOOKUP(BC30,Liste_Noire!$B$15:$G$1208,5)","v":{"$error":"#N/A"}},{"$error":"#N/A"},null,0,0,0,0,0,0,0]
[null,""," ","","","","",null,null,null,null,null,null,null,null,null,null,null,null," ",null,"",0,0,0,0,0,0,0,0,0,0,null,0,null,{"$f":"IF(AK31=\"\",\"\",IF(BR31=1,\"[b][color=red]\"&Datas!$D$32&\"[/color][/b]\"&AK31&\"[b][color=red]\"&Datas!$D$33&\"{\"&BQ31&\"}[/color][/b]\",AK31))","v":""},""," ",{"$f":"IF(ISBLANK(Datas!$C$41),\"\",\" - \"&AT31)","v":" - [color=red][b]Tréguier[/b][/color]"},{"$f":"IF(ISBLANK(Datas!$C$42),\"\",\" - \"&AU31)","v":""},{"$f":"IF(ISBLANK(Datas!$C$43),\"\",\" - \"&AV31)","v":" - PR:"},{"$f":"IF(ISBLANK(Datas!$C$44),\"\",\" - \"&AW31)","v":" - Ecus: "},{"$f":"IF(ISBLANK(Datas!$C$45),\"\",\" - \"&AX31)","v":" - Niv: "}," ","[b][color=blue]0[/color][/b]","[color=red][b]Tréguier[/b][/color]","Comté du Languedoc","PR:","Ecus: ","Niv: ",null,null,null,null,0,{"$f":"VLOOKUP(BC31,LstVillage!$B$8:$C$283,1)","v":{"$error":"#N/A"}},{"$f":"1","v":1},"blue","Tréguier",{"$f":"VLOOKUP(BG31,Datas!$G$6:$G$17,1)","v":"Nîmes"},0,"red",null,"Comté du Languedoc",0,0,null,{"$f":"VLOOKUP(BC31,Liste_Noire!$B$15:$G$1208,1)","v":{"$error":"#N/A"}},{"$f":"VLOOKUP(BC31,Liste_Noire!$B$15:$G$1208,5)","v":{"$error":"#N/A"}},{"$error":"#N/A"},null,0,0,0,0,0,0,0]
[null,""," ","","","","",null,null,null,null,null,null,null,null,null,null,null,null," ",null,"",0,0,0,0,0,0,0,0,0,0,null,0,null,{"$f":"IF(AK32=\"\",\"\",IF(BR32=1,\"[b][color=red]\"&Datas!$D$32&\"[/color][/b]\"&AK32&\"[b][color=red]\"&Datas!$D$33&\"{\"&BQ32&\"}[/color][/b]\",AK32))","v":""},""," ",{"$f":"IF(ISBLANK(Datas!$C$41),\"\",\" - \"&AT32)","v":" - [color=red][b]Tréguier[/b][/color]"},{"$f":"IF(ISBLANK(Datas!$C$42),\"\",\" - \"&AU32)","v":""},{"$f":"IF(ISBLANK(Datas!$C$43),\"\",\" - \"&AV32)","v":" - PR:"},{"$f":"IF(ISBLANK(Datas!$C$44),\"\",\" - \"&AW32)","v":" - Ecus: "},{"$f":"IF(ISBLANK(Datas!$C$45),\"\",\" - \"&AX32)","v":" - Niv: "}," ","[b][color=blue]0[/color][/b]","[color=red][b]Tréguier[/b][/color]","Comté du Languedoc","PR:","Ecus: ","Niv: ",null,null,null,null,0,{"$f":"VLOOKUP(BC32,LstVillage!$B$8:$C$283,1)","v":{"$error":"#N/A"}},{"$f":"1","v":1},"blue","Tréguier",{"$f":"VLOOKUP(BG32,Datas!$G$6:$G$17,1)","v":"Nîmes"},0,"red",null,"Comté du Languedoc",0,0,null,{"$f":"VLOOKUP(BC32,Liste_Noire!$B$15:$G$1208,1)","v":{"$error":"#N/A"}},{"$f":"VLOOKUP(BC32,Liste_Noire!$B$15:$G$1208,5)","v":{"$error":"#N/A"}},{"$error":"#N/A"},null,0,0,0,0,0,0,0]
[null,""," ","","","","",null,null,null,null,null,null,null,null,null,null,null,null," ",null,"",0,0,0,0,0,0,0,0,0,0,null,0,null,{"$f":"IF(AK33=\"\",\"\",IF(BR33=1,\"[b][color=red]\"&Datas!$D$32&\"[/color][/b]\"&AK33&\"[b][color=red]\"&Datas!$D$33&\"{\"&BQ33&\"}[/color][/b]\",AK33))","v":""},""," ",{"$f":"IF(ISBLANK(Datas!$C$41),\"\",\" - \"&AT33)","v":" - [color=red][b]Tréguier[/b][/color]"},{"$f":"IF(ISBLANK(Datas!$C$42),\"\",\" - \"&AU33)","v":""},{"$f":"IF(ISBLANK(Datas!$C$43),\"\",\" - \"&AV33)","v":" - PR:"},{"$f":"IF(ISBLANK(Datas!$C$44),\"\",\" - \"&AW33)","v":" - Ecus: "},{"$f":"IF(ISBLANK(Datas!$C$45),\"\",\" - \"&AX33)","v":" - Niv: "}," ","[b][color=blue]0[/color][/b]","[color=red][b]Tréguier[/b][/color]","Comté du Languedoc","PR:","Ecus: ","Niv: ",null,null,null,null,0,{"$f":"VLOOKUP(BC33,LstVillage!$B$8:$C$283,1)","v":{"$error":"#N/A"}},{"$f":"1","v":1},"blue","Tréguier",{"$f":"VLOOKUP(BG33,Datas!$G$6:$G$17,1)","v":"Nîmes"},0,"red",null,"Comté du Languedoc",0,0,null,{"$f":"VLOOKUP(BC33,Liste_Noire!$B$15:$G$1208,1)","v":{"$error":"#N/A"}},{"$f":"VLOOKUP(BC33,Liste_Noire!$B$15:$G$1208,5)","v":{"$error":"#N/A"}},{"$error":"#N/A"},null,0,0,0,0,0,0,0]
[null,""," ","","","","",null,null,null,null,null,null,null,null,null,null,null,null," ",null,"",0,0,0,0,0,0,0,0,0,0,null,0,null,{"$f":"IF(AK34=\"\",\"\",IF(BR34=1,\"[b][color=red]\"&Datas!$D$32&\"[/color][/b]\"&AK34&\"[b][color=red]\"&Datas!$D$33&\"{\"&BQ34&\"}[/color][/b]\",AK34))","v":""},""," ",{"$f":"IF(ISBLANK(Datas!$C$41),\"\",\" - \"&AT34)","v":" - [color=red][b]Tréguier[/b][/color]"},{"$f":"IF(ISBLANK(Datas!$C$42),\"\",\" - \"&AU34)","v":""},{"$f":"IF(ISBLANK(Datas!$C$43),\"\",\" - \"&AV34)","v":" - PR:"},{"$f":"IF(ISBLANK(Datas!$C$44),\"\",\" - \"&AW34)","v":" - Ecus: "},{"$f":"IF(ISBLANK(Datas!$C$45),\"\",\" - \"&AX34)","v":" - Niv: "}," ","[b][color=blue]0[/color][/b]","[color=red][b]Tréguier[/b][/color]","Comté du Languedoc","PR:","Ecus: ","Niv: ",null,null,null,null,0,{"$f":"VLOOKUP(BC34,LstVillage!$B$8:$C$283,1)","v":{"$error":"#N/A"}},{"$f":"1","v":1},"blue","Tréguier",{"$f":"VLOOKUP(BG34,Datas!$G$6:$G$17,1)","v":"Nîmes"},0,"red",null,"Comté du Languedoc",0,0,null,{"$f":"VLOOKUP(BC34,Liste_Noire!$B$15:$G$1208,1)","v":{"$error":"#N/A"}},{"$f":"VLOOKUP(BC34,Liste_Noire!$B$15:$G$1208,5)","v":{"$error":"#N/A"}},{"$error":"#N/A"},null,0,0,0,0,0,0,0]
[null,""," ","","","","",null,null,null,null,null,null,null,null,null,null,null,null," ",null,"",0,0,0,0,0,0,0,0,0,0,null,0,null,{"$f":"IF(AK35=\"\",\"\",IF(BR35=1,\"[b][color=red]\"&Datas!$D$32&\"[/color][/b]\"&AK35&\"[b][color=red]\"&Datas!$D$33&\"{\"&BQ35&\"}[/color][/b]\",AK35))","v":""},""," ",{"$f":"IF(ISBLANK(Datas!$C$41),\"\",\" - \"&AT35)","v":" - [color=red][b]Tréguier[/b][/color]"},{"$f":"IF(ISBLANK(Datas!$C$42),\"\",\" - \"&AU35)","v":""},{"$f":"IF(ISBLANK(Datas!$C$43),\"\",\" - \"&AV35)","v":" - PR:"},{"$f":"IF(ISBLANK(Datas!$C$44),\"\",\" - \"&AW35)","v":" - Ecus: "},{"$f":"IF(ISBLANK(Datas!$C$45),\"\",\" - \"&AX35)","v":" - Niv: "}," ","[b][color=blue]0[/color][/b]","[color=red][b]Tréguier[/b][/color]","Comté du Languedoc","PR:","Ecus: ","Niv: ",null,null,null,null,0,{"$f":"VLOOKUP(BC35,LstVillage!$B$8:$C$283,1)","v":{"$error":"#N/A"}},{"$f":"1","v":1},"blue","Tréguier",{"$f":"VLOOKUP(BG35,Datas!$G$6:$G$17,1)","v":"Nîmes"},0,"red",null,"Comté du Languedoc",0,0,null,{"$f":"VLOOKUP(BC35,Liste_Noire!$B$15:$G$1208,1)","v":{"$error":"#N/A"}},{"$f":"VLOOKUP(BC35,Liste_Noire!$B$15:$G$1208,5)","v":{"$error":"#N/A"}},{"$error":"#N/A"},null,0,0,0,0,0,0,0]
[null,""," ","","","","",null,null,null,null,null,null,null,null,null,null,null,null," ",null,"",0,0,0,0,0,0,0,0,0,0,null,0,null,{"$f":"IF(AK36=\"\",\"\",IF(BR36=1,\"[b][color=red]\"&Datas!$D$32&\"[/color][/b]\"&AK36&\"[b][color=red]\"&Datas!$D$33&\"{\"&BQ36&\"}[/color][/b]\",AK36))","v":""},""," ",{"$f":"IF(ISBLANK(Datas!$C$41),\"\",\" - \"&AT36)","v":" - [color=red][b]Tréguier[/b][/color]"},{"$f":"IF(ISBLANK(Datas!$C$42),\"\",\" - \"&AU36)","v":""},{"$f":"IF(ISBLANK(Datas!$C$43),\"\",\" - \"&AV36)","v":" - PR:"},{"$f":"IF(ISBLANK(Datas!$C$44),\"\",\" - \"&AW36)","v":" - Ecus: "},{"$f":"IF(ISBLANK(Datas!$C$45),\"\",\" - \"&AX36)","v":" - Niv: "}," ","[b][color=blue]0[/color][/b]","[color=red][b]Tréguier[/b][/color]","Comté du Languedoc","PR:","Ecus: ","Niv: ",null,null,null,null,0,{"$f":"VLOOKUP(BC36,LstVillage!$B$8:$C$283,1)","v":{"$error":"#N/A"}},{"$f":"1","v":1},"blue","Tréguier",{"$f":"VLOOKUP(BG36,Datas!$G$6:$G$17,1)","v":"Nîmes"},0,"red",null,"Comté du Languedoc",0,0,null,{"$f":"VLOOKUP(BC36,Liste_Noire!$B$15:$G$1208,1)","v":{"$error":"#N/A"}},{"$f":"VLOOKUP(BC36,Liste_Noire!$B$15:$G$1208,5)","v":{"$error":"#N/A"}},{"$error":"#N/A"},null,0,0,0,0,0,0,0]
[null,""," ","","","","",null,null,null,null,null,null,null,null,null,null,null,null," ",null,"",0,0,0,0,0,0,0,0,0,0,null,0,null,{"$f":"IF(AK37=\"\",\"\",IF(BR37=1,\"[b][color=red]\"&Datas!$D$32&\"[/color][/b]\"&AK37&\"[b][color=red]\"&Datas!$D$33&\"{\"&BQ37&\"}[/color][/b]\",AK37))","v":""},""," ",{"$f":"IF(ISBLANK(Datas!$C$41),\"\",\" - \"&AT37)","v":" - [color=red][b]Tréguier[/b][/color]"},{"$f":"IF(ISBLANK(Datas!$C$42),\"\",\" - \"&AU37)","v":""},{"$f":"IF(ISBLANK(Datas!$C$43),\"\",\" - \"&AV37)","v":" - PR:"},{"$f":"IF(ISBLANK(Datas!$C$44),\"\",\" - \"&AW37)","v":" - Ecus: "},{"$f":"IF(ISBLANK(Datas!$C$45),\"\",\" - \"&AX37)","v":" - Niv: "}," ","[b][color=blue]0[/color][/b]","[color=red][b]Tréguier[/b][/color]","Comté du Languedoc","PR:","Ecus: ","Niv: ",null,null,null,null,0,{"$f":"VLOOKUP(BC37,LstVillage!$B$8:$C$283,1)","v":{"$error":"#N/A"}},{"$f":"1","v":1},"blue","Tréguier",{"$f":"VLOOKUP(BG37,Datas!$G$6:$G$17,1)","v":"Nîmes"},0,"red",null,"Comté du Languedoc",0,0,null,{"$f":"VLOOKUP(BC37,Liste_Noire!$B$15:$G$1208,1)","v":{"$error":"#N/A"}},{"$f":"VLOOKUP(BC37,Liste_Noire!$B$15:$G$1208,5)","v":{"$error":"#N/A"}},{"$error":"#N/A"},null,0,0,0,0,0,0,0]
[null,""," ","","","","",null,null,null,null,null,null,null,null,null,null,null,null," ",null,"",0,0,0,0,0,0,0,0,0,0,null,0,null,{"$f":"IF(AK38=\"\",\"\",IF(BR38=1,\"[b][color=red]\"&Datas!$D$32&\"[/color][/b]\"&AK38&\"[b][color=red]\"&Datas!$D$33&\"{\"&BQ38&\"}[/color][/b]\",AK38))","v":""},""," ",{"$f":"IF(ISBLANK(Datas!$C$41),\"\",\" - \"&AT38)","v":" - [color=red][b]Tréguier[/b][/color]"},{"$f":"IF(ISBLANK(Datas!$C$42),\"\",\" - \"&AU38)","v":""},{"$f":"IF(ISBLANK(Datas!$C$43),\"\",\" - \"&AV38)","v":" - PR:"},{"$f":"IF(ISBLANK(Datas!$C$44),\"\",\" - \"&AW38)","v":" - Ecus: "},{"$f":"IF(ISBLANK(Datas!$C$45),\"\",\" - \"&AX38)","v":" - Niv: "}," ","[b][color=blue]0[/color][/b]","[color=red][b]Tréguier[/b][/color]","Comté du Languedoc","PR:","Ecus: ","Niv: ",null,null,null,null,0,{"$f":"VLOOKUP(BC38,LstVillage!$B$8:$C$283,1)","v":{"$error":"#N/A"}},{"$f":"1","v":1},"blue","Tréguier",{"$f":"VLOOKUP(BG38,Datas!$G$6:$G$17,1)","v":"Nîmes"},0,"red",null,"Comté du Languedoc",0,0,null,{"$f":"VLOOKUP(BC38,Liste_Noire!$B$15:$G$1208,1)","v":{"$error":"#N/A"}},{"$f":"VLOOKUP(BC38,Liste_Noire!$B$15:$G$1208,5)","v":{"$error":"#N/A"}},{"$error":"#N/A"},null,0,0,0,0,0,0,0]
[null,""," ","","","","",null,null,null,null,null,null,null,null,null,null,null,null," ",null,"",0,0,0,0,0,0,0,0,0,0,null,0,null,{"$f":"IF(AK39=\"\",\"\",IF(BR39=1,\"[b][color=red]\"&Datas!$D$32&\"[/color][/b]\"&AK39&\"[b][color=red]\"&Datas!$D$33&\"{\"&BQ39&\"}[/color][/b]\",AK39))","v":""},""," ",{"$f":"IF(ISBLANK(Datas!$C$41),\"\",\" - \"&AT39)","v":" - [color=red][b]Tréguier[/b][/color]"},{"$f":"IF(ISBLANK(Datas!$C$42),\"\",\" - \"&AU39)","v":""},{"$f":"IF(ISBLANK(Datas!$C$43),\"\",\" - \"&AV39)","v":" - PR:"},{"$f":"IF(ISBLANK(Datas!$C$44),\"\",\" - \"&AW39)","v":" - Ecus: "},{"$f":"IF(ISBLANK(Datas!$C$45),\"\",\" - \"&AX39)","v":" - Niv: "}," ","[b][color=blue]0[/color][/b]","[color=red][b]Tréguier[/b][/color]","Comté du Languedoc","PR:","Ecus: ","Niv: ",null,null,null,null,0,{"$f":"VLOOKUP(BC39,LstVillage!$B$8:$C$283,1)","v":{"$error":"#N/A"}},{"$f":"1","v":1},"blue","Tréguier",{"$f":"VLOOKUP(BG39,Datas!$G$6:$G$17,1)","v":"Nîmes"},0,"red",null,"Comté du Languedoc",0,0,null,{"$f":"VLOOKUP(BC39,Liste_Noire!$B$15:$G$1208,1)","v":{"$error":"#N/A"}},{"$f":"VLOOKUP(BC39,Liste_Noire!$B$15:$G$1208,5)","v":{"$error":"#N/A"}},{"$error":"#N/A"},null,0,0,0,0,0,0,0]
[null,""," ","","","","",null,null,null,null,null,null,null,null,null,null,null,null," ",null,"",0,0,0,0,0,0,0,0,0,0,null,0,null,{"$f":"IF(AK40=\"\",\"\",IF(BR40=1,\"[b][color=red]\"&Datas!$D$32&\"[/color][/b]\"&AK40&\"[b][color=red]\"&Datas!$D$33&\"{\"&BQ40&\"}[/color][/b]\",AK40))","v":""},""," ",{"$f":"IF(ISBLANK(Datas!$C$41),\"\",\" - \"&AT40)","v":" - [color=red][b]Tréguier[/b][/color]"},{"$f":"IF(ISBLANK(Datas!$C$42),\"\",\" - \"&AU40)","v":""},{"$f":"IF(ISBLANK(Datas!$C$43),\"\",\" - \"&AV40)","v":" - PR:"},{"$f":"IF(ISBLANK(Datas!$C$44),\"\",\" - \"&AW40)","v":" - Ecus: "},{"$f":"IF(ISBLANK(Datas!$C$45),\"\",\" - \"&AX40)","v":" - Niv: "}," ","[b][color=blue]0[/color][/b]","[color=red][b]Tréguier[/b][/color]","Comté du Languedoc","PR:","Ecus: ","Niv: ",null,null,null,null,0,{"$f":"VLOOKUP(BC40,LstVillage!$B$8:$C$283,1)","v":{"$error":"#N/A"}},{"$f":"1","v":1},"blue","Tréguier",{"$f":"VLOOKUP(BG40,Datas!$G$6:$G$17,1)","v":"Nîmes"},0,"red",null,"Comté du Languedoc",0,0,null,{"$f":"VLOOKUP(BC40,Liste_Noire!$B$15:$G$1208,1)","v":{"$error":"#N/A"}},{"$f":"VLOOKUP(BC40,Liste_Noire!$B$15:$G$1208,5)","v":{"$error":"#N/A"}},{"$error":"#N/A"},null,0,0,0,0,0,0,0]
[null,""," ","","","","",null,null,null,null,null,null,null,null,null,null,null,null," ",null,"",0,0,0,0,0,0,0,0,0,0,null,0,null,{"$f":"IF(AK41=\"\",\"\",IF(BR41=1,\"[b][color=red]\"&Datas!$D$32&\"[/color][/b]\"&AK41&\"[b][color=red]\"&Datas!$D$33&\"{\"&BQ41&\"}[/color][/b]\",AK41))","v":""},""," ",{"$f":"IF(ISBLANK(Datas!$C$41),\"\",\" - \"&AT41)","v":" - [color=red][b]Tréguier[/b][/color]"},{"$f":"IF(ISBLANK(Datas!$C$42),\"\",\" - \"&AU41)","v":""},{"$f":"IF(ISBLANK(Datas!$C$43),\"\",\" - \"&AV41)","v":" - PR:"},{"$f":"IF(ISBLANK(Datas!$C$44),\"\",\" - \"&AW41)","v":" - Ecus: "},{"$f":"IF(ISBLANK(Datas!$C$45),\"\",\" - \"&AX41)","v":" - Niv: "}," ","[b][color=blue]0[/color][/b]","[color=red][b]Tréguier[/b][/color]","Comté du Languedoc","PR:","Ecus: ","Niv: ",null,null,null,null,0,{"$f":"VLOOKUP(BC41,LstVillage!$B$8:$C$283,1)","v":{"$error":"#N/A"}},{"$f":"1","v":1},"blue","Tréguier",{"$f":"VLOOKUP(BG41,Datas!$G$6:$G$17,1)","v":"Nîmes"},0,"red",null,"Comté du Languedoc",0,0,null,{"$f":"VLOOKUP(BC41,Liste_Noire!$B$15:$G$1208,1)","v":{"$error":"#N/A"}},{"$f":"VLOOKUP(BC41,Liste_Noire!$B$15:$G$1208,5)","v":{"$error":"#N/A"}},{"$error":"#N/A"},null,0,0,0,0,0,0,0]
[null,""," ","","","","",null,null,null,null,null,null,null,null,null,null,null,null," ",null,"",0,0,0,0,0,0,0,0,0,0,null,0,null,{"$f":"IF(AK42=\"\",\"\",IF(BR42=1,\"[b][color=red]\"&Datas!$D$32&\"[/color][/b]\"&AK42&\"[b][color=red]\"&Datas!$D$33&\"{\"&BQ42&\"}[/color][/b]\",AK42))","v":""},""," ",{"$f":"IF(ISBLANK(Datas!$C$41),\"\",\" - \"&AT42)","v":" - [color=red][b]Tréguier[/b][/color]"},{"$f":"IF(ISBLANK(Datas!$C$42),\"\",\" - \"&AU42)","v":""},{"$f":"IF(ISBLANK(Datas!$C$43),\"\",\" - \"&AV42)","v":" - PR:"},{"$f":"IF(ISBLANK(Datas!$C$44),\"\",\" - \"&AW42)","v":" - Ecus: "},{"$f":"IF(ISBLANK(Datas!$C$45),\"\",\" - \"&AX42)","v":" - Niv: "}," ","[b][color=blue]0[/color][/b]","[color=red][b]Tréguier[/b][/color]","Comté du Languedoc","PR:","Ecus: ","Niv: ",null,null,null,null,0,{"$f":"VLOOKUP(BC42,LstVillage!$B$8:$C$283,1)","v":{"$error":"#N/A"}},{"$f":"1","v":1},"blue","Tréguier",{"$f":"VLOOKUP(BG42,Datas!$G$6:$G$17,1)","v":"Nîmes"},0,"red",null,"Comté du Languedoc",0,0,null,{"$f":"VLOOKUP(BC42,Liste_Noire!$B$15:$G$1208,1)","v":{"$error":"#N/A"}},{"$f":"VLOOKUP(BC42,Liste_Noire!$B$15:$G$1208,5)","v":{"$error":"#N/A"}},{"$error":"#N/A"},null,0,0,0,0,0,0,0]
[null,""," ","","","","",null,null,null,null,null,null,null,null,null,null,null,null," ",null,"",0,0,0,0,0,0,0,0,0,0,null,0,null,{"$f":"IF(AK43=\"\",\"\",IF(BR43=1,\"[b][color=red]\"&Datas!$D$32&\"[/color][/b]\"&AK43&\"[b][color=red]\"&Datas!$D$33&\"{\"&BQ43&\"}[/color][/b]\",AK43))","v":""},""," ",{"$f":"IF(ISBLANK(Datas!$C$41),\"\",\" - \"&AT43)","v":" - [color=red][b]Tréguier[/b][/color]"},{"$f":"IF(ISBLANK(Datas!$C$42),\"\",\" - \"&AU43)","v":""},{"$f":"IF(ISBLANK(Datas!$C$43),\"\",\" - \"&AV43)","v":" - PR:"},{"$f":"IF(ISBLANK(Datas!$C$44),\"\",\" - \"&AW43)","v":" - Ecus: "},{"$f":"IF(ISBLANK(Datas!$C$45),\"\",\" - \"&AX43)","v":" - Niv: "}," ","[b][color=blue]0[/color][/b]","[color=red][b]Tréguier[/b][/color]","Comté du Languedoc","PR:","Ecus: ","Niv: ",null,null,null,null,0,{"$f":"VLOOKUP(BC43,LstVillage!$B$8:$C$283,1)","v":{"$error":"#N/A"}},{"$f":"1","v":1},"blue","Tréguier",{"$f":"VLOOKUP(BG43,Datas!$G$6:$G$17,1)","v":"Nîmes"},0,"red",null,"Comté du Languedoc",0,0,null,{"$f":"VLOOKUP(BC43,Liste_Noire!$B$15:$G$1208,1)","v":{"$error":"#N/A"}},{"$f":"VLOOKUP(BC43,Liste_Noire!$B$15:$G$1208,5)","v":{"$error":"#N/A"}},{"$error":"#N/A"},null,0,0,0,0,0,0,0]
[null,""," ","","","","",null,null,null,null,null,null,null,null,null,null,null,null," ",null,"",0,0,0,0,0,0,0,0,0,0,null,0,null,{"$f":"IF(AK44=\"\",\"\",IF(BR44=1,\"[b][color=red]\"&Datas!$D$32&\"[/color][/b]\"&AK44&\"[b][color=red]\"&Datas!$D$33&\"{\"&BQ44&\"}[/color][/b]\",AK44))","v":""},""," ",{"$f":"IF(ISBLANK(Datas!$C$41),\"\",\" - \"&AT44)","v":" - [color=red][b]Tréguier[/b][/color]"},{"$f":"IF(ISBLANK(Datas!$C$42),\"\",\" - \"&AU44)","v":""},{"$f":"IF(ISBLANK(Datas!$C$43),\"\",\" - \"&AV44)","v":" - PR:"},{"$f":"IF(ISBLANK(Datas!$C$44),\"\",\" - \"&AW44)","v":" - Ecus: "},{"$f":"IF(ISBLANK(Datas!$C$45),\"\",\" - \"&AX44)","v":" - Niv: "}," ","[b][color=blue]0[/color][/b]","[color=red][b]Tréguier[/b][/color]","Comté du Languedoc","PR:","Ecus: ","Niv: ",null,null,null,null,0,{"$f":"VLOOKUP(BC44,LstVillage!$B$8:$C$283,1)","v":{"$error":"#N/A"}},{"$f":"1","v":1},"blue","Tréguier",{"$f":"VLOOKUP(BG44,Datas!$G$6:$G$17,1)","v":"Nîmes"},0,"red",null,"Comté du Languedoc",0,0,null,{"$f":"VLOOKUP(BC44,Liste_Noire!$B$15:$G$1208,1)","v":{"$error":"#N/A"}},{"$f":"VLOOKUP(BC44,Liste_Noire!$B$15:$G$1208,5)","v":{"$error":"#N/A"}},{"$error":"#N/A"},null,0,0,0,0,0,0,0]
[null,{"$f":"IF(BM45,\"[strike]\"&AJ45&\"[/strike]\",IF(BN45,\"[i]\"&AJ45&\"[/i]\",AJ45))","v":""}," ",{"$f":"IF(J45=\"mort\",\"M\",\"\")","v":""},{"$f":"IF(ISERROR(BR45),\"\",IF(BR45=1,\"LN\",\"\"))","v":""},{"$f":"IF(J45=\"retraite\",\"R\",\"\")","v":""},{"$f":"IF(ISBLANK(V45),\"\",V45)","v":""},null,null,null,null,null,null,null,null,null,null,null,null," ",null,{"$f":"IF(OR(ISBLANK(R45),TRIM(R45)=\"\"),IF(ISBLANK($I45),\"\",$V$11),IF(OR($F45=$AA$11,$D45=$AC$11),$V$11,IF(R45=\"a/d\",\"\",R45)))","v":""},{"$f":"IF($V45=W$11,1,0)","v":0},{"$f":"IF(AND(W45=1,$E45=X$11),1,0)","v":0},{"$f":"IF($V45=Y$11,1,0)","v":0},{"$f":"IF(AND(Y45=1,$E45=Z$11),1,0)","v":0},{"$f":"IF($F45=AA$11,1,0)","v":0},{"$f":"IF(AND(AA45=1,$E45=AB$11),1,0)","v":0},{"$f":"IF($D45=AC$11,1,0)","v":0},{"$f":"IF(AND(AC45=1,$E45=AD$11),1,0)","v":0},{"$f":"IF(AND($V45=AE$11,(AA45+AC45)=0),1,0)","v":0},{"$f":"IF(AND(AE45=1,$E45=AF$11),1,0)","v":0},null,{"$f":"IF(AND(ISBLANK(I45),ISBLANK(J45),ISBLANK(L45),ISBLANK(M45)),0,1)","v":0},null,{"$f":"IF(AK45=\"\",\"\",IF(BR45=1,\"[b][color=red]\"&Datas!$D$32&\"[/color][/b]\"&AK45&\"[b][color=red]\"&Datas!$D$33&\"{\"&BQ45&\"}[/color][/b]\",AK45))","v":""},{"$f":"IF(ISBLANK(I45),\"\",AS45&AM45&AN45&AO45&AP45&AQ45)","v":""}," ",{"$f":"IF(ISBLANK(Datas!$C$41),\"\",\" - \"&AT45)","v":" - [color=red][b]Tréguier[/b][/color]"},{"$f":"IF(ISBLANK(Datas!$C$42),\"\",\" - \"&AU45)","v":""},{"$f":"IF(ISBLANK(Datas!$C$43),\"\",\" - \"&AV45)","v":" - PR:"},{"$f":"IF(ISBLANK(Datas!$C$44),\"\",\" - \"&AW45)","v":" - Ecus: "},{"$f":"IF(ISBLANK(Datas!$C$45),\"\",\" - \"&AX45)","v":" - Niv: "}," ",{"$f":"\"[b][color=\"&BF45&\"]\"&BC45&\"[/color][/b]\"","v":"[b][color=blue]0[/color][/b]"},{"$f":"\"[color=\"&BJ45&\"][b]\"&BG45&\"[/b][/color]\"","v":"[color=red][b]Tréguier[/b][/color]"},{"$f":"$H$8","v":"Comté du Languedoc"},{"$f":"\"PR:\"&L45","v":"PR:"},{"$f":"\"Ecus: \"&M45","v":"Ecus: "},{"$f":"\"Niv: \"&K45","v":"Niv: "},null,null,null,null,{"$f":"I45","v":0},{"$f":"VLOOKUP(BC45,LstVillage!$B$8:$C$283,1)","v":{"$error":"#N/A"}},{"$f":"1","v":1},{"$f":"IF(BE45=1,$AT$2,IF(BI45=1,$AT$3,$AT$4))","v":"blue"},{"$f":"$B$8","v":"Tréguier"},{"$f":"VLOOKUP(BG45,Datas!$G$6:$G$17,1)","v":"Nîmes"},{"$f":"IF(BH45<>BG45,0,1)","v":0},{"$f":"IF(BI45=1,$AW$2,$AW$3)","v":"red"},null,{"$f":"$H$8","v":"Comté du Languedoc"},{"$f":"IF(F45=\"M\",1,0)","v":0},{"$f":"IF(F45=\"R\",1,0)","v":0},null,{"$f":"VLOOKUP(BC45,Liste_Noire!$B$15:$G$1208,1)","v":{"$error":"#N/A"}},{"$f":"VLOOKUP(BC45,Liste_Noire!$B$15:$G$1208,5)","v":{"$error":"#N/A"}},{"$f":"IF(ISERR(BP45),0,IF(BP45=BC45,1,0))","v":{"$error":"#N/A"}},null,{"$f":"IF(G45=\"a\",1,0)","v":0},{"$f":"IF(G45=\"d\",1,0)","v":0},{"$f":"IF(F45=\"R\",1,0)","v":0},{"$f":"IF(F45=\"M\",1,0)","v":0},0,0,{"$f":"IF(ISBLANK(I45),0,1)","v":0}]
[null,""," ","","","","",null,null,null,null,null,null,null,null,null,null,null,null," ",null,"",0,0,0,0,0,0,0,0,0,0,null,0,null,{"$f":"IF(AK46=\"\",\"\",IF(BR46=1,\"[b][color=red]\"&Datas!$D$32&\"[/color][/b]\"&AK46&\"[b][color=red]\"&Datas!$D$33&\"{\"&BQ46&\"}[/color][/b]\",AK46))","v":""},""," ",{"$f":"IF(ISBLANK(Datas!$C$41),\"\",\" - \"&AT46)","v":" - [color=red][b]Tréguier[/b][/color]"},{"$f":"IF(ISBLANK(Datas!$C$42),\"\",\" - \"&AU46)","v":""},{"$f":"IF(ISBLANK(Datas!$C$43),\"\",\" - \"&AV46)","v":" - PR:"},{"$f":"IF(ISBLANK(Datas!$C$44),\"\",\" - \"&AW46)","v":" - Ecus: "},{"$f":"IF(ISBLANK(Datas!$C$45),\"\",\" - \"&AX46)","v":" - Niv: "}," ","[b][color=blue]0[/color][/b]","[color=red][b]Tréguier[/b][/color]","Comté du Languedoc","PR:","Ecus: ","Niv: ",null,null,null,null,0,{"$f":"VLOOKUP(BC46,LstVillage!$B$8:$C$283,1)","v":{"$error":"#N/A"}},{"$f":"1","v":1},"blue","Tréguier",{"$f":"VLOOKUP(BG46,Datas!$G$6:$G$17,1)","v":"Nîmes"},0,"red",null,"Comté du Languedoc",0,0,null,{"$f":"VLOOKUP(BC46,Liste_Noire!$B$15:$G$1208,1)","v":{"$error":"#N/A"}},{"$f":"VLOOKUP(BC46,Liste_Noire!$B$15:$G$1208,5)","v":{"$error":"#N/A"}},{"$error":"#N/A"},null,0,0,0,0,0,0,0]
[null,""," ","","","","",null,null,null,null,null,null,null,null,null,null,null,null," ",null,"",0,0,0,0,0,0,0,0,0,0,null,0,null,{"$f":"IF(AK47=\"\",\"\",IF(BR47=1,\"[b][color=red]\"&Datas!$D$32&\"[/color][/b]\"&AK47&\"[b][color=red]\"&Datas!$D$33&\"{\"&BQ47&\"}[/color][/b]\",AK47))","v":""},""," ",{"$f":"IF(ISBLANK(Datas!$C$41),\"\",\" - \"&AT47)","v":" - [color=red][b]Tréguier[/b][/color]"},{"$f":"IF(ISBLANK(Datas!$C$42),\"\",\" - \"&AU47)","v":""},{"$f":"IF(ISBLANK(Datas!$C$43),\"\",\" - \"&AV47)","v":" - PR:"},{"$f":"IF(ISBLANK(Datas!$C$44),\"\",\" - \"&AW47)","v":" - Ecus: "},{"$f":"IF(ISBLANK(Datas!$C$45),\"\",\" - \"&AX47)","v":" - Niv: "}," ","[b][color=blue]0[/color][/b]","[color=red][b]Tréguier[/b][/color]","Comté du Languedoc","PR:","Ecus: ","Niv: ",null,null,null,null,0,{"$f":"VLOOKUP(BC47,LstVillage!$B$8:$C$283,1)","v":{"$error":"#N/A"}},{"$f":"1","v":1},"blue","Tréguier",{"$f":"VLOOKUP(BG47,Datas!$G$6:$G$17,1)","v":"Nîmes"},0,"red",null,"Comté du Languedoc",0,0,null,{"$f":"VLOOKUP(BC47,Liste_Noire!$B$15:$G$1208,1)","v":{"$error":"#N/A"}},{"$f":"VLOOKUP(BC47,Liste_Noire!$B$15:$G$1208,5)","v":{"$error":"#N/A"}},{"$error":"#N/A"},null,0,0,0,0,0,0,0]
[null,""," ","","","","",null,null,null,null,null,null,null,null,null,null,null,null," ",null,"",0,0,0,0,0,0,0,0,0,0,null,0,null,{"$f":"IF(AK48=\"\",\"\",IF(BR48=1,\"[b][color=red]\"&Datas!$D$32&\"[/color][/b]\"&AK48&\"[b][color=red]\"&Datas!$D$33&\"{\"&BQ48&\"}[/color][/b]\",AK48))","v":""},""," ",{"$f":"IF(ISBLANK(Datas!$C$41),\"\",\" - \"&AT48)","v":" - [color=red][b]Tréguier[/b][/color]"},{"$f":"IF(ISBLANK(Datas!$C$42),\"\",\" - \"&AU48)","v":""},{"$f":"IF(ISBLANK(Datas!$C$43),\"\",\" - \"&AV48)","v":" - PR:"},{"$f":"IF(ISBLANK(Datas!$C$44),\"\",\" - \"&AW48)","v":" - Ecus: "},{"$f":"IF(ISBLANK(Datas!$C$45),\"\",\" - \"&AX48)","v":" - Niv: "}," ","[b][color=blue]0[/color][/b]","[color=red][b]Tréguier[/b][/color]","Comté du Languedoc","PR:","Ecus: ","Niv: ",null,null,null,null,0,{"$f":"VLOOKUP(BC48,LstVillage!$B$8:$C$283,1)","v":{"$error":"#N/A"}},{"$f":"1","v":1},"blue","Tréguier",{"$f":"VLOOKUP(BG48,Datas!$G$6:$G$17,1)","v":"Nîmes"},0,"red",null,"Comté du Languedoc",0,0,null,{"$f":"VLOOKUP(BC48,Liste_Noire!$B$15:$G$1208,1)","v":{"$error":"#N/A"}},{"$f":"VLOOKUP(BC48,Liste_Noire!$B$15:$G$1208,5)","v":{"$error":"#N/A"}},{"$error":"#N/A"},null,0,0,0,0,0,0,0]
[null,""," ","","","","",null,null,null,null,null,null,null,null,null,null,null,null," ",null,"",0,0,0,0,0,0,0,0,0,0,null,0,null,{"$f":"IF(AK49=\"\",\"\",IF(BR49=1,\"[b][color=red]\"&Datas!$D$32&\"[/color][/b]\"&AK49&\"[b][color=red]\"&Datas!$D$33&\"{\"&BQ49&\"}[/color][/b]\",AK49))","v":""},""," ",{"$f":"IF(ISBLANK(Datas!$C$41),\"\",\" - \"&AT49)","v":" - [color=red][b]Tréguier[/b][/color]"},{"$f":"IF(ISBLANK(Datas!$C$42),\"\",\" - \"&AU49)","v":""},{"$f":"IF(ISBLANK(Datas!$C$43),\"\",\" - \"&AV49)","v":" - PR:"},{"$f":"IF(ISBLANK(Datas!$C$44),\"\",\" - \"&AW49)","v":" - Ecus: "},{"$f":"IF(ISBLANK(Datas!$C$45),\"\",\" - \"&AX49)","v":" - Niv: "}," ","[b][color=blue]0[/color][/b]","[color=red][b]Tréguier[/b][/color]","Comté du Languedoc","PR:","Ecus: ","Niv: ",null,null,null,null,0,{"$f":"VLOOKUP(BC49,LstVillage!$B$8:$C$283,1)","v":{"$error":"#N/A"}},{"$f":"1","v":1},"blue","Tréguier",{"$f":"VLOOKUP(BG49,Datas!$G$6:$G$17,1)","v":"Nîmes"},0,"red",null,"Comté du Languedoc",0,0,null,{"$f":"VLOOKUP(BC49,Liste_Noire!$B$15:$G$1208,1)","v":{"$error":"#N/A"}},{"$f":"VLOOKUP(BC49,Liste_Noire!$B$15:$G$1208,5)","v":{"$error":"#N/A"}},{"$error":"#N/A"},null,0,0,0,0,0,0,0]
[null,""," ","","","","",null,null,null,null,null,null,null,null,null,null,null,null," ",null,"",0,0,0,0,0,0,0,0,0,0,null,0,null,{"$f":"IF(AK50=\"\",\"\",IF(BR50=1,\"[b][color=red]\"&Datas!$D$32&\"[/color][/b]\"&AK50&\"[b][color=red]\"&Datas!$D$33&\"{\"&BQ50&\"}[/color][/b]\",AK50))","v":""},""," ",{"$f":"IF(ISBLANK(Datas!$C$41),\"\",\" - \"&AT50)","v":" - [color=red][b]Tréguier[/b][/color]"},{"$f":"IF(ISBLANK(Datas!$C$42),\"\",\" - \"&AU50)","v":""},{"$f":"IF(ISBLANK(Datas!$C$43),\"\",\" - \"&AV50)","v":" - PR:"},{"$f":"IF(ISBLANK(Datas!$C$44),\"\",\" - \"&AW50)","v":" - Ecus: "},{"$f":"IF(ISBLANK(Datas!$C$45),\"\",\" - \"&AX50)","v":" - Niv: "}," ","[b][color=blue]0[/color][/b]","[color=red][b]Tréguier[/b][/color]","Comté du Languedoc","PR:","Ecus: ","Niv: ",null,null,null,null,0,{"$f":"VLOOKUP(BC50,LstVillage!$B$8:$C$283,1)","v":{"$error":"#N/A"}},{"$f":"1","v":1},"blue","Tréguier",{"$f":"VLOOKUP(BG50,Datas!$G$6:$G$17,1)","v":"Nîmes"},0,"red",null,"Comté du Languedoc",0,0,null,{"$f":"VLOOKUP(BC50,Liste_Noire!$B$15:$G$1208,1)","v":{"$error":"#N/A"}},{"$f":"VLOOKUP(BC50,Liste_Noire!$B$15:$G$1208,5)","v":{"$error":"#N/A"}},{"$error":"#N/A"},null,0,0,0,0,0,0,0]
[null,""," ","","","","",null,null,null,null,null,null,null,null,null,null,null,null," ",null,"",0,0,0,0,0,0,0,0,0,0,null,0,null,{"$f":"IF(AK51=\"\",\"\",IF(BR51=1,\"[b][color=red]\"&Datas!$D$32&\"[/color][/b]\"&AK51&\"[b][color=red]\"&Datas!$D$33&\"{\"&BQ51&\"}[/color][/b]\",AK51))","v":""},""," ",{"$f":"IF(ISBLANK(Datas!$C$41),\"\",\" - \"&AT51)","v":" - [color=red][b]Tréguier[/b][/color]"},{"$f":"IF(ISBLANK(Datas!$C$42),\"\",\" - \"&AU51)","v":""},{"$f":"IF(ISBLANK(Datas!$C$43),\"\",\" - \"&AV51)","v":" - PR:"},{"$f":"IF(ISBLANK(Datas!$C$44),\"\",\" - \"&AW51)","v":" - Ecus: "},{"$f":"IF(ISBLANK(Datas!$C$45),\"\",\" - \"&AX51)","v":" - Niv: "}," ","[b][color=blue]0[/color][/b]","[color=red][b]Tréguier[/b][/color]","Comté du Languedoc","PR:","Ecus: ","Niv: ",null,null,null,null,0,{"$f":"VLOOKUP(BC51,LstVillage!$B$8:$C$283,1)","v":{"$error":"#N/A"}},{"$f":"1","v":1},"blue","Tréguier",{"$f":"VLOOKUP(BG51,Datas!$G$6:$G$17,1)","v":"Nîmes"},0,"red",null,"Comté du Languedoc",0,0,null,{"$f":"VLOOKUP(BC51,Liste_Noire!$B$15:$G$1208,1)","v":{"$error":"#N/A"}},{"$f":"VLOOKUP(BC51,Liste_Noire!$B$15:$G$1208,5)","v":{"$error":"#N/A"}},{"$error":"#N/A"},null,0,0,0,0,0,0,0]
[null,""," ","","","","",null,null,null,null,null,null,null,null,null,null,null,null," ",null,"",0,0,0,0,0,0,0,0,0,0,null,0,null,{"$f":"IF(AK52=\"\",\"\",IF(BR52=1,\"[b][color=red]\"&Datas!$D$32&\"[/color][/b]\"&AK52&\"[b][color=red]\"&Datas!$D$33&\"{\"&BQ52&\"}[/color][/b]\",AK52))","v":""},""," ",{"$f":"IF(ISBLANK(Datas!$C$41),\"\",\" - \"&AT52)","v":" - [color=red][b]Tréguier[/b][/color]"},{"$f":"IF(ISBLANK(Datas!$C$42),\"\",\" - \"&AU52)","v":""},{"$f":"IF(ISBLANK(Datas!$C$43),\"\",\" - \"&AV52)","v":" - PR:"},{"$f":"IF(ISBLANK(Datas!$C$44),\"\",\" - \"&AW52)","v":" - Ecus: "},{"$f":"IF(ISBLANK(Datas!$C$45),\"\",\" - \"&AX52)","v":" - Niv: "}," ","[b][color=blue]0[/color][/b]","[color=red][b]Tréguier[/b][/color]","Comté du Languedoc","PR:","Ecus: ","Niv: ",null,null,null,null,0,{"$f":"VLOOKUP(BC52,LstVillage!$B$8:$C$283,1)","v":{"$error":"#N/A"}},{"$f":"1","v":1},"blue","Tréguier",{"$f":"VLOOKUP(BG52,Datas!$G$6:$G$17,1)","v":"Nîmes"},0,"red",null,"Comté du Languedoc",0,0,null,{"$f":"VLOOKUP(BC52,Liste_Noire!$B$15:$G$1208,1)","v":{"$error":"#N/A"}},{"$f":"VLOOKUP(BC52,Liste_Noire!$B$15:$G$1208,5)","v":{"$error":"#N/A"}},{"$error":"#N/A"},null,0,0,0,0,0,0,0]
[null,""," ","","","","",null,null,null,null,null,null,null,null,null,null,null,null," ",null,"",0,0,0,0,0,0,0,0,0,0,null,0,null,{"$f":"IF(AK53=\"\",\"\",IF(BR53=1,\"[b][color=red]\"&Datas!$D$32&\"[/color][/b]\"&AK53&\"[b][color=red]\"&Datas!$D$33&\"{\"&BQ53&\"}[/color][/b]\",AK53))","v":""},""," ",{"$f":"IF(ISBLANK(Datas!$C$41),\"\",\" - \"&AT53)","v":" - [color=red][b]Tréguier[/b][/color]"},{"$f":"IF(ISBLANK(Datas!$C$42),\"\",\" - \"&AU53)","v":""},{"$f":"IF(ISBLANK(Datas!$C$43),\"\",\" - \"&AV53)","v":" - PR:"},{"$f":"IF(ISBLANK(Datas!$C$44),\"\",\" - \"&AW53)","v":" - Ecus: "},{"$f":"IF(ISBLANK(Datas!$C$45),\"\",\" - \"&AX53)","v":" - Niv: "}," ","[b][color=blue]0[/color][/b]","[color=red][b]Tréguier[/b][/color]","Comté du Languedoc","PR:","Ecus: ","Niv: ",null,null,null,null,0,{"$f":"VLOOKUP(BC53,LstVillage!$B$8:$C$283,1)","v":{"$error":"#N/A"}},{"$f":"1","v":1},"blue","Tréguier",{"$f":"VLOOKUP(BG53,Datas!$G$6:$G$17,1)","v":"Nîmes"},0,"red",null,"Comté du Languedoc",0,0,null,{"$f":"VLOOKUP(BC53,Liste_Noire!$B$15:$G$1208,1)","v":{"$error":"#N/A"}},{"$f":"VLOOKUP(BC53,Liste_Noire!$B$15:$G$1208,5)","v":{"$error":"#N/A"}},{"$error":"#N/A"},null,0,0,0,0,0,0,0]
[null,""," ","","","","",null,null,null,null,null,null,null,null,null,null,null,null," ",null,"",0,0,0,0,0,0,0,0,0,0,null,0,null,{"$f":"IF(AK54=\"\",\"\",IF(BR54=1,\"[b][color=red]\"&Datas!$D$32&\"[/color][/b]\"&AK54&\"[b][color=red]\"&Datas!$D$33&\"{\"&BQ54&\"}[/color][/b]\",AK54))","v":""},""," ",{"$f":"IF(ISBLANK(Datas!$C$41),\"\",\" - \"&AT54)","v":" - [color=red][b]Tréguier[/b][/color]"},{"$f":"IF(ISBLANK(Datas!$C$42),\"\",\" - \"&AU54)","v":""},{"$f":"IF(ISBLANK(Datas!$C$43),\"\",\" - \"&AV54)","v":" - PR:"},{"$f":"IF(ISBLANK(Datas!$C$44),\"\",\" - \"&AW54)","v":" - Ecus: "},{"$f":"IF(ISBLANK(Datas!$C$45),\"\",\" - \"&AX54)","v":" - Niv: "}," ","[b][color=blue]0[/color][/b]","[color=red][b]Tréguier[/b][/color]","Comté du Languedoc","PR:","Ecus: ","Niv: ",null,null,null,null,0,{"$f":"VLOOKUP(BC54,LstVillage!$B$8:$C$283,1)","v":{"$error":"#N/A"}},{"$f":"1","v":1},"blue","Tréguier",{"$f":"VLOOKUP(BG54,Datas!$G$6:$G$17,1)","v":"Nîmes"},0,"red",null,"Comté du Languedoc",0,0,null,{"$f":"VLOOKUP(BC54,Liste_Noire!$B$15:$G$1208,1)","v":{"$error":"#N/A"}},{"$f":"VLOOKUP(BC54,Liste_Noire!$B$15:$G$1208,5)","v":{"$error":"#N/A"}},{"$error":"#N/A"},null,0,0,0,0,0,0,0]
[null,""," ","","","","",null,null,null,null,null,null,null,null,null,null,null,null," ",null,"",0,0,0,0,0,0,0,0,0,0,null,0,null,{"$f":"IF(AK55=\"\",\"\",IF(BR55=1,\"[b][color=red]\"&Datas!$D$32&\"[/color][/b]\"&AK55&\"[b][color=red]\"&Datas!$D$33&\"{\"&BQ55&\"}[/color][/b]\",AK55))","v":""},""," ",{"$f":"IF(ISBLANK(Datas!$C$41),\"\",\" - \"&AT55)","v":" - [color=red][b]Tréguier[/b][/color]"},{"$f":"IF(ISBLANK(Datas!$C$42),\"\",\" - \"&AU55)","v":""},{"$f":"IF(ISBLANK(Datas!$C$43),\"\",\" - \"&AV55)","v":" - PR:"},{"$f":"IF(ISBLANK(Datas!$C$44),\"\",\" - \"&AW55)","v":" - Ecus: "},{"$f":"IF(ISBLANK(Datas!$C$45),\"\",\" - \"&AX55)","v":" - Niv: "}," ","[b][color=blue]0[/color][/b]","[color=red][b]Tréguier[/b][/color]","Comté du Languedoc","PR:","Ecus: ","Niv: ",null,null,null,null,0,{"$f":"VLOOKUP(BC55,LstVillage!$B$8:$C$283,1)","v":{"$error":"#N/A"}},{"$f":"1","v":1},"blue","Tréguier",{"$f":"VLOOKUP(BG55,Datas!$G$6:$G$17,1)","v":"Nîmes"},0,"red",null,"Comté du Languedoc",0,0,null,{"$f":"VLOOKUP(BC55,Liste_Noire!$B$15:$G$1208,1)","v":{"$error":"#N/A"}},{"$f":"VLOOKUP(BC55,Liste_Noire!$B$15:$G$1208,5)","v":{"$error":"#N/A"}},{"$error":"#N/A"},null,0,0,0,0,0,0,0]
[null,""," ","","","","",null,null,null,null,null,null,null,null,null,null,null,null," ",null,"",0,0,0,0,0,0,0,0,0,0,null,0,null,{"$f":"IF(AK56=\"\",\"\",IF(BR56=1,\"[b][color=red]\"&Datas!$D$32&\"[/color][/b]\"&AK56&\"[b][color=red]\"&Datas!$D$33&\"{\"&BQ56&\"}[/color][/b]\",AK56))","v":""},""," ",{"$f":"IF(ISBLANK(Datas!$C$41),\"\",\" - \"&AT56)","v":" - [color=red][b]Tréguier[/b][/color]"},{"$f":"IF(ISBLANK(Datas!$C$42),\"\",\" - \"&AU56)","v":""},{"$f":"IF(ISBLANK(Datas!$C$43),\"\",\" - \"&AV56)","v":" - PR:"},{"$f":"IF(ISBLANK(Datas!$C$44),\"\",\" - \"&AW56)","v":" - Ecus: "},{"$f":"IF(ISBLANK(Datas!$C$45),\"\",\" - \"&AX56)","v":" - Niv: "}," ","[b][color=blue]0[/color][/b]","[color=red][b]Tréguier[/b][/color]","Comté du Languedoc","PR:","Ecus: ","Niv: ",null,null,null,null,0,{"$f":"VLOOKUP(BC56,LstVillage!$B$8:$C$283,1)","v":{"$error":"#N/A"}},{"$f":"1","v":1},"blue","Tréguier",{"$f":"VLOOKUP(BG56,Datas!$G$6:$G$17,1)","v":"Nîmes"},0,"red",null,"Comté du Languedoc",0,0,null,{"$f":"VLOOKUP(BC56,Liste_Noire!$B$15:$G$1208,1)","v":{"$error":"#N/A"}},{"$f":"VLOOKUP(BC56,Liste_Noire!$B$15:$G$1208,5)","v":{"$error":"#N/A"}},{"$error":"#N/A"},null,0,0,0,0,0,0,0]
[null,""," ","","","","",null,null,null,null,null,null,null,null,null,null,null,null," ",null,"",0,0,0,0,0,0,0,0,0,0,null,0,null,{"$f":"IF(AK57=\"\",\"\",IF(BR57=1,\"[b][color=red]\"&Datas!$D$32&\"[/color][/b]\"&AK57&\"[b][color=red]\"&Datas!$D$33&\"{\"&BQ57&\"}[/color][/b]\",AK57))","v":""},""," ",{"$f":"IF(ISBLANK(Datas!$C$41),\"\",\" - \"&AT57)","v":" - [color=red][b]Tréguier[/b][/color]"},{"$f":"IF(ISBLANK(Datas!$C$42),\"\",\" - \"&AU57)","v":""},{"$f":"IF(ISBLANK(Datas!$C$43),\"\",\" - \"&AV57)","v":" - PR:"},{"$f":"IF(ISBLANK(Datas!$C$44),\"\",\" - \"&AW57)","v":" - Ecus: "},{"$f":"IF(ISBLANK(Datas!$C$45),\"\",\" - \"&AX57)","v":" - Niv: "}," ","[b][color=blue]0[/color][/b]","[color=red][b]Tréguier[/b][/color]","Comté du Languedoc","PR:","Ecus: ","Niv: ",null,null,null,null,0,{"$f":"VLOOKUP(BC57,LstVillage!$B$8:$C$283,1)","v":{"$error":"#N/A"}},{"$f":"1","v":1},"blue","Tréguier",{"$f":"VLOOKUP(BG57,Datas!$G$6:$G$17,1)","v":"Nîmes"},0,"red",null,"Comté du Languedoc",0,0,null,{"$f":"VLOOKUP(BC57,Liste_Noire!$B$15:$G$1208,1)","v":{"$error":"#N/A"}},{"$f":"VLOOKUP(BC57,Liste_Noire!$B$15:$G$1208,5)","v":{"$error":"#N/A"}},{"$error":"#N/A"},null,0,0,0,0,0,0,0]
[null,""," ","","","","",null,null,null,null,null,null,null,null,null,null,null,null," ",null,"",0,0,0,0,0,0,0,0,0,0,null,0,null,{"$f":"IF(AK58=\"\",\"\",IF(BR58=1,\"[b][color=red]\"&Datas!$D$32&\"[/color][/b]\"&AK58&\"[b][color=red]\"&Datas!$D$33&\"{\"&BQ58&\"}[/color][/b]\",AK58))","v":""},""," ",{"$f":"IF(ISBLANK(Datas!$C$41),\"\",\" - \"&AT58)","v":" - [color=red][b]Tréguier[/b][/color]"},{"$f":"IF(ISBLANK(Datas!$C$42),\"\",\" - \"&AU58)","v":""},{"$f":"IF(ISBLANK(Datas!$C$43),\"\",\" - \"&AV58)","v":" - PR:"},{"$f":"IF(ISBLANK(Datas!$C$44),\"\",\" - \"&AW58)","v":" - Ecus: "},{"$f":"IF(ISBLANK(Datas!$C$45),\"\",\" - \"&AX58)","v":" - Niv: "}," ","[b][color=blue]0[/color][/b]","[color=red][b]Tréguier[/b][/color]","Comté du Languedoc","PR:","Ecus: ","Niv: ",null,null,null,null,0,{"$f":"VLOOKUP(BC58,LstVillage!$B$8:$C$283,1)","v":{"$error":"#N/A"}},{"$f":"1","v":1},"blue","Tréguier",{"$f":"VLOOKUP(BG58,Datas!$G$6:$G$17,1)","v":"Nîmes"},0,"red",null,"Comté du Languedoc",0,0,null,{"$f":"VLOOKUP(BC58,Liste_Noire!$B$15:$G$1208,1)","v":{"$error":"#N/A"}},{"$f":"VLOOKUP(BC58,Liste_Noire!$B$15:$G$1208,5)","v":{"$error":"#N/A"}},{"$error":"#N/A"},null,0,0,0,0,0,0,0]
[null,""," ","","","","",null,null,null,null,null,null,null,null,null,null,null,null," ",null,"",0,0,0,0,0,0,0,0,0,0,null,0,null,{"$f":"IF(AK59=\"\",\"\",IF(BR59=1,\"[b][color=red]\"&Datas!$D$32&\"[/color][/b]\"&AK59&\"[b][color=red]\"&Datas!$D$33&\"{\"&BQ59&\"}[/color][/b]\",AK59))","v":""},""," ",{"$f":"IF(ISBLANK(Datas!$C$41),\"\",\" - \"&AT59)","v":" - [color=red][b]Tréguier[/b][/color]"},{"$f":"IF(ISBLANK(Datas!$C$42),\"\",\" - \"&AU59)","v":""},{"$f":"IF(ISBLANK(Datas!$C$43),\"\",\" - \"&AV59)","v":" - PR:"},{"$f":"IF(ISBLANK(Datas!$C$44),\"\",\" - \"&AW59)","v":" - Ecus: "},{"$f":"IF(ISBLANK(Datas!$C$45),\"\",\" - \"&AX59)","v":" - Niv: "}," ","[b][color=blue]0[/color][/b]","[color=red][b]Tréguier[/b][/color]","Comté du Languedoc","PR:","Ecus: ","Niv: ",null,null,null,null,0,{"$f":"VLOOKUP(BC59,LstVillage!$B$8:$C$283,1)","v":{"$error":"#N/A"}},{"$f":"1","v":1},"blue","Tréguier",{"$f":"VLOOKUP(BG59,Datas!$G$6:$G$17,1)","v":"Nîmes"},0,"red",null,"Comté du Languedoc",0,0,null,{"$f":"VLOOKUP(BC59,Liste_Noire!$B$15:$G$1208,1)","v":{"$error":"#N/A"}},{"$f":"VLOOKUP(BC59,Liste_Noire!$B$15:$G$1208,5)","v":{"$error":"#N/A"}},{"$error":"#N/A"},null,0,0,0,0,0,0,0]
[null,""," ","","","","",null,null,null,null,null,null,null,null,null,null,null,null," ",null,"",0,0,0,0,0,0,0,0,0,0,null,0,null,{"$f":"IF(AK60=\"\",\"\",IF(BR60=1,\"[b][color=red]\"&Datas!$D$32&\"[/color][/b]\"&AK60&\"[b][color=red]\"&Datas!$D$33&\"{\"&BQ60&\"}[/color][/b]\",AK60))","v":""},""," ",{"$f":"IF(ISBLANK(Datas!$C$41),\"\",\" - \"&AT60)","v":" - [color=red][b]Tréguier[/b][/color]"},{"$f":"IF(ISBLANK(Datas!$C$42),\"\",\" - \"&AU60)","v":""},{"$f":"IF(ISBLANK(Datas!$C$43),\"\",\" - \"&AV60)","v":" - PR:"},{"$f":"IF(ISBLANK(Datas!$C$44),\"\",\" - \"&AW60)","v":" - Ecus: "},{"$f":"IF(ISBLANK(Datas!$C$45),\"\",\" - \"&AX60)","v":" - Niv: "}," ","[b][color=blue]0[/color][/b]","[color=red][b]Tréguier[/b][/color]","Comté du Languedoc","PR:","Ecus: ","Niv: ",null,null,null,null,0,{"$f":"VLOOKUP(BC60,LstVillage!$B$8:$C$283,1)","v":{"$error":"#N/A"}},{"$f":"1","v":1},"blue","Tréguier",{"$f":"VLOOKUP(BG60,Datas!$G$6:$G$17,1)","v":"Nîmes"},0,"red",null,"Comté du Languedoc",0,0,null,{"$f":"VLOOKUP(BC60,Liste_Noire!$B$15:$G$1208,1)","v":{"$error":"#N/A"}},{"$f":"VLOOKUP(BC60,Liste_Noire!$B$15:$G$1208,5)","v":{"$error":"#N/A"}},{"$error":"#N/A"},null,0,0,0,0,0,0,0]
[null,""," ","","","","",null,null,null,null,null,null,null,null,null,null,null,null," ",null,"",0,0,0,0,0,0,0,0,0,0,null,0,null,{"$f":"IF(AK61=\"\",\"\",IF(BR61=1,\"[b][color=red]\"&Datas!$D$32&\"[/color][/b]\"&AK61&\"[b][color=red]\"&Datas!$D$33&\"{\"&BQ61&\"}[/color][/b]\",AK61))","v":""},""," ",{"$f":"IF(ISBLANK(Datas!$C$41),\"\",\" - \"&AT61)","v":" - [color=red][b]Tréguier[/b][/color]"},{"$f":"IF(ISBLANK(Datas!$C$42),\"\",\" - \"&AU61)","v":""},{"$f":"IF(ISBLANK(Datas!$C$43),\"\",\" - \"&AV61)","v":" - PR:"},{"$f":"IF(ISBLANK(Datas!$C$44),\"\",\" - \"&AW61)","v":" - Ecus: "},{"$f":"IF(ISBLANK(Datas!$C$45),\"\",\" - \"&AX61)","v":" - Niv: "}," ","[b][color=blue]0[/color][/b]","[color=red][b]Tréguier[/b][/color]","Comté du Languedoc","PR:","Ecus: ","Niv: ",null,null,null,null,0,{"$f":"VLOOKUP(BC61,LstVillage!$B$8:$C$283,1)","v":{"$error":"#N/A"}},{"$f":"1","v":1},"blue","Tréguier",{"$f":"VLOOKUP(BG61,Datas!$G$6:$G$17,1)","v":"Nîmes"},0,"red",null,"Comté du Languedoc",0,0,null,{"$f":"VLOOKUP(BC61,Liste_Noire!$B$15:$G$1208,1)","v":{"$error":"#N/A"}},{"$f":"VLOOKUP(BC61,Liste_Noire!$B$15:$G$1208,5)","v":{"$error":"#N/A"}},{"$error":"#N/A"},null,0,0,0,0,0,0,0]
[null,""," ","","","","",null,null,null,null,null,null,null,null,null,null,null,null," ",null,"",0,0,0,0,0,0,0,0,0,0,null,0,null,{"$f":"IF(AK62=\"\",\"\",IF(BR62=1,\"[b][color=red]\"&Datas!$D$32&\"[/color][/b]\"&AK62&\"[b][color=red]\"&Datas!$D$33&\"{\"&BQ62&\"}[/color][/b]\",AK62))","v":""},""," ",{"$f":"IF(ISBLANK(Datas!$C$41),\"\",\" - \"&AT62)","v":" - [color=red][b]Tréguier[/b][/color]"},{"$f":"IF(ISBLANK(Datas!$C$42),\"\",\" - \"&AU62)","v":""},{"$f":"IF(ISBLANK(Datas!$C$43),\"\",\" - \"&AV62)","v":" - PR:"},{"$f":"IF(ISBLANK(Datas!$C$44),\"\",\" - \"&AW62)","v":" - Ecus: "},{"$f":"IF(ISBLANK(Datas!$C$45),\"\",\" - \"&AX62)","v":" - Niv: "}," ","[b][color=blue]0[/color][/b]","[color=red][b]Tréguier[/b][/color]","Comté du Languedoc","PR:","Ecus: ","Niv: ",null,null,null,null,0,{"$f":"VLOOKUP(BC62,LstVillage!$B$8:$C$283,1)","v":{"$error":"#N/A"}},{"$f":"1","v":1},"blue","Tréguier",{"$f":"VLOOKUP(BG62,Datas!$G$6:$G$17,1)","v":"Nîmes"},0,"red",null,"Comté du Languedoc",0,0,null,{"$f":"VLOOKUP(BC62,Liste_Noire!$B$15:$G$1208,1)","v":{"$error":"#N/A"}},{"$f":"VLOOKUP(BC62,Liste_Noire!$B$15:$G$1208,5)","v":{"$error":"#N/A"}},{"$error":"#N/A"},null,0,0,0,0,0,0,0]
[null,""," ","","","","",null,null,null,null,null,null,null,null,null,null,null,null," ",null,"",0,0,0,0,0,0,0,0,0,0,null,0,null,{"$f":"IF(AK63=\"\",\"\",IF(BR63=1,\"[b][color=red]\"&Datas!$D$32&\"[/color][/b]\"&AK63&\"[b][color=red]\"&Datas!$D$33&\"{\"&BQ63&\"}[/color][/b]\",AK63))","v":""},""," ",{"$f":"IF(ISBLANK(Datas!$C$41),\"\",\" - \"&AT63)","v":" - [color=red][b]Tréguier[/b][/color]"},{"$f":"IF(ISBLANK(Datas!$C$42),\"\",\" - \"&AU63)","v":""},{"$f":"IF(ISBLANK(Datas!$C$43),\"\",\" - \"&AV63)","v":" - PR:"},{"$f":"IF(ISBLANK(Datas!$C$44),\"\",\" - \"&AW63)","v":" - Ecus: "},{"$f":"IF(ISBLANK(Datas!$C$45),\"\",\" - \"&AX63)","v":" - Niv: "}," ","[b][color=blue]0[/color][/b]","[color=red][b]Tréguier[/b][/color]","Comté du Languedoc","PR:","Ecus: ","Niv: ",null,null,null,null,0,{"$f":"VLOOKUP(BC63,LstVillage!$B$8:$C$283,1)","v":{"$error":"#N/A"}},{"$f":"1","v":1},"blue","Tréguier",{"$f":"VLOOKUP(BG63,Datas!$G$6:$G$17,1)","v":"Nîmes"},0,"red",null,"Comté du Languedoc",0,0,null,{"$f":"VLOOKUP(BC63,Liste_Noire!$B$15:$G$1208,1)","v":{"$error":"#N/A"}},{"$f":"VLOOKUP(BC63,Liste_Noire!$B$15:$G$1208,5)","v":{"$error":"#N/A"}},{"$error":"#N/A"},null,0,0,0,0,0,0,0]
[null,""," ","","","","",null,null,null,null,null,null,null,null,null,null,null,null," ",null,"",0,0,0,0,0,0,0,0,0,0,null,0,null,{"$f":"IF(AK64=\"\",\"\",IF(BR64=1,\"[b][color=red]\"&Datas!$D$32&\"[/color][/b]\"&AK64&\"[b][color=red]\"&Datas!$D$33&\"{\"&BQ64&\"}[/color][/b]\",AK64))","v":""},""," ",{"$f":"IF(ISBLANK(Datas!$C$41),\"\",\" - \"&AT64)","v":" - [color=red][b]Tréguier[/b][/color]"},{"$f":"IF(ISBLANK(Datas!$C$42),\"\",\" - \"&AU64)","v":""},{"$f":"IF(ISBLANK(Datas!$C$43),\"\",\" - \"&AV64)","v":" - PR:"},{"$f":"IF(ISBLANK(Datas!$C$44),\"\",\" - \"&AW64)","v":" - Ecus: "},{"$f":"IF(ISBLANK(Datas!$C$45),\"\",\" - \"&AX64)","v":" - Niv: "}," ","[b][color=blue]0[/color][/b]","[color=red][b]Tréguier[/b][/color]","Comté du Languedoc","PR:","Ecus: ","Niv: ",null,null,null,null,0,{"$f":"VLOOKUP(BC64,LstVillage!$B$8:$C$283,1)","v":{"$error":"#N/A"}},{"$f":"1","v":1},"blue","Tréguier",{"$f":"VLOOKUP(BG64,Datas!$G$6:$G$17,1)","v":"Nîmes"},0,"red",null,"Comté du Languedoc",0,0,null,{"$f":"VLOOKUP(BC64,Liste_Noire!$B$15:$G$1208,1)","v":{"$error":"#N/A"}},{"$f":"VLOOKUP(BC64,Liste_Noire!$B$15:$G$1208,5)","v":{"$error":"#N/A"}},{"$error":"#N/A"},null,0,0,0,0,0,0,0]
[null,""," ","","","","",null,null,null,null,null,null,null,null,null,null,null,null," ",null,"",0,0,0,0,0,0,0,0,0,0,null,0,null,{"$f":"IF(AK65=\"\",\"\",IF(BR65=1,\"[b][color=red]\"&Datas!$D$32&\"[/color][/b]\"&AK65&\"[b][color=red]\"&Datas!$D$33&\"{\"&BQ65&\"}[/color][/b]\",AK65))","v":""},""," ",{"$f":"IF(ISBLANK(Datas!$C$41),\"\",\" - \"&AT65)","v":" - [color=red][b]Tréguier[/b][/color]"},{"$f":"IF(ISBLANK(Datas!$C$42),\"\",\" - \"&AU65)","v":""},{"$f":"IF(ISBLANK(Datas!$C$43),\"\",\" - \"&AV65)","v":" - PR:"},{"$f":"IF(ISBLANK(Datas!$C$44),\"\",\" - \"&AW65)","v":" - Ecus: "},{"$f":"IF(ISBLANK(Datas!$C$45),\"\",\" - \"&AX65)","v":" - Niv: "}," ","[b][color=blue]0[/color][/b]","[color=red][b]Tréguier[/b][/color]","Comté du Languedoc","PR:","Ecus: ","Niv: ",null,null,null,null,0,{"$f":"VLOOKUP(BC65,LstVillage!$B$8:$C$283,1)","v":{"$error":"#N/A"}},{"$f":"1","v":1},"blue","Tréguier",{"$f":"VLOOKUP(BG65,Datas!$G$6:$G$17,1)","v":"Nîmes"},0,"red",null,"Comté du Languedoc",0,0,null,{"$f":"VLOOKUP(BC65,Liste_Noire!$B$15:$G$1208,1)","v":{"$error":"#N/A"}},{"$f":"VLOOKUP(BC65,Liste_Noire!$B$15:$G$1208,5)","v":{"$error":"#N/A"}},{"$error":"#N/A"},null,0,0,0,0,0,0,0]
[null,""," ","","","","",null,null,null,null,null,null,null,null,null,null,null,null," ",null,"",0,0,0,0,0,0,0,0,0,0,null,0,null,{"$f":"IF(AK66=\"\",\"\",IF(BR66=1,\"[b][color=red]\"&Datas!$D$32&\"[/color][/b]\"&AK66&\"[b][color=red]\"&Datas!$D$33&\"{\"&BQ66&\"}[/color][/b]\",AK66))","v":""},""," ",{"$f":"IF(ISBLANK(Datas!$C$41),\"\",\" - \"&AT66)","v":" - [color=red][b]Tréguier[/b][/color]"},{"$f":"IF(ISBLANK(Datas!$C$42),\"\",\" - \"&AU66)","v":""},{"$f":"IF(ISBLANK(Datas!$C$43),\"\",\" - \"&AV66)","v":" - PR:"},{"$f":"IF(ISBLANK(Datas!$C$44),\"\",\" - \"&AW66)","v":" - Ecus: "},{"$f":"IF(ISBLANK(Datas!$C$45),\"\",\" - \"&AX66)","v":" - Niv: "}," ","[b][color=blue]0[/color][/b]","[color=red][b]Tréguier[/b][/color]","Comté du Languedoc","PR:","Ecus: ","Niv: ",null,null,null,null,0,{"$f":"VLOOKUP(BC66,LstVillage!$B$8:$C$283,1)","v":{"$error":"#N/A"}},{"$f":"1","v":1},"blue","Tréguier",{"$f":"VLOOKUP(BG66,Datas!$G$6:$G$17,1)","v":"Nîmes"},0,"red",null,"Comté du Languedoc",0,0,null,{"$f":"VLOOKUP(BC66,Liste_Noire!$B$15:$G$1208,1)","v":{"$error":"#N/A"}},{"$f":"VLOOKUP(BC66,Liste_Noire!$B$15:$G$1208,5)","v":{"$error":"#N/A"}},{"$error":"#N/A"},null,0,0,0,0,0,0,0]
[null,""," ","","","","",null,null,null,null,null,null,null,null,null,null,null,null," ",null,"",0,0,0,0,0,0,0,0,0,0,null,0,null,{"$f":"IF(AK67=\"\",\"\",IF(BR67=1,\"[b][color=red]\"&Datas!$D$32&\"[/color][/b]\"&AK67&\"[b][color=red]\"&Datas!$D$33&\"{\"&BQ67&\"}[/color][/b]\",AK67))","v":""},""," ",{"$f":"IF(ISBLANK(Datas!$C$41),\"\",\" - \"&AT67)","v":" - [color=red][b]Tréguier[/b][/color]"},{"$f":"IF(ISBLANK(Datas!$C$42),\"\",\" - \"&AU67)","v":""},{"$f":"IF(ISBLANK(Datas!$C$43),\"\",\" - \"&AV67)","v":" - PR:"},{"$f":"IF(ISBLANK(Datas!$C$44),\"\",\" - \"&AW67)","v":" - Ecus: "},{"$f":"IF(ISBLANK(Datas!$C$45),\"\",\" - \"&AX67)","v":" - Niv: "}," ","[b][color=blue]0[/color][/b]","[color=red][b]Tréguier[/b][/color]","Comté du Languedoc","PR:","Ecus: ","Niv: ",null,null,null,null,0,{"$f":"VLOOKUP(BC67,LstVillage!$B$8:$C$283,1)","v":{"$error":"#N/A"}},{"$f":"1","v":1},"blue","Tréguier",{"$f":"VLOOKUP(BG67,Datas!$G$6:$G$17,1)","v":"Nîmes"},0,"red",null,"Comté du Languedoc",0,0,null,{"$f":"VLOOKUP(BC67,Liste_Noire!$B$15:$G$1208,1)","v":{"$error":"#N/A"}},{"$f":"VLOOKUP(BC67,Liste_Noire!$B$15:$G$1208,5)","v":{"$error":"#N/A"}},{"$error":"#N/A"},null,0,0,0,0,0,0,0]
[null,""," ","","","","",null,null,null,null,null,null,null,null,null,null,null,null," ",null,"",0,0,0,0,0,0,0,0,0,0,null,0,null,{"$f":"IF(AK68=\"\",\"\",IF(BR68=1,\"[b][color=red]\"&Datas!$D$32&\"[/color][/b]\"&AK68&\"[b][color=red]\"&Datas!$D$33&\"{\"&BQ68&\"}[/color][/b]\",AK68))","v":""},""," ",{"$f":"IF(ISBLANK(Datas!$C$41),\"\",\" - \"&AT68)","v":" - [color=red][b]Tréguier[/b][/color]"},{"$f":"IF(ISBLANK(Datas!$C$42),\"\",\" - \"&AU68)","v":""},{"$f":"IF(ISBLANK(Datas!$C$43),\"\",\" - \"&AV68)","v":" - PR:"},{"$f":"IF(ISBLANK(Datas!$C$44),\"\",\" - \"&AW68)","v":" - Ecus: "},{"$f":"IF(ISBLANK(Datas!$C$45),\"\",\" - \"&AX68)","v":" - Niv: "}," ","[b][color=blue]0[/color][/b]","[color=red][b]Tréguier[/b][/color]","Comté du Languedoc","PR:","Ecus: ","Niv: ",null,null,null,null,0,{"$f":"VLOOKUP(BC68,LstVillage!$B$8:$C$283,1)","v":{"$error":"#N/A"}},{"$f":"1","v":1},"blue","Tréguier",{"$f":"VLOOKUP(BG68,Datas!$G$6:$G$17,1)","v":"Nîmes"},0,"red",null,"Comté du Languedoc",0,0,null,{"$f":"VLOOKUP(BC68,Liste_Noire!$B$15:$G$1208,1)","v":{"$error":"#N/A"}},{"$f":"VLOOKUP(BC68,Liste_Noire!$B$15:$G$1208,5)","v":{"$error":"#N/A"}},{"$error":"#N/A"},null,0,0,0,0,0,0,0]
[null,""," ","","","","",null,null,null,null,null,null,null,null,null,null,null,null," ",null,"",0,0,0,0,0,0,0,0,0,0,null,0,null,{"$f":"IF(AK69=\"\",\"\",IF(BR69=1,\"[b][color=red]\"&Datas!$D$32&\"[/color][/b]\"&AK69&\"[b][color=red]\"&Datas!$D$33&\"{\"&BQ69&\"}[/color][/b]\",AK69))","v":""},""," ",{"$f":"IF(ISBLANK(Datas!$C$41),\"\",\" - \"&AT69)","v":" - [color=red][b]Tréguier[/b][/color]"},{"$f":"IF(ISBLANK(Datas!$C$42),\"\",\" - \"&AU69)","v":""},{"$f":"IF(ISBLANK(Datas!$C$43),\"\",\" - \"&AV69)","v":" - PR:"},{"$f":"IF(ISBLANK(Datas!$C$44),\"\",\" - \"&AW69)","v":" - Ecus: "},{"$f":"IF(ISBLANK(Datas!$C$45),\"\",\" - \"&AX69)","v":" - Niv: "}," ","[b][color=blue]0[/color][/b]","[color=red][b]Tréguier[/b][/color]","Comté du Languedoc","PR:","Ecus: ","Niv: ",null,null,null,null,0,{"$f":"VLOOKUP(BC69,LstVillage!$B$8:$C$283,1)","v":{"$error":"#N/A"}},{"$f":"1","v":1},"blue","Tréguier",{"$f":"VLOOKUP(BG69,Datas!$G$6:$G$17,1)","v":"Nîmes"},0,"red",null,"Comté du Languedoc",0,0,null,{"$f":"VLOOKUP(BC69,Liste_Noire!$B$15:$G$1208,1)","v":{"$error":"#N/A"}},{"$f":"VLOOKUP(BC69,Liste_Noire!$B$15:$G$1208,5)","v":{"$error":"#N/A"}},{"$error":"#N/A"},null,0,0,0,0,0,0,0]
[null,""," ","","","","",null,null,null,null,null,null,null,null,null,null,null,null," ",null,"",0,0,0,0,0,0,0,0,0,0,null,0,null,{"$f":"IF(AK70=\"\",\"\",IF(BR70=1,\"[b][color=red]\"&Datas!$D$32&\"[/color][/b]\"&AK70&\"[b][color=red]\"&Datas!$D$33&\"{\"&BQ70&\"}[/color][/b]\",AK70))","v":""},""," ",{"$f":"IF(ISBLANK(Datas!$C$41),\"\",\" - \"&AT70)","v":" - [color=red][b]Tréguier[/b][/color]"},{"$f":"IF(ISBLANK(Datas!$C$42),\"\",\" - \"&AU70)","v":""},{"$f":"IF(ISBLANK(Datas!$C$43),\"\",\" - \"&AV70)","v":" - PR:"},{"$f":"IF(ISBLANK(Datas!$C$44),\"\",\" - \"&AW70)","v":" - Ecus: "},{"$f":"IF(ISBLANK(Datas!$C$45),\"\",\" - \"&AX70)","v":" - Niv: "}," ","[b][color=blue]0[/color][/b]","[color=red][b]Tréguier[/b][/color]","Comté du Languedoc","PR:","Ecus: ","Niv: ",null,null,null,null,0,{"$f":"VLOOKUP(BC70,LstVillage!$B$8:$C$283,1)","v":{"$error":"#N/A"}},{"$f":"1","v":1},"blue","Tréguier",{"$f":"VLOOKUP(BG70,Datas!$G$6:$G$17,1)","v":"Nîmes"},0,"red",null,"Comté du Languedoc",0,0,null,{"$f":"VLOOKUP(BC70,Liste_Noire!$B$15:$G$1208,1)","v":{"$error":"#N/A"}},{"$f":"VLOOKUP(BC70,Liste_Noire!$B$15:$G$1208,5)","v":{"$error":"#N/A"}},{"$error":"#N/A"},null,0,0,0,0,0,0,0]
[null,""," ","","","","",null,null,null,null,null,null,null,null,null,null,null,null," ",null,"",0,0,0,0,0,0,0,0,0,0,null,0,null,{"$f":"IF(AK71=\"\",\"\",IF(BR71=1,\"[b][color=red]\"&Datas!$D$32&\"[/color][/b]\"&AK71&\"[b][color=red]\"&Datas!$D$33&\"{\"&BQ71&\"}[/color][/b]\",AK71))","v":""},""," ",{"$f":"IF(ISBLANK(Datas!$C$41),\"\",\" - \"&AT71)","v":" - [color=red][b]Tréguier[/b][/color]"},{"$f":"IF(ISBLANK(Datas!$C$42),\"\",\" - \"&AU71)","v":""},{"$f":"IF(ISBLANK(Datas!$C$43),\"\",\" - \"&AV71)","v":" - PR:"},{"$f":"IF(ISBLANK(Datas!$C$44),\"\",\" - \"&AW71)","v":" - Ecus: "},{"$f":"IF(ISBLANK(Datas!$C$45),\"\",\" - \"&AX71)","v":" - Niv: "}," ","[b][color=blue]0[/color][/b]","[color=red][b]Tréguier[/b][/color]","Comté du Languedoc","PR:","Ecus: ","Niv: ",null,null,null,null,0,{"$f":"VLOOKUP(BC71,LstVillage!$B$8:$C$283,1)","v":{"$error":"#N/A"}},{"$f":"1","v":1},"blue","Tréguier",{"$f":"VLOOKUP(BG71,Datas!$G$6:$G$17,1)","v":"Nîmes"},0,"red",null,"Comté du Languedoc",0,0,null,{"$f":"VLOOKUP(BC71,Liste_Noire!$B$15:$G$1208,1)","v":{"$error":"#N/A"}},{"$f":"VLOOKUP(BC71,Liste_Noire!$B$15:$G$1208,5)","v":{"$error":"#N/A"}},{"$error":"#N/A"},null,0,0,0,0,0,0,0]
[null,""," ","","","","",null,null,null,null,null,null,null,null,null,null,null,null," ",null,"",0,0,0,0,0,0,0,0,0,0,null,0,null,{"$f":"IF(AK72=\"\",\"\",IF(BR72=1,\"[b][color=red]\"&Datas!$D$32&\"[/color][/b]\"&AK72&\"[b][color=red]\"&Datas!$D$33&\"{\"&BQ72&\"}[/color][/b]\",AK72))","v":""},""," ",{"$f":"IF(ISBLANK(Datas!$C$41),\"\",\" - \"&AT72)","v":" - [color=red][b]Tréguier[/b][/color]"},{"$f":"IF(ISBLANK(Datas!$C$42),\"\",\" - \"&AU72)","v":""},{"$f":"IF(ISBLANK(Datas!$C$43),\"\",\" - \"&AV72)","v":" - PR:"},{"$f":"IF(ISBLANK(Datas!$C$44),\"\",\" - \"&AW72)","v":" - Ecus: "},{"$f":"IF(ISBLANK(Datas!$C$45),\"\",\" - \"&AX72)","v":" - Niv: "}," ","[b][color=blue]0[/color][/b]","[color=red][b]Tréguier[/b][/color]","Comté du Languedoc","PR:","Ecus: ","Niv: ",null,null,null,null,0,{"$f":"VLOOKUP(BC72,LstVillage!$B$8:$C$283,1)","v":{"$error":"#N/A"}},{"$f":"1","v":1},"blue","Tréguier",{"$f":"VLOOKUP(BG72,Datas!$G$6:$G$17,1)","v":"Nîmes"},0,"red",null,"Comté du Languedoc",0,0,null,{"$f":"VLOOKUP(BC72,Liste_Noire!$B$15:$G$1208,1)","v":{"$error":"#N/A"}},{"$f":"VLOOKUP(BC72,Liste_Noire!$B$15:$G$1208,5)","v":{"$error":"#N/A"}},{"$error":"#N/A"},null,0,0,0,0,0,0,0]
[null,""," ","","","","",null,null,null,null,null,null,null,null,null,null,null,null," ",null,"",0,0,0,0,0,0,0,0,0,0,null,0,null,{"$f":"IF(AK73=\"\",\"\",IF(BR73=1,\"[b][color=red]\"&Datas!$D$32&\"[/color][/b]\"&AK73&\"[b][color=red]\"&Datas!$D$33&\"{\"&BQ73&\"}[/color][/b]\",AK73))","v":""},""," ",{"$f":"IF(ISBLANK(Datas!$C$41),\"\",\" - \"&AT73)","v":" - [color=red][b]Tréguier[/b][/color]"},{"$f":"IF(ISBLANK(Datas!$C$42),\"\",\" - \"&AU73)","v":""},{"$f":"IF(ISBLANK(Datas!$C$43),\"\",\" - \"&AV73)","v":" - PR:"},{"$f":"IF(ISBLANK(Datas!$C$44),\"\",\" - \"&AW73)","v":" - Ecus: "},{"$f":"IF(ISBLANK(Datas!$C$45),\"\",\" - \"&AX73)","v":" - Niv: "}," ","[b][color=blue]0[/color][/b]","[color=red][b]Tréguier[/b][/color]","Comté du Languedoc","PR:","Ecus: ","Niv: ",null,null,null,null,0,{"$f":"VLOOKUP(BC73,LstVillage!$B$8:$C$283,1)","v":{"$error":"#N/A"}},{"$f":"1","v":1},"blue","Tréguier",{"$f":"VLOOKUP(BG73,Datas!$G$6:$G$17,1)","v":"Nîmes"},0,"red",null,"Comté du Languedoc",0,0,null,{"$f":"VLOOKUP(BC73,Liste_Noire!$B$15:$G$1208,1)","v":{"$error":"#N/A"}},{"$f":"VLOOKUP(BC73,Liste_Noire!$B$15:$G$1208,5)","v":{"$error":"#N/A"}},{"$error":"#N/A"},null,0,0,0,0,0,0,0]
[null,""," ","","","","",null,null,null,null,null,null,null,null,null,null,null,null," ",null,"",0,0,0,0,0,0,0,0,0,0,null,0,null,{"$f":"IF(AK74=\"\",\"\",IF(BR74=1,\"[b][color=red]\"&Datas!$D$32&\"[/color][/b]\"&AK74&\"[b][color=red]\"&Datas!$D$33&\"{\"&BQ74&\"}[/color][/b]\",AK74))","v":""},""," ",{"$f":"IF(ISBLANK(Datas!$C$41),\"\",\" - \"&AT74)","v":" - [color=red][b]Tréguier[/b][/color]"},{"$f":"IF(ISBLANK(Datas!$C$42),\"\",\" - \"&AU74)","v":""},{"$f":"IF(ISBLANK(Datas!$C$43),\"\",\" - \"&AV74)","v":" - PR:"},{"$f":"IF(ISBLANK(Datas!$C$44),\"\",\" - \"&AW74)","v":" - Ecus: "},{"$f":"IF(ISBLANK(Datas!$C$45),\"\",\" - \"&AX74)","v":" - Niv: "}," ","[b][color=blue]0[/color][/b]","[color=red][b]Tréguier[/b][/color]","Comté du Languedoc","PR:","Ecus: ","Niv: ",null,null,null,null,0,{"$f":"VLOOKUP(BC74,LstVillage!$B$8:$C$283,1)","v":{"$error":"#N/A"}},{"$f":"1","v":1},"blue","Tréguier",{"$f":"VLOOKUP(BG74,Datas!$G$6:$G$17,1)","v":"Nîmes"},0,"red",null,"Comté du Languedoc",0,0,null,{"$f":"VLOOKUP(BC74,Liste_Noire!$B$15:$G$1208,1)","v":{"$error":"#N/A"}},{"$f":"VLOOKUP(BC74,Liste_Noire!$B$15:$G$1208,5)","v":{"$error":"#N/A"}},{"$error":"#N/A"},null,0,0,0,0,0,0,0]
[null,""," ","","","","",null,null,null,null,null,null,null,null,null,null,null,null," ",null,"",0,0,0,0,0,0,0,0,0,0,null,0,null,{"$f":"IF(AK75=\"\",\"\",IF(BR75=1,\"[b][color=red]\"&Datas!$D$32&\"[/color][/b]\"&AK75&\"[b][color=red]\"&Datas!$D$33&\"{\"&BQ75&\"}[/color][/b]\",AK75))","v":""},""," ",{"$f":"IF(ISBLANK(Datas!$C$41),\"\",\" - \"&AT75)","v":" - [color=red][b]Tréguier[/b][/color]"},{"$f":"IF(ISBLANK(Datas!$C$42),\"\",\" - \"&AU75)","v":""},{"$f":"IF(ISBLANK(Datas!$C$43),\"\",\" - \"&AV75)","v":" - PR:"},{"$f":"IF(ISBLANK(Datas!$C$44),\"\",\" - \"&AW75)","v":" - Ecus: "},{"$f":"IF(ISBLANK(Datas!$C$45),\"\",\" - \"&AX75)","v":" - Niv: "}," ","[b][color=blue]0[/color][/b]","[color=red][b]Tréguier[/b][/color]","Comté du Languedoc","PR:","Ecus: ","Niv: ",null,null,null,null,0,{"$f":"VLOOKUP(BC75,LstVillage!$B$8:$C$283,1)","v":{"$error":"#N/A"}},{"$f":"1","v":1},"blue","Tréguier",{"$f":"VLOOKUP(BG75,Datas!$G$6:$G$17,1)","v":"Nîmes"},0,"red",null,"Comté du Languedoc",0,0,null,{"$f":"VLOOKUP(BC75,Liste_Noire!$B$15:$G$1208,1)","v":{"$error":"#N/A"}},{"$f":"VLOOKUP(BC75,Liste_Noire!$B$15:$G$1208,5)","v":{"$error":"#N/A"}},{"$error":"#N/A"},null,0,0,0,0,0,0,0]
[null,""," ","","","","",null,null,null,null,null,null,null,null,null,null,null,null," ",null,"",0,0,0,0,0,0,0,0,0,0,null,0,null,{"$f":"IF(AK76=\"\",\"\",IF(BR76=1,\"[b][color=red]\"&Datas!$D$32&\"[/color][/b]\"&AK76&\"[b][color=red]\"&Datas!$D$33&\"{\"&BQ76&\"}[/color][/b]\",AK76))","v":""},""," ",{"$f":"IF(ISBLANK(Datas!$C$41),\"\",\" - \"&AT76)","v":" - [color=red][b]Tréguier[/b][/color]"},{"$f":"IF(ISBLANK(Datas!$C$42),\"\",\" - \"&AU76)","v":""},{"$f":"IF(ISBLANK(Datas!$C$43),\"\",\" - \"&AV76)","v":" - PR:"},{"$f":"IF(ISBLANK(Datas!$C$44),\"\",\" - \"&AW76)","v":" - Ecus: "},{"$f":"IF(ISBLANK(Datas!$C$45),\"\",\" - \"&AX76)","v":" - Niv: "}," ","[b][color=blue]0[/color][/b]","[color=red][b]Tréguier[/b][/color]","Comté du Languedoc","PR:","Ecus: ","Niv: ",null,null,null,null,0,{"$f":"VLOOKUP(BC76,LstVillage!$B$8:$C$283,1)","v":{"$error":"#N/A"}},{"$f":"1","v":1},"blue","Tréguier",{"$f":"VLOOKUP(BG76,Datas!$G$6:$G$17,1)","v":"Nîmes"},0,"red",null,"Comté du Languedoc",0,0,null,{"$f":"VLOOKUP(BC76,Liste_Noire!$B$15:$G$1208,1)","v":{"$error":"#N/A"}},{"$f":"VLOOKUP(BC76,Liste_Noire!$B$15:$G$1208,5)","v":{"$error":"#N/A"}},{"$error":"#N/A"},null,0,0,0,0,0,0,0]
[null,{"$f":"IF(BM77,\"[strike]\"&AJ77&\"[/strike]\",IF(BN77,\"[i]\"&AJ77&\"[/i]\",AJ77))","v":""}," ",{"$f":"IF(J77=\"mort\",\"M\",\"\")","v":""},{"$f":"IF(ISERROR(BR77),\"\",IF(BR77=1,\"LN\",\"\"))","v":""},{"$f":"IF(J77=\"retraite\",\"R\",\"\")","v":""},{"$f":"IF(ISBLANK(V77),\"\",V77)","v":""},null,null,null,null,null,null,null,null,null,null,null,null," ",null,{"$f":"IF(OR(ISBLANK(R77),TRIM(R77)=\"\"),IF(ISBLANK($I77),\"\",$V$11),IF(OR($F77=$AA$11,$D77=$AC$11),$V$11,IF(R77=\"a/d\",\"\",R77)))","v":""},{"$f":"IF($V77=W$11,1,0)","v":0},{"$f":"IF(AND(W77=1,$E77=X$11),1,0)","v":0},{"$f":"IF($V77=Y$11,1,0)","v":0},{"$f":"IF(AND(Y77=1,$E77=Z$11),1,0)","v":0},{"$f":"IF($F77=AA$11,1,0)","v":0},{"$f":"IF(AND(AA77=1,$E77=AB$11),1,0)","v":0},{"$f":"IF($D77=AC$11,1,0)","v":0},{"$f":"IF(AND(AC77=1,$E77=AD$11),1,0)","v":0},{"$f":"IF(AND($V77=AE$11,(AA77+AC77)=0),1,0)","v":0},{"$f":"IF(AND(AE77=1,$E77=AF$11),1,0)","v":0},null,{"$f":"IF(AND(ISBLANK(I77),ISBLANK(J77),ISBLANK(L77),ISBLANK(M77)),0,1)","v":0},null,{"$f":"IF(AK77=\"\",\"\",IF(BR77=1,\"[b][color=red]\"&Datas!$D$32&\"[/color][/b]\"&AK77&\"[b][color=red]\"&Datas!$D$33&\"{\"&BQ77&\"}[/color][/b]\",AK77))","v":""},{"$f":"IF(ISBLANK(I77),\"\",AS77&AM77&AN77&AO77&AP77&AQ77)","v":""}," ",{"$f":"IF(ISBLANK(Datas!$C$41),\"\",\" - \"&AT77)","v":" - [color=red][b]Tréguier[/b][/color]"},{"$f":"IF(ISBLANK(Datas!$C$42),\"\",\" - \"&AU77)","v":""},{"$f":"IF(ISBLANK(Datas!$C$43),\"\",\" - \"&AV77)","v":" - PR:"},{"$f":"IF(ISBLANK(Datas!$C$44),\"\",\" - \"&AW77)","v":" - Ecus: "},{"$f":"IF(ISBLANK(Datas!$C$45),\"\",\" - \"&AX77)","v":" - Niv: "}," ",{"$f":"\"[b][color=\"&BF77&\"]\"&BC77&\"[/color][/b]\"","v":"[b][color=blue]0[/color][/b]"},{"$f":"\"[color=\"&BJ77&\"][b]\"&BG77&\"[/b][/color]\"","v":"[color=red][b]Tréguier[/b][/color]"},{"$f":"$H$8","v":"Comté du Languedoc"},{"$f":"\"PR:\"&L77","v":"PR:"},{"$f":"\"Ecus: \"&M77","v":"Ecus: "},{"$f":"\"Niv: \"&K77","v":"Niv: "},null,null,null,null,{"$f":"I77","v":0},{"$f":"VLOOKUP(BC77,LstVillage!$B$8:$C$283,1)","v":{"$error":"#N/A"}},{"$f":"1","v":1},{"$f":"IF(BE77=1,$AT$2,IF(BI77=1,$AT$3,$AT$4))","v":"blue"},{"$f":"$B$8","v":"Tréguier"},{"$f":"VLOOKUP(BG77,Datas!$G$6:$G$17,1)","v":"Nîmes"},{"$f":"IF(BH77<>BG77,0,1)","v":0},{"$f":"IF(BI77=1,$AW$2,$AW$3)","v":"red"},null,{"$f":"$H$8","v":"Comté du Languedoc"},{"$f":"IF(F77=\"M\",1,0)","v":0},{"$f":"IF(F77=\"R\",1,0)","v":0},null,{"$f":"VLOOKUP(BC77,Liste_Noire!$B$15:$G$1208,1)","v":{"$error":"#N/A"}},{"$f":"VLOOKUP(BC77,Liste_Noire!$B$15:$G$1208,5)","v":{"$error":"#N/A"}},{"$f":"IF(ISERR(BP77),0,IF(BP77=BC77,1,0))","v":{"$error":"#N/A"}},null,{"$f":"IF(G77=\"a\",1,0)","v":0},{"$f":"IF(G77=\"d\",1,0)","v":0},{"$f":"IF(F77=\"R\",1,0)","v":0},{"$f":"IF(F77=\"M\",1,0)","v":0},0,0,{"$f":"IF(ISBLANK(I77),0,1)","v":0}]
[null,""," ","","","","",null,null,null,null,null,null,null,null,null,null,null,null," ",null,"",0,0,0,0,0,0,0,0,0,0,null,0,null,{"$f":"IF(AK78=\"\",\"\",IF(BR78=1,\"[b][color=red]\"&Datas!$D$32&\"[/color][/b]\"&AK78&\"[b][color=red]\"&Datas!$D$33&\"{\"&BQ78&\"}[/color][/b]\",AK78))","v":""},""," ",{"$f":"IF(ISBLANK(Datas!$C$41),\"\",\" - \"&AT78)","v":" - [color=red][b]Tréguier[/b][/color]"},{"$f":"IF(ISBLANK(Datas!$C$42),\"\",\" - \"&AU78)","v":""},{"$f":"IF(ISBLANK(Datas!$C$43),\"\",\" - \"&AV78)","v":" - PR:"},{"$f":"IF(ISBLANK(Datas!$C$44),\"\",\" - \"&AW78)","v":" - Ecus: "},{"$f":"IF(ISBLANK(Datas!$C$45),\"\",\" - \"&AX78)","v":" - Niv: "}," ","[b][color=blue]0[/color][/b]","[color=red][b]Tréguier[/b][/color]","Comté du Languedoc","PR:","Ecus: ","Niv: ",null,null,null,null,0,{"$f":"VLOOKUP(BC78,LstVillage!$B$8:$C$283,1)","v":{"$error":"#N/A"}},{"$f":"1","v":1},"blue","Tréguier",{"$f":"VLOOKUP(BG78,Datas!$G$6:$G$17,1)","v":"Nîmes"},0,"red",null,"Comté du Languedoc",0,0,null,{"$f":"VLOOKUP(BC78,Liste_Noire!$B$15:$G$1208,1)","v":{"$error":"#N/A"}},{"$f":"VLOOKUP(BC78,Liste_Noire!$B$15:$G$1208,5)","v":{"$error":"#N/A"}},{"$error":"#N/A"},null,0,0,0,0,0,0,0]
[null,""," ","","","","",null,null,null,null,null,null,null,null,null,null,null,null," ",null,"",0,0,0,0,0,0,0,0,0,0,null,0,null,{"$f":"IF(AK79=\"\",\"\",IF(BR79=1,\"[b][color=red]\"&Datas!$D$32&\"[/color][/b]\"&AK79&\"[b][color=red]\"&Datas!$D$33&\"{\"&BQ79&\"}[/color][/b]\",AK79))","v":""},""," ",{"$f":"IF(ISBLANK(Datas!$C$41),\"\",\" - \"&AT79)","v":" - [color=red][b]Tréguier[/b][/color]"},{"$f":"IF(ISBLANK(Datas!$C$42),\"\",\" - \"&AU79)","v":""},{"$f":"IF(ISBLANK(Datas!$C$43),\"\",\" - \"&AV79)","v":" - PR:"},{"$f":"IF(ISBLANK(Datas!$C$44),\"\",\" - \"&AW79)","v":" - Ecus: "},{"$f":"IF(ISBLANK(Datas!$C$45),\"\",\" - \"&AX79)","v":" - Niv: "}," ","[b][color=blue]0[/color][/b]","[color=red][b]Tréguier[/b][/color]","Comté du Languedoc","PR:","Ecus: ","Niv: ",null,null,null,null,0,{"$f":"VLOOKUP(BC79,LstVillage!$B$8:$C$283,1)","v":{"$error":"#N/A"}},{"$f":"1","v":1},"blue","Tréguier",{"$f":"VLOOKUP(BG79,Datas!$G$6:$G$17,1)","v":"Nîmes"},0,"red",null,"Comté du Languedoc",0,0,null,{"$f":"VLOOKUP(BC79,Liste_Noire!$B$15:$G$1208,1)","v":{"$error":"#N/A"}},{"$f":"VLOOKUP(BC79,Liste_Noire!$B$15:$G$1208,5)","v":{"$error":"#N/A"}},{"$error":"#N/A"},null,0,0,0,0,0,0,0]
[null,""," ","","","","",null,null,null,null,null,null,null,null,null,null,null,null," ",null,"",0,0,0,0,0,0,0,0,0,0,null,0,null,{"$f":"IF(AK80=\"\",\"\",IF(BR80=1,\"[b][color=red]\"&Datas!$D$32&\"[/color][/b]\"&AK80&\"[b][color=red]\"&Datas!$D$33&\"{\"&BQ80&\"}[/color][/b]\",AK80))","v":""},""," ",{"$f":"IF(ISBLANK(Datas!$C$41),\"\",\" - \"&AT80)","v":" - [color=red][b]Tréguier[/b][/color]"},{"$f":"IF(ISBLANK(Datas!$C$42),\"\",\" - \"&AU80)","v":""},{"$f":"IF(ISBLANK(Datas!$C$43),\"\",\" - \"&AV80)","v":" - PR:"},{"$f":"IF(ISBLANK(Datas!$C$44),\"\",\" - \"&AW80)","v":" - Ecus: "},{"$f":"IF(ISBLANK(Datas!$C$45),\"\",\" - \"&AX80)","v":" - Niv: "}," ","[b][color=blue]0[/color][/b]","[color=red][b]Tréguier[/b][/color]","Comté du Languedoc","PR:","Ecus: ","Niv: ",null,null,null,null,0,{"$f":"VLOOKUP(BC80,LstVillage!$B$8:$C$283,1)","v":{"$error":"#N/A"}},{"$f":"1","v":1},"blue","Tréguier",{"$f":"VLOOKUP(BG80,Datas!$G$6:$G$17,1)","v":"Nîmes"},0,"red",null,"Comté du Languedoc",0,0,null,{"$f":"VLOOKUP(BC80,Liste_Noire!$B$15:$G$1208,1)","v":{"$error":"#N/A"}},{"$f":"VLOOKUP(BC80,Liste_Noire!$B$15:$G$1208,5)","v":{"$error":"#N/A"}},{"$error":"#N/A"},null,0,0,0,0,0,0,0]
[null,""," ","","","","",null,null,null,null,null,null,null,null,null,null,null,null," ",null,"",0,0,0,0,0,0,0,0,0,0,null,0,null,{"$f":"IF(AK81=\"\",\"\",IF(BR81=1,\"[b][color=red]\"&Datas!$D$32&\"[/color][/b]\"&AK81&\"[b][color=red]\"&Datas!$D$33&\"{\"&BQ81&\"}[/color][/b]\",AK81))","v":""},""," ",{"$f":"IF(ISBLANK(Datas!$C$41),\"\",\" - \"&AT81)","v":" - [color=red][b]Tréguier[/b][/color]"},{"$f":"IF(ISBLANK(Datas!$C$42),\"\",\" - \"&AU81)","v":""},{"$f":"IF(ISBLANK(Datas!$C$43),\"\",\" - \"&AV81)","v":" - PR:"},{"$f":"IF(ISBLANK(Datas!$C$44),\"\",\" - \"&AW81)","v":" - Ecus: "},{"$f":"IF(ISBLANK(Datas!$C$45),\"\",\" - \"&AX81)","v":" - Niv: "}," ","[b][color=blue]0[/color][/b]","[color=red][b]Tréguier[/b][/color]","Comté du Languedoc","PR:","Ecus: ","Niv: ",null,null,null,null,0,{"$f":"VLOOKUP(BC81,LstVillage!$B$8:$C$283,1)","v":{"$error":"#N/A"}},{"$f":"1","v":1},"blue","Tréguier",{"$f":"VLOOKUP(BG81,Datas!$G$6:$G$17,1)","v":"Nîmes"},0,"red",null,"Comté du Languedoc",0,0,null,{"$f":"VLOOKUP(BC81,Liste_Noire!$B$15:$G$1208,1)","v":{"$error":"#N/A"}},{"$f":"VLOOKUP(BC81,Liste_Noire!$B$15:$G$1208,5)","v":{"$error":"#N/A"}},{"$error":"#N/A"},null,0,0,0,0,0,0,0]
[null,""," ","","","","",null,null,null,null,null,null,null,null,null,null,null,null," ",null,"",0,0,0,0,0,0,0,0,0,0,null,0,null,{"$f":"IF(AK82=\"\",\"\",IF(BR82=1,\"[b][color=red]\"&Datas!$D$32&\"[/color][/b]\"&AK82&\"[b][color=red]\"&Datas!$D$33&\"{\"&BQ82&\"}[/color][/b]\",AK82))","v":""},""," ",{"$f":"IF(ISBLANK(Datas!$C$41),\"\",\" - \"&AT82)","v":" - [color=red][b]Tréguier[/b][/color]"},{"$f":"IF(ISBLANK(Datas!$C$42),\"\",\" - \"&AU82)","v":""},{"$f":"IF(ISBLANK(Datas!$C$43),\"\",\" - \"&AV82)","v":" - PR:"},{"$f":"IF(ISBLANK(Datas!$C$44),\"\",\" - \"&AW82)","v":" - Ecus: "},{"$f":"IF(ISBLANK(Datas!$C$45),\"\",\" - \"&AX82)","v":" - Niv: "}," ","[b][color=blue]0[/color][/b]","[color=red][b]Tréguier[/b][/color]","Comté du Languedoc","PR:","Ecus: ","Niv: ",null,null,null,null,0,{"$f":"VLOOKUP(BC82,LstVillage!$B$8:$C$283,1)","v":{"$error":"#N/A"}},{"$f":"1","v":1},"blue","Tréguier",{"$f":"VLOOKUP(BG82,Datas!$G$6:$G$17,1)","v":"Nîmes"},0,"red",null,"Comté du Languedoc",0,0,null,{"$f":"VLOOKUP(BC82,Liste_Noire!$B$15:$G$1208,1)","v":{"$error":"#N/A"}},{"$f":"VLOOKUP(BC82,Liste_Noire!$B$15:$G$1208,5)","v":{"$error":"#N/A"}},{"$error":"#N/A"},null,0,0,0,0,0,0,0]
[null,""," ","","","","",null,null,null,null,null,null,null,null,null,null,null,null," ",null,"",0,0,0,0,0,0,0,0,0,0,null,0,null,{"$f":"IF(AK83=\"\",\"\",IF(BR83=1,\"[b][color=red]\"&Datas!$D$32&\"[/color][/b]\"&AK83&\"[b][color=red]\"&Datas!$D$33&\"{\"&BQ83&\"}[/color][/b]\",AK83))","v":""},""," ",{"$f":"IF(ISBLANK(Datas!$C$41),\"\",\" - \"&AT83)","v":" - [color=red][b]Tréguier[/b][/color]"},{"$f":"IF(ISBLANK(Datas!$C$42),\"\",\" - \"&AU83)","v":""},{"$f":"IF(ISBLANK(Datas!$C$43),\"\",\" - \"&AV83)","v":" - PR:"},{"$f":"IF(ISBLANK(Datas!$C$44),\"\",\" - \"&AW83)","v":" - Ecus: "},{"$f":"IF(ISBLANK(Datas!$C$45),\"\",\" - \"&AX83)","v":" - Niv: "}," ","[b][color=blue]0[/color][/b]","[color=red][b]Tréguier[/b][/color]","Comté du Languedoc","PR:","Ecus: ","Niv: ",null,null,null,null,0,{"$f":"VLOOKUP(BC83,LstVillage!$B$8:$C$283,1)","v":{"$error":"#N/A"}},{"$f":"1","v":1},"blue","Tréguier",{"$f":"VLOOKUP(BG83,Datas!$G$6:$G$17,1)","v":"Nîmes"},0,"red",null,"Comté du Languedoc",0,0,null,{"$f":"VLOOKUP(BC83,Liste_Noire!$B$15:$G$1208,1)","v":{"$error":"#N/A"}},{"$f":"VLOOKUP(BC83,Liste_Noire!$B$15:$G$1208,5)","v":{"$error":"#N/A"}},{"$error":"#N/A"},null,0,0,0,0,0,0,0]
[null,""," ","","","","",null,null,null,null,null,null,null,null,null,null,null,null," ",null,"",0,0,0,0,0,0,0,0,0,0,null,0,null,{"$f":"IF(AK84=\"\",\"\",IF(BR84=1,\"[b][color=red]\"&Datas!$D$32&\"[/color][/b]\"&AK84&\"[b][color=red]\"&Datas!$D$33&\"{\"&BQ84&\"}[/color][/b]\",AK84))","v":""},""," ",{"$f":"IF(ISBLANK(Datas!$C$41),\"\",\" - \"&AT84)","v":" - [color=red][b]Tréguier[/b][/color]"},{"$f":"IF(ISBLANK(Datas!$C$42),\"\",\" - \"&AU84)","v":""},{"$f":"IF(ISBLANK(Datas!$C$43),\"\",\" - \"&AV84)","v":" - PR:"},{"$f":"IF(ISBLANK(Datas!$C$44),\"\",\" - \"&AW84)","v":" - Ecus: "},{"$f":"IF(ISBLANK(Datas!$C$45),\"\",\" - \"&AX84)","v":" - Niv: "}," ","[b][color=blue]0[/color][/b]","[color=red][b]Tréguier[/b][/color]","Comté du Languedoc","PR:","Ecus: ","Niv: ",null,null,null,null,0,{"$f":"VLOOKUP(BC84,LstVillage!$B$8:$C$283,1)","v":{"$error":"#N/A"}},{"$f":"1","v":1},"blue","Tréguier",{"$f":"VLOOKUP(BG84,Datas!$G$6:$G$17,1)","v":"Nîmes"},0,"red",null,"Comté du Languedoc",0,0,null,{"$f":"VLOOKUP(BC84,Liste_Noire!$B$15:$G$1208,1)","v":{"$error":"#N/A"}},{"$f":"VLOOKUP(BC84,Liste_Noire!$B$15:$G$1208,5)","v":{"$error":"#N/A"}},{"$error":"#N/A"},null,0,0,0,0,0,0,0]
[null,""," ","","","","",null,null,null,null,null,null,null,null,null,null,null,null," ",null,"",0,0,0,0,0,0,0,0,0,0,null,0,null,{"$f":"IF(AK85=\"\",\"\",IF(BR85=1,\"[b][color=red]\"&Datas!$D$32&\"[/color][/b]\"&AK85&\"[b][color=red]\"&Datas!$D$33&\"{\"&BQ85&\"}[/color][/b]\",AK85))","v":""},""," ",{"$f":"IF(ISBLANK(Datas!$C$41),\"\",\" - \"&AT85)","v":" - [color=red][b]Tréguier[/b][/color]"},{"$f":"IF(ISBLANK(Datas!$C$42),\"\",\" - \"&AU85)","v":""},{"$f":"IF(ISBLANK(Datas!$C$43),\"\",\" - \"&AV85)","v":" - PR:"},{"$f":"IF(ISBLANK(Datas!$C$44),\"\",\" - \"&AW85)","v":" - Ecus: "},{"$f":"IF(ISBLANK(Datas!$C$45),\"\",\" - \"&AX85)","v":" - Niv: "}," ","[b][color=blue]0[/color][/b]","[color=red][b]Tréguier[/b][/color]","Comté du Languedoc","PR:","Ecus: ","Niv: ",null,null,null,null,0,{"$f":"VLOOKUP(BC85,LstVillage!$B$8:$C$283,1)","v":{"$error":"#N/A"}},{"$f":"1","v":1},"blue","Tréguier",{"$f":"VLOOKUP(BG85,Datas!$G$6:$G$17,1)","v":"Nîmes"},0,"red",null,"Comté du Languedoc",0,0,null,{"$f":"VLOOKUP(BC85,Liste_Noire!$B$15:$G$1208,1)","v":{"$error":"#N/A"}},{"$f":"VLOOKUP(BC85,Liste_Noire!$B$15:$G$1208,5)","v":{"$error":"#N/A"}},{"$error":"#N/A"},null,0,0,0,0,0,0,0]
[null,""," ","","","","",null,null,null,null,null,null,null,null,null,null,null,null," ",null,"",0,0,0,0,0,0,0,0,0,0,null,0,null,{"$f":"IF(AK86=\"\",\"\",IF(BR86=1,\"[b][color=red]\"&Datas!$D$32&\"[/color][/b]\"&AK86&\"[b][color=red]\"&Datas!$D$33&\"{\"&BQ86&\"}[/color][/b]\",AK86))","v":""},""," ",{"$f":"IF(ISBLANK(Datas!$C$41),\"\",\" - \"&AT86)","v":" - [color=red][b]Tréguier[/b][/color]"},{"$f":"IF(ISBLANK(Datas!$C$42),\"\",\" - \"&AU86)","v":""},{"$f":"IF(ISBLANK(Datas!$C$43),\"\",\" - \"&AV86)","v":" - PR:"},{"$f":"IF(ISBLANK(Datas!$C$44),\"\",\" - \"&AW86)","v":" - Ecus: "},{"$f":"IF(ISBLANK(Datas!$C$45),\"\",\" - \"&AX86)","v":" - Niv: "}," ","[b][color=blue]0[/color][/b]","[color=red][b]Tréguier[/b][/color]","Comté du Languedoc","PR:","Ecus: ","Niv: ",null,null,null,null,0,{"$f":"VLOOKUP(BC86,LstVillage!$B$8:$C$283,1)","v":{"$error":"#N/A"}},{"$f":"1","v":1},"blue","Tréguier",{"$f":"VLOOKUP(BG86,Datas!$G$6:$G$17,1)","v":"Nîmes"},0,"red",null,"Comté du Languedoc",0,0,null,{"$f":"VLOOKUP(BC86,Liste_Noire!$B$15:$G$1208,1)","v":{"$error":"#N/A"}},{"$f":"VLOOKUP(BC86,Liste_Noire!$B$15:$G$1208,5)","v":{"$error":"#N/A"}},{"$error":"#N/A"},null,0,0,0,0,0,0,0]
[null,""," ","","","","",null,null,null,null,null,null,null,null,null,null,null,null," ",null,"",0,0,0,0,0,0,0,0,0,0,null,0,null,{"$f":"IF(AK87=\"\",\"\",IF(BR87=1,\"[b][color=red]\"&Datas!$D$32&\"[/color][/b]\"&AK87&\"[b][color=red]\"&Datas!$D$33&\"{\"&BQ87&\"}[/color][/b]\",AK87))","v":""},""," ",{"$f":"IF(ISBLANK(Datas!$C$41),\"\",\" - \"&AT87)","v":" - [color=red][b]Tréguier[/b][/color]"},{"$f":"IF(ISBLANK(Datas!$C$42),\"\",\" - \"&AU87)","v":""},{"$f":"IF(ISBLANK(Datas!$C$43),\"\",\" - \"&AV87)","v":" - PR:"},{"$f":"IF(ISBLANK(Datas!$C$44),\"\",\" - \"&AW87)","v":" - Ecus: "},{"$f":"IF(ISBLANK(Datas!$C$45),\"\",\" - \"&AX87)","v":" - Niv: "}," ","[b][color=blue]0[/color][/b]","[color=red][b]Tréguier[/b][/color]","Comté du Languedoc","PR:","Ecus: ","Niv: ",null,null,null,null,0,{"$f":"VLOOKUP(BC87,LstVillage!$B$8:$C$283,1)","v":{"$error":"#N/A"}},{"$f":"1","v":1},"blue","Tréguier",{"$f":"VLOOKUP(BG87,Datas!$G$6:$G$17,1)","v":"Nîmes"},0,"red",null,"Comté du Languedoc",0,0,null,{"$f":"VLOOKUP(BC87,Liste_Noire!$B$15:$G$1208,1)","v":{"$error":"#N/A"}},{"$f":"VLOOKUP(BC87,Liste_Noire!$B$15:$G$1208,5)","v":{"$error":"#N/A"}},{"$error":"#N/A"},null,0,0,0,0,0,0,0]
[null,""," ","","","","",null,null,null,null,null,null,null,null,null,null,null,null," ",null,"",0,0,0,0,0,0,0,0,0,0,null,0,null,{"$f":"IF(AK88=\"\",\"\",IF(BR88=1,\"[b][color=red]\"&Datas!$D$32&\"[/color][/b]\"&AK88&\"[b][color=red]\"&Datas!$D$33&\"{\"&BQ88&\"}[/color][/b]\",AK88))","v":""},""," ",{"$f":"IF(ISBLANK(Datas!$C$41),\"\",\" - \"&AT88)","v":" - [color=red][b]Tréguier[/b][/color]"},{"$f":"IF(ISBLANK(Datas!$C$42),\"\",\" - \"&AU88)","v":""},{"$f":"IF(ISBLANK(Datas!$C$43),\"\",\" - \"&AV88)","v":" - PR:"},{"$f":"IF(ISBLANK(Datas!$C$44),\"\",\" - \"&AW88)","v":" - Ecus: "},{"$f":"IF(ISBLANK(Datas!$C$45),\"\",\" - \"&AX88)","v":" - Niv: "}," ","[b][color=blue]0[/color][/b]","[color=red][b]Tréguier[/b][/color]","Comté du Languedoc","PR:","Ecus: ","Niv: ",null,null,null,null,0,{"$f":"VLOOKUP(BC88,LstVillage!$B$8:$C$283,1)","v":{"$error":"#N/A"}},{"$f":"1","v":1},"blue","Tréguier",{"$f":"VLOOKUP(BG88,Datas!$G$6:$G$17,1)","v":"Nîmes"},0,"red",null,"Comté du Languedoc",0,0,null,{"$f":"VLOOKUP(BC88,Liste_Noire!$B$15:$G$1208,1)","v":{"$error":"#N/A"}},{"$f":"VLOOKUP(BC88,Liste_Noire!$B$15:$G$1208,5)","v":{"$error":"#N/A"}},{"$error":"#N/A"},null,0,0,0,0,0,0,0]
[null,""," ","","","","",null,null,null,null,null,null,null,null,null,null,null,null," ",null,"",0,0,0,0,0,0,0,0,0,0,null,0,null,{"$f":"IF(AK89=\"\",\"\",IF(BR89=1,\"[b][color=red]\"&Datas!$D$32&\"[/color][/b]\"&AK89&\"[b][color=red]\"&Datas!$D$33&\"{\"&BQ89&\"}[/color][/b]\",AK89))","v":""},""," ",{"$f":"IF(ISBLANK(Datas!$C$41),\"\",\" - \"&AT89)","v":" - [color=red][b]Tréguier[/b][/color]"},{"$f":"IF(ISBLANK(Datas!$C$42),\"\",\" - \"&AU89)","v":""},{"$f":"IF(ISBLANK(Datas!$C$43),\"\",\" - \"&AV89)","v":" - PR:"},{"$f":"IF(ISBLANK(Datas!$C$44),\"\",\" - \"&AW89)","v":" - Ecus: "},{"$f":"IF(ISBLANK(Datas!$C$45),\"\",\" - \"&AX89)","v":" - Niv: "}," ","[b][color=blue]0[/color][/b]","[color=red][b]Tréguier[/b][/color]","Comté du Languedoc","PR:","Ecus: ","Niv: ",null,null,null,null,0,{"$f":"VLOOKUP(BC89,LstVillage!$B$8:$C$283,1)","v":{"$error":"#N/A"}},{"$f":"1","v":1},"blue","Tréguier",{"$f":"VLOOKUP(BG89,Datas!$G$6:$G$17,1)","v":"Nîmes"},0,"red",null,"Comté du Languedoc",0,0,null,{"$f":"VLOOKUP(BC89,Liste_Noire!$B$15:$G$1208,1)","v":{"$error":"#N/A"}},{"$f":"VLOOKUP(BC89,Liste_Noire!$B$15:$G$1208,5)","v":{"$error":"#N/A"}},{"$error":"#N/A"},null,0,0,0,0,0,0,0]
[null,""," ","","","","",null,null,null,null,null,null,null,null,null,null,null,null," ",null,"",0,0,0,0,0,0,0,0,0,0,null,0,null,{"$f":"IF(AK90=\"\",\"\",IF(BR90=1,\"[b][color=red]\"&Datas!$D$32&\"[/color][/b]\"&AK90&\"[b][color=red]\"&Datas!$D$33&\"{\"&BQ90&\"}[/color][/b]\",AK90))","v":""},""," ",{"$f":"IF(ISBLANK(Datas!$C$41),\"\",\" - \"&AT90)","v":" - [color=red][b]Tréguier[/b][/color]"},{"$f":"IF(ISBLANK(Datas!$C$42),\"\",\" - \"&AU90)","v":""},{"$f":"IF(ISBLANK(Datas!$C$43),\"\",\" - \"&AV90)","v":" - PR:"},{"$f":"IF(ISBLANK(Datas!$C$44),\"\",\" - \"&AW90)","v":" - Ecus: "},{"$f":"IF(ISBLANK(Datas!$C$45),\"\",\" - \"&AX90)","v":" - Niv: "}," ","[b][color=blue]0[/color][/b]","[color=red][b]Tréguier[/b][/color]","Comté du Languedoc","PR:","Ecus: ","Niv: ",null,null,null,null,0,{"$f":"VLOOKUP(BC90,LstVillage!$B$8:$C$283,1)","v":{"$error":"#N/A"}},{"$f":"1","v":1},"blue","Tréguier",{"$f":"VLOOKUP(BG90,Datas!$G$6:$G$17,1)","v":"Nîmes"},0,"red",null,"Comté du Languedoc",0,0,null,{"$f":"VLOOKUP(BC90,Liste_Noire!$B$15:$G$1208,1)","v":{"$error":"#N/A"}},{"$f":"VLOOKUP(BC90,Liste_Noire!$B$15:$G$1208,5)","v":{"$error":"#N/A"}},{"$error":"#N/A"},null,0,0,0,0,0,0,0]
[null,""," ","","","","",null,null,null,null,null,null,null,null,null,null,null,null," ",null,"",0,0,0,0,0,0,0,0,0,0,null,0,null,{"$f":"IF(AK91=\"\",\"\",IF(BR91=1,\"[b][color=red]\"&Datas!$D$32&\"[/color][/b]\"&AK91&\"[b][color=red]\"&Datas!$D$33&\"{\"&BQ91&\"}[/color][/b]\",AK91))","v":""},""," ",{"$f":"IF(ISBLANK(Datas!$C$41),\"\",\" - \"&AT91)","v":" - [color=red][b]Tréguier[/b][/color]"},{"$f":"IF(ISBLANK(Datas!$C$42),\"\",\" - \"&AU91)","v":""},{"$f":"IF(ISBLANK(Datas!$C$43),\"\",\" - \"&AV91)","v":" - PR:"},{"$f":"IF(ISBLANK(Datas!$C$44),\"\",\" - \"&AW91)","v":" - Ecus: "},{"$f":"IF(ISBLANK(Datas!$C$45),\"\",\" - \"&AX91)","v":" - Niv: "}," ","[b][color=blue]0[/color][/b]","[color=red][b]Tréguier[/b][/color]","Comté du Languedoc","PR:","Ecus: ","Niv: ",null,null,null,null,0,{"$f":"VLOOKUP(BC91,LstVillage!$B$8:$C$283,1)","v":{"$error":"#N/A"}},{"$f":"1","v":1},"blue","Tréguier",{"$f":"VLOOKUP(BG91,Datas!$G$6:$G$17,1)","v":"Nîmes"},0,"red",null,"Comté du Languedoc",0,0,null,{"$f":"VLOOKUP(BC91,Liste_Noire!$B$15:$G$1208,1)","v":{"$error":"#N/A"}},{"$f":"VLOOKUP(BC91,Liste_Noire!$B$15:$G$1208,5)","v":{"$error":"#N/A"}},{"$error":"#N/A"},null,0,0,0,0,0,0,0]
[null,""," ","","","","",null,null,null,null,null,null,null,null,null,null,null,null," ",null,"",0,0,0,0,0,0,0,0,0,0,null,0,null,{"$f":"IF(AK92=\"\",\"\",IF(BR92=1,\"[b][color=red]\"&Datas!$D$32&\"[/color][/b]\"&AK92&\"[b][color=red]\"&Datas!$D$33&\"{\"&BQ92&\"}[/color][/b]\",AK92))","v":""},""," ",{"$f":"IF(ISBLANK(Datas!$C$41),\"\",\" - \"&AT92)","v":" - [color=red][b]Tréguier[/b][/color]"},{"$f":"IF(ISBLANK(Datas!$C$42),\"\",\" - \"&AU92)","v":""},{"$f":"IF(ISBLANK(Datas!$C$43),\"\",\" - \"&AV92)","v":" - PR:"},{"$f":"IF(ISBLANK(Datas!$C$44),\"\",\" - \"&AW92)","v":" - Ecus: "},{"$f":"IF(ISBLANK(Datas!$C$45),\"\",\" - \"&AX92)","v":" - Niv: "}," ","[b][color=blue]0[/color][/b]","[color=red][b]Tréguier[/b][/color]","Comté du Languedoc","PR:","Ecus: ","Niv: ",null,null,null,null,0,{"$f":"VLOOKUP(BC92,LstVillage!$B$8:$C$283,1)","v":{"$error":"#N/A"}},{"$f":"1","v":1},"blue","Tréguier",{"$f":"VLOOKUP(BG92,Datas!$G$6:$G$17,1)","v":"Nîmes"},0,"red",null,"Comté du Languedoc",0,0,null,{"$f":"VLOOKUP(BC92,Liste_Noire!$B$15:$G$1208,1)","v":{"$error":"#N/A"}},{"$f":"VLOOKUP(BC92,Liste_Noire!$B$15:$G$1208,5)","v":{"$error":"#N/A"}},{"$error":"#N/A"},null,0,0,0,0,0,0,0]
[null,""," ","","","","",null,null,null,null,null,null,null,null,null,null,null,null," ",null,"",0,0,0,0,0,0,0,0,0,0,null,0,null,{"$f":"IF(AK93=\"\",\"\",IF(BR93=1,\"[b][color=red]\"&Datas!$D$32&\"[/color][/b]\"&AK93&\"[b][color=red]\"&Datas!$D$33&\"{\"&BQ93&\"}[/color][/b]\",AK93))","v":""},""," ",{"$f":"IF(ISBLANK(Datas!$C$41),\"\",\" - \"&AT93)","v":" - [color=red][b]Tréguier[/b][/color]"},{"$f":"IF(ISBLANK(Datas!$C$42),\"\",\" - \"&AU93)","v":""},{"$f":"IF(ISBLANK(Datas!$C$43),\"\",\" - \"&AV93)","v":" - PR:"},{"$f":"IF(ISBLANK(Datas!$C$44),\"\",\" - \"&AW93)","v":" - Ecus: "},{"$f":"IF(ISBLANK(Datas!$C$45),\"\",\" - \"&AX93)","v":" - Niv: "}," ","[b][color=blue]0[/color][/b]","[color=red][b]Tréguier[/b][/color]","Comté du Languedoc","PR:","Ecus: ","Niv: ",null,null,null,null,0,{"$f":"VLOOKUP(BC93,LstVillage!$B$8:$C$283,1)","v":{"$error":"#N/A"}},{"$f":"1","v":1},"blue","Tréguier",{"$f":"VLOOKUP(BG93,Datas!$G$6:$G$17,1)","v":"Nîmes"},0,"red",null,"Comté du Languedoc",0,0,null,{"$f":"VLOOKUP(BC93,Liste_Noire!$B$15:$G$1208,1)","v":{"$error":"#N/A"}},{"$f":"VLOOKUP(BC93,Liste_Noire!$B$15:$G$1208,5)","v":{"$error":"#N/A"}},{"$error":"#N/A"},null,0,0,0,0,0,0,0]
[null,""," ","","","","",null,null,null,null,null,null,null,null,null,null,null,null," ",null,"",0,0,0,0,0,0,0,0,0,0,null,0,null,{"$f":"IF(AK94=\"\",\"\",IF(BR94=1,\"[b][color=red]\"&Datas!$D$32&\"[/color][/b]\"&AK94&\"[b][color=red]\"&Datas!$D$33&\"{\"&BQ94&\"}[/color][/b]\",AK94))","v":""},""," ",{"$f":"IF(ISBLANK(Datas!$C$41),\"\",\" - \"&AT94)","v":" - [color=red][b]Tréguier[/b][/color]"},{"$f":"IF(ISBLANK(Datas!$C$42),\"\",\" - \"&AU94)","v":""},{"$f":"IF(ISBLANK(Datas!$C$43),\"\",\" - \"&AV94)","v":" - PR:"},{"$f":"IF(ISBLANK(Datas!$C$44),\"\",\" - \"&AW94)","v":" - Ecus: "},{"$f":"IF(ISBLANK(Datas!$C$45),\"\",\" - \"&AX94)","v":" - Niv: "}," ","[b][color=blue]0[/color][/b]","[color=red][b]Tréguier[/b][/color]","Comté du Languedoc","PR:","Ecus: ","Niv: ",null,null,null,null,0,{"$f":"VLOOKUP(BC94,LstVillage!$B$8:$C$283,1)","v":{"$error":"#N/A"}},{"$f":"1","v":1},"blue","Tréguier",{"$f":"VLOOKUP(BG94,Datas!$G$6:$G$17,1)","v":"Nîmes"},0,"red",null,"Comté du Languedoc",0,0,null,{"$f":"VLOOKUP(BC94,Liste_Noire!$B$15:$G$1208,1)","v":{"$error":"#N/A"}},{"$f":"VLOOKUP(BC94,Liste_Noire!$B$15:$G$1208,5)","v":{"$error":"#N/A"}},{"$error":"#N/A"},null,0,0,0,0,0,0,0]
[null,""," ","","","","",null,null,null,null,null,null,null,null,null,null,null,null," ",null,"",0,0,0,0,0,0,0,0,0,0,null,0,null,{"$f":"IF(AK95=\"\",\"\",IF(BR95=1,\"[b][color=red]\"&Datas!$D$32&\"[/color][/b]\"&AK95&\"[b][color=red]\"&Datas!$D$33&\"{\"&BQ95&\"}[/color][/b]\",AK95))","v":""},""," ",{"$f":"IF(ISBLANK(Datas!$C$41),\"\",\" - \"&AT95)","v":" - [color=red][b]Tréguier[/b][/color]"},{"$f":"IF(ISBLANK(Datas!$C$42),\"\",\" - \"&AU95)","v":""},{"$f":"IF(ISBLANK(Datas!$C$43),\"\",\" - \"&AV95)","v":" - PR:"},{"$f":"IF(ISBLANK(Datas!$C$44),\"\",\" - \"&AW95)","v":" - Ecus: "},{"$f":"IF(ISBLANK(Datas!$C$45),\"\",\" - \"&AX95)","v":" - Niv: "}," ","[b][color=blue]0[/color][/b]","[color=red][b]Tréguier[/b][/color]","Comté du Languedoc","PR:","Ecus: ","Niv: ",null,null,null,null,0,{"$f":"VLOOKUP(BC95,LstVillage!$B$8:$C$283,1)","v":{"$error":"#N/A"}},{"$f":"1","v":1},"blue","Tréguier",{"$f":"VLOOKUP(BG95,Datas!$G$6:$G$17,1)","v":"Nîmes"},0,"red",null,"Comté du Languedoc",0,0,null,{"$f":"VLOOKUP(BC95,Liste_Noire!$B$15:$G$1208,1)","v":{"$error":"#N/A"}},{"$f":"VLOOKUP(BC95,Liste_Noire!$B$15:$G$1208,5)","v":{"$error":"#N/A"}},{"$error":"#N/A"},null,0,0,0,0,0,0,0]
[null,""," ","","","","",null,null,null,null,null,null,null,null,null,null,null,null," ",null,"",0,0,0,0,0,0,0,0,0,0,null,0,null,{"$f":"IF(AK96=\"\",\"\",IF(BR96=1,\"[b][color=red]\"&Datas!$D$32&\"[/color][/b]\"&AK96&\"[b][color=red]\"&Datas!$D$33&\"{\"&BQ96&\"}[/color][/b]\",AK96))","v":""},""," ",{"$f":"IF(ISBLANK(Datas!$C$41),\"\",\" - \"&AT96)","v":" - [color=red][b]Tréguier[/b][/color]"},{"$f":"IF(ISBLANK(Datas!$C$42),\"\",\" - \"&AU96)","v":""},{"$f":"IF(ISBLANK(Datas!$C$43),\"\",\" - \"&AV96)","v":" - PR:"},{"$f":"IF(ISBLANK(Datas!$C$44),\"\",\" - \"&AW96)","v":" - Ecus: "},{"$f":"IF(ISBLANK(Datas!$C$45),\"\",\" - \"&AX96)","v":" - Niv: "}," ","[b][color=blue]0[/color][/b]","[color=red][b]Tréguier[/b][/color]","Comté du Languedoc","PR:","Ecus: ","Niv: ",null,null,null,null,0,{"$f":"VLOOKUP(BC96,LstVillage!$B$8:$C$283,1)","v":{"$error":"#N/A"}},{"$f":"1","v":1},"blue","Tréguier",{"$f":"VLOOKUP(BG96,Datas!$G$6:$G$17,1)","v":"Nîmes"},0,"red",null,"Comté du Languedoc",0,0,null,{"$f":"VLOOKUP(BC96,Liste_Noire!$B$15:$G$1208,1)","v":{"$error":"#N/A"}},{"$f":"VLOOKUP(BC96,Liste_Noire!$B$15:$G$1208,5)","v":{"$error":"#N/A"}},{"$error":"#N/A"},null,0,0,0,0,0,0,0]
[null,""," ","","","","",null,null,null,null,null,null,null,null,null,null,null,null," ",null,"",0,0,0,0,0,0,0,0,0,0,null,0,null,{"$f":"IF(AK97=\"\",\"\",IF(BR97=1,\"[b][color=red]\"&Datas!$D$32&\"[/color][/b]\"&AK97&\"[b][color=red]\"&Datas!$D$33&\"{\"&BQ97&\"}[/color][/b]\",AK97))","v":""},""," ",{"$f":"IF(ISBLANK(Datas!$C$41),\"\",\" - \"&AT97)","v":" - [color=red][b]Tréguier[/b][/color]"},{"$f":"IF(ISBLANK(Datas!$C$42),\"\",\" - \"&AU97)","v":""},{"$f":"IF(ISBLANK(Datas!$C$43),\"\",\" - \"&AV97)","v":" - PR:"},{"$f":"IF(ISBLANK(Datas!$C$44),\"\",\" - \"&AW97)","v":" - Ecus: "},{"$f":"IF(ISBLANK(Datas!$C$45),\"\",\" - \"&AX97)","v":" - Niv: "}," ","[b][color=blue]0[/color][/b]","[color=red][b]Tréguier[/b][/color]","Comté du Languedoc","PR:","Ecus: ","Niv: ",null,null,null,null,0,{"$f":"VLOOKUP(BC97,LstVillage!$B$8:$C$283,1)","v":{"$error":"#N/A"}},{"$f":"1","v":1},"blue","Tréguier",{"$f":"VLOOKUP(BG97,Datas!$G$6:$G$17,1)","v":"Nîmes"},0,"red",null,"Comté du Languedoc",0,0,null,{"$f":"VLOOKUP(BC97,Liste_Noire!$B$15:$G$1208,1)","v":{"$error":"#N/A"}},{"$f":"VLOOKUP(BC97,Liste_Noire!$B$15:$G$1208,5)","v":{"$error":"#N/A"}},{"$error":"#N/A"},null,0,0,0,0,0,0,0]
[null,""," ","","","","",null,null,null,null,null,null,null,null,null,null,null,null," ",null,"",0,0,0,0,0,0,0,0,0,0,null,0,null,{"$f":"IF(AK98=\"\",\"\",IF(BR98=1,\"[b][color=red]\"&Datas!$D$32&\"[/color][/b]\"&AK98&\"[b][color=red]\"&Datas!$D$33&\"{\"&BQ98&\"}[/color][/b]\",AK98))","v":""},""," ",{"$f":"IF(ISBLANK(Datas!$C$41),\"\",\" - \"&AT98)","v":" - [color=red][b]Tréguier[/b][/color]"},{"$f":"IF(ISBLANK(Datas!$C$42),\"\",\" - \"&AU98)","v":""},{"$f":"IF(ISBLANK(Datas!$C$43),\"\",\" - \"&AV98)","v":" - PR:"},{"$f":"IF(ISBLANK(Datas!$C$44),\"\",\" - \"&AW98)","v":" - Ecus: "},{"$f":"IF(ISBLANK(Datas!$C$45),\"\",\" - \"&AX98)","v":" - Niv: "}," ","[b][color=blue]0[/color][/b]","[color=red][b]Tréguier[/b][/color]","Comté du Languedoc","PR:","Ecus: ","Niv: ",null,null,null,null,0,{"$f":"VLOOKUP(BC98,LstVillage!$B$8:$C$283,1)","v":{"$error":"#N/A"}},{"$f":"1","v":1},"blue","Tréguier",{"$f":"VLOOKUP(BG98,Datas!$G$6:$G$17,1)","v":"Nîmes"},0,"red",null,"Comté du Languedoc",0,0,null,{"$f":"VLOOKUP(BC98,Liste_Noire!$B$15:$G$1208,1)","v":{"$error":"#N/A"}},{"$f":"VLOOKUP(BC98,Liste_Noire!$B$15:$G$1208,5)","v":{"$error":"#N/A"}},{"$error":"#N/A"},null,0,0,0,0,0,0,0]
[null,{"$f":"IF(BM99,\"[strike]\"&AJ99&\"[/strike]\",IF(BN99,\"[i]\"&AJ99&\"[/i]\",AJ99))","v":""}," ",{"$f":"IF(J99=\"mort\",\"M\",\"\")","v":""},{"$f":"IF(ISERROR(BR99),\"\",IF(BR99=1,\"LN\",\"\"))","v":""},{"$f":"IF(J99=\"retraite\",\"R\",\"\")","v":""},{"$f":"IF(ISBLANK(V99),\"\",V99)","v":""},null,null,null,null,null,null,null,null,null,null,null,null," ",null,{"$f":"IF(OR(ISBLANK(R99),TRIM(R99)=\"\"),IF(ISBLANK($I99),\"\",$V$11),IF(OR($F99=$AA$11,$D99=$AC$11),$V$11,IF(R99=\"a/d\",\"\",R99)))","v":""},{"$f":"IF($V99=W$11,1,0)","v":0},{"$f":"IF(AND(W99=1,$E99=X$11),1,0)","v":0},{"$f":"IF($V99=Y$11,1,0)","v":0},{"$f":"IF(AND(Y99=1,$E99=Z$11),1,0)","v":0},{"$f":"IF($F99=AA$11,1,0)","v":0},{"$f":"IF(AND(AA99=1,$E99=AB$11),1,0)","v":0},{"$f":"IF($D99=AC$11,1,0)","v":0},{"$f":"IF(AND(AC99=1,$E99=AD$11),1,0)","v":0},{"$f":"IF(AND($V99=AE$11,(AA99+AC99)=0),1,0)","v":0},{"$f":"IF(AND(AE99=1,$E99=AF$11),1,0)","v":0},null,{"$f":"IF(AND(ISBLANK(I99),ISBLANK(J99),ISBLANK(L99),ISBLANK(M99)),0,1)","v":0},null,{"$f":"IF(AK99=\"\",\"\",IF(BR99=1,\"[b][color=red]\"&Datas!$D$32&\"[/color][/b]\"&AK99&\"[b][color=red]\"&Datas!$D$33&\"{\"&BQ99&\"}[/color][/b]\",AK99))","v":""},{"$f":"IF(ISBLANK(I99),\"\",AS99&AM99&AN99&AO99&AP99&AQ99)","v":""}," ",{"$f":"IF(ISBLANK(Datas!$C$41),\"\",\" - \"&AT99)","v":" - [color=red][b]Tréguier[/b][/color]"},{"$f":"IF(ISBLANK(Datas!$C$42),\"\",\" - \"&AU99)","v":""},{"$f":"IF(ISBLANK(Datas!$C$43),\"\",\" - \"&AV99)","v":" - PR:"},{"$f":"IF(ISBLANK(Datas!$C$44),\"\",\" - \"&AW99)","v":" - Ecus: "},{"$f":"IF(ISBLANK(Datas!$C$45),\"\",\" - \"&AX99)","v":" - Niv: "}," ",{"$f":"\"[b][color=\"&BF99&\"]\"&BC99&\"[/color][/b]\"","v":"[b][color=blue]0[/color][/b]"},{"$f":"\"[color=\"&BJ99&\"][b]\"&BG99&\"[/b][/color]\"","v":"[color=red][b]Tréguier[/b][/color]"},{"$f":"$H$8","v":"Comté du Languedoc"},{"$f":"\"PR:\"&L99","v":"PR:"},{"$f":"\"Ecus: \"&M99","v":"Ecus: "},{"$f":"\"Niv: \"&K99","v":"Niv: "},null,null,null,null,{"$f":"I99","v":0},{"$f":"VLOOKUP(BC99,LstVillage!$B$8:$C$283,1)","v":{"$error":"#N/A"}},{"$f":"1","v":1},{"$f":"IF(BE99=1,$AT$2,IF(BI99=1,$AT$3,$AT$4))","v":"blue"},{"$f":"$B$8","v":"Tréguier"},{"$f":"VLOOKUP(BG99,Datas!$G$6:$G$17,1)","v":"Nîmes"},{"$f":"IF(BH99<>BG99,0,1)","v":0},{"$f":"IF(BI99=1,$AW$2,$AW$3)","v":"red"},null,{"$f":"$H$8","v":"Comté du Languedoc"},{"$f":"IF(F99=\"M\",1,0)","v":0},{"$f":"IF(F99=\"R\",1,0)","v":0},null,{"$f":"VLOOKUP(BC99,Liste_Noire!$B$15:$G$1208,1)","v":{"$error":"#N/A"}},{"$f":"VLOOKUP(BC99,Liste_Noire!$B$15:$G$1208,5)","v":{"$error":"#N/A"}},{"$f":"IF(ISERR(BP99),0,IF(BP99=BC99,1,0))","v":{"$error":"#N/A"}},null,{"$f":"IF(G99=\"a\",1,0)","v":0},{"$f":"IF(G99=\"d\",1,0)","v":0},{"$f":"IF(F99=\"R\",1,0)","v":0},{"$f":"IF(F99=\"M\",1,0)","v":0},0,0,{"$f":"IF(ISBLANK(I99),0,1)","v":0}]
[null,""," ","","","","",null,null,null,null,null,null,null,null,null,null,null,null," ",null,"",0,0,0,0,0,0,0,0,0,0,null,0,null,{"$f":"IF(AK100=\"\",\"\",IF(BR100=1,\"[b][color=red]\"&Datas!$D$32&\"[/color][/b]\"&AK100&\"[b][color=red]\"&Datas!$D$33&\"{\"&BQ100&\"}[/color][/b]\",AK100))","v":""},""," ",{"$f":"IF(ISBLANK(Datas!$C$41),\"\",\" - \"&AT100)","v":" - [color=red][b]Tréguier[/b][/color]"},{"$f":"IF(ISBLANK(Datas!$C$42),\"\",\" - \"&AU100)","v":""},{"$f":"IF(ISBLANK(Datas!$C$43),\"\",\" - \"&AV100)","v":" - PR:"},{"$f":"IF(ISBLANK(Datas!$C$44),\"\",\" - \"&AW100)","v":" - Ecus: "},{"$f":"IF(ISBLANK(Datas!$C$45),\"\",\" - \"&AX100)","v":" - Niv: "}," ","[b][color=blue]0[/color][/b]","[color=red][b]Tréguier[/b][/color]","Comté du Languedoc","PR:","Ecus: ","Niv: ",null,null,null,null,0,{"$f":"VLOOKUP(BC100,LstVillage!$B$8:$C$283,1)","v":{"$error":"#N/A"}},{"$f":"1","v":1},"blue","Tréguier",{"$f":"VLOOKUP(BG100,Datas!$G$6:$G$17,1)","v":"Nîmes"},0,"red",null,"Comté du Languedoc",0,0,null,{"$f":"VLOOKUP(BC100,Liste_Noire!$B$15:$G$1208,1)","v":{"$error":"#N/A"}},{"$f":"VLOOKUP(BC100,Liste_Noire!$B$15:$G$1208,5)","v":{"$error":"#N/A"}},{"$error":"#N/A"},null,0,0,0,0,0,0,0]
[null,""," ","","","","",null,null,null,null,null,null,null,null,null,null,null,null," ",null,"",0,0,0,0,0,0,0,0,0,0,null,0,null,{"$f":"IF(AK101=\"\",\"\",IF(BR101=1,\"[b][color=red]\"&Datas!$D$32&\"[/color][/b]\"&AK101&\"[b][color=red]\"&Datas!$D$33&\"{\"&BQ101&\"}[/color][/b]\",AK101))","v":""},""," ",{"$f":"IF(ISBLANK(Datas!$C$41),\"\",\" - \"&AT101)","v":" - [color=red][b]Tréguier[/b][/color]"},{"$f":"IF(ISBLANK(Datas!$C$42),\"\",\" - \"&AU101)","v":""},{"$f":"IF(ISBLANK(Datas!$C$43),\"\",\" - \"&AV101)","v":" - PR:"},{"$f":"IF(ISBLANK(Datas!$C$44),\"\",\" - \"&AW101)","v":" - Ecus: "},{"$f":"IF(ISBLANK(Datas!$C$45),\"\",\" - \"&AX101)","v":" - Niv: "}," ","[b][color=blue]0[/color][/b]","[color=red][b]Tréguier[/b][/color]","Comté du Languedoc","PR:","Ecus: ","Niv: ",null,null,null,null,0,{"$f":"VLOOKUP(BC101,LstVillage!$B$8:$C$283,1)","v":{"$error":"#N/A"}},{"$f":"1","v":1},"blue","Tréguier",{"$f":"VLOOKUP(BG101,Datas!$G$6:$G$17,1)","v":"Nîmes"},0,"red",null,"Comté du Languedoc",0,0,null,{"$f":"VLOOKUP(BC101,Liste_Noire!$B$15:$G$1208,1)","v":{"$error":"#N/A"}},{"$f":"VLOOKUP(BC101,Liste_Noire!$B$15:$G$1208,5)","v":{"$error":"#N/A"}},{"$error":"#N/A"},null,0,0,0,0,0,0,0]
[null,""," ","","","","",null,null,null,null,null,null,null,null,null,null,null,null," ",null,"",0,0,0,0,0,0,0,0,0,0,null,0,null,{"$f":"IF(AK102=\"\",\"\",IF(BR102=1,\"[b][color=red]\"&Datas!$D$32&\"[/color][/b]\"&AK102&\"[b][color=red]\"&Datas!$D$33&\"{\"&BQ102&\"}[/color][/b]\",AK102))","v":""},""," ",{"$f":"IF(ISBLANK(Datas!$C$41),\"\",\" - \"&AT102)","v":" - [color=red][b]Tréguier[/b][/color]"},{"$f":"IF(ISBLANK(Datas!$C$42),\"\",\" - \"&AU102)","v":""},{"$f":"IF(ISBLANK(Datas!$C$43),\"\",\" - \"&AV102)","v":" - PR:"},{"$f":"IF(ISBLANK(Datas!$C$44),\"\",\" - \"&AW102)","v":" - Ecus: "},{"$f":"IF(ISBLANK(Datas!$C$45),\"\",\" - \"&AX102)","v":" - Niv: "}," ","[b][color=blue]0[/color][/b]","[color=red][b]Tréguier[/b][/color]","Comté du Languedoc","PR:","Ecus: ","Niv: ",null,null,null,null,0,{"$f":"VLOOKUP(BC102,LstVillage!$B$8:$C$283,1)","v":{"$error":"#N/A"}},{"$f":"1","v":1},"blue","Tréguier",{"$f":"VLOOKUP(BG102,Datas!$G$6:$G$17,1)","v":"Nîmes"},0,"red",null,"Comté du Languedoc",0,0,null,{"$f":"VLOOKUP(BC102,Liste_Noire!$B$15:$G$1208,1)","v":{"$error":"#N/A"}},{"$f":"VLOOKUP(BC102,Liste_Noire!$B$15:$G$1208,5)","v":{"$error":"#N/A"}},{"$error":"#N/A"},null,0,0,0,0,0,0,0]
[null,""," ","","","","",null,null,null,null,null,null,null,null,null,null,null,null," ",null,"",0,0,0,0,0,0,0,0,0,0,null,0,null,{"$f":"IF(AK103=\"\",\"\",IF(BR103=1,\"[b][color=red]\"&Datas!$D$32&\"[/color][/b]\"&AK103&\"[b][color=red]\"&Datas!$D$33&\"{\"&BQ103&\"}[/color][/b]\",AK103))","v":""},""," ",{"$f":"IF(ISBLANK(Datas!$C$41),\"\",\" - \"&AT103)","v":" - [color=red][b]Tréguier[/b][/color]"},{"$f":"IF(ISBLANK(Datas!$C$42),\"\",\" - \"&AU103)","v":""},{"$f":"IF(ISBLANK(Datas!$C$43),\"\",\" - \"&AV103)","v":" - PR:"},{"$f":"IF(ISBLANK(Datas!$C$44),\"\",\" - \"&AW103)","v":" - Ecus: "},{"$f":"IF(ISBLANK(Datas!$C$45),\"\",\" - \"&AX103)","v":" - Niv: "}," ","[b][color=blue]0[/color][/b]","[color=red][b]Tréguier[/b][/color]","Comté du Languedoc","PR:","Ecus: ","Niv: ",null,null,null,null,0,{"$f":"VLOOKUP(BC103,LstVillage!$B$8:$C$283,1)","v":{"$error":"#N/A"}},{"$f":"1","v":1},"blue","Tréguier",{"$f":"VLOOKUP(BG103,Datas!$G$6:$G$17,1)","v":"Nîmes"},0,"red",null,"Comté du Languedoc",0,0,null,{"$f":"VLOOKUP(BC103,Liste_Noire!$B$15:$G$1208,1)","v":{"$error":"#N/A"}},{"$f":"VLOOKUP(BC103,Liste_Noire!$B$15:$G$1208,5)","v":{"$error":"#N/A"}},{"$error":"#N/A"},null,0,0,0,0,0,0,0]
[null,""," ","","","","",null,null,null,null,null,null,null,null,null,null,null,null," ",null,"",0,0,0,0,0,0,0,0,0,0,null,0,null,{"$f":"IF(AK104=\"\",\"\",IF(BR104=1,\"[b][color=red]\"&Datas!$D$32&\"[/color][/b]\"&AK104&\"[b][color=red]\"&Datas!$D$33&\"{\"&BQ104&\"}[/color][/b]\",AK104))","v":""},""," ",{"$f":"IF(ISBLANK(Datas!$C$41),\"\",\" - \"&AT104)","v":" - [color=red][b]Tréguier[/b][/color]"},{"$f":"IF(ISBLANK(Datas!$C$42),\"\",\" - \"&AU104)","v":""},{"$f":"IF(ISBLANK(Datas!$C$43),\"\",\" - \"&AV104)","v":" - PR:"},{"$f":"IF(ISBLANK(Datas!$C$44),\"\",\" - \"&AW104)","v":" - Ecus: "},{"$f":"IF(ISBLANK(Datas!$C$45),\"\",\" - \"&AX104)","v":" - Niv: "}," ","[b][color=blue]0[/color][/b]","[color=red][b]Tréguier[/b][/color]","Comté du Languedoc","PR:","Ecus: ","Niv: ",null,null,null,null,0,{"$f":"VLOOKUP(BC104,LstVillage!$B$8:$C$283,1)","v":{"$error":"#N/A"}},{"$f":"1","v":1},"blue","Tréguier",{"$f":"VLOOKUP(BG104,Datas!$G$6:$G$17,1)","v":"Nîmes"},0,"red",null,"Comté du Languedoc",0,0,null,{"$f":"VLOOKUP(BC104,Liste_Noire!$B$15:$G$1208,1)","v":{"$error":"#N/A"}},{"$f":"VLOOKUP(BC104,Liste_Noire!$B$15:$G$1208,5)","v":{"$error":"#N/A"}},{"$error":"#N/A"},null,0,0,0,0,0,0,0]
[null,""," ","","","","",null,null,null,null,null,null,null,null,null,null,null,null," ",null,"",0,0,0,0,0,0,0,0,0,0,null,0,null,{"$f":"IF(AK105=\"\",\"\",IF(BR105=1,\"[b][color=red]\"&Datas!$D$32&\"[/color][/b]\"&AK105&\"[b][color=red]\"&Datas!$D$33&\"{\"&BQ105&\"}[/color][/b]\",AK105))","v":""},""," ",{"$f":"IF(ISBLANK(Datas!$C$41),\"\",\" - \"&AT105)","v":" - [color=red][b]Tréguier[/b][/color]"},{"$f":"IF(ISBLANK(Datas!$C$42),\"\",\" - \"&AU105)","v":""},{"$f":"IF(ISBLANK(Datas!$C$43),\"\",\" - \"&AV105)","v":" - PR:"},{"$f":"IF(ISBLANK(Datas!$C$44),\"\",\" - \"&AW105)","v":" - Ecus: "},{"$f":"IF(ISBLANK(Datas!$C$45),\"\",\" - \"&AX105)","v":" - Niv: "}," ","[b][color=blue]0[/color][/b]","[color=red][b]Tréguier[/b][/color]","Comté du Languedoc","PR:","Ecus: ","Niv: ",null,null,null,null,0,{"$f":"VLOOKUP(BC105,LstVillage!$B$8:$C$283,1)","v":{"$error":"#N/A"}},{"$f":"1","v":1},"blue","Tréguier",{"$f":"VLOOKUP(BG105,Datas!$G$6:$G$17,1)","v":"Nîmes"},0,"red",null,"Comté du Languedoc",0,0,null,{"$f":"VLOOKUP(BC105,Liste_Noire!$B$15:$G$1208,1)","v":{"$error":"#N/A"}},{"$f":"VLOOKUP(BC105,Liste_Noire!$B$15:$G$1208,5)","v":{"$error":"#N/A"}},{"$error":"#N/A"},null,0,0,0,0,0,0,0]
[null,""," ","","","","",null,null,null,null,null,null,null,null,null,null,null,null," ",null,"",0,0,0,0,0,0,0,0,0,0,null,0,null,{"$f":"IF(AK106=\"\",\"\",IF(BR106=1,\"[b][color=red]\"&Datas!$D$32&\"[/color][/b]\"&AK106&\"[b][color=red]\"&Datas!$D$33&\"{\"&BQ106&\"}[/color][/b]\",AK106))","v":""},""," ",{"$f":"IF(ISBLANK(Datas!$C$41),\"\",\" - \"&AT106)","v":" - [color=red][b]Tréguier[/b][/color]"},{"$f":"IF(ISBLANK(Datas!$C$42),\"\",\" - \"&AU106)","v":""},{"$f":"IF(ISBLANK(Datas!$C$43),\"\",\" - \"&AV106)","v":" - PR:"},{"$f":"IF(ISBLANK(Datas!$C$44),\"\",\" - \"&AW106)","v":" - Ecus: "},{"$f":"IF(ISBLANK(Datas!$C$45),\"\",\" - \"&AX106)","v":" - Niv: "}," ","[b][color=blue]0[/color][/b]","[color=red][b]Tréguier[/b][/color]","Comté du Languedoc","PR:","Ecus: ","Niv: ",null,null,null,null,0,{"$f":"VLOOKUP(BC106,LstVillage!$B$8:$C$283,1)","v":{"$error":"#N/A"}},{"$f":"1","v":1},"blue","Tréguier",{"$f":"VLOOKUP(BG106,Datas!$G$6:$G$17,1)","v":"Nîmes"},0,"red",null,"Comté du Languedoc",0,0,null,{"$f":"VLOOKUP(BC106,Liste_Noire!$B$15:$G$1208,1)","v":{"$error":"#N/A"}},{"$f":"VLOOKUP(BC106,Liste_Noire!$B$15:$G$1208,5)","v":{"$error":"#N/A"}},{"$error":"#N/A"},null,0,0,0,0,0,0,0]
[null,""," ","","","","",null,null,null,null,null,null,null,null,null,null,null,null," ",null,"",0,0,0,0,0,0,0,0,0,0,null,0,null,{"$f":"IF(AK107=\"\",\"\",IF(BR107=1,\"[b][color=red]\"&Datas!$D$32&\"[/color][/b]\"&AK107&\"[b][color=red]\"&Datas!$D$33&\"{\"&BQ107&\"}[/color][/b]\",AK107))","v":""},""," ",{"$f":"IF(ISBLANK(Datas!$C$41),\"\",\" - \"&AT107)","v":" - [color=red][b]Tréguier[/b][/color]"},{"$f":"IF(ISBLANK(Datas!$C$42),\"\",\" - \"&AU107)","v":""},{"$f":"IF(ISBLANK(Datas!$C$43),\"\",\" - \"&AV107)","v":" - PR:"},{"$f":"IF(ISBLANK(Datas!$C$44),\"\",\" - \"&AW107)","v":" - Ecus: "},{"$f":"IF(ISBLANK(Datas!$C$45),\"\",\" - \"&AX107)","v":" - Niv: "}," ","[b][color=blue]0[/color][/b]","[color=red][b]Tréguier[/b][/color]","Comté du Languedoc","PR:","Ecus: ","Niv: ",null,null,null,null,0,{"$f":"VLOOKUP(BC107,LstVillage!$B$8:$C$283,1)","v":{"$error":"#N/A"}},{"$f":"1","v":1},"blue","Tréguier",{"$f":"VLOOKUP(BG107,Datas!$G$6:$G$17,1)","v":"Nîmes"},0,"red",null,"Comté du Languedoc",0,0,null,{"$f":"VLOOKUP(BC107,Liste_Noire!$B$15:$G$1208,1)","v":{"$error":"#N/A"}},{"$f":"VLOOKUP(BC107,Liste_Noire!$B$15:$G$1208,5)","v":{"$error":"#N/A"}},{"$error":"#N/A"},null,0,0,0,0,0,0,0]
[null,""," ","","","","",null,null,null,null,null,null,null,null,null,null,null,null," ",null,"",0,0,0,0,0,0,0,0,0,0,null,0,null,{"$f":"IF(AK108=\"\",\"\",IF(BR108=1,\"[b][color=red]\"&Datas!$D$32&\"[/color][/b]\"&AK108&\"[b][color=red]\"&Datas!$D$33&\"{\"&BQ108&\"}[/color][/b]\",AK108))","v":""},""," ",{"$f":"IF(ISBLANK(Datas!$C$41),\"\",\" - \"&AT108)","v":" - [color=red][b]Tréguier[/b][/color]"},{"$f":"IF(ISBLANK(Datas!$C$42),\"\",\" - \"&AU108)","v":""},{"$f":"IF(ISBLANK(Datas!$C$43),\"\",\" - \"&AV108)","v":" - PR:"},{"$f":"IF(ISBLANK(Datas!$C$44),\"\",\" - \"&AW108)","v":" - Ecus: "},{"$f":"IF(ISBLANK(Datas!$C$45),\"\",\" - \"&AX108)","v":" - Niv: "}," ","[b][color=blue]0[/color][/b]","[color=red][b]Tréguier[/b][/color]","Comté du Languedoc","PR:","Ecus: ","Niv: ",null,null,null,null,0,{"$f":"VLOOKUP(BC108,LstVillage!$B$8:$C$283,1)","v":{"$error":"#N/A"}},{"$f":"1","v":1},"blue","Tréguier",{"$f":"VLOOKUP(BG108,Datas!$G$6:$G$17,1)","v":"Nîmes"},0,"red",null,"Comté du Languedoc",0,0,null,{"$f":"VLOOKUP(BC108,Liste_Noire!$B$15:$G$1208,1)","v":{"$error":"#N/A"}},{"$f":"VLOOKUP(BC108,Liste_Noire!$B$15:$G$1208,5)","v":{"$error":"#N/A"}},{"$error":"#N/A"},null,0,0,0,0,0,0,0]
[null,""," ","","","","",null,null,null,null,null,null,null,null,null,null,null,null," ",null,"",0,0,0,0,0,0,0,0,0,0,null,0,null,{"$f":"IF(AK109=\"\",\"\",IF(BR109=1,\"[b][color=red]\"&Datas!$D$32&\"[/color][/b]\"&AK109&\"[b][color=red]\"&Datas!$D$33&\"{\"&BQ109&\"}[/color][/b]\",AK109))","v":""},""," ",{"$f":"IF(ISBLANK(Datas!$C$41),\"\",\" - \"&AT109)","v":" - [color=red][b]Tréguier[/b][/color]"},{"$f":"IF(ISBLANK(Datas!$C$42),\"\",\" - \"&AU109)","v":""},{"$f":"IF(ISBLANK(Datas!$C$43),\"\",\" - \"&AV109)","v":" - PR:"},{"$f":"IF(ISBLANK(Datas!$C$44),\"\",\" - \"&AW109)","v":" - Ecus: "},{"$f":"IF(ISBLANK(Datas!$C$45),\"\",\" - \"&AX109)","v":" - Niv: "}," ","[b][color=blue]0[/color][/b]","[color=red][b]Tréguier[/b][/color]","Comté du Languedoc","PR:","Ecus: ","Niv: ",null,null,null,null,0,{"$f":"VLOOKUP(BC109,LstVillage!$B$8:$C$283,1)","v":{"$error":"#N/A"}},{"$f":"1","v":1},"blue","Tréguier",{"$f":"VLOOKUP(BG109,Datas!$G$6:$G$17,1)","v":"Nîmes"},0,"red",null,"Comté du Languedoc",0,0,null,{"$f":"VLOOKUP(BC109,Liste_Noire!$B$15:$G$1208,1)","v":{"$error":"#N/A"}},{"$f":"VLOOKUP(BC109,Liste_Noire!$B$15:$G$1208,5)","v":{"$error":"#N/A"}},{"$error":"#N/A"},null,0,0,0,0,0,0,0]
[null,""," ","","","","",null,null,null,null,null,null,null,null,null,null,null,null," ",null,"",0,0,0,0,0,0,0,0,0,0,null,0,null,{"$f":"IF(AK110=\"\",\"\",IF(BR110=1,\"[b][color=red]\"&Datas!$D$32&\"[/color][/b]\"&AK110&\"[b][color=red]\"&Datas!$D$33&\"{\"&BQ110&\"}[/color][/b]\",AK110))","v":""},""," ",{"$f":"IF(ISBLANK(Datas!$C$41),\"\",\" - \"&AT110)","v":" - [color=red][b]Tréguier[/b][/color]"},{"$f":"IF(ISBLANK(Datas!$C$42),\"\",\" - \"&AU110)","v":""},{"$f":"IF(ISBLANK(Datas!$C$43),\"\",\" - \"&AV110)","v":" - PR:"},{"$f":"IF(ISBLANK(Datas!$C$44),\"\",\" - \"&AW110)","v":" - Ecus: "},{"$f":"IF(ISBLANK(Datas!$C$45),\"\",\" - \"&AX110)","v":" - Niv: "}," ","[b][color=blue]0[/color][/b]","[color=red][b]Tréguier[/b][/color]","Comté du Languedoc","PR:","Ecus: ","Niv: ",null,null,null,null,0,{"$f":"VLOOKUP(BC110,LstVillage!$B$8:$C$283,1)","v":{"$error":"#N/A"}},{"$f":"1","v":1},"blue","Tréguier",{"$f":"VLOOKUP(BG110,Datas!$G$6:$G$17,1)","v":"Nîmes"},0,"red",null,"Comté du Languedoc",0,0,null,{"$f":"VLOOKUP(BC110,Liste_Noire!$B$15:$G$1208,1)","v":{"$error":"#N/A"}},{"$f":"VLOOKUP(BC110,Liste_Noire!$B$15:$G$1208,5)","v":{"$error":"#N/A"}},{"$error":"#N/A"},null,0,0,0,0,0,0,0]
[null,""," ","","","","",null,null,null,null,null,null,null,null,null,null,null,null," ",null,"",0,0,0,0,0,0,0,0,0,0,null,0,null,{"$f":"IF(AK111=\"\",\"\",IF(BR111=1,\"[b][color=red]\"&Datas!$D$32&\"[/color][/b]\"&AK111&\"[b][color=red]\"&Datas!$D$33&\"{\"&BQ111&\"}[/color][/b]\",AK111))","v":""},""," ",{"$f":"IF(ISBLANK(Datas!$C$41),\"\",\" - \"&AT111)","v":" - [color=red][b]Tréguier[/b][/color]"},{"$f":"IF(ISBLANK(Datas!$C$42),\"\",\" - \"&AU111)","v":""},{"$f":"IF(ISBLANK(Datas!$C$43),\"\",\" - \"&AV111)","v":" - PR:"},{"$f":"IF(ISBLANK(Datas!$C$44),\"\",\" - \"&AW111)","v":" - Ecus: "},{"$f":"IF(ISBLANK(Datas!$C$45),\"\",\" - \"&AX111)","v":" - Niv: "}," ","[b][color=blue]0[/color][/b]","[color=red][b]Tréguier[/b][/color]","Comté du Languedoc","PR:","Ecus: ","Niv: ",null,null,null,null,0,{"$f":"VLOOKUP(BC111,LstVillage!$B$8:$C$283,1)","v":{"$error":"#N/A"}},{"$f":"1","v":1},"blue","Tréguier",{"$f":"VLOOKUP(BG111,Datas!$G$6:$G$17,1)","v":"Nîmes"},0,"red",null,"Comté du Languedoc",0,0,null,{"$f":"VLOOKUP(BC111,Liste_Noire!$B$15:$G$1208,1)","v":{"$error":"#N/A"}},{"$f":"VLOOKUP(BC111,Liste_Noire!$B$15:$G$1208,5)","v":{"$error":"#N/A"}},{"$error":"#N/A"},null,0,0,0,0,0,0,0]
[null,""," ","","","","",null,null,null,null,null,null,null,null,null,null,null,null," ",null,"",0,0,0,0,0,0,0,0,0,0,null,0,null,{"$f":"IF(AK112=\"\",\"\",IF(BR112=1,\"[b][color=red]\"&Datas!$D$32&\"[/color][/b]\"&AK112&\"[b][color=red]\"&Datas!$D$33&\"{\"&BQ112&\"}[/color][/b]\",AK112))","v":""},""," ",{"$f":"IF(ISBLANK(Datas!$C$41),\"\",\" - \"&AT112)","v":" - [color=red][b]Tréguier[/b][/color]"},{"$f":"IF(ISBLANK(Datas!$C$42),\"\",\" - \"&AU112)","v":""},{"$f":"IF(ISBLANK(Datas!$C$43),\"\",\" - \"&AV112)","v":" - PR:"},{"$f":"IF(ISBLANK(Datas!$C$44),\"\",\" - \"&AW112)","v":" - Ecus: "},{"$f":"IF(ISBLANK(Datas!$C$45),\"\",\" - \"&AX112)","v":" - Niv: "}," ","[b][color=blue]0[/color][/b]","[color=red][b]Tréguier[/b][/color]","Comté du Languedoc","PR:","Ecus: ","Niv: ",null,null,null,null,0,{"$f":"VLOOKUP(BC112,LstVillage!$B$8:$C$283,1)","v":{"$error":"#N/A"}},{"$f":"1","v":1},"blue","Tréguier",{"$f":"VLOOKUP(BG112,Datas!$G$6:$G$17,1)","v":"Nîmes"},0,"red",null,"Comté du Languedoc",0,0,null,{"$f":"VLOOKUP(BC112,Liste_Noire!$B$15:$G$1208,1)","v":{"$error":"#N/A"}},{"$f":"VLOOKUP(BC112,Liste_Noire!$B$15:$G$1208,5)","v":{"$error":"#N/A"}},{"$error":"#N/A"},null,0,0,0,0,0,0,0]
[null,""," ","","","","",null,null,null,null,null,null,null,null,null,null,null,null," ",null,"",0,0,0,0,0,0,0,0,0,0,null,0,null,{"$f":"IF(AK113=\"\",\"\",IF(BR113=1,\"[b][color=red]\"&Datas!$D$32&\"[/color][/b]\"&AK113&\"[b][color=red]\"&Datas!$D$33&\"{\"&BQ113&\"}[/color][/b]\",AK113))","v":""},""," ",{"$f":"IF(ISBLANK(Datas!$C$41),\"\",\" - \"&AT113)","v":" - [color=red][b]Tréguier[/b][/color]"},{"$f":"IF(ISBLANK(Datas!$C$42),\"\",\" - \"&AU113)","v":""},{"$f":"IF(ISBLANK(Datas!$C$43),\"\",\" - \"&AV113)","v":" - PR:"},{"$f":"IF(ISBLANK(Datas!$C$44),\"\",\" - \"&AW113)","v":" - Ecus: "},{"$f":"IF(ISBLANK(Datas!$C$45),\"\",\" - \"&AX113)","v":" - Niv: "}," ","[b][color=blue]0[/color][/b]","[color=red][b]Tréguier[/b][/color]","Comté du Languedoc","PR:","Ecus: ","Niv: ",null,null,null,null,0,{"$f":"VLOOKUP(BC113,LstVillage!$B$8:$C$283,1)","v":{"$error":"#N/A"}},{"$f":"1","v":1},"blue","Tréguier",{"$f":"VLOOKUP(BG113,Datas!$G$6:$G$17,1)","v":"Nîmes"},0,"red",null,"Comté du Languedoc",0,0,null,{"$f":"VLOOKUP(BC113,Liste_Noire!$B$15:$G$1208,1)","v":{"$error":"#N/A"}},{"$f":"VLOOKUP(BC113,Liste_Noire!$B$15:$G$1208,5)","v":{"$error":"#N/A"}},{"$error":"#N/A"},null,0,0,0,0,0,0,0]
[null,""," ","","","","",null,null,null,null,null,null,null,null,null,null,null,null," ",null,"",0,0,0,0,0,0,0,0,0,0,null,0,null,{"$f":"IF(AK114=\"\",\"\",IF(BR114=1,\"[b][color=red]\"&Datas!$D$32&\"[/color][/b]\"&AK114&\"[b][color=red]\"&Datas!$D$33&\"{\"&BQ114&\"}[/color][/b]\",AK114))","v":""},""," ",{"$f":"IF(ISBLANK(Datas!$C$41),\"\",\" - \"&AT114)","v":" - [color=red][b]Tréguier[/b][/color]"},{"$f":"IF(ISBLANK(Datas!$C$42),\"\",\" - \"&AU114)","v":""},{"$f":"IF(ISBLANK(Datas!$C$43),\"\",\" - \"&AV114)","v":" - PR:"},{"$f":"IF(ISBLANK(Datas!$C$44),\"\",\" - \"&AW114)","v":" - Ecus: "},{"$f":"IF(ISBLANK(Datas!$C$45),\"\",\" - \"&AX114)","v":" - Niv: "}," ","[b][color=blue]0[/color][/b]","[color=red][b]Tréguier[/b][/color]","Comté du Languedoc","PR:","Ecus: ","Niv: ",null,null,null,null,0,{"$f":"VLOOKUP(BC114,LstVillage!$B$8:$C$283,1)","v":{"$error":"#N/A"}},{"$f":"1","v":1},"blue","Tréguier",{"$f":"VLOOKUP(BG114,Datas!$G$6:$G$17,1)","v":"Nîmes"},0,"red",null,"Comté du Languedoc",0,0,null,{"$f":"VLOOKUP(BC114,Liste_Noire!$B$15:$G$1208,1)","v":{"$error":"#N/A"}},{"$f":"VLOOKUP(BC114,Liste_Noire!$B$15:$G$1208,5)","v":{"$error":"#N/A"}},{"$error":"#N/A"},null,0,0,0,0,0,0,0]
[null,""," ","","","","",null,null,null,null,null,null,null,null,null,null,null,null," ",null,"",0,0,0,0,0,0,0,0,0,0,null,0,null,{"$f":"IF(AK115=\"\",\"\",IF(BR115=1,\"[b][color=red]\"&Datas!$D$32&\"[/color][/b]\"&AK115&\"[b][color=red]\"&Datas!$D$33&\"{\"&BQ115&\"}[/color][/b]\",AK115))","v":""},""," ",{"$f":"IF(ISBLANK(Datas!$C$41),\"\",\" - \"&AT115)","v":" - [color=red][b]Tréguier[/b][/color]"},{"$f":"IF(ISBLANK(Datas!$C$42),\"\",\" - \"&AU115)","v":""},{"$f":"IF(ISBLANK(Datas!$C$43),\"\",\" - \"&AV115)","v":" - PR:"},{"$f":"IF(ISBLANK(Datas!$C$44),\"\",\" - \"&AW115)","v":" - Ecus: "},{"$f":"IF(ISBLANK(Datas!$C$45),\"\",\" - \"&AX115)","v":" - Niv: "}," ","[b][color=blue]0[/color][/b]","[color=red][b]Tréguier[/b][/color]","Comté du Languedoc","PR:","Ecus: ","Niv: ",null,null,null,null,0,{"$f":"VLOOKUP(BC115,LstVillage!$B$8:$C$283,1)","v":{"$error":"#N/A"}},{"$f":"1","v":1},"blue","Tréguier",{"$f":"VLOOKUP(BG115,Datas!$G$6:$G$17,1)","v":"Nîmes"},0,"red",null,"Comté du Languedoc",0,0,null,{"$f":"VLOOKUP(BC115,Liste_Noire!$B$15:$G$1208,1)","v":{"$error":"#N/A"}},{"$f":"VLOOKUP(BC115,Liste_Noire!$B$15:$G$1208,5)","v":{"$error":"#N/A"}},{"$error":"#N/A"},null,0,0,0,0,0,0,0]
[null,""," ","","","","",null,null,null,null,null,null,null,null,null,null,null,null," ",null,"",0,0,0,0,0,0,0,0,0,0,null,0,null,{"$f":"IF(AK116=\"\",\"\",IF(BR116=1,\"[b][color=red]\"&Datas!$D$32&\"[/color][/b]\"&AK116&\"[b][color=red]\"&Datas!$D$33&\"{\"&BQ116&\"}[/color][/b]\",AK116))","v":""},""," ",{"$f":"IF(ISBLANK(Datas!$C$41),\"\",\" - \"&AT116)","v":" - [color=red][b]Tréguier[/b][/color]"},{"$f":"IF(ISBLANK(Datas!$C$42),\"\",\" - \"&AU116)","v":""},{"$f":"IF(ISBLANK(Datas!$C$43),\"\",\" - \"&AV116)","v":" - PR:"},{"$f":"IF(ISBLANK(Datas!$C$44),\"\",\" - \"&AW116)","v":" - Ecus: "},{"$f":"IF(ISBLANK(Datas!$C$45),\"\",\" - \"&AX116)","v":" - Niv: "}," ","[b][color=blue]0[/color][/b]","[color=red][b]Tréguier[/b][/color]","Comté du Languedoc","PR:","Ecus: ","Niv: ",null,null,null,null,0,{"$f":"VLOOKUP(BC116,LstVillage!$B$8:$C$283,1)","v":{"$error":"#N/A"}},{"$f":"1","v":1},"blue","Tréguier",{"$f":"VLOOKUP(BG116,Datas!$G$6:$G$17,1)","v":"Nîmes"},0,"red",null,"Comté du Languedoc",0,0,null,{"$f":"VLOOKUP(BC116,Liste_Noire!$B$15:$G$1208,1)","v":{"$error":"#N/A"}},{"$f":"VLOOKUP(BC116,Liste_Noire!$B$15:$G$1208,5)","v":{"$error":"#N/A"}},{"$error":"#N/A"},null,0,0,0,0,0,0,0]
[null,""," ","","","","",null,null,null,null,null,null,null,null,null,null,null,null," ",null,"",0,0,0,0,0,0,0,0,0,0,null,0,null,{"$f":"IF(AK117=\"\",\"\",IF(BR117=1,\"[b][color=red]\"&Datas!$D$32&\"[/color][/b]\"&AK117&\"[b][color=red]\"&Datas!$D$33&\"{\"&BQ117&\"}[/color][/b]\",AK117))","v":""},""," ",{"$f":"IF(ISBLANK(Datas!$C$41),\"\",\" - \"&AT117)","v":" - [color=red][b]Tréguier[/b][/color]"},{"$f":"IF(ISBLANK(Datas!$C$42),\"\",\" - \"&AU117)","v":""},{"$f":"IF(ISBLANK(Datas!$C$43),\"\",\" - \"&AV117)","v":" - PR:"},{"$f":"IF(ISBLANK(Datas!$C$44),\"\",\" - \"&AW117)","v":" - Ecus: "},{"$f":"IF(ISBLANK(Datas!$C$45),\"\",\" - \"&AX117)","v":" - Niv: "}," ","[b][color=blue]0[/color][/b]","[color=red][b]Tréguier[/b][/color]","Comté du Languedoc","PR:","Ecus: ","Niv: ",null,null,null,null,0,{"$f":"VLOOKUP(BC117,LstVillage!$B$8:$C$283,1)","v":{"$error":"#N/A"}},{"$f":"1","v":1},"blue","Tréguier",{"$f":"VLOOKUP(BG117,Datas!$G$6:$G$17,1)","v":"Nîmes"},0,"red",null,"Comté du Languedoc",0,0,null,{"$f":"VLOOKUP(BC117,Liste_Noire!$B$15:$G$1208,1)","v":{"$error":"#N/A"}},{"$f":"VLOOKUP(BC117,Liste_Noire!$B$15:$G$1208,5)","v":{"$error":"#N/A"}},{"$error":"#N/A"},null,0,0,0,0,0,0,0]
[null,""," ","","","","",null,null,null,null,null,null,null,null,null,null,null,null," ",null,"",0,0,0,0,0,0,0,0,0,0,null,0,null,{"$f":"IF(AK118=\"\",\"\",IF(BR118=1,\"[b][color=red]\"&Datas!$D$32&\"[/color][/b]\"&AK118&\"[b][color=red]\"&Datas!$D$33&\"{\"&BQ118&\"}[/color][/b]\",AK118))","v":""},""," ",{"$f":"IF(ISBLANK(Datas!$C$41),\"\",\" - \"&AT118)","v":" - [color=red][b]Tréguier[/b][/color]"},{"$f":"IF(ISBLANK(Datas!$C$42),\"\",\" - \"&AU118)","v":""},{"$f":"IF(ISBLANK(Datas!$C$43),\"\",\" - \"&AV118)","v":" - PR:"},{"$f":"IF(ISBLANK(Datas!$C$44),\"\",\" - \"&AW118)","v":" - Ecus: "},{"$f":"IF(ISBLANK(Datas!$C$45),\"\",\" - \"&AX118)","v":" - Niv: "}," ","[b][color=blue]0[/color][/b]","[color=red][b]Tréguier[/b][/color]","Comté du Languedoc","PR:","Ecus: ","Niv: ",null,null,null,null,0,{"$f":"VLOOKUP(BC118,LstVillage!$B$8:$C$283,1)","v":{"$error":"#N/A"}},{"$f":"1","v":1},"blue","Tréguier",{"$f":"VLOOKUP(BG118,Datas!$G$6:$G$17,1)","v":"Nîmes"},0,"red",null,"Comté du Languedoc",0,0,null,{"$f":"VLOOKUP(BC118,Liste_Noire!$B$15:$G$1208,1)","v":{"$error":"#N/A"}},{"$f":"VLOOKUP(BC118,Liste_Noire!$B$15:$G$1208,5)","v":{"$error":"#N/A"}},{"$error":"#N/A"},null,0,0,0,0,0,0,0]
[null,""," ","","","","",null,null,null,null,null,null,null,null,null,null,null,null," ",null,"",0,0,0,0,0,0,0,0,0,0,null,0,null,{"$f":"IF(AK119=\"\",\"\",IF(BR119=1,\"[b][color=red]\"&Datas!$D$32&\"[/color][/b]\"&AK119&\"[b][color=red]\"&Datas!$D$33&\"{\"&BQ119&\"}[/color][/b]\",AK119))","v":""},""," ",{"$f":"IF(ISBLANK(Datas!$C$41),\"\",\" - \"&AT119)","v":" - [color=red][b]Tréguier[/b][/color]"},{"$f":"IF(ISBLANK(Datas!$C$42),\"\",\" - \"&AU119)","v":""},{"$f":"IF(ISBLANK(Datas!$C$43),\"\",\" - \"&AV119)","v":" - PR:"},{"$f":"IF(ISBLANK(Datas!$C$44),\"\",\" - \"&AW119)","v":" - Ecus: "},{"$f":"IF(ISBLANK(Datas!$C$45),\"\",\" - \"&AX119)","v":" - Niv: "}," ","[b][color=blue]0[/color][/b]","[color=red][b]Tréguier[/b][/color]","Comté du Languedoc","PR:","Ecus: ","Niv: ",null,null,null,null,0,{"$f":"VLOOKUP(BC119,LstVillage!$B$8:$C$283,1)","v":{"$error":"#N/A"}},{"$f":"1","v":1},"blue","Tréguier",{"$f":"VLOOKUP(BG119,Datas!$G$6:$G$17,1)","v":"Nîmes"},0,"red",null,"Comté du Languedoc",0,0,null,{"$f":"VLOOKUP(BC119,Liste_Noire!$B$15:$G$1208,1)","v":{"$error":"#N/A"}},{"$f":"VLOOKUP(BC119,Liste_Noire!$B$15:$G$1208,5)","v":{"$error":"#N/A"}},{"$error":"#N/A"},null,0,0,0,0,0,0,0]
[null,""," ","","","","",null,null,null,null,null,null,null,null,null,null,null,null," ",null,"",0,0,0,0,0,0,0,0,0,0,null,0,null,{"$f":"IF(AK120=\"\",\"\",IF(BR120=1,\"[b][color=red]\"&Datas!$D$32&\"[/color][/b]\"&AK120&\"[b][color=red]\"&Datas!$D$33&\"{\"&BQ120&\"}[/color][/b]\",AK120))","v":""},""," ",{"$f":"IF(ISBLANK(Datas!$C$41),\"\",\" - \"&AT120)","v":" - [color=red][b]Tréguier[/b][/color]"},{"$f":"IF(ISBLANK(Datas!$C$42),\"\",\" - \"&AU120)","v":""},{"$f":"IF(ISBLANK(Datas!$C$43),\"\",\" - \"&AV120)","v":" - PR:"},{"$f":"IF(ISBLANK(Datas!$C$44),\"\",\" - \"&AW120)","v":" - Ecus: "},{"$f":"IF(ISBLANK(Datas!$C$45),\"\",\" - \"&AX120)","v":" - Niv: "}," ","[b][color=blue]0[/color][/b]","[color=red][b]Tréguier[/b][/color]","Comté du Languedoc","PR:","Ecus: ","Niv: ",null,null,null,null,0,{"$f":"VLOOKUP(BC120,LstVillage!$B$8:$C$283,1)","v":{"$error":"#N/A"}},{"$f":"1","v":1},"blue","Tréguier",{"$f":"VLOOKUP(BG120,Datas!$G$6:$G$17,1)","v":"Nîmes"},0,"red",null,"Comté du Languedoc",0,0,null,{"$f":"VLOOKUP(BC120,Liste_Noire!$B$15:$G$1208,1)","v":{"$error":"#N/A"}},{"$f":"VLOOKUP(BC120,Liste_Noire!$B$15:$G$1208,5)","v":{"$error":"#N/A"}},{"$error":"#N/A"},null,0,0,0,0,0,0,0]
[null,""," ","","","","",null,null,null,null,null,null,null,null,null,null,null,null," ",null,"",0,0,0,0,0,0,0,0,0,0,null,0,null,{"$f":"IF(AK121=\"\",\"\",IF(BR121=1,\"[b][color=red]\"&Datas!$D$32&\"[/color][/b]\"&AK121&\"[b][color=red]\"&Datas!$D$33&\"{\"&BQ121&\"}[/color][/b]\",AK121))","v":""},""," ",{"$f":"IF(ISBLANK(Datas!$C$41),\"\",\" - \"&AT121)","v":" - [color=red][b]Tréguier[/b][/color]"},{"$f":"IF(ISBLANK(Datas!$C$42),\"\",\" - \"&AU121)","v":""},{"$f":"IF(ISBLANK(Datas!$C$43),\"\",\" - \"&AV121)","v":" - PR:"},{"$f":"IF(ISBLANK(Datas!$C$44),\"\",\" - \"&AW121)","v":" - Ecus: "},{"$f":"IF(ISBLANK(Datas!$C$45),\"\",\" - \"&AX121)","v":" - Niv: "}," ","[b][color=blue]0[/color][/b]","[color=red][b]Tréguier[/b][/color]","Comté du Languedoc","PR:","Ecus: ","Niv: ",null,null,null,null,0,{"$f":"VLOOKUP(BC121,LstVillage!$B$8:$C$283,1)","v":{"$error":"#N/A"}},{"$f":"1","v":1},"blue","Tréguier",{"$f":"VLOOKUP(BG121,Datas!$G$6:$G$17,1)","v":"Nîmes"},0,"red",null,"Comté du Languedoc",0,0,null,{"$f":"VLOOKUP(BC121,Liste_Noire!$B$15:$G$1208,1)","v":{"$error":"#N/A"}},{"$f":"VLOOKUP(BC121,Liste_Noire!$B$15:$G$1208,5)","v":{"$error":"#N/A"}},{"$error":"#N/A"},null,0,0,0,0,0,0,0]
[null,""," ","","","","",null,null,null,null,null,null,null,null,null,null,null,null," ",null,"",0,0,0,0,0,0,0,0,0,0,null,0,null,{"$f":"IF(AK122=\"\",\"\",IF(BR122=1,\"[b][color=red]\"&Datas!$D$32&\"[/color][/b]\"&AK122&\"[b][color=red]\"&Datas!$D$33&\"{\"&BQ122&\"}[/color][/b]\",AK122))","v":""},""," ",{"$f":"IF(ISBLANK(Datas!$C$41),\"\",\" - \"&AT122)","v":" - [color=red][b]Tréguier[/b][/color]"},{"$f":"IF(ISBLANK(Datas!$C$42),\"\",\" - \"&AU122)","v":""},{"$f":"IF(ISBLANK(Datas!$C$43),\"\",\" - \"&AV122)","v":" - PR:"},{"$f":"IF(ISBLANK(Datas!$C$44),\"\",\" - \"&AW122)","v":" - Ecus: "},{"$f":"IF(ISBLANK(Datas!$C$45),\"\",\" - \"&AX122)","v":" - Niv: "}," ","[b][color=blue]0[/color][/b]","[color=red][b]Tréguier[/b][/color]","Comté du Languedoc","PR:","Ecus: ","Niv: ",null,null,null,null,0,{"$f":"VLOOKUP(BC122,LstVillage!$B$8:$C$283,1)","v":{"$error":"#N/A"}},{"$f":"1","v":1},"blue","Tréguier",{"$f":"VLOOKUP(BG122,Datas!$G$6:$G$17,1)","v":"Nîmes"},0,"red",null,"Comté du Languedoc",0,0,null,{"$f":"VLOOKUP(BC122,Liste_Noire!$B$15:$G$1208,1)","v":{"$error":"#N/A"}},{"$f":"VLOOKUP(BC122,Liste_Noire!$B$15:$G$1208,5)","v":{"$error":"#N/A"}},{"$error":"#N/A"},null,0,0,0,0,0,0,0]
[null,""," ","","","","",null,null,null,null,null,null,null,null,null,null,null,null," ",null,"",0,0,0,0,0,0,0,0,0,0,null,0,null,{"$f":"IF(AK123=\"\",\"\",IF(BR123=1,\"[b][color=red]\"&Datas!$D$32&\"[/color][/b]\"&AK123&\"[b][color=red]\"&Datas!$D$33&\"{\"&BQ123&\"}[/color][/b]\",AK123))","v":""},""," ",{"$f":"IF(ISBLANK(Datas!$C$41),\"\",\" - \"&AT123)","v":" - [color=red][b]Tréguier[/b][/color]"},{"$f":"IF(ISBLANK(Datas!$C$42),\"\",\" - \"&AU123)","v":""},{"$f":"IF(ISBLANK(Datas!$C$43),\"\",\" - \"&AV123)","v":" - PR:"},{"$f":"IF(ISBLANK(Datas!$C$44),\"\",\" - \"&AW123)","v":" - Ecus: "},{"$f":"IF(ISBLANK(Datas!$C$45),\"\",\" - \"&AX123)","v":" - Niv: "}," ","[b][color=blue]0[/color][/b]","[color=red][b]Tréguier[/b][/color]","Comté du Languedoc","PR:","Ecus: ","Niv: ",null,null,null,null,0,{"$f":"VLOOKUP(BC123,LstVillage!$B$8:$C$283,1)","v":{"$error":"#N/A"}},{"$f":"1","v":1},"blue","Tréguier",{"$f":"VLOOKUP(BG123,Datas!$G$6:$G$17,1)","v":"Nîmes"},0,"red",null,"Comté du Languedoc",0,0,null,{"$f":"VLOOKUP(BC123,Liste_Noire!$B$15:$G$1208,1)","v":{"$error":"#N/A"}},{"$f":"VLOOKUP(BC123,Liste_Noire!$B$15:$G$1208,5)","v":{"$error":"#N/A"}},{"$error":"#N/A"},null,0,0,0,0,0,0,0]
[null,""," ","","","","",null,null,null,null,null,null,null,null,null,null,null,null," ",null,"",0,0,0,0,0,0,0,0,0,0,null,0,null,{"$f":"IF(AK124=\"\",\"\",IF(BR124=1,\"[b][color=red]\"&Datas!$D$32&\"[/color][/b]\"&AK124&\"[b][color=red]\"&Datas!$D$33&\"{\"&BQ124&\"}[/color][/b]\",AK124))","v":""},""," ",{"$f":"IF(ISBLANK(Datas!$C$41),\"\",\" - \"&AT124)","v":" - [color=red][b]Tréguier[/b][/color]"},{"$f":"IF(ISBLANK(Datas!$C$42),\"\",\" - \"&AU124)","v":""},{"$f":"IF(ISBLANK(Datas!$C$43),\"\",\" - \"&AV124)","v":" - PR:"},{"$f":"IF(ISBLANK(Datas!$C$44),\"\",\" - \"&AW124)","v":" - Ecus: "},{"$f":"IF(ISBLANK(Datas!$C$45),\"\",\" - \"&AX124)","v":" - Niv: "}," ","[b][color=blue]0[/color][/b]","[color=red][b]Tréguier[/b][/color]","Comté du Languedoc","PR:","Ecus: ","Niv: ",null,null,null,null,0,{"$f":"VLOOKUP(BC124,LstVillage!$B$8:$C$283,1)","v":{"$error":"#N/A"}},{"$f":"1","v":1},"blue","Tréguier",{"$f":"VLOOKUP(BG124,Datas!$G$6:$G$17,1)","v":"Nîmes"},0,"red",null,"Comté du Languedoc",0,0,null,{"$f":"VLOOKUP(BC124,Liste_Noire!$B$15:$G$1208,1)","v":{"$error":"#N/A"}},{"$f":"VLOOKUP(BC124,Liste_Noire!$B$15:$G$1208,5)","v":{"$error":"#N/A"}},{"$error":"#N/A"},null,0,0,0,0,0,0,0]
[null,""," ","","","","",null,null,null,null,null,null,null,null,null,null,null,null," ",null,"",0,0,0,0,0,0,0,0,0,0,null,0,null,{"$f":"IF(AK125=\"\",\"\",IF(BR125=1,\"[b][color=red]\"&Datas!$D$32&\"[/color][/b]\"&AK125&\"[b][color=red]\"&Datas!$D$33&\"{\"&BQ125&\"}[/color][/b]\",AK125))","v":""},""," ",{"$f":"IF(ISBLANK(Datas!$C$41),\"\",\" - \"&AT125)","v":" - [color=red][b]Tréguier[/b][/color]"},{"$f":"IF(ISBLANK(Datas!$C$42),\"\",\" - \"&AU125)","v":""},{"$f":"IF(ISBLANK(Datas!$C$43),\"\",\" - \"&AV125)","v":" - PR:"},{"$f":"IF(ISBLANK(Datas!$C$44),\"\",\" - \"&AW125)","v":" - Ecus: "},{"$f":"IF(ISBLANK(Datas!$C$45),\"\",\" - \"&AX125)","v":" - Niv: "}," ","[b][color=blue]0[/color][/b]","[color=red][b]Tréguier[/b][/color]","Comté du Languedoc","PR:","Ecus: ","Niv: ",null,null,null,null,0,{"$f":"VLOOKUP(BC125,LstVillage!$B$8:$C$283,1)","v":{"$error":"#N/A"}},{"$f":"1","v":1},"blue","Tréguier",{"$f":"VLOOKUP(BG125,Datas!$G$6:$G$17,1)","v":"Nîmes"},0,"red",null,"Comté du Languedoc",0,0,null,{"$f":"VLOOKUP(BC125,Liste_Noire!$B$15:$G$1208,1)","v":{"$error":"#N/A"}},{"$f":"VLOOKUP(BC125,Liste_Noire!$B$15:$G$1208,5)","v":{"$error":"#N/A"}},{"$error":"#N/A"},null,0,0,0,0,0,0,0]
[null,""," ","","","","",null,null,null,null,null,null,null,null,null,null,null,null," ",null,"",0,0,0,0,0,0,0,0,0,0,null,0,null,{"$f":"IF(AK126=\"\",\"\",IF(BR126=1,\"[b][color=red]\"&Datas!$D$32&\"[/color][/b]\"&AK126&\"[b][color=red]\"&Datas!$D$33&\"{\"&BQ126&\"}[/color][/b]\",AK126))","v":""},""," ",{"$f":"IF(ISBLANK(Datas!$C$41),\"\",\" - \"&AT126)","v":" - [color=red][b]Tréguier[/b][/color]"},{"$f":"IF(ISBLANK(Datas!$C$42),\"\",\" - \"&AU126)","v":""},{"$f":"IF(ISBLANK(Datas!$C$43),\"\",\" - \"&AV126)","v":" - PR:"},{"$f":"IF(ISBLANK(Datas!$C$44),\"\",\" - \"&AW126)","v":" - Ecus: "},{"$f":"IF(ISBLANK(Datas!$C$45),\"\",\" - \"&AX126)","v":" - Niv: "}," ","[b][color=blue]0[/color][/b]","[color=red][b]Tréguier[/b][/color]","Comté du Languedoc","PR:","Ecus: ","Niv: ",null,null,null,null,0,{"$f":"VLOOKUP(BC126,LstVillage!$B$8:$C$283,1)","v":{"$error":"#N/A"}},{"$f":"1","v":1},"blue","Tréguier",{"$f":"VLOOKUP(BG126,Datas!$G$6:$G$17,1)","v":"Nîmes"},0,"red",null,"Comté du Languedoc",0,0,null,{"$f":"VLOOKUP(BC126,Liste_Noire!$B$15:$G$1208,1)","v":{"$error":"#N/A"}},{"$f":"VLOOKUP(BC126,Liste_Noire!$B$15:$G$1208,5)","v":{"$error":"#N/A"}},{"$error":"#N/A"},null,0,0,0,0,0,0,0]
[null,""," ","","","","",null,null,null,null,null,null,null,null,null,null,null,null," ",null,"",0,0,0,0,0,0,0,0,0,0,null,0,null,{"$f":"IF(AK127=\"\",\"\",IF(BR127=1,\"[b][color=red]\"&Datas!$D$32&\"[/color][/b]\"&AK127&\"[b][color=red]\"&Datas!$D$33&\"{\"&BQ127&\"}[/color][/b]\",AK127))","v":""},""," ",{"$f":"IF(ISBLANK(Datas!$C$41),\"\",\" - \"&AT127)","v":" - [color=red][b]Tréguier[/b][/color]"},{"$f":"IF(ISBLANK(Datas!$C$42),\"\",\" - \"&AU127)","v":""},{"$f":"IF(ISBLANK(Datas!$C$43),\"\",\" - \"&AV127)","v":" - PR:"},{"$f":"IF(ISBLANK(Datas!$C$44),\"\",\" - \"&AW127)","v":" - Ecus: "},{"$f":"IF(ISBLANK(Datas!$C$45),\"\",\" - \"&AX127)","v":" - Niv: "}," ","[b][color=blue]0[/color][/b]","[color=red][b]Tréguier[/b][/color]","Comté du Languedoc","PR:","Ecus: ","Niv: ",null,null,null,null,0,{"$f":"VLOOKUP(BC127,LstVillage!$B$8:$C$283,1)","v":{"$error":"#N/A"}},{"$f":"1","v":1},"blue","Tréguier",{"$f":"VLOOKUP(BG127,Datas!$G$6:$G$17,1)","v":"Nîmes"},0,"red",null,"Comté du Languedoc",0,0,null,{"$f":"VLOOKUP(BC127,Liste_Noire!$B$15:$G$1208,1)","v":{"$error":"#N/A"}},{"$f":"VLOOKUP(BC127,Liste_Noire!$B$15:$G$1208,5)","v":{"$error":"#N/A"}},{"$error":"#N/A"},null,0,0,0,0,0,0,0]
[null,""," ","","","","",null,null,null,null,null,null,null,null,null,null,null,null," ",null,"",0,0,0,0,0,0,0,0,0,0,null,0,null,{"$f":"IF(AK128=\"\",\"\",IF(BR128=1,\"[b][color=red]\"&Datas!$D$32&\"[/color][/b]\"&AK128&\"[b][color=red]\"&Datas!$D$33&\"{\"&BQ128&\"}[/color][/b]\",AK128))","v":""},""," ",{"$f":"IF(ISBLANK(Datas!$C$41),\"\",\" - \"&AT128)","v":" - [color=red][b]Tréguier[/b][/color]"},{"$f":"IF(ISBLANK(Datas!$C$42),\"\",\" - \"&AU128)","v":""},{"$f":"IF(ISBLANK(Datas!$C$43),\"\",\" - \"&AV128)","v":" - PR:"},{"$f":"IF(ISBLANK(Datas!$C$44),\"\",\" - \"&AW128)","v":" - Ecus: "},{"$f":"IF(ISBLANK(Datas!$C$45),\"\",\" - \"&AX128)","v":" - Niv: "}," ","[b][color=blue]0[/color][/b]","[color=red][b]Tréguier[/b][/color]","Comté du Languedoc","PR:","Ecus: ","Niv: ",null,null,null,null,0,{"$f":"VLOOKUP(BC128,LstVillage!$B$8:$C$283,1)","v":{"$error":"#N/A"}},{"$f":"1","v":1},"blue","Tréguier",{"$f":"VLOOKUP(BG128,Datas!$G$6:$G$17,1)","v":"Nîmes"},0,"red",null,"Comté du Languedoc",0,0,null,{"$f":"VLOOKUP(BC128,Liste_Noire!$B$15:$G$1208,1)","v":{"$error":"#N/A"}},{"$f":"VLOOKUP(BC128,Liste_Noire!$B$15:$G$1208,5)","v":{"$error":"#N/A"}},{"$error":"#N/A"},null,0,0,0,0,0,0,0]
[null,""," ","","","","",null,null,null,null,null,null,null,null,null,null,null,null," ",null,"",0,0,0,0,0,0,0,0,0,0,null,0,null,{"$f":"IF(AK129=\"\",\"\",IF(BR129=1,\"[b][color=red]\"&Datas!$D$32&\"[/color][/b]\"&AK129&\"[b][color=red]\"&Datas!$D$33&\"{\"&BQ129&\"}[/color][/b]\",AK129))","v":""},""," ",{"$f":"IF(ISBLANK(Datas!$C$41),\"\",\" - \"&AT129)","v":" - [color=red][b]Tréguier[/b][/color]"},{"$f":"IF(ISBLANK(Datas!$C$42),\"\",\" - \"&AU129)","v":""},{"$f":"IF(ISBLANK(Datas!$C$43),\"\",\" - \"&AV129)","v":" - PR:"},{"$f":"IF(ISBLANK(Datas!$C$44),\"\",\" - \"&AW129)","v":" - Ecus: "},{"$f":"IF(ISBLANK(Datas!$C$45),\"\",\" - \"&AX129)","v":" - Niv: "}," ","[b][color=blue]0[/color][/b]","[color=red][b]Tréguier[/b][/color]","Comté du Languedoc","PR:","Ecus: ","Niv: ",null,null,null,null,0,{"$f":"VLOOKUP(BC129,LstVillage!$B$8:$C$283,1)","v":{"$error":"#N/A"}},{"$f":"1","v":1},"blue","Tréguier",{"$f":"VLOOKUP(BG129,Datas!$G$6:$G$17,1)","v":"Nîmes"},0,"red",null,"Comté du Languedoc",0,0,null,{"$f":"VLOOKUP(BC129,Liste_Noire!$B$15:$G$1208,1)","v":{"$error":"#N/A"}},{"$f":"VLOOKUP(BC129,Liste_Noire!$B$15:$G$1208,5)","v":{"$error":"#N/A"}},{"$error":"#N/A"},null,0,0,0,0,0,0,0]
[null,""," ","","","","",null,null,null,null,null,null,null,null,null,null,null,null," ",null,"",0,0,0,0,0,0,0,0,0,0,null,0,null,{"$f":"IF(AK130=\"\",\"\",IF(BR130=1,\"[b][color=red]\"&Datas!$D$32&\"[/color][/b]\"&AK130&\"[b][color=red]\"&Datas!$D$33&\"{\"&BQ130&\"}[/color][/b]\",AK130))","v":""},""," ",{"$f":"IF(ISBLANK(Datas!$C$41),\"\",\" - \"&AT130)","v":" - [color=red][b]Tréguier[/b][/color]"},{"$f":"IF(ISBLANK(Datas!$C$42),\"\",\" - \"&AU130)","v":""},{"$f":"IF(ISBLANK(Datas!$C$43),\"\",\" - \"&AV130)","v":" - PR:"},{"$f":"IF(ISBLANK(Datas!$C$44),\"\",\" - \"&AW130)","v":" - Ecus: "},{"$f":"IF(ISBLANK(Datas!$C$45),\"\",\" - \"&AX130)","v":" - Niv: "}," ","[b][color=blue]0[/color][/b]","[color=red][b]Tréguier[/b][/color]","Comté du Languedoc","PR:","Ecus: ","Niv: ",null,null,null,null,0,{"$f":"VLOOKUP(BC130,LstVillage!$B$8:$C$283,1)","v":{"$error":"#N/A"}},{"$f":"1","v":1},"blue","Tréguier",{"$f":"VLOOKUP(BG130,Datas!$G$6:$G$17,1)","v":"Nîmes"},0,"red",null,"Comté du Languedoc",0,0,null,{"$f":"VLOOKUP(BC130,Liste_Noire!$B$15:$G$1208,1)","v":{"$error":"#N/A"}},{"$f":"VLOOKUP(BC130,Liste_Noire!$B$15:$G$1208,5)","v":{"$error":"#N/A"}},{"$error":"#N/A"},null,0,0,0,0,0,0,0]
[null,""," ","","","","",null,null,null,null,null,null,null,null,null,null,null,null," ",null,"",0,0,0,0,0,0,0,0,0,0,null,0,null,{"$f":"IF(AK131=\"\",\"\",IF(BR131=1,\"[b][color=red]\"&Datas!$D$32&\"[/color][/b]\"&AK131&\"[b][color=red]\"&Datas!$D$33&\"{\"&BQ131&\"}[/color][/b]\",AK131))","v":""},""," ",{"$f":"IF(ISBLANK(Datas!$C$41),\"\",\" - \"&AT131)","v":" - [color=red][b]Tréguier[/b][/color]"},{"$f":"IF(ISBLANK(Datas!$C$42),\"\",\" - \"&AU131)","v":""},{"$f":"IF(ISBLANK(Datas!$C$43),\"\",\" - \"&AV131)","v":" - PR:"},{"$f":"IF(ISBLANK(Datas!$C$44),\"\",\" - \"&AW131)","v":" - Ecus: "},{"$f":"IF(ISBLANK(Datas!$C$45),\"\",\" - \"&AX131)","v":" - Niv: "}," ","[b][color=blue]0[/color][/b]","[color=red][b]Tréguier[/b][/color]","Comté du Languedoc","PR:","Ecus: ","Niv: ",null,null,null,null,0,{"$f":"VLOOKUP(BC131,LstVillage!$B$8:$C$283,1)","v":{"$error":"#N/A"}},{"$f":"1","v":1},"blue","Tréguier",{"$f":"VLOOKUP(BG131,Datas!$G$6:$G$17,1)","v":"Nîmes"},0,"red",null,"Comté du Languedoc",0,0,null,{"$f":"VLOOKUP(BC131,Liste_Noire!$B$15:$G$1208,1)","v":{"$error":"#N/A"}},{"$f":"VLOOKUP(BC131,Liste_Noire!$B$15:$G$1208,5)","v":{"$error":"#N/A"}},{"$error":"#N/A"},null,0,0,0,0,0,0,0]
[null,""," ","","","","",null,null,null,null,null,null,null,null,null,null,null,null," ",null,"",0,0,0,0,0,0,0,0,0,0,null,0,null,{"$f":"IF(AK132=\"\",\"\",IF(BR132=1,\"[b][color=red]\"&Datas!$D$32&\"[/color][/b]\"&AK132&\"[b][color=red]\"&Datas!$D$33&\"{\"&BQ132&\"}[/color][/b]\",AK132))","v":""},""," ",{"$f":"IF(ISBLANK(Datas!$C$41),\"\",\" - \"&AT132)","v":" - [color=red][b]Tréguier[/b][/color]"},{"$f":"IF(ISBLANK(Datas!$C$42),\"\",\" - \"&AU132)","v":""},{"$f":"IF(ISBLANK(Datas!$C$43),\"\",\" - \"&AV132)","v":" - PR:"},{"$f":"IF(ISBLANK(Datas!$C$44),\"\",\" - \"&AW132)","v":" - Ecus: "},{"$f":"IF(ISBLANK(Datas!$C$45),\"\",\" - \"&AX132)","v":" - Niv: "}," ","[b][color=blue]0[/color][/b]","[color=red][b]Tréguier[/b][/color]","Comté du Languedoc","PR:","Ecus: ","Niv: ",null,null,null,null,0,{"$f":"VLOOKUP(BC132,LstVillage!$B$8:$C$283,1)","v":{"$error":"#N/A"}},{"$f":"1","v":1},"blue","Tréguier",{"$f":"VLOOKUP(BG132,Datas!$G$6:$G$17,1)","v":"Nîmes"},0,"red",null,"Comté du Languedoc",0,0,null,{"$f":"VLOOKUP(BC132,Liste_Noire!$B$15:$G$1208,1)","v":{"$error":"#N/A"}},{"$f":"VLOOKUP(BC132,Liste_Noire!$B$15:$G$1208,5)","v":{"$error":"#N/A"}},{"$error":"#N/A"},null,0,0,0,0,0,0,0]
[null,""," ","","","","",null,null,null,null,null,null,null,null,null,null,null,null," ",null,"",0,0,0,0,0,0,0,0,0,0,null,0,null,{"$f":"IF(AK133=\"\",\"\",IF(BR133=1,\"[b][color=red]\"&Datas!$D$32&\"[/color][/b]\"&AK133&\"[b][color=red]\"&Datas!$D$33&\"{\"&BQ133&\"}[/color][/b]\",AK133))","v":""},""," ",{"$f":"IF(ISBLANK(Datas!$C$41),\"\",\" - \"&AT133)","v":" - [color=red][b]Tréguier[/b][/color]"},{"$f":"IF(ISBLANK(Datas!$C$42),\"\",\" - \"&AU133)","v":""},{"$f":"IF(ISBLANK(Datas!$C$43),\"\",\" - \"&AV133)","v":" - PR:"},{"$f":"IF(ISBLANK(Datas!$C$44),\"\",\" - \"&AW133)","v":" - Ecus: "},{"$f":"IF(ISBLANK(Datas!$C$45),\"\",\" - \"&AX133)","v":" - Niv: "}," ","[b][color=blue]0[/color][/b]","[color=red][b]Tréguier[/b][/color]","Comté du Languedoc","PR:","Ecus: ","Niv: ",null,null,null,null,0,{"$f":"VLOOKUP(BC133,LstVillage!$B$8:$C$283,1)","v":{"$error":"#N/A"}},{"$f":"1","v":1},"blue","Tréguier",{"$f":"VLOOKUP(BG133,Datas!$G$6:$G$17,1)","v":"Nîmes"},0,"red",null,"Comté du Languedoc",0,0,null,{"$f":"VLOOKUP(BC133,Liste_Noire!$B$15:$G$1208,1)","v":{"$error":"#N/A"}},{"$f":"VLOOKUP(BC133,Liste_Noire!$B$15:$G$1208,5)","v":{"$error":"#N/A"}},{"$error":"#N/A"},null,0,0,0,0,0,0,0]
[null,""," ","","","","",null,null,null,null,null,null,null,null,null,null,null,null," ",null,"",0,0,0,0,0,0,0,0,0,0,null,0,null,{"$f":"IF(AK134=\"\",\"\",IF(BR134=1,\"[b][color=red]\"&Datas!$D$32&\"[/color][/b]\"&AK134&\"[b][color=red]\"&Datas!$D$33&\"{\"&BQ134&\"}[/color][/b]\",AK134))","v":""},""," ",{"$f":"IF(ISBLANK(Datas!$C$41),\"\",\" - \"&AT134)","v":" - [color=red][b]Tréguier[/b][/color]"},{"$f":"IF(ISBLANK(Datas!$C$42),\"\",\" - \"&AU134)","v":""},{"$f":"IF(ISBLANK(Datas!$C$43),\"\",\" - \"&AV134)","v":" - PR:"},{"$f":"IF(ISBLANK(Datas!$C$44),\"\",\" - \"&AW134)","v":" - Ecus: "},{"$f":"IF(ISBLANK(Datas!$C$45),\"\",\" - \"&AX134)","v":" - Niv: "}," ","[b][color=blue]0[/color][/b]","[color=red][b]Tréguier[/b][/color]","Comté du Languedoc","PR:","Ecus: ","Niv: ",null,null,null,null,0,{"$f":"VLOOKUP(BC134,LstVillage!$B$8:$C$283,1)","v":{"$error":"#N/A"}},{"$f":"1","v":1},"blue","Tréguier",{"$f":"VLOOKUP(BG134,Datas!$G$6:$G$17,1)","v":"Nîmes"},0,"red",null,"Comté du Languedoc",0,0,null,{"$f":"VLOOKUP(BC134,Liste_Noire!$B$15:$G$1208,1)","v":{"$error":"#N/A"}},{"$f":"VLOOKUP(BC134,Liste_Noire!$B$15:$G$1208,5)","v":{"$error":"#N/A"}},{"$error":"#N/A"},null,0,0,0,0,0,0,0]
[null,""," ","","","","",null,null,null,null,null,null,null,null,null,null,null,null," ",null,"",0,0,0,0,0,0,0,0,0,0,null,0,null,{"$f":"IF(AK135=\"\",\"\",IF(BR135=1,\"[b][color=red]\"&Datas!$D$32&\"[/color][/b]\"&AK135&\"[b][color=red]\"&Datas!$D$33&\"{\"&BQ135&\"}[/color][/b]\",AK135))","v":""},""," ",{"$f":"IF(ISBLANK(Datas!$C$41),\"\",\" - \"&AT135)","v":" - [color=red][b]Tréguier[/b][/color]"},{"$f":"IF(ISBLANK(Datas!$C$42),\"\",\" - \"&AU135)","v":""},{"$f":"IF(ISBLANK(Datas!$C$43),\"\",\" - \"&AV135)","v":" - PR:"},{"$f":"IF(ISBLANK(Datas!$C$44),\"\",\" - \"&AW135)","v":" - Ecus: "},{"$f":"IF(ISBLANK(Datas!$C$45),\"\",\" - \"&AX135)","v":" - Niv: "}," ","[b][color=blue]0[/color][/b]","[color=red][b]Tréguier[/b][/color]","Comté du Languedoc","PR:","Ecus: ","Niv: ",null,null,null,null,0,{"$f":"VLOOKUP(BC135,LstVillage!$B$8:$C$283,1)","v":{"$error":"#N/A"}},{"$f":"1","v":1},"blue","Tréguier",{"$f":"VLOOKUP(BG135,Datas!$G$6:$G$17,1)","v":"Nîmes"},0,"red",null,"Comté du Languedoc",0,0,null,{"$f":"VLOOKUP(BC135,Liste_Noire!$B$15:$G$1208,1)","v":{"$error":"#N/A"}},{"$f":"VLOOKUP(BC135,Liste_Noire!$B$15:$G$1208,5)","v":{"$error":"#N/A"}},{"$error":"#N/A"},null,0,0,0,0,0,0,0]
[null,""," ","","","","",null,null,null,null,null,null,null,null,null,null,null,null," ",null,"",0,0,0,0,0,0,0,0,0,0,null,0,null,{"$f":"IF(AK136=\"\",\"\",IF(BR136=1,\"[b][color=red]\"&Datas!$D$32&\"[/color][/b]\"&AK136&\"[b][color=red]\"&Datas!$D$33&\"{\"&BQ136&\"}[/color][/b]\",AK136))","v":""},""," ",{"$f":"IF(ISBLANK(Datas!$C$41),\"\",\" - \"&AT136)","v":" - [color=red][b]Tréguier[/b][/color]"},{"$f":"IF(ISBLANK(Datas!$C$42),\"\",\" - \"&AU136)","v":""},{"$f":"IF(ISBLANK(Datas!$C$43),\"\",\" - \"&AV136)","v":" - PR:"},{"$f":"IF(ISBLANK(Datas!$C$44),\"\",\" - \"&AW136)","v":" - Ecus: "},{"$f":"IF(ISBLANK(Datas!$C$45),\"\",\" - \"&AX136)","v":" - Niv: "}," ","[b][color=blue]0[/color][/b]","[color=red][b]Tréguier[/b][/color]","Comté du Languedoc","PR:","Ecus: ","Niv: ",null,null,null,null,0,{"$f":"VLOOKUP(BC136,LstVillage!$B$8:$C$283,1)","v":{"$error":"#N/A"}},{"$f":"1","v":1},"blue","Tréguier",{"$f":"VLOOKUP(BG136,Datas!$G$6:$G$17,1)","v":"Nîmes"},0,"red",null,"Comté du Languedoc",0,0,null,{"$f":"VLOOKUP(BC136,Liste_Noire!$B$15:$G$1208,1)","v":{"$error":"#N/A"}},{"$f":"VLOOKUP(BC136,Liste_Noire!$B$15:$G$1208,5)","v":{"$error":"#N/A"}},{"$error":"#N/A"},null,0,0,0,0,0,0,0]
[null,""," ","","","","",null,null,null,null,null,null,null,null,null,null,null,null," ",null,"",0,0,0,0,0,0,0,0,0,0,null,0,null,{"$f":"IF(AK137=\"\",\"\",IF(BR137=1,\"[b][color=red]\"&Datas!$D$32&\"[/color][/b]\"&AK137&\"[b][color=red]\"&Datas!$D$33&\"{\"&BQ137&\"}[/color][/b]\",AK137))","v":""},""," ",{"$f":"IF(ISBLANK(Datas!$C$41),\"\",\" - \"&AT137)","v":" - [color=red][b]Tréguier[/b][/color]"},{"$f":"IF(ISBLANK(Datas!$C$42),\"\",\" - \"&AU137)","v":""},{"$f":"IF(ISBLANK(Datas!$C$43),\"\",\" - \"&AV137)","v":" - PR:"},{"$f":"IF(ISBLANK(Datas!$C$44),\"\",\" - \"&AW137)","v":" - Ecus: "},{"$f":"IF(ISBLANK(Datas!$C$45),\"\",\" - \"&AX137)","v":" - Niv: "}," ","[b][color=blue]0[/color][/b]","[color=red][b]Tréguier[/b][/color]","Comté du Languedoc","PR:","Ecus: ","Niv: ",null,null,null,null,0,{"$f":"VLOOKUP(BC137,LstVillage!$B$8:$C$283,1)","v":{"$error":"#N/A"}},{"$f":"1","v":1},"blue","Tréguier",{"$f":"VLOOKUP(BG137,Datas!$G$6:$G$17,1)","v":"Nîmes"},0,"red",null,"Comté du Languedoc",0,0,null,{"$f":"VLOOKUP(BC137,Liste_Noire!$B$15:$G$1208,1)","v":{"$error":"#N/A"}},{"$f":"VLOOKUP(BC137,Liste_Noire!$B$15:$G$1208,5)","v":{"$error":"#N/A"}},{"$error":"#N/A"},null,0,0,0,0,0,0,0]
[null,""," ","","","","",null,null,null,null,null,null,null,null,null,null,null,null," ",null,"",0,0,0,0,0,0,0,0,0,0,null,0,null,{"$f":"IF(AK138=\"\",\"\",IF(BR138=1,\"[b][color=red]\"&Datas!$D$32&\"[/color][/b]\"&AK138&\"[b][color=red]\"&Datas!$D$33&\"{\"&BQ138&\"}[/color][/b]\",AK138))","v":""},""," ",{"$f":"IF(ISBLANK(Datas!$C$41),\"\",\" - \"&AT138)","v":" - [color=red][b]Tréguier[/b][/color]"},{"$f":"IF(ISBLANK(Datas!$C$42),\"\",\" - \"&AU138)","v":""},{"$f":"IF(ISBLANK(Datas!$C$43),\"\",\" - \"&AV138)","v":" - PR:"},{"$f":"IF(ISBLANK(Datas!$C$44),\"\",\" - \"&AW138)","v":" - Ecus: "},{"$f":"IF(ISBLANK(Datas!$C$45),\"\",\" - \"&AX138)","v":" - Niv: "}," ","[b][color=blue]0[/color][/b]","[color=red][b]Tréguier[/b][/color]","Comté du Languedoc","PR:","Ecus: ","Niv: ",null,null,null,null,0,{"$f":"VLOOKUP(BC138,LstVillage!$B$8:$C$283,1)","v":{"$error":"#N/A"}},{"$f":"1","v":1},"blue","Tréguier",{"$f":"VLOOKUP(BG138,Datas!$G$6:$G$17,1)","v":"Nîmes"},0,"red",null,"Comté du Languedoc",0,0,null,{"$f":"VLOOKUP(BC138,Liste_Noire!$B$15:$G$1208,1)","v":{"$error":"#N/A"}},{"$f":"VLOOKUP(BC138,Liste_Noire!$B$15:$G$1208,5)","v":{"$error":"#N/A"}},{"$error":"#N/A"},null,0,0,0,0,0,0,0]
[null,""," ","","","","",null,null,null,null,null,null,null,null,null,null,null,null," ",null,"",0,0,0,0,0,0,0,0,0,0,null,0,null,{"$f":"IF(AK139=\"\",\"\",IF(BR139=1,\"[b][color=red]\"&Datas!$D$32&\"[/color][/b]\"&AK139&\"[b][color=red]\"&Datas!$D$33&\"{\"&BQ139&\"}[/color][/b]\",AK139))","v":""},""," ",{"$f":"IF(ISBLANK(Datas!$C$41),\"\",\" - \"&AT139)","v":" - [color=red][b]Tréguier[/b][/color]"},{"$f":"IF(ISBLANK(Datas!$C$42),\"\",\" - \"&AU139)","v":""},{"$f":"IF(ISBLANK(Datas!$C$43),\"\",\" - \"&AV139)","v":" - PR:"},{"$f":"IF(ISBLANK(Datas!$C$44),\"\",\" - \"&AW139)","v":" - Ecus: "},{"$f":"IF(ISBLANK(Datas!$C$45),\"\",\" - \"&AX139)","v":" - Niv: "}," ","[b][color=blue]0[/color][/b]","[color=red][b]Tréguier[/b][/color]","Comté du Languedoc","PR:","Ecus: ","Niv: ",null,null,null,null,0,{"$f":"VLOOKUP(BC139,LstVillage!$B$8:$C$283,1)","v":{"$error":"#N/A"}},{"$f":"1","v":1},"blue","Tréguier",{"$f":"VLOOKUP(BG139,Datas!$G$6:$G$17,1)","v":"Nîmes"},0,"red",null,"Comté du Languedoc",0,0,null,{"$f":"VLOOKUP(BC139,Liste_Noire!$B$15:$G$1208,1)","v":{"$error":"#N/A"}},{"$f":"VLOOKUP(BC139,Liste_Noire!$B$15:$G$1208,5)","v":{"$error":"#N/A"}},{"$error":"#N/A"},null,0,0,0,0,0,0,0]
[null,""," ","","","","",null,null,null,null,null,null,null,null,null,null,null,null," ",null,"",0,0,0,0,0,0,0,0,0,0,null,0,null,{"$f":"IF(AK140=\"\",\"\",IF(BR140=1,\"[b][color=red]\"&Datas!$D$32&\"[/color][/b]\"&AK140&\"[b][color=red]\"&Datas!$D$33&\"{\"&BQ140&\"}[/color][/b]\",AK140))","v":""},""," ",{"$f":"IF(ISBLANK(Datas!$C$41),\"\",\" - \"&AT140)","v":" - [color=red][b]Tréguier[/b][/color]"},{"$f":"IF(ISBLANK(Datas!$C$42),\"\",\" - \"&AU140)","v":""},{"$f":"IF(ISBLANK(Datas!$C$43),\"\",\" - \"&AV140)","v":" - PR:"},{"$f":"IF(ISBLANK(Datas!$C$44),\"\",\" - \"&AW140)","v":" - Ecus: "},{"$f":"IF(ISBLANK(Datas!$C$45),\"\",\" - \"&AX140)","v":" - Niv: "}," ","[b][color=blue]0[/color][/b]","[color=red][b]Tréguier[/b][/color]","Comté du Languedoc","PR:","Ecus: ","Niv: ",null,null,null,null,0,{"$f":"VLOOKUP(BC140,LstVillage!$B$8:$C$283,1)","v":{"$error":"#N/A"}},{"$f":"1","v":1},"blue","Tréguier",{"$f":"VLOOKUP(BG140,Datas!$G$6:$G$17,1)","v":"Nîmes"},0,"red",null,"Comté du Languedoc",0,0,null,{"$f":"VLOOKUP(BC140,Liste_Noire!$B$15:$G$1208,1)","v":{"$error":"#N/A"}},{"$f":"VLOOKUP(BC140,Liste_Noire!$B$15:$G$1208,5)","v":{"$error":"#N/A"}},{"$error":"#N/A"},null,0,0,0,0,0,0,0]
[null,{"$f":"IF(BM141,\"[strike]\"&AJ141&\"[/strike]\",IF(BN141,\"[i]\"&AJ141&\"[/i]\",AJ141))","v":""}," ",{"$f":"IF(J141=\"mort\",\"M\",\"\")","v":""},{"$f":"IF(ISERROR(BR141),\"\",IF(BR141=1,\"LN\",\"\"))","v":""},{"$f":"IF(J141=\"retraite\",\"R\",\"\")","v":""},{"$f":"IF(ISBLANK(V141),\"\",V141)","v":""},null,null,null,null,null,null,null,null,null,null,null,null," ",null,"",{"$f":"IF($V141=W$11,1,0)","v":0},{"$f":"IF(AND(W141=1,$E141=X$11),1,0)","v":0},{"$f":"IF($V141=Y$11,1,0)","v":0},{"$f":"IF(AND(Y141=1,$E141=Z$11),1,0)","v":0},{"$f":"IF($F141=AA$11,1,0)","v":0},{"$f":"IF(AND(AA141=1,$E141=AB$11),1,0)","v":0},{"$f":"IF($D141=AC$11,1,0)","v":0},{"$f":"IF(AND(AC141=1,$E141=AD$11),1,0)","v":0},{"$f":"IF(AND($V141=AE$11,(AA141+AC141)=0),1,0)","v":0},{"$f":"IF(AND(AE141=1,$E141=AF$11),1,0)","v":0},null,{"$f":"IF(AND(ISBLANK(I141),ISBLANK(J141),ISBLANK(L141),ISBLANK(M141)),0,1)","v":0},null,{"$f":"IF(AK141=\"\",\"\",IF(BR141=1,\"[b][color=red]\"&Datas!$D$32&\"[/color][/b]\"&AK141&\"[b][color=red]\"&Datas!$D$33&\"{\"&BQ141&\"}[/color][/b]\",AK141))","v":""},{"$f":"IF(ISBLANK(I141),\"\",AS141&AM141&AN141&AO141&AP141&AQ141)","v":""}," ",{"$f":"IF(ISBLANK(Datas!$C$41),\"\",\" - \"&AT141)","v":" - [color=red][b]Tréguier[/b][/color]"},{"$f":"IF(ISBLANK(Datas!$C$42),\"\",\" - \"&AU141)","v":""},{"$f":"IF(ISBLANK(Datas!$C$43),\"\",\" - \"&AV141)","v":" - PR:"},{"$f":"IF(ISBLANK(Datas!$C$44),\"\",\" - \"&AW141)","v":" - Ecus: "},{"$f":"IF(ISBLANK(Datas!$C$45),\"\",\" - \"&AX141)","v":" - Niv: "}," ",{"$f":"\"[b][color=\"&BF141&\"]\"&BC141&\"[/color][/b]\"","v":"[b][color=blue]0[/color][/b]"},{"$f":"\"[color=\"&BJ141&\"][b]\"&BG141&\"[/b][/color]\"","v":"[color=red][b]Tréguier[/b][/color]"},{"$f":"$H$8","v":"Comté du Languedoc"},{"$f":"\"PR:\"&L141","v":"PR:"},{"$f":"\"Ecus: \"&M141","v":"Ecus: "},{"$f":"\"Niv: \"&K141","v":"Niv: "},null,null,null,null,{"$f":"I141","v":0},{"$f":"VLOOKUP(BC141,LstVillage!$B$8:$C$283,1)","v":{"$error":"#N/A"}},{"$f":"1","v":1},{"$f":"IF(BE141=1,$AT$2,IF(BI141=1,$AT$3,$AT$4))","v":"blue"},{"$f":"$B$8","v":"Tréguier"},{"$f":"VLOOKUP(BG141,Datas!$G$6:$G$17,1)","v":"Nîmes"},{"$f":"IF(BH141<>BG141,0,1)","v":0},{"$f":"IF(BI141=1,$AW$2,$AW$3)","v":"red"},null,{"$f":"$H$8","v":"Comté du Languedoc"},{"$f":"IF(F141=\"M\",1,0)","v":0},{"$f":"IF(F141=\"R\",1,0)","v":0},null,{"$f":"VLOOKUP(BC141,Liste_Noire!$B$15:$G$1208,1)","v":{"$error":"#N/A"}},{"$f":"VLOOKUP(BC141,Liste_Noire!$B$15:$G$1208,5)","v":{"$error":"#N/A"}},{"$f":"IF(ISERR(BP141),0,IF(BP141=BC141,1,0))","v":{"$error":"#N/A"}},null,{"$f":"IF(G141=\"a\",1,0)","v":0},{"$f":"IF(G141=\"d\",1,0)","v":0},{"$f":"IF(F141=\"R\",1,0)","v":0},{"$f":"IF(F141=\"M\",1,0)","v":0},0,0,{"$f":"IF(ISBLANK(I141),0,1)","v":0}]
[null,""," ","","","","",null,null,null,null,null,null,null,null,null,null,null,null," ",null,{"$f":"IF(OR(ISBLANK(R142),TRIM(R142)=\"\"),IF(ISBLANK($I142),\"\",$V$11),IF(OR($F142=$AA$11,$D142=$AC$11),$V$11,IF(R142=\"a/d\",\"\",R142)))","v":""},0,0,0,0,0,0,0,0,0,0,null,0,null,{"$f":"IF(AK142=\"\",\"\",IF(BR142=1,\"[b][color=red]\"&Datas!$D$32&\"[/color][/b]\"&AK142&\"[b][color=red]\"&Datas!$D$33&\"{\"&BQ142&\"}[/color][/b]\",AK142))","v":""},""," ",{"$f":"IF(ISBLANK(Datas!$C$41),\"\",\" - \"&AT142)","v":" - [color=red][b]Tréguier[/b][/color]"},{"$f":"IF(ISBLANK(Datas!$C$42),\"\",\" - \"&AU142)","v":""},{"$f":"IF(ISBLANK(Datas!$C$43),\"\",\" - \"&AV142)","v":" - PR:"},{"$f":"IF(ISBLANK(Datas!$C$44),\"\",\" - \"&AW142)","v":" - Ecus: "},{"$f":"IF(ISBLANK(Datas!$C$45),\"\",\" - \"&AX142)","v":" - Niv: "}," ","[b][color=blue]0[/color][/b]","[color=red][b]Tréguier[/b][/color]","Comté du Languedoc","PR:","Ecus: ","Niv: ",null,null,null,null,0,{"$f":"VLOOKUP(BC142,LstVillage!$B$8:$C$283,1)","v":{"$error":"#N/A"}},{"$f":"1","v":1},"blue","Tréguier",{"$f":"VLOOKUP(BG142,Datas!$G$6:$G$17,1)","v":"Nîmes"},0,"red",null,"Comté du Languedoc",0,0,null,{"$f":"VLOOKUP(BC142,Liste_Noire!$B$15:$G$1208,1)","v":{"$error":"#N/A"}},{"$f":"VLOOKUP(BC142,Liste_Noire!$B$15:$G$1208,5)","v":{"$error":"#N/A"}},{"$error":"#N/A"},null,0,0,0,0,0,0,0]
[null,""," ","","","","",null,null,null,null,null,null,null,null,null,null,null,null," ",null,"",0,0,0,0,0,0,0,0,0,0,null,0,null,{"$f":"IF(AK143=\"\",\"\",IF(BR143=1,\"[b][color=red]\"&Datas!$D$32&\"[/color][/b]\"&AK143&\"[b][color=red]\"&Datas!$D$33&\"{\"&BQ143&\"}[/color][/b]\",AK143))","v":""},""," ",{"$f":"IF(ISBLANK(Datas!$C$41),\"\",\" - \"&AT143)","v":" - [color=red][b]Tréguier[/b][/color]"},{"$f":"IF(ISBLANK(Datas!$C$42),\"\",\" - \"&AU143)","v":""},{"$f":"IF(ISBLANK(Datas!$C$43),\"\",\" - \"&AV143)","v":" - PR:"},{"$f":"IF(ISBLANK(Datas!$C$44),\"\",\" - \"&AW143)","v":" - Ecus: "},{"$f":"IF(ISBLANK(Datas!$C$45),\"\",\" - \"&AX143)","v":" - Niv: "}," ","[b][color=blue]0[/color][/b]","[color=red][b]Tréguier[/b][/color]","Comté du Languedoc","PR:","Ecus: ","Niv: ",null,null,null,null,0,{"$f":"VLOOKUP(BC143,LstVillage!$B$8:$C$283,1)","v":{"$error":"#N/A"}},{"$f":"1","v":1},"blue","Tréguier",{"$f":"VLOOKUP(BG143,Datas!$G$6:$G$17,1)","v":"Nîmes"},0,"red",null,"Comté du Languedoc",0,0,null,{"$f":"VLOOKUP(BC143,Liste_Noire!$B$15:$G$1208,1)","v":{"$error":"#N/A"}},{"$f":"VLOOKUP(BC143,Liste_Noire!$B$15:$G$1208,5)","v":{"$error":"#N/A"}},{"$error":"#N/A"},null,0,0,0,0,0,0,0]
[null,""," ","","","","",null,null,null,null,null,null,null,null,null,null,null,null," ",null,"",0,0,0,0,0,0,0,0,0,0,null,0,null,{"$f":"IF(AK144=\"\",\"\",IF(BR144=1,\"[b][color=red]\"&Datas!$D$32&\"[/color][/b]\"&AK144&\"[b][color=red]\"&Datas!$D$33&\"{\"&BQ144&\"}[/color][/b]\",AK144))","v":""},""," ",{"$f":"IF(ISBLANK(Datas!$C$41),\"\",\" - \"&AT144)","v":" - [color=red][b]Tréguier[/b][/color]"},{"$f":"IF(ISBLANK(Datas!$C$42),\"\",\" - \"&AU144)","v":""},{"$f":"IF(ISBLANK(Datas!$C$43),\"\",\" - \"&AV144)","v":" - PR:"},{"$f":"IF(ISBLANK(Datas!$C$44),\"\",\" - \"&AW144)","v":" - Ecus: "},{"$f":"IF(ISBLANK(Datas!$C$45),\"\",\" - \"&AX144)","v":" - Niv: "}," ","[b][color=blue]0[/color][/b]","[color=red][b]Tréguier[/b][/color]","Comté du Languedoc","PR:","Ecus: ","Niv: ",null,null,null,null,0,{"$f":"VLOOKUP(BC144,LstVillage!$B$8:$C$283,1)","v":{"$error":"#N/A"}},{"$f":"1","v":1},"blue","Tréguier",{"$f":"VLOOKUP(BG144,Datas!$G$6:$G$17,1)","v":"Nîmes"},0,"red",null,"Comté du Languedoc",0,0,null,{"$f":"VLOOKUP(BC144,Liste_Noire!$B$15:$G$1208,1)","v":{"$error":"#N/A"}},{"$f":"VLOOKUP(BC144,Liste_Noire!$B$15:$G$1208,5)","v":{"$error":"#N/A"}},{"$error":"#N/A"},null,0,0,0,0,0,0,0]
[null,""," ","","","","",null,null,null,null,null,null,null,null,null,null,null,null," ",null,"",0,0,0,0,0,0,0,0,0,0,null,0,null,{"$f":"IF(AK145=\"\",\"\",IF(BR145=1,\"[b][color=red]\"&Datas!$D$32&\"[/color][/b]\"&AK145&\"[b][color=red]\"&Datas!$D$33&\"{\"&BQ145&\"}[/color][/b]\",AK145))","v":""},""," ",{"$f":"IF(ISBLANK(Datas!$C$41),\"\",\" - \"&AT145)","v":" - [color=red][b]Tréguier[/b][/color]"},{"$f":"IF(ISBLANK(Datas!$C$42),\"\",\" - \"&AU145)","v":""},{"$f":"IF(ISBLANK(Datas!$C$43),\"\",\" - \"&AV145)","v":" - PR:"},{"$f":"IF(ISBLANK(Datas!$C$44),\"\",\" - \"&AW145)","v":" - Ecus: "},{"$f":"IF(ISBLANK(Datas!$C$45),\"\",\" - \"&AX145)","v":" - Niv: "}," ","[b][color=blue]0[/color][/b]","[color=red][b]Tréguier[/b][/color]","Comté du Languedoc","PR:","Ecus: ","Niv: ",null,null,null,null,0,{"$f":"VLOOKUP(BC145,LstVillage!$B$8:$C$283,1)","v":{"$error":"#N/A"}},{"$f":"1","v":1},"blue","Tréguier",{"$f":"VLOOKUP(BG145,Datas!$G$6:$G$17,1)","v":"Nîmes"},0,"red",null,"Comté du Languedoc",0,0,null,{"$f":"VLOOKUP(BC145,Liste_Noire!$B$15:$G$1208,1)","v":{"$error":"#N/A"}},{"$f":"VLOOKUP(BC145,Liste_Noire!$B$15:$G$1208,5)","v":{"$error":"#N/A"}},{"$error":"#N/A"},null,0,0,0,0,0,0,0]
[null,""," ","","","","",null,null,null,null,null,null,null,null,null,null,null,null," ",null,"",0,0,0,0,0,0,0,0,0,0,null,0,null,{"$f":"IF(AK146=\"\",\"\",IF(BR146=1,\"[b][color=red]\"&Datas!$D$32&\"[/color][/b]\"&AK146&\"[b][color=red]\"&Datas!$D$33&\"{\"&BQ146&\"}[/color][/b]\",AK146))","v":""},""," ",{"$f":"IF(ISBLANK(Datas!$C$41),\"\",\" - \"&AT146)","v":" - [color=red][b]Tréguier[/b][/color]"},{"$f":"IF(ISBLANK(Datas!$C$42),\"\",\" - \"&AU146)","v":""},{"$f":"IF(ISBLANK(Datas!$C$43),\"\",\" - \"&AV146)","v":" - PR:"},{"$f":"IF(ISBLANK(Datas!$C$44),\"\",\" - \"&AW146)","v":" - Ecus: "},{"$f":"IF(ISBLANK(Datas!$C$45),\"\",\" - \"&AX146)","v":" - Niv: "}," ","[b][color=blue]0[/color][/b]","[color=red][b]Tréguier[/b][/color]","Comté du Languedoc","PR:","Ecus: ","Niv: ",null,null,null,null,0,{"$f":"VLOOKUP(BC146,LstVillage!$B$8:$C$283,1)","v":{"$error":"#N/A"}},{"$f":"1","v":1},"blue","Tréguier",{"$f":"VLOOKUP(BG146,Datas!$G$6:$G$17,1)","v":"Nîmes"},0,"red",null,"Comté du Languedoc",0,0,null,{"$f":"VLOOKUP(BC146,Liste_Noire!$B$15:$G$1208,1)","v":{"$error":"#N/A"}},{"$f":"VLOOKUP(BC146,Liste_Noire!$B$15:$G$1208,5)","v":{"$error":"#N/A"}},{"$error":"#N/A"},null,0,0,0,0,0,0,0]
[null,""," ","","","","",null,null,null,null,null,null,null,null,null,null,null,null," ",null,"",0,0,0,0,0,0,0,0,0,0,null,0,null,{"$f":"IF(AK147=\"\",\"\",IF(BR147=1,\"[b][color=red]\"&Datas!$D$32&\"[/color][/b]\"&AK147&\"[b][color=red]\"&Datas!$D$33&\"{\"&BQ147&\"}[/color][/b]\",AK147))","v":""},""," ",{"$f":"IF(ISBLANK(Datas!$C$41),\"\",\" - \"&AT147)","v":" - [color=red][b]Tréguier[/b][/color]"},{"$f":"IF(ISBLANK(Datas!$C$42),\"\",\" - \"&AU147)","v":""},{"$f":"IF(ISBLANK(Datas!$C$43),\"\",\" - \"&AV147)","v":" - PR:"},{"$f":"IF(ISBLANK(Datas!$C$44),\"\",\" - \"&AW147)","v":" - Ecus: "},{"$f":"IF(ISBLANK(Datas!$C$45),\"\",\" - \"&AX147)","v":" - Niv: "}," ","[b][color=blue]0[/color][/b]","[color=red][b]Tréguier[/b][/color]","Comté du Languedoc","PR:","Ecus: ","Niv: ",null,null,null,null,0,{"$f":"VLOOKUP(BC147,LstVillage!$B$8:$C$283,1)","v":{"$error":"#N/A"}},{"$f":"1","v":1},"blue","Tréguier",{"$f":"VLOOKUP(BG147,Datas!$G$6:$G$17,1)","v":"Nîmes"},0,"red",null,"Comté du Languedoc",0,0,null,{"$f":"VLOOKUP(BC147,Liste_Noire!$B$15:$G$1208,1)","v":{"$error":"#N/A"}},{"$f":"VLOOKUP(BC147,Liste_Noire!$B$15:$G$1208,5)","v":{"$error":"#N/A"}},{"$error":"#N/A"},null,0,0,0,0,0,0,0]
[null,""," ","","","","",null,null,null,null,null,null,null,null,null,null,null,null," ",null,"",0,0,0,0,0,0,0,0,0,0,null,0,null,{"$f":"IF(AK148=\"\",\"\",IF(BR148=1,\"[b][color=red]\"&Datas!$D$32&\"[/color][/b]\"&AK148&\"[b][color=red]\"&Datas!$D$33&\"{\"&BQ148&\"}[/color][/b]\",AK148))","v":""},""," ",{"$f":"IF(ISBLANK(Datas!$C$41),\"\",\" - \"&AT148)","v":" - [color=red][b]Tréguier[/b][/color]"},{"$f":"IF(ISBLANK(Datas!$C$42),\"\",\" - \"&AU148)","v":""},{"$f":"IF(ISBLANK(Datas!$C$43),\"\",\" - \"&AV148)","v":" - PR:"},{"$f":"IF(ISBLANK(Datas!$C$44),\"\",\" - \"&AW148)","v":" - Ecus: "},{"$f":"IF(ISBLANK(Datas!$C$45),\"\",\" - \"&AX148)","v":" - Niv: "}," ","[b][color=blue]0[/color][/b]","[color=red][b]Tréguier[/b][/color]","Comté du Languedoc","PR:","Ecus: ","Niv: ",null,null,null,null,0,{"$f":"VLOOKUP(BC148,LstVillage!$B$8:$C$283,1)","v":{"$error":"#N/A"}},{"$f":"1","v":1},"blue","Tréguier",{"$f":"VLOOKUP(BG148,Datas!$G$6:$G$17,1)","v":"Nîmes"},0,"red",null,"Comté du Languedoc",0,0,null,{"$f":"VLOOKUP(BC148,Liste_Noire!$B$15:$G$1208,1)","v":{"$error":"#N/A"}},{"$f":"VLOOKUP(BC148,Liste_Noire!$B$15:$G$1208,5)","v":{"$error":"#N/A"}},{"$error":"#N/A"},null,0,0,0,0,0,0,0]
[null,""," ","","","","",null,null,null,null,null,null,null,null,null,null,null,null," ",null,"",0,0,0,0,0,0,0,0,0,0,null,0,null,{"$f":"IF(AK149=\"\",\"\",IF(BR149=1,\"[b][color=red]\"&Datas!$D$32&\"[/color][/b]\"&AK149&\"[b][color=red]\"&Datas!$D$33&\"{\"&BQ149&\"}[/color][/b]\",AK149))","v":""},""," ",{"$f":"IF(ISBLANK(Datas!$C$41),\"\",\" - \"&AT149)","v":" - [color=red][b]Tréguier[/b][/color]"},{"$f":"IF(ISBLANK(Datas!$C$42),\"\",\" - \"&AU149)","v":""},{"$f":"IF(ISBLANK(Datas!$C$43),\"\",\" - \"&AV149)","v":" - PR:"},{"$f":"IF(ISBLANK(Datas!$C$44),\"\",\" - \"&AW149)","v":" - Ecus: "},{"$f":"IF(ISBLANK(Datas!$C$45),\"\",\" - \"&AX149)","v":" - Niv: "}," ","[b][color=blue]0[/color][/b]","[color=red][b]Tréguier[/b][/color]","Comté du Languedoc","PR:","Ecus: ","Niv: ",null,null,null,null,0,{"$f":"VLOOKUP(BC149,LstVillage!$B$8:$C$283,1)","v":{"$error":"#N/A"}},{"$f":"1","v":1},"blue","Tréguier",{"$f":"VLOOKUP(BG149,Datas!$G$6:$G$17,1)","v":"Nîmes"},0,"red",null,"Comté du Languedoc",0,0,null,{"$f":"VLOOKUP(BC149,Liste_Noire!$B$15:$G$1208,1)","v":{"$error":"#N/A"}},{"$f":"VLOOKUP(BC149,Liste_Noire!$B$15:$G$1208,5)","v":{"$error":"#N/A"}},{"$error":"#N/A"},null,0,0,0,0,0,0,0]
[null,""," ","","","","",null,null,null,null,null,null,null,null,null,null,null,null," ",null,"",0,0,0,0,0,0,0,0,0,0,null,0,null,{"$f":"IF(AK150=\"\",\"\",IF(BR150=1,\"[b][color=red]\"&Datas!$D$32&\"[/color][/b]\"&AK150&\"[b][color=red]\"&Datas!$D$33&\"{\"&BQ150&\"}[/color][/b]\",AK150))","v":""},""," ",{"$f":"IF(ISBLANK(Datas!$C$41),\"\",\" - \"&AT150)","v":" - [color=red][b]Tréguier[/b][/color]"},{"$f":"IF(ISBLANK(Datas!$C$42),\"\",\" - \"&AU150)","v":""},{"$f":"IF(ISBLANK(Datas!$C$43),\"\",\" - \"&AV150)","v":" - PR:"},{"$f":"IF(ISBLANK(Datas!$C$44),\"\",\" - \"&AW150)","v":" - Ecus: "},{"$f":"IF(ISBLANK(Datas!$C$45),\"\",\" - \"&AX150)","v":" - Niv: "}," ","[b][color=blue]0[/color][/b]","[color=red][b]Tréguier[/b][/color]","Comté du Languedoc","PR:","Ecus: ","Niv: ",null,null,null,null,0,{"$f":"VLOOKUP(BC150,LstVillage!$B$8:$C$283,1)","v":{"$error":"#N/A"}},{"$f":"1","v":1},"blue","Tréguier",{"$f":"VLOOKUP(BG150,Datas!$G$6:$G$17,1)","v":"Nîmes"},0,"red",null,"Comté du Languedoc",0,0,null,{"$f":"VLOOKUP(BC150,Liste_Noire!$B$15:$G$1208,1)","v":{"$error":"#N/A"}},{"$f":"VLOOKUP(BC150,Liste_Noire!$B$15:$G$1208,5)","v":{"$error":"#N/A"}},{"$error":"#N/A"},null,0,0,0,0,0,0,0]
[null,""," ","","","","",null,null,null,null,null,null,null,null,null,null,null,null," ",null,"",0,0,0,0,0,0,0,0,0,0,null,0,null,{"$f":"IF(AK151=\"\",\"\",IF(BR151=1,\"[b][color=red]\"&Datas!$D$32&\"[/color][/b]\"&AK151&\"[b][color=red]\"&Datas!$D$33&\"{\"&BQ151&\"}[/color][/b]\",AK151))","v":""},""," ",{"$f":"IF(ISBLANK(Datas!$C$41),\"\",\" - \"&AT151)","v":" - [color=red][b]Tréguier[/b][/color]"},{"$f":"IF(ISBLANK(Datas!$C$42),\"\",\" - \"&AU151)","v":""},{"$f":"IF(ISBLANK(Datas!$C$43),\"\",\" - \"&AV151)","v":" - PR:"},{"$f":"IF(ISBLANK(Datas!$C$44),\"\",\" - \"&AW151)","v":" - Ecus: "},{"$f":"IF(ISBLANK(Datas!$C$45),\"\",\" - \"&AX151)","v":" - Niv: "}," ","[b][color=blue]0[/color][/b]","[color=red][b]Tréguier[/b][/color]","Comté du Languedoc","PR:","Ecus: ","Niv: ",null,null,null,null,0,{"$f":"VLOOKUP(BC151,LstVillage!$B$8:$C$283,1)","v":{"$error":"#N/A"}},{"$f":"1","v":1},"blue","Tréguier",{"$f":"VLOOKUP(BG151,Datas!$G$6:$G$17,1)","v":"Nîmes"},0,"red",null,"Comté du Languedoc",0,0,null,{"$f":"VLOOKUP(BC151,Liste_Noire!$B$15:$G$1208,1)","v":{"$error":"#N/A"}},{"$f":"VLOOKUP(BC151,Liste_Noire!$B$15:$G$1208,5)","v":{"$error":"#N/A"}},{"$error":"#N/A"},null,0,0,0,0,0,0,0]
[null,""," ","","","","",null,null,null,null,null,null,null,null,null,null,null,null," ",null,"",0,0,0,0,0,0,0,0,0,0,null,0,null,{"$f":"IF(AK152=\"\",\"\",IF(BR152=1,\"[b][color=red]\"&Datas!$D$32&\"[/color][/b]\"&AK152&\"[b][color=red]\"&Datas!$D$33&\"{\"&BQ152&\"}[/color][/b]\",AK152))","v":""},""," ",{"$f":"IF(ISBLANK(Datas!$C$41),\"\",\" - \"&AT152)","v":" - [color=red][b]Tréguier[/b][/color]"},{"$f":"IF(ISBLANK(Datas!$C$42),\"\",\" - \"&AU152)","v":""},{"$f":"IF(ISBLANK(Datas!$C$43),\"\",\" - \"&AV152)","v":" - PR:"},{"$f":"IF(ISBLANK(Datas!$C$44),\"\",\" - \"&AW152)","v":" - Ecus: "},{"$f":"IF(ISBLANK(Datas!$C$45),\"\",\" - \"&AX152)","v":" - Niv: "}," ","[b][color=blue]0[/color][/b]","[color=red][b]Tréguier[/b][/color]","Comté du Languedoc","PR:","Ecus: ","Niv: ",null,null,null,null,0,{"$f":"VLOOKUP(BC152,LstVillage!$B$8:$C$283,1)","v":{"$error":"#N/A"}},{"$f":"1","v":1},"blue","Tréguier",{"$f":"VLOOKUP(BG152,Datas!$G$6:$G$17,1)","v":"Nîmes"},0,"red",null,"Comté du Languedoc",0,0,null,{"$f":"VLOOKUP(BC152,Liste_Noire!$B$15:$G$1208,1)","v":{"$error":"#N/A"}},{"$f":"VLOOKUP(BC152,Liste_Noire!$B$15:$G$1208,5)","v":{"$error":"#N/A"}},{"$error":"#N/A"},null,0,0,0,0,0,0,0]
[null,""," ","","","","",null,null,null,null,null,null,null,null,null,null,null,null," ",null,"",0,0,0,0,0,0,0,0,0,0,null,0,null,{"$f":"IF(AK153=\"\",\"\",IF(BR153=1,\"[b][color=red]\"&Datas!$D$32&\"[/color][/b]\"&AK153&\"[b][color=red]\"&Datas!$D$33&\"{\"&BQ153&\"}[/color][/b]\",AK153))","v":""},""," ",{"$f":"IF(ISBLANK(Datas!$C$41),\"\",\" - \"&AT153)","v":" - [color=red][b]Tréguier[/b][/color]"},{"$f":"IF(ISBLANK(Datas!$C$42),\"\",\" - \"&AU153)","v":""},{"$f":"IF(ISBLANK(Datas!$C$43),\"\",\" - \"&AV153)","v":" - PR:"},{"$f":"IF(ISBLANK(Datas!$C$44),\"\",\" - \"&AW153)","v":" - Ecus: "},{"$f":"IF(ISBLANK(Datas!$C$45),\"\",\" - \"&AX153)","v":" - Niv: "}," ","[b][color=blue]0[/color][/b]","[color=red][b]Tréguier[/b][/color]","Comté du Languedoc","PR:","Ecus: ","Niv: ",null,null,null,null,0,{"$f":"VLOOKUP(BC153,LstVillage!$B$8:$C$283,1)","v":{"$error":"#N/A"}},{"$f":"1","v":1},"blue","Tréguier",{"$f":"VLOOKUP(BG153,Datas!$G$6:$G$17,1)","v":"Nîmes"},0,"red",null,"Comté du Languedoc",0,0,null,{"$f":"VLOOKUP(BC153,Liste_Noire!$B$15:$G$1208,1)","v":{"$error":"#N/A"}},{"$f":"VLOOKUP(BC153,Liste_Noire!$B$15:$G$1208,5)","v":{"$error":"#N/A"}},{"$error":"#N/A"},null,0,0,0,0,0,0,0]
[null,""," ","","","","",null,null,null,null,null,null,null,null,null,null,null,null," ",null,"",0,0,0,0,0,0,0,0,0,0,null,0,null,{"$f":"IF(AK154=\"\",\"\",IF(BR154=1,\"[b][color=red]\"&Datas!$D$32&\"[/color][/b]\"&AK154&\"[b][color=red]\"&Datas!$D$33&\"{\"&BQ154&\"}[/color][/b]\",AK154))","v":""},""," ",{"$f":"IF(ISBLANK(Datas!$C$41),\"\",\" - \"&AT154)","v":" - [color=red][b]Tréguier[/b][/color]"},{"$f":"IF(ISBLANK(Datas!$C$42),\"\",\" - \"&AU154)","v":""},{"$f":"IF(ISBLANK(Datas!$C$43),\"\",\" - \"&AV154)","v":" - PR:"},{"$f":"IF(ISBLANK(Datas!$C$44),\"\",\" - \"&AW154)","v":" - Ecus: "},{"$f":"IF(ISBLANK(Datas!$C$45),\"\",\" - \"&AX154)","v":" - Niv: "}," ","[b][color=blue]0[/color][/b]","[color=red][b]Tréguier[/b][/color]","Comté du Languedoc","PR:","Ecus: ","Niv: ",null,null,null,null,0,{"$f":"VLOOKUP(BC154,LstVillage!$B$8:$C$283,1)","v":{"$error":"#N/A"}},{"$f":"1","v":1},"blue","Tréguier",{"$f":"VLOOKUP(BG154,Datas!$G$6:$G$17,1)","v":"Nîmes"},0,"red",null,"Comté du Languedoc",0,0,null,{"$f":"VLOOKUP(BC154,Liste_Noire!$B$15:$G$1208,1)","v":{"$error":"#N/A"}},{"$f":"VLOOKUP(BC154,Liste_Noire!$B$15:$G$1208,5)","v":{"$error":"#N/A"}},{"$error":"#N/A"},null,0,0,0,0,0,0,0]
[null,""," ","","","","",null,null,null,null,null,null,null,null,null,null,null,null," ",null,"",0,0,0,0,0,0,0,0,0,0,null,0,null,{"$f":"IF(AK155=\"\",\"\",IF(BR155=1,\"[b][color=red]\"&Datas!$D$32&\"[/color][/b]\"&AK155&\"[b][color=red]\"&Datas!$D$33&\"{\"&BQ155&\"}[/color][/b]\",AK155))","v":""},""," ",{"$f":"IF(ISBLANK(Datas!$C$41),\"\",\" - \"&AT155)","v":" - [color=red][b]Tréguier[/b][/color]"},{"$f":"IF(ISBLANK(Datas!$C$42),\"\",\" - \"&AU155)","v":""},{"$f":"IF(ISBLANK(Datas!$C$43),\"\",\" - \"&AV155)","v":" - PR:"},{"$f":"IF(ISBLANK(Datas!$C$44),\"\",\" - \"&AW155)","v":" - Ecus: "},{"$f":"IF(ISBLANK(Datas!$C$45),\"\",\" - \"&AX155)","v":" - Niv: "}," ","[b][color=blue]0[/color][/b]","[color=red][b]Tréguier[/b][/color]","Comté du Languedoc","PR:","Ecus: ","Niv: ",null,null,null,null,0,{"$f":"VLOOKUP(BC155,LstVillage!$B$8:$C$283,1)","v":{"$error":"#N/A"}},{"$f":"1","v":1},"blue","Tréguier",{"$f":"VLOOKUP(BG155,Datas!$G$6:$G$17,1)","v":"Nîmes"},0,"red",null,"Comté du Languedoc",0,0,null,{"$f":"VLOOKUP(BC155,Liste_Noire!$B$15:$G$1208,1)","v":{"$error":"#N/A"}},{"$f":"VLOOKUP(BC155,Liste_Noire!$B$15:$G$1208,5)","v":{"$error":"#N/A"}},{"$error":"#N/A"},null,0,0,0,0,0,0,0]
[null,""," ","","","","",null,null,null,null,null,null,null,null,null,null,null,null," ",null,"",0,0,0,0,0,0,0,0,0,0,null,0,null,{"$f":"IF(AK156=\"\",\"\",IF(BR156=1,\"[b][color=red]\"&Datas!$D$32&\"[/color][/b]\"&AK156&\"[b][color=red]\"&Datas!$D$33&\"{\"&BQ156&\"}[/color][/b]\",AK156))","v":""},""," ",{"$f":"IF(ISBLANK(Datas!$C$41),\"\",\" - \"&AT156)","v":" - [color=red][b]Tréguier[/b][/color]"},{"$f":"IF(ISBLANK(Datas!$C$42),\"\",\" - \"&AU156)","v":""},{"$f":"IF(ISBLANK(Datas!$C$43),\"\",\" - \"&AV156)","v":" - PR:"},{"$f":"IF(ISBLANK(Datas!$C$44),\"\",\" - \"&AW156)","v":" - Ecus: "},{"$f":"IF(ISBLANK(Datas!$C$45),\"\",\" - \"&AX156)","v":" - Niv: "}," ","[b][color=blue]0[/color][/b]","[color=red][b]Tréguier[/b][/color]","Comté du Languedoc","PR:","Ecus: ","Niv: ",null,null,null,null,0,{"$f":"VLOOKUP(BC156,LstVillage!$B$8:$C$283,1)","v":{"$error":"#N/A"}},{"$f":"1","v":1},"blue","Tréguier",{"$f":"VLOOKUP(BG156,Datas!$G$6:$G$17,1)","v":"Nîmes"},0,"red",null,"Comté du Languedoc",0,0,null,{"$f":"VLOOKUP(BC156,Liste_Noire!$B$15:$G$1208,1)","v":{"$error":"#N/A"}},{"$f":"VLOOKUP(BC156,Liste_Noire!$B$15:$G$1208,5)","v":{"$error":"#N/A"}},{"$error":"#N/A"},null,0,0,0,0,0,0,0]
[null,""," ","","","","",null,null,null,null,null,null,null,null,null,null,null,null," ",null,"",0,0,0,0,0,0,0,0,0,0,null,0,null,{"$f":"IF(AK157=\"\",\"\",IF(BR157=1,\"[b][color=red]\"&Datas!$D$32&\"[/color][/b]\"&AK157&\"[b][color=red]\"&Datas!$D$33&\"{\"&BQ157&\"}[/color][/b]\",AK157))","v":""},""," ",{"$f":"IF(ISBLANK(Datas!$C$41),\"\",\" - \"&AT157)","v":" - [color=red][b]Tréguier[/b][/color]"},{"$f":"IF(ISBLANK(Datas!$C$42),\"\",\" - \"&AU157)","v":""},{"$f":"IF(ISBLANK(Datas!$C$43),\"\",\" - \"&AV157)","v":" - PR:"},{"$f":"IF(ISBLANK(Datas!$C$44),\"\",\" - \"&AW157)","v":" - Ecus: "},{"$f":"IF(ISBLANK(Datas!$C$45),\"\",\" - \"&AX157)","v":" - Niv: "}," ","[b][color=blue]0[/color][/b]","[color=red][b]Tréguier[/b][/color]","Comté du Languedoc","PR:","Ecus: ","Niv: ",null,null,null,null,0,{"$f":"VLOOKUP(BC157,LstVillage!$B$8:$C$283,1)","v":{"$error":"#N/A"}},{"$f":"1","v":1},"blue","Tréguier",{"$f":"VLOOKUP(BG157,Datas!$G$6:$G$17,1)","v":"Nîmes"},0,"red",null,"Comté du Languedoc",0,0,null,{"$f":"VLOOKUP(BC157,Liste_Noire!$B$15:$G$1208,1)","v":{"$error":"#N/A"}},{"$f":"VLOOKUP(BC157,Liste_Noire!$B$15:$G$1208,5)","v":{"$error":"#N/A"}},{"$error":"#N/A"},null,0,0,0,0,0,0,0]
[null,""," ","","","","",null,null,null,null,null,null,null,null,null,null,null,null," ",null,"",0,0,0,0,0,0,0,0,0,0,null,0,null,{"$f":"IF(AK158=\"\",\"\",IF(BR158=1,\"[b][color=red]\"&Datas!$D$32&\"[/color][/b]\"&AK158&\"[b][color=red]\"&Datas!$D$33&\"{\"&BQ158&\"}[/color][/b]\",AK158))","v":""},""," ",{"$f":"IF(ISBLANK(Datas!$C$41),\"\",\" - \"&AT158)","v":" - [color=red][b]Tréguier[/b][/color]"},{"$f":"IF(ISBLANK(Datas!$C$42),\"\",\" - \"&AU158)","v":""},{"$f":"IF(ISBLANK(Datas!$C$43),\"\",\" - \"&AV158)","v":" - PR:"},{"$f":"IF(ISBLANK(Datas!$C$44),\"\",\" - \"&AW158)","v":" - Ecus: "},{"$f":"IF(ISBLANK(Datas!$C$45),\"\",\" - \"&AX158)","v":" - Niv: "}," ","[b][color=blue]0[/color][/b]","[color=red][b]Tréguier[/b][/color]","Comté du Languedoc","PR:","Ecus: ","Niv: ",null,null,null,null,0,{"$f":"VLOOKUP(BC158,LstVillage!$B$8:$C$283,1)","v":{"$error":"#N/A"}},{"$f":"1","v":1},"blue","Tréguier",{"$f":"VLOOKUP(BG158,Datas!$G$6:$G$17,1)","v":"Nîmes"},0,"red",null,"Comté du Languedoc",0,0,null,{"$f":"VLOOKUP(BC158,Liste_Noire!$B$15:$G$1208,1)","v":{"$error":"#N/A"}},{"$f":"VLOOKUP(BC158,Liste_Noire!$B$15:$G$1208,5)","v":{"$error":"#N/A"}},{"$error":"#N/A"},null,0,0,0,0,0,0,0]
[null,""," ","","","","",null,null,null,null,null,null,null,null,null,null,null,null," ",null,"",0,0,0,0,0,0,0,0,0,0,null,0,null,{"$f":"IF(AK159=\"\",\"\",IF(BR159=1,\"[b][color=red]\"&Datas!$D$32&\"[/color][/b]\"&AK159&\"[b][color=red]\"&Datas!$D$33&\"{\"&BQ159&\"}[/color][/b]\",AK159))","v":""},""," ",{"$f":"IF(ISBLANK(Datas!$C$41),\"\",\" - \"&AT159)","v":" - [color=red][b]Tréguier[/b][/color]"},{"$f":"IF(ISBLANK(Datas!$C$42),\"\",\" - \"&AU159)","v":""},{"$f":"IF(ISBLANK(Datas!$C$43),\"\",\" - \"&AV159)","v":" - PR:"},{"$f":"IF(ISBLANK(Datas!$C$44),\"\",\" - \"&AW159)","v":" - Ecus: "},{"$f":"IF(ISBLANK(Datas!$C$45),\"\",\" - \"&AX159)","v":" - Niv: "}," ","[b][color=blue]0[/color][/b]","[color=red][b]Tréguier[/b][/color]","Comté du Languedoc","PR:","Ecus: ","Niv: ",null,null,null,null,0,{"$f":"VLOOKUP(BC159,LstVillage!$B$8:$C$283,1)","v":{"$error":"#N/A"}},{"$f":"1","v":1},"blue","Tréguier",{"$f":"VLOOKUP(BG159,Datas!$G$6:$G$17,1)","v":"Nîmes"},0,"red",null,"Comté du Languedoc",0,0,null,{"$f":"VLOOKUP(BC159,Liste_Noire!$B$15:$G$1208,1)","v":{"$error":"#N/A"}},{"$f":"VLOOKUP(BC159,Liste_Noire!$B$15:$G$1208,5)","v":{"$error":"#N/A"}},{"$error":"#N/A"},null,0,0,0,0,0,0,0]
[null,""," ","","","","",null,null,null,null,null,null,null,null,null,null,null,null," ",null,"",0,0,0,0,0,0,0,0,0,0,null,0,null,{"$f":"IF(AK160=\"\",\"\",IF(BR160=1,\"[b][color=red]\"&Datas!$D$32&\"[/color][/b]\"&AK160&\"[b][color=red]\"&Datas!$D$33&\"{\"&BQ160&\"}[/color][/b]\",AK160))","v":""},""," ",{"$f":"IF(ISBLANK(Datas!$C$41),\"\",\" - \"&AT160)","v":" - [color=red][b]Tréguier[/b][/color]"},{"$f":"IF(ISBLANK(Datas!$C$42),\"\",\" - \"&AU160)","v":""},{"$f":"IF(ISBLANK(Datas!$C$43),\"\",\" - \"&AV160)","v":" - PR:"},{"$f":"IF(ISBLANK(Datas!$C$44),\"\",\" - \"&AW160)","v":" - Ecus: "},{"$f":"IF(ISBLANK(Datas!$C$45),\"\",\" - \"&AX160)","v":" - Niv: "}," ","[b][color=blue]0[/color][/b]","[color=red][b]Tréguier[/b][/color]","Comté du Languedoc","PR:","Ecus: ","Niv: ",null,null,null,null,0,{"$f":"VLOOKUP(BC160,LstVillage!$B$8:$C$283,1)","v":{"$error":"#N/A"}},{"$f":"1","v":1},"blue","Tréguier",{"$f":"VLOOKUP(BG160,Datas!$G$6:$G$17,1)","v":"Nîmes"},0,"red",null,"Comté du Languedoc",0,0,null,{"$f":"VLOOKUP(BC160,Liste_Noire!$B$15:$G$1208,1)","v":{"$error":"#N/A"}},{"$f":"VLOOKUP(BC160,Liste_Noire!$B$15:$G$1208,5)","v":{"$error":"#N/A"}},{"$error":"#N/A"},null,0,0,0,0,0,0,0]
[null,""," ","","","","",null,null,null,null,null,null,null,null,null,null,null,null," ",null,"",0,0,0,0,0,0,0,0,0,0,null,0,null,{"$f":"IF(AK161=\"\",\"\",IF(BR161=1,\"[b][color=red]\"&Datas!$D$32&\"[/color][/b]\"&AK161&\"[b][color=red]\"&Datas!$D$33&\"{\"&BQ161&\"}[/color][/b]\",AK161))","v":""},""," ",{"$f":"IF(ISBLANK(Datas!$C$41),\"\",\" - \"&AT161)","v":" - [color=red][b]Tréguier[/b][/color]"},{"$f":"IF(ISBLANK(Datas!$C$42),\"\",\" - \"&AU161)","v":""},{"$f":"IF(ISBLANK(Datas!$C$43),\"\",\" - \"&AV161)","v":" - PR:"},{"$f":"IF(ISBLANK(Datas!$C$44),\"\",\" - \"&AW161)","v":" - Ecus: "},{"$f":"IF(ISBLANK(Datas!$C$45),\"\",\" - \"&AX161)","v":" - Niv: "}," ","[b][color=blue]0[/color][/b]","[color=red][b]Tréguier[/b][/color]","Comté du Languedoc","PR:","Ecus: ","Niv: ",null,null,null,null,0,{"$f":"VLOOKUP(BC161,LstVillage!$B$8:$C$283,1)","v":{"$error":"#N/A"}},{"$f":"1","v":1},"blue","Tréguier",{"$f":"VLOOKUP(BG161,Datas!$G$6:$G$17,1)","v":"Nîmes"},0,"red",null,"Comté du Languedoc",0,0,null,{"$f":"VLOOKUP(BC161,Liste_Noire!$B$15:$G$1208,1)","v":{"$error":"#N/A"}},{"$f":"VLOOKUP(BC161,Liste_Noire!$B$15:$G$1208,5)","v":{"$error":"#N/A"}},{"$error":"#N/A"},null,0,0,0,0,0,0,0]
[null,""," ","","","","",null,null,null,null,null,null,null,null,null,null,null,null," ",null,"",0,0,0,0,0,0,0,0,0,0,null,0,null,{"$f":"IF(AK162=\"\",\"\",IF(BR162=1,\"[b][color=red]\"&Datas!$D$32&\"[/color][/b]\"&AK162&\"[b][color=red]\"&Datas!$D$33&\"{\"&BQ162&\"}[/color][/b]\",AK162))","v":""},""," ",{"$f":"IF(ISBLANK(Datas!$C$41),\"\",\" - \"&AT162)","v":" - [color=red][b]Tréguier[/b][/color]"},{"$f":"IF(ISBLANK(Datas!$C$42),\"\",\" - \"&AU162)","v":""},{"$f":"IF(ISBLANK(Datas!$C$43),\"\",\" - \"&AV162)","v":" - PR:"},{"$f":"IF(ISBLANK(Datas!$C$44),\"\",\" - \"&AW162)","v":" - Ecus: "},{"$f":"IF(ISBLANK(Datas!$C$45),\"\",\" - \"&AX162)","v":" - Niv: "}," ","[b][color=blue]0[/color][/b]","[color=red][b]Tréguier[/b][/color]","Comté du Languedoc","PR:","Ecus: ","Niv: ",null,null,null,null,0,{"$f":"VLOOKUP(BC162,LstVillage!$B$8:$C$283,1)","v":{"$error":"#N/A"}},{"$f":"1","v":1},"blue","Tréguier",{"$f":"VLOOKUP(BG162,Datas!$G$6:$G$17,1)","v":"Nîmes"},0,"red",null,"Comté du Languedoc",0,0,null,{"$f":"VLOOKUP(BC162,Liste_Noire!$B$15:$G$1208,1)","v":{"$error":"#N/A"}},{"$f":"VLOOKUP(BC162,Liste_Noire!$B$15:$G$1208,5)","v":{"$error":"#N/A"}},{"$error":"#N/A"},null,0,0,0,0,0,0,0]
[null,""," ","","","","",null,null,null,null,null,null,null,null,null,null,null,null," ",null,"",0,0,0,0,0,0,0,0,0,0,null,0,null,{"$f":"IF(AK163=\"\",\"\",IF(BR163=1,\"[b][color=red]\"&Datas!$D$32&\"[/color][/b]\"&AK163&\"[b][color=red]\"&Datas!$D$33&\"{\"&BQ163&\"}[/color][/b]\",AK163))","v":""},""," ",{"$f":"IF(ISBLANK(Datas!$C$41),\"\",\" - \"&AT163)","v":" - [color=red][b]Tréguier[/b][/color]"},{"$f":"IF(ISBLANK(Datas!$C$42),\"\",\" - \"&AU163)","v":""},{"$f":"IF(ISBLANK(Datas!$C$43),\"\",\" - \"&AV163)","v":" - PR:"},{"$f":"IF(ISBLANK(Datas!$C$44),\"\",\" - \"&AW163)","v":" - Ecus: "},{"$f":"IF(ISBLANK(Datas!$C$45),\"\",\" - \"&AX163)","v":" - Niv: "}," ","[b][color=blue]0[/color][/b]","[color=red][b]Tréguier[/b][/color]","Comté du Languedoc","PR:","Ecus: ","Niv: ",null,null,null,null,0,{"$f":"VLOOKUP(BC163,LstVillage!$B$8:$C$283,1)","v":{"$error":"#N/A"}},{"$f":"1","v":1},"blue","Tréguier",{"$f":"VLOOKUP(BG163,Datas!$G$6:$G$17,1)","v":"Nîmes"},0,"red",null,"Comté du Languedoc",0,0,null,{"$f":"VLOOKUP(BC163,Liste_Noire!$B$15:$G$1208,1)","v":{"$error":"#N/A"}},{"$f":"VLOOKUP(BC163,Liste_Noire!$B$15:$G$1208,5)","v":{"$error":"#N/A"}},{"$error":"#N/A"},null,0,0,0,0,0,0,0]
[null,""," ","","","","",null,null,null,null,null,null,null,null,null,null,null,null," ",null,"",0,0,0,0,0,0,0,0,0,0,null,0,null,{"$f":"IF(AK164=\"\",\"\",IF(BR164=1,\"[b][color=red]\"&Datas!$D$32&\"[/color][/b]\"&AK164&\"[b][color=red]\"&Datas!$D$33&\"{\"&BQ164&\"}[/color][/b]\",AK164))","v":""},""," ",{"$f":"IF(ISBLANK(Datas!$C$41),\"\",\" - \"&AT164)","v":" - [color=red][b]Tréguier[/b][/color]"},{"$f":"IF(ISBLANK(Datas!$C$42),\"\",\" - \"&AU164)","v":""},{"$f":"IF(ISBLANK(Datas!$C$43),\"\",\" - \"&AV164)","v":" - PR:"},{"$f":"IF(ISBLANK(Datas!$C$44),\"\",\" - \"&AW164)","v":" - Ecus: "},{"$f":"IF(ISBLANK(Datas!$C$45),\"\",\" - \"&AX164)","v":" - Niv: "}," ","[b][color=blue]0[/color][/b]","[color=red][b]Tréguier[/b][/color]","Comté du Languedoc","PR:","Ecus: ","Niv: ",null,null,null,null,0,{"$f":"VLOOKUP(BC164,LstVillage!$B$8:$C$283,1)","v":{"$error":"#N/A"}},{"$f":"1","v":1},"blue","Tréguier",{"$f":"VLOOKUP(BG164,Datas!$G$6:$G$17,1)","v":"Nîmes"},0,"red",null,"Comté du Languedoc",0,0,null,{"$f":"VLOOKUP(BC164,Liste_Noire!$B$15:$G$1208,1)","v":{"$error":"#N/A"}},{"$f":"VLOOKUP(BC164,Liste_Noire!$B$15:$G$1208,5)","v":{"$error":"#N/A"}},{"$error":"#N/A"},null,0,0,0,0,0,0,0]
[null,""," ","","","","",null,null,null,null,null,null,null,null,null,null,null,null," ",null,"",0,0,0,0,0,0,0,0,0,0,null,0,null,{"$f":"IF(AK165=\"\",\"\",IF(BR165=1,\"[b][color=red]\"&Datas!$D$32&\"[/color][/b]\"&AK165&\"[b][color=red]\"&Datas!$D$33&\"{\"&BQ165&\"}[/color][/b]\",AK165))","v":""},""," ",{"$f":"IF(ISBLANK(Datas!$C$41),\"\",\" - \"&AT165)","v":" - [color=red][b]Tréguier[/b][/color]"},{"$f":"IF(ISBLANK(Datas!$C$42),\"\",\" - \"&AU165)","v":""},{"$f":"IF(ISBLANK(Datas!$C$43),\"\",\" - \"&AV165)","v":" - PR:"},{"$f":"IF(ISBLANK(Datas!$C$44),\"\",\" - \"&AW165)","v":" - Ecus: "},{"$f":"IF(ISBLANK(Datas!$C$45),\"\",\" - \"&AX165)","v":" - Niv: "}," ","[b][color=blue]0[/color][/b]","[color=red][b]Tréguier[/b][/color]","Comté du Languedoc","PR:","Ecus: ","Niv: ",null,null,null,null,0,{"$f":"VLOOKUP(BC165,LstVillage!$B$8:$C$283,1)","v":{"$error":"#N/A"}},{"$f":"1","v":1},"blue","Tréguier",{"$f":"VLOOKUP(BG165,Datas!$G$6:$G$17,1)","v":"Nîmes"},0,"red",null,"Comté du Languedoc",0,0,null,{"$f":"VLOOKUP(BC165,Liste_Noire!$B$15:$G$1208,1)","v":{"$error":"#N/A"}},{"$f":"VLOOKUP(BC165,Liste_Noire!$B$15:$G$1208,5)","v":{"$error":"#N/A"}},{"$error":"#N/A"},null,0,0,0,0,0,0,0]
[null,""," ","","","","",null,null,null,null,null,null,null,null,null,null,null,null," ",null,"",0,0,0,0,0,0,0,0,0,0,null,0,null,{"$f":"IF(AK166=\"\",\"\",IF(BR166=1,\"[b][color=red]\"&Datas!$D$32&\"[/color][/b]\"&AK166&\"[b][color=red]\"&Datas!$D$33&\"{\"&BQ166&\"}[/color][/b]\",AK166))","v":""},""," ",{"$f":"IF(ISBLANK(Datas!$C$41),\"\",\" - \"&AT166)","v":" - [color=red][b]Tréguier[/b][/color]"},{"$f":"IF(ISBLANK(Datas!$C$42),\"\",\" - \"&AU166)","v":""},{"$f":"IF(ISBLANK(Datas!$C$43),\"\",\" - \"&AV166)","v":" - PR:"},{"$f":"IF(ISBLANK(Datas!$C$44),\"\",\" - \"&AW166)","v":" - Ecus: "},{"$f":"IF(ISBLANK(Datas!$C$45),\"\",\" - \"&AX166)","v":" - Niv: "}," ","[b][color=blue]0[/color][/b]","[color=red][b]Tréguier[/b][/color]","Comté du Languedoc","PR:","Ecus: ","Niv: ",null,null,null,null,0,{"$f":"VLOOKUP(BC166,LstVillage!$B$8:$C$283,1)","v":{"$error":"#N/A"}},{"$f":"1","v":1},"blue","Tréguier",{"$f":"VLOOKUP(BG166,Datas!$G$6:$G$17,1)","v":"Nîmes"},0,"red",null,"Comté du Languedoc",0,0,null,{"$f":"VLOOKUP(BC166,Liste_Noire!$B$15:$G$1208,1)","v":{"$error":"#N/A"}},{"$f":"VLOOKUP(BC166,Liste_Noire!$B$15:$G$1208,5)","v":{"$error":"#N/A"}},{"$error":"#N/A"},null,0,0,0,0,0,0,0]
[null,""," ","","","","",null,null,null,null,null,null,null,null,null,null,null,null," ",null,"",0,0,0,0,0,0,0,0,0,0,null,0,null,{"$f":"IF(AK167=\"\",\"\",IF(BR167=1,\"[b][color=red]\"&Datas!$D$32&\"[/color][/b]\"&AK167&\"[b][color=red]\"&Datas!$D$33&\"{\"&BQ167&\"}[/color][/b]\",AK167))","v":""},""," ",{"$f":"IF(ISBLANK(Datas!$C$41),\"\",\" - \"&AT167)","v":" - [color=red][b]Tréguier[/b][/color]"},{"$f":"IF(ISBLANK(Datas!$C$42),\"\",\" - \"&AU167)","v":""},{"$f":"IF(ISBLANK(Datas!$C$43),\"\",\" - \"&AV167)","v":" - PR:"},{"$f":"IF(ISBLANK(Datas!$C$44),\"\",\" - \"&AW167)","v":" - Ecus: "},{"$f":"IF(ISBLANK(Datas!$C$45),\"\",\" - \"&AX167)","v":" - Niv: "}," ","[b][color=blue]0[/color][/b]","[color=red][b]Tréguier[/b][/color]","Comté du Languedoc","PR:","Ecus: ","Niv: ",null,null,null,null,0,{"$f":"VLOOKUP(BC167,LstVillage!$B$8:$C$283,1)","v":{"$error":"#N/A"}},{"$f":"1","v":1},"blue","Tréguier",{"$f":"VLOOKUP(BG167,Datas!$G$6:$G$17,1)","v":"Nîmes"},0,"red",null,"Comté du Languedoc",0,0,null,{"$f":"VLOOKUP(BC167,Liste_Noire!$B$15:$G$1208,1)","v":{"$error":"#N/A"}},{"$f":"VLOOKUP(BC167,Liste_Noire!$B$15:$G$1208,5)","v":{"$error":"#N/A"}},{"$error":"#N/A"},null,0,0,0,0,0,0,0]
[null,""," ","","","","",null,null,null,null,null,null,null,null,null,null,null,null," ",null,"",0,0,0,0,0,0,0,0,0,0,null,0,null,{"$f":"IF(AK168=\"\",\"\",IF(BR168=1,\"[b][color=red]\"&Datas!$D$32&\"[/color][/b]\"&AK168&\"[b][color=red]\"&Datas!$D$33&\"{\"&BQ168&\"}[/color][/b]\",AK168))","v":""},""," ",{"$f":"IF(ISBLANK(Datas!$C$41),\"\",\" - \"&AT168)","v":" - [color=red][b]Tréguier[/b][/color]"},{"$f":"IF(ISBLANK(Datas!$C$42),\"\",\" - \"&AU168)","v":""},{"$f":"IF(ISBLANK(Datas!$C$43),\"\",\" - \"&AV168)","v":" - PR:"},{"$f":"IF(ISBLANK(Datas!$C$44),\"\",\" - \"&AW168)","v":" - Ecus: "},{"$f":"IF(ISBLANK(Datas!$C$45),\"\",\" - \"&AX168)","v":" - Niv: "}," ","[b][color=blue]0[/color][/b]","[color=red][b]Tréguier[/b][/color]","Comté du Languedoc","PR:","Ecus: ","Niv: ",null,null,null,null,0,{"$f":"VLOOKUP(BC168,LstVillage!$B$8:$C$283,1)","v":{"$error":"#N/A"}},{"$f":"1","v":1},"blue","Tréguier",{"$f":"VLOOKUP(BG168,Datas!$G$6:$G$17,1)","v":"Nîmes"},0,"red",null,"Comté du Languedoc",0,0,null,{"$f":"VLOOKUP(BC168,Liste_Noire!$B$15:$G$1208,1)","v":{"$error":"#N/A"}},{"$f":"VLOOKUP(BC168,Liste_Noire!$B$15:$G$1208,5)","v":{"$error":"#N/A"}},{"$error":"#N/A"},null,0,0,0,0,0,0,0]
[null,""," ","","","","",null,null,null,null,null,null,null,null,null,null,null,null," ",null,"",0,0,0,0,0,0,0,0,0,0,null,0,null,{"$f":"IF(AK169=\"\",\"\",IF(BR169=1,\"[b][color=red]\"&Datas!$D$32&\"[/color][/b]\"&AK169&\"[b][color=red]\"&Datas!$D$33&\"{\"&BQ169&\"}[/color][/b]\",AK169))","v":""},""," ",{"$f":"IF(ISBLANK(Datas!$C$41),\"\",\" - \"&AT169)","v":" - [color=red][b]Tréguier[/b][/color]"},{"$f":"IF(ISBLANK(Datas!$C$42),\"\",\" - \"&AU169)","v":""},{"$f":"IF(ISBLANK(Datas!$C$43),\"\",\" - \"&AV169)","v":" - PR:"},{"$f":"IF(ISBLANK(Datas!$C$44),\"\",\" - \"&AW169)","v":" - Ecus: "},{"$f":"IF(ISBLANK(Datas!$C$45),\"\",\" - \"&AX169)","v":" - Niv: "}," ","[b][color=blue]0[/color][/b]","[color=red][b]Tréguier[/b][/color]","Comté du Languedoc","PR:","Ecus: ","Niv: ",null,null,null,null,0,{"$f":"VLOOKUP(BC169,LstVillage!$B$8:$C$283,1)","v":{"$error":"#N/A"}},{"$f":"1","v":1},"blue","Tréguier",{"$f":"VLOOKUP(BG169,Datas!$G$6:$G$17,1)","v":"Nîmes"},0,"red",null,"Comté du Languedoc",0,0,null,{"$f":"VLOOKUP(BC169,Liste_Noire!$B$15:$G$1208,1)","v":{"$error":"#N/A"}},{"$f":"VLOOKUP(BC169,Liste_Noire!$B$15:$G$1208,5)","v":{"$error":"#N/A"}},{"$error":"#N/A"},null,0,0,0,0,0,0,0]
[null,""," ","","","","",null,null,null,null,null,null,null,null,null,null,null,null," ",null,"",0,0,0,0,0,0,0,0,0,0,null,0,null,{"$f":"IF(AK170=\"\",\"\",IF(BR170=1,\"[b][color=red]\"&Datas!$D$32&\"[/color][/b]\"&AK170&\"[b][color=red]\"&Datas!$D$33&\"{\"&BQ170&\"}[/color][/b]\",AK170))","v":""},""," ",{"$f":"IF(ISBLANK(Datas!$C$41),\"\",\" - \"&AT170)","v":" - [color=red][b]Tréguier[/b][/color]"},{"$f":"IF(ISBLANK(Datas!$C$42),\"\",\" - \"&AU170)","v":""},{"$f":"IF(ISBLANK(Datas!$C$43),\"\",\" - \"&AV170)","v":" - PR:"},{"$f":"IF(ISBLANK(Datas!$C$44),\"\",\" - \"&AW170)","v":" - Ecus: "},{"$f":"IF(ISBLANK(Datas!$C$45),\"\",\" - \"&AX170)","v":" - Niv: "}," ","[b][color=blue]0[/color][/b]","[color=red][b]Tréguier[/b][/color]","Comté du Languedoc","PR:","Ecus: ","Niv: ",null,null,null,null,0,{"$f":"VLOOKUP(BC170,LstVillage!$B$8:$C$283,1)","v":{"$error":"#N/A"}},{"$f":"1","v":1},"blue","Tréguier",{"$f":"VLOOKUP(BG170,Datas!$G$6:$G$17,1)","v":"Nîmes"},0,"red",null,"Comté du Languedoc",0,0,null,{"$f":"VLOOKUP(BC170,Liste_Noire!$B$15:$G$1208,1)","v":{"$error":"#N/A"}},{"$f":"VLOOKUP(BC170,Liste_Noire!$B$15:$G$1208,5)","v":{"$error":"#N/A"}},{"$error":"#N/A"},null,0,0,0,0,0,0,0]
[null,""," ","","","","",null,null,null,null,null,null,null,null,null,null,null,null," ",null,"",0,0,0,0,0,0,0,0,0,0,null,0,null,{"$f":"IF(AK171=\"\",\"\",IF(BR171=1,\"[b][color=red]\"&Datas!$D$32&\"[/color][/b]\"&AK171&\"[b][color=red]\"&Datas!$D$33&\"{\"&BQ171&\"}[/color][/b]\",AK171))","v":""},""," ",{"$f":"IF(ISBLANK(Datas!$C$41),\"\",\" - \"&AT171)","v":" - [color=red][b]Tréguier[/b][/color]"},{"$f":"IF(ISBLANK(Datas!$C$42),\"\",\" - \"&AU171)","v":""},{"$f":"IF(ISBLANK(Datas!$C$43),\"\",\" - \"&AV171)","v":" - PR:"},{"$f":"IF(ISBLANK(Datas!$C$44),\"\",\" - \"&AW171)","v":" - Ecus: "},{"$f":"IF(ISBLANK(Datas!$C$45),\"\",\" - \"&AX171)","v":" - Niv: "}," ","[b][color=blue]0[/color][/b]","[color=red][b]Tréguier[/b][/color]","Comté du Languedoc","PR:","Ecus: ","Niv: ",null,null,null,null,0,{"$f":"VLOOKUP(BC171,LstVillage!$B$8:$C$283,1)","v":{"$error":"#N/A"}},{"$f":"1","v":1},"blue","Tréguier",{"$f":"VLOOKUP(BG171,Datas!$G$6:$G$17,1)","v":"Nîmes"},0,"red",null,"Comté du Languedoc",0,0,null,{"$f":"VLOOKUP(BC171,Liste_Noire!$B$15:$G$1208,1)","v":{"$error":"#N/A"}},{"$f":"VLOOKUP(BC171,Liste_Noire!$B$15:$G$1208,5)","v":{"$error":"#N/A"}},{"$error":"#N/A"},null,0,0,0,0,0,0,0]
[null,""," ","","","","",null,null,null,null,null,null,null,null,null,null,null,null," ",null,"",0,0,0,0,0,0,0,0,0,0,null,0,null,{"$f":"IF(AK172=\"\",\"\",IF(BR172=1,\"[b][color=red]\"&Datas!$D$32&\"[/color][/b]\"&AK172&\"[b][color=red]\"&Datas!$D$33&\"{\"&BQ172&\"}[/color][/b]\",AK172))","v":""},""," ",{"$f":"IF(ISBLANK(Datas!$C$41),\"\",\" - \"&AT172)","v":" - [color=red][b]Tréguier[/b][/color]"},{"$f":"IF(ISBLANK(Datas!$C$42),\"\",\" - \"&AU172)","v":""},{"$f":"IF(ISBLANK(Datas!$C$43),\"\",\" - \"&AV172)","v":" - PR:"},{"$f":"IF(ISBLANK(Datas!$C$44),\"\",\" - \"&AW172)","v":" - Ecus: "},{"$f":"IF(ISBLANK(Datas!$C$45),\"\",\" - \"&AX172)","v":" - Niv: "}," ","[b][color=blue]0[/color][/b]","[color=red][b]Tréguier[/b][/color]","Comté du Languedoc","PR:","Ecus: ","Niv: ",null,null,null,null,0,{"$f":"VLOOKUP(BC172,LstVillage!$B$8:$C$283,1)","v":{"$error":"#N/A"}},{"$f":"1","v":1},"blue","Tréguier",{"$f":"VLOOKUP(BG172,Datas!$G$6:$G$17,1)","v":"Nîmes"},0,"red",null,"Comté du Languedoc",0,0,null,{"$f":"VLOOKUP(BC172,Liste_Noire!$B$15:$G$1208,1)","v":{"$error":"#N/A"}},{"$f":"VLOOKUP(BC172,Liste_Noire!$B$15:$G$1208,5)","v":{"$error":"#N/A"}},{"$error":"#N/A"},null,0,0,0,0,0,0,0]
[null,""," ","","","","",null,null,null,null,null,null,null,null,null,null,null,null," ",null,"",0,0,0,0,0,0,0,0,0,0,null,0,null,{"$f":"IF(AK173=\"\",\"\",IF(BR173=1,\"[b][color=red]\"&Datas!$D$32&\"[/color][/b]\"&AK173&\"[b][color=red]\"&Datas!$D$33&\"{\"&BQ173&\"}[/color][/b]\",AK173))","v":""},""," ",{"$f":"IF(ISBLANK(Datas!$C$41),\"\",\" - \"&AT173)","v":" - [color=red][b]Tréguier[/b][/color]"},{"$f":"IF(ISBLANK(Datas!$C$42),\"\",\" - \"&AU173)","v":""},{"$f":"IF(ISBLANK(Datas!$C$43),\"\",\" - \"&AV173)","v":" - PR:"},{"$f":"IF(ISBLANK(Datas!$C$44),\"\",\" - \"&AW173)","v":" - Ecus: "},{"$f":"IF(ISBLANK(Datas!$C$45),\"\",\" - \"&AX173)","v":" - Niv: "}," ","[b][color=blue]0[/color][/b]","[color=red][b]Tréguier[/b][/color]","Comté du Languedoc","PR:","Ecus: ","Niv: ",null,null,null,null,0,{"$f":"VLOOKUP(BC173,LstVillage!$B$8:$C$283,1)","v":{"$error":"#N/A"}},{"$f":"1","v":1},"blue","Tréguier",{"$f":"VLOOKUP(BG173,Datas!$G$6:$G$17,1)","v":"Nîmes"},0,"red",null,"Comté du Languedoc",0,0,null,{"$f":"VLOOKUP(BC173,Liste_Noire!$B$15:$G$1208,1)","v":{"$error":"#N/A"}},{"$f":"VLOOKUP(BC173,Liste_Noire!$B$15:$G$1208,5)","v":{"$error":"#N/A"}},{"$error":"#N/A"},null,0,0,0,0,0,0,0]
[null,""," ","","","","",null,null,null,null,null,null,null,null,null,null,null,null," ",null,"",0,0,0,0,0,0,0,0,0,0,null,0,null,{"$f":"IF(AK174=\"\",\"\",IF(BR174=1,\"[b][color=red]\"&Datas!$D$32&\"[/color][/b]\"&AK174&\"[b][color=red]\"&Datas!$D$33&\"{\"&BQ174&\"}[/color][/b]\",AK174))","v":""},""," ",{"$f":"IF(ISBLANK(Datas!$C$41),\"\",\" - \"&AT174)","v":" - [color=red][b]Tréguier[/b][/color]"},{"$f":"IF(ISBLANK(Datas!$C$42),\"\",\" - \"&AU174)","v":""},{"$f":"IF(ISBLANK(Datas!$C$43),\"\",\" - \"&AV174)","v":" - PR:"},{"$f":"IF(ISBLANK(Datas!$C$44),\"\",\" - \"&AW174)","v":" - Ecus: "},{"$f":"IF(ISBLANK(Datas!$C$45),\"\",\" - \"&AX174)","v":" - Niv: "}," ","[b][color=blue]0[/color][/b]","[color=red][b]Tréguier[/b][/color]","Comté du Languedoc","PR:","Ecus: ","Niv: ",null,null,null,null,0,{"$f":"VLOOKUP(BC174,LstVillage!$B$8:$C$283,1)","v":{"$error":"#N/A"}},{"$f":"1","v":1},"blue","Tréguier",{"$f":"VLOOKUP(BG174,Datas!$G$6:$G$17,1)","v":"Nîmes"},0,"red",null,"Comté du Languedoc",0,0,null,{"$f":"VLOOKUP(BC174,Liste_Noire!$B$15:$G$1208,1)","v":{"$error":"#N/A"}},{"$f":"VLOOKUP(BC174,Liste_Noire!$B$15:$G$1208,5)","v":{"$error":"#N/A"}},{"$error":"#N/A"},null,0,0,0,0,0,0,0]
[null,""," ","","","","",null,null,null,null,null,null,null,null,null,null,null,null," ",null,"",0,0,0,0,0,0,0,0,0,0,null,0,null,{"$f":"IF(AK175=\"\",\"\",IF(BR175=1,\"[b][color=red]\"&Datas!$D$32&\"[/color][/b]\"&AK175&\"[b][color=red]\"&Datas!$D$33&\"{\"&BQ175&\"}[/color][/b]\",AK175))","v":""},""," ",{"$f":"IF(ISBLANK(Datas!$C$41),\"\",\" - \"&AT175)","v":" - [color=red][b]Tréguier[/b][/color]"},{"$f":"IF(ISBLANK(Datas!$C$42),\"\",\" - \"&AU175)","v":""},{"$f":"IF(ISBLANK(Datas!$C$43),\"\",\" - \"&AV175)","v":" - PR:"},{"$f":"IF(ISBLANK(Datas!$C$44),\"\",\" - \"&AW175)","v":" - Ecus: "},{"$f":"IF(ISBLANK(Datas!$C$45),\"\",\" - \"&AX175)","v":" - Niv: "}," ","[b][color=blue]0[/color][/b]","[color=red][b]Tréguier[/b][/color]","Comté du Languedoc","PR:","Ecus: ","Niv: ",null,null,null,null,0,{"$f":"VLOOKUP(BC175,LstVillage!$B$8:$C$283,1)","v":{"$error":"#N/A"}},{"$f":"1","v":1},"blue","Tréguier",{"$f":"VLOOKUP(BG175,Datas!$G$6:$G$17,1)","v":"Nîmes"},0,"red",null,"Comté du Languedoc",0,0,null,{"$f":"VLOOKUP(BC175,Liste_Noire!$B$15:$G$1208,1)","v":{"$error":"#N/A"}},{"$f":"VLOOKUP(BC175,Liste_Noire!$B$15:$G$1208,5)","v":{"$error":"#N/A"}},{"$error":"#N/A"},null,0,0,0,0,0,0,0]
[null,""," ","","","","",null,null,null,null,null,null,null,null,null,null,null,null," ",null,"",0,0,0,0,0,0,0,0,0,0,null,0,null,{"$f":"IF(AK176=\"\",\"\",IF(BR176=1,\"[b][color=red]\"&Datas!$D$32&\"[/color][/b]\"&AK176&\"[b][color=red]\"&Datas!$D$33&\"{\"&BQ176&\"}[/color][/b]\",AK176))","v":""},""," ",{"$f":"IF(ISBLANK(Datas!$C$41),\"\",\" - \"&AT176)","v":" - [color=red][b]Tréguier[/b][/color]"},{"$f":"IF(ISBLANK(Datas!$C$42),\"\",\" - \"&AU176)","v":""},{"$f":"IF(ISBLANK(Datas!$C$43),\"\",\" - \"&AV176)","v":" - PR:"},{"$f":"IF(ISBLANK(Datas!$C$44),\"\",\" - \"&AW176)","v":" - Ecus: "},{"$f":"IF(ISBLANK(Datas!$C$45),\"\",\" - \"&AX176)","v":" - Niv: "}," ","[b][color=blue]0[/color][/b]","[color=red][b]Tréguier[/b][/color]","Comté du Languedoc","PR:","Ecus: ","Niv: ",null,null,null,null,0,{"$f":"VLOOKUP(BC176,LstVillage!$B$8:$C$283,1)","v":{"$error":"#N/A"}},{"$f":"1","v":1},"blue","Tréguier",{"$f":"VLOOKUP(BG176,Datas!$G$6:$G$17,1)","v":"Nîmes"},0,"red",null,"Comté du Languedoc",0,0,null,{"$f":"VLOOKUP(BC176,Liste_Noire!$B$15:$G$1208,1)","v":{"$error":"#N/A"}},{"$f":"VLOOKUP(BC176,Liste_Noire!$B$15:$G$1208,5)","v":{"$error":"#N/A"}},{"$error":"#N/A"},null,0,0,0,0,0,0,0]
[null,""," ","","","","",null,null,null,null,null,null,null,null,null,null,null,null," ",null,"",0,0,0,0,0,0,0,0,0,0,null,0,null,{"$f":"IF(AK177=\"\",\"\",IF(BR177=1,\"[b][color=red]\"&Datas!$D$32&\"[/color][/b]\"&AK177&\"[b][color=red]\"&Datas!$D$33&\"{\"&BQ177&\"}[/color][/b]\",AK177))","v":""},""," ",{"$f":"IF(ISBLANK(Datas!$C$41),\"\",\" - \"&AT177)","v":" - [color=red][b]Tréguier[/b][/color]"},{"$f":"IF(ISBLANK(Datas!$C$42),\"\",\" - \"&AU177)","v":""},{"$f":"IF(ISBLANK(Datas!$C$43),\"\",\" - \"&AV177)","v":" - PR:"},{"$f":"IF(ISBLANK(Datas!$C$44),\"\",\" - \"&AW177)","v":" - Ecus: "},{"$f":"IF(ISBLANK(Datas!$C$45),\"\",\" - \"&AX177)","v":" - Niv: "}," ","[b][color=blue]0[/color][/b]","[color=red][b]Tréguier[/b][/color]","Comté du Languedoc","PR:","Ecus: ","Niv: ",null,null,null,null,0,{"$f":"VLOOKUP(BC177,LstVillage!$B$8:$C$283,1)","v":{"$error":"#N/A"}},{"$f":"1","v":1},"blue","Tréguier",{"$f":"VLOOKUP(BG177,Datas!$G$6:$G$17,1)","v":"Nîmes"},0,"red",null,"Comté du Languedoc",0,0,null,{"$f":"VLOOKUP(BC177,Liste_Noire!$B$15:$G$1208,1)","v":{"$error":"#N/A"}},{"$f":"VLOOKUP(BC177,Liste_Noire!$B$15:$G$1208,5)","v":{"$error":"#N/A"}},{"$error":"#N/A"},null,0,0,0,0,0,0,0]
[null,""," ","","","","",null,null,null,null,null,null,null,null,null,null,null,null," ",null,"",0,0,0,0,0,0,0,0,0,0,null,0,null,{"$f":"IF(AK178=\"\",\"\",IF(BR178=1,\"[b][color=red]\"&Datas!$D$32&\"[/color][/b]\"&AK178&\"[b][color=red]\"&Datas!$D$33&\"{\"&BQ178&\"}[/color][/b]\",AK178))","v":""},""," ",{"$f":"IF(ISBLANK(Datas!$C$41),\"\",\" - \"&AT178)","v":" - [color=red][b]Tréguier[/b][/color]"},{"$f":"IF(ISBLANK(Datas!$C$42),\"\",\" - \"&AU178)","v":""},{"$f":"IF(ISBLANK(Datas!$C$43),\"\",\" - \"&AV178)","v":" - PR:"},{"$f":"IF(ISBLANK(Datas!$C$44),\"\",\" - \"&AW178)","v":" - Ecus: "},{"$f":"IF(ISBLANK(Datas!$C$45),\"\",\" - \"&AX178)","v":" - Niv: "}," ","[b][color=blue]0[/color][/b]","[color=red][b]Tréguier[/b][/color]","Comté du Languedoc","PR:","Ecus: ","Niv: ",null,null,null,null,0,{"$f":"VLOOKUP(BC178,LstVillage!$B$8:$C$283,1)","v":{"$error":"#N/A"}},{"$f":"1","v":1},"blue","Tréguier",{"$f":"VLOOKUP(BG178,Datas!$G$6:$G$17,1)","v":"Nîmes"},0,"red",null,"Comté du Languedoc",0,0,null,{"$f":"VLOOKUP(BC178,Liste_Noire!$B$15:$G$1208,1)","v":{"$error":"#N/A"}},{"$f":"VLOOKUP(BC178,Liste_Noire!$B$15:$G$1208,5)","v":{"$error":"#N/A"}},{"$error":"#N/A"},null,0,0,0,0,0,0,0]
[null,""," ","","","","",null,null,null,null,null,null,null,null,null,null,null,null," ",null,"",0,0,0,0,0,0,0,0,0,0,null,0,null,{"$f":"IF(AK179=\"\",\"\",IF(BR179=1,\"[b][color=red]\"&Datas!$D$32&\"[/color][/b]\"&AK179&\"[b][color=red]\"&Datas!$D$33&\"{\"&BQ179&\"}[/color][/b]\",AK179))","v":""},""," ",{"$f":"IF(ISBLANK(Datas!$C$41),\"\",\" - \"&AT179)","v":" - [color=red][b]Tréguier[/b][/color]"},{"$f":"IF(ISBLANK(Datas!$C$42),\"\",\" - \"&AU179)","v":""},{"$f":"IF(ISBLANK(Datas!$C$43),\"\",\" - \"&AV179)","v":" - PR:"},{"$f":"IF(ISBLANK(Datas!$C$44),\"\",\" - \"&AW179)","v":" - Ecus: "},{"$f":"IF(ISBLANK(Datas!$C$45),\"\",\" - \"&AX179)","v":" - Niv: "}," ","[b][color=blue]0[/color][/b]","[color=red][b]Tréguier[/b][/color]","Comté du Languedoc","PR:","Ecus: ","Niv: ",null,null,null,null,0,{"$f":"VLOOKUP(BC179,LstVillage!$B$8:$C$283,1)","v":{"$error":"#N/A"}},{"$f":"1","v":1},"blue","Tréguier",{"$f":"VLOOKUP(BG179,Datas!$G$6:$G$17,1)","v":"Nîmes"},0,"red",null,"Comté du Languedoc",0,0,null,{"$f":"VLOOKUP(BC179,Liste_Noire!$B$15:$G$1208,1)","v":{"$error":"#N/A"}},{"$f":"VLOOKUP(BC179,Liste_Noire!$B$15:$G$1208,5)","v":{"$error":"#N/A"}},{"$error":"#N/A"},null,0,0,0,0,0,0,0]
[null,""," ","","","","",null,null,null,null,null,null,null,null,null,null,null,null," ",null,"",0,0,0,0,0,0,0,0,0,0,null,0,null,{"$f":"IF(AK180=\"\",\"\",IF(BR180=1,\"[b][color=red]\"&Datas!$D$32&\"[/color][/b]\"&AK180&\"[b][color=red]\"&Datas!$D$33&\"{\"&BQ180&\"}[/color][/b]\",AK180))","v":""},""," ",{"$f":"IF(ISBLANK(Datas!$C$41),\"\",\" - \"&AT180)","v":" - [color=red][b]Tréguier[/b][/color]"},{"$f":"IF(ISBLANK(Datas!$C$42),\"\",\" - \"&AU180)","v":""},{"$f":"IF(ISBLANK(Datas!$C$43),\"\",\" - \"&AV180)","v":" - PR:"},{"$f":"IF(ISBLANK(Datas!$C$44),\"\",\" - \"&AW180)","v":" - Ecus: "},{"$f":"IF(ISBLANK(Datas!$C$45),\"\",\" - \"&AX180)","v":" - Niv: "}," ","[b][color=blue]0[/color][/b]","[color=red][b]Tréguier[/b][/color]","Comté du Languedoc","PR:","Ecus: ","Niv: ",null,null,null,null,0,{"$f":"VLOOKUP(BC180,LstVillage!$B$8:$C$283,1)","v":{"$error":"#N/A"}},{"$f":"1","v":1},"blue","Tréguier",{"$f":"VLOOKUP(BG180,Datas!$G$6:$G$17,1)","v":"Nîmes"},0,"red",null,"Comté du Languedoc",0,0,null,{"$f":"VLOOKUP(BC180,Liste_Noire!$B$15:$G$1208,1)","v":{"$error":"#N/A"}},{"$f":"VLOOKUP(BC180,Liste_Noire!$B$15:$G$1208,5)","v":{"$error":"#N/A"}},{"$error":"#N/A"},null,0,0,0,0,0,0,0]
[null,""," ","","","","",null,null,null,null,null,null,null,null,null,null,null,null," ",null,"",0,0,0,0,0,0,0,0,0,0,null,0,null,{"$f":"IF(AK181=\"\",\"\",IF(BR181=1,\"[b][color=red]\"&Datas!$D$32&\"[/color][/b]\"&AK181&\"[b][color=red]\"&Datas!$D$33&\"{\"&BQ181&\"}[/color][/b]\",AK181))","v":""},""," ",{"$f":"IF(ISBLANK(Datas!$C$41),\"\",\" - \"&AT181)","v":" - [color=red][b]Tréguier[/b][/color]"},{"$f":"IF(ISBLANK(Datas!$C$42),\"\",\" - \"&AU181)","v":""},{"$f":"IF(ISBLANK(Datas!$C$43),\"\",\" - \"&AV181)","v":" - PR:"},{"$f":"IF(ISBLANK(Datas!$C$44),\"\",\" - \"&AW181)","v":" - Ecus: "},{"$f":"IF(ISBLANK(Datas!$C$45),\"\",\" - \"&AX181)","v":" - Niv: "}," ","[b][color=blue]0[/color][/b]","[color=red][b]Tréguier[/b][/color]","Comté du Languedoc","PR:","Ecus: ","Niv: ",null,null,null,null,0,{"$f":"VLOOKUP(BC181,LstVillage!$B$8:$C$283,1)","v":{"$error":"#N/A"}},{"$f":"1","v":1},"blue","Tréguier",{"$f":"VLOOKUP(BG181,Datas!$G$6:$G$17,1)","v":"Nîmes"},0,"red",null,"Comté du Languedoc",0,0,null,{"$f":"VLOOKUP(BC181,Liste_Noire!$B$15:$G$1208,1)","v":{"$error":"#N/A"}},{"$f":"VLOOKUP(BC181,Liste_Noire!$B$15:$G$1208,5)","v":{"$error":"#N/A"}},{"$error":"#N/A"},null,0,0,0,0,0,0,0]
[null,""," ","","","","",null,null,null,null,null,null,null,null,null,null,null,null," ",null,"",0,0,0,0,0,0,0,0,0,0,null,0,null,{"$f":"IF(AK182=\"\",\"\",IF(BR182=1,\"[b][color=red]\"&Datas!$D$32&\"[/color][/b]\"&AK182&\"[b][color=red]\"&Datas!$D$33&\"{\"&BQ182&\"}[/color][/b]\",AK182))","v":""},""," ",{"$f":"IF(ISBLANK(Datas!$C$41),\"\",\" - \"&AT182)","v":" - [color=red][b]Tréguier[/b][/color]"},{"$f":"IF(ISBLANK(Datas!$C$42),\"\",\" - \"&AU182)","v":""},{"$f":"IF(ISBLANK(Datas!$C$43),\"\",\" - \"&AV182)","v":" - PR:"},{"$f":"IF(ISBLANK(Datas!$C$44),\"\",\" - \"&AW182)","v":" - Ecus: "},{"$f":"IF(ISBLANK(Datas!$C$45),\"\",\" - \"&AX182)","v":" - Niv: "}," ","[b][color=blue]0[/color][/b]","[color=red][b]Tréguier[/b][/color]","Comté du Languedoc","PR:","Ecus: ","Niv: ",null,null,null,null,0,{"$f":"VLOOKUP(BC182,LstVillage!$B$8:$C$283,1)","v":{"$error":"#N/A"}},{"$f":"1","v":1},"blue","Tréguier",{"$f":"VLOOKUP(BG182,Datas!$G$6:$G$17,1)","v":"Nîmes"},0,"red",null,"Comté du Languedoc",0,0,null,{"$f":"VLOOKUP(BC182,Liste_Noire!$B$15:$G$1208,1)","v":{"$error":"#N/A"}},{"$f":"VLOOKUP(BC182,Liste_Noire!$B$15:$G$1208,5)","v":{"$error":"#N/A"}},{"$error":"#N/A"},null,0,0,0,0,0,0,0]
[null,""," ","","","","",null,null,null,null,null,null,null,null,null,null,null,null," ",null,"",0,0,0,0,0,0,0,0,0,0,null,0,null,{"$f":"IF(AK183=\"\",\"\",IF(BR183=1,\"[b][color=red]\"&Datas!$D$32&\"[/color][/b]\"&AK183&\"[b][color=red]\"&Datas!$D$33&\"{\"&BQ183&\"}[/color][/b]\",AK183))","v":""},""," ",{"$f":"IF(ISBLANK(Datas!$C$41),\"\",\" - \"&AT183)","v":" - [color=red][b]Tréguier[/b][/color]"},{"$f":"IF(ISBLANK(Datas!$C$42),\"\",\" - \"&AU183)","v":""},{"$f":"IF(ISBLANK(Datas!$C$43),\"\",\" - \"&AV183)","v":" - PR:"},{"$f":"IF(ISBLANK(Datas!$C$44),\"\",\" - \"&AW183)","v":" - Ecus: "},{"$f":"IF(ISBLANK(Datas!$C$45),\"\",\" - \"&AX183)","v":" - Niv: "}," ","[b][color=blue]0[/color][/b]","[color=red][b]Tréguier[/b][/color]","Comté du Languedoc","PR:","Ecus: ","Niv: ",null,null,null,null,0,{"$f":"VLOOKUP(BC183,LstVillage!$B$8:$C$283,1)","v":{"$error":"#N/A"}},{"$f":"1","v":1},"blue","Tréguier",{"$f":"VLOOKUP(BG183,Datas!$G$6:$G$17,1)","v":"Nîmes"},0,"red",null,"Comté du Languedoc",0,0,null,{"$f":"VLOOKUP(BC183,Liste_Noire!$B$15:$G$1208,1)","v":{"$error":"#N/A"}},{"$f":"VLOOKUP(BC183,Liste_Noire!$B$15:$G$1208,5)","v":{"$error":"#N/A"}},{"$error":"#N/A"},null,0,0,0,0,0,0,0]
[null,""," ","","","","",null,null,null,null,null,null,null,null,null,null,null,null," ",null,"",0,0,0,0,0,0,0,0,0,0,null,0,null,{"$f":"IF(AK184=\"\",\"\",IF(BR184=1,\"[b][color=red]\"&Datas!$D$32&\"[/color][/b]\"&AK184&\"[b][color=red]\"&Datas!$D$33&\"{\"&BQ184&\"}[/color][/b]\",AK184))","v":""},""," ",{"$f":"IF(ISBLANK(Datas!$C$41),\"\",\" - \"&AT184)","v":" - [color=red][b]Tréguier[/b][/color]"},{"$f":"IF(ISBLANK(Datas!$C$42),\"\",\" - \"&AU184)","v":""},{"$f":"IF(ISBLANK(Datas!$C$43),\"\",\" - \"&AV184)","v":" - PR:"},{"$f":"IF(ISBLANK(Datas!$C$44),\"\",\" - \"&AW184)","v":" - Ecus: "},{"$f":"IF(ISBLANK(Datas!$C$45),\"\",\" - \"&AX184)","v":" - Niv: "}," ","[b][color=blue]0[/color][/b]","[color=red][b]Tréguier[/b][/color]","Comté du Languedoc","PR:","Ecus: ","Niv: ",null,null,null,null,0,{"$f":"VLOOKUP(BC184,LstVillage!$B$8:$C$283,1)","v":{"$error":"#N/A"}},{"$f":"1","v":1},"blue","Tréguier",{"$f":"VLOOKUP(BG184,Datas!$G$6:$G$17,1)","v":"Nîmes"},0,"red",null,"Comté du Languedoc",0,0,null,{"$f":"VLOOKUP(BC184,Liste_Noire!$B$15:$G$1208,1)","v":{"$error":"#N/A"}},{"$f":"VLOOKUP(BC184,Liste_Noire!$B$15:$G$1208,5)","v":{"$error":"#N/A"}},{"$error":"#N/A"},null,0,0,0,0,0,0,0]
[null,""," ","","","","",null,null,null,null,null,null,null,null,null,null,null,null," ",null,"",0,0,0,0,0,0,0,0,0,0,null,0,null,{"$f":"IF(AK185=\"\",\"\",IF(BR185=1,\"[b][color=red]\"&Datas!$D$32&\"[/color][/b]\"&AK185&\"[b][color=red]\"&Datas!$D$33&\"{\"&BQ185&\"}[/color][/b]\",AK185))","v":""},""," ",{"$f":"IF(ISBLANK(Datas!$C$41),\"\",\" - \"&AT185)","v":" - [color=red][b]Tréguier[/b][/color]"},{"$f":"IF(ISBLANK(Datas!$C$42),\"\",\" - \"&AU185)","v":""},{"$f":"IF(ISBLANK(Datas!$C$43),\"\",\" - \"&AV185)","v":" - PR:"},{"$f":"IF(ISBLANK(Datas!$C$44),\"\",\" - \"&AW185)","v":" - Ecus: "},{"$f":"IF(ISBLANK(Datas!$C$45),\"\",\" - \"&AX185)","v":" - Niv: "}," ","[b][color=blue]0[/color][/b]","[color=red][b]Tréguier[/b][/color]","Comté du Languedoc","PR:","Ecus: ","Niv: ",null,null,null,null,0,{"$f":"VLOOKUP(BC185,LstVillage!$B$8:$C$283,1)","v":{"$error":"#N/A"}},{"$f":"1","v":1},"blue","Tréguier",{"$f":"VLOOKUP(BG185,Datas!$G$6:$G$17,1)","v":"Nîmes"},0,"red",null,"Comté du Languedoc",0,0,null,{"$f":"VLOOKUP(BC185,Liste_Noire!$B$15:$G$1208,1)","v":{"$error":"#N/A"}},{"$f":"VLOOKUP(BC185,Liste_Noire!$B$15:$G$1208,5)","v":{"$error":"#N/A"}},{"$error":"#N/A"},null,0,0,0,0,0,0,0]
[null,""," ","","","","",null,null,null,null,null,null,null,null,null,null,null,null," ",null,"",0,0,0,0,0,0,0,0,0,0,null,0,null,{"$f":"IF(AK186=\"\",\"\",IF(BR186=1,\"[b][color=red]\"&Datas!$D$32&\"[/color][/b]\"&AK186&\"[b][color=red]\"&Datas!$D$33&\"{\"&BQ186&\"}[/color][/b]\",AK186))","v":""},""," ",{"$f":"IF(ISBLANK(Datas!$C$41),\"\",\" - \"&AT186)","v":" - [color=red][b]Tréguier[/b][/color]"},{"$f":"IF(ISBLANK(Datas!$C$42),\"\",\" - \"&AU186)","v":""},{"$f":"IF(ISBLANK(Datas!$C$43),\"\",\" - \"&AV186)","v":" - PR:"},{"$f":"IF(ISBLANK(Datas!$C$44),\"\",\" - \"&AW186)","v":" - Ecus: "},{"$f":"IF(ISBLANK(Datas!$C$45),\"\",\" - \"&AX186)","v":" - Niv: "}," ","[b][color=blue]0[/color][/b]","[color=red][b]Tréguier[/b][/color]","Comté du Languedoc","PR:","Ecus: ","Niv: ",null,null,null,null,0,{"$f":"VLOOKUP(BC186,LstVillage!$B$8:$C$283,1)","v":{"$error":"#N/A"}},{"$f":"1","v":1},"blue","Tréguier",{"$f":"VLOOKUP(BG186,Datas!$G$6:$G$17,1)","v":"Nîmes"},0,"red",null,"Comté du Languedoc",0,0,null,{"$f":"VLOOKUP(BC186,Liste_Noire!$B$15:$G$1208,1)","v":{"$error":"#N/A"}},{"$f":"VLOOKUP(BC186,Liste_Noire!$B$15:$G$1208,5)","v":{"$error":"#N/A"}},{"$error":"#N/A"},null,0,0,0,0,0,0,0]
[null,""," ","","","","",null,null,null,null,null,null,null,null,null,null,null,null," ",null,"",0,0,0,0,0,0,0,0,0,0,null,0,null,{"$f":"IF(AK187=\"\",\"\",IF(BR187=1,\"[b][color=red]\"&Datas!$D$32&\"[/color][/b]\"&AK187&\"[b][color=red]\"&Datas!$D$33&\"{\"&BQ187&\"}[/color][/b]\",AK187))","v":""},""," ",{"$f":"IF(ISBLANK(Datas!$C$41),\"\",\" - \"&AT187)","v":" - [color=red][b]Tréguier[/b][/color]"},{"$f":"IF(ISBLANK(Datas!$C$42),\"\",\" - \"&AU187)","v":""},{"$f":"IF(ISBLANK(Datas!$C$43),\"\",\" - \"&AV187)","v":" - PR:"},{"$f":"IF(ISBLANK(Datas!$C$44),\"\",\" - \"&AW187)","v":" - Ecus: "},{"$f":"IF(ISBLANK(Datas!$C$45),\"\",\" - \"&AX187)","v":" - Niv: "}," ","[b][color=blue]0[/color][/b]","[color=red][b]Tréguier[/b][/color]","Comté du Languedoc","PR:","Ecus: ","Niv: ",null,null,null,null,0,{"$f":"VLOOKUP(BC187,LstVillage!$B$8:$C$283,1)","v":{"$error":"#N/A"}},{"$f":"1","v":1},"blue","Tréguier",{"$f":"VLOOKUP(BG187,Datas!$G$6:$G$17,1)","v":"Nîmes"},0,"red",null,"Comté du Languedoc",0,0,null,{"$f":"VLOOKUP(BC187,Liste_Noire!$B$15:$G$1208,1)","v":{"$error":"#N/A"}},{"$f":"VLOOKUP(BC187,Liste_Noire!$B$15:$G$1208,5)","v":{"$error":"#N/A"}},{"$error":"#N/A"},null,0,0,0,0,0,0,0]
[null,""," ","","","","",null,null,null,null,null,null,null,null,null,null,null,null," ",null,"",0,0,0,0,0,0,0,0,0,0,null,0,null,{"$f":"IF(AK188=\"\",\"\",IF(BR188=1,\"[b][color=red]\"&Datas!$D$32&\"[/color][/b]\"&AK188&\"[b][color=red]\"&Datas!$D$33&\"{\"&BQ188&\"}[/color][/b]\",AK188))","v":""},""," ",{"$f":"IF(ISBLANK(Datas!$C$41),\"\",\" - \"&AT188)","v":" - [color=red][b]Tréguier[/b][/color]"},{"$f":"IF(ISBLANK(Datas!$C$42),\"\",\" - \"&AU188)","v":""},{"$f":"IF(ISBLANK(Datas!$C$43),\"\",\" - \"&AV188)","v":" - PR:"},{"$f":"IF(ISBLANK(Datas!$C$44),\"\",\" - \"&AW188)","v":" - Ecus: "},{"$f":"IF(ISBLANK(Datas!$C$45),\"\",\" - \"&AX188)","v":" - Niv: "}," ","[b][color=blue]0[/color][/b]","[color=red][b]Tréguier[/b][/color]","Comté du Languedoc","PR:","Ecus: ","Niv: ",null,null,null,null,0,{"$f":"VLOOKUP(BC188,LstVillage!$B$8:$C$283,1)","v":{"$error":"#N/A"}},{"$f":"1","v":1},"blue","Tréguier",{"$f":"VLOOKUP(BG188,Datas!$G$6:$G$17,1)","v":"Nîmes"},0,"red",null,"Comté du Languedoc",0,0,null,{"$f":"VLOOKUP(BC188,Liste_Noire!$B$15:$G$1208,1)","v":{"$error":"#N/A"}},{"$f":"VLOOKUP(BC188,Liste_Noire!$B$15:$G$1208,5)","v":{"$error":"#N/A"}},{"$error":"#N/A"},null,0,0,0,0,0,0,0]
[null,""," ","","","","",null,null,null,null,null,null,null,null,null,null,null,null," ",null,"",0,0,0,0,0,0,0,0,0,0,null,0,null,{"$f":"IF(AK189=\"\",\"\",IF(BR189=1,\"[b][color=red]\"&Datas!$D$32&\"[/color][/b]\"&AK189&\"[b][color=red]\"&Datas!$D$33&\"{\"&BQ189&\"}[/color][/b]\",AK189))","v":""},""," ",{"$f":"IF(ISBLANK(Datas!$C$41),\"\",\" - \"&AT189)","v":" - [color=red][b]Tréguier[/b][/color]"},{"$f":"IF(ISBLANK(Datas!$C$42),\"\",\" - \"&AU189)","v":""},{"$f":"IF(ISBLANK(Datas!$C$43),\"\",\" - \"&AV189)","v":" - PR:"},{"$f":"IF(ISBLANK(Datas!$C$44),\"\",\" - \"&AW189)","v":" - Ecus: "},{"$f":"IF(ISBLANK(Datas!$C$45),\"\",\" - \"&AX189)","v":" - Niv: "}," ","[b][color=blue]0[/color][/b]","[color=red][b]Tréguier[/b][/color]","Comté du Languedoc","PR:","Ecus: ","Niv: ",null,null,null,null,0,{"$f":"VLOOKUP(BC189,LstVillage!$B$8:$C$283,1)","v":{"$error":"#N/A"}},{"$f":"1","v":1},"blue","Tréguier",{"$f":"VLOOKUP(BG189,Datas!$G$6:$G$17,1)","v":"Nîmes"},0,"red",null,"Comté du Languedoc",0,0,null,{"$f":"VLOOKUP(BC189,Liste_Noire!$B$15:$G$1208,1)","v":{"$error":"#N/A"}},{"$f":"VLOOKUP(BC189,Liste_Noire!$B$15:$G$1208,5)","v":{"$error":"#N/A"}},{"$error":"#N/A"},null,0,0,0,0,0,0,0]
[null,""," ","","","","",null,null,null,null,null,null,null,null,null,null,null,null," ",null,"",0,0,0,0,0,0,0,0,0,0,null,0,null,{"$f":"IF(AK190=\"\",\"\",IF(BR190=1,\"[b][color=red]\"&Datas!$D$32&\"[/color][/b]\"&AK190&\"[b][color=red]\"&Datas!$D$33&\"{\"&BQ190&\"}[/color][/b]\",AK190))","v":""},""," ",{"$f":"IF(ISBLANK(Datas!$C$41),\"\",\" - \"&AT190)","v":" - [color=red][b]Tréguier[/b][/color]"},{"$f":"IF(ISBLANK(Datas!$C$42),\"\",\" - \"&AU190)","v":""},{"$f":"IF(ISBLANK(Datas!$C$43),\"\",\" - \"&AV190)","v":" - PR:"},{"$f":"IF(ISBLANK(Datas!$C$44),\"\",\" - \"&AW190)","v":" - Ecus: "},{"$f":"IF(ISBLANK(Datas!$C$45),\"\",\" - \"&AX190)","v":" - Niv: "}," ","[b][color=blue]0[/color][/b]","[color=red][b]Tréguier[/b][/color]","Comté du Languedoc","PR:","Ecus: ","Niv: ",null,null,null,null,0,{"$f":"VLOOKUP(BC190,LstVillage!$B$8:$C$283,1)","v":{"$error":"#N/A"}},{"$f":"1","v":1},"blue","Tréguier",{"$f":"VLOOKUP(BG190,Datas!$G$6:$G$17,1)","v":"Nîmes"},0,"red",null,"Comté du Languedoc",0,0,null,{"$f":"VLOOKUP(BC190,Liste_Noire!$B$15:$G$1208,1)","v":{"$error":"#N/A"}},{"$f":"VLOOKUP(BC190,Liste_Noire!$B$15:$G$1208,5)","v":{"$error":"#N/A"}},{"$error":"#N/A"},null,0,0,0,0,0,0,0]
[null,""," ","","","","",null,null,null,null,null,null,null,null,null,null,null,null," ",null,"",0,0,0,0,0,0,0,0,0,0,null,0,null,{"$f":"IF(AK191=\"\",\"\",IF(BR191=1,\"[b][color=red]\"&Datas!$D$32&\"[/color][/b]\"&AK191&\"[b][color=red]\"&Datas!$D$33&\"{\"&BQ191&\"}[/color][/b]\",AK191))","v":""},""," ",{"$f":"IF(ISBLANK(Datas!$C$41),\"\",\" - \"&AT191)","v":" - [color=red][b]Tréguier[/b][/color]"},{"$f":"IF(ISBLANK(Datas!$C$42),\"\",\" - \"&AU191)","v":""},{"$f":"IF(ISBLANK(Datas!$C$43),\"\",\" - \"&AV191)","v":" - PR:"},{"$f":"IF(ISBLANK(Datas!$C$44),\"\",\" - \"&AW191)","v":" - Ecus: "},{"$f":"IF(ISBLANK(Datas!$C$45),\"\",\" - \"&AX191)","v":" - Niv: "}," ","[b][color=blue]0[/color][/b]","[color=red][b]Tréguier[/b][/color]","Comté du Languedoc","PR:","Ecus: ","Niv: ",null,null,null,null,0,{"$f":"VLOOKUP(BC191,LstVillage!$B$8:$C$283,1)","v":{"$error":"#N/A"}},{"$f":"1","v":1},"blue","Tréguier",{"$f":"VLOOKUP(BG191,Datas!$G$6:$G$17,1)","v":"Nîmes"},0,"red",null,"Comté du Languedoc",0,0,null,{"$f":"VLOOKUP(BC191,Liste_Noire!$B$15:$G$1208,1)","v":{"$error":"#N/A"}},{"$f":"VLOOKUP(BC191,Liste_Noire!$B$15:$G$1208,5)","v":{"$error":"#N/A"}},{"$error":"#N/A"},null,0,0,0,0,0,0,0]
[null,""," ","","","","",null,null,null,null,null,null,null,null,null,null,null,null," ",null,"",0,0,0,0,0,0,0,0,0,0,null,0,null,{"$f":"IF(AK192=\"\",\"\",IF(BR192=1,\"[b][color=red]\"&Datas!$D$32&\"[/color][/b]\"&AK192&\"[b][color=red]\"&Datas!$D$33&\"{\"&BQ192&\"}[/color][/b]\",AK192))","v":""},""," ",{"$f":"IF(ISBLANK(Datas!$C$41),\"\",\" - \"&AT192)","v":" - [color=red][b]Tréguier[/b][/color]"},{"$f":"IF(ISBLANK(Datas!$C$42),\"\",\" - \"&AU192)","v":""},{"$f":"IF(ISBLANK(Datas!$C$43),\"\",\" - \"&AV192)","v":" - PR:"},{"$f":"IF(ISBLANK(Datas!$C$44),\"\",\" - \"&AW192)","v":" - Ecus: "},{"$f":"IF(ISBLANK(Datas!$C$45),\"\",\" - \"&AX192)","v":" - Niv: "}," ","[b][color=blue]0[/color][/b]","[color=red][b]Tréguier[/b][/color]","Comté du Languedoc","PR:","Ecus: ","Niv: ",null,null,null,null,0,{"$f":"VLOOKUP(BC192,LstVillage!$B$8:$C$283,1)","v":{"$error":"#N/A"}},{"$f":"1","v":1},"blue","Tréguier",{"$f":"VLOOKUP(BG192,Datas!$G$6:$G$17,1)","v":"Nîmes"},0,"red",null,"Comté du Languedoc",0,0,null,{"$f":"VLOOKUP(BC192,Liste_Noire!$B$15:$G$1208,1)","v":{"$error":"#N/A"}},{"$f":"VLOOKUP(BC192,Liste_Noire!$B$15:$G$1208,5)","v":{"$error":"#N/A"}},{"$error":"#N/A"},null,0,0,0,0,0,0,0]
[null,""," ","","","","",null,null,null,null,null,null,null,null,null,null,null,null," ",null,"",0,0,0,0,0,0,0,0,0,0,null,0,null,{"$f":"IF(AK193=\"\",\"\",IF(BR193=1,\"[b][color=red]\"&Datas!$D$32&\"[/color][/b]\"&AK193&\"[b][color=red]\"&Datas!$D$33&\"{\"&BQ193&\"}[/color][/b]\",AK193))","v":""},""," ",{"$f":"IF(ISBLANK(Datas!$C$41),\"\",\" - \"&AT193)","v":" - [color=red][b]Tréguier[/b][/color]"},{"$f":"IF(ISBLANK(Datas!$C$42),\"\",\" - \"&AU193)","v":""},{"$f":"IF(ISBLANK(Datas!$C$43),\"\",\" - \"&AV193)","v":" - PR:"},{"$f":"IF(ISBLANK(Datas!$C$44),\"\",\" - \"&AW193)","v":" - Ecus: "},{"$f":"IF(ISBLANK(Datas!$C$45),\"\",\" - \"&AX193)","v":" - Niv: "}," ","[b][color=blue]0[/color][/b]","[color=red][b]Tréguier[/b][/color]","Comté du Languedoc","PR:","Ecus: ","Niv: ",null,null,null,null,0,{"$f":"VLOOKUP(BC193,LstVillage!$B$8:$C$283,1)","v":{"$error":"#N/A"}},{"$f":"1","v":1},"blue","Tréguier",{"$f":"VLOOKUP(BG193,Datas!$G$6:$G$17,1)","v":"Nîmes"},0,"red",null,"Comté du Languedoc",0,0,null,{"$f":"VLOOKUP(BC193,Liste_Noire!$B$15:$G$1208,1)","v":{"$error":"#N/A"}},{"$f":"VLOOKUP(BC193,Liste_Noire!$B$15:$G$1208,5)","v":{"$error":"#N/A"}},{"$error":"#N/A"},null,0,0,0,0,0,0,0]
[null,""," ","","","","",null,null,null,null,null,null,null,null,null,null,null,null," ",null,"",0,0,0,0,0,0,0,0,0,0,null,0,null,{"$f":"IF(AK194=\"\",\"\",IF(BR194=1,\"[b][color=red]\"&Datas!$D$32&\"[/color][/b]\"&AK194&\"[b][color=red]\"&Datas!$D$33&\"{\"&BQ194&\"}[/color][/b]\",AK194))","v":""},""," ",{"$f":"IF(ISBLANK(Datas!$C$41),\"\",\" - \"&AT194)","v":" - [color=red][b]Tréguier[/b][/color]"},{"$f":"IF(ISBLANK(Datas!$C$42),\"\",\" - \"&AU194)","v":""},{"$f":"IF(ISBLANK(Datas!$C$43),\"\",\" - \"&AV194)","v":" - PR:"},{"$f":"IF(ISBLANK(Datas!$C$44),\"\",\" - \"&AW194)","v":" - Ecus: "},{"$f":"IF(ISBLANK(Datas!$C$45),\"\",\" - \"&AX194)","v":" - Niv: "}," ","[b][color=blue]0[/color][/b]","[color=red][b]Tréguier[/b][/color]","Comté du Languedoc","PR:","Ecus: ","Niv: ",null,null,null,null,0,{"$f":"VLOOKUP(BC194,LstVillage!$B$8:$C$283,1)","v":{"$error":"#N/A"}},{"$f":"1","v":1},"blue","Tréguier",{"$f":"VLOOKUP(BG194,Datas!$G$6:$G$17,1)","v":"Nîmes"},0,"red",null,"Comté du Languedoc",0,0,null,{"$f":"VLOOKUP(BC194,Liste_Noire!$B$15:$G$1208,1)","v":{"$error":"#N/A"}},{"$f":"VLOOKUP(BC194,Liste_Noire!$B$15:$G$1208,5)","v":{"$error":"#N/A"}},{"$error":"#N/A"},null,0,0,0,0,0,0,0]
[null,""," ","","","","",null,null,null,null,null,null,null,null,null,null,null,null," ",null,"",0,0,0,0,0,0,0,0,0,0,null,0,null,{"$f":"IF(AK195=\"\",\"\",IF(BR195=1,\"[b][color=red]\"&Datas!$D$32&\"[/color][/b]\"&AK195&\"[b][color=red]\"&Datas!$D$33&\"{\"&BQ195&\"}[/color][/b]\",AK195))","v":""},""," ",{"$f":"IF(ISBLANK(Datas!$C$41),\"\",\" - \"&AT195)","v":" - [color=red][b]Tréguier[/b][/color]"},{"$f":"IF(ISBLANK(Datas!$C$42),\"\",\" - \"&AU195)","v":""},{"$f":"IF(ISBLANK(Datas!$C$43),\"\",\" - \"&AV195)","v":" - PR:"},{"$f":"IF(ISBLANK(Datas!$C$44),\"\",\" - \"&AW195)","v":" - Ecus: "},{"$f":"IF(ISBLANK(Datas!$C$45),\"\",\" - \"&AX195)","v":" - Niv: "}," ","[b][color=blue]0[/color][/b]","[color=red][b]Tréguier[/b][/color]","Comté du Languedoc","PR:","Ecus: ","Niv: ",null,null,null,null,0,{"$f":"VLOOKUP(BC195,LstVillage!$B$8:$C$283,1)","v":{"$error":"#N/A"}},{"$f":"1","v":1},"blue","Tréguier",{"$f":"VLOOKUP(BG195,Datas!$G$6:$G$17,1)","v":"Nîmes"},0,"red",null,"Comté du Languedoc",0,0,null,{"$f":"VLOOKUP(BC195,Liste_Noire!$B$15:$G$1208,1)","v":{"$error":"#N/A"}},{"$f":"VLOOKUP(BC195,Liste_Noire!$B$15:$G$1208,5)","v":{"$error":"#N/A"}},{"$error":"#N/A"},null,0,0,0,0,0,0,0]
[null,""," ","","","","",null,null,null,null,null,null,null,null,null,null,null,null," ",null,"",0,0,0,0,0,0,0,0,0,0,null,0,null,{"$f":"IF(AK196=\"\",\"\",IF(BR196=1,\"[b][color=red]\"&Datas!$D$32&\"[/color][/b]\"&AK196&\"[b][color=red]\"&Datas!$D$33&\"{\"&BQ196&\"}[/color][/b]\",AK196))","v":""},""," ",{"$f":"IF(ISBLANK(Datas!$C$41),\"\",\" - \"&AT196)","v":" - [color=red][b]Tréguier[/b][/color]"},{"$f":"IF(ISBLANK(Datas!$C$42),\"\",\" - \"&AU196)","v":""},{"$f":"IF(ISBLANK(Datas!$C$43),\"\",\" - \"&AV196)","v":" - PR:"},{"$f":"IF(ISBLANK(Datas!$C$44),\"\",\" - \"&AW196)","v":" - Ecus: "},{"$f":"IF(ISBLANK(Datas!$C$45),\"\",\" - \"&AX196)","v":" - Niv: "}," ","[b][color=blue]0[/color][/b]","[color=red][b]Tréguier[/b][/color]","Comté du Languedoc","PR:","Ecus: ","Niv: ",null,null,null,null,0,{"$f":"VLOOKUP(BC196,LstVillage!$B$8:$C$283,1)","v":{"$error":"#N/A"}},{"$f":"1","v":1},"blue","Tréguier",{"$f":"VLOOKUP(BG196,Datas!$G$6:$G$17,1)","v":"Nîmes"},0,"red",null,"Comté du Languedoc",0,0,null,{"$f":"VLOOKUP(BC196,Liste_Noire!$B$15:$G$1208,1)","v":{"$error":"#N/A"}},{"$f":"VLOOKUP(BC196,Liste_Noire!$B$15:$G$1208,5)","v":{"$error":"#N/A"}},{"$error":"#N/A"},null,0,0,0,0,0,0,0]
[null,""," ","","","","",null,null,null,null,null,null,null,null,null,null,null,null," ",null,"",0,0,0,0,0,0,0,0,0,0,null,0,null,{"$f":"IF(AK197=\"\",\"\",IF(BR197=1,\"[b][color=red]\"&Datas!$D$32&\"[/color][/b]\"&AK197&\"[b][color=red]\"&Datas!$D$33&\"{\"&BQ197&\"}[/color][/b]\",AK197))","v":""},""," ",{"$f":"IF(ISBLANK(Datas!$C$41),\"\",\" - \"&AT197)","v":" - [color=red][b]Tréguier[/b][/color]"},{"$f":"IF(ISBLANK(Datas!$C$42),\"\",\" - \"&AU197)","v":""},{"$f":"IF(ISBLANK(Datas!$C$43),\"\",\" - \"&AV197)","v":" - PR:"},{"$f":"IF(ISBLANK(Datas!$C$44),\"\",\" - \"&AW197)","v":" - Ecus: "},{"$f":"IF(ISBLANK(Datas!$C$45),\"\",\" - \"&AX197)","v":" - Niv: "}," ","[b][color=blue]0[/color][/b]","[color=red][b]Tréguier[/b][/color]","Comté du Languedoc","PR:","Ecus: ","Niv: ",null,null,null,null,0,{"$f":"VLOOKUP(BC197,LstVillage!$B$8:$C$283,1)","v":{"$error":"#N/A"}},{"$f":"1","v":1},"blue","Tréguier",{"$f":"VLOOKUP(BG197,Datas!$G$6:$G$17,1)","v":"Nîmes"},0,"red",null,"Comté du Languedoc",0,0,null,{"$f":"VLOOKUP(BC197,Liste_Noire!$B$15:$G$1208,1)","v":{"$error":"#N/A"}},{"$f":"VLOOKUP(BC197,Liste_Noire!$B$15:$G$1208,5)","v":{"$error":"#N/A"}},{"$error":"#N/A"},null,0,0,0,0,0,0,0]
[null,""," ","","","","",null,null,null,null,null,null,null,null,null,null,null,null," ",null,"",0,0,0,0,0,0,0,0,0,0,null,0,null,{"$f":"IF(AK198=\"\",\"\",IF(BR198=1,\"[b][color=red]\"&Datas!$D$32&\"[/color][/b]\"&AK198&\"[b][color=red]\"&Datas!$D$33&\"{\"&BQ198&\"}[/color][/b]\",AK198))","v":""},""," ",{"$f":"IF(ISBLANK(Datas!$C$41),\"\",\" - \"&AT198)","v":" - [color=red][b]Tréguier[/b][/color]"},{"$f":"IF(ISBLANK(Datas!$C$42),\"\",\" - \"&AU198)","v":""},{"$f":"IF(ISBLANK(Datas!$C$43),\"\",\" - \"&AV198)","v":" - PR:"},{"$f":"IF(ISBLANK(Datas!$C$44),\"\",\" - \"&AW198)","v":" - Ecus: "},{"$f":"IF(ISBLANK(Datas!$C$45),\"\",\" - \"&AX198)","v":" - Niv: "}," ","[b][color=blue]0[/color][/b]","[color=red][b]Tréguier[/b][/color]","Comté du Languedoc","PR:","Ecus: ","Niv: ",null,null,null,null,0,{"$f":"VLOOKUP(BC198,LstVillage!$B$8:$C$283,1)","v":{"$error":"#N/A"}},{"$f":"1","v":1},"blue","Tréguier",{"$f":"VLOOKUP(BG198,Datas!$G$6:$G$17,1)","v":"Nîmes"},0,"red",null,"Comté du Languedoc",0,0,null,{"$f":"VLOOKUP(BC198,Liste_Noire!$B$15:$G$1208,1)","v":{"$error":"#N/A"}},{"$f":"VLOOKUP(BC198,Liste_Noire!$B$15:$G$1208,5)","v":{"$error":"#N/A"}},{"$error":"#N/A"},null,0,0,0,0,0,0,0]
[null,""," ","","","","",null,null,null,null,null,null,null,null,null,null,null,null," ",null,"",0,0,0,0,0,0,0,0,0,0,null,0,null,{"$f":"IF(AK199=\"\",\"\",IF(BR199=1,\"[b][color=red]\"&Datas!$D$32&\"[/color][/b]\"&AK199&\"[b][color=red]\"&Datas!$D$33&\"{\"&BQ199&\"}[/color][/b]\",AK199))","v":""},""," ",{"$f":"IF(ISBLANK(Datas!$C$41),\"\",\" - \"&AT199)","v":" - [color=red][b]Tréguier[/b][/color]"},{"$f":"IF(ISBLANK(Datas!$C$42),\"\",\" - \"&AU199)","v":""},{"$f":"IF(ISBLANK(Datas!$C$43),\"\",\" - \"&AV199)","v":" - PR:"},{"$f":"IF(ISBLANK(Datas!$C$44),\"\",\" - \"&AW199)","v":" - Ecus: "},{"$f":"IF(ISBLANK(Datas!$C$45),\"\",\" - \"&AX199)","v":" - Niv: "}," ","[b][color=blue]0[/color][/b]","[color=red][b]Tréguier[/b][/color]","Comté du Languedoc","PR:","Ecus: ","Niv: ",null,null,null,null,0,{"$f":"VLOOKUP(BC199,LstVillage!$B$8:$C$283,1)","v":{"$error":"#N/A"}},{"$f":"1","v":1},"blue","Tréguier",{"$f":"VLOOKUP(BG199,Datas!$G$6:$G$17,1)","v":"Nîmes"},0,"red",null,"Comté du Languedoc",0,0,null,{"$f":"VLOOKUP(BC199,Liste_Noire!$B$15:$G$1208,1)","v":{"$error":"#N/A"}},{"$f":"VLOOKUP(BC199,Liste_Noire!$B$15:$G$1208,5)","v":{"$error":"#N/A"}},{"$error":"#N/A"},null,0,0,0,0,0,0,0]
[null,""," ","","","","",null,null,null,null,null,null,null,null,null,null,null,null," ",null,"",0,0,0,0,0,0,0,0,0,0,null,0,null,{"$f":"IF(AK200=\"\",\"\",IF(BR200=1,\"[b][color=red]\"&Datas!$D$32&\"[/color][/b]\"&AK200&\"[b][color=red]\"&Datas!$D$33&\"{\"&BQ200&\"}[/color][/b]\",AK200))","v":""},""," ",{"$f":"IF(ISBLANK(Datas!$C$41),\"\",\" - \"&AT200)","v":" - [color=red][b]Tréguier[/b][/color]"},{"$f":"IF(ISBLANK(Datas!$C$42),\"\",\" - \"&AU200)","v":""},{"$f":"IF(ISBLANK(Datas!$C$43),\"\",\" - \"&AV200)","v":" - PR:"},{"$f":"IF(ISBLANK(Datas!$C$44),\"\",\" - \"&AW200)","v":" - Ecus: "},{"$f":"IF(ISBLANK(Datas!$C$45),\"\",\" - \"&AX200)","v":" - Niv: "}," ","[b][color=blue]0[/color][/b]","[color=red][b]Tréguier[/b][/color]","Comté du Languedoc","PR:","Ecus: ","Niv: ",null,null,null,null,0,{"$f":"VLOOKUP(BC200,LstVillage!$B$8:$C$283,1)","v":{"$error":"#N/A"}},{"$f":"1","v":1},"blue","Tréguier",{"$f":"VLOOKUP(BG200,Datas!$G$6:$G$17,1)","v":"Nîmes"},0,"red",null,"Comté du Languedoc",0,0,null,{"$f":"VLOOKUP(BC200,Liste_Noire!$B$15:$G$1208,1)","v":{"$error":"#N/A"}},{"$f":"VLOOKUP(BC200,Liste_Noire!$B$15:$G$1208,5)","v":{"$error":"#N/A"}},{"$error":"#N/A"},null,0,0,0,0,0,0,0]
[null,""," ","","","","",null,null,null,null,null,null,null,null,null,null,null,null," ",null,"",0,0,0,0,0,0,0,0,0,0,null,0,null,{"$f":"IF(AK201=\"\",\"\",IF(BR201=1,\"[b][color=red]\"&Datas!$D$32&\"[/color][/b]\"&AK201&\"[b][color=red]\"&Datas!$D$33&\"{\"&BQ201&\"}[/color][/b]\",AK201))","v":""},""," ",{"$f":"IF(ISBLANK(Datas!$C$41),\"\",\" - \"&AT201)","v":" - [color=red][b]Tréguier[/b][/color]"},{"$f":"IF(ISBLANK(Datas!$C$42),\"\",\" - \"&AU201)","v":""},{"$f":"IF(ISBLANK(Datas!$C$43),\"\",\" - \"&AV201)","v":" - PR:"},{"$f":"IF(ISBLANK(Datas!$C$44),\"\",\" - \"&AW201)","v":" - Ecus: "},{"$f":"IF(ISBLANK(Datas!$C$45),\"\",\" - \"&AX201)","v":" - Niv: "}," ","[b][color=blue]0[/color][/b]","[color=red][b]Tréguier[/b][/color]","Comté du Languedoc","PR:","Ecus: ","Niv: ",null,null,null,null,0,{"$f":"VLOOKUP(BC201,LstVillage!$B$8:$C$283,1)","v":{"$error":"#N/A"}},{"$f":"1","v":1},"blue","Tréguier",{"$f":"VLOOKUP(BG201,Datas!$G$6:$G$17,1)","v":"Nîmes"},0,"red",null,"Comté du Languedoc",0,0,null,{"$f":"VLOOKUP(BC201,Liste_Noire!$B$15:$G$1208,1)","v":{"$error":"#N/A"}},{"$f":"VLOOKUP(BC201,Liste_Noire!$B$15:$G$1208,5)","v":{"$error":"#N/A"}},{"$error":"#N/A"},null,0,0,0,0,0,0,0]
[null,""," ","","","","",null,null,null,null,null,null,null,null,null,null,null,null," ",null,"",0,0,0,0,0,0,0,0,0,0,null,0,null,{"$f":"IF(AK202=\"\",\"\",IF(BR202=1,\"[b][color=red]\"&Datas!$D$32&\"[/color][/b]\"&AK202&\"[b][color=red]\"&Datas!$D$33&\"{\"&BQ202&\"}[/color][/b]\",AK202))","v":""},""," ",{"$f":"IF(ISBLANK(Datas!$C$41),\"\",\" - \"&AT202)","v":" - [color=red][b]Tréguier[/b][/color]"},{"$f":"IF(ISBLANK(Datas!$C$42),\"\",\" - \"&AU202)","v":""},{"$f":"IF(ISBLANK(Datas!$C$43),\"\",\" - \"&AV202)","v":" - PR:"},{"$f":"IF(ISBLANK(Datas!$C$44),\"\",\" - \"&AW202)","v":" - Ecus: "},{"$f":"IF(ISBLANK(Datas!$C$45),\"\",\" - \"&AX202)","v":" - Niv: "}," ","[b][color=blue]0[/color][/b]","[color=red][b]Tréguier[/b][/color]","Comté du Languedoc","PR:","Ecus: ","Niv: ",null,null,null,null,0,{"$f":"VLOOKUP(BC202,LstVillage!$B$8:$C$283,1)","v":{"$error":"#N/A"}},{"$f":"1","v":1},"blue","Tréguier",{"$f":"VLOOKUP(BG202,Datas!$G$6:$G$17,1)","v":"Nîmes"},0,"red",null,"Comté du Languedoc",0,0,null,{"$f":"VLOOKUP(BC202,Liste_Noire!$B$15:$G$1208,1)","v":{"$error":"#N/A"}},{"$f":"VLOOKUP(BC202,Liste_Noire!$B$15:$G$1208,5)","v":{"$error":"#N/A"}},{"$error":"#N/A"},null,0,0,0,0,0,0,0]
[null,""," ","","","","",null,null,null,null,null,null,null,null,null,null,null,null," ",null,"",0,0,0,0,0,0,0,0,0,0,null,0,null,{"$f":"IF(AK203=\"\",\"\",IF(BR203=1,\"[b][color=red]\"&Datas!$D$32&\"[/color][/b]\"&AK203&\"[b][color=red]\"&Datas!$D$33&\"{\"&BQ203&\"}[/color][/b]\",AK203))","v":""},""," ",{"$f":"IF(ISBLANK(Datas!$C$41),\"\",\" - \"&AT203)","v":" - [color=red][b]Tréguier[/b][/color]"},{"$f":"IF(ISBLANK(Datas!$C$42),\"\",\" - \"&AU203)","v":""},{"$f":"IF(ISBLANK(Datas!$C$43),\"\",\" - \"&AV203)","v":" - PR:"},{"$f":"IF(ISBLANK(Datas!$C$44),\"\",\" - \"&AW203)","v":" - Ecus: "},{"$f":"IF(ISBLANK(Datas!$C$45),\"\",\" - \"&AX203)","v":" - Niv: "}," ","[b][color=blue]0[/color][/b]","[color=red][b]Tréguier[/b][/color]","Comté du Languedoc","PR:","Ecus: ","Niv: ",null,null,null,null,0,{"$f":"VLOOKUP(BC203,LstVillage!$B$8:$C$283,1)","v":{"$error":"#N/A"}},{"$f":"1","v":1},"blue","Tréguier",{"$f":"VLOOKUP(BG203,Datas!$G$6:$G$17,1)","v":"Nîmes"},0,"red",null,"Comté du Languedoc",0,0,null,{"$f":"VLOOKUP(BC203,Liste_Noire!$B$15:$G$1208,1)","v":{"$error":"#N/A"}},{"$f":"VLOOKUP(BC203,Liste_Noire!$B$15:$G$1208,5)","v":{"$error":"#N/A"}},{"$error":"#N/A"},null,0,0,0,0,0,0,0]
[null,""," ","","","","",null,null,null,null,null,null,null,null,null,null,null,null," ",null,"",0,0,0,0,0,0,0,0,0,0,null,0,null,{"$f":"IF(AK204=\"\",\"\",IF(BR204=1,\"[b][color=red]\"&Datas!$D$32&\"[/color][/b]\"&AK204&\"[b][color=red]\"&Datas!$D$33&\"{\"&BQ204&\"}[/color][/b]\",AK204))","v":""},""," ",{"$f":"IF(ISBLANK(Datas!$C$41),\"\",\" - \"&AT204)","v":" - [color=red][b]Tréguier[/b][/color]"},{"$f":"IF(ISBLANK(Datas!$C$42),\"\",\" - \"&AU204)","v":""},{"$f":"IF(ISBLANK(Datas!$C$43),\"\",\" - \"&AV204)","v":" - PR:"},{"$f":"IF(ISBLANK(Datas!$C$44),\"\",\" - \"&AW204)","v":" - Ecus: "},{"$f":"IF(ISBLANK(Datas!$C$45),\"\",\" - \"&AX204)","v":" - Niv: "}," ","[b][color=blue]0[/color][/b]","[color=red][b]Tréguier[/b][/color]","Comté du Languedoc","PR:","Ecus: ","Niv: ",null,null,null,null,0,{"$f":"VLOOKUP(BC204,LstVillage!$B$8:$C$283,1)","v":{"$error":"#N/A"}},{"$f":"1","v":1},"blue","Tréguier",{"$f":"VLOOKUP(BG204,Datas!$G$6:$G$17,1)","v":"Nîmes"},0,"red",null,"Comté du Languedoc",0,0,null,{"$f":"VLOOKUP(BC204,Liste_Noire!$B$15:$G$1208,1)","v":{"$error":"#N/A"}},{"$f":"VLOOKUP(BC204,Liste_Noire!$B$15:$G$1208,5)","v":{"$error":"#N/A"}},{"$error":"#N/A"},null,0,0,0,0,0,0,0]
[null,{"$f":"IF(BM205,\"[strike]\"&AJ205&\"[/strike]\",IF(BN205,\"[i]\"&AJ205&\"[/i]\",AJ205))","v":""}," ",{"$f":"IF(J205=\"mort\",\"M\",\"\")","v":""},{"$f":"IF(ISERROR(BR205),\"\",IF(BR205=1,\"LN\",\"\"))","v":""},{"$f":"IF(J205=\"retraite\",\"R\",\"\")","v":""},{"$f":"IF(ISBLANK(V205),\"\",V205)","v":""},null,null,null,null,null,null,null,null,null,null,null,null," ",null,"",{"$f":"IF($V205=W$11,1,0)","v":0},{"$f":"IF(AND(W205=1,$E205=X$11),1,0)","v":0},{"$f":"IF($V205=Y$11,1,0)","v":0},{"$f":"IF(AND(Y205=1,$E205=Z$11),1,0)","v":0},{"$f":"IF($F205=AA$11,1,0)","v":0},{"$f":"IF(AND(AA205=1,$E205=AB$11),1,0)","v":0},{"$f":"IF($D205=AC$11,1,0)","v":0},{"$f":"IF(AND(AC205=1,$E205=AD$11),1,0)","v":0},{"$f":"IF(AND($V205=AE$11,(AA205+AC205)=0),1,0)","v":0},{"$f":"IF(AND(AE205=1,$E205=AF$11),1,0)","v":0},null,{"$f":"IF(AND(ISBLANK(I205),ISBLANK(J205),ISBLANK(L205),ISBLANK(M205)),0,1)","v":0},null,{"$f":"IF(AK205=\"\",\"\",IF(BR205=1,\"[b][color=red]\"&Datas!$D$32&\"[/color][/b]\"&AK205&\"[b][color=red]\"&Datas!$D$33&\"{\"&BQ205&\"}[/color][/b]\",AK205))","v":""},{"$f":"IF(ISBLANK(I205),\"\",AS205&AM205&AN205&AO205&AP205&AQ205)","v":""}," ",{"$f":"IF(ISBLANK(Datas!$C$41),\"\",\" - \"&AT205)","v":" - [color=red][b]Tréguier[/b][/color]"},{"$f":"IF(ISBLANK(Datas!$C$42),\"\",\" - \"&AU205)","v":""},{"$f":"IF(ISBLANK(Datas!$C$43),\"\",\" - \"&AV205)","v":" - PR:"},{"$f":"IF(ISBLANK(Datas!$C$44),\"\",\" - \"&AW205)","v":" - Ecus: "},{"$f":"IF(ISBLANK(Datas!$C$45),\"\",\" - \"&AX205)","v":" - Niv: "}," ",{"$f":"\"[b][color=\"&BF205&\"]\"&BC205&\"[/color][/b]\"","v":"[b][color=blue]0[/color][/b]"},{"$f":"\"[color=\"&BJ205&\"][b]\"&BG205&\"[/b][/color]\"","v":"[color=red][b]Tréguier[/b][/color]"},{"$f":"$H$8","v":"Comté du Languedoc"},{"$f":"\"PR:\"&L205","v":"PR:"},{"$f":"\"Ecus: \"&M205","v":"Ecus: "},{"$f":"\"Niv: \"&K205","v":"Niv: "},null,null,null,null,{"$f":"I205","v":0},{"$f":"VLOOKUP(BC205,LstVillage!$B$8:$C$283,1)","v":{"$error":"#N/A"}},{"$f":"1","v":1},{"$f":"IF(BE205=1,$AT$2,IF(BI205=1,$AT$3,$AT$4))","v":"blue"},{"$f":"$B$8","v":"Tréguier"},{"$f":"VLOOKUP(BG205,Datas!$G$6:$G$17,1)","v":"Nîmes"},{"$f":"IF(BH205<>BG205,0,1)","v":0},{"$f":"IF(BI205=1,$AW$2,$AW$3)","v":"red"},null,{"$f":"$H$8","v":"Comté du Languedoc"},{"$f":"IF(F205=\"M\",1,0)","v":0},{"$f":"IF(F205=\"R\",1,0)","v":0},null,{"$f":"VLOOKUP(BC205,Liste_Noire!$B$15:$G$1208,1)","v":{"$error":"#N/A"}},{"$f":"VLOOKUP(BC205,Liste_Noire!$B$15:$G$1208,5)","v":{"$error":"#N/A"}},{"$f":"IF(ISERR(BP205),0,IF(BP205=BC205,1,0))","v":{"$error":"#N/A"}},null,{"$f":"IF(G205=\"a\",1,0)","v":0},{"$f":"IF(G205=\"d\",1,0)","v":0},{"$f":"IF(F205=\"R\",1,0)","v":0},{"$f":"IF(F205=\"M\",1,0)","v":0},0,0,{"$f":"IF(ISBLANK(I205),0,1)","v":0}]
[null,""," ","","","","",null,null,null,null,null,null,null,null,null,null,null,null," ",null,{"$f":"IF(OR(ISBLANK(R206),TRIM(R206)=\"\"),IF(ISBLANK($I206),\"\",$V$11),IF(OR($F206=$AA$11,$D206=$AC$11),$V$11,IF(R206=\"a/d\",\"\",R206)))","v":""},0,0,0,0,0,0,0,0,0,0,null,0,null,{"$f":"IF(AK206=\"\",\"\",IF(BR206=1,\"[b][color=red]\"&Datas!$D$32&\"[/color][/b]\"&AK206&\"[b][color=red]\"&Datas!$D$33&\"{\"&BQ206&\"}[/color][/b]\",AK206))","v":""},""," ",{"$f":"IF(ISBLANK(Datas!$C$41),\"\",\" - \"&AT206)","v":" - [color=red][b]Tréguier[/b][/color]"},{"$f":"IF(ISBLANK(Datas!$C$42),\"\",\" - \"&AU206)","v":""},{"$f":"IF(ISBLANK(Datas!$C$43),\"\",\" - \"&AV206)","v":" - PR:"},{"$f":"IF(ISBLANK(Datas!$C$44),\"\",\" - \"&AW206)","v":" - Ecus: "},{"$f":"IF(ISBLANK(Datas!$C$45),\"\",\" - \"&AX206)","v":" - Niv: "}," ","[b][color=blue]0[/color][/b]","[color=red][b]Tréguier[/b][/color]","Comté du Languedoc","PR:","Ecus: ","Niv: ",null,null,null,null,0,{"$f":"VLOOKUP(BC206,LstVillage!$B$8:$C$283,1)","v":{"$error":"#N/A"}},{"$f":"1","v":1},"blue","Tréguier",{"$f":"VLOOKUP(BG206,Datas!$G$6:$G$17,1)","v":"Nîmes"},0,"red",null,"Comté du Languedoc",0,0,null,{"$f":"VLOOKUP(BC206,Liste_Noire!$B$15:$G$1208,1)","v":{"$error":"#N/A"}},{"$f":"VLOOKUP(BC206,Liste_Noire!$B$15:$G$1208,5)","v":{"$error":"#N/A"}},{"$error":"#N/A"},null,0,0,0,0,0,0,0]
[null,""," ","","","","",null,null,null,null,null,null,null,null,null,null,null,null," ",null,"",0,0,0,0,0,0,0,0,0,0,null,0,null,{"$f":"IF(AK207=\"\",\"\",IF(BR207=1,\"[b][color=red]\"&Datas!$D$32&\"[/color][/b]\"&AK207&\"[b][color=red]\"&Datas!$D$33&\"{\"&BQ207&\"}[/color][/b]\",AK207))","v":""},""," ",{"$f":"IF(ISBLANK(Datas!$C$41),\"\",\" - \"&AT207)","v":" - [color=red][b]Tréguier[/b][/color]"},{"$f":"IF(ISBLANK(Datas!$C$42),\"\",\" - \"&AU207)","v":""},{"$f":"IF(ISBLANK(Datas!$C$43),\"\",\" - \"&AV207)","v":" - PR:"},{"$f":"IF(ISBLANK(Datas!$C$44),\"\",\" - \"&AW207)","v":" - Ecus: "},{"$f":"IF(ISBLANK(Datas!$C$45),\"\",\" - \"&AX207)","v":" - Niv: "}," ","[b][color=blue]0[/color][/b]","[color=red][b]Tréguier[/b][/color]","Comté du Languedoc","PR:","Ecus: ","Niv: ",null,null,null,null,0,{"$f":"VLOOKUP(BC207,LstVillage!$B$8:$C$283,1)","v":{"$error":"#N/A"}},{"$f":"1","v":1},"blue","Tréguier",{"$f":"VLOOKUP(BG207,Datas!$G$6:$G$17,1)","v":"Nîmes"},0,"red",null,"Comté du Languedoc",0,0,null,{"$f":"VLOOKUP(BC207,Liste_Noire!$B$15:$G$1208,1)","v":{"$error":"#N/A"}},{"$f":"VLOOKUP(BC207,Liste_Noire!$B$15:$G$1208,5)","v":{"$error":"#N/A"}},{"$error":"#N/A"},null,0,0,0,0,0,0,0]
[null,""," ","","","","",null,null,null,null,null,null,null,null,null,null,null,null," ",null,"",0,0,0,0,0,0,0,0,0,0,null,0,null,{"$f":"IF(AK208=\"\",\"\",IF(BR208=1,\"[b][color=red]\"&Datas!$D$32&\"[/color][/b]\"&AK208&\"[b][color=red]\"&Datas!$D$33&\"{\"&BQ208&\"}[/color][/b]\",AK208))","v":""},""," ",{"$f":"IF(ISBLANK(Datas!$C$41),\"\",\" - \"&AT208)","v":" - [color=red][b]Tréguier[/b][/color]"},{"$f":"IF(ISBLANK(Datas!$C$42),\"\",\" - \"&AU208)","v":""},{"$f":"IF(ISBLANK(Datas!$C$43),\"\",\" - \"&AV208)","v":" - PR:"},{"$f":"IF(ISBLANK(Datas!$C$44),\"\",\" - \"&AW208)","v":" - Ecus: "},{"$f":"IF(ISBLANK(Datas!$C$45),\"\",\" - \"&AX208)","v":" - Niv: "}," ","[b][color=blue]0[/color][/b]","[color=red][b]Tréguier[/b][/color]","Comté du Languedoc","PR:","Ecus: ","Niv: ",null,null,null,null,0,{"$f":"VLOOKUP(BC208,LstVillage!$B$8:$C$283,1)","v":{"$error":"#N/A"}},{"$f":"1","v":1},"blue","Tréguier",{"$f":"VLOOKUP(BG208,Datas!$G$6:$G$17,1)","v":"Nîmes"},0,"red",null,"Comté du Languedoc",0,0,null,{"$f":"VLOOKUP(BC208,Liste_Noire!$B$15:$G$1208,1)","v":{"$error":"#N/A"}},{"$f":"VLOOKUP(BC208,Liste_Noire!$B$15:$G$1208,5)","v":{"$error":"#N/A"}},{"$error":"#N/A"},null,0,0,0,0,0,0,0]
[null,""," ","","","","",null,null,null,null,null,null,null,null,null,null,null,null," ",null,"",0,0,0,0,0,0,0,0,0,0,null,0,null,{"$f":"IF(AK209=\"\",\"\",IF(BR209=1,\"[b][color=red]\"&Datas!$D$32&\"[/color][/b]\"&AK209&\"[b][color=red]\"&Datas!$D$33&\"{\"&BQ209&\"}[/color][/b]\",AK209))","v":""},""," ",{"$f":"IF(ISBLANK(Datas!$C$41),\"\",\" - \"&AT209)","v":" - [color=red][b]Tréguier[/b][/color]"},{"$f":"IF(ISBLANK(Datas!$C$42),\"\",\" - \"&AU209)","v":""},{"$f":"IF(ISBLANK(Datas!$C$43),\"\",\" - \"&AV209)","v":" - PR:"},{"$f":"IF(ISBLANK(Datas!$C$44),\"\",\" - \"&AW209)","v":" - Ecus: "},{"$f":"IF(ISBLANK(Datas!$C$45),\"\",\" - \"&AX209)","v":" - Niv: "}," ","[b][color=blue]0[/color][/b]","[color=red][b]Tréguier[/b][/color]","Comté du Languedoc","PR:","Ecus: ","Niv: ",null,null,null,null,0,{"$f":"VLOOKUP(BC209,LstVillage!$B$8:$C$283,1)","v":{"$error":"#N/A"}},{"$f":"1","v":1},"blue","Tréguier",{"$f":"VLOOKUP(BG209,Datas!$G$6:$G$17,1)","v":"Nîmes"},0,"red",null,"Comté du Languedoc",0,0,null,{"$f":"VLOOKUP(BC209,Liste_Noire!$B$15:$G$1208,1)","v":{"$error":"#N/A"}},{"$f":"VLOOKUP(BC209,Liste_Noire!$B$15:$G$1208,5)","v":{"$error":"#N/A"}},{"$error":"#N/A"},null,0,0,0,0,0,0,0]
[null,""," ","","","","",null,null,null,null,null,null,null,null,null,null,null,null," ",null,"",0,0,0,0,0,0,0,0,0,0,null,0,null,{"$f":"IF(AK210=\"\",\"\",IF(BR210=1,\"[b][color=red]\"&Datas!$D$32&\"[/color][/b]\"&AK210&\"[b][color=red]\"&Datas!$D$33&\"{\"&BQ210&\"}[/color][/b]\",AK210))","v":""},""," ",{"$f":"IF(ISBLANK(Datas!$C$41),\"\",\" - \"&AT210)","v":" - [color=red][b]Tréguier[/b][/color]"},{"$f":"IF(ISBLANK(Datas!$C$42),\"\",\" - \"&AU210)","v":""},{"$f":"IF(ISBLANK(Datas!$C$43),\"\",\" - \"&AV210)","v":" - PR:"},{"$f":"IF(ISBLANK(Datas!$C$44),\"\",\" - \"&AW210)","v":" - Ecus: "},{"$f":"IF(ISBLANK(Datas!$C$45),\"\",\" - \"&AX210)","v":" - Niv: "}," ","[b][color=blue]0[/color][/b]","[color=red][b]Tréguier[/b][/color]","Comté du Languedoc","PR:","Ecus: ","Niv: ",null,null,null,null,0,{"$f":"VLOOKUP(BC210,LstVillage!$B$8:$C$283,1)","v":{"$error":"#N/A"}},{"$f":"1","v":1},"blue","Tréguier",{"$f":"VLOOKUP(BG210,Datas!$G$6:$G$17,1)","v":"Nîmes"},0,"red",null,"Comté du Languedoc",0,0,null,{"$f":"VLOOKUP(BC210,Liste_Noire!$B$15:$G$1208,1)","v":{"$error":"#N/A"}},{"$f":"VLOOKUP(BC210,Liste_Noire!$B$15:$G$1208,5)","v":{"$error":"#N/A"}},{"$error":"#N/A"},null,0,0,0,0,0,0,0]
[null,""," ","","","","",null,null,null,null,null,null,null,null,null,null,null,null," ",null,"",0,0,0,0,0,0,0,0,0,0,null,0,null,{"$f":"IF(AK211=\"\",\"\",IF(BR211=1,\"[b][color=red]\"&Datas!$D$32&\"[/color][/b]\"&AK211&\"[b][color=red]\"&Datas!$D$33&\"{\"&BQ211&\"}[/color][/b]\",AK211))","v":""},""," ",{"$f":"IF(ISBLANK(Datas!$C$41),\"\",\" - \"&AT211)","v":" - [color=red][b]Tréguier[/b][/color]"},{"$f":"IF(ISBLANK(Datas!$C$42),\"\",\" - \"&AU211)","v":""},{"$f":"IF(ISBLANK(Datas!$C$43),\"\",\" - \"&AV211)","v":" - PR:"},{"$f":"IF(ISBLANK(Datas!$C$44),\"\",\" - \"&AW211)","v":" - Ecus: "},{"$f":"IF(ISBLANK(Datas!$C$45),\"\",\" - \"&AX211)","v":" - Niv: "}," ","[b][color=blue]0[/color][/b]","[color=red][b]Tréguier[/b][/color]","Comté du Languedoc","PR:","Ecus: ","Niv: ",null,null,null,null,0,{"$f":"VLOOKUP(BC211,LstVillage!$B$8:$C$283,1)","v":{"$error":"#N/A"}},{"$f":"1","v":1},"blue","Tréguier",{"$f":"VLOOKUP(BG211,Datas!$G$6:$G$17,1)","v":"Nîmes"},0,"red",null,"Comté du Languedoc",0,0,null,{"$f":"VLOOKUP(BC211,Liste_Noire!$B$15:$G$1208,1)","v":{"$error":"#N/A"}},{"$f":"VLOOKUP(BC211,Liste_Noire!$B$15:$G$1208,5)","v":{"$error":"#N/A"}},{"$error":"#N/A"},null,0,0,0,0,0,0,0]
[null,""," ","","","","",null,null,null,null,null,null,null,null,null,null,null,null," ",null,"",0,0,0,0,0,0,0,0,0,0,null,0,null,{"$f":"IF(AK212=\"\",\"\",IF(BR212=1,\"[b][color=red]\"&Datas!$D$32&\"[/color][/b]\"&AK212&\"[b][color=red]\"&Datas!$D$33&\"{\"&BQ212&\"}[/color][/b]\",AK212))","v":""},""," ",{"$f":"IF(ISBLANK(Datas!$C$41),\"\",\" - \"&AT212)","v":" - [color=red][b]Tréguier[/b][/color]"},{"$f":"IF(ISBLANK(Datas!$C$42),\"\",\" - \"&AU212)","v":""},{"$f":"IF(ISBLANK(Datas!$C$43),\"\",\" - \"&AV212)","v":" - PR:"},{"$f":"IF(ISBLANK(Datas!$C$44),\"\",\" - \"&AW212)","v":" - Ecus: "},{"$f":"IF(ISBLANK(Datas!$C$45),\"\",\" - \"&AX212)","v":" - Niv: "}," ","[b][color=blue]0[/color][/b]","[color=red][b]Tréguier[/b][/color]","Comté du Languedoc","PR:","Ecus: ","Niv: ",null,null,null,null,0,{"$f":"VLOOKUP(BC212,LstVillage!$B$8:$C$283,1)","v":{"$error":"#N/A"}},{"$f":"1","v":1},"blue","Tréguier",{"$f":"VLOOKUP(BG212,Datas!$G$6:$G$17,1)","v":"Nîmes"},0,"red",null,"Comté du Languedoc",0,0,null,{"$f":"VLOOKUP(BC212,Liste_Noire!$B$15:$G$1208,1)","v":{"$error":"#N/A"}},{"$f":"VLOOKUP(BC212,Liste_Noire!$B$15:$G$1208,5)","v":{"$error":"#N/A"}},{"$error":"#N/A"},null,0,0,0,0,0,0,0]
[null,""," ","","","","",null,null,null,null,null,null,null,null,null,null,null,null," ",null,"",0,0,0,0,0,0,0,0,0,0,null,0,null,{"$f":"IF(AK213=\"\",\"\",IF(BR213=1,\"[b][color=red]\"&Datas!$D$32&\"[/color][/b]\"&AK213&\"[b][color=red]\"&Datas!$D$33&\"{\"&BQ213&\"}[/color][/b]\",AK213))","v":""},""," ",{"$f":"IF(ISBLANK(Datas!$C$41),\"\",\" - \"&AT213)","v":" - [color=red][b]Tréguier[/b][/color]"},{"$f":"IF(ISBLANK(Datas!$C$42),\"\",\" - \"&AU213)","v":""},{"$f":"IF(ISBLANK(Datas!$C$43),\"\",\" - \"&AV213)","v":" - PR:"},{"$f":"IF(ISBLANK(Datas!$C$44),\"\",\" - \"&AW213)","v":" - Ecus: "},{"$f":"IF(ISBLANK(Datas!$C$45),\"\",\" - \"&AX213)","v":" - Niv: "}," ","[b][color=blue]0[/color][/b]","[color=red][b]Tréguier[/b][/color]","Comté du Languedoc","PR:","Ecus: ","Niv: ",null,null,null,null,0,{"$f":"VLOOKUP(BC213,LstVillage!$B$8:$C$283,1)","v":{"$error":"#N/A"}},{"$f":"1","v":1},"blue","Tréguier",{"$f":"VLOOKUP(BG213,Datas!$G$6:$G$17,1)","v":"Nîmes"},0,"red",null,"Comté du Languedoc",0,0,null,{"$f":"VLOOKUP(BC213,Liste_Noire!$B$15:$G$1208,1)","v":{"$error":"#N/A"}},{"$f":"VLOOKUP(BC213,Liste_Noire!$B$15:$G$1208,5)","v":{"$error":"#N/A"}},{"$error":"#N/A"},null,0,0,0,0,0,0,0]
[null,""," ","","","","",null,null,null,null,null,null,null,null,null,null,null,null," ",null,"",0,0,0,0,0,0,0,0,0,0,null,0,null,{"$f":"IF(AK214=\"\",\"\",IF(BR214=1,\"[b][color=red]\"&Datas!$D$32&\"[/color][/b]\"&AK214&\"[b][color=red]\"&Datas!$D$33&\"{\"&BQ214&\"}[/color][/b]\",AK214))","v":""},""," ",{"$f":"IF(ISBLANK(Datas!$C$41),\"\",\" - \"&AT214)","v":" - [color=red][b]Tréguier[/b][/color]"},{"$f":"IF(ISBLANK(Datas!$C$42),\"\",\" - \"&AU214)","v":""},{"$f":"IF(ISBLANK(Datas!$C$43),\"\",\" - \"&AV214)","v":" - PR:"},{"$f":"IF(ISBLANK(Datas!$C$44),\"\",\" - \"&AW214)","v":" - Ecus: "},{"$f":"IF(ISBLANK(Datas!$C$45),\"\",\" - \"&AX214)","v":" - Niv: "}," ","[b][color=blue]0[/color][/b]","[color=red][b]Tréguier[/b][/color]","Comté du Languedoc","PR:","Ecus: ","Niv: ",null,null,null,null,0,{"$f":"VLOOKUP(BC214,LstVillage!$B$8:$C$283,1)","v":{"$error":"#N/A"}},{"$f":"1","v":1},"blue","Tréguier",{"$f":"VLOOKUP(BG214,Datas!$G$6:$G$17,1)","v":"Nîmes"},0,"red",null,"Comté du Languedoc",0,0,null,{"$f":"VLOOKUP(BC214,Liste_Noire!$B$15:$G$1208,1)","v":{"$error":"#N/A"}},{"$f":"VLOOKUP(BC214,Liste_Noire!$B$15:$G$1208,5)","v":{"$error":"#N/A"}},{"$error":"#N/A"},null,0,0,0,0,0,0,0]
[null,""," ","","","","",null,null,null,null,null,null,null,null,null,null,null,null," ",null,"",0,0,0,0,0,0,0,0,0,0,null,0,null,{"$f":"IF(AK215=\"\",\"\",IF(BR215=1,\"[b][color=red]\"&Datas!$D$32&\"[/color][/b]\"&AK215&\"[b][color=red]\"&Datas!$D$33&\"{\"&BQ215&\"}[/color][/b]\",AK215))","v":""},""," ",{"$f":"IF(ISBLANK(Datas!$C$41),\"\",\" - \"&AT215)","v":" - [color=red][b]Tréguier[/b][/color]"},{"$f":"IF(ISBLANK(Datas!$C$42),\"\",\" - \"&AU215)","v":""},{"$f":"IF(ISBLANK(Datas!$C$43),\"\",\" - \"&AV215)","v":" - PR:"},{"$f":"IF(ISBLANK(Datas!$C$44),\"\",\" - \"&AW215)","v":" - Ecus: "},{"$f":"IF(ISBLANK(Datas!$C$45),\"\",\" - \"&AX215)","v":" - Niv: "}," ","[b][color=blue]0[/color][/b]","[color=red][b]Tréguier[/b][/color]","Comté du Languedoc","PR:","Ecus: ","Niv: ",null,null,null,null,0,{"$f":"VLOOKUP(BC215,LstVillage!$B$8:$C$283,1)","v":{"$error":"#N/A"}},{"$f":"1","v":1},"blue","Tréguier",{"$f":"VLOOKUP(BG215,Datas!$G$6:$G$17,1)","v":"Nîmes"},0,"red",null,"Comté du Languedoc",0,0,null,{"$f":"VLOOKUP(BC215,Liste_Noire!$B$15:$G$1208,1)","v":{"$error":"#N/A"}},{"$f":"VLOOKUP(BC215,Liste_Noire!$B$15:$G$1208,5)","v":{"$error":"#N/A"}},{"$error":"#N/A"},null,0,0,0,0,0,0,0]
[null,""," ","","","","",null,null,null,null,null,null,null,null,null,null,null,null," ",null,"",0,0,0,0,0,0,0,0,0,0,null,0,null,{"$f":"IF(AK216=\"\",\"\",IF(BR216=1,\"[b][color=red]\"&Datas!$D$32&\"[/color][/b]\"&AK216&\"[b][color=red]\"&Datas!$D$33&\"{\"&BQ216&\"}[/color][/b]\",AK216))","v":""},""," ",{"$f":"IF(ISBLANK(Datas!$C$41),\"\",\" - \"&AT216)","v":" - [color=red][b]Tréguier[/b][/color]"},{"$f":"IF(ISBLANK(Datas!$C$42),\"\",\" - \"&AU216)","v":""},{"$f":"IF(ISBLANK(Datas!$C$43),\"\",\" - \"&AV216)","v":" - PR:"},{"$f":"IF(ISBLANK(Datas!$C$44),\"\",\" - \"&AW216)","v":" - Ecus: "},{"$f":"IF(ISBLANK(Datas!$C$45),\"\",\" - \"&AX216)","v":" - Niv: "}," ","[b][color=blue]0[/color][/b]","[color=red][b]Tréguier[/b][/color]","Comté du Languedoc","PR:","Ecus: ","Niv: ",null,null,null,null,0,{"$f":"VLOOKUP(BC216,LstVillage!$B$8:$C$283,1)","v":{"$error":"#N/A"}},{"$f":"1","v":1},"blue","Tréguier",{"$f":"VLOOKUP(BG216,Datas!$G$6:$G$17,1)","v":"Nîmes"},0,"red",null,"Comté du Languedoc",0,0,null,{"$f":"VLOOKUP(BC216,Liste_Noire!$B$15:$G$1208,1)","v":{"$error":"#N/A"}},{"$f":"VLOOKUP(BC216,Liste_Noire!$B$15:$G$1208,5)","v":{"$error":"#N/A"}},{"$error":"#N/A"},null,0,0,0,0,0,0,0]
[null,""," ","","","","",null,null,null,null,null,null,null,null,null,null,null,null," ",null,"",0,0,0,0,0,0,0,0,0,0,null,0,null,{"$f":"IF(AK217=\"\",\"\",IF(BR217=1,\"[b][color=red]\"&Datas!$D$32&\"[/color][/b]\"&AK217&\"[b][color=red]\"&Datas!$D$33&\"{\"&BQ217&\"}[/color][/b]\",AK217))","v":""},""," ",{"$f":"IF(ISBLANK(Datas!$C$41),\"\",\" - \"&AT217)","v":" - [color=red][b]Tréguier[/b][/color]"},{"$f":"IF(ISBLANK(Datas!$C$42),\"\",\" - \"&AU217)","v":""},{"$f":"IF(ISBLANK(Datas!$C$43),\"\",\" - \"&AV217)","v":" - PR:"},{"$f":"IF(ISBLANK(Datas!$C$44),\"\",\" - \"&AW217)","v":" - Ecus: "},{"$f":"IF(ISBLANK(Datas!$C$45),\"\",\" - \"&AX217)","v":" - Niv: "}," ","[b][color=blue]0[/color][/b]","[color=red][b]Tréguier[/b][/color]","Comté du Languedoc","PR:","Ecus: ","Niv: ",null,null,null,null,0,{"$f":"VLOOKUP(BC217,LstVillage!$B$8:$C$283,1)","v":{"$error":"#N/A"}},{"$f":"1","v":1},"blue","Tréguier",{"$f":"VLOOKUP(BG217,Datas!$G$6:$G$17,1)","v":"Nîmes"},0,"red",null,"Comté du Languedoc",0,0,null,{"$f":"VLOOKUP(BC217,Liste_Noire!$B$15:$G$1208,1)","v":{"$error":"#N/A"}},{"$f":"VLOOKUP(BC217,Liste_Noire!$B$15:$G$1208,5)","v":{"$error":"#N/A"}},{"$error":"#N/A"},null,0,0,0,0,0,0,0]
[null,""," ","","","","",null,null,null,null,null,null,null,null,null,null,null,null," ",null,"",0,0,0,0,0,0,0,0,0,0,null,0,null,{"$f":"IF(AK218=\"\",\"\",IF(BR218=1,\"[b][color=red]\"&Datas!$D$32&\"[/color][/b]\"&AK218&\"[b][color=red]\"&Datas!$D$33&\"{\"&BQ218&\"}[/color][/b]\",AK218))","v":""},""," ",{"$f":"IF(ISBLANK(Datas!$C$41),\"\",\" - \"&AT218)","v":" - [color=red][b]Tréguier[/b][/color]"},{"$f":"IF(ISBLANK(Datas!$C$42),\"\",\" - \"&AU218)","v":""},{"$f":"IF(ISBLANK(Datas!$C$43),\"\",\" - \"&AV218)","v":" - PR:"},{"$f":"IF(ISBLANK(Datas!$C$44),\"\",\" - \"&AW218)","v":" - Ecus: "},{"$f":"IF(ISBLANK(Datas!$C$45),\"\",\" - \"&AX218)","v":" - Niv: "}," ","[b][color=blue]0[/color][/b]","[color=red][b]Tréguier[/b][/color]","Comté du Languedoc","PR:","Ecus: ","Niv: ",null,null,null,null,0,{"$f":"VLOOKUP(BC218,LstVillage!$B$8:$C$283,1)","v":{"$error":"#N/A"}},{"$f":"1","v":1},"blue","Tréguier",{"$f":"VLOOKUP(BG218,Datas!$G$6:$G$17,1)","v":"Nîmes"},0,"red",null,"Comté du Languedoc",0,0,null,{"$f":"VLOOKUP(BC218,Liste_Noire!$B$15:$G$1208,1)","v":{"$error":"#N/A"}},{"$f":"VLOOKUP(BC218,Liste_Noire!$B$15:$G$1208,5)","v":{"$error":"#N/A"}},{"$error":"#N/A"},null,0,0,0,0,0,0,0]
[null,""," ","","","","",null,null,null,null,null,null,null,null,null,null,null,null," ",null,"",0,0,0,0,0,0,0,0,0,0,null,0,null,{"$f":"IF(AK219=\"\",\"\",IF(BR219=1,\"[b][color=red]\"&Datas!$D$32&\"[/color][/b]\"&AK219&\"[b][color=red]\"&Datas!$D$33&\"{\"&BQ219&\"}[/color][/b]\",AK219))","v":""},""," ",{"$f":"IF(ISBLANK(Datas!$C$41),\"\",\" - \"&AT219)","v":" - [color=red][b]Tréguier[/b][/color]"},{"$f":"IF(ISBLANK(Datas!$C$42),\"\",\" - \"&AU219)","v":""},{"$f":"IF(ISBLANK(Datas!$C$43),\"\",\" - \"&AV219)","v":" - PR:"},{"$f":"IF(ISBLANK(Datas!$C$44),\"\",\" - \"&AW219)","v":" - Ecus: "},{"$f":"IF(ISBLANK(Datas!$C$45),\"\",\" - \"&AX219)","v":" - Niv: "}," ","[b][color=blue]0[/color][/b]","[color=red][b]Tréguier[/b][/color]","Comté du Languedoc","PR:","Ecus: ","Niv: ",null,null,null,null,0,{"$f":"VLOOKUP(BC219,LstVillage!$B$8:$C$283,1)","v":{"$error":"#N/A"}},{"$f":"1","v":1},"blue","Tréguier",{"$f":"VLOOKUP(BG219,Datas!$G$6:$G$17,1)","v":"Nîmes"},0,"red",null,"Comté du Languedoc",0,0,null,{"$f":"VLOOKUP(BC219,Liste_Noire!$B$15:$G$1208,1)","v":{"$error":"#N/A"}},{"$f":"VLOOKUP(BC219,Liste_Noire!$B$15:$G$1208,5)","v":{"$error":"#N/A"}},{"$error":"#N/A"},null,0,0,0,0,0,0,0]
[null,""," ","","","","",null,null,null,null,null,null,null,null,null,null,null,null," ",null,"",0,0,0,0,0,0,0,0,0,0,null,0,null,{"$f":"IF(AK220=\"\",\"\",IF(BR220=1,\"[b][color=red]\"&Datas!$D$32&\"[/color][/b]\"&AK220&\"[b][color=red]\"&Datas!$D$33&\"{\"&BQ220&\"}[/color][/b]\",AK220))","v":""},""," ",{"$f":"IF(ISBLANK(Datas!$C$41),\"\",\" - \"&AT220)","v":" - [color=red][b]Tréguier[/b][/color]"},{"$f":"IF(ISBLANK(Datas!$C$42),\"\",\" - \"&AU220)","v":""},{"$f":"IF(ISBLANK(Datas!$C$43),\"\",\" - \"&AV220)","v":" - PR:"},{"$f":"IF(ISBLANK(Datas!$C$44),\"\",\" - \"&AW220)","v":" - Ecus: "},{"$f":"IF(ISBLANK(Datas!$C$45),\"\",\" - \"&AX220)","v":" - Niv: "}," ","[b][color=blue]0[/color][/b]","[color=red][b]Tréguier[/b][/color]","Comté du Languedoc","PR:","Ecus: ","Niv: ",null,null,null,null,0,{"$f":"VLOOKUP(BC220,LstVillage!$B$8:$C$283,1)","v":{"$error":"#N/A"}},{"$f":"1","v":1},"blue","Tréguier",{"$f":"VLOOKUP(BG220,Datas!$G$6:$G$17,1)","v":"Nîmes"},0,"red",null,"Comté du Languedoc",0,0,null,{"$f":"VLOOKUP(BC220,Liste_Noire!$B$15:$G$1208,1)","v":{"$error":"#N/A"}},{"$f":"VLOOKUP(BC220,Liste_Noire!$B$15:$G$1208,5)","v":{"$error":"#N/A"}},{"$error":"#N/A"},null,0,0,0,0,0,0,0]
[null,""," ","","","","",null,null,null,null,null,null,null,null,null,null,null,null," ",null,"",0,0,0,0,0,0,0,0,0,0,null,0,null,{"$f":"IF(AK221=\"\",\"\",IF(BR221=1,\"[b][color=red]\"&Datas!$D$32&\"[/color][/b]\"&AK221&\"[b][color=red]\"&Datas!$D$33&\"{\"&BQ221&\"}[/color][/b]\",AK221))","v":""},""," ",{"$f":"IF(ISBLANK(Datas!$C$41),\"\",\" - \"&AT221)","v":" - [color=red][b]Tréguier[/b][/color]"},{"$f":"IF(ISBLANK(Datas!$C$42),\"\",\" - \"&AU221)","v":""},{"$f":"IF(ISBLANK(Datas!$C$43),\"\",\" - \"&AV221)","v":" - PR:"},{"$f":"IF(ISBLANK(Datas!$C$44),\"\",\" - \"&AW221)","v":" - Ecus: "},{"$f":"IF(ISBLANK(Datas!$C$45),\"\",\" - \"&AX221)","v":" - Niv: "}," ","[b][color=blue]0[/color][/b]","[color=red][b]Tréguier[/b][/color]","Comté du Languedoc","PR:","Ecus: ","Niv: ",null,null,null,null,0,{"$f":"VLOOKUP(BC221,LstVillage!$B$8:$C$283,1)","v":{"$error":"#N/A"}},{"$f":"1","v":1},"blue","Tréguier",{"$f":"VLOOKUP(BG221,Datas!$G$6:$G$17,1)","v":"Nîmes"},0,"red",null,"Comté du Languedoc",0,0,null,{"$f":"VLOOKUP(BC221,Liste_Noire!$B$15:$G$1208,1)","v":{"$error":"#N/A"}},{"$f":"VLOOKUP(BC221,Liste_Noire!$B$15:$G$1208,5)","v":{"$error":"#N/A"}},{"$error":"#N/A"},null,0,0,0,0,0,0,0]
[null,""," ","","","","",null,null,null,null,null,null,null,null,null,null,null,null," ",null,"",0,0,0,0,0,0,0,0,0,0,null,0,null,{"$f":"IF(AK222=\"\",\"\",IF(BR222=1,\"[b][color=red]\"&Datas!$D$32&\"[/color][/b]\"&AK222&\"[b][color=red]\"&Datas!$D$33&\"{\"&BQ222&\"}[/color][/b]\",AK222))","v":""},""," ",{"$f":"IF(ISBLANK(Datas!$C$41),\"\",\" - \"&AT222)","v":" - [color=red][b]Tréguier[/b][/color]"},{"$f":"IF(ISBLANK(Datas!$C$42),\"\",\" - \"&AU222)","v":""},{"$f":"IF(ISBLANK(Datas!$C$43),\"\",\" - \"&AV222)","v":" - PR:"},{"$f":"IF(ISBLANK(Datas!$C$44),\"\",\" - \"&AW222)","v":" - Ecus: "},{"$f":"IF(ISBLANK(Datas!$C$45),\"\",\" - \"&AX222)","v":" - Niv: "}," ","[b][color=blue]0[/color][/b]","[color=red][b]Tréguier[/b][/color]","Comté du Languedoc","PR:","Ecus: ","Niv: ",null,null,null,null,0,{"$f":"VLOOKUP(BC222,LstVillage!$B$8:$C$283,1)","v":{"$error":"#N/A"}},{"$f":"1","v":1},"blue","Tréguier",{"$f":"VLOOKUP(BG222,Datas!$G$6:$G$17,1)","v":"Nîmes"},0,"red",null,"Comté du Languedoc",0,0,null,{"$f":"VLOOKUP(BC222,Liste_Noire!$B$15:$G$1208,1)","v":{"$error":"#N/A"}},{"$f":"VLOOKUP(BC222,Liste_Noire!$B$15:$G$1208,5)","v":{"$error":"#N/A"}},{"$error":"#N/A"},null,0,0,0,0,0,0,0]
[null,""," ","","","","",null,null,null,null,null,null,null,null,null,null,null,null," ",null,"",0,0,0,0,0,0,0,0,0,0,null,0,null,{"$f":"IF(AK223=\"\",\"\",IF(BR223=1,\"[b][color=red]\"&Datas!$D$32&\"[/color][/b]\"&AK223&\"[b][color=red]\"&Datas!$D$33&\"{\"&BQ223&\"}[/color][/b]\",AK223))","v":""},""," ",{"$f":"IF(ISBLANK(Datas!$C$41),\"\",\" - \"&AT223)","v":" - [color=red][b]Tréguier[/b][/color]"},{"$f":"IF(ISBLANK(Datas!$C$42),\"\",\" - \"&AU223)","v":""},{"$f":"IF(ISBLANK(Datas!$C$43),\"\",\" - \"&AV223)","v":" - PR:"},{"$f":"IF(ISBLANK(Datas!$C$44),\"\",\" - \"&AW223)","v":" - Ecus: "},{"$f":"IF(ISBLANK(Datas!$C$45),\"\",\" - \"&AX223)","v":" - Niv: "}," ","[b][color=blue]0[/color][/b]","[color=red][b]Tréguier[/b][/color]","Comté du Languedoc","PR:","Ecus: ","Niv: ",null,null,null,null,0,{"$f":"VLOOKUP(BC223,LstVillage!$B$8:$C$283,1)","v":{"$error":"#N/A"}},{"$f":"1","v":1},"blue","Tréguier",{"$f":"VLOOKUP(BG223,Datas!$G$6:$G$17,1)","v":"Nîmes"},0,"red",null,"Comté du Languedoc",0,0,null,{"$f":"VLOOKUP(BC223,Liste_Noire!$B$15:$G$1208,1)","v":{"$error":"#N/A"}},{"$f":"VLOOKUP(BC223,Liste_Noire!$B$15:$G$1208,5)","v":{"$error":"#N/A"}},{"$error":"#N/A"},null,0,0,0,0,0,0,0]
[null,""," ","","","","",null,null,null,null,null,null,null,null,null,null,null,null," ",null,"",0,0,0,0,0,0,0,0,0,0,null,0,null,{"$f":"IF(AK224=\"\",\"\",IF(BR224=1,\"[b][color=red]\"&Datas!$D$32&\"[/color][/b]\"&AK224&\"[b][color=red]\"&Datas!$D$33&\"{\"&BQ224&\"}[/color][/b]\",AK224))","v":""},""," ",{"$f":"IF(ISBLANK(Datas!$C$41),\"\",\" - \"&AT224)","v":" - [color=red][b]Tréguier[/b][/color]"},{"$f":"IF(ISBLANK(Datas!$C$42),\"\",\" - \"&AU224)","v":""},{"$f":"IF(ISBLANK(Datas!$C$43),\"\",\" - \"&AV224)","v":" - PR:"},{"$f":"IF(ISBLANK(Datas!$C$44),\"\",\" - \"&AW224)","v":" - Ecus: "},{"$f":"IF(ISBLANK(Datas!$C$45),\"\",\" - \"&AX224)","v":" - Niv: "}," ","[b][color=blue]0[/color][/b]","[color=red][b]Tréguier[/b][/color]","Comté du Languedoc","PR:","Ecus: ","Niv: ",null,null,null,null,0,{"$f":"VLOOKUP(BC224,LstVillage!$B$8:$C$283,1)","v":{"$error":"#N/A"}},{"$f":"1","v":1},"blue","Tréguier",{"$f":"VLOOKUP(BG224,Datas!$G$6:$G$17,1)","v":"Nîmes"},0,"red",null,"Comté du Languedoc",0,0,null,{"$f":"VLOOKUP(BC224,Liste_Noire!$B$15:$G$1208,1)","v":{"$error":"#N/A"}},{"$f":"VLOOKUP(BC224,Liste_Noire!$B$15:$G$1208,5)","v":{"$error":"#N/A"}},{"$error":"#N/A"},null,0,0,0,0,0,0,0]
[null,""," ","","","","",null,null,null,null,null,null,null,null,null,null,null,null," ",null,"",0,0,0,0,0,0,0,0,0,0,null,0,null,{"$f":"IF(AK225=\"\",\"\",IF(BR225=1,\"[b][color=red]\"&Datas!$D$32&\"[/color][/b]\"&AK225&\"[b][color=red]\"&Datas!$D$33&\"{\"&BQ225&\"}[/color][/b]\",AK225))","v":""},""," ",{"$f":"IF(ISBLANK(Datas!$C$41),\"\",\" - \"&AT225)","v":" - [color=red][b]Tréguier[/b][/color]"},{"$f":"IF(ISBLANK(Datas!$C$42),\"\",\" - \"&AU225)","v":""},{"$f":"IF(ISBLANK(Datas!$C$43),\"\",\" - \"&AV225)","v":" - PR:"},{"$f":"IF(ISBLANK(Datas!$C$44),\"\",\" - \"&AW225)","v":" - Ecus: "},{"$f":"IF(ISBLANK(Datas!$C$45),\"\",\" - \"&AX225)","v":" - Niv: "}," ","[b][color=blue]0[/color][/b]","[color=red][b]Tréguier[/b][/color]","Comté du Languedoc","PR:","Ecus: ","Niv: ",null,null,null,null,0,{"$f":"VLOOKUP(BC225,LstVillage!$B$8:$C$283,1)","v":{"$error":"#N/A"}},{"$f":"1","v":1},"blue","Tréguier",{"$f":"VLOOKUP(BG225,Datas!$G$6:$G$17,1)","v":"Nîmes"},0,"red",null,"Comté du Languedoc",0,0,null,{"$f":"VLOOKUP(BC225,Liste_Noire!$B$15:$G$1208,1)","v":{"$error":"#N/A"}},{"$f":"VLOOKUP(BC225,Liste_Noire!$B$15:$G$1208,5)","v":{"$error":"#N/A"}},{"$error":"#N/A"},null,0,0,0,0,0,0,0]
[null,""," ","","","","",null,null,null,null,null,null,null,null,null,null,null,null," ",null,"",0,0,0,0,0,0,0,0,0,0,null,0,null,{"$f":"IF(AK226=\"\",\"\",IF(BR226=1,\"[b][color=red]\"&Datas!$D$32&\"[/color][/b]\"&AK226&\"[b][color=red]\"&Datas!$D$33&\"{\"&BQ226&\"}[/color][/b]\",AK226))","v":""},""," ",{"$f":"IF(ISBLANK(Datas!$C$41),\"\",\" - \"&AT226)","v":" - [color=red][b]Tréguier[/b][/color]"},{"$f":"IF(ISBLANK(Datas!$C$42),\"\",\" - \"&AU226)","v":""},{"$f":"IF(ISBLANK(Datas!$C$43),\"\",\" - \"&AV226)","v":" - PR:"},{"$f":"IF(ISBLANK(Datas!$C$44),\"\",\" - \"&AW226)","v":" - Ecus: "},{"$f":"IF(ISBLANK(Datas!$C$45),\"\",\" - \"&AX226)","v":" - Niv: "}," ","[b][color=blue]0[/color][/b]","[color=red][b]Tréguier[/b][/color]","Comté du Languedoc","PR:","Ecus: ","Niv: ",null,null,null,null,0,{"$f":"VLOOKUP(BC226,LstVillage!$B$8:$C$283,1)","v":{"$error":"#N/A"}},{"$f":"1","v":1},"blue","Tréguier",{"$f":"VLOOKUP(BG226,Datas!$G$6:$G$17,1)","v":"Nîmes"},0,"red",null,"Comté du Languedoc",0,0,null,{"$f":"VLOOKUP(BC226,Liste_Noire!$B$15:$G$1208,1)","v":{"$error":"#N/A"}},{"$f":"VLOOKUP(BC226,Liste_Noire!$B$15:$G$1208,5)","v":{"$error":"#N/A"}},{"$error":"#N/A"},null,0,0,0,0,0,0,0]
[null,""," ","","","","",null,null,null,null,null,null,null,null,null,null,null,null," ",null,"",0,0,0,0,0,0,0,0,0,0,null,0,null,{"$f":"IF(AK227=\"\",\"\",IF(BR227=1,\"[b][color=red]\"&Datas!$D$32&\"[/color][/b]\"&AK227&\"[b][color=red]\"&Datas!$D$33&\"{\"&BQ227&\"}[/color][/b]\",AK227))","v":""},""," ",{"$f":"IF(ISBLANK(Datas!$C$41),\"\",\" - \"&AT227)","v":" - [color=red][b]Tréguier[/b][/color]"},{"$f":"IF(ISBLANK(Datas!$C$42),\"\",\" - \"&AU227)","v":""},{"$f":"IF(ISBLANK(Datas!$C$43),\"\",\" - \"&AV227)","v":" - PR:"},{"$f":"IF(ISBLANK(Datas!$C$44),\"\",\" - \"&AW227)","v":" - Ecus: "},{"$f":"IF(ISBLANK(Datas!$C$45),\"\",\" - \"&AX227)","v":" - Niv: "}," ","[b][color=blue]0[/color][/b]","[color=red][b]Tréguier[/b][/color]","Comté du Languedoc","PR:","Ecus: ","Niv: ",null,null,null,null,0,{"$f":"VLOOKUP(BC227,LstVillage!$B$8:$C$283,1)","v":{"$error":"#N/A"}},{"$f":"1","v":1},"blue","Tréguier",{"$f":"VLOOKUP(BG227,Datas!$G$6:$G$17,1)","v":"Nîmes"},0,"red",null,"Comté du Languedoc",0,0,null,{"$f":"VLOOKUP(BC227,Liste_Noire!$B$15:$G$1208,1)","v":{"$error":"#N/A"}},{"$f":"VLOOKUP(BC227,Liste_Noire!$B$15:$G$1208,5)","v":{"$error":"#N/A"}},{"$error":"#N/A"},null,0,0,0,0,0,0,0]
[null,""," ","","","","",null,null,null,null,null,null,null,null,null,null,null,null," ",null,"",0,0,0,0,0,0,0,0,0,0,null,0,null,{"$f":"IF(AK228=\"\",\"\",IF(BR228=1,\"[b][color=red]\"&Datas!$D$32&\"[/color][/b]\"&AK228&\"[b][color=red]\"&Datas!$D$33&\"{\"&BQ228&\"}[/color][/b]\",AK228))","v":""},""," ",{"$f":"IF(ISBLANK(Datas!$C$41),\"\",\" - \"&AT228)","v":" - [color=red][b]Tréguier[/b][/color]"},{"$f":"IF(ISBLANK(Datas!$C$42),\"\",\" - \"&AU228)","v":""},{"$f":"IF(ISBLANK(Datas!$C$43),\"\",\" - \"&AV228)","v":" - PR:"},{"$f":"IF(ISBLANK(Datas!$C$44),\"\",\" - \"&AW228)","v":" - Ecus: "},{"$f":"IF(ISBLANK(Datas!$C$45),\"\",\" - \"&AX228)","v":" - Niv: "}," ","[b][color=blue]0[/color][/b]","[color=red][b]Tréguier[/b][/color]","Comté du Languedoc","PR:","Ecus: ","Niv: ",null,null,null,null,0,{"$f":"VLOOKUP(BC228,LstVillage!$B$8:$C$283,1)","v":{"$error":"#N/A"}},{"$f":"1","v":1},"blue","Tréguier",{"$f":"VLOOKUP(BG228,Datas!$G$6:$G$17,1)","v":"Nîmes"},0,"red",null,"Comté du Languedoc",0,0,null,{"$f":"VLOOKUP(BC228,Liste_Noire!$B$15:$G$1208,1)","v":{"$error":"#N/A"}},{"$f":"VLOOKUP(BC228,Liste_Noire!$B$15:$G$1208,5)","v":{"$error":"#N/A"}},{"$error":"#N/A"},null,0,0,0,0,0,0,0]
[null,""," ","","","","",null,null,null,null,null,null,null,null,null,null,null,null," ",null,"",0,0,0,0,0,0,0,0,0,0,null,0,null,{"$f":"IF(AK229=\"\",\"\",IF(BR229=1,\"[b][color=red]\"&Datas!$D$32&\"[/color][/b]\"&AK229&\"[b][color=red]\"&Datas!$D$33&\"{\"&BQ229&\"}[/color][/b]\",AK229))","v":""},""," ",{"$f":"IF(ISBLANK(Datas!$C$41),\"\",\" - \"&AT229)","v":" - [color=red][b]Tréguier[/b][/color]"},{"$f":"IF(ISBLANK(Datas!$C$42),\"\",\" - \"&AU229)","v":""},{"$f":"IF(ISBLANK(Datas!$C$43),\"\",\" - \"&AV229)","v":" - PR:"},{"$f":"IF(ISBLANK(Datas!$C$44),\"\",\" - \"&AW229)","v":" - Ecus: "},{"$f":"IF(ISBLANK(Datas!$C$45),\"\",\" - \"&AX229)","v":" - Niv: "}," ","[b][color=blue]0[/color][/b]","[color=red][b]Tréguier[/b][/color]","Comté du Languedoc","PR:","Ecus: ","Niv: ",null,null,null,null,0,{"$f":"VLOOKUP(BC229,LstVillage!$B$8:$C$283,1)","v":{"$error":"#N/A"}},{"$f":"1","v":1},"blue","Tréguier",{"$f":"VLOOKUP(BG229,Datas!$G$6:$G$17,1)","v":"Nîmes"},0,"red",null,"Comté du Languedoc",0,0,null,{"$f":"VLOOKUP(BC229,Liste_Noire!$B$15:$G$1208,1)","v":{"$error":"#N/A"}},{"$f":"VLOOKUP(BC229,Liste_Noire!$B$15:$G$1208,5)","v":{"$error":"#N/A"}},{"$error":"#N/A"},null,0,0,0,0,0,0,0]
[null,""," ","","","","",null,null,null,null,null,null,null,null,null,null,null,null," ",null,"",0,0,0,0,0,0,0,0,0,0,null,0,null,{"$f":"IF(AK230=\"\",\"\",IF(BR230=1,\"[b][color=red]\"&Datas!$D$32&\"[/color][/b]\"&AK230&\"[b][color=red]\"&Datas!$D$33&\"{\"&BQ230&\"}[/color][/b]\",AK230))","v":""},""," ",{"$f":"IF(ISBLANK(Datas!$C$41),\"\",\" - \"&AT230)","v":" - [color=red][b]Tréguier[/b][/color]"},{"$f":"IF(ISBLANK(Datas!$C$42),\"\",\" - \"&AU230)","v":""},{"$f":"IF(ISBLANK(Datas!$C$43),\"\",\" - \"&AV230)","v":" - PR:"},{"$f":"IF(ISBLANK(Datas!$C$44),\"\",\" - \"&AW230)","v":" - Ecus: "},{"$f":"IF(ISBLANK(Datas!$C$45),\"\",\" - \"&AX230)","v":" - Niv: "}," ","[b][color=blue]0[/color][/b]","[color=red][b]Tréguier[/b][/color]","Comté du Languedoc","PR:","Ecus: ","Niv: ",null,null,null,null,0,{"$f":"VLOOKUP(BC230,LstVillage!$B$8:$C$283,1)","v":{"$error":"#N/A"}},{"$f":"1","v":1},"blue","Tréguier",{"$f":"VLOOKUP(BG230,Datas!$G$6:$G$17,1)","v":"Nîmes"},0,"red",null,"Comté du Languedoc",0,0,null,{"$f":"VLOOKUP(BC230,Liste_Noire!$B$15:$G$1208,1)","v":{"$error":"#N/A"}},{"$f":"VLOOKUP(BC230,Liste_Noire!$B$15:$G$1208,5)","v":{"$error":"#N/A"}},{"$error":"#N/A"},null,0,0,0,0,0,0,0]
[null,""," ","","","","",null,null,null,null,null,null,null,null,null,null,null,null," ",null,"",0,0,0,0,0,0,0,0,0,0,null,0,null,{"$f":"IF(AK231=\"\",\"\",IF(BR231=1,\"[b][color=red]\"&Datas!$D$32&\"[/color][/b]\"&AK231&\"[b][color=red]\"&Datas!$D$33&\"{\"&BQ231&\"}[/color][/b]\",AK231))","v":""},""," ",{"$f":"IF(ISBLANK(Datas!$C$41),\"\",\" - \"&AT231)","v":" - [color=red][b]Tréguier[/b][/color]"},{"$f":"IF(ISBLANK(Datas!$C$42),\"\",\" - \"&AU231)","v":""},{"$f":"IF(ISBLANK(Datas!$C$43),\"\",\" - \"&AV231)","v":" - PR:"},{"$f":"IF(ISBLANK(Datas!$C$44),\"\",\" - \"&AW231)","v":" - Ecus: "},{"$f":"IF(ISBLANK(Datas!$C$45),\"\",\" - \"&AX231)","v":" - Niv: "}," ","[b][color=blue]0[/color][/b]","[color=red][b]Tréguier[/b][/color]","Comté du Languedoc","PR:","Ecus: ","Niv: ",null,null,null,null,0,{"$f":"VLOOKUP(BC231,LstVillage!$B$8:$C$283,1)","v":{"$error":"#N/A"}},{"$f":"1","v":1},"blue","Tréguier",{"$f":"VLOOKUP(BG231,Datas!$G$6:$G$17,1)","v":"Nîmes"},0,"red",null,"Comté du Languedoc",0,0,null,{"$f":"VLOOKUP(BC231,Liste_Noire!$B$15:$G$1208,1)","v":{"$error":"#N/A"}},{"$f":"VLOOKUP(BC231,Liste_Noire!$B$15:$G$1208,5)","v":{"$error":"#N/A"}},{"$error":"#N/A"},null,0,0,0,0,0,0,0]
[null,""," ","","","","",null,null,null,null,null,null,null,null,null,null,null,null," ",null,"",0,0,0,0,0,0,0,0,0,0,null,0,null,{"$f":"IF(AK232=\"\",\"\",IF(BR232=1,\"[b][color=red]\"&Datas!$D$32&\"[/color][/b]\"&AK232&\"[b][color=red]\"&Datas!$D$33&\"{\"&BQ232&\"}[/color][/b]\",AK232))","v":""},""," ",{"$f":"IF(ISBLANK(Datas!$C$41),\"\",\" - \"&AT232)","v":" - [color=red][b]Tréguier[/b][/color]"},{"$f":"IF(ISBLANK(Datas!$C$42),\"\",\" - \"&AU232)","v":""},{"$f":"IF(ISBLANK(Datas!$C$43),\"\",\" - \"&AV232)","v":" - PR:"},{"$f":"IF(ISBLANK(Datas!$C$44),\"\",\" - \"&AW232)","v":" - Ecus: "},{"$f":"IF(ISBLANK(Datas!$C$45),\"\",\" - \"&AX232)","v":" - Niv: "}," ","[b][color=blue]0[/color][/b]","[color=red][b]Tréguier[/b][/color]","Comté du Languedoc","PR:","Ecus: ","Niv: ",null,null,null,null,0,{"$f":"VLOOKUP(BC232,LstVillage!$B$8:$C$283,1)","v":{"$error":"#N/A"}},{"$f":"1","v":1},"blue","Tréguier",{"$f":"VLOOKUP(BG232,Datas!$G$6:$G$17,1)","v":"Nîmes"},0,"red",null,"Comté du Languedoc",0,0,null,{"$f":"VLOOKUP(BC232,Liste_Noire!$B$15:$G$1208,1)","v":{"$error":"#N/A"}},{"$f":"VLOOKUP(BC232,Liste_Noire!$B$15:$G$1208,5)","v":{"$error":"#N/A"}},{"$error":"#N/A"},null,0,0,0,0,0,0,0]
[null,""," ","","","","",null,null,null,null,null,null,null,null,null,null,null,null," ",null,"",0,0,0,0,0,0,0,0,0,0,null,0,null,{"$f":"IF(AK233=\"\",\"\",IF(BR233=1,\"[b][color=red]\"&Datas!$D$32&\"[/color][/b]\"&AK233&\"[b][color=red]\"&Datas!$D$33&\"{\"&BQ233&\"}[/color][/b]\",AK233))","v":""},""," ",{"$f":"IF(ISBLANK(Datas!$C$41),\"\",\" - \"&AT233)","v":" - [color=red][b]Tréguier[/b][/color]"},{"$f":"IF(ISBLANK(Datas!$C$42),\"\",\" - \"&AU233)","v":""},{"$f":"IF(ISBLANK(Datas!$C$43),\"\",\" - \"&AV233)","v":" - PR:"},{"$f":"IF(ISBLANK(Datas!$C$44),\"\",\" - \"&AW233)","v":" - Ecus: "},{"$f":"IF(ISBLANK(Datas!$C$45),\"\",\" - \"&AX233)","v":" - Niv: "}," ","[b][color=blue]0[/color][/b]","[color=red][b]Tréguier[/b][/color]","Comté du Languedoc","PR:","Ecus: ","Niv: ",null,null,null,null,0,{"$f":"VLOOKUP(BC233,LstVillage!$B$8:$C$283,1)","v":{"$error":"#N/A"}},{"$f":"1","v":1},"blue","Tréguier",{"$f":"VLOOKUP(BG233,Datas!$G$6:$G$17,1)","v":"Nîmes"},0,"red",null,"Comté du Languedoc",0,0,null,{"$f":"VLOOKUP(BC233,Liste_Noire!$B$15:$G$1208,1)","v":{"$error":"#N/A"}},{"$f":"VLOOKUP(BC233,Liste_Noire!$B$15:$G$1208,5)","v":{"$error":"#N/A"}},{"$error":"#N/A"},null,0,0,0,0,0,0,0]
[null,""," ","","","","",null,null,null,null,null,null,null,null,null,null,null,null," ",null,"",0,0,0,0,0,0,0,0,0,0,null,0,null,{"$f":"IF(AK234=\"\",\"\",IF(BR234=1,\"[b][color=red]\"&Datas!$D$32&\"[/color][/b]\"&AK234&\"[b][color=red]\"&Datas!$D$33&\"{\"&BQ234&\"}[/color][/b]\",AK234))","v":""},""," ",{"$f":"IF(ISBLANK(Datas!$C$41),\"\",\" - \"&AT234)","v":" - [color=red][b]Tréguier[/b][/color]"},{"$f":"IF(ISBLANK(Datas!$C$42),\"\",\" - \"&AU234)","v":""},{"$f":"IF(ISBLANK(Datas!$C$43),\"\",\" - \"&AV234)","v":" - PR:"},{"$f":"IF(ISBLANK(Datas!$C$44),\"\",\" - \"&AW234)","v":" - Ecus: "},{"$f":"IF(ISBLANK(Datas!$C$45),\"\",\" - \"&AX234)","v":" - Niv: "}," ","[b][color=blue]0[/color][/b]","[color=red][b]Tréguier[/b][/color]","Comté du Languedoc","PR:","Ecus: ","Niv: ",null,null,null,null,0,{"$f":"VLOOKUP(BC234,LstVillage!$B$8:$C$283,1)","v":{"$error":"#N/A"}},{"$f":"1","v":1},"blue","Tréguier",{"$f":"VLOOKUP(BG234,Datas!$G$6:$G$17,1)","v":"Nîmes"},0,"red",null,"Comté du Languedoc",0,0,null,{"$f":"VLOOKUP(BC234,Liste_Noire!$B$15:$G$1208,1)","v":{"$error":"#N/A"}},{"$f":"VLOOKUP(BC234,Liste_Noire!$B$15:$G$1208,5)","v":{"$error":"#N/A"}},{"$error":"#N/A"},null,0,0,0,0,0,0,0]
[null,""," ","","","","",null,null,null,null,null,null,null,null,null,null,null,null," ",null,"",0,0,0,0,0,0,0,0,0,0,null,0,null,{"$f":"IF(AK235=\"\",\"\",IF(BR235=1,\"[b][color=red]\"&Datas!$D$32&\"[/color][/b]\"&AK235&\"[b][color=red]\"&Datas!$D$33&\"{\"&BQ235&\"}[/color][/b]\",AK235))","v":""},""," ",{"$f":"IF(ISBLANK(Datas!$C$41),\"\",\" - \"&AT235)","v":" - [color=red][b]Tréguier[/b][/color]"},{"$f":"IF(ISBLANK(Datas!$C$42),\"\",\" - \"&AU235)","v":""},{"$f":"IF(ISBLANK(Datas!$C$43),\"\",\" - \"&AV235)","v":" - PR:"},{"$f":"IF(ISBLANK(Datas!$C$44),\"\",\" - \"&AW235)","v":" - Ecus: "},{"$f":"IF(ISBLANK(Datas!$C$45),\"\",\" - \"&AX235)","v":" - Niv: "}," ","[b][color=blue]0[/color][/b]","[color=red][b]Tréguier[/b][/color]","Comté du Languedoc","PR:","Ecus: ","Niv: ",null,null,null,null,0,{"$f":"VLOOKUP(BC235,LstVillage!$B$8:$C$283,1)","v":{"$error":"#N/A"}},{"$f":"1","v":1},"blue","Tréguier",{"$f":"VLOOKUP(BG235,Datas!$G$6:$G$17,1)","v":"Nîmes"},0,"red",null,"Comté du Languedoc",0,0,null,{"$f":"VLOOKUP(BC235,Liste_Noire!$B$15:$G$1208,1)","v":{"$error":"#N/A"}},{"$f":"VLOOKUP(BC235,Liste_Noire!$B$15:$G$1208,5)","v":{"$error":"#N/A"}},{"$error":"#N/A"},null,0,0,0,0,0,0,0]
[null,""," ","","","","",null,null,null,null,null,null,null,null,null,null,null,null," ",null,"",0,0,0,0,0,0,0,0,0,0,null,0,null,{"$f":"IF(AK236=\"\",\"\",IF(BR236=1,\"[b][color=red]\"&Datas!$D$32&\"[/color][/b]\"&AK236&\"[b][color=red]\"&Datas!$D$33&\"{\"&BQ236&\"}[/color][/b]\",AK236))","v":""},""," ",{"$f":"IF(ISBLANK(Datas!$C$41),\"\",\" - \"&AT236)","v":" - [color=red][b]Tréguier[/b][/color]"},{"$f":"IF(ISBLANK(Datas!$C$42),\"\",\" - \"&AU236)","v":""},{"$f":"IF(ISBLANK(Datas!$C$43),\"\",\" - \"&AV236)","v":" - PR:"},{"$f":"IF(ISBLANK(Datas!$C$44),\"\",\" - \"&AW236)","v":" - Ecus: "},{"$f":"IF(ISBLANK(Datas!$C$45),\"\",\" - \"&AX236)","v":" - Niv: "}," ","[b][color=blue]0[/color][/b]","[color=red][b]Tréguier[/b][/color]","Comté du Languedoc","PR:","Ecus: ","Niv: ",null,null,null,null,0,{"$f":"VLOOKUP(BC236,LstVillage!$B$8:$C$283,1)","v":{"$error":"#N/A"}},{"$f":"1","v":1},"blue","Tréguier",{"$f":"VLOOKUP(BG236,Datas!$G$6:$G$17,1)","v":"Nîmes"},0,"red",null,"Comté du Languedoc",0,0,null,{"$f":"VLOOKUP(BC236,Liste_Noire!$B$15:$G$1208,1)","v":{"$error":"#N/A"}},{"$f":"VLOOKUP(BC236,Liste_Noire!$B$15:$G$1208,5)","v":{"$error":"#N/A"}},{"$error":"#N/A"},null,0,0,0,0,0,0,0]
[null,""," ","","","","",null,null,null,null,null,null,null,null,null,null,null,null," ",null,"",0,0,0,0,0,0,0,0,0,0,null,0,null,{"$f":"IF(AK237=\"\",\"\",IF(BR237=1,\"[b][color=red]\"&Datas!$D$32&\"[/color][/b]\"&AK237&\"[b][color=red]\"&Datas!$D$33&\"{\"&BQ237&\"}[/color][/b]\",AK237))","v":""},""," ",{"$f":"IF(ISBLANK(Datas!$C$41),\"\",\" - \"&AT237)","v":" - [color=red][b]Tréguier[/b][/color]"},{"$f":"IF(ISBLANK(Datas!$C$42),\"\",\" - \"&AU237)","v":""},{"$f":"IF(ISBLANK(Datas!$C$43),\"\",\" - \"&AV237)","v":" - PR:"},{"$f":"IF(ISBLANK(Datas!$C$44),\"\",\" - \"&AW237)","v":" - Ecus: "},{"$f":"IF(ISBLANK(Datas!$C$45),\"\",\" - \"&AX237)","v":" - Niv: "}," ","[b][color=blue]0[/color][/b]","[color=red][b]Tréguier[/b][/color]","Comté du Languedoc","PR:","Ecus: ","Niv: ",null,null,null,null,0,{"$f":"VLOOKUP(BC237,LstVillage!$B$8:$C$283,1)","v":{"$error":"#N/A"}},{"$f":"1","v":1},"blue","Tréguier",{"$f":"VLOOKUP(BG237,Datas!$G$6:$G$17,1)","v":"Nîmes"},0,"red",null,"Comté du Languedoc",0,0,null,{"$f":"VLOOKUP(BC237,Liste_Noire!$B$15:$G$1208,1)","v":{"$error":"#N/A"}},{"$f":"VLOOKUP(BC237,Liste_Noire!$B$15:$G$1208,5)","v":{"$error":"#N/A"}},{"$error":"#N/A"},null,0,0,0,0,0,0,0]
[null,""," ","","","","",null,null,null,null,null,null,null,null,null,null,null,null," ",null,"",0,0,0,0,0,0,0,0,0,0,null,0,null,{"$f":"IF(AK238=\"\",\"\",IF(BR238=1,\"[b][color=red]\"&Datas!$D$32&\"[/color][/b]\"&AK238&\"[b][color=red]\"&Datas!$D$33&\"{\"&BQ238&\"}[/color][/b]\",AK238))","v":""},""," ",{"$f":"IF(ISBLANK(Datas!$C$41),\"\",\" - \"&AT238)","v":" - [color=red][b]Tréguier[/b][/color]"},{"$f":"IF(ISBLANK(Datas!$C$42),\"\",\" - \"&AU238)","v":""},{"$f":"IF(ISBLANK(Datas!$C$43),\"\",\" - \"&AV238)","v":" - PR:"},{"$f":"IF(ISBLANK(Datas!$C$44),\"\",\" - \"&AW238)","v":" - Ecus: "},{"$f":"IF(ISBLANK(Datas!$C$45),\"\",\" - \"&AX238)","v":" - Niv: "}," ","[b][color=blue]0[/color][/b]","[color=red][b]Tréguier[/b][/color]","Comté du Languedoc","PR:","Ecus: ","Niv: ",null,null,null,null,0,{"$f":"VLOOKUP(BC238,LstVillage!$B$8:$C$283,1)","v":{"$error":"#N/A"}},{"$f":"1","v":1},"blue","Tréguier",{"$f":"VLOOKUP(BG238,Datas!$G$6:$G$17,1)","v":"Nîmes"},0,"red",null,"Comté du Languedoc",0,0,null,{"$f":"VLOOKUP(BC238,Liste_Noire!$B$15:$G$1208,1)","v":{"$error":"#N/A"}},{"$f":"VLOOKUP(BC238,Liste_Noire!$B$15:$G$1208,5)","v":{"$error":"#N/A"}},{"$error":"#N/A"},null,0,0,0,0,0,0,0]
[null,""," ","","","","",null,null,null,null,null,null,null,null,null,null,null,null," ",null,"",0,0,0,0,0,0,0,0,0,0,null,0,null,{"$f":"IF(AK239=\"\",\"\",IF(BR239=1,\"[b][color=red]\"&Datas!$D$32&\"[/color][/b]\"&AK239&\"[b][color=red]\"&Datas!$D$33&\"{\"&BQ239&\"}[/color][/b]\",AK239))","v":""},""," ",{"$f":"IF(ISBLANK(Datas!$C$41),\"\",\" - \"&AT239)","v":" - [color=red][b]Tréguier[/b][/color]"},{"$f":"IF(ISBLANK(Datas!$C$42),\"\",\" - \"&AU239)","v":""},{"$f":"IF(ISBLANK(Datas!$C$43),\"\",\" - \"&AV239)","v":" - PR:"},{"$f":"IF(ISBLANK(Datas!$C$44),\"\",\" - \"&AW239)","v":" - Ecus: "},{"$f":"IF(ISBLANK(Datas!$C$45),\"\",\" - \"&AX239)","v":" - Niv: "}," ","[b][color=blue]0[/color][/b]","[color=red][b]Tréguier[/b][/color]","Comté du Languedoc","PR:","Ecus: ","Niv: ",null,null,null,null,0,{"$f":"VLOOKUP(BC239,LstVillage!$B$8:$C$283,1)","v":{"$error":"#N/A"}},{"$f":"1","v":1},"blue","Tréguier",{"$f":"VLOOKUP(BG239,Datas!$G$6:$G$17,1)","v":"Nîmes"},0,"red",null,"Comté du Languedoc",0,0,null,{"$f":"VLOOKUP(BC239,Liste_Noire!$B$15:$G$1208,1)","v":{"$error":"#N/A"}},{"$f":"VLOOKUP(BC239,Liste_Noire!$B$15:$G$1208,5)","v":{"$error":"#N/A"}},{"$error":"#N/A"},null,0,0,0,0,0,0,0]
[null,""," ","","","","",null,null,null,null,null,null,null,null,null,null,null,null," ",null,"",0,0,0,0,0,0,0,0,0,0,null,0,null,{"$f":"IF(AK240=\"\",\"\",IF(BR240=1,\"[b][color=red]\"&Datas!$D$32&\"[/color][/b]\"&AK240&\"[b][color=red]\"&Datas!$D$33&\"{\"&BQ240&\"}[/color][/b]\",AK240))","v":""},""," ",{"$f":"IF(ISBLANK(Datas!$C$41),\"\",\" - \"&AT240)","v":" - [color=red][b]Tréguier[/b][/color]"},{"$f":"IF(ISBLANK(Datas!$C$42),\"\",\" - \"&AU240)","v":""},{"$f":"IF(ISBLANK(Datas!$C$43),\"\",\" - \"&AV240)","v":" - PR:"},{"$f":"IF(ISBLANK(Datas!$C$44),\"\",\" - \"&AW240)","v":" - Ecus: "},{"$f":"IF(ISBLANK(Datas!$C$45),\"\",\" - \"&AX240)","v":" - Niv: "}," ","[b][color=blue]0[/color][/b]","[color=red][b]Tréguier[/b][/color]","Comté du Languedoc","PR:","Ecus: ","Niv: ",null,null,null,null,0,{"$f":"VLOOKUP(BC240,LstVillage!$B$8:$C$283,1)","v":{"$error":"#N/A"}},{"$f":"1","v":1},"blue","Tréguier",{"$f":"VLOOKUP(BG240,Datas!$G$6:$G$17,1)","v":"Nîmes"},0,"red",null,"Comté du Languedoc",0,0,null,{"$f":"VLOOKUP(BC240,Liste_Noire!$B$15:$G$1208,1)","v":{"$error":"#N/A"}},{"$f":"VLOOKUP(BC240,Liste_Noire!$B$15:$G$1208,5)","v":{"$error":"#N/A"}},{"$error":"#N/A"},null,0,0,0,0,0,0,0]
[null,""," ","","","","",null,null,null,null,null,null,null,null,null,null,null,null," ",null,"",0,0,0,0,0,0,0,0,0,0,null,0,null,{"$f":"IF(AK241=\"\",\"\",IF(BR241=1,\"[b][color=red]\"&Datas!$D$32&\"[/color][/b]\"&AK241&\"[b][color=red]\"&Datas!$D$33&\"{\"&BQ241&\"}[/color][/b]\",AK241))","v":""},""," ",{"$f":"IF(ISBLANK(Datas!$C$41),\"\",\" - \"&AT241)","v":" - [color=red][b]Tréguier[/b][/color]"},{"$f":"IF(ISBLANK(Datas!$C$42),\"\",\" - \"&AU241)","v":""},{"$f":"IF(ISBLANK(Datas!$C$43),\"\",\" - \"&AV241)","v":" - PR:"},{"$f":"IF(ISBLANK(Datas!$C$44),\"\",\" - \"&AW241)","v":" - Ecus: "},{"$f":"IF(ISBLANK(Datas!$C$45),\"\",\" - \"&AX241)","v":" - Niv: "}," ","[b][color=blue]0[/color][/b]","[color=red][b]Tréguier[/b][/color]","Comté du Languedoc","PR:","Ecus: ","Niv: ",null,null,null,null,0,{"$f":"VLOOKUP(BC241,LstVillage!$B$8:$C$283,1)","v":{"$error":"#N/A"}},{"$f":"1","v":1},"blue","Tréguier",{"$f":"VLOOKUP(BG241,Datas!$G$6:$G$17,1)","v":"Nîmes"},0,"red",null,"Comté du Languedoc",0,0,null,{"$f":"VLOOKUP(BC241,Liste_Noire!$B$15:$G$1208,1)","v":{"$error":"#N/A"}},{"$f":"VLOOKUP(BC241,Liste_Noire!$B$15:$G$1208,5)","v":{"$error":"#N/A"}},{"$error":"#N/A"},null,0,0,0,0,0,0,0]
[null,""," ","","","","",null,null,null,null,null,null,null,null,null,null,null,null," ",null,"",0,0,0,0,0,0,0,0,0,0,null,0,null,{"$f":"IF(AK242=\"\",\"\",IF(BR242=1,\"[b][color=red]\"&Datas!$D$32&\"[/color][/b]\"&AK242&\"[b][color=red]\"&Datas!$D$33&\"{\"&BQ242&\"}[/color][/b]\",AK242))","v":""},""," ",{"$f":"IF(ISBLANK(Datas!$C$41),\"\",\" - \"&AT242)","v":" - [color=red][b]Tréguier[/b][/color]"},{"$f":"IF(ISBLANK(Datas!$C$42),\"\",\" - \"&AU242)","v":""},{"$f":"IF(ISBLANK(Datas!$C$43),\"\",\" - \"&AV242)","v":" - PR:"},{"$f":"IF(ISBLANK(Datas!$C$44),\"\",\" - \"&AW242)","v":" - Ecus: "},{"$f":"IF(ISBLANK(Datas!$C$45),\"\",\" - \"&AX242)","v":" - Niv: "}," ","[b][color=blue]0[/color][/b]","[color=red][b]Tréguier[/b][/color]","Comté du Languedoc","PR:","Ecus: ","Niv: ",null,null,null,null,0,{"$f":"VLOOKUP(BC242,LstVillage!$B$8:$C$283,1)","v":{"$error":"#N/A"}},{"$f":"1","v":1},"blue","Tréguier",{"$f":"VLOOKUP(BG242,Datas!$G$6:$G$17,1)","v":"Nîmes"},0,"red",null,"Comté du Languedoc",0,0,null,{"$f":"VLOOKUP(BC242,Liste_Noire!$B$15:$G$1208,1)","v":{"$error":"#N/A"}},{"$f":"VLOOKUP(BC242,Liste_Noire!$B$15:$G$1208,5)","v":{"$error":"#N/A"}},{"$error":"#N/A"},null,0,0,0,0,0,0,0]
[null,""," ","","","","",null,null,null,null,null,null,null,null,null,null,null,null," ",null,"",0,0,0,0,0,0,0,0,0,0,null,0,null,{"$f":"IF(AK243=\"\",\"\",IF(BR243=1,\"[b][color=red]\"&Datas!$D$32&\"[/color][/b]\"&AK243&\"[b][color=red]\"&Datas!$D$33&\"{\"&BQ243&\"}[/color][/b]\",AK243))","v":""},""," ",{"$f":"IF(ISBLANK(Datas!$C$41),\"\",\" - \"&AT243)","v":" - [color=red][b]Tréguier[/b][/color]"},{"$f":"IF(ISBLANK(Datas!$C$42),\"\",\" - \"&AU243)","v":""},{"$f":"IF(ISBLANK(Datas!$C$43),\"\",\" - \"&AV243)","v":" - PR:"},{"$f":"IF(ISBLANK(Datas!$C$44),\"\",\" - \"&AW243)","v":" - Ecus: "},{"$f":"IF(ISBLANK(Datas!$C$45),\"\",\" - \"&AX243)","v":" - Niv: "}," ","[b][color=blue]0[/color][/b]","[color=red][b]Tréguier[/b][/color]","Comté du Languedoc","PR:","Ecus: ","Niv: ",null,null,null,null,0,{"$f":"VLOOKUP(BC243,LstVillage!$B$8:$C$283,1)","v":{"$error":"#N/A"}},{"$f":"1","v":1},"blue","Tréguier",{"$f":"VLOOKUP(BG243,Datas!$G$6:$G$17,1)","v":"Nîmes"},0,"red",null,"Comté du Languedoc",0,0,null,{"$f":"VLOOKUP(BC243,Liste_Noire!$B$15:$G$1208,1)","v":{"$error":"#N/A"}},{"$f":"VLOOKUP(BC243,Liste_Noire!$B$15:$G$1208,5)","v":{"$error":"#N/A"}},{"$error":"#N/A"},null,0,0,0,0,0,0,0]
[null,""," ","","","","",null,null,null,null,null,null,null,null,null,null,null,null," ",null,"",0,0,0,0,0,0,0,0,0,0,null,0,null,{"$f":"IF(AK244=\"\",\"\",IF(BR244=1,\"[b][color=red]\"&Datas!$D$32&\"[/color][/b]\"&AK244&\"[b][color=red]\"&Datas!$D$33&\"{\"&BQ244&\"}[/color][/b]\",AK244))","v":""},""," ",{"$f":"IF(ISBLANK(Datas!$C$41),\"\",\" - \"&AT244)","v":" - [color=red][b]Tréguier[/b][/color]"},{"$f":"IF(ISBLANK(Datas!$C$42),\"\",\" - \"&AU244)","v":""},{"$f":"IF(ISBLANK(Datas!$C$43),\"\",\" - \"&AV244)","v":" - PR:"},{"$f":"IF(ISBLANK(Datas!$C$44),\"\",\" - \"&AW244)","v":" - Ecus: "},{"$f":"IF(ISBLANK(Datas!$C$45),\"\",\" - \"&AX244)","v":" - Niv: "}," ","[b][color=blue]0[/color][/b]","[color=red][b]Tréguier[/b][/color]","Comté du Languedoc","PR:","Ecus: ","Niv: ",null,null,null,null,0,{"$f":"VLOOKUP(BC244,LstVillage!$B$8:$C$283,1)","v":{"$error":"#N/A"}},{"$f":"1","v":1},"blue","Tréguier",{"$f":"VLOOKUP(BG244,Datas!$G$6:$G$17,1)","v":"Nîmes"},0,"red",null,"Comté du Languedoc",0,0,null,{"$f":"VLOOKUP(BC244,Liste_Noire!$B$15:$G$1208,1)","v":{"$error":"#N/A"}},{"$f":"VLOOKUP(BC244,Liste_Noire!$B$15:$G$1208,5)","v":{"$error":"#N/A"}},{"$error":"#N/A"},null,0,0,0,0,0,0,0]
[null,""," ","","","","",null,null,null,null,null,null,null,null,null,null,null,null," ",null,"",0,0,0,0,0,0,0,0,0,0,null,0,null,{"$f":"IF(AK245=\"\",\"\",IF(BR245=1,\"[b][color=red]\"&Datas!$D$32&\"[/color][/b]\"&AK245&\"[b][color=red]\"&Datas!$D$33&\"{\"&BQ245&\"}[/color][/b]\",AK245))","v":""},""," ",{"$f":"IF(ISBLANK(Datas!$C$41),\"\",\" - \"&AT245)","v":" - [color=red][b]Tréguier[/b][/color]"},{"$f":"IF(ISBLANK(Datas!$C$42),\"\",\" - \"&AU245)","v":""},{"$f":"IF(ISBLANK(Datas!$C$43),\"\",\" - \"&AV245)","v":" - PR:"},{"$f":"IF(ISBLANK(Datas!$C$44),\"\",\" - \"&AW245)","v":" - Ecus: "},{"$f":"IF(ISBLANK(Datas!$C$45),\"\",\" - \"&AX245)","v":" - Niv: "}," ","[b][color=blue]0[/color][/b]","[color=red][b]Tréguier[/b][/color]","Comté du Languedoc","PR:","Ecus: ","Niv: ",null,null,null,null,0,{"$f":"VLOOKUP(BC245,LstVillage!$B$8:$C$283,1)","v":{"$error":"#N/A"}},{"$f":"1","v":1},"blue","Tréguier",{"$f":"VLOOKUP(BG245,Datas!$G$6:$G$17,1)","v":"Nîmes"},0,"red",null,"Comté du Languedoc",0,0,null,{"$f":"VLOOKUP(BC245,Liste_Noire!$B$15:$G$1208,1)","v":{"$error":"#N/A"}},{"$f":"VLOOKUP(BC245,Liste_Noire!$B$15:$G$1208,5)","v":{"$error":"#N/A"}},{"$error":"#N/A"},null,0,0,0,0,0,0,0]
[null,""," ","","","","",null,null,null,null,null,null,null,null,null,null,null,null," ",null,"",0,0,0,0,0,0,0,0,0,0,null,0,null,{"$f":"IF(AK246=\"\",\"\",IF(BR246=1,\"[b][color=red]\"&Datas!$D$32&\"[/color][/b]\"&AK246&\"[b][color=red]\"&Datas!$D$33&\"{\"&BQ246&\"}[/color][/b]\",AK246))","v":""},""," ",{"$f":"IF(ISBLANK(Datas!$C$41),\"\",\" - \"&AT246)","v":" - [color=red][b]Tréguier[/b][/color]"},{"$f":"IF(ISBLANK(Datas!$C$42),\"\",\" - \"&AU246)","v":""},{"$f":"IF(ISBLANK(Datas!$C$43),\"\",\" - \"&AV246)","v":" - PR:"},{"$f":"IF(ISBLANK(Datas!$C$44),\"\",\" - \"&AW246)","v":" - Ecus: "},{"$f":"IF(ISBLANK(Datas!$C$45),\"\",\" - \"&AX246)","v":" - Niv: "}," ","[b][color=blue]0[/color][/b]","[color=red][b]Tréguier[/b][/color]","Comté du Languedoc","PR:","Ecus: ","Niv: ",null,null,null,null,0,{"$f":"VLOOKUP(BC246,LstVillage!$B$8:$C$283,1)","v":{"$error":"#N/A"}},{"$f":"1","v":1},"blue","Tréguier",{"$f":"VLOOKUP(BG246,Datas!$G$6:$G$17,1)","v":"Nîmes"},0,"red",null,"Comté du Languedoc",0,0,null,{"$f":"VLOOKUP(BC246,Liste_Noire!$B$15:$G$1208,1)","v":{"$error":"#N/A"}},{"$f":"VLOOKUP(BC246,Liste_Noire!$B$15:$G$1208,5)","v":{"$error":"#N/A"}},{"$error":"#N/A"},null,0,0,0,0,0,0,0]
[null,""," ","","","","",null,null,null,null,null,null,null,null,null,null,null,null," ",null,"",0,0,0,0,0,0,0,0,0,0,null,0,null,{"$f":"IF(AK247=\"\",\"\",IF(BR247=1,\"[b][color=red]\"&Datas!$D$32&\"[/color][/b]\"&AK247&\"[b][color=red]\"&Datas!$D$33&\"{\"&BQ247&\"}[/color][/b]\",AK247))","v":""},""," ",{"$f":"IF(ISBLANK(Datas!$C$41),\"\",\" - \"&AT247)","v":" - [color=red][b]Tréguier[/b][/color]"},{"$f":"IF(ISBLANK(Datas!$C$42),\"\",\" - \"&AU247)","v":""},{"$f":"IF(ISBLANK(Datas!$C$43),\"\",\" - \"&AV247)","v":" - PR:"},{"$f":"IF(ISBLANK(Datas!$C$44),\"\",\" - \"&AW247)","v":" - Ecus: "},{"$f":"IF(ISBLANK(Datas!$C$45),\"\",\" - \"&AX247)","v":" - Niv: "}," ","[b][color=blue]0[/color][/b]","[color=red][b]Tréguier[/b][/color]","Comté du Languedoc","PR:","Ecus: ","Niv: ",null,null,null,null,0,{"$f":"VLOOKUP(BC247,LstVillage!$B$8:$C$283,1)","v":{"$error":"#N/A"}},{"$f":"1","v":1},"blue","Tréguier",{"$f":"VLOOKUP(BG247,Datas!$G$6:$G$17,1)","v":"Nîmes"},0,"red",null,"Comté du Languedoc",0,0,null,{"$f":"VLOOKUP(BC247,Liste_Noire!$B$15:$G$1208,1)","v":{"$error":"#N/A"}},{"$f":"VLOOKUP(BC247,Liste_Noire!$B$15:$G$1208,5)","v":{"$error":"#N/A"}},{"$error":"#N/A"},null,0,0,0,0,0,0,0]
[null,""," ","","","","",null,null,null,null,null,null,null,null,null,null,null,null," ",null,"",0,0,0,0,0,0,0,0,0,0,null,0,null,{"$f":"IF(AK248=\"\",\"\",IF(BR248=1,\"[b][color=red]\"&Datas!$D$32&\"[/color][/b]\"&AK248&\"[b][color=red]\"&Datas!$D$33&\"{\"&BQ248&\"}[/color][/b]\",AK248))","v":""},""," ",{"$f":"IF(ISBLANK(Datas!$C$41),\"\",\" - \"&AT248)","v":" - [color=red][b]Tréguier[/b][/color]"},{"$f":"IF(ISBLANK(Datas!$C$42),\"\",\" - \"&AU248)","v":""},{"$f":"IF(ISBLANK(Datas!$C$43),\"\",\" - \"&AV248)","v":" - PR:"},{"$f":"IF(ISBLANK(Datas!$C$44),\"\",\" - \"&AW248)","v":" - Ecus: "},{"$f":"IF(ISBLANK(Datas!$C$45),\"\",\" - \"&AX248)","v":" - Niv: "}," ","[b][color=blue]0[/color][/b]","[color=red][b]Tréguier[/b][/color]","Comté du Languedoc","PR:","Ecus: ","Niv: ",null,null,null,null,0,{"$f":"VLOOKUP(BC248,LstVillage!$B$8:$C$283,1)","v":{"$error":"#N/A"}},{"$f":"1","v":1},"blue","Tréguier",{"$f":"VLOOKUP(BG248,Datas!$G$6:$G$17,1)","v":"Nîmes"},0,"red",null,"Comté du Languedoc",0,0,null,{"$f":"VLOOKUP(BC248,Liste_Noire!$B$15:$G$1208,1)","v":{"$error":"#N/A"}},{"$f":"VLOOKUP(BC248,Liste_Noire!$B$15:$G$1208,5)","v":{"$error":"#N/A"}},{"$error":"#N/A"},null,0,0,0,0,0,0,0]
[null,""," ","","","","",null,null,null,null,null,null,null,null,null,null,null,null," ",null,"",0,0,0,0,0,0,0,0,0,0,null,0,null,{"$f":"IF(AK249=\"\",\"\",IF(BR249=1,\"[b][color=red]\"&Datas!$D$32&\"[/color][/b]\"&AK249&\"[b][color=red]\"&Datas!$D$33&\"{\"&BQ249&\"}[/color][/b]\",AK249))","v":""},""," ",{"$f":"IF(ISBLANK(Datas!$C$41),\"\",\" - \"&AT249)","v":" - [color=red][b]Tréguier[/b][/color]"},{"$f":"IF(ISBLANK(Datas!$C$42),\"\",\" - \"&AU249)","v":""},{"$f":"IF(ISBLANK(Datas!$C$43),\"\",\" - \"&AV249)","v":" - PR:"},{"$f":"IF(ISBLANK(Datas!$C$44),\"\",\" - \"&AW249)","v":" - Ecus: "},{"$f":"IF(ISBLANK(Datas!$C$45),\"\",\" - \"&AX249)","v":" - Niv: "}," ","[b][color=blue]0[/color][/b]","[color=red][b]Tréguier[/b][/color]","Comté du Languedoc","PR:","Ecus: ","Niv: ",null,null,null,null,0,{"$f":"VLOOKUP(BC249,LstVillage!$B$8:$C$283,1)","v":{"$error":"#N/A"}},{"$f":"1","v":1},"blue","Tréguier",{"$f":"VLOOKUP(BG249,Datas!$G$6:$G$17,1)","v":"Nîmes"},0,"red",null,"Comté du Languedoc",0,0,null,{"$f":"VLOOKUP(BC249,Liste_Noire!$B$15:$G$1208,1)","v":{"$error":"#N/A"}},{"$f":"VLOOKUP(BC249,Liste_Noire!$B$15:$G$1208,5)","v":{"$error":"#N/A"}},{"$error":"#N/A"},null,0,0,0,0,0,0,0]
[null,""," ","","","","",null,null,null,null,null,null,null,null,null,null,null,null," ",null,"",0,0,0,0,0,0,0,0,0,0,null,0,null,{"$f":"IF(AK250=\"\",\"\",IF(BR250=1,\"[b][color=red]\"&Datas!$D$32&\"[/color][/b]\"&AK250&\"[b][color=red]\"&Datas!$D$33&\"{\"&BQ250&\"}[/color][/b]\",AK250))","v":""},""," ",{"$f":"IF(ISBLANK(Datas!$C$41),\"\",\" - \"&AT250)","v":" - [color=red][b]Tréguier[/b][/color]"},{"$f":"IF(ISBLANK(Datas!$C$42),\"\",\" - \"&AU250)","v":""},{"$f":"IF(ISBLANK(Datas!$C$43),\"\",\" - \"&AV250)","v":" - PR:"},{"$f":"IF(ISBLANK(Datas!$C$44),\"\",\" - \"&AW250)","v":" - Ecus: "},{"$f":"IF(ISBLANK(Datas!$C$45),\"\",\" - \"&AX250)","v":" - Niv: "}," ","[b][color=blue]0[/color][/b]","[color=red][b]Tréguier[/b][/color]","Comté du Languedoc","PR:","Ecus: ","Niv: ",null,null,null,null,0,{"$f":"VLOOKUP(BC250,LstVillage!$B$8:$C$283,1)","v":{"$error":"#N/A"}},{"$f":"1","v":1},"blue","Tréguier",{"$f":"VLOOKUP(BG250,Datas!$G$6:$G$17,1)","v":"Nîmes"},0,"red",null,"Comté du Languedoc",0,0,null,{"$f":"VLOOKUP(BC250,Liste_Noire!$B$15:$G$1208,1)","v":{"$error":"#N/A"}},{"$f":"VLOOKUP(BC250,Liste_Noire!$B$15:$G$1208,5)","v":{"$error":"#N/A"}},{"$error":"#N/A"},null,0,0,0,0,0,0,0]
[null,""," ","","","","",null,null,null,null,null,null,null,null,null,null,null,null," ",null,"",0,0,0,0,0,0,0,0,0,0,null,0,null,{"$f":"IF(AK251=\"\",\"\",IF(BR251=1,\"[b][color=red]\"&Datas!$D$32&\"[/color][/b]\"&AK251&\"[b][color=red]\"&Datas!$D$33&\"{\"&BQ251&\"}[/color][/b]\",AK251))","v":""},""," ",{"$f":"IF(ISBLANK(Datas!$C$41),\"\",\" - \"&AT251)","v":" - [color=red][b]Tréguier[/b][/color]"},{"$f":"IF(ISBLANK(Datas!$C$42),\"\",\" - \"&AU251)","v":""},{"$f":"IF(ISBLANK(Datas!$C$43),\"\",\" - \"&AV251)","v":" - PR:"},{"$f":"IF(ISBLANK(Datas!$C$44),\"\",\" - \"&AW251)","v":" - Ecus: "},{"$f":"IF(ISBLANK(Datas!$C$45),\"\",\" - \"&AX251)","v":" - Niv: "}," ","[b][color=blue]0[/color][/b]","[color=red][b]Tréguier[/b][/color]","Comté du Languedoc","PR:","Ecus: ","Niv: ",null,null,null,null,0,{"$f":"VLOOKUP(BC251,LstVillage!$B$8:$C$283,1)","v":{"$error":"#N/A"}},{"$f":"1","v":1},"blue","Tréguier",{"$f":"VLOOKUP(BG251,Datas!$G$6:$G$17,1)","v":"Nîmes"},0,"red",null,"Comté du Languedoc",0,0,null,{"$f":"VLOOKUP(BC251,Liste_Noire!$B$15:$G$1208,1)","v":{"$error":"#N/A"}},{"$f":"VLOOKUP(BC251,Liste_Noire!$B$15:$G$1208,5)","v":{"$error":"#N/A"}},{"$error":"#N/A"},null,0,0,0,0,0,0,0]
[null,""," ","","","","",null,null,null,null,null,null,null,null,null,null,null,null," ",null,"",0,0,0,0,0,0,0,0,0,0,null,0,null,{"$f":"IF(AK252=\"\",\"\",IF(BR252=1,\"[b][color=red]\"&Datas!$D$32&\"[/color][/b]\"&AK252&\"[b][color=red]\"&Datas!$D$33&\"{\"&BQ252&\"}[/color][/b]\",AK252))","v":""},""," ",{"$f":"IF(ISBLANK(Datas!$C$41),\"\",\" - \"&AT252)","v":" - [color=red][b]Tréguier[/b][/color]"},{"$f":"IF(ISBLANK(Datas!$C$42),\"\",\" - \"&AU252)","v":""},{"$f":"IF(ISBLANK(Datas!$C$43),\"\",\" - \"&AV252)","v":" - PR:"},{"$f":"IF(ISBLANK(Datas!$C$44),\"\",\" - \"&AW252)","v":" - Ecus: "},{"$f":"IF(ISBLANK(Datas!$C$45),\"\",\" - \"&AX252)","v":" - Niv: "}," ","[b][color=blue]0[/color][/b]","[color=red][b]Tréguier[/b][/color]","Comté du Languedoc","PR:","Ecus: ","Niv: ",null,null,null,null,0,{"$f":"VLOOKUP(BC252,LstVillage!$B$8:$C$283,1)","v":{"$error":"#N/A"}},{"$f":"1","v":1},"blue","Tréguier",{"$f":"VLOOKUP(BG252,Datas!$G$6:$G$17,1)","v":"Nîmes"},0,"red",null,"Comté du Languedoc",0,0,null,{"$f":"VLOOKUP(BC252,Liste_Noire!$B$15:$G$1208,1)","v":{"$error":"#N/A"}},{"$f":"VLOOKUP(BC252,Liste_Noire!$B$15:$G$1208,5)","v":{"$error":"#N/A"}},{"$error":"#N/A"},null,0,0,0,0,0,0,0]
[null,""," ","","","","",null,null,null,null,null,null,null,null,null,null,null,null," ",null,"",0,0,0,0,0,0,0,0,0,0,null,0,null,{"$f":"IF(AK253=\"\",\"\",IF(BR253=1,\"[b][color=red]\"&Datas!$D$32&\"[/color][/b]\"&AK253&\"[b][color=red]\"&Datas!$D$33&\"{\"&BQ253&\"}[/color][/b]\",AK253))","v":""},""," ",{"$f":"IF(ISBLANK(Datas!$C$41),\"\",\" - \"&AT253)","v":" - [color=red][b]Tréguier[/b][/color]"},{"$f":"IF(ISBLANK(Datas!$C$42),\"\",\" - \"&AU253)","v":""},{"$f":"IF(ISBLANK(Datas!$C$43),\"\",\" - \"&AV253)","v":" - PR:"},{"$f":"IF(ISBLANK(Datas!$C$44),\"\",\" - \"&AW253)","v":" - Ecus: "},{"$f":"IF(ISBLANK(Datas!$C$45),\"\",\" - \"&AX253)","v":" - Niv: "}," ","[b][color=blue]0[/color][/b]","[color=red][b]Tréguier[/b][/color]","Comté du Languedoc","PR:","Ecus: ","Niv: ",null,null,null,null,0,{"$f":"VLOOKUP(BC253,LstVillage!$B$8:$C$283,1)","v":{"$error":"#N/A"}},{"$f":"1","v":1},"blue","Tréguier",{"$f":"VLOOKUP(BG253,Datas!$G$6:$G$17,1)","v":"Nîmes"},0,"red",null,"Comté du Languedoc",0,0,null,{"$f":"VLOOKUP(BC253,Liste_Noire!$B$15:$G$1208,1)","v":{"$error":"#N/A"}},{"$f":"VLOOKUP(BC253,Liste_Noire!$B$15:$G$1208,5)","v":{"$error":"#N/A"}},{"$error":"#N/A"},null,0,0,0,0,0,0,0]
[null,""," ","","","","",null,null,null,null,null,null,null,null,null,null,null,null," ",null,"",0,0,0,0,0,0,0,0,0,0,null,0,null,{"$f":"IF(AK254=\"\",\"\",IF(BR254=1,\"[b][color=red]\"&Datas!$D$32&\"[/color][/b]\"&AK254&\"[b][color=red]\"&Datas!$D$33&\"{\"&BQ254&\"}[/color][/b]\",AK254))","v":""},""," ",{"$f":"IF(ISBLANK(Datas!$C$41),\"\",\" - \"&AT254)","v":" - [color=red][b]Tréguier[/b][/color]"},{"$f":"IF(ISBLANK(Datas!$C$42),\"\",\" - \"&AU254)","v":""},{"$f":"IF(ISBLANK(Datas!$C$43),\"\",\" - \"&AV254)","v":" - PR:"},{"$f":"IF(ISBLANK(Datas!$C$44),\"\",\" - \"&AW254)","v":" - Ecus: "},{"$f":"IF(ISBLANK(Datas!$C$45),\"\",\" - \"&AX254)","v":" - Niv: "}," ","[b][color=blue]0[/color][/b]","[color=red][b]Tréguier[/b][/color]","Comté du Languedoc","PR:","Ecus: ","Niv: ",null,null,null,null,0,{"$f":"VLOOKUP(BC254,LstVillage!$B$8:$C$283,1)","v":{"$error":"#N/A"}},{"$f":"1","v":1},"blue","Tréguier",{"$f":"VLOOKUP(BG254,Datas!$G$6:$G$17,1)","v":"Nîmes"},0,"red",null,"Comté du Languedoc",0,0,null,{"$f":"VLOOKUP(BC254,Liste_Noire!$B$15:$G$1208,1)","v":{"$error":"#N/A"}},{"$f":"VLOOKUP(BC254,Liste_Noire!$B$15:$G$1208,5)","v":{"$error":"#N/A"}},{"$error":"#N/A"},null,0,0,0,0,0,0,0]
[null,""," ","","","","",null,null,null,null,null,null,null,null,null,null,null,null," ",null,"",0,0,0,0,0,0,0,0,0,0,null,0,null,{"$f":"IF(AK255=\"\",\"\",IF(BR255=1,\"[b][color=red]\"&Datas!$D$32&\"[/color][/b]\"&AK255&\"[b][color=red]\"&Datas!$D$33&\"{\"&BQ255&\"}[/color][/b]\",AK255))","v":""},""," ",{"$f":"IF(ISBLANK(Datas!$C$41),\"\",\" - \"&AT255)","v":" - [color=red][b]Tréguier[/b][/color]"},{"$f":"IF(ISBLANK(Datas!$C$42),\"\",\" - \"&AU255)","v":""},{"$f":"IF(ISBLANK(Datas!$C$43),\"\",\" - \"&AV255)","v":" - PR:"},{"$f":"IF(ISBLANK(Datas!$C$44),\"\",\" - \"&AW255)","v":" - Ecus: "},{"$f":"IF(ISBLANK(Datas!$C$45),\"\",\" - \"&AX255)","v":" - Niv: "}," ","[b][color=blue]0[/color][/b]","[color=red][b]Tréguier[/b][/color]","Comté du Languedoc","PR:","Ecus: ","Niv: ",null,null,null,null,0,{"$f":"VLOOKUP(BC255,LstVillage!$B$8:$C$283,1)","v":{"$error":"#N/A"}},{"$f":"1","v":1},"blue","Tréguier",{"$f":"VLOOKUP(BG255,Datas!$G$6:$G$17,1)","v":"Nîmes"},0,"red",null,"Comté du Languedoc",0,0,null,{"$f":"VLOOKUP(BC255,Liste_Noire!$B$15:$G$1208,1)","v":{"$error":"#N/A"}},{"$f":"VLOOKUP(BC255,Liste_Noire!$B$15:$G$1208,5)","v":{"$error":"#N/A"}},{"$error":"#N/A"},null,0,0,0,0,0,0,0]
[null,""," ","","","","",null,null,null,null,null,null,null,null,null,null,null,null," ",null,"",0,0,0,0,0,0,0,0,0,0,null,0,null,{"$f":"IF(AK256=\"\",\"\",IF(BR256=1,\"[b][color=red]\"&Datas!$D$32&\"[/color][/b]\"&AK256&\"[b][color=red]\"&Datas!$D$33&\"{\"&BQ256&\"}[/color][/b]\",AK256))","v":""},""," ",{"$f":"IF(ISBLANK(Datas!$C$41),\"\",\" - \"&AT256)","v":" - [color=red][b]Tréguier[/b][/color]"},{"$f":"IF(ISBLANK(Datas!$C$42),\"\",\" - \"&AU256)","v":""},{"$f":"IF(ISBLANK(Datas!$C$43),\"\",\" - \"&AV256)","v":" - PR:"},{"$f":"IF(ISBLANK(Datas!$C$44),\"\",\" - \"&AW256)","v":" - Ecus: "},{"$f":"IF(ISBLANK(Datas!$C$45),\"\",\" - \"&AX256)","v":" - Niv: "}," ","[b][color=blue]0[/color][/b]","[color=red][b]Tréguier[/b][/color]","Comté du Languedoc","PR:","Ecus: ","Niv: ",null,null,null,null,0,{"$f":"VLOOKUP(BC256,LstVillage!$B$8:$C$283,1)","v":{"$error":"#N/A"}},{"$f":"1","v":1},"blue","Tréguier",{"$f":"VLOOKUP(BG256,Datas!$G$6:$G$17,1)","v":"Nîmes"},0,"red",null,"Comté du Languedoc",0,0,null,{"$f":"VLOOKUP(BC256,Liste_Noire!$B$15:$G$1208,1)","v":{"$error":"#N/A"}},{"$f":"VLOOKUP(BC256,Liste_Noire!$B$15:$G$1208,5)","v":{"$error":"#N/A"}},{"$error":"#N/A"},null,0,0,0,0,0,0,0]
[null,""," ","","","","",null,null,null,null,null,null,null,null,null,null,null,null," ",null,"",0,0,0,0,0,0,0,0,0,0,null,0,null,{"$f":"IF(AK257=\"\",\"\",IF(BR257=1,\"[b][color=red]\"&Datas!$D$32&\"[/color][/b]\"&AK257&\"[b][color=red]\"&Datas!$D$33&\"{\"&BQ257&\"}[/color][/b]\",AK257))","v":""},""," ",{"$f":"IF(ISBLANK(Datas!$C$41),\"\",\" - \"&AT257)","v":" - [color=red][b]Tréguier[/b][/color]"},{"$f":"IF(ISBLANK(Datas!$C$42),\"\",\" - \"&AU257)","v":""},{"$f":"IF(ISBLANK(Datas!$C$43),\"\",\" - \"&AV257)","v":" - PR:"},{"$f":"IF(ISBLANK(Datas!$C$44),\"\",\" - \"&AW257)","v":" - Ecus: "},{"$f":"IF(ISBLANK(Datas!$C$45),\"\",\" - \"&AX257)","v":" - Niv: "}," ","[b][color=blue]0[/color][/b]","[color=red][b]Tréguier[/b][/color]","Comté du Languedoc","PR:","Ecus: ","Niv: ",null,null,null,null,0,{"$f":"VLOOKUP(BC257,LstVillage!$B$8:$C$283,1)","v":{"$error":"#N/A"}},{"$f":"1","v":1},"blue","Tréguier",{"$f":"VLOOKUP(BG257,Datas!$G$6:$G$17,1)","v":"Nîmes"},0,"red",null,"Comté du Languedoc",0,0,null,{"$f":"VLOOKUP(BC257,Liste_Noire!$B$15:$G$1208,1)","v":{"$error":"#N/A"}},{"$f":"VLOOKUP(BC257,Liste_Noire!$B$15:$G$1208,5)","v":{"$error":"#N/A"}},{"$error":"#N/A"},null,0,0,0,0,0,0,0]
[null,""," ","","","","",null,null,null,null,null,null,null,null,null,null,null,null," ",null,"",0,0,0,0,0,0,0,0,0,0,null,0,null,{"$f":"IF(AK258=\"\",\"\",IF(BR258=1,\"[b][color=red]\"&Datas!$D$32&\"[/color][/b]\"&AK258&\"[b][color=red]\"&Datas!$D$33&\"{\"&BQ258&\"}[/color][/b]\",AK258))","v":""},""," ",{"$f":"IF(ISBLANK(Datas!$C$41),\"\",\" - \"&AT258)","v":" - [color=red][b]Tréguier[/b][/color]"},{"$f":"IF(ISBLANK(Datas!$C$42),\"\",\" - \"&AU258)","v":""},{"$f":"IF(ISBLANK(Datas!$C$43),\"\",\" - \"&AV258)","v":" - PR:"},{"$f":"IF(ISBLANK(Datas!$C$44),\"\",\" - \"&AW258)","v":" - Ecus: "},{"$f":"IF(ISBLANK(Datas!$C$45),\"\",\" - \"&AX258)","v":" - Niv: "}," ","[b][color=blue]0[/color][/b]","[color=red][b]Tréguier[/b][/color]","Comté du Languedoc","PR:","Ecus: ","Niv: ",null,null,null,null,0,{"$f":"VLOOKUP(BC258,LstVillage!$B$8:$C$283,1)","v":{"$error":"#N/A"}},{"$f":"1","v":1},"blue","Tréguier",{"$f":"VLOOKUP(BG258,Datas!$G$6:$G$17,1)","v":"Nîmes"},0,"red",null,"Comté du Languedoc",0,0,null,{"$f":"VLOOKUP(BC258,Liste_Noire!$B$15:$G$1208,1)","v":{"$error":"#N/A"}},{"$f":"VLOOKUP(BC258,Liste_Noire!$B$15:$G$1208,5)","v":{"$error":"#N/A"}},{"$error":"#N/A"},null,0,0,0,0,0,0,0]
[null,""," ","","","","",null,null,null,null,null,null,null,null,null,null,null,null," ",null,"",0,0,0,0,0,0,0,0,0,0,null,0,null,{"$f":"IF(AK259=\"\",\"\",IF(BR259=1,\"[b][color=red]\"&Datas!$D$32&\"[/color][/b]\"&AK259&\"[b][color=red]\"&Datas!$D$33&\"{\"&BQ259&\"}[/color][/b]\",AK259))","v":""},""," ",{"$f":"IF(ISBLANK(Datas!$C$41),\"\",\" - \"&AT259)","v":" - [color=red][b]Tréguier[/b][/color]"},{"$f":"IF(ISBLANK(Datas!$C$42),\"\",\" - \"&AU259)","v":""},{"$f":"IF(ISBLANK(Datas!$C$43),\"\",\" - \"&AV259)","v":" - PR:"},{"$f":"IF(ISBLANK(Datas!$C$44),\"\",\" - \"&AW259)","v":" - Ecus: "},{"$f":"IF(ISBLANK(Datas!$C$45),\"\",\" - \"&AX259)","v":" - Niv: "}," ","[b][color=blue]0[/color][/b]","[color=red][b]Tréguier[/b][/color]","Comté du Languedoc","PR:","Ecus: ","Niv: ",null,null,null,null,0,{"$f":"VLOOKUP(BC259,LstVillage!$B$8:$C$283,1)","v":{"$error":"#N/A"}},{"$f":"1","v":1},"blue","Tréguier",{"$f":"VLOOKUP(BG259,Datas!$G$6:$G$17,1)","v":"Nîmes"},0,"red",null,"Comté du Languedoc",0,0,null,{"$f":"VLOOKUP(BC259,Liste_Noire!$B$15:$G$1208,1)","v":{"$error":"#N/A"}},{"$f":"VLOOKUP(BC259,Liste_Noire!$B$15:$G$1208,5)","v":{"$error":"#N/A"}},{"$error":"#N/A"},null,0,0,0,0,0,0,0]
[null,""," ","","","","",null,null,null,null,null,null,null,null,null,null,null,null," ",null,"",0,0,0,0,0,0,0,0,0,0,null,0,null,{"$f":"IF(AK260=\"\",\"\",IF(BR260=1,\"[b][color=red]\"&Datas!$D$32&\"[/color][/b]\"&AK260&\"[b][color=red]\"&Datas!$D$33&\"{\"&BQ260&\"}[/color][/b]\",AK260))","v":""},""," ",{"$f":"IF(ISBLANK(Datas!$C$41),\"\",\" - \"&AT260)","v":" - [color=red][b]Tréguier[/b][/color]"},{"$f":"IF(ISBLANK(Datas!$C$42),\"\",\" - \"&AU260)","v":""},{"$f":"IF(ISBLANK(Datas!$C$43),\"\",\" - \"&AV260)","v":" - PR:"},{"$f":"IF(ISBLANK(Datas!$C$44),\"\",\" - \"&AW260)","v":" - Ecus: "},{"$f":"IF(ISBLANK(Datas!$C$45),\"\",\" - \"&AX260)","v":" - Niv: "}," ","[b][color=blue]0[/color][/b]","[color=red][b]Tréguier[/b][/color]","Comté du Languedoc","PR:","Ecus: ","Niv: ",null,null,null,null,0,{"$f":"VLOOKUP(BC260,LstVillage!$B$8:$C$283,1)","v":{"$error":"#N/A"}},{"$f":"1","v":1},"blue","Tréguier",{"$f":"VLOOKUP(BG260,Datas!$G$6:$G$17,1)","v":"Nîmes"},0,"red",null,"Comté du Languedoc",0,0,null,{"$f":"VLOOKUP(BC260,Liste_Noire!$B$15:$G$1208,1)","v":{"$error":"#N/A"}},{"$f":"VLOOKUP(BC260,Liste_Noire!$B$15:$G$1208,5)","v":{"$error":"#N/A"}},{"$error":"#N/A"},null,0,0,0,0,0,0,0]
[null,""," ","","","","",null,null,null,null,null,null,null,null,null,null,null,null," ",null,"",0,0,0,0,0,0,0,0,0,0,null,0,null,{"$f":"IF(AK261=\"\",\"\",IF(BR261=1,\"[b][color=red]\"&Datas!$D$32&\"[/color][/b]\"&AK261&\"[b][color=red]\"&Datas!$D$33&\"{\"&BQ261&\"}[/color][/b]\",AK261))","v":""},""," ",{"$f":"IF(ISBLANK(Datas!$C$41),\"\",\" - \"&AT261)","v":" - [color=red][b]Tréguier[/b][/color]"},{"$f":"IF(ISBLANK(Datas!$C$42),\"\",\" - \"&AU261)","v":""},{"$f":"IF(ISBLANK(Datas!$C$43),\"\",\" - \"&AV261)","v":" - PR:"},{"$f":"IF(ISBLANK(Datas!$C$44),\"\",\" - \"&AW261)","v":" - Ecus: "},{"$f":"IF(ISBLANK(Datas!$C$45),\"\",\" - \"&AX261)","v":" - Niv: "}," ","[b][color=blue]0[/color][/b]","[color=red][b]Tréguier[/b][/color]","Comté du Languedoc","PR:","Ecus: ","Niv: ",null,null,null,null,0,{"$f":"VLOOKUP(BC261,LstVillage!$B$8:$C$283,1)","v":{"$error":"#N/A"}},{"$f":"1","v":1},"blue","Tréguier",{"$f":"VLOOKUP(BG261,Datas!$G$6:$G$17,1)","v":"Nîmes"},0,"red",null,"Comté du Languedoc",0,0,null,{"$f":"VLOOKUP(BC261,Liste_Noire!$B$15:$G$1208,1)","v":{"$error":"#N/A"}},{"$f":"VLOOKUP(BC261,Liste_Noire!$B$15:$G$1208,5)","v":{"$error":"#N/A"}},{"$error":"#N/A"},null,0,0,0,0,0,0,0]
[null,""," ","","","","",null,null,null,null,null,null,null,null,null,null,null,null," ",null,"",0,0,0,0,0,0,0,0,0,0,null,0,null,{"$f":"IF(AK262=\"\",\"\",IF(BR262=1,\"[b][color=red]\"&Datas!$D$32&\"[/color][/b]\"&AK262&\"[b][color=red]\"&Datas!$D$33&\"{\"&BQ262&\"}[/color][/b]\",AK262))","v":""},""," ",{"$f":"IF(ISBLANK(Datas!$C$41),\"\",\" - \"&AT262)","v":" - [color=red][b]Tréguier[/b][/color]"},{"$f":"IF(ISBLANK(Datas!$C$42),\"\",\" - \"&AU262)","v":""},{"$f":"IF(ISBLANK(Datas!$C$43),\"\",\" - \"&AV262)","v":" - PR:"},{"$f":"IF(ISBLANK(Datas!$C$44),\"\",\" - \"&AW262)","v":" - Ecus: "},{"$f":"IF(ISBLANK(Datas!$C$45),\"\",\" - \"&AX262)","v":" - Niv: "}," ","[b][color=blue]0[/color][/b]","[color=red][b]Tréguier[/b][/color]","Comté du Languedoc","PR:","Ecus: ","Niv: ",null,null,null,null,0,{"$f":"VLOOKUP(BC262,LstVillage!$B$8:$C$283,1)","v":{"$error":"#N/A"}},{"$f":"1","v":1},"blue","Tréguier",{"$f":"VLOOKUP(BG262,Datas!$G$6:$G$17,1)","v":"Nîmes"},0,"red",null,"Comté du Languedoc",0,0,null,{"$f":"VLOOKUP(BC262,Liste_Noire!$B$15:$G$1208,1)","v":{"$error":"#N/A"}},{"$f":"VLOOKUP(BC262,Liste_Noire!$B$15:$G$1208,5)","v":{"$error":"#N/A"}},{"$error":"#N/A"},null,0,0,0,0,0,0,0]
[null,""," ","","","","",null,null,null,null,null,null,null,null,null,null,null,null," ",null,"",0,0,0,0,0,0,0,0,0,0,null,0,null,{"$f":"IF(AK263=\"\",\"\",IF(BR263=1,\"[b][color=red]\"&Datas!$D$32&\"[/color][/b]\"&AK263&\"[b][color=red]\"&Datas!$D$33&\"{\"&BQ263&\"}[/color][/b]\",AK263))","v":""},""," ",{"$f":"IF(ISBLANK(Datas!$C$41),\"\",\" - \"&AT263)","v":" - [color=red][b]Tréguier[/b][/color]"},{"$f":"IF(ISBLANK(Datas!$C$42),\"\",\" - \"&AU263)","v":""},{"$f":"IF(ISBLANK(Datas!$C$43),\"\",\" - \"&AV263)","v":" - PR:"},{"$f":"IF(ISBLANK(Datas!$C$44),\"\",\" - \"&AW263)","v":" - Ecus: "},{"$f":"IF(ISBLANK(Datas!$C$45),\"\",\" - \"&AX263)","v":" - Niv: "}," ","[b][color=blue]0[/color][/b]","[color=red][b]Tréguier[/b][/color]","Comté du Languedoc","PR:","Ecus: ","Niv: ",null,null,null,null,0,{"$f":"VLOOKUP(BC263,LstVillage!$B$8:$C$283,1)","v":{"$error":"#N/A"}},{"$f":"1","v":1},"blue","Tréguier",{"$f":"VLOOKUP(BG263,Datas!$G$6:$G$17,1)","v":"Nîmes"},0,"red",null,"Comté du Languedoc",0,0,null,{"$f":"VLOOKUP(BC263,Liste_Noire!$B$15:$G$1208,1)","v":{"$error":"#N/A"}},{"$f":"VLOOKUP(BC263,Liste_Noire!$B$15:$G$1208,5)","v":{"$error":"#N/A"}},{"$error":"#N/A"},null,0,0,0,0,0,0,0]
[null,""," ","","","","",null,null,null,null,null,null,null,null,null,null,null,null," ",null,"",0,0,0,0,0,0,0,0,0,0,null,0,null,{"$f":"IF(AK264=\"\",\"\",IF(BR264=1,\"[b][color=red]\"&Datas!$D$32&\"[/color][/b]\"&AK264&\"[b][color=red]\"&Datas!$D$33&\"{\"&BQ264&\"}[/color][/b]\",AK264))","v":""},""," ",{"$f":"IF(ISBLANK(Datas!$C$41),\"\",\" - \"&AT264)","v":" - [color=red][b]Tréguier[/b][/color]"},{"$f":"IF(ISBLANK(Datas!$C$42),\"\",\" - \"&AU264)","v":""},{"$f":"IF(ISBLANK(Datas!$C$43),\"\",\" - \"&AV264)","v":" - PR:"},{"$f":"IF(ISBLANK(Datas!$C$44),\"\",\" - \"&AW264)","v":" - Ecus: "},{"$f":"IF(ISBLANK(Datas!$C$45),\"\",\" - \"&AX264)","v":" - Niv: "}," ","[b][color=blue]0[/color][/b]","[color=red][b]Tréguier[/b][/color]","Comté du Languedoc","PR:","Ecus: ","Niv: ",null,null,null,null,0,{"$f":"VLOOKUP(BC264,LstVillage!$B$8:$C$283,1)","v":{"$error":"#N/A"}},{"$f":"1","v":1},"blue","Tréguier",{"$f":"VLOOKUP(BG264,Datas!$G$6:$G$17,1)","v":"Nîmes"},0,"red",null,"Comté du Languedoc",0,0,null,{"$f":"VLOOKUP(BC264,Liste_Noire!$B$15:$G$1208,1)","v":{"$error":"#N/A"}},{"$f":"VLOOKUP(BC264,Liste_Noire!$B$15:$G$1208,5)","v":{"$error":"#N/A"}},{"$error":"#N/A"},null,0,0,0,0,0,0,0]
[null,""," ","","","","",null,null,null,null,null,null,null,null,null,null,null,null," ",null,"",0,0,0,0,0,0,0,0,0,0,null,0,null,{"$f":"IF(AK265=\"\",\"\",IF(BR265=1,\"[b][color=red]\"&Datas!$D$32&\"[/color][/b]\"&AK265&\"[b][color=red]\"&Datas!$D$33&\"{\"&BQ265&\"}[/color][/b]\",AK265))","v":""},""," ",{"$f":"IF(ISBLANK(Datas!$C$41),\"\",\" - \"&AT265)","v":" - [color=red][b]Tréguier[/b][/color]"},{"$f":"IF(ISBLANK(Datas!$C$42),\"\",\" - \"&AU265)","v":""},{"$f":"IF(ISBLANK(Datas!$C$43),\"\",\" - \"&AV265)","v":" - PR:"},{"$f":"IF(ISBLANK(Datas!$C$44),\"\",\" - \"&AW265)","v":" - Ecus: "},{"$f":"IF(ISBLANK(Datas!$C$45),\"\",\" - \"&AX265)","v":" - Niv: "}," ","[b][color=blue]0[/color][/b]","[color=red][b]Tréguier[/b][/color]","Comté du Languedoc","PR:","Ecus: ","Niv: ",null,null,null,null,0,{"$f":"VLOOKUP(BC265,LstVillage!$B$8:$C$283,1)","v":{"$error":"#N/A"}},{"$f":"1","v":1},"blue","Tréguier",{"$f":"VLOOKUP(BG265,Datas!$G$6:$G$17,1)","v":"Nîmes"},0,"red",null,"Comté du Languedoc",0,0,null,{"$f":"VLOOKUP(BC265,Liste_Noire!$B$15:$G$1208,1)","v":{"$error":"#N/A"}},{"$f":"VLOOKUP(BC265,Liste_Noire!$B$15:$G$1208,5)","v":{"$error":"#N/A"}},{"$error":"#N/A"},null,0,0,0,0,0,0,0]
[null,""," ","","","","",null,null,null,null,null,null,null,null,null,null,null,null," ",null,"",0,0,0,0,0,0,0,0,0,0,null,0,null,{"$f":"IF(AK266=\"\",\"\",IF(BR266=1,\"[b][color=red]\"&Datas!$D$32&\"[/color][/b]\"&AK266&\"[b][color=red]\"&Datas!$D$33&\"{\"&BQ266&\"}[/color][/b]\",AK266))","v":""},""," ",{"$f":"IF(ISBLANK(Datas!$C$41),\"\",\" - \"&AT266)","v":" - [color=red][b]Tréguier[/b][/color]"},{"$f":"IF(ISBLANK(Datas!$C$42),\"\",\" - \"&AU266)","v":""},{"$f":"IF(ISBLANK(Datas!$C$43),\"\",\" - \"&AV266)","v":" - PR:"},{"$f":"IF(ISBLANK(Datas!$C$44),\"\",\" - \"&AW266)","v":" - Ecus: "},{"$f":"IF(ISBLANK(Datas!$C$45),\"\",\" - \"&AX266)","v":" - Niv: "}," ","[b][color=blue]0[/color][/b]","[color=red][b]Tréguier[/b][/color]","Comté du Languedoc","PR:","Ecus: ","Niv: ",null,null,null,null,0,{"$f":"VLOOKUP(BC266,LstVillage!$B$8:$C$283,1)","v":{"$error":"#N/A"}},{"$f":"1","v":1},"blue","Tréguier",{"$f":"VLOOKUP(BG266,Datas!$G$6:$G$17,1)","v":"Nîmes"},0,"red",null,"Comté du Languedoc",0,0,null,{"$f":"VLOOKUP(BC266,Liste_Noire!$B$15:$G$1208,1)","v":{"$error":"#N/A"}},{"$f":"VLOOKUP(BC266,Liste_Noire!$B$15:$G$1208,5)","v":{"$error":"#N/A"}},{"$error":"#N/A"},null,0,0,0,0,0,0,0]
[null,""," ","","","","",null,null,null,null,null,null,null,null,null,null,null,null," ",null,"",0,0,0,0,0,0,0,0,0,0,null,0,null,{"$f":"IF(AK267=\"\",\"\",IF(BR267=1,\"[b][color=red]\"&Datas!$D$32&\"[/color][/b]\"&AK267&\"[b][color=red]\"&Datas!$D$33&\"{\"&BQ267&\"}[/color][/b]\",AK267))","v":""},""," ",{"$f":"IF(ISBLANK(Datas!$C$41),\"\",\" - \"&AT267)","v":" - [color=red][b]Tréguier[/b][/color]"},{"$f":"IF(ISBLANK(Datas!$C$42),\"\",\" - \"&AU267)","v":""},{"$f":"IF(ISBLANK(Datas!$C$43),\"\",\" - \"&AV267)","v":" - PR:"},{"$f":"IF(ISBLANK(Datas!$C$44),\"\",\" - \"&AW267)","v":" - Ecus: "},{"$f":"IF(ISBLANK(Datas!$C$45),\"\",\" - \"&AX267)","v":" - Niv: "}," ","[b][color=blue]0[/color][/b]","[color=red][b]Tréguier[/b][/color]","Comté du Languedoc","PR:","Ecus: ","Niv: ",null,null,null,null,0,{"$f":"VLOOKUP(BC267,LstVillage!$B$8:$C$283,1)","v":{"$error":"#N/A"}},{"$f":"1","v":1},"blue","Tréguier",{"$f":"VLOOKUP(BG267,Datas!$G$6:$G$17,1)","v":"Nîmes"},0,"red",null,"Comté du Languedoc",0,0,null,{"$f":"VLOOKUP(BC267,Liste_Noire!$B$15:$G$1208,1)","v":{"$error":"#N/A"}},{"$f":"VLOOKUP(BC267,Liste_Noire!$B$15:$G$1208,5)","v":{"$error":"#N/A"}},{"$error":"#N/A"},null,0,0,0,0,0,0,0]
[null,""," ","","","","",null,null,null,null,null,null,null,null,null,null,null,null," ",null,"",0,0,0,0,0,0,0,0,0,0,null,0,null,{"$f":"IF(AK268=\"\",\"\",IF(BR268=1,\"[b][color=red]\"&Datas!$D$32&\"[/color][/b]\"&AK268&\"[b][color=red]\"&Datas!$D$33&\"{\"&BQ268&\"}[/color][/b]\",AK268))","v":""},""," ",{"$f":"IF(ISBLANK(Datas!$C$41),\"\",\" - \"&AT268)","v":" - [color=red][b]Tréguier[/b][/color]"},{"$f":"IF(ISBLANK(Datas!$C$42),\"\",\" - \"&AU268)","v":""},{"$f":"IF(ISBLANK(Datas!$C$43),\"\",\" - \"&AV268)","v":" - PR:"},{"$f":"IF(ISBLANK(Datas!$C$44),\"\",\" - \"&AW268)","v":" - Ecus: "},{"$f":"IF(ISBLANK(Datas!$C$45),\"\",\" - \"&AX268)","v":" - Niv: "}," ","[b][color=blue]0[/color][/b]","[color=red][b]Tréguier[/b][/color]","Comté du Languedoc","PR:","Ecus: ","Niv: ",null,null,null,null,0,{"$f":"VLOOKUP(BC268,LstVillage!$B$8:$C$283,1)","v":{"$error":"#N/A"}},{"$f":"1","v":1},"blue","Tréguier",{"$f":"VLOOKUP(BG268,Datas!$G$6:$G$17,1)","v":"Nîmes"},0,"red",null,"Comté du Languedoc",0,0,null,{"$f":"VLOOKUP(BC268,Liste_Noire!$B$15:$G$1208,1)","v":{"$error":"#N/A"}},{"$f":"VLOOKUP(BC268,Liste_Noire!$B$15:$G$1208,5)","v":{"$error":"#N/A"}},{"$error":"#N/A"},null,0,0,0,0,0,0,0]
[null,{"$f":"IF(BM269,\"[strike]\"&AJ269&\"[/strike]\",IF(BN269,\"[i]\"&AJ269&\"[/i]\",AJ269))","v":""}," ",{"$f":"IF(J269=\"mort\",\"M\",\"\")","v":""},{"$f":"IF(ISERROR(BR269),\"\",IF(BR269=1,\"LN\",\"\"))","v":""},{"$f":"IF(J269=\"retraite\",\"R\",\"\")","v":""},{"$f":"IF(ISBLANK(V269),\"\",V269)","v":""},null,null,null,null,null,null,null,null,null,null,null,null," ",null,"",{"$f":"IF($V269=W$11,1,0)","v":0},{"$f":"IF(AND(W269=1,$E269=X$11),1,0)","v":0},{"$f":"IF($V269=Y$11,1,0)","v":0},{"$f":"IF(AND(Y269=1,$E269=Z$11),1,0)","v":0},{"$f":"IF($F269=AA$11,1,0)","v":0},{"$f":"IF(AND(AA269=1,$E269=AB$11),1,0)","v":0},{"$f":"IF($D269=AC$11,1,0)","v":0},{"$f":"IF(AND(AC269=1,$E269=AD$11),1,0)","v":0},{"$f":"IF(AND($V269=AE$11,(AA269+AC269)=0),1,0)","v":0},{"$f":"IF(AND(AE269=1,$E269=AF$11),1,0)","v":0},null,{"$f":"IF(AND(ISBLANK(I269),ISBLANK(J269),ISBLANK(L269),ISBLANK(M269)),0,1)","v":0},null,{"$f":"IF(AK269=\"\",\"\",IF(BR269=1,\"[b][color=red]\"&Datas!$D$32&\"[/color][/b]\"&AK269&\"[b][color=red]\"&Datas!$D$33&\"{\"&BQ269&\"}[/color][/b]\",AK269))","v":""},{"$f":"IF(ISBLANK(I269),\"\",AS269&AM269&AN269&AO269&AP269&AQ269)","v":""}," ",{"$f":"IF(ISBLANK(Datas!$C$41),\"\",\" - \"&AT269)","v":" - [color=red][b]Tréguier[/b][/color]"},{"$f":"IF(ISBLANK(Datas!$C$42),\"\",\" - \"&AU269)","v":""},{"$f":"IF(ISBLANK(Datas!$C$43),\"\",\" - \"&AV269)","v":" - PR:"},{"$f":"IF(ISBLANK(Datas!$C$44),\"\",\" - \"&AW269)","v":" - Ecus: "},{"$f":"IF(ISBLANK(Datas!$C$45),\"\",\" - \"&AX269)","v":" - Niv: "}," ",{"$f":"\"[b][color=\"&BF269&\"]\"&BC269&\"[/color][/b]\"","v":"[b][color=blue]0[/color][/b]"},{"$f":"\"[color=\"&BJ269&\"][b]\"&BG269&\"[/b][/color]\"","v":"[color=red][b]Tréguier[/b][/color]"},{"$f":"$H$8","v":"Comté du Languedoc"},{"$f":"\"PR:\"&L269","v":"PR:"},{"$f":"\"Ecus: \"&M269","v":"Ecus: "},{"$f":"\"Niv: \"&K269","v":"Niv: "},null,null,null,null,{"$f":"I269","v":0},{"$f":"VLOOKUP(BC269,LstVillage!$B$8:$C$283,1)","v":{"$error":"#N/A"}},{"$f":"1","v":1},{"$f":"IF(BE269=1,$AT$2,IF(BI269=1,$AT$3,$AT$4))","v":"blue"},{"$f":"$B$8","v":"Tréguier"},{"$f":"VLOOKUP(BG269,Datas!$G$6:$G$17,1)","v":"Nîmes"},{"$f":"IF(BH269<>BG269,0,1)","v":0},{"$f":"IF(BI269=1,$AW$2,$AW$3)","v":"red"},null,{"$f":"$H$8","v":"Comté du Languedoc"},{"$f":"IF(F269=\"M\",1,0)","v":0},{"$f":"IF(F269=\"R\",1,0)","v":0},null,{"$f":"VLOOKUP(BC269,Liste_Noire!$B$15:$G$1208,1)","v":{"$error":"#N/A"}},{"$f":"VLOOKUP(BC269,Liste_Noire!$B$15:$G$1208,5)","v":{"$error":"#N/A"}},{"$f":"IF(ISERR(BP269),0,IF(BP269=BC269,1,0))","v":{"$error":"#N/A"}},null,{"$f":"IF(G269=\"a\",1,0)","v":0},{"$f":"IF(G269=\"d\",1,0)","v":0},{"$f":"IF(F269=\"R\",1,0)","v":0},{"$f":"IF(F269=\"M\",1,0)","v":0},0,0,{"$f":"IF(ISBLANK(I269),0,1)","v":0}]
[null,""," ","","","","",null,null,null,null,null,null,null,null,null,null,null,null," ",null,{"$f":"IF(OR(ISBLANK(R270),TRIM(R270)=\"\"),IF(ISBLANK($I270),\"\",$V$11),IF(OR($F270=$AA$11,$D270=$AC$11),$V$11,IF(R270=\"a/d\",\"\",R270)))","v":""},0,0,0,0,0,0,0,0,0,0,null,0,null,{"$f":"IF(AK270=\"\",\"\",IF(BR270=1,\"[b][color=red]\"&Datas!$D$32&\"[/color][/b]\"&AK270&\"[b][color=red]\"&Datas!$D$33&\"{\"&BQ270&\"}[/color][/b]\",AK270))","v":""},""," ",{"$f":"IF(ISBLANK(Datas!$C$41),\"\",\" - \"&AT270)","v":" - [color=red][b]Tréguier[/b][/color]"},{"$f":"IF(ISBLANK(Datas!$C$42),\"\",\" - \"&AU270)","v":""},{"$f":"IF(ISBLANK(Datas!$C$43),\"\",\" - \"&AV270)","v":" - PR:"},{"$f":"IF(ISBLANK(Datas!$C$44),\"\",\" - \"&AW270)","v":" - Ecus: "},{"$f":"IF(ISBLANK(Datas!$C$45),\"\",\" - \"&AX270)","v":" - Niv: "}," ","[b][color=blue]0[/color][/b]","[color=red][b]Tréguier[/b][/color]","Comté du Languedoc","PR:","Ecus: ","Niv: ",null,null,null,null,0,{"$f":"VLOOKUP(BC270,LstVillage!$B$8:$C$283,1)","v":{"$error":"#N/A"}},{"$f":"1","v":1},"blue","Tréguier",{"$f":"VLOOKUP(BG270,Datas!$G$6:$G$17,1)","v":"Nîmes"},0,"red",null,"Comté du Languedoc",0,0,null,{"$f":"VLOOKUP(BC270,Liste_Noire!$B$15:$G$1208,1)","v":{"$error":"#N/A"}},{"$f":"VLOOKUP(BC270,Liste_Noire!$B$15:$G$1208,5)","v":{"$error":"#N/A"}},{"$error":"#N/A"},null,0,0,0,0,0,0,0]
[null,""," ","","","","",null,null,null,null,null,null,null,null,null,null,null,null," ",null,"",0,0,0,0,0,0,0,0,0,0,null,0,null,{"$f":"IF(AK271=\"\",\"\",IF(BR271=1,\"[b][color=red]\"&Datas!$D$32&\"[/color][/b]\"&AK271&\"[b][color=red]\"&Datas!$D$33&\"{\"&BQ271&\"}[/color][/b]\",AK271))","v":""},""," ",{"$f":"IF(ISBLANK(Datas!$C$41),\"\",\" - \"&AT271)","v":" - [color=red][b]Tréguier[/b][/color]"},{"$f":"IF(ISBLANK(Datas!$C$42),\"\",\" - \"&AU271)","v":""},{"$f":"IF(ISBLANK(Datas!$C$43),\"\",\" - \"&AV271)","v":" - PR:"},{"$f":"IF(ISBLANK(Datas!$C$44),\"\",\" - \"&AW271)","v":" - Ecus: "},{"$f":"IF(ISBLANK(Datas!$C$45),\"\",\" - \"&AX271)","v":" - Niv: "}," ","[b][color=blue]0[/color][/b]","[color=red][b]Tréguier[/b][/color]","Comté du Languedoc","PR:","Ecus: ","Niv: ",null,null,null,null,0,{"$f":"VLOOKUP(BC271,LstVillage!$B$8:$C$283,1)","v":{"$error":"#N/A"}},{"$f":"1","v":1},"blue","Tréguier",{"$f":"VLOOKUP(BG271,Datas!$G$6:$G$17,1)","v":"Nîmes"},0,"red",null,"Comté du Languedoc",0,0,null,{"$f":"VLOOKUP(BC271,Liste_Noire!$B$15:$G$1208,1)","v":{"$error":"#N/A"}},{"$f":"VLOOKUP(BC271,Liste_Noire!$B$15:$G$1208,5)","v":{"$error":"#N/A"}},{"$error":"#N/A"},null,0,0,0,0,0,0,0]
[null,""," ","","","","",null,null,null,null,null,null,null,null,null,null,null,null," ",null,"",0,0,0,0,0,0,0,0,0,0,null,0,null,{"$f":"IF(AK272=\"\",\"\",IF(BR272=1,\"[b][color=red]\"&Datas!$D$32&\"[/color][/b]\"&AK272&\"[b][color=red]\"&Datas!$D$33&\"{\"&BQ272&\"}[/color][/b]\",AK272))","v":""},""," ",{"$f":"IF(ISBLANK(Datas!$C$41),\"\",\" - \"&AT272)","v":" - [color=red][b]Tréguier[/b][/color]"},{"$f":"IF(ISBLANK(Datas!$C$42),\"\",\" - \"&AU272)","v":""},{"$f":"IF(ISBLANK(Datas!$C$43),\"\",\" - \"&AV272)","v":" - PR:"},{"$f":"IF(ISBLANK(Datas!$C$44),\"\",\" - \"&AW272)","v":" - Ecus: "},{"$f":"IF(ISBLANK(Datas!$C$45),\"\",\" - \"&AX272)","v":" - Niv: "}," ","[b][color=blue]0[/color][/b]","[color=red][b]Tréguier[/b][/color]","Comté du Languedoc","PR:","Ecus: ","Niv: ",null,null,null,null,0,{"$f":"VLOOKUP(BC272,LstVillage!$B$8:$C$283,1)","v":{"$error":"#N/A"}},{"$f":"1","v":1},"blue","Tréguier",{"$f":"VLOOKUP(BG272,Datas!$G$6:$G$17,1)","v":"Nîmes"},0,"red",null,"Comté du Languedoc",0,0,null,{"$f":"VLOOKUP(BC272,Liste_Noire!$B$15:$G$1208,1)","v":{"$error":"#N/A"}},{"$f":"VLOOKUP(BC272,Liste_Noire!$B$15:$G$1208,5)","v":{"$error":"#N/A"}},{"$error":"#N/A"},null,0,0,0,0,0,0,0]
[null,""," ","","","","",null,null,null,null,null,null,null,null,null,null,null,null," ",null,"",0,0,0,0,0,0,0,0,0,0,null,0,null,{"$f":"IF(AK273=\"\",\"\",IF(BR273=1,\"[b][color=red]\"&Datas!$D$32&\"[/color][/b]\"&AK273&\"[b][color=red]\"&Datas!$D$33&\"{\"&BQ273&\"}[/color][/b]\",AK273))","v":""},""," ",{"$f":"IF(ISBLANK(Datas!$C$41),\"\",\" - \"&AT273)","v":" - [color=red][b]Tréguier[/b][/color]"},{"$f":"IF(ISBLANK(Datas!$C$42),\"\",\" - \"&AU273)","v":""},{"$f":"IF(ISBLANK(Datas!$C$43),\"\",\" - \"&AV273)","v":" - PR:"},{"$f":"IF(ISBLANK(Datas!$C$44),\"\",\" - \"&AW273)","v":" - Ecus: "},{"$f":"IF(ISBLANK(Datas!$C$45),\"\",\" - \"&AX273)","v":" - Niv: "}," ","[b][color=blue]0[/color][/b]","[color=red][b]Tréguier[/b][/color]","Comté du Languedoc","PR:","Ecus: ","Niv: ",null,null,null,null,0,{"$f":"VLOOKUP(BC273,LstVillage!$B$8:$C$283,1)","v":{"$error":"#N/A"}},{"$f":"1","v":1},"blue","Tréguier",{"$f":"VLOOKUP(BG273,Datas!$G$6:$G$17,1)","v":"Nîmes"},0,"red",null,"Comté du Languedoc",0,0,null,{"$f":"VLOOKUP(BC273,Liste_Noire!$B$15:$G$1208,1)","v":{"$error":"#N/A"}},{"$f":"VLOOKUP(BC273,Liste_Noire!$B$15:$G$1208,5)","v":{"$error":"#N/A"}},{"$error":"#N/A"},null,0,0,0,0,0,0,0]
[null,""," ","","","","",null,null,null,null,null,null,null,null,null,null,null,null," ",null,"",0,0,0,0,0,0,0,0,0,0,null,0,null,{"$f":"IF(AK274=\"\",\"\",IF(BR274=1,\"[b][color=red]\"&Datas!$D$32&\"[/color][/b]\"&AK274&\"[b][color=red]\"&Datas!$D$33&\"{\"&BQ274&\"}[/color][/b]\",AK274))","v":""},""," ",{"$f":"IF(ISBLANK(Datas!$C$41),\"\",\" - \"&AT274)","v":" - [color=red][b]Tréguier[/b][/color]"},{"$f":"IF(ISBLANK(Datas!$C$42),\"\",\" - \"&AU274)","v":""},{"$f":"IF(ISBLANK(Datas!$C$43),\"\",\" - \"&AV274)","v":" - PR:"},{"$f":"IF(ISBLANK(Datas!$C$44),\"\",\" - \"&AW274)","v":" - Ecus: "},{"$f":"IF(ISBLANK(Datas!$C$45),\"\",\" - \"&AX274)","v":" - Niv: "}," ","[b][color=blue]0[/color][/b]","[color=red][b]Tréguier[/b][/color]","Comté du Languedoc","PR:","Ecus: ","Niv: ",null,null,null,null,0,{"$f":"VLOOKUP(BC274,LstVillage!$B$8:$C$283,1)","v":{"$error":"#N/A"}},{"$f":"1","v":1},"blue","Tréguier",{"$f":"VLOOKUP(BG274,Datas!$G$6:$G$17,1)","v":"Nîmes"},0,"red",null,"Comté du Languedoc",0,0,null,{"$f":"VLOOKUP(BC274,Liste_Noire!$B$15:$G$1208,1)","v":{"$error":"#N/A"}},{"$f":"VLOOKUP(BC274,Liste_Noire!$B$15:$G$1208,5)","v":{"$error":"#N/A"}},{"$error":"#N/A"},null,0,0,0,0,0,0,0]
[null,""," ","","","","",null,null,null,null,null,null,null,null,null,null,null,null," ",null,"",0,0,0,0,0,0,0,0,0,0,null,0,null,{"$f":"IF(AK275=\"\",\"\",IF(BR275=1,\"[b][color=red]\"&Datas!$D$32&\"[/color][/b]\"&AK275&\"[b][color=red]\"&Datas!$D$33&\"{\"&BQ275&\"}[/color][/b]\",AK275))","v":""},""," ",{"$f":"IF(ISBLANK(Datas!$C$41),\"\",\" - \"&AT275)","v":" - [color=red][b]Tréguier[/b][/color]"},{"$f":"IF(ISBLANK(Datas!$C$42),\"\",\" - \"&AU275)","v":""},{"$f":"IF(ISBLANK(Datas!$C$43),\"\",\" - \"&AV275)","v":" - PR:"},{"$f":"IF(ISBLANK(Datas!$C$44),\"\",\" - \"&AW275)","v":" - Ecus: "},{"$f":"IF(ISBLANK(Datas!$C$45),\"\",\" - \"&AX275)","v":" - Niv: "}," ","[b][color=blue]0[/color][/b]","[color=red][b]Tréguier[/b][/color]","Comté du Languedoc","PR:","Ecus: ","Niv: ",null,null,null,null,0,{"$f":"VLOOKUP(BC275,LstVillage!$B$8:$C$283,1)","v":{"$error":"#N/A"}},{"$f":"1","v":1},"blue","Tréguier",{"$f":"VLOOKUP(BG275,Datas!$G$6:$G$17,1)","v":"Nîmes"},0,"red",null,"Comté du Languedoc",0,0,null,{"$f":"VLOOKUP(BC275,Liste_Noire!$B$15:$G$1208,1)","v":{"$error":"#N/A"}},{"$f":"VLOOKUP(BC275,Liste_Noire!$B$15:$G$1208,5)","v":{"$error":"#N/A"}},{"$error":"#N/A"},null,0,0,0,0,0,0,0]
[null,""," ","","","","",null,null,null,null,null,null,null,null,null,null,null,null," ",null,"",0,0,0,0,0,0,0,0,0,0,null,0,null,{"$f":"IF(AK276=\"\",\"\",IF(BR276=1,\"[b][color=red]\"&Datas!$D$32&\"[/color][/b]\"&AK276&\"[b][color=red]\"&Datas!$D$33&\"{\"&BQ276&\"}[/color][/b]\",AK276))","v":""},""," ",{"$f":"IF(ISBLANK(Datas!$C$41),\"\",\" - \"&AT276)","v":" - [color=red][b]Tréguier[/b][/color]"},{"$f":"IF(ISBLANK(Datas!$C$42),\"\",\" - \"&AU276)","v":""},{"$f":"IF(ISBLANK(Datas!$C$43),\"\",\" - \"&AV276)","v":" - PR:"},{"$f":"IF(ISBLANK(Datas!$C$44),\"\",\" - \"&AW276)","v":" - Ecus: "},{"$f":"IF(ISBLANK(Datas!$C$45),\"\",\" - \"&AX276)","v":" - Niv: "}," ","[b][color=blue]0[/color][/b]","[color=red][b]Tréguier[/b][/color]","Comté du Languedoc","PR:","Ecus: ","Niv: ",null,null,null,null,0,{"$f":"VLOOKUP(BC276,LstVillage!$B$8:$C$283,1)","v":{"$error":"#N/A"}},{"$f":"1","v":1},"blue","Tréguier",{"$f":"VLOOKUP(BG276,Datas!$G$6:$G$17,1)","v":"Nîmes"},0,"red",null,"Comté du Languedoc",0,0,null,{"$f":"VLOOKUP(BC276,Liste_Noire!$B$15:$G$1208,1)","v":{"$error":"#N/A"}},{"$f":"VLOOKUP(BC276,Liste_Noire!$B$15:$G$1208,5)","v":{"$error":"#N/A"}},{"$error":"#N/A"},null,0,0,0,0,0,0,0]
[null,""," ","","","","",null,null,null,null,null,null,null,null,null,null,null,null," ",null,"",0,0,0,0,0,0,0,0,0,0,null,0,null,{"$f":"IF(AK277=\"\",\"\",IF(BR277=1,\"[b][color=red]\"&Datas!$D$32&\"[/color][/b]\"&AK277&\"[b][color=red]\"&Datas!$D$33&\"{\"&BQ277&\"}[/color][/b]\",AK277))","v":""},""," ",{"$f":"IF(ISBLANK(Datas!$C$41),\"\",\" - \"&AT277)","v":" - [color=red][b]Tréguier[/b][/color]"},{"$f":"IF(ISBLANK(Datas!$C$42),\"\",\" - \"&AU277)","v":""},{"$f":"IF(ISBLANK(Datas!$C$43),\"\",\" - \"&AV277)","v":" - PR:"},{"$f":"IF(ISBLANK(Datas!$C$44),\"\",\" - \"&AW277)","v":" - Ecus: "},{"$f":"IF(ISBLANK(Datas!$C$45),\"\",\" - \"&AX277)","v":" - Niv: "}," ","[b][color=blue]0[/color][/b]","[color=red][b]Tréguier[/b][/color]","Comté du Languedoc","PR:","Ecus: ","Niv: ",null,null,null,null,0,{"$f":"VLOOKUP(BC277,LstVillage!$B$8:$C$283,1)","v":{"$error":"#N/A"}},{"$f":"1","v":1},"blue","Tréguier",{"$f":"VLOOKUP(BG277,Datas!$G$6:$G$17,1)","v":"Nîmes"},0,"red",null,"Comté du Languedoc",0,0,null,{"$f":"VLOOKUP(BC277,Liste_Noire!$B$15:$G$1208,1)","v":{"$error":"#N/A"}},{"$f":"VLOOKUP(BC277,Liste_Noire!$B$15:$G$1208,5)","v":{"$error":"#N/A"}},{"$error":"#N/A"},null,0,0,0,0,0,0,0]
[null,""," ","","","","",null,null,null,null,null,null,null,null,null,null,null,null," ",null,"",0,0,0,0,0,0,0,0,0,0,null,0,null,{"$f":"IF(AK278=\"\",\"\",IF(BR278=1,\"[b][color=red]\"&Datas!$D$32&\"[/color][/b]\"&AK278&\"[b][color=red]\"&Datas!$D$33&\"{\"&BQ278&\"}[/color][/b]\",AK278))","v":""},""," ",{"$f":"IF(ISBLANK(Datas!$C$41),\"\",\" - \"&AT278)","v":" - [color=red][b]Tréguier[/b][/color]"},{"$f":"IF(ISBLANK(Datas!$C$42),\"\",\" - \"&AU278)","v":""},{"$f":"IF(ISBLANK(Datas!$C$43),\"\",\" - \"&AV278)","v":" - PR:"},{"$f":"IF(ISBLANK(Datas!$C$44),\"\",\" - \"&AW278)","v":" - Ecus: "},{"$f":"IF(ISBLANK(Datas!$C$45),\"\",\" - \"&AX278)","v":" - Niv: "}," ","[b][color=blue]0[/color][/b]","[color=red][b]Tréguier[/b][/color]","Comté du Languedoc","PR:","Ecus: ","Niv: ",null,null,null,null,0,{"$f":"VLOOKUP(BC278,LstVillage!$B$8:$C$283,1)","v":{"$error":"#N/A"}},{"$f":"1","v":1},"blue","Tréguier",{"$f":"VLOOKUP(BG278,Datas!$G$6:$G$17,1)","v":"Nîmes"},0,"red",null,"Comté du Languedoc",0,0,null,{"$f":"VLOOKUP(BC278,Liste_Noire!$B$15:$G$1208,1)","v":{"$error":"#N/A"}},{"$f":"VLOOKUP(BC278,Liste_Noire!$B$15:$G$1208,5)","v":{"$error":"#N/A"}},{"$error":"#N/A"},null,0,0,0,0,0,0,0]
[null,""," ","","","","",null,null,null,null,null,null,null,null,null,null,null,null," ",null,"",0,0,0,0,0,0,0,0,0,0,null,0,null,{"$f":"IF(AK279=\"\",\"\",IF(BR279=1,\"[b][color=red]\"&Datas!$D$32&\"[/color][/b]\"&AK279&\"[b][color=red]\"&Datas!$D$33&\"{\"&BQ279&\"}[/color][/b]\",AK279))","v":""},""," ",{"$f":"IF(ISBLANK(Datas!$C$41),\"\",\" - \"&AT279)","v":" - [color=red][b]Tréguier[/b][/color]"},{"$f":"IF(ISBLANK(Datas!$C$42),\"\",\" - \"&AU279)","v":""},{"$f":"IF(ISBLANK(Datas!$C$43),\"\",\" - \"&AV279)","v":" - PR:"},{"$f":"IF(ISBLANK(Datas!$C$44),\"\",\" - \"&AW279)","v":" - Ecus: "},{"$f":"IF(ISBLANK(Datas!$C$45),\"\",\" - \"&AX279)","v":" - Niv: "}," ","[b][color=blue]0[/color][/b]","[color=red][b]Tréguier[/b][/color]","Comté du Languedoc","PR:","Ecus: ","Niv: ",null,null,null,null,0,{"$f":"VLOOKUP(BC279,LstVillage!$B$8:$C$283,1)","v":{"$error":"#N/A"}},{"$f":"1","v":1},"blue","Tréguier",{"$f":"VLOOKUP(BG279,Datas!$G$6:$G$17,1)","v":"Nîmes"},0,"red",null,"Comté du Languedoc",0,0,null,{"$f":"VLOOKUP(BC279,Liste_Noire!$B$15:$G$1208,1)","v":{"$error":"#N/A"}},{"$f":"VLOOKUP(BC279,Liste_Noire!$B$15:$G$1208,5)","v":{"$error":"#N/A"}},{"$error":"#N/A"},null,0,0,0,0,0,0,0]
[null,""," ","","","","",null,null,null,null,null,null,null,null,null,null,null,null," ",null,"",0,0,0,0,0,0,0,0,0,0,null,0,null,{"$f":"IF(AK280=\"\",\"\",IF(BR280=1,\"[b][color=red]\"&Datas!$D$32&\"[/color][/b]\"&AK280&\"[b][color=red]\"&Datas!$D$33&\"{\"&BQ280&\"}[/color][/b]\",AK280))","v":""},""," ",{"$f":"IF(ISBLANK(Datas!$C$41),\"\",\" - \"&AT280)","v":" - [color=red][b]Tréguier[/b][/color]"},{"$f":"IF(ISBLANK(Datas!$C$42),\"\",\" - \"&AU280)","v":""},{"$f":"IF(ISBLANK(Datas!$C$43),\"\",\" - \"&AV280)","v":" - PR:"},{"$f":"IF(ISBLANK(Datas!$C$44),\"\",\" - \"&AW280)","v":" - Ecus: "},{"$f":"IF(ISBLANK(Datas!$C$45),\"\",\" - \"&AX280)","v":" - Niv: "}," ","[b][color=blue]0[/color][/b]","[color=red][b]Tréguier[/b][/color]","Comté du Languedoc","PR:","Ecus: ","Niv: ",null,null,null,null,0,{"$f":"VLOOKUP(BC280,LstVillage!$B$8:$C$283,1)","v":{"$error":"#N/A"}},{"$f":"1","v":1},"blue","Tréguier",{"$f":"VLOOKUP(BG280,Datas!$G$6:$G$17,1)","v":"Nîmes"},0,"red",null,"Comté du Languedoc",0,0,null,{"$f":"VLOOKUP(BC280,Liste_Noire!$B$15:$G$1208,1)","v":{"$error":"#N/A"}},{"$f":"VLOOKUP(BC280,Liste_Noire!$B$15:$G$1208,5)","v":{"$error":"#N/A"}},{"$error":"#N/A"},null,0,0,0,0,0,0,0]
[null,""," ","","","","",null,null,null,null,null,null,null,null,null,null,null,null," ",null,"",0,0,0,0,0,0,0,0,0,0,null,0,null,{"$f":"IF(AK281=\"\",\"\",IF(BR281=1,\"[b][color=red]\"&Datas!$D$32&\"[/color][/b]\"&AK281&\"[b][color=red]\"&Datas!$D$33&\"{\"&BQ281&\"}[/color][/b]\",AK281))","v":""},""," ",{"$f":"IF(ISBLANK(Datas!$C$41),\"\",\" - \"&AT281)","v":" - [color=red][b]Tréguier[/b][/color]"},{"$f":"IF(ISBLANK(Datas!$C$42),\"\",\" - \"&AU281)","v":""},{"$f":"IF(ISBLANK(Datas!$C$43),\"\",\" - \"&AV281)","v":" - PR:"},{"$f":"IF(ISBLANK(Datas!$C$44),\"\",\" - \"&AW281)","v":" - Ecus: "},{"$f":"IF(ISBLANK(Datas!$C$45),\"\",\" - \"&AX281)","v":" - Niv: "}," ","[b][color=blue]0[/color][/b]","[color=red][b]Tréguier[/b][/color]","Comté du Languedoc","PR:","Ecus: ","Niv: ",null,null,null,null,0,{"$f":"VLOOKUP(BC281,LstVillage!$B$8:$C$283,1)","v":{"$error":"#N/A"}},{"$f":"1","v":1},"blue","Tréguier",{"$f":"VLOOKUP(BG281,Datas!$G$6:$G$17,1)","v":"Nîmes"},0,"red",null,"Comté du Languedoc",0,0,null,{"$f":"VLOOKUP(BC281,Liste_Noire!$B$15:$G$1208,1)","v":{"$error":"#N/A"}},{"$f":"VLOOKUP(BC281,Liste_Noire!$B$15:$G$1208,5)","v":{"$error":"#N/A"}},{"$error":"#N/A"},null,0,0,0,0,0,0,0]
[null,""," ","","","","",null,null,null,null,null,null,null,null,null,null,null,null," ",null,"",0,0,0,0,0,0,0,0,0,0,null,0,null,{"$f":"IF(AK282=\"\",\"\",IF(BR282=1,\"[b][color=red]\"&Datas!$D$32&\"[/color][/b]\"&AK282&\"[b][color=red]\"&Datas!$D$33&\"{\"&BQ282&\"}[/color][/b]\",AK282))","v":""},""," ",{"$f":"IF(ISBLANK(Datas!$C$41),\"\",\" - \"&AT282)","v":" - [color=red][b]Tréguier[/b][/color]"},{"$f":"IF(ISBLANK(Datas!$C$42),\"\",\" - \"&AU282)","v":""},{"$f":"IF(ISBLANK(Datas!$C$43),\"\",\" - \"&AV282)","v":" - PR:"},{"$f":"IF(ISBLANK(Datas!$C$44),\"\",\" - \"&AW282)","v":" - Ecus: "},{"$f":"IF(ISBLANK(Datas!$C$45),\"\",\" - \"&AX282)","v":" - Niv: "}," ","[b][color=blue]0[/color][/b]","[color=red][b]Tréguier[/b][/color]","Comté du Languedoc","PR:","Ecus: ","Niv: ",null,null,null,null,0,{"$f":"VLOOKUP(BC282,LstVillage!$B$8:$C$283,1)","v":{"$error":"#N/A"}},{"$f":"1","v":1},"blue","Tréguier",{"$f":"VLOOKUP(BG282,Datas!$G$6:$G$17,1)","v":"Nîmes"},0,"red",null,"Comté du Languedoc",0,0,null,{"$f":"VLOOKUP(BC282,Liste_Noire!$B$15:$G$1208,1)","v":{"$error":"#N/A"}},{"$f":"VLOOKUP(BC282,Liste_Noire!$B$15:$G$1208,5)","v":{"$error":"#N/A"}},{"$error":"#N/A"},null,0,0,0,0,0,0,0]
[null,""," ","","","","",null,null,null,null,null,null,null,null,null,null,null,null," ",null,"",0,0,0,0,0,0,0,0,0,0,null,0,null,{"$f":"IF(AK283=\"\",\"\",IF(BR283=1,\"[b][color=red]\"&Datas!$D$32&\"[/color][/b]\"&AK283&\"[b][color=red]\"&Datas!$D$33&\"{\"&BQ283&\"}[/color][/b]\",AK283))","v":""},""," ",{"$f":"IF(ISBLANK(Datas!$C$41),\"\",\" - \"&AT283)","v":" - [color=red][b]Tréguier[/b][/color]"},{"$f":"IF(ISBLANK(Datas!$C$42),\"\",\" - \"&AU283)","v":""},{"$f":"IF(ISBLANK(Datas!$C$43),\"\",\" - \"&AV283)","v":" - PR:"},{"$f":"IF(ISBLANK(Datas!$C$44),\"\",\" - \"&AW283)","v":" - Ecus: "},{"$f":"IF(ISBLANK(Datas!$C$45),\"\",\" - \"&AX283)","v":" - Niv: "}," ","[b][color=blue]0[/color][/b]","[color=red][b]Tréguier[/b][/color]","Comté du Languedoc","PR:","Ecus: ","Niv: ",null,null,null,null,0,{"$f":"VLOOKUP(BC283,LstVillage!$B$8:$C$283,1)","v":{"$error":"#N/A"}},{"$f":"1","v":1},"blue","Tréguier",{"$f":"VLOOKUP(BG283,Datas!$G$6:$G$17,1)","v":"Nîmes"},0,"red",null,"Comté du Languedoc",0,0,null,{"$f":"VLOOKUP(BC283,Liste_Noire!$B$15:$G$1208,1)","v":{"$error":"#N/A"}},{"$f":"VLOOKUP(BC283,Liste_Noire!$B$15:$G$1208,5)","v":{"$error":"#N/A"}},{"$error":"#N/A"},null,0,0,0,0,0,0,0]
[null,""," ","","","","",null,null,null,null,null,null,null,null,null,null,null,null," ",null,"",0,0,0,0,0,0,0,0,0,0,null,0,null,{"$f":"IF(AK284=\"\",\"\",IF(BR284=1,\"[b][color=red]\"&Datas!$D$32&\"[/color][/b]\"&AK284&\"[b][color=red]\"&Datas!$D$33&\"{\"&BQ284&\"}[/color][/b]\",AK284))","v":""},""," ",{"$f":"IF(ISBLANK(Datas!$C$41),\"\",\" - \"&AT284)","v":" - [color=red][b]Tréguier[/b][/color]"},{"$f":"IF(ISBLANK(Datas!$C$42),\"\",\" - \"&AU284)","v":""},{"$f":"IF(ISBLANK(Datas!$C$43),\"\",\" - \"&AV284)","v":" - PR:"},{"$f":"IF(ISBLANK(Datas!$C$44),\"\",\" - \"&AW284)","v":" - Ecus: "},{"$f":"IF(ISBLANK(Datas!$C$45),\"\",\" - \"&AX284)","v":" - Niv: "}," ","[b][color=blue]0[/color][/b]","[color=red][b]Tréguier[/b][/color]","Comté du Languedoc","PR:","Ecus: ","Niv: ",null,null,null,null,0,{"$f":"VLOOKUP(BC284,LstVillage!$B$8:$C$283,1)","v":{"$error":"#N/A"}},{"$f":"1","v":1},"blue","Tréguier",{"$f":"VLOOKUP(BG284,Datas!$G$6:$G$17,1)","v":"Nîmes"},0,"red",null,"Comté du Languedoc",0,0,null,{"$f":"VLOOKUP(BC284,Liste_Noire!$B$15:$G$1208,1)","v":{"$error":"#N/A"}},{"$f":"VLOOKUP(BC284,Liste_Noire!$B$15:$G$1208,5)","v":{"$error":"#N/A"}},{"$error":"#N/A"},null,0,0,0,0,0,0,0]
[null,""," ","","","","",null,null,null,null,null,null,null,null,null,null,null,null," ",null,"",0,0,0,0,0,0,0,0,0,0,null,0,null,{"$f":"IF(AK285=\"\",\"\",IF(BR285=1,\"[b][color=red]\"&Datas!$D$32&\"[/color][/b]\"&AK285&\"[b][color=red]\"&Datas!$D$33&\"{\"&BQ285&\"}[/color][/b]\",AK285))","v":""},""," ",{"$f":"IF(ISBLANK(Datas!$C$41),\"\",\" - \"&AT285)","v":" - [color=red][b]Tréguier[/b][/color]"},{"$f":"IF(ISBLANK(Datas!$C$42),\"\",\" - \"&AU285)","v":""},{"$f":"IF(ISBLANK(Datas!$C$43),\"\",\" - \"&AV285)","v":" - PR:"},{"$f":"IF(ISBLANK(Datas!$C$44),\"\",\" - \"&AW285)","v":" - Ecus: "},{"$f":"IF(ISBLANK(Datas!$C$45),\"\",\" - \"&AX285)","v":" - Niv: "}," ","[b][color=blue]0[/color][/b]","[color=red][b]Tréguier[/b][/color]","Comté du Languedoc","PR:","Ecus: ","Niv: ",null,null,null,null,0,{"$f":"VLOOKUP(BC285,LstVillage!$B$8:$C$283,1)","v":{"$error":"#N/A"}},{"$f":"1","v":1},"blue","Tréguier",{"$f":"VLOOKUP(BG285,Datas!$G$6:$G$17,1)","v":"Nîmes"},0,"red",null,"Comté du Languedoc",0,0,null,{"$f":"VLOOKUP(BC285,Liste_Noire!$B$15:$G$1208,1)","v":{"$error":"#N/A"}},{"$f":"VLOOKUP(BC285,Liste_Noire!$B$15:$G$1208,5)","v":{"$error":"#N/A"}},{"$error":"#N/A"},null,0,0,0,0,0,0,0]
[null,""," ","","","","",null,null,null,null,null,null,null,null,null,null,null,null," ",null,"",0,0,0,0,0,0,0,0,0,0,null,0,null,{"$f":"IF(AK286=\"\",\"\",IF(BR286=1,\"[b][color=red]\"&Datas!$D$32&\"[/color][/b]\"&AK286&\"[b][color=red]\"&Datas!$D$33&\"{\"&BQ286&\"}[/color][/b]\",AK286))","v":""},""," ",{"$f":"IF(ISBLANK(Datas!$C$41),\"\",\" - \"&AT286)","v":" - [color=red][b]Tréguier[/b][/color]"},{"$f":"IF(ISBLANK(Datas!$C$42),\"\",\" - \"&AU286)","v":""},{"$f":"IF(ISBLANK(Datas!$C$43),\"\",\" - \"&AV286)","v":" - PR:"},{"$f":"IF(ISBLANK(Datas!$C$44),\"\",\" - \"&AW286)","v":" - Ecus: "},{"$f":"IF(ISBLANK(Datas!$C$45),\"\",\" - \"&AX286)","v":" - Niv: "}," ","[b][color=blue]0[/color][/b]","[color=red][b]Tréguier[/b][/color]","Comté du Languedoc","PR:","Ecus: ","Niv: ",null,null,null,null,0,{"$f":"VLOOKUP(BC286,LstVillage!$B$8:$C$283,1)","v":{"$error":"#N/A"}},{"$f":"1","v":1},"blue","Tréguier",{"$f":"VLOOKUP(BG286,Datas!$G$6:$G$17,1)","v":"Nîmes"},0,"red",null,"Comté du Languedoc",0,0,null,{"$f":"VLOOKUP(BC286,Liste_Noire!$B$15:$G$1208,1)","v":{"$error":"#N/A"}},{"$f":"VLOOKUP(BC286,Liste_Noire!$B$15:$G$1208,5)","v":{"$error":"#N/A"}},{"$error":"#N/A"},null,0,0,0,0,0,0,0]
[null,""," ","","","","",null,null,null,null,null,null,null,null,null,null,null,null," ",null,"",0,0,0,0,0,0,0,0,0,0,null,0,null,{"$f":"IF(AK287=\"\",\"\",IF(BR287=1,\"[b][color=red]\"&Datas!$D$32&\"[/color][/b]\"&AK287&\"[b][color=red]\"&Datas!$D$33&\"{\"&BQ287&\"}[/color][/b]\",AK287))","v":""},""," ",{"$f":"IF(ISBLANK(Datas!$C$41),\"\",\" - \"&AT287)","v":" - [color=red][b]Tréguier[/b][/color]"},{"$f":"IF(ISBLANK(Datas!$C$42),\"\",\" - \"&AU287)","v":""},{"$f":"IF(ISBLANK(Datas!$C$43),\"\",\" - \"&AV287)","v":" - PR:"},{"$f":"IF(ISBLANK(Datas!$C$44),\"\",\" - \"&AW287)","v":" - Ecus: "},{"$f":"IF(ISBLANK(Datas!$C$45),\"\",\" - \"&AX287)","v":" - Niv: "}," ","[b][color=blue]0[/color][/b]","[color=red][b]Tréguier[/b][/color]","Comté du Languedoc","PR:","Ecus: ","Niv: ",null,null,null,null,0,{"$f":"VLOOKUP(BC287,LstVillage!$B$8:$C$283,1)","v":{"$error":"#N/A"}},{"$f":"1","v":1},"blue","Tréguier",{"$f":"VLOOKUP(BG287,Datas!$G$6:$G$17,1)","v":"Nîmes"},0,"red",null,"Comté du Languedoc",0,0,null,{"$f":"VLOOKUP(BC287,Liste_Noire!$B$15:$G$1208,1)","v":{"$error":"#N/A"}},{"$f":"VLOOKUP(BC287,Liste_Noire!$B$15:$G$1208,5)","v":{"$error":"#N/A"}},{"$error":"#N/A"},null,0,0,0,0,0,0,0]
[null,""," ","","","","",null,null,null,null,null,null,null,null,null,null,null,null," ",null,"",0,0,0,0,0,0,0,0,0,0,null,0,null,{"$f":"IF(AK288=\"\",\"\",IF(BR288=1,\"[b][color=red]\"&Datas!$D$32&\"[/color][/b]\"&AK288&\"[b][color=red]\"&Datas!$D$33&\"{\"&BQ288&\"}[/color][/b]\",AK288))","v":""},""," ",{"$f":"IF(ISBLANK(Datas!$C$41),\"\",\" - \"&AT288)","v":" - [color=red][b]Tréguier[/b][/color]"},{"$f":"IF(ISBLANK(Datas!$C$42),\"\",\" - \"&AU288)","v":""},{"$f":"IF(ISBLANK(Datas!$C$43),\"\",\" - \"&AV288)","v":" - PR:"},{"$f":"IF(ISBLANK(Datas!$C$44),\"\",\" - \"&AW288)","v":" - Ecus: "},{"$f":"IF(ISBLANK(Datas!$C$45),\"\",\" - \"&AX288)","v":" - Niv: "}," ","[b][color=blue]0[/color][/b]","[color=red][b]Tréguier[/b][/color]","Comté du Languedoc","PR:","Ecus: ","Niv: ",null,null,null,null,0,{"$f":"VLOOKUP(BC288,LstVillage!$B$8:$C$283,1)","v":{"$error":"#N/A"}},{"$f":"1","v":1},"blue","Tréguier",{"$f":"VLOOKUP(BG288,Datas!$G$6:$G$17,1)","v":"Nîmes"},0,"red",null,"Comté du Languedoc",0,0,null,{"$f":"VLOOKUP(BC288,Liste_Noire!$B$15:$G$1208,1)","v":{"$error":"#N/A"}},{"$f":"VLOOKUP(BC288,Liste_Noire!$B$15:$G$1208,5)","v":{"$error":"#N/A"}},{"$error":"#N/A"},null,0,0,0,0,0,0,0]
[null,""," ","","","","",null,null,null,null,null,null,null,null,null,null,null,null," ",null,"",0,0,0,0,0,0,0,0,0,0,null,0,null,{"$f":"IF(AK289=\"\",\"\",IF(BR289=1,\"[b][color=red]\"&Datas!$D$32&\"[/color][/b]\"&AK289&\"[b][color=red]\"&Datas!$D$33&\"{\"&BQ289&\"}[/color][/b]\",AK289))","v":""},""," ",{"$f":"IF(ISBLANK(Datas!$C$41),\"\",\" - \"&AT289)","v":" - [color=red][b]Tréguier[/b][/color]"},{"$f":"IF(ISBLANK(Datas!$C$42),\"\",\" - \"&AU289)","v":""},{"$f":"IF(ISBLANK(Datas!$C$43),\"\",\" - \"&AV289)","v":" - PR:"},{"$f":"IF(ISBLANK(Datas!$C$44),\"\",\" - \"&AW289)","v":" - Ecus: "},{"$f":"IF(ISBLANK(Datas!$C$45),\"\",\" - \"&AX289)","v":" - Niv: "}," ","[b][color=blue]0[/color][/b]","[color=red][b]Tréguier[/b][/color]","Comté du Languedoc","PR:","Ecus: ","Niv: ",null,null,null,null,0,{"$f":"VLOOKUP(BC289,LstVillage!$B$8:$C$283,1)","v":{"$error":"#N/A"}},{"$f":"1","v":1},"blue","Tréguier",{"$f":"VLOOKUP(BG289,Datas!$G$6:$G$17,1)","v":"Nîmes"},0,"red",null,"Comté du Languedoc",0,0,null,{"$f":"VLOOKUP(BC289,Liste_Noire!$B$15:$G$1208,1)","v":{"$error":"#N/A"}},{"$f":"VLOOKUP(BC289,Liste_Noire!$B$15:$G$1208,5)","v":{"$error":"#N/A"}},{"$error":"#N/A"},null,0,0,0,0,0,0,0]
[null,""," ","","","","",null,null,null,null,null,null,null,null,null,null,null,null," ",null,"",0,0,0,0,0,0,0,0,0,0,null,0,null,{"$f":"IF(AK290=\"\",\"\",IF(BR290=1,\"[b][color=red]\"&Datas!$D$32&\"[/color][/b]\"&AK290&\"[b][color=red]\"&Datas!$D$33&\"{\"&BQ290&\"}[/color][/b]\",AK290))","v":""},""," ",{"$f":"IF(ISBLANK(Datas!$C$41),\"\",\" - \"&AT290)","v":" - [color=red][b]Tréguier[/b][/color]"},{"$f":"IF(ISBLANK(Datas!$C$42),\"\",\" - \"&AU290)","v":""},{"$f":"IF(ISBLANK(Datas!$C$43),\"\",\" - \"&AV290)","v":" - PR:"},{"$f":"IF(ISBLANK(Datas!$C$44),\"\",\" - \"&AW290)","v":" - Ecus: "},{"$f":"IF(ISBLANK(Datas!$C$45),\"\",\" - \"&AX290)","v":" - Niv: "}," ","[b][color=blue]0[/color][/b]","[color=red][b]Tréguier[/b][/color]","Comté du Languedoc","PR:","Ecus: ","Niv: ",null,null,null,null,0,{"$f":"VLOOKUP(BC290,LstVillage!$B$8:$C$283,1)","v":{"$error":"#N/A"}},{"$f":"1","v":1},"blue","Tréguier",{"$f":"VLOOKUP(BG290,Datas!$G$6:$G$17,1)","v":"Nîmes"},0,"red",null,"Comté du Languedoc",0,0,null,{"$f":"VLOOKUP(BC290,Liste_Noire!$B$15:$G$1208,1)","v":{"$error":"#N/A"}},{"$f":"VLOOKUP(BC290,Liste_Noire!$B$15:$G$1208,5)","v":{"$error":"#N/A"}},{"$error":"#N/A"},null,0,0,0,0,0,0,0]
[null,""," ","","","","",null,null,null,null,null,null,null,null,null,null,null,null," ",null,"",0,0,0,0,0,0,0,0,0,0,null,0,null,{"$f":"IF(AK291=\"\",\"\",IF(BR291=1,\"[b][color=red]\"&Datas!$D$32&\"[/color][/b]\"&AK291&\"[b][color=red]\"&Datas!$D$33&\"{\"&BQ291&\"}[/color][/b]\",AK291))","v":""},""," ",{"$f":"IF(ISBLANK(Datas!$C$41),\"\",\" - \"&AT291)","v":" - [color=red][b]Tréguier[/b][/color]"},{"$f":"IF(ISBLANK(Datas!$C$42),\"\",\" - \"&AU291)","v":""},{"$f":"IF(ISBLANK(Datas!$C$43),\"\",\" - \"&AV291)","v":" - PR:"},{"$f":"IF(ISBLANK(Datas!$C$44),\"\",\" - \"&AW291)","v":" - Ecus: "},{"$f":"IF(ISBLANK(Datas!$C$45),\"\",\" - \"&AX291)","v":" - Niv: "}," ","[b][color=blue]0[/color][/b]","[color=red][b]Tréguier[/b][/color]","Comté du Languedoc","PR:","Ecus: ","Niv: ",null,null,null,null,0,{"$f":"VLOOKUP(BC291,LstVillage!$B$8:$C$283,1)","v":{"$error":"#N/A"}},{"$f":"1","v":1},"blue","Tréguier",{"$f":"VLOOKUP(BG291,Datas!$G$6:$G$17,1)","v":"Nîmes"},0,"red",null,"Comté du Languedoc",0,0,null,{"$f":"VLOOKUP(BC291,Liste_Noire!$B$15:$G$1208,1)","v":{"$error":"#N/A"}},{"$f":"VLOOKUP(BC291,Liste_Noire!$B$15:$G$1208,5)","v":{"$error":"#N/A"}},{"$error":"#N/A"},null,0,0,0,0,0,0,0]
[null,""," ","","","","",null,null,null,null,null,null,null,null,null,null,null,null," ",null,"",0,0,0,0,0,0,0,0,0,0,null,0,null,{"$f":"IF(AK292=\"\",\"\",IF(BR292=1,\"[b][color=red]\"&Datas!$D$32&\"[/color][/b]\"&AK292&\"[b][color=red]\"&Datas!$D$33&\"{\"&BQ292&\"}[/color][/b]\",AK292))","v":""},""," ",{"$f":"IF(ISBLANK(Datas!$C$41),\"\",\" - \"&AT292)","v":" - [color=red][b]Tréguier[/b][/color]"},{"$f":"IF(ISBLANK(Datas!$C$42),\"\",\" - \"&AU292)","v":""},{"$f":"IF(ISBLANK(Datas!$C$43),\"\",\" - \"&AV292)","v":" - PR:"},{"$f":"IF(ISBLANK(Datas!$C$44),\"\",\" - \"&AW292)","v":" - Ecus: "},{"$f":"IF(ISBLANK(Datas!$C$45),\"\",\" - \"&AX292)","v":" - Niv: "}," ","[b][color=blue]0[/color][/b]","[color=red][b]Tréguier[/b][/color]","Comté du Languedoc","PR:","Ecus: ","Niv: ",null,null,null,null,0,{"$f":"VLOOKUP(BC292,LstVillage!$B$8:$C$283,1)","v":{"$error":"#N/A"}},{"$f":"1","v":1},"blue","Tréguier",{"$f":"VLOOKUP(BG292,Datas!$G$6:$G$17,1)","v":"Nîmes"},0,"red",null,"Comté du Languedoc",0,0,null,{"$f":"VLOOKUP(BC292,Liste_Noire!$B$15:$G$1208,1)","v":{"$error":"#N/A"}},{"$f":"VLOOKUP(BC292,Liste_Noire!$B$15:$G$1208,5)","v":{"$error":"#N/A"}},{"$error":"#N/A"},null,0,0,0,0,0,0,0]
[null,""," ","","","","",null,null,null,null,null,null,null,null,null,null,null,null," ",null,"",0,0,0,0,0,0,0,0,0,0,null,0,null,{"$f":"IF(AK293=\"\",\"\",IF(BR293=1,\"[b][color=red]\"&Datas!$D$32&\"[/color][/b]\"&AK293&\"[b][color=red]\"&Datas!$D$33&\"{\"&BQ293&\"}[/color][/b]\",AK293))","v":""},""," ",{"$f":"IF(ISBLANK(Datas!$C$41),\"\",\" - \"&AT293)","v":" - [color=red][b]Tréguier[/b][/color]"},{"$f":"IF(ISBLANK(Datas!$C$42),\"\",\" - \"&AU293)","v":""},{"$f":"IF(ISBLANK(Datas!$C$43),\"\",\" - \"&AV293)","v":" - PR:"},{"$f":"IF(ISBLANK(Datas!$C$44),\"\",\" - \"&AW293)","v":" - Ecus: "},{"$f":"IF(ISBLANK(Datas!$C$45),\"\",\" - \"&AX293)","v":" - Niv: "}," ","[b][color=blue]0[/color][/b]","[color=red][b]Tréguier[/b][/color]","Comté du Languedoc","PR:","Ecus: ","Niv: ",null,null,null,null,0,{"$f":"VLOOKUP(BC293,LstVillage!$B$8:$C$283,1)","v":{"$error":"#N/A"}},{"$f":"1","v":1},"blue","Tréguier",{"$f":"VLOOKUP(BG293,Datas!$G$6:$G$17,1)","v":"Nîmes"},0,"red",null,"Comté du Languedoc",0,0,null,{"$f":"VLOOKUP(BC293,Liste_Noire!$B$15:$G$1208,1)","v":{"$error":"#N/A"}},{"$f":"VLOOKUP(BC293,Liste_Noire!$B$15:$G$1208,5)","v":{"$error":"#N/A"}},{"$error":"#N/A"},null,0,0,0,0,0,0,0]
[null,""," ","","","","",null,null,null,null,null,null,null,null,null,null,null,null," ",null,"",0,0,0,0,0,0,0,0,0,0,null,0,null,{"$f":"IF(AK294=\"\",\"\",IF(BR294=1,\"[b][color=red]\"&Datas!$D$32&\"[/color][/b]\"&AK294&\"[b][color=red]\"&Datas!$D$33&\"{\"&BQ294&\"}[/color][/b]\",AK294))","v":""},""," ",{"$f":"IF(ISBLANK(Datas!$C$41),\"\",\" - \"&AT294)","v":" - [color=red][b]Tréguier[/b][/color]"},{"$f":"IF(ISBLANK(Datas!$C$42),\"\",\" - \"&AU294)","v":""},{"$f":"IF(ISBLANK(Datas!$C$43),\"\",\" - \"&AV294)","v":" - PR:"},{"$f":"IF(ISBLANK(Datas!$C$44),\"\",\" - \"&AW294)","v":" - Ecus: "},{"$f":"IF(ISBLANK(Datas!$C$45),\"\",\" - \"&AX294)","v":" - Niv: "}," ","[b][color=blue]0[/color][/b]","[color=red][b]Tréguier[/b][/color]","Comté du Languedoc","PR:","Ecus: ","Niv: ",null,null,null,null,0,{"$f":"VLOOKUP(BC294,LstVillage!$B$8:$C$283,1)","v":{"$error":"#N/A"}},{"$f":"1","v":1},"blue","Tréguier",{"$f":"VLOOKUP(BG294,Datas!$G$6:$G$17,1)","v":"Nîmes"},0,"red",null,"Comté du Languedoc",0,0,null,{"$f":"VLOOKUP(BC294,Liste_Noire!$B$15:$G$1208,1)","v":{"$error":"#N/A"}},{"$f":"VLOOKUP(BC294,Liste_Noire!$B$15:$G$1208,5)","v":{"$error":"#N/A"}},{"$error":"#N/A"},null,0,0,0,0,0,0,0]
[null,""," ","","","","",null,null,null,null,null,null,null,null,null,null,null,null," ",null,"",0,0,0,0,0,0,0,0,0,0,null,0,null,{"$f":"IF(AK295=\"\",\"\",IF(BR295=1,\"[b][color=red]\"&Datas!$D$32&\"[/color][/b]\"&AK295&\"[b][color=red]\"&Datas!$D$33&\"{\"&BQ295&\"}[/color][/b]\",AK295))","v":""},""," ",{"$f":"IF(ISBLANK(Datas!$C$41),\"\",\" - \"&AT295)","v":" - [color=red][b]Tréguier[/b][/color]"},{"$f":"IF(ISBLANK(Datas!$C$42),\"\",\" - \"&AU295)","v":""},{"$f":"IF(ISBLANK(Datas!$C$43),\"\",\" - \"&AV295)","v":" - PR:"},{"$f":"IF(ISBLANK(Datas!$C$44),\"\",\" - \"&AW295)","v":" - Ecus: "},{"$f":"IF(ISBLANK(Datas!$C$45),\"\",\" - \"&AX295)","v":" - Niv: "}," ","[b][color=blue]0[/color][/b]","[color=red][b]Tréguier[/b][/color]","Comté du Languedoc","PR:","Ecus: ","Niv: ",null,null,null,null,0,{"$f":"VLOOKUP(BC295,LstVillage!$B$8:$C$283,1)","v":{"$error":"#N/A"}},{"$f":"1","v":1},"blue","Tréguier",{"$f":"VLOOKUP(BG295,Datas!$G$6:$G$17,1)","v":"Nîmes"},0,"red",null,"Comté du Languedoc",0,0,null,{"$f":"VLOOKUP(BC295,Liste_Noire!$B$15:$G$1208,1)","v":{"$error":"#N/A"}},{"$f":"VLOOKUP(BC295,Liste_Noire!$B$15:$G$1208,5)","v":{"$error":"#N/A"}},{"$error":"#N/A"},null,0,0,0,0,0,0,0]
[null,""," ","","","","",null,null,null,null,null,null,null,null,null,null,null,null," ",null,"",0,0,0,0,0,0,0,0,0,0,null,0,null,{"$f":"IF(AK296=\"\",\"\",IF(BR296=1,\"[b][color=red]\"&Datas!$D$32&\"[/color][/b]\"&AK296&\"[b][color=red]\"&Datas!$D$33&\"{\"&BQ296&\"}[/color][/b]\",AK296))","v":""},""," ",{"$f":"IF(ISBLANK(Datas!$C$41),\"\",\" - \"&AT296)","v":" - [color=red][b]Tréguier[/b][/color]"},{"$f":"IF(ISBLANK(Datas!$C$42),\"\",\" - \"&AU296)","v":""},{"$f":"IF(ISBLANK(Datas!$C$43),\"\",\" - \"&AV296)","v":" - PR:"},{"$f":"IF(ISBLANK(Datas!$C$44),\"\",\" - \"&AW296)","v":" - Ecus: "},{"$f":"IF(ISBLANK(Datas!$C$45),\"\",\" - \"&AX296)","v":" - Niv: "}," ","[b][color=blue]0[/color][/b]","[color=red][b]Tréguier[/b][/color]","Comté du Languedoc","PR:","Ecus: ","Niv: ",null,null,null,null,0,{"$f":"VLOOKUP(BC296,LstVillage!$B$8:$C$283,1)","v":{"$error":"#N/A"}},{"$f":"1","v":1},"blue","Tréguier",{"$f":"VLOOKUP(BG296,Datas!$G$6:$G$17,1)","v":"Nîmes"},0,"red",null,"Comté du Languedoc",0,0,null,{"$f":"VLOOKUP(BC296,Liste_Noire!$B$15:$G$1208,1)","v":{"$error":"#N/A"}},{"$f":"VLOOKUP(BC296,Liste_Noire!$B$15:$G$1208,5)","v":{"$error":"#N/A"}},{"$error":"#N/A"},null,0,0,0,0,0,0,0]
[null,""," ","","","","",null,null,null,null,null,null,null,null,null,null,null,null," ",null,"",0,0,0,0,0,0,0,0,0,0,null,0,null,{"$f":"IF(AK297=\"\",\"\",IF(BR297=1,\"[b][color=red]\"&Datas!$D$32&\"[/color][/b]\"&AK297&\"[b][color=red]\"&Datas!$D$33&\"{\"&BQ297&\"}[/color][/b]\",AK297))","v":""},""," ",{"$f":"IF(ISBLANK(Datas!$C$41),\"\",\" - \"&AT297)","v":" - [color=red][b]Tréguier[/b][/color]"},{"$f":"IF(ISBLANK(Datas!$C$42),\"\",\" - \"&AU297)","v":""},{"$f":"IF(ISBLANK(Datas!$C$43),\"\",\" - \"&AV297)","v":" - PR:"},{"$f":"IF(ISBLANK(Datas!$C$44),\"\",\" - \"&AW297)","v":" - Ecus: "},{"$f":"IF(ISBLANK(Datas!$C$45),\"\",\" - \"&AX297)","v":" - Niv: "}," ","[b][color=blue]0[/color][/b]","[color=red][b]Tréguier[/b][/color]","Comté du Languedoc","PR:","Ecus: ","Niv: ",null,null,null,null,0,{"$f":"VLOOKUP(BC297,LstVillage!$B$8:$C$283,1)","v":{"$error":"#N/A"}},{"$f":"1","v":1},"blue","Tréguier",{"$f":"VLOOKUP(BG297,Datas!$G$6:$G$17,1)","v":"Nîmes"},0,"red",null,"Comté du Languedoc",0,0,null,{"$f":"VLOOKUP(BC297,Liste_Noire!$B$15:$G$1208,1)","v":{"$error":"#N/A"}},{"$f":"VLOOKUP(BC297,Liste_Noire!$B$15:$G$1208,5)","v":{"$error":"#N/A"}},{"$error":"#N/A"},null,0,0,0,0,0,0,0]
[null,""," ","","","","",null,null,null,null,null,null,null,null,null,null,null,null," ",null,"",0,0,0,0,0,0,0,0,0,0,null,0,null,{"$f":"IF(AK298=\"\",\"\",IF(BR298=1,\"[b][color=red]\"&Datas!$D$32&\"[/color][/b]\"&AK298&\"[b][color=red]\"&Datas!$D$33&\"{\"&BQ298&\"}[/color][/b]\",AK298))","v":""},""," ",{"$f":"IF(ISBLANK(Datas!$C$41),\"\",\" - \"&AT298)","v":" - [color=red][b]Tréguier[/b][/color]"},{"$f":"IF(ISBLANK(Datas!$C$42),\"\",\" - \"&AU298)","v":""},{"$f":"IF(ISBLANK(Datas!$C$43),\"\",\" - \"&AV298)","v":" - PR:"},{"$f":"IF(ISBLANK(Datas!$C$44),\"\",\" - \"&AW298)","v":" - Ecus: "},{"$f":"IF(ISBLANK(Datas!$C$45),\"\",\" - \"&AX298)","v":" - Niv: "}," ","[b][color=blue]0[/color][/b]","[color=red][b]Tréguier[/b][/color]","Comté du Languedoc","PR:","Ecus: ","Niv: ",null,null,null,null,0,{"$f":"VLOOKUP(BC298,LstVillage!$B$8:$C$283,1)","v":{"$error":"#N/A"}},{"$f":"1","v":1},"blue","Tréguier",{"$f":"VLOOKUP(BG298,Datas!$G$6:$G$17,1)","v":"Nîmes"},0,"red",null,"Comté du Languedoc",0,0,null,{"$f":"VLOOKUP(BC298,Liste_Noire!$B$15:$G$1208,1)","v":{"$error":"#N/A"}},{"$f":"VLOOKUP(BC298,Liste_Noire!$B$15:$G$1208,5)","v":{"$error":"#N/A"}},{"$error":"#N/A"},null,0,0,0,0,0,0,0]
[null,""," ","","","","",null,null,null,null,null,null,null,null,null,null,null,null," ",null,"",0,0,0,0,0,0,0,0,0,0,null,0,null,{"$f":"IF(AK299=\"\",\"\",IF(BR299=1,\"[b][color=red]\"&Datas!$D$32&\"[/color][/b]\"&AK299&\"[b][color=red]\"&Datas!$D$33&\"{\"&BQ299&\"}[/color][/b]\",AK299))","v":""},""," ",{"$f":"IF(ISBLANK(Datas!$C$41),\"\",\" - \"&AT299)","v":" - [color=red][b]Tréguier[/b][/color]"},{"$f":"IF(ISBLANK(Datas!$C$42),\"\",\" - \"&AU299)","v":""},{"$f":"IF(ISBLANK(Datas!$C$43),\"\",\" - \"&AV299)","v":" - PR:"},{"$f":"IF(ISBLANK(Datas!$C$44),\"\",\" - \"&AW299)","v":" - Ecus: "},{"$f":"IF(ISBLANK(Datas!$C$45),\"\",\" - \"&AX299)","v":" - Niv: "}," ","[b][color=blue]0[/color][/b]","[color=red][b]Tréguier[/b][/color]","Comté du Languedoc","PR:","Ecus: ","Niv: ",null,null,null,null,0,{"$f":"VLOOKUP(BC299,LstVillage!$B$8:$C$283,1)","v":{"$error":"#N/A"}},{"$f":"1","v":1},"blue","Tréguier",{"$f":"VLOOKUP(BG299,Datas!$G$6:$G$17,1)","v":"Nîmes"},0,"red",null,"Comté du Languedoc",0,0,null,{"$f":"VLOOKUP(BC299,Liste_Noire!$B$15:$G$1208,1)","v":{"$error":"#N/A"}},{"$f":"VLOOKUP(BC299,Liste_Noire!$B$15:$G$1208,5)","v":{"$error":"#N/A"}},{"$error":"#N/A"},null,0,0,0,0,0,0,0]
[null,null,null,null,null,null,null,null,null,null,null,null,null,null,null,null,null,null,null,null,null,null,null,null,null,null,null,null,null,null,null,null,null,null,null,null,null,null,null,null,null,null,null,null,null,null,null,null,null,null,null,null,null,null,null,null,null,null,null,null,null,null,null,null,null,null,null,null,null,null,null,null,null,null,null,null,{"$f":"IF(ISBLANK(I300),0,1)","v":0}]
[null,null,null,null,null,null,null,null,null,null,null,null,null,null,null,null,null,null,null,null,null,null,null,null,null,null,null,null,null,null,null,null,null,null,null,null,null,null,null,null,null,null,null,null,null,null,null,null,null,null,null,null,null,null,null,null,null,null,null,null,null,null,null,null,null,null,null,null,null,null,null,null,null,null,null,null,{"$f":"IF(ISBLANK(I301),0,1)","v":0}]
[null,null,null,null,null,null,null,null,null,null,null,null,null,null,null,null,null,null,null,null,null,null,null,null,null,null,null,null,null,null,null,null,null,null,null,null,null,null,null,null,null,null,null,null,null,null,null,null,null,null,null,null,null,null,null,null,null,null,null,null,null,null,null,null,null,null,null,null,null,null,null,null,null,null,null,null,{"$f":"IF(ISBLANK(I302),0,1)","v":0}]

{"sheet":"Feux_Alarme","index":5,"n_rows":299,"n_cols":91,"rows_kept":299,"cut":false,"hidden":false,"merged":[[0,1,0,8],[1,12,1,13],[1,14,1,16],[3,1,3,8],[3,14,3,15],[9,34,9,35],[9,28,9,29],[9,32,9,33],[10,51,10,55],[9,38,9,39],[9,40,9,41],[9,42,9,43],[10,38,10,39],[9,36,9,37],[9,30,9,31],[10,5,11,5],[10,6,11,6],[10,28,10,29],[10,32,10,33],[10,1,11,1],[10,3,11,3],[10,4,11,4],[10,7,11,7],[8,14,8,15],[1,17,1,18],[2,14,2,15],[2,17,2,18],[6,1,6,7],[6,14,6,15],[4,14,4,15],[5,14,5,15]]}
[null,"Aide aux Royaumes Renaissants",null,null,null,null,null,null,null,{"$f":"\"FEUX D'ALARME de \"&$B$7","v":"FEUX D'ALARME de Tréguier"}," ",null,null,null,null,null,null,null,null,null,null,null,null,null,null,null,null,null,null,null,null,null,null,null,null,null,null,null,null,null,null,null,null," "]
[null,null,null,null,null,null,null,null,null,{"$f":"\"Le \"&DAY(Menu!$D$9)&\" \"&VLOOKUP(MONTH(Menu!$D$9),Datas!$R$9:$T$20,Datas!$R$5)&\" \"&YEAR(Menu!$D$9)-552","v":"Le 2 Juin 1465"}," ",null,"FEUX ALARME",null,"GLOBAL ETR",null,null,"PART DU",null,null,null,null,null,null,null,null,null,null,null,null,null,null,null,null,null,null,null,null,null,null,null,null,null," ",null,null,null,null,null,null,null,null,null,null,null,null,null,"de la ville","blue","Ville","Du duché","green","Niveau","Niv.1","brown"]
[null,{"$f":"\"v\"&Datas!D38","v":"v4.32"},null,null,null,null,null,null,"UnderWorld   ",null," ",null,"Total",{"$f":"Datas!$D$35","v":"Indésirables"},"Total",null,{"$f":"Datas!$D$35","v":"Indésirables"},"FEUX D'ALARME",null,null,null,null,null,null,null,null,null,null,null,null,null,null,null,null,null,null,null,null,null,null,null,null,null," ",null,null,null,null,null,null,null,null,null,null,null,null,null,"du duché","orange",null,"Etranger","red",null,"Niv.2","indigo"]
[null,"Aide aux FEUX D'ALARME",null,null,null,null,null,null,null,{"$f":"\"Arrivées : \"&$M$4&\" [ \"&$N$4&\" ]\"","v":"Arrivées : 0 [ 0 ]"}," ","Arrivées",{"$f":"SUM(AG13:AG299)","v":0},{"$f":"SUM(AH13:AH299)","v":0},{"$f":"SUM(AE13:AE299)","v":0},null,{"$f":"SUM(AF13:AF299)","v":0},{"$f":"IF(O4<>0,M4/O4,0)","v":0},{"$f":"IF(Q4=0,0,N4/Q4)","v":0},null,null,null,null,null,null,null,null,null,null,null,null,null,null,null,null,null,null,null,null,null,null,null,null," ",null,null,null,null,null,null,null,null,null,null,null,null,null,"étranger/abs","darkred",null,null,null,null,"Niv.3","olive"]
[null,null,null,null,null,null,null,null,null,{"$f":"\"Retraités : \"&$M$5&\" [ \"&$N$5&\" ]\"","v":"Retraités : 0 [ 0 ]"}," ","Retraités",{"$f":"SUM(AM13:AM299)","v":0},{"$f":"SUM(AN13:AN299)","v":0},{"$f":"SUM(AK13:AK299)","v":0},null,{"$f":"SUM(AL13:AL299)","v":0},{"$f":"IF(O5<>0,M5/O5,0)","v":0},{"$f":"IF(Q5=0,0,N5/Q5)","v":0},null,null,null,null,null,null,null,null,{"$f":"SUM(AB13:AB299)","v":0},0,0,0,0,0,0,0,{"$f":"SUM(AJ13:AJ299)","v":0},0,0,0,0,0,0,0,0,null,null,null,null,null,null,null,null,null,null,null,null,null,null,null,null,null,null,null,"Niv.4","orange"]
[null,null,null,null,null,null,null,null,null,{"$f":"\"Déjà Présents : \"&$M$6&\" [ \"&$N$6&\" ]\"","v":"Déjà Présents : 0 [ 0 ]"}," ","Présents (Etrangers)",{"$f":"SUM(AC13:AC299)","v":0},{"$f":"SUM(AD13:AD299)","v":0},{"$f":"SUM(AQ13:AQ299)","v":0},null,{"$f":"SUM(AR13:AR299)","v":0},{"$f":"IF(O6<>0,M6/O6,0)","v":0},{"$f":"IF(Q6=0,0,N6/Q6)","v":0},null,null,null,null,null,null,null,null,null,null,null,null,null,null,null,null,null,null,null,null,null,null,null,null," ",null,null,null,null,null,null,null,null,null,null,null,null,null,null,null,null,null,null,null,"Vag","black"]
[null,{"$f":"Menu!$H$8","v":"Tréguier"},null,null,null,null,null,null,null,{"$f":"\"Pantins vivants : \"&$M$7&\" [ \"&$N$7&\" ]\"","v":"Pantins vivants : 0 [ 0 ]"}," ","Pantins présents",{"$f":"SUM(M4:M6)","v":0},{"$f":"SUM(N4:N6)","v":0},{"$f":"SUM(O4:O6)","v":0},null,{"$f":"SUM(Q4:Q6)","v":0},{"$f":"IF(O7<>0,M7/O7,0)","v":0},{"$f":"IF(Q7=0,0,N7/Q7)","v":0}]
[null,null,null,null,null,null,null,null,null,null," ",null,null,null,null,null,null,null,null,null,null,null,null,null,null,null,null,"Comté du Languedoc",null,null,null,null,null,null,null,null,null,null,null,null,null,null,null,null,null,"Menu"]
[null,null,null,null,null,null,null,null,null,{"$f":"\"Pantins Actifs : \"&$M$9&\" [ \"&$N$9&\" ]\"","v":"Pantins Actifs : 0 [ 0 ]"},null,"Pantins Actifs Présents",{"$f":"M6+M4","v":0},{"$f":"N6+N4","v":0},{"$f":"O6+O4","v":0},null,{"$f":"Q6+Q4","v":0},{"$f":"IF(O9<>0,M9/O9,0)","v":0},{"$f":"IF(Q9=0,0,N9/Q9)","v":0},null,null,null,null,null,null,null,null,null,null,null,null,null,null,null,null,null,null,null,null,null,null,null,null,null,null,{"$f":"SUM($AT$13:$AT$299)","v":287}]
[null,null,null,null,null,null,null,null,null,null,null,null,null,null,null,null,null,null,null,null,null,null,null,null,null,"Local","--",null,"Etrangers",null,"Arrivées",null,"Arrivée",null,"Départs",null,"Retraites",null,"Retraites",null,"Morts",null,"Présents Actifs"]
[null,"COPIER\nFORUM",null,"Mort","Lst","Ret","Mvt","FA","Lien Courrier","Pseudo","Royaume","Comté","Ville","Etat","Niv","PR","Ecus","Voie","Métier","Champ 1","Champ 2","Mvt",null,null,null,"e","fa","Etr au","Feux Alarme",null,"a","LN","Feux Alarme",null,"d","LN","R","LN","Feux Alarme",null,"M","LN","e","LN",null,"Vide ?",null,null,null,null,null,"Insertion Conditionnelle",null,null,null,null,null,null,null,null,null,null,null,null,null,null,null,null,null,null,null,null,null,null,null,null,null,null,null,null,null,null,null,null,"Statistiques"]
[null,null,null,null,null,null,null,null,"COPIER LA LISTE DES PERSONNES EN DESSOUS",null,null,null,null,null,null,null,null,null,null,null,null,null,null,null,null,"Mvt","FA ?","Comté","Nbre","Pasbos","Total","Pasbos","Nbre","Pasbos","Total","Pasbos","Total","Pasbos","Nbre","Pasbos","Total","Pasbos","Total","Pasbos",null,null,null,null,"Insert LN ?","Prepa",null,"Ville","Comté","PR","Ecus","Niveau",null,"Joueur","Ville","Duché","PR","Ecus","Niveau","Prof","Champ",null,null,"Joueur","Rech Lst","Village ?","Couleur","Ville","Rech Lst","Village ?","Couleur",null,"Duché","Mort ?","Retraite ??",null,"Rech Lst Noire","Verdict","Lst Noire ?",null,"Arrivées","Départs","Retraites","Morts","LN","Surveillance","Etr"]
[null,{"$f":"IF(OR(ISBLANK($J13),$J13=\"\"),\"\",IF(BZ13,\"[strike]\"&AW13&\"[/strike]\",IF(CA13,\"[i]\"&AW13&\"[/i]\",AW13)))","v":""}," ",{"$f":"IF(N13=\"mort\",\"M\",\"\")","v":""},{"$f":"IF(ISERROR(CE13),\"\",IF(CE13=1,\"LN\",\"\"))","v":""},{"$f":"IF(N13=\"retraite\",\"R\",\"\")","v":""},{"$f":"IF(ISBLANK(Z13),\"\",Z13)","v":""},{"$f":"IF(ISBLANK(AA13),\"\",AA13)","v":""},{"$f":"IF(ISBLANK(Trait_Etrangers!H13),\"\",Trait_Etrangers!H13)","v":""},{"$f":"IF(ISBLANK(Trait_Etrangers!I13),\"\",Trait_Etrangers!I13)","v":""},{"$f":"IF(ISBLANK(Trait_Etrangers!J13),\"\",Trait_Etrangers!J13)","v":""},{"$f":"IF(ISBLANK(Trait_Etrangers!K13),\"\",Trait_Etrangers!K13)","v":""},{"$f":"IF(ISBLANK(Trait_Etrangers!L13),\"\",Trait_Etrangers!L13)","v":""},{"$f":"IF(ISBLANK(Trait_Etrangers!M13),\"\",Trait_Etrangers!M13)","v":""},{"$f":"IF(ISBLANK(Trait_Etrangers!N13),\"\",Trait_Etrangers!N13)","v":""},{"$f":"IF(ISBLANK(Trait_Etrangers!O13),\"\",Trait_Etrangers!O13)","v":""},{"$f":"IF(ISBLANK(Trait_Etrangers!P13),\"\",Trait_Etrangers!P13)","v":""},null,{"$f":"IF(ISBLANK(Trait_Etrangers!R13),\"\",Trait_Etrangers!R13)","v":""},{"$f":"IF(ISBLANK(Trait_Etrangers!S13),\"\",Trait_Etrangers!S13)","v":""},{"$f":"IF(ISBLANK(Trait_Etrangers!T13),\"\",Trait_Etrangers!T13)","v":""},{"$f":"IF(ISBLANK(Trait_Etrangers!U13),\"\",Trait_Etrangers!U13)","v":""},null,null,null,{"$f":"IF(OR(ISBLANK($V13),TRIM($V13)=\"\"),IF(OR(ISBLANK($J13),$J13=\"\"),\"\",$Z$11),IF(OR($F13=$AK$11,$D13=$AO$11),$Z$11,IF($V13=\"a/d\",\"\",$V13)))","v":""},{"$f":"IF(OR(ISBLANK($J13),TRIM($J13)=\"\"),\"\",IF($D13=$AO$11,$AA$10,IF($V13=$AI$11,$AA$10,IF($AB13=1,$AA$11,$AA$10))))","v":""},{"$f":"IF(OR(ISBLANK($J13),$J13=\"\"),0,IF($L13<>$AB$8,1,0))","v":0},{"$f":"IF(AND(AB13=1,AK13=0,AO13=0,Z13=$Z$11),1,0)","v":0},{"$f":"IF(OR(ISBLANK($J13),$J13=\"\"),0,IF(AND(AC13=1,CE13=1),1,0))","v":0},{"$f":"IF($Z13=AE$11,1,0)","v":0},{"$f":"IF(AND(AE13=1,$E13=AF$11),1,0)","v":0},{"$f":"IF(AE13+AB13=2,1,0)","v":0},{"$f":"IF(AG13+AF13>1,1,0)","v":0},{"$f":"IF($Z13=AI$11,1,0)","v":0},{"$f":"IF(AND(AI13=1,$E13=AJ$11),1,0)","v":0},{"$f":"IF($F13=AK$11,1,0)","v":0},{"$f":"IF(AND(AK13=1,$E13=AL$11),1,0)","v":0},{"$f":"IF(AK13+AB13>1,1,0)","v":0},{"$f":"IF(AL13+AM13>1,1,0)","v":0},{"$f":"IF($D13=AO$11,1,0)","v":0},{"$f":"IF(AND(AO13=1,$E13=AP$11),1,0)","v":0},{"$f":"IF(AND($Z13=AQ$11,(AK13+AO13)=0),1,0)","v":0},{"$f":"IF(AND(AQ13=1,$E13=AR$11),1,0)","v":0},null,{"$f":"IF(AND(ISBLANK(J13),ISBLANK(L13),ISBLANK(M13),ISBLANK(Q13)),0,1)","v":1},null,null,{"$f":"IF(AX13=\"\",\"\",IF(CE13=1,\"[b][color=red]\"&Datas!$D$32&\"[/color][/b]\"&AX13&\"[b][color=red]\"&Datas!$D$33&\"{\"&CD13&\"}[/color][/b]\",AX13))","v":{"$error":"#N/A"}},{"$f":"IF(ISBLANK(N13),\"\",BF13&AZ13&BA13&BB13&BC13&BD13)","v":{"$error":"#N/A"}}," ",{"$f":"IF(ISBLANK(Datas!$C$47),\"\",\" - \"&BG13)","v":{"$error":"#N/A"}},{"$f":"IF(ISBLANK(Datas!$C$48),\"\",\" - \"&BH13)","v":" - "},{"$f":"IF(ISBLANK(Datas!$C$49),\"\",\" - \"&BI13)","v":""},{"$f":"IF(ISBLANK(Datas!$C$50),\"\",\" - \"&BJ13)","v":" - Ecus:"},{"$f":"IF(ISBLANK(Datas!$C$51),\"\",\" - \"&BK13)","v":" - Niv: "},null,{"$f":"\"[b][color=\"&BS13&\"]\"&BP13&\"[/color][/b]\"","v":{"$error":"#N/A"}},{"$f":"\"[b][color=\"&BW13&\"]\"&BT13&\"[/color][/b]\"","v":{"$error":"#N/A"}},{"$f":"BY13","v":""},{"$f":"\"PR:\"&P13","v":"PR:"},{"$f":"\"Ecus:\"&Q13","v":"Ecus:"},{"$f":"\"Niv: \"&O13","v":"Niv: "},null,null,null,null,{"$f":"J13","v":""},{"$f":"VLOOKUP(BP13,LstVillage!$B$8:$C$283,1)","v":{"$error":"#N/A"}},{"$f":"IF(BQ13<>BP13,0,1)","v":{"$error":"#N/A"}},{"$f":"IF(BR13=1,$BG$2,IF(BV13=1,$BG$3,$BG$4))","v":{"$error":"#N/A"}},{"$f":"M13","v":""},{"$f":"VLOOKUP(BT13,Datas!$G$6:$G$17,1)","v":{"$error":"#N/A"}},{"$f":"IF(BU13<>BT13,0,1)","v":{"$error":"#N/A"}},{"$f":"IF(BV13=1,$BJ$2,$BJ$3)","v":{"$error":"#N/A"}},null,{"$f":"L13","v":""},{"$f":"IF(F13=\"M\",1,0)","v":0},{"$f":"IF(F13=\"R\",1,0)","v":0},null,{"$f":"VLOOKUP(BP13,Liste_Noire!$B$15:$G$1208,1)","v":{"$error":"#N/A"}},{"$f":"VLOOKUP(BP13,Liste_Noire!$B$15:$G$1208,5)","v":{"$error":"#N/A"}},{"$f":"IF(ISERR(CC13),0,IF(CC13=BP13,1,0))","v":{"$error":"#N/A"}},null,{"$f":"IF(G13=\"a\",1,0)","v":0},{"$f":"IF(G13=\"d\",1,0)","v":0},{"$f":"IF(F13=\"R\",1,0)","v":0},{"$f":"IF(F13=\"M\",1,0)","v":0},{"$f":"IF(ISERROR(CE13),0,IF(CE13=1,IF(CD13=\"Liste Noire\",1,0),0))","v":0},{"$f":"IF(ISERROR(CE13),0,IF(CE13=1,IF(CD13=\"Surveillance\",1,0),0))","v":0},{"$f":"IF(ISBLANK(J13),0,1)","v":1}]
[null,""," ","","","","","",{"$f":"IF(ISBLANK(Trait_Etrangers!H14),\"\",Trait_Etrangers!H14)","v":""},{"$f":"IF(ISBLANK(Trait_Etrangers!I14),\"\",Trait_Etrangers!I14)","v":""},{"$f":"IF(ISBLANK(Trait_Etrangers!J14),\"\",Trait_Etrangers!J14)","v":""},{"$f":"IF(ISBLANK(Trait_Etrangers!K14),\"\",Trait_Etrangers!K14)","v":""},{"$f":"IF(ISBLANK(Trait_Etrangers!L14),\"\",Trait_Etrangers!L14)","v":""},{"$f":"IF(ISBLANK(Trait_Etrangers!M14),\"\",Trait_Etrangers!M14)","v":""},{"$f":"IF(ISBLANK(Trait_Etrangers!N14),\"\",Trait_Etrangers!N14)","v":""},{"$f":"IF(ISBLANK(Trait_Etrangers!O14),\"\",Trait_Etrangers!O14)","v":""},{"$f":"IF(ISBLANK(Trait_Etrangers!P14),\"\",Trait_Etrangers!P14)","v":""},null,{"$f":"IF(ISBLANK(Trait_Etrangers!R14),\"\",Trait_Etrangers!R14)","v":""},{"$f":"IF(ISBLANK(Trait_Etrangers!S14),\"\",Trait_Etrangers!S14)","v":""},{"$f":"IF(ISBLANK(Trait_Etrangers!T14),\"\",Trait_Etrangers!T14)","v":""},{"$f":"IF(ISBLANK(Trait_Etrangers!U14),\"\",Trait_Etrangers!U14)","v":""},null,null,null,{"$f":"IF(OR(ISBLANK($V14),TRIM($V14)=\"\"),IF(OR(ISBLANK($J14),$J14=\"\"),\"\",$Z$11),IF(OR($F14=$AK$11,$D14=$AO$11),$Z$11,IF($V14=\"a/d\",\"\",$V14)))","v":""},{"$f":"IF(OR(ISBLANK($J14),TRIM($J14)=\"\"),\"\",IF($D14=$AO$11,$AA$10,IF($V14=$AI$11,$AA$10,IF($AB14=1,$AA$11,$AA$10))))","v":""},0,0,0,0,0,0,0,0,0,0,0,0,0,0,0,0,0,null,1,null,null,{"$f":"IF(AX14=\"\",\"\",IF(CE14=1,\"[b][color=red]\"&Datas!$D$32&\"[/color][/b]\"&AX14&\"[b][color=red]\"&Datas!$D$33&\"{\"&CD14&\"}[/color][/b]\",AX14))","v":{"$error":"#N/A"}},{"$error":"#N/A"}," ",{"$f":"IF(ISBLANK(Datas!$C$47),\"\",\" - \"&BG14)","v":{"$error":"#N/A"}},{"$f":"IF(ISBLANK(Datas!$C$48),\"\",\" - \"&BH14)","v":" - "},{"$f":"IF(ISBLANK(Datas!$C$49),\"\",\" - \"&BI14)","v":""},{"$f":"IF(ISBLANK(Datas!$C$50),\"\",\" - \"&BJ14)","v":" - Ecus:"},{"$f":"IF(ISBLANK(Datas!$C$51),\"\",\" - \"&BK14)","v":" - Niv: "},null,{"$error":"#N/A"},{"$error":"#N/A"},"","PR:","Ecus:","Niv: ",null,null,null,null,"",{"$f":"VLOOKUP(BP14,LstVillage!$B$8:$C$283,1)","v":{"$error":"#N/A"}},{"$error":"#N/A"},{"$error":"#N/A"},"",{"$f":"VLOOKUP(BT14,Datas!$G$6:$G$17,1)","v":{"$error":"#N/A"}},{"$error":"#N/A"},{"$error":"#N/A"},null,"",0,0,null,{"$f":"VLOOKUP(BP14,Liste_Noire!$B$15:$G$1208,1)","v":{"$error":"#N/A"}},{"$f":"VLOOKUP(BP14,Liste_Noire!$B$15:$G$1208,5)","v":{"$error":"#N/A"}},{"$error":"#N/A"},null,0,0,0,0,0,0,1]
[null,""," ","","","","","",{"$f":"IF(ISBLANK(Trait_Etrangers!H15),\"\",Trait_Etrangers!H15)","v":""},{"$f":"IF(ISBLANK(Trait_Etrangers!I15),\"\",Trait_Etrangers!I15)","v":""},{"$f":"IF(ISBLANK(Trait_Etrangers!J15),\"\",Trait_Etrangers!J15)","v":""},{"$f":"IF(ISBLANK(Trait_Etrangers!K15),\"\",Trait_Etrangers!K15)","v":""},{"$f":"IF(ISBLANK(Trait_Etrangers!L15),\"\",Trait_Etrangers!L15)","v":""},{"$f":"IF(ISBLANK(Trait_Etrangers!M15),\"\",Trait_Etrangers!M15)","v":""},{"$f":"IF(ISBLANK(Trait_Etrangers!N15),\"\",Trait_Etrangers!N15)","v":""},{"$f":"IF(ISBLANK(Trait_Etrangers!O15),\"\",Trait_Etrangers!O15)","v":""},{"$f":"IF(ISBLANK(Trait_Etrangers!P15),\"\",Trait_Etrangers!P15)","v":""},null,{"$f":"IF(ISBLANK(Trait_Etrangers!R15),\"\",Trait_Etrangers!R15)","v":""},{"$f":"IF(ISBLANK(Trait_Etrangers!S15),\"\",Trait_Etrangers!S15)","v":""},{"$f":"IF(ISBLANK(Trait_Etrangers!T15),\"\",Trait_Etrangers!T15)","v":""},{"$f":"IF(ISBLANK(Trait_Etrangers!U15),\"\",Trait_Etrangers!U15)","v":""},null,null,null,"","",0,0,0,0,0,0,0,0,0,0,0,0,0,0,0,0,0,null,1,null,null,{"$f":"IF(AX15=\"\",\"\",IF(CE15=1,\"[b][color=red]\"&Datas!$D$32&\"[/color][/b]\"&AX15&\"[b][color=red]\"&Datas!$D$33&\"{\"&CD15&\"}[/color][/b]\",AX15))","v":{"$error":"#N/A"}},{"$error":"#N/A"}," ",{"$f":"IF(ISBLANK(Datas!$C$47),\"\",\" - \"&BG15)","v":{"$error":"#N/A"}},{"$f":"IF(ISBLANK(Datas!$C$48),\"\",\" - \"&BH15)","v":" - "},{"$f":"IF(ISBLANK(Datas!$C$49),\"\",\" - \"&BI15)","v":""},{"$f":"IF(ISBLANK(Datas!$C$50),\"\",\" - \"&BJ15)","v":" - Ecus:"},{"$f":"IF(ISBLANK(Datas!$C$51),\"\",\" - \"&BK15)","v":" - Niv: "},null,{"$error":"#N/A"},{"$error":"#N/A"},"","PR:","Ecus:","Niv: ",null,null,null,null,"",{"$f":"VLOOKUP(BP15,LstVillage!$B$8:$C$283,1)","v":{"$error":"#N/A"}},{"$error":"#N/A"},{"$error":"#N/A"},"",{"$f":"VLOOKUP(BT15,Datas!$G$6:$G$17,1)","v":{"$error":"#N/A"}},{"$error":"#N/A"},{"$error":"#N/A"},null,"",0,0,null,{"$f":"VLOOKUP(BP15,Liste_Noire!$B$15:$G$1208,1)","v":{"$error":"#N/A"}},{"$f":"VLOOKUP(BP15,Liste_Noire!$B$15:$G$1208,5)","v":{"$error":"#N/A"}},{"$error":"#N/A"},null,0,0,0,0,0,0,1]
[null,""," ","","","","","",{"$f":"IF(ISBLANK(Trait_Etrangers!H16),\"\",Trait_Etrangers!H16)","v":""},{"$f":"IF(ISBLANK(Trait_Etrangers!I16),\"\",Trait_Etrangers!I16)","v":""},{"$f":"IF(ISBLANK(Trait_Etrangers!J16),\"\",Trait_Etrangers!J16)","v":""},{"$f":"IF(ISBLANK(Trait_Etrangers!K16),\"\",Trait_Etrangers!K16)","v":""},{"$f":"IF(ISBLANK(Trait_Etrangers!L16),\"\",Trait_Etrangers!L16)","v":""},{"$f":"IF(ISBLANK(Trait_Etrangers!M16),\"\",Trait_Etrangers!M16)","v":""},{"$f":"IF(ISBLANK(Trait_Etrangers!N16),\"\",Trait_Etrangers!N16)","v":""},{"$f":"IF(ISBLANK(Trait_Etrangers!O16),\"\",Trait_Etrangers!O16)","v":""},{"$f":"IF(ISBLANK(Trait_Etrangers!P16),\"\",Trait_Etrangers!P16)","v":""},null,{"$f":"IF(ISBLANK(Trait_Etrangers!R16),\"\",Trait_Etrangers!R16)","v":""},{"$f":"IF(ISBLANK(Trait_Etrangers!S16),\"\",Trait_Etrangers!S16)","v":""},{"$f":"IF(ISBLANK(Trait_Etrangers!T16),\"\",Trait_Etrangers!T16)","v":""},{"$f":"IF(ISBLANK(Trait_Etrangers!U16),\"\",Trait_Etrangers!U16)","v":""},null,null,null,"","",0,0,0,0,0,0,0,0,0,0,0,0,0,0,0,0,0,null,1,null,null,{"$f":"IF(AX16=\"\",\"\",IF(CE16=1,\"[b][color=red]\"&Datas!$D$32&\"[/color][/b]\"&AX16&\"[b][color=red]\"&Datas!$D$33&\"{\"&CD16&\"}[/color][/b]\",AX16))","v":{"$error":"#N/A"}},{"$error":"#N/A"}," ",{"$f":"IF(ISBLANK(Datas!$C$47),\"\",\" - \"&BG16)","v":{"$error":"#N/A"}},{"$f":"IF(ISBLANK(Datas!$C$48),\"\",\" - \"&BH16)","v":" - "},{"$f":"IF(ISBLANK(Datas!$C$49),\"\",\" - \"&BI16)","v":""},{"$f":"IF(ISBLANK(Datas!$C$50),\"\",\" - \"&BJ16)","v":" - Ecus:"},{"$f":"IF(ISBLANK(Datas!$C$51),\"\",\" - \"&BK16)","v":" - Niv: "},null,{"$error":"#N/A"},{"$error":"#N/A"},"","PR:","Ecus:","Niv: ",null,null,null,null,"",{"$f":"VLOOKUP(BP16,LstVillage!$B$8:$C$283,1)","v":{"$error":"#N/A"}},{"$error":"#N/A"},{"$error":"#N/A"},"",{"$f":"VLOOKUP(BT16,Datas!$G$6:$G$17,1)","v":{"$error":"#N/A"}},{"$error":"#N/A"},{"$error":"#N/A"},null,"",0,0,null,{"$f":"VLOOKUP(BP16,Liste_Noire!$B$15:$G$1208,1)","v":{"$error":"#N/A"}},{"$f":"VLOOKUP(BP16,Liste_Noire!$B$15:$G$1208,5)","v":{"$error":"#N/A"}},{"$error":"#N/A"},null,0,0,0,0,0,0,1]
[null,""," ","","","","","",{"$f":"IF(ISBLANK(Trait_Etrangers!H17),\"\",Trait_Etrangers!H17)","v":""},{"$f":"IF(ISBLANK(Trait_Etrangers!I17),\"\",Trait_Etrangers!I17)","v":""},{"$f":"IF(ISBLANK(Trait_Etrangers!J17),\"\",Trait_Etrangers!J17)","v":""},{"$f":"IF(ISBLANK(Trait_Etrangers!K17),\"\",Trait_Etrangers!K17)","v":""},{"$f":"IF(ISBLANK(Trait_Etrangers!L17),\"\",Trait_Etrangers!L17)","v":""},{"$f":"IF(ISBLANK(Trait_Etrangers!M17),\"\",Trait_Etrangers!M17)","v":""},{"$f":"IF(ISBLANK(Trait_Etrangers!N17),\"\",Trait_Etrangers!N17)","v":""},{"$f":"IF(ISBLANK(Trait_Etrangers!O17),\"\",Trait_Etrangers!O17)","v":""},{"$f":"IF(ISBLANK(Trait_Etrangers!P17),\"\",Trait_Etrangers!P17)","v":""},null,{"$f":"IF(ISBLANK(Trait_Etrangers!R17),\"\",Trait_Etrangers!R17)","v":""},{"$f":"IF(ISBLANK(Trait_Etrangers!S17),\"\",Trait_Etrangers!S17)","v":""},{"$f":"IF(ISBLANK(Trait_Etrangers!T17),\"\",Trait_Etrangers!T17)","v":""},{"$f":"IF(ISBLANK(Trait_Etrangers!U17),\"\",Trait_Etrangers!U17)","v":""},null,null,null,"","",0,0,0,0,0,0,0,0,0,0,0,0,0,0,0,0,0,null,1,null,null,{"$f":"IF(AX17=\"\",\"\",IF(CE17=1,\"[b][color=red]\"&Datas!$D$32&\"[/color][/b]\"&AX17&\"[b][color=red]\"&Datas!$D$33&\"{\"&CD17&\"}[/color][/b]\",AX17))","v":{"$error":"#N/A"}},{"$error":"#N/A"}," ",{"$f":"IF(ISBLANK(Datas!$C$47),\"\",\" - \"&BG17)","v":{"$error":"#N/A"}},{"$f":"IF(ISBLANK(Datas!$C$48),\"\",\" - \"&BH17)","v":" - "},{"$f":"IF(ISBLANK(Datas!$C$49),\"\",\" - \"&BI17)","v":""},{"$f":"IF(ISBLANK(Datas!$C$50),\"\",\" - \"&BJ17)","v":" - Ecus:"},{"$f":"IF(ISBLANK(Datas!$C$51),\"\",\" - \"&BK17)","v":" - Niv: "},null,{"$error":"#N/A"},{"$error":"#N/A"},"","PR:","Ecus:","Niv: ",null,null,null,null,"",{"$f":"VLOOKUP(BP17,LstVillage!$B$8:$C$283,1)","v":{"$error":"#N/A"}},{"$error":"#N/A"},{"$error":"#N/A"},"",{"$f":"VLOOKUP(BT17,Datas!$G$6:$G$17,1)","v":{"$error":"#N/A"}},{"$error":"#N/A"},{"$error":"#N/A"},null,"",0,0,null,{"$f":"VLOOKUP(BP17,Liste_Noire!$B$15:$G$1208,1)","v":{"$error":"#N/A"}},{"$f":"VLOOKUP(BP17,Liste_Noire!$B$15:$G$1208,5)","v":{"$error":"#N/A"}},{"$error":"#N/A"},null,0,0,0,0,0,0,1]
[null,""," ","","","","","",{"$f":"IF(ISBLANK(Trait_Etrangers!H18),\"\",Trait_Etrangers!H18)","v":""},{"$f":"IF(ISBLANK(Trait_Etrangers!I18),\"\",Trait_Etrangers!I18)","v":""},{"$f":"IF(ISBLANK(Trait_Etrangers!J18),\"\",Trait_Etrangers!J18)","v":""},{"$f":"IF(ISBLANK(Trait_Etrangers!K18),\"\",Trait_Etrangers!K18)","v":""},{"$f":"IF(ISBLANK(Trait_Etrangers!L18),\"\",Trait_Etrangers!L18)","v":""},{"$f":"IF(ISBLANK(Trait_Etrangers!M18),\"\",Trait_Etrangers!M18)","v":""},{"$f":"IF(ISBLANK(Trait_Etrangers!N18),\"\",Trait_Etrangers!N18)","v":""},{"$f":"IF(ISBLANK(Trait_Etrangers!O18),\"\",Trait_Etrangers!O18)","v":""},{"$f":"IF(ISBLANK(Trait_Etrangers!P18),\"\",Trait_Etrangers!P18)","v":""},null,{"$f":"IF(ISBLANK(Trait_Etrangers!R18),\"\",Trait_Etrangers!R18)","v":""},{"$f":"IF(ISBLANK(Trait_Etrangers!S18),\"\",Trait_Etrangers!S18)","v":""},{"$f":"IF(ISBLANK(Trait_Etrangers!T18),\"\",Trait_Etrangers!T18)","v":""},{"$f":"IF(ISBLANK(Trait_Etrangers!U18),\"\",Trait_Etrangers!U18)","v":""},null,null,null,"","",0,0,0,0,0,0,0,0,0,0,0,0,0,0,0,0,0,null,1,null,null,{"$f":"IF(AX18=\"\",\"\",IF(CE18=1,\"[b][color=red]\"&Datas!$D$32&\"[/color][/b]\"&AX18&\"[b][color=red]\"&Datas!$D$33&\"{\"&CD18&\"}[/color][/b]\",AX18))","v":{"$error":"#N/A"}},{"$error":"#N/A"}," ",{"$f":"IF(ISBLANK(Datas!$C$47),\"\",\" - \"&BG18)","v":{"$error":"#N/A"}},{"$f":"IF(ISBLANK(Datas!$C$48),\"\",\" - \"&BH18)","v":" - "},{"$f":"IF(ISBLANK(Datas!$C$49),\"\",\" - \"&BI18)","v":""},{"$f":"IF(ISBLANK(Datas!$C$50),\"\",\" - \"&BJ18)","v":" - Ecus:"},{"$f":"IF(ISBLANK(Datas!$C$51),\"\",\" - \"&BK18)","v":" - Niv: "},null,{"$error":"#N/A"},{"$error":"#N/A"},"","PR:","Ecus:","Niv: ",null,null,null,null,"",{"$f":"VLOOKUP(BP18,LstVillage!$B$8:$C$283,1)","v":{"$error":"#N/A"}},{"$error":"#N/A"},{"$error":"#N/A"},"",{"$f":"VLOOKUP(BT18,Datas!$G$6:$G$17,1)","v":{"$error":"#N/A"}},{"$error":"#N/A"},{"$error":"#N/A"},null,"",0,0,null,{"$f":"VLOOKUP(BP18,Liste_Noire!$B$15:$G$1208,1)","v":{"$error":"#N/A"}},{"$f":"VLOOKUP(BP18,Liste_Noire!$B$15:$G$1208,5)","v":{"$error":"#N/A"}},{"$error":"#N/A"},null,0,0,0,0,0,0,1]
[null,""," ","","","","","",{"$f":"IF(ISBLANK(Trait_Etrangers!H19),\"\",Trait_Etrangers!H19)","v":""},{"$f":"IF(ISBLANK(Trait_Etrangers!I19),\"\",Trait_Etrangers!I19)","v":""},{"$f":"IF(ISBLANK(Trait_Etrangers!J19),\"\",Trait_Etrangers!J19)","v":""},{"$f":"IF(ISBLANK(Trait_Etrangers!K19),\"\",Trait_Etrangers!K19)","v":""},{"$f":"IF(ISBLANK(Trait_Etrangers!L19),\"\",Trait_Etrangers!L19)","v":""},{"$f":"IF(ISBLANK(Trait_Etrangers!M19),\"\",Trait_Etrangers!M19)","v":""},{"$f":"IF(ISBLANK(Trait_Etrangers!N19),\"\",Trait_Etrangers!N19)","v":""},{"$f":"IF(ISBLANK(Trait_Etrangers!O19),\"\",Trait_Etrangers!O19)","v":""},{"$f":"IF(ISBLANK(Trait_Etrangers!P19),\"\",Trait_Etrangers!P19)","v":""},null,{"$f":"IF(ISBLANK(Trait_Etrangers!R19),\"\",Trait_Etrangers!R19)","v":""},{"$f":"IF(ISBLANK(Trait_Etrangers!S19),\"\",Trait_Etrangers!S19)","v":""},{"$f":"IF(ISBLANK(Trait_Etrangers!T19),\"\",Trait_Etrangers!T19)","v":""},{"$f":"IF(ISBLANK(Trait_Etrangers!U19),\"\",Trait_Etrangers!U19)","v":""},null,null,null,"","",0,0,0,0,0,0,0,0,0,0,0,0,0,0,0,0,0,null,1,null,null,{"$f":"IF(AX19=\"\",\"\",IF(CE19=1,\"[b][color=red]\"&Datas!$D$32&\"[/color][/b]\"&AX19&\"[b][color=red]\"&Datas!$D$33&\"{\"&CD19&\"}[/color][/b]\",AX19))","v":{"$error":"#N/A"}},{"$error":"#N/A"}," ",{"$f":"IF(ISBLANK(Datas!$C$47),\"\",\" - \"&BG19)","v":{"$error":"#N/A"}},{"$f":"IF(ISBLANK(Datas!$C$48),\"\",\" - \"&BH19)","v":" - "},{"$f":"IF(ISBLANK(Datas!$C$49),\"\",\" - \"&BI19)","v":""},{"$f":"IF(ISBLANK(Datas!$C$50),\"\",\" - \"&BJ19)","v":" - Ecus:"},{"$f":"IF(ISBLANK(Datas!$C$51),\"\",\" - \"&BK19)","v":" - Niv: "},null,{"$error":"#N/A"},{"$error":"#N/A"},"","PR:","Ecus:","Niv: ",null,null,null,null,"",{"$f":"VLOOKUP(BP19,LstVillage!$B$8:$C$283,1)","v":{"$error":"#N/A"}},{"$error":"#N/A"},{"$error":"#N/A"},"",{"$f":"VLOOKUP(BT19,Datas!$G$6:$G$17,1)","v":{"$error":"#N/A"}},{"$error":"#N/A"},{"$error":"#N/A"},null,"",0,0,null,{"$f":"VLOOKUP(BP19,Liste_Noire!$B$15:$G$1208,1)","v":{"$error":"#N/A"}},{"$f":"VLOOKUP(BP19,Liste_Noire!$B$15:$G$1208,5)","v":{"$error":"#N/A"}},{"$error":"#N/A"},null,0,0,0,0,0,0,1]
[null,""," ","","","","","",{"$f":"IF(ISBLANK(Trait_Etrangers!H20),\"\",Trait_Etrangers!H20)","v":""},{"$f":"IF(ISBLANK(Trait_Etrangers!I20),\"\",Trait_Etrangers!I20)","v":""},{"$f":"IF(ISBLANK(Trait_Etrangers!J20),\"\",Trait_Etrangers!J20)","v":""},{"$f":"IF(ISBLANK(Trait_Etrangers!K20),\"\",Trait_Etrangers!K20)","v":""},{"$f":"IF(ISBLANK(Trait_Etrangers!L20),\"\",Trait_Etrangers!L20)","v":""},{"$f":"IF(ISBLANK(Trait_Etrangers!M20),\"\",Trait_Etrangers!M20)","v":""},{"$f":"IF(ISBLANK(Trait_Etrangers!N20),\"\",Trait_Etrangers!N20)","v":""},{"$f":"IF(ISBLANK(Trait_Etrangers!O20),\"\",Trait_Etrangers!O20)","v":""},{"$f":"IF(ISBLANK(Trait_Etrangers!P20),\"\",Trait_Etrangers!P20)","v":""},null,{"$f":"IF(ISBLANK(Trait_Etrangers!R20),\"\",Trait_Etrangers!R20)","v":""},{"$f":"IF(ISBLANK(Trait_Etrangers!S20),\"\",Trait_Etrangers!S20)","v":""},{"$f":"IF(ISBLANK(Trait_Etrangers!T20),\"\",Trait_Etrangers!T20)","v":""},{"$f":"IF(ISBLANK(Trait_Etrangers!U20),\"\",Trait_Etrangers!U20)","v":""},null,null,null,"","",0,0,0,0,0,0,0,0,0,0,0,0,0,0,0,0,0,null,1,null,null,{"$f":"IF(AX20=\"\",\"\",IF(CE20=1,\"[b][color=red]\"&Datas!$D$32&\"[/color][/b]\"&AX20&\"[b][color=red]\"&Datas!$D$33&\"{\"&CD20&\"}[/color][/b]\",AX20))","v":{"$error":"#N/A"}},{"$error":"#N/A"}," ",{"$f":"IF(ISBLANK(Datas!$C$47),\"\",\" - \"&BG20)","v":{"$error":"#N/A"}},{"$f":"IF(ISBLANK(Datas!$C$48),\"\",\" - \"&BH20)","v":" - "},{"$f":"IF(ISBLANK(Datas!$C$49),\"\",\" - \"&BI20)","v":""},{"$f":"IF(ISBLANK(Datas!$C$50),\"\",\" - \"&BJ20)","v":" - Ecus:"},{"$f":"IF(ISBLANK(Datas!$C$51),\"\",\" - \"&BK20)","v":" - Niv: "},null,{"$error":"#N/A"},{"$error":"#N/A"},"","PR:","Ecus:","Niv: ",null,null,null,null,"",{"$f":"VLOOKUP(BP20,LstVillage!$B$8:$C$283,1)","v":{"$error":"#N/A"}},{"$error":"#N/A"},{"$error":"#N/A"},"",{"$f":"VLOOKUP(BT20,Datas!$G$6:$G$17,1)","v":{"$error":"#N/A"}},{"$error":"#N/A"},{"$error":"#N/A"},null,"",0,0,null,{"$f":"VLOOKUP(BP20,Liste_Noire!$B$15:$G$1208,1)","v":{"$error":"#N/A"}},{"$f":"VLOOKUP(BP20,Liste_Noire!$B$15:$G$1208,5)","v":{"$error":"#N/A"}},{"$error":"#N/A"},null,0,0,0,0,0,0,1]
[null,""," ","","","","","",{"$f":"IF(ISBLANK(Trait_Etrangers!H21),\"\",Trait_Etrangers!H21)","v":""},{"$f":"IF(ISBLANK(Trait_Etrangers!I21),\"\",Trait_Etrangers!I21)","v":""},{"$f":"IF(ISBLANK(Trait_Etrangers!J21),\"\",Trait_Etrangers!J21)","v":""},{"$f":"IF(ISBLANK(Trait_Etrangers!K21),\"\",Trait_Etrangers!K21)","v":""},{"$f":"IF(ISBLANK(Trait_Etrangers!L21),\"\",Trait_Etrangers!L21)","v":""},{"$f":"IF(ISBLANK(Trait_Etrangers!M21),\"\",Trait_Etrangers!M21)","v":""},{"$f":"IF(ISBLANK(Trait_Etrangers!N21),\"\",Trait_Etrangers!N21)","v":""},{"$f":"IF(ISBLANK(Trait_Etrangers!O21),\"\",Trait_Etrangers!O21)","v":""},{"$f":"IF(ISBLANK(Trait_Etrangers!P21),\"\",Trait_Etrangers!P21)","v":""},null,{"$f":"IF(ISBLANK(Trait_Etrangers!R21),\"\",Trait_Etrangers!R21)","v":""},{"$f":"IF(ISBLANK(Trait_Etrangers!S21),\"\",Trait_Etrangers!S21)","v":""},{"$f":"IF(ISBLANK(Trait_Etrangers!T21),\"\",Trait_Etrangers!T21)","v":""},{"$f":"IF(ISBLANK(Trait_Etrangers!U21),\"\",Trait_Etrangers!U21)","v":""},null,null,null,"","",0,0,0,0,0,0,0,0,0,0,0,0,0,0,0,0,0,null,1,null,null,{"$f":"IF(AX21=\"\",\"\",IF(CE21=1,\"[b][color=red]\"&Datas!$D$32&\"[/color][/b]\"&AX21&\"[b][color=red]\"&Datas!$D$33&\"{\"&CD21&\"}[/color][/b]\",AX21))","v":{"$error":"#N/A"}},{"$error":"#N/A"}," ",{"$f":"IF(ISBLANK(Datas!$C$47),\"\",\" - \"&BG21)","v":{"$error":"#N/A"}},{"$f":"IF(ISBLANK(Datas!$C$48),\"\",\" - \"&BH21)","v":" - "},{"$f":"IF(ISBLANK(Datas!$C$49),\"\",\" - \"&BI21)","v":""},{"$f":"IF(ISBLANK(Datas!$C$50),\"\",\" - \"&BJ21)","v":" - Ecus:"},{"$f":"IF(ISBLANK(Datas!$C$51),\"\",\" - \"&BK21)","v":" - Niv: "},null,{"$error":"#N/A"},{"$error":"#N/A"},"","PR:","Ecus:","Niv: ",null,null,null,null,"",{"$f":"VLOOKUP(BP21,LstVillage!$B$8:$C$283,1)","v":{"$error":"#N/A"}},{"$error":"#N/A"},{"$error":"#N/A"},"",{"$f":"VLOOKUP(BT21,Datas!$G$6:$G$17,1)","v":{"$error":"#N/A"}},{"$error":"#N/A"},{"$error":"#N/A"},null,"",0,0,null,{"$f":"VLOOKUP(BP21,Liste_Noire!$B$15:$G$1208,1)","v":{"$error":"#N/A"}},{"$f":"VLOOKUP(BP21,Liste_Noire!$B$15:$G$1208,5)","v":{"$error":"#N/A"}},{"$error":"#N/A"},null,0,0,0,0,0,0,1]
[null,""," ","","","","","",{"$f":"IF(ISBLANK(Trait_Etrangers!H22),\"\",Trait_Etrangers!H22)","v":""},{"$f":"IF(ISBLANK(Trait_Etrangers!I22),\"\",Trait_Etrangers!I22)","v":""},{"$f":"IF(ISBLANK(Trait_Etrangers!J22),\"\",Trait_Etrangers!J22)","v":""},{"$f":"IF(ISBLANK(Trait_Etrangers!K22),\"\",Trait_Etrangers!K22)","v":""},{"$f":"IF(ISBLANK(Trait_Etrangers!L22),\"\",Trait_Etrangers!L22)","v":""},{"$f":"IF(ISBLANK(Trait_Etrangers!M22),\"\",Trait_Etrangers!M22)","v":""},{"$f":"IF(ISBLANK(Trait_Etrangers!N22),\"\",Trait_Etrangers!N22)","v":""},{"$f":"IF(ISBLANK(Trait_Etrangers!O22),\"\",Trait_Etrangers!O22)","v":""},{"$f":"IF(ISBLANK(Trait_Etrangers!P22),\"\",Trait_Etrangers!P22)","v":""},null,{"$f":"IF(ISBLANK(Trait_Etrangers!R22),\"\",Trait_Etrangers!R22)","v":""},{"$f":"IF(ISBLANK(Trait_Etrangers!S22),\"\",Trait_Etrangers!S22)","v":""},{"$f":"IF(ISBLANK(Trait_Etrangers!T22),\"\",Trait_Etrangers!T22)","v":""},{"$f":"IF(ISBLANK(Trait_Etrangers!U22),\"\",Trait_Etrangers!U22)","v":""},null,null,null,"","",0,0,0,0,0,0,0,0,0,0,0,0,0,0,0,0,0,null,1,null,null,{"$f":"IF(AX22=\"\",\"\",IF(CE22=1,\"[b][color=red]\"&Datas!$D$32&\"[/color][/b]\"&AX22&\"[b][color=red]\"&Datas!$D$33&\"{\"&CD22&\"}[/color][/b]\",AX22))","v":{"$error":"#N/A"}},{"$error":"#N/A"}," ",{"$f":"IF(ISBLANK(Datas!$C$47),\"\",\" - \"&BG22)","v":{"$error":"#N/A"}},{"$f":"IF(ISBLANK(Datas!$C$48),\"\",\" - \"&BH22)","v":" - "},{"$f":"IF(ISBLANK(Datas!$C$49),\"\",\" - \"&BI22)","v":""},{"$f":"IF(ISBLANK(Datas!$C$50),\"\",\" - \"&BJ22)","v":" - Ecus:"},{"$f":"IF(ISBLANK(Datas!$C$51),\"\",\" - \"&BK22)","v":" - Niv: "},null,{"$error":"#N/A"},{"$error":"#N/A"},"","PR:","Ecus:","Niv: ",null,null,null,null,"",{"$f":"VLOOKUP(BP22,LstVillage!$B$8:$C$283,1)","v":{"$error":"#N/A"}},{"$error":"#N/A"},{"$error":"#N/A"},"",{"$f":"VLOOKUP(BT22,Datas!$G$6:$G$17,1)","v":{"$error":"#N/A"}},{"$error":"#N/A"},{"$error":"#N/A"},null,"",0,0,null,{"$f":"VLOOKUP(BP22,Liste_Noire!$B$15:$G$1208,1)","v":{"$error":"#N/A"}},{"$f":"VLOOKUP(BP22,Liste_Noire!$B$15:$G$1208,5)","v":{"$error":"#N/A"}},{"$error":"#N/A"},null,0,0,0,0,0,0,1]
[null,""," ","","","","","",{"$f":"IF(ISBLANK(Trait_Etrangers!H23),\"\",Trait_Etrangers!H23)","v":""},{"$f":"IF(ISBLANK(Trait_Etrangers!I23),\"\",Trait_Etrangers!I23)","v":""},{"$f":"IF(ISBLANK(Trait_Etrangers!J23),\"\",Trait_Etrangers!J23)","v":""},{"$f":"IF(ISBLANK(Trait_Etrangers!K23),\"\",Trait_Etrangers!K23)","v":""},{"$f":"IF(ISBLANK(Trait_Etrangers!L23),\"\",Trait_Etrangers!L23)","v":""},{"$f":"IF(ISBLANK(Trait_Etrangers!M23),\"\",Trait_Etrangers!M23)","v":""},{"$f":"IF(ISBLANK(Trait_Etrangers!N23),\"\",Trait_Etrangers!N23)","v":""},{"$f":"IF(ISBLANK(Trait_Etrangers!O23),\"\",Trait_Etrangers!O23)","v":""},{"$f":"IF(ISBLANK(Trait_Etrangers!P23),\"\",Trait_Etrangers!P23)","v":""},null,{"$f":"IF(ISBLANK(Trait_Etrangers!R23),\"\",Trait_Etrangers!R23)","v":""},{"$f":"IF(ISBLANK(Trait_Etrangers!S23),\"\",Trait_Etrangers!S23)","v":""},{"$f":"IF(ISBLANK(Trait_Etrangers!T23),\"\",Trait_Etrangers!T23)","v":""},{"$f":"IF(ISBLANK(Trait_Etrangers!U23),\"\",Trait_Etrangers!U23)","v":""},null,null,null,"","",0,0,0,0,0,0,0,0,0,0,0,0,0,0,0,0,0,null,1,null,null,{"$f":"IF(AX23=\"\",\"\",IF(CE23=1,\"[b][color=red]\"&Datas!$D$32&\"[/color][/b]\"&AX23&\"[b][color=red]\"&Datas!$D$33&\"{\"&CD23&\"}[/color][/b]\",AX23))","v":{"$error":"#N/A"}},{"$error":"#N/A"}," ",{"$f":"IF(ISBLANK(Datas!$C$47),\"\",\" - \"&BG23)","v":{"$error":"#N/A"}},{"$f":"IF(ISBLANK(Datas!$C$48),\"\",\" - \"&BH23)","v":" - "},{"$f":"IF(ISBLANK(Datas!$C$49),\"\",\" - \"&BI23)","v":""},{"$f":"IF(ISBLANK(Datas!$C$50),\"\",\" - \"&BJ23)","v":" - Ecus:"},{"$f":"IF(ISBLANK(Datas!$C$51),\"\",\" - \"&BK23)","v":" - Niv: "},null,{"$error":"#N/A"},{"$error":"#N/A"},"","PR:","Ecus:","Niv: ",null,null,null,null,"",{"$f":"VLOOKUP(BP23,LstVillage!$B$8:$C$283,1)","v":{"$error":"#N/A"}},{"$error":"#N/A"},{"$error":"#N/A"},"",{"$f":"VLOOKUP(BT23,Datas!$G$6:$G$17,1)","v":{"$error":"#N/A"}},{"$error":"#N/A"},{"$error":"#N/A"},null,"",0,0,null,{"$f":"VLOOKUP(BP23,Liste_Noire!$B$15:$G$1208,1)","v":{"$error":"#N/A"}},{"$f":"VLOOKUP(BP23,Liste_Noire!$B$15:$G$1208,5)","v":{"$error":"#N/A"}},{"$error":"#N/A"},null,0,0,0,0,0,0,1]
[null,""," ","","","","","",{"$f":"IF(ISBLANK(Trait_Etrangers!H24),\"\",Trait_Etrangers!H24)","v":""},{"$f":"IF(ISBLANK(Trait_Etrangers!I24),\"\",Trait_Etrangers!I24)","v":""},{"$f":"IF(ISBLANK(Trait_Etrangers!J24),\"\",Trait_Etrangers!J24)","v":""},{"$f":"IF(ISBLANK(Trait_Etrangers!K24),\"\",Trait_Etrangers!K24)","v":""},{"$f":"IF(ISBLANK(Trait_Etrangers!L24),\"\",Trait_Etrangers!L24)","v":""},{"$f":"IF(ISBLANK(Trait_Etrangers!M24),\"\",Trait_Etrangers!M24)","v":""},{"$f":"IF(ISBLANK(Trait_Etrangers!N24),\"\",Trait_Etrangers!N24)","v":""},{"$f":"IF(ISBLANK(Trait_Etrangers!O24),\"\",Trait_Etrangers!O24)","v":""},{"$f":"IF(ISBLANK(Trait_Etrangers!P24),\"\",Trait_Etrangers!P24)","v":""},null,{"$f":"IF(ISBLANK(Trait_Etrangers!R24),\"\",Trait_Etrangers!R24)","v":""},{"$f":"IF(ISBLANK(Trait_Etrangers!S24),\"\",Trait_Etrangers!S24)","v":""},{"$f":"IF(ISBLANK(Trait_Etrangers!T24),\"\",Trait_Etrangers!T24)","v":""},{"$f":"IF(ISBLANK(Trait_Etrangers!U24),\"\",Trait_Etrangers!U24)","v":""},null,null,null,"","",0,0,0,0,0,0,0,0,0,0,0,0,0,0,0,0,0,null,1,null,null,{"$f":"IF(AX24=\"\",\"\",IF(CE24=1,\"[b][color=red]\"&Datas!$D$32&\"[/color][/b]\"&AX24&\"[b][color=red]\"&Datas!$D$33&\"{\"&CD24&\"}[/color][/b]\",AX24))","v":{"$error":"#N/A"}},{"$error":"#N/A"}," ",{"$f":"IF(ISBLANK(Datas!$C$47),\"\",\" - \"&BG24)","v":{"$error":"#N/A"}},{"$f":"IF(ISBLANK(Datas!$C$48),\"\",\" - \"&BH24)","v":" - "},{"$f":"IF(ISBLANK(Datas!$C$49),\"\",\" - \"&BI24)","v":""},{"$f":"IF(ISBLANK(Datas!$C$50),\"\",\" - \"&BJ24)","v":" - Ecus:"},{"$f":"IF(ISBLANK(Datas!$C$51),\"\",\" - \"&BK24)","v":" - Niv: "},null,{"$error":"#N/A"},{"$error":"#N/A"},"","PR:","Ecus:","Niv: ",null,null,null,null,"",{"$f":"VLOOKUP(BP24,LstVillage!$B$8:$C$283,1)","v":{"$error":"#N/A"}},{"$error":"#N/A"},{"$error":"#N/A"},"",{"$f":"VLOOKUP(BT24,Datas!$G$6:$G$17,1)","v":{"$error":"#N/A"}},{"$error":"#N/A"},{"$error":"#N/A"},null,"",0,0,null,{"$f":"VLOOKUP(BP24,Liste_Noire!$B$15:$G$1208,1)","v":{"$error":"#N/A"}},{"$f":"VLOOKUP(BP24,Liste_Noire!$B$15:$G$1208,5)","v":{"$error":"#N/A"}},{"$error":"#N/A"},null,0,0,0,0,0,0,1]
[null,""," ","","","","","",{"$f":"IF(ISBLANK(Trait_Etrangers!H25),\"\",Trait_Etrangers!H25)","v":""},{"$f":"IF(ISBLANK(Trait_Etrangers!I25),\"\",Trait_Etrangers!I25)","v":""},{"$f":"IF(ISBLANK(Trait_Etrangers!J25),\"\",Trait_Etrangers!J25)","v":""},{"$f":"IF(ISBLANK(Trait_Etrangers!K25),\"\",Trait_Etrangers!K25)","v":""},{"$f":"IF(ISBLANK(Trait_Etrangers!L25),\"\",Trait_Etrangers!L25)","v":""},{"$f":"IF(ISBLANK(Trait_Etrangers!M25),\"\",Trait_Etrangers!M25)","v":""},{"$f":"IF(ISBLANK(Trait_Etrangers!N25),\"\",Trait_Etrangers!N25)","v":""},{"$f":"IF(ISBLANK(Trait_Etrangers!O25),\"\",Trait_Etrangers!O25)","v":""},{"$f":"IF(ISBLANK(Trait_Etrangers!P25),\"\",Trait_Etrangers!P25)","v":""},null,{"$f":"IF(ISBLANK(Trait_Etrangers!R25),\"\",Trait_Etrangers!R25)","v":""},{"$f":"IF(ISBLANK(Trait_Etrangers!S25),\"\",Trait_Etrangers!S25)","v":""},{"$f":"IF(ISBLANK(Trait_Etrangers!T25),\"\",Trait_Etrangers!T25)","v":""},{"$f":"IF(ISBLANK(Trait_Etrangers!U25),\"\",Trait_Etrangers!U25)","v":""},null,null,null,"","",0,0,0,0,0,0,0,0,0,0,0,0,0,0,0,0,0,null,1,null,null,{"$f":"IF(AX25=\"\",\"\",IF(CE25=1,\"[b][color=red]\"&Datas!$D$32&\"[/color][/b]\"&AX25&\"[b][color=red]\"&Datas!$D$33&\"{\"&CD25&\"}[/color][/b]\",AX25))","v":{"$error":"#N/A"}},{"$error":"#N/A"}," ",{"$f":"IF(ISBLANK(Datas!$C$47),\"\",\" - \"&BG25)","v":{"$error":"#N/A"}},{"$f":"IF(ISBLANK(Datas!$C$48),\"\",\" - \"&BH25)","v":" - "},{"$f":"IF(ISBLANK(Datas!$C$49),\"\",\" - \"&BI25)","v":""},{"$f":"IF(ISBLANK(Datas!$C$50),\"\",\" - \"&BJ25)","v":" - Ecus:"},{"$f":"IF(ISBLANK(Datas!$C$51),\"\",\" - \"&BK25)","v":" - Niv: "},null,{"$error":"#N/A"},{"$error":"#N/A"},"","PR:","Ecus:","Niv: ",null,null,null,null,"",{"$f":"VLOOKUP(BP25,LstVillage!$B$8:$C$283,1)","v":{"$error":"#N/A"}},{"$error":"#N/A"},{"$error":"#N/A"},"",{"$f":"VLOOKUP(BT25,Datas!$G$6:$G$17,1)","v":{"$error":"#N/A"}},{"$error":"#N/A"},{"$error":"#N/A"},null,"",0,0,null,{"$f":"VLOOKUP(BP25,Liste_Noire!$B$15:$G$1208,1)","v":{"$error":"#N/A"}},{"$f":"VLOOKUP(BP25,Liste_Noire!$B$15:$G$1208,5)","v":{"$error":"#N/A"}},{"$error":"#N/A"},null,0,0,0,0,0,0,1]
[null,""," ","","","","","",{"$f":"IF(ISBLANK(Trait_Etrangers!H26),\"\",Trait_Etrangers!H26)","v":""},{"$f":"IF(ISBLANK(Trait_Etrangers!I26),\"\",Trait_Etrangers!I26)","v":""},{"$f":"IF(ISBLANK(Trait_Etrangers!J26),\"\",Trait_Etrangers!J26)","v":""},{"$f":"IF(ISBLANK(Trait_Etrangers!K26),\"\",Trait_Etrangers!K26)","v":""},{"$f":"IF(ISBLANK(Trait_Etrangers!L26),\"\",Trait_Etrangers!L26)","v":""},{"$f":"IF(ISBLANK(Trait_Etrangers!M26),\"\",Trait_Etrangers!M26)","v":""},{"$f":"IF(ISBLANK(Trait_Etrangers!N26),\"\",Trait_Etrangers!N26)","v":""},{"$f":"IF(ISBLANK(Trait_Etrangers!O26),\"\",Trait_Etrangers!O26)","v":""},{"$f":"IF(ISBLANK(Trait_Etrangers!P26),\"\",Trait_Etrangers!P26)","v":""},null,{"$f":"IF(ISBLANK(Trait_Etrangers!R26),\"\",Trait_Etrangers!R26)","v":""},{"$f":"IF(ISBLANK(Trait_Etrangers!S26),\"\",Trait_Etrangers!S26)","v":""},{"$f":"IF(ISBLANK(Trait_Etrangers!T26),\"\",Trait_Etrangers!T26)","v":""},{"$f":"IF(ISBLANK(Trait_Etrangers!U26),\"\",Trait_Etrangers!U26)","v":""},null,null,null,"","",0,0,0,0,0,0,0,0,0,0,0,0,0,0,0,0,0,null,1,null,null,{"$f":"IF(AX26=\"\",\"\",IF(CE26=1,\"[b][color=red]\"&Datas!$D$32&\"[/color][/b]\"&AX26&\"[b][color=red]\"&Datas!$D$33&\"{\"&CD26&\"}[/color][/b]\",AX26))","v":{"$error":"#N/A"}},{"$error":"#N/A"}," ",{"$f":"IF(ISBLANK(Datas!$C$47),\"\",\" - \"&BG26)","v":{"$error":"#N/A"}},{"$f":"IF(ISBLANK(Datas!$C$48),\"\",\" - \"&BH26)","v":" - "},{"$f":"IF(ISBLANK(Datas!$C$49),\"\",\" - \"&BI26)","v":""},{"$f":"IF(ISBLANK(Datas!$C$50),\"\",\" - \"&BJ26)","v":" - Ecus:"},{"$f":"IF(ISBLANK(Datas!$C$51),\"\",\" - \"&BK26)","v":" - Niv: "},null,{"$error":"#N/A"},{"$error":"#N/A"},"","PR:","Ecus:","Niv: ",null,null,null,null,"",{"$f":"VLOOKUP(BP26,LstVillage!$B$8:$C$283,1)","v":{"$error":"#N/A"}},{"$error":"#N/A"},{"$error":"#N/A"},"",{"$f":"VLOOKUP(BT26,Datas!$G$6:$G$17,1)","v":{"$error":"#N/A"}},{"$error":"#N/A"},{"$error":"#N/A"},null,"",0,0,null,{"$f":"VLOOKUP(BP26,Liste_Noire!$B$15:$G$1208,1)","v":{"$error":"#N/A"}},{"$f":"VLOOKUP(BP26,Liste_Noire!$B$15:$G$1208,5)","v":{"$error":"#N/A"}},{"$error":"#N/A"},null,0,0,0,0,0,0,1]
[null,""," ","","","","","",{"$f":"IF(ISBLANK(Trait_Etrangers!H27),\"\",Trait_Etrangers!H27)","v":""},{"$f":"IF(ISBLANK(Trait_Etrangers!I27),\"\",Trait_Etrangers!I27)","v":""},{"$f":"IF(ISBLANK(Trait_Etrangers!J27),\"\",Trait_Etrangers!J27)","v":""},{"$f":"IF(ISBLANK(Trait_Etrangers!K27),\"\",Trait_Etrangers!K27)","v":""},{"$f":"IF(ISBLANK(Trait_Etrangers!L27),\"\",Trait_Etrangers!L27)","v":""},{"$f":"IF(ISBLANK(Trait_Etrangers!M27),\"\",Trait_Etrangers!M27)","v":""},{"$f":"IF(ISBLANK(Trait_Etrangers!N27),\"\",Trait_Etrangers!N27)","v":""},{"$f":"IF(ISBLANK(Trait_Etrangers!O27),\"\",Trait_Etrangers!O27)","v":""},{"$f":"IF(ISBLANK(Trait_Etrangers!P27),\"\",Trait_Etrangers!P27)","v":""},null,{"$f":"IF(ISBLANK(Trait_Etrangers!R27),\"\",Trait_Etrangers!R27)","v":""},{"$f":"IF(ISBLANK(Trait_Etrangers!S27),\"\",Trait_Etrangers!S27)","v":""},{"$f":"IF(ISBLANK(Trait_Etrangers!T27),\"\",Trait_Etrangers!T27)","v":""},{"$f":"IF(ISBLANK(Trait_Etrangers!U27),\"\",Trait_Etrangers!U27)","v":""},null,null,null,"","",0,0,0,0,0,0,0,0,0,0,0,0,0,0,0,0,0,null,1,null,null,{"$f":"IF(AX27=\"\",\"\",IF(CE27=1,\"[b][color=red]\"&Datas!$D$32&\"[/color][/b]\"&AX27&\"[b][color=red]\"&Datas!$D$33&\"{\"&CD27&\"}[/color][/b]\",AX27))","v":{"$error":"#N/A"}},{"$error":"#N/A"}," ",{"$f":"IF(ISBLANK(Datas!$C$47),\"\",\" - \"&BG27)","v":{"$error":"#N/A"}},{"$f":"IF(ISBLANK(Datas!$C$48),\"\",\" - \"&BH27)","v":" - "},{"$f":"IF(ISBLANK(Datas!$C$49),\"\",\" - \"&BI27)","v":""},{"$f":"IF(ISBLANK(Datas!$C$50),\"\",\" - \"&BJ27)","v":" - Ecus:"},{"$f":"IF(ISBLANK(Datas!$C$51),\"\",\" - \"&BK27)","v":" - Niv: "},null,{"$error":"#N/A"},{"$error":"#N/A"},"","PR:","Ecus:","Niv: ",null,null,null,null,"",{"$f":"VLOOKUP(BP27,LstVillage!$B$8:$C$283,1)","v":{"$error":"#N/A"}},{"$error":"#N/A"},{"$error":"#N/A"},"",{"$f":"VLOOKUP(BT27,Datas!$G$6:$G$17,1)","v":{"$error":"#N/A"}},{"$error":"#N/A"},{"$error":"#N/A"},null,"",0,0,null,{"$f":"VLOOKUP(BP27,Liste_Noire!$B$15:$G$1208,1)","v":{"$error":"#N/A"}},{"$f":"VLOOKUP(BP27,Liste_Noire!$B$15:$G$1208,5)","v":{"$error":"#N/A"}},{"$error":"#N/A"},null,0,0,0,0,0,0,1]
[null,""," ","","","","","",{"$f":"IF(ISBLANK(Trait_Etrangers!H28),\"\",Trait_Etrangers!H28)","v":""},{"$f":"IF(ISBLANK(Trait_Etrangers!I28),\"\",Trait_Etrangers!I28)","v":""},{"$f":"IF(ISBLANK(Trait_Etrangers!J28),\"\",Trait_Etrangers!J28)","v":""},{"$f":"IF(ISBLANK(Trait_Etrangers!K28),\"\",Trait_Etrangers!K28)","v":""},{"$f":"IF(ISBLANK(Trait_Etrangers!L28),\"\",Trait_Etrangers!L28)","v":""},{"$f":"IF(ISBLANK(Trait_Etrangers!M28),\"\",Trait_Etrangers!M28)","v":""},{"$f":"IF(ISBLANK(Trait_Etrangers!N28),\"\",Trait_Etrangers!N28)","v":""},{"$f":"IF(ISBLANK(Trait_Etrangers!O28),\"\",Trait_Etrangers!O28)","v":""},{"$f":"IF(ISBLANK(Trait_Etrangers!P28),\"\",Trait_Etrangers!P28)","v":""},null,{"$f":"IF(ISBLANK(Trait_Etrangers!R28),\"\",Trait_Etrangers!R28)","v":""},{"$f":"IF(ISBLANK(Trait_Etrangers!S28),\"\",Trait_Etrangers!S28)","v":""},{"$f":"IF(ISBLANK(Trait_Etrangers!T28),\"\",Trait_Etrangers!T28)","v":""},{"$f":"IF(ISBLANK(Trait_Etrangers!U28),\"\",Trait_Etrangers!U28)","v":""},null,null,null,"","",0,0,0,0,0,0,0,0,0,0,0,0,0,0,0,0,0,null,1,null,null,{"$f":"IF(AX28=\"\",\"\",IF(CE28=1,\"[b][color=red]\"&Datas!$D$32&\"[/color][/b]\"&AX28&\"[b][color=red]\"&Datas!$D$33&\"{\"&CD28&\"}[/color][/b]\",AX28))","v":{"$error":"#N/A"}},{"$error":"#N/A"}," ",{"$f":"IF(ISBLANK(Datas!$C$47),\"\",\" - \"&BG28)","v":{"$error":"#N/A"}},{"$f":"IF(ISBLANK(Datas!$C$48),\"\",\" - \"&BH28)","v":" - "},{"$f":"IF(ISBLANK(Datas!$C$49),\"\",\" - \"&BI28)","v":""},{"$f":"IF(ISBLANK(Datas!$C$50),\"\",\" - \"&BJ28)","v":" - Ecus:"},{"$f":"IF(ISBLANK(Datas!$C$51),\"\",\" - \"&BK28)","v":" - Niv: "},null,{"$error":"#N/A"},{"$error":"#N/A"},"","PR:","Ecus:","Niv: ",null,null,null,null,"",{"$f":"VLOOKUP(BP28,LstVillage!$B$8:$C$283,1)","v":{"$error":"#N/A"}},{"$error":"#N/A"},{"$error":"#N/A"},"",{"$f":"VLOOKUP(BT28,Datas!$G$6:$G$17,1)","v":{"$error":"#N/A"}},{"$error":"#N/A"},{"$error":"#N/A"},null,"",0,0,null,{"$f":"VLOOKUP(BP28,Liste_Noire!$B$15:$G$1208,1)","v":{"$error":"#N/A"}},{"$f":"VLOOKUP(BP28,Liste_Noire!$B$15:$G$1208,5)","v":{"$error":"#N/A"}},{"$error":"#N/A"},null,0,0,0,0,0,0,1]
[null,""," ","","","","","",{"$f":"IF(ISBLANK(Trait_Etrangers!H29),\"\",Trait_Etrangers!H29)","v":""},{"$f":"IF(ISBLANK(Trait_Etrangers!I29),\"\",Trait_Etrangers!I29)","v":""},{"$f":"IF(ISBLANK(Trait_Etrangers!J29),\"\",Trait_Etrangers!J29)","v":""},{"$f":"IF(ISBLANK(Trait_Etrangers!K29),\"\",Trait_Etrangers!K29)","v":""},{"$f":"IF(ISBLANK(Trait_Etrangers!L29),\"\",Trait_Etrangers!L29)","v":""},{"$f":"IF(ISBLANK(Trait_Etrangers!M29),\"\",Trait_Etrangers!M29)","v":""},{"$f":"IF(ISBLANK(Trait_Etrangers!N29),\"\",Trait_Etrangers!N29)","v":""},{"$f":"IF(ISBLANK(Trait_Etrangers!O29),\"\",Trait_Etrangers!O29)","v":""},{"$f":"IF(ISBLANK(Trait_Etrangers!P29),\"\",Trait_Etrangers!P29)","v":""},null,{"$f":"IF(ISBLANK(Trait_Etrangers!R29),\"\",Trait_Etrangers!R29)","v":""},{"$f":"IF(ISBLANK(Trait_Etrangers!S29),\"\",Trait_Etrangers!S29)","v":""},{"$f":"IF(ISBLANK(Trait_Etrangers!T29),\"\",Trait_Etrangers!T29)","v":""},{"$f":"IF(ISBLANK(Trait_Etrangers!U29),\"\",Trait_Etrangers!U29)","v":""},null,null,null,"","",0,0,0,0,0,0,0,0,0,0,0,0,0,0,0,0,0,null,1,null,null,{"$f":"IF(AX29=\"\",\"\",IF(CE29=1,\"[b][color=red]\"&Datas!$D$32&\"[/color][/b]\"&AX29&\"[b][color=red]\"&Datas!$D$33&\"{\"&CD29&\"}[/color][/b]\",AX29))","v":{"$error":"#N/A"}},{"$error":"#N/A"}," ",{"$f":"IF(ISBLANK(Datas!$C$47),\"\",\" - \"&BG29)","v":{"$error":"#N/A"}},{"$f":"IF(ISBLANK(Datas!$C$48),\"\",\" - \"&BH29)","v":" - "},{"$f":"IF(ISBLANK(Datas!$C$49),\"\",\" - \"&BI29)","v":""},{"$f":"IF(ISBLANK(Datas!$C$50),\"\",\" - \"&BJ29)","v":" - Ecus:"},{"$f":"IF(ISBLANK(Datas!$C$51),\"\",\" - \"&BK29)","v":" - Niv: "},null,{"$error":"#N/A"},{"$error":"#N/A"},"","PR:","Ecus:","Niv: ",null,null,null,null,"",{"$f":"VLOOKUP(BP29,LstVillage!$B$8:$C$283,1)","v":{"$error":"#N/A"}},{"$error":"#N/A"},{"$error":"#N/A"},"",{"$f":"VLOOKUP(BT29,Datas!$G$6:$G$17,1)","v":{"$error":"#N/A"}},{"$error":"#N/A"},{"$error":"#N/A"},null,"",0,0,null,{"$f":"VLOOKUP(BP29,Liste_Noire!$B$15:$G$1208,1)","v":{"$error":"#N/A"}},{"$f":"VLOOKUP(BP29,Liste_Noire!$B$15:$G$1208,5)","v":{"$error":"#N/A"}},{"$error":"#N/A"},null,0,0,0,0,0,0,1]
[null,""," ","","","","","",{"$f":"IF(ISBLANK(Trait_Etrangers!H30),\"\",Trait_Etrangers!H30)","v":""},{"$f":"IF(ISBLANK(Trait_Etrangers!I30),\"\",Trait_Etrangers!I30)","v":""},{"$f":"IF(ISBLANK(Trait_Etrangers!J30),\"\",Trait_Etrangers!J30)","v":""},{"$f":"IF(ISBLANK(Trait_Etrangers!K30),\"\",Trait_Etrangers!K30)","v":""},{"$f":"IF(ISBLANK(Trait_Etrangers!L30),\"\",Trait_Etrangers!L30)","v":""},{"$f":"IF(ISBLANK(Trait_Etrangers!M30),\"\",Trait_Etrangers!M30)","v":""},{"$f":"IF(ISBLANK(Trait_Etrangers!N30),\"\",Trait_Etrangers!N30)","v":""},{"$f":"IF(ISBLANK(Trait_Etrangers!O30),\"\",Trait_Etrangers!O30)","v":""},{"$f":"IF(ISBLANK(Trait_Etrangers!P30),\"\",Trait_Etrangers!P30)","v":""},null,{"$f":"IF(ISBLANK(Trait_Etrangers!R30),\"\",Trait_Etrangers!R30)","v":""},{"$f":"IF(ISBLANK(Trait_Etrangers!S30),\"\",Trait_Etrangers!S30)","v":""},{"$f":"IF(ISBLANK(Trait_Etrangers!T30),\"\",Trait_Etrangers!T30)","v":""},{"$f":"IF(ISBLANK(Trait_Etrangers!U30),\"\",Trait_Etrangers!U30)","v":""},null,null,null,"","",0,0,0,0,0,0,0,0,0,0,0,0,0,0,0,0,0,null,1,null,null,{"$f":"IF(AX30=\"\",\"\",IF(CE30=1,\"[b][color=red]\"&Datas!$D$32&\"[/color][/b]\"&AX30&\"[b][color=red]\"&Datas!$D$33&\"{\"&CD30&\"}[/color][/b]\",AX30))","v":{"$error":"#N/A"}},{"$error":"#N/A"}," ",{"$f":"IF(ISBLANK(Datas!$C$47),\"\",\" - \"&BG30)","v":{"$error":"#N/A"}},{"$f":"IF(ISBLANK(Datas!$C$48),\"\",\" - \"&BH30)","v":" - "},{"$f":"IF(ISBLANK(Datas!$C$49),\"\",\" - \"&BI30)","v":""},{"$f":"IF(ISBLANK(Datas!$C$50),\"\",\" - \"&BJ30)","v":" - Ecus:"},{"$f":"IF(ISBLANK(Datas!$C$51),\"\",\" - \"&BK30)","v":" - Niv: "},null,{"$error":"#N/A"},{"$error":"#N/A"},"","PR:","Ecus:","Niv: ",null,null,null,null,"",{"$f":"VLOOKUP(BP30,LstVillage!$B$8:$C$283,1)","v":{"$error":"#N/A"}},{"$error":"#N/A"},{"$error":"#N/A"},"",{"$f":"VLOOKUP(BT30,Datas!$G$6:$G$17,1)","v":{"$error":"#N/A"}},{"$error":"#N/A"},{"$error":"#N/A"},null,"",0,0,null,{"$f":"VLOOKUP(BP30,Liste_Noire!$B$15:$G$1208,1)","v":{"$error":"#N/A"}},{"$f":"VLOOKUP(BP30,Liste_Noire!$B$15:$G$1208,5)","v":{"$error":"#N/A"}},{"$error":"#N/A"},null,0,0,0,0,0,0,1]
[null,""," ","","","","","",{"$f":"IF(ISBLANK(Trait_Etrangers!H31),\"\",Trait_Etrangers!H31)","v":""},{"$f":"IF(ISBLANK(Trait_Etrangers!I31),\"\",Trait_Etrangers!I31)","v":""},{"$f":"IF(ISBLANK(Trait_Etrangers!J31),\"\",Trait_Etrangers!J31)","v":""},{"$f":"IF(ISBLANK(Trait_Etrangers!K31),\"\",Trait_Etrangers!K31)","v":""},{"$f":"IF(ISBLANK(Trait_Etrangers!L31),\"\",Trait_Etrangers!L31)","v":""},{"$f":"IF(ISBLANK(Trait_Etrangers!M31),\"\",Trait_Etrangers!M31)","v":""},{"$f":"IF(ISBLANK(Trait_Etrangers!N31),\"\",Trait_Etrangers!N31)","v":""},{"$f":"IF(ISBLANK(Trait_Etrangers!O31),\"\",Trait_Etrangers!O31)","v":""},{"$f":"IF(ISBLANK(Trait_Etrangers!P31),\"\",Trait_Etrangers!P31)","v":""},null,{"$f":"IF(ISBLANK(Trait_Etrangers!R31),\"\",Trait_Etrangers!R31)","v":""},{"$f":"IF(ISBLANK(Trait_Etrangers!S31),\"\",Trait_Etrangers!S31)","v":""},{"$f":"IF(ISBLANK(Trait_Etrangers!T31),\"\",Trait_Etrangers!T31)","v":""},{"$f":"IF(ISBLANK(Trait_Etrangers!U31),\"\",Trait_Etrangers!U31)","v":""},null,null,null,"","",0,0,0,0,0,0,0,0,0,0,0,0,0,0,0,0,0,null,1,null,null,{"$f":"IF(AX31=\"\",\"\",IF(CE31=1,\"[b][color=red]\"&Datas!$D$32&\"[/color][/b]\"&AX31&\"[b][color=red]\"&Datas!$D$33&\"{\"&CD31&\"}[/color][/b]\",AX31))","v":{"$error":"#N/A"}},{"$error":"#N/A"}," ",{"$f":"IF(ISBLANK(Datas!$C$47),\"\",\" - \"&BG31)","v":{"$error":"#N/A"}},{"$f":"IF(ISBLANK(Datas!$C$48),\"\",\" - \"&BH31)","v":" - "},{"$f":"IF(ISBLANK(Datas!$C$49),\"\",\" - \"&BI31)","v":""},{"$f":"IF(ISBLANK(Datas!$C$50),\"\",\" - \"&BJ31)","v":" - Ecus:"},{"$f":"IF(ISBLANK(Datas!$C$51),\"\",\" - \"&BK31)","v":" - Niv: "},null,{"$error":"#N/A"},{"$error":"#N/A"},"","PR:","Ecus:","Niv: ",null,null,null,null,"",{"$f":"VLOOKUP(BP31,LstVillage!$B$8:$C$283,1)","v":{"$error":"#N/A"}},{"$error":"#N/A"},{"$error":"#N/A"},"",{"$f":"VLOOKUP(BT31,Datas!$G$6:$G$17,1)","v":{"$error":"#N/A"}},{"$error":"#N/A"},{"$error":"#N/A"},null,"",0,0,null,{"$f":"VLOOKUP(BP31,Liste_Noire!$B$15:$G$1208,1)","v":{"$error":"#N/A"}},{"$f":"VLOOKUP(BP31,Liste_Noire!$B$15:$G$1208,5)","v":{"$error":"#N/A"}},{"$error":"#N/A"},null,0,0,0,0,0,0,1]
[null,""," ","","","","","",{"$f":"IF(ISBLANK(Trait_Etrangers!H32),\"\",Trait_Etrangers!H32)","v":""},{"$f":"IF(ISBLANK(Trait_Etrangers!I32),\"\",Trait_Etrangers!I32)","v":""},{"$f":"IF(ISBLANK(Trait_Etrangers!J32),\"\",Trait_Etrangers!J32)","v":""},{"$f":"IF(ISBLANK(Trait_Etrangers!K32),\"\",Trait_Etrangers!K32)","v":""},{"$f":"IF(ISBLANK(Trait_Etrangers!L32),\"\",Trait_Etrangers!L32)","v":""},{"$f":"IF(ISBLANK(Trait_Etrangers!M32),\"\",Trait_Etrangers!M32)","v":""},{"$f":"IF(ISBLANK(Trait_Etrangers!N32),\"\",Trait_Etrangers!N32)","v":""},{"$f":"IF(ISBLANK(Trait_Etrangers!O32),\"\",Trait_Etrangers!O32)","v":""},{"$f":"IF(ISBLANK(Trait_Etrangers!P32),\"\",Trait_Etrangers!P32)","v":""},null,{"$f":"IF(ISBLANK(Trait_Etrangers!R32),\"\",Trait_Etrangers!R32)","v":""},{"$f":"IF(ISBLANK(Trait_Etrangers!S32),\"\",Trait_Etrangers!S32)","v":""},{"$f":"IF(ISBLANK(Trait_Etrangers!T32),\"\",Trait_Etrangers!T32)","v":""},{"$f":"IF(ISBLANK(Trait_Etrangers!U32),\"\",Trait_Etrangers!U32)","v":""},null,null,null,"","",0,0,0,0,0,0,0,0,0,0,0,0,0,0,0,0,0,null,1,null,null,{"$f":"IF(AX32=\"\",\"\",IF(CE32=1,\"[b][color=red]\"&Datas!$D$32&\"[/color][/b]\"&AX32&\"[b][color=red]\"&Datas!$D$33&\"{\"&CD32&\"}[/color][/b]\",AX32))","v":{"$error":"#N/A"}},{"$error":"#N/A"}," ",{"$f":"IF(ISBLANK(Datas!$C$47),\"\",\" - \"&BG32)","v":{"$error":"#N/A"}},{"$f":"IF(ISBLANK(Datas!$C$48),\"\",\" - \"&BH32)","v":" - "},{"$f":"IF(ISBLANK(Datas!$C$49),\"\",\" - \"&BI32)","v":""},{"$f":"IF(ISBLANK(Datas!$C$50),\"\",\" - \"&BJ32)","v":" - Ecus:"},{"$f":"IF(ISBLANK(Datas!$C$51),\"\",\" - \"&BK32)","v":" - Niv: "},null,{"$error":"#N/A"},{"$error":"#N/A"},"","PR:","Ecus:","Niv: ",null,null,null,null,"",{"$f":"VLOOKUP(BP32,LstVillage!$B$8:$C$283,1)","v":{"$error":"#N/A"}},{"$error":"#N/A"},{"$error":"#N/A"},"",{"$f":"VLOOKUP(BT32,Datas!$G$6:$G$17,1)","v":{"$error":"#N/A"}},{"$error":"#N/A"},{"$error":"#N/A"},null,"",0,0,null,{"$f":"VLOOKUP(BP32,Liste_Noire!$B$15:$G$1208,1)","v":{"$error":"#N/A"}},{"$f":"VLOOKUP(BP32,Liste_Noire!$B$15:$G$1208,5)","v":{"$error":"#N/A"}},{"$error":"#N/A"},null,0,0,0,0,0,0,1]
[null,""," ","","","","","",{"$f":"IF(ISBLANK(Trait_Etrangers!H33),\"\",Trait_Etrangers!H33)","v":""},{"$f":"IF(ISBLANK(Trait_Etrangers!I33),\"\",Trait_Etrangers!I33)","v":""},{"$f":"IF(ISBLANK(Trait_Etrangers!J33),\"\",Trait_Etrangers!J33)","v":""},{"$f":"IF(ISBLANK(Trait_Etrangers!K33),\"\",Trait_Etrangers!K33)","v":""},{"$f":"IF(ISBLANK(Trait_Etrangers!L33),\"\",Trait_Etrangers!L33)","v":""},{"$f":"IF(ISBLANK(Trait_Etrangers!M33),\"\",Trait_Etrangers!M33)","v":""},{"$f":"IF(ISBLANK(Trait_Etrangers!N33),\"\",Trait_Etrangers!N33)","v":""},{"$f":"IF(ISBLANK(Trait_Etrangers!O33),\"\",Trait_Etrangers!O33)","v":""},{"$f":"IF(ISBLANK(Trait_Etrangers!P33),\"\",Trait_Etrangers!P33)","v":""},null,{"$f":"IF(ISBLANK(Trait_Etrangers!R33),\"\",Trait_Etrangers!R33)","v":""},{"$f":"IF(ISBLANK(Trait_Etrangers!S33),\"\",Trait_Etrangers!S33)","v":""},{"$f":"IF(ISBLANK(Trait_Etrangers!T33),\"\",Trait_Etrangers!T33)","v":""},{"$f":"IF(ISBLANK(Trait_Etrangers!U33),\"\",Trait_Etrangers!U33)","v":""},null,null,null,"","",0,0,0,0,0,0,0,0,0,0,0,0,0,0,0,0,0,null,1,null,null,{"$f":"IF(AX33=\"\",\"\",IF(CE33=1,\"[b][color=red]\"&Datas!$D$32&\"[/color][/b]\"&AX33&\"[b][color=red]\"&Datas!$D$33&\"{\"&CD33&\"}[/color][/b]\",AX33))","v":{"$error":"#N/A"}},{"$error":"#N/A"}," ",{"$f":"IF(ISBLANK(Datas!$C$47),\"\",\" - \"&BG33)","v":{"$error":"#N/A"}},{"$f":"IF(ISBLANK(Datas!$C$48),\"\",\" - \"&BH33)","v":" - "},{"$f":"IF(ISBLANK(Datas!$C$49),\"\",\" - \"&BI33)","v":""},{"$f":"IF(ISBLANK(Datas!$C$50),\"\",\" - \"&BJ33)","v":" - Ecus:"},{"$f":"IF(ISBLANK(Datas!$C$51),\"\",\" - \"&BK33)","v":" - Niv: "},null,{"$error":"#N/A"},{"$error":"#N/A"},"","PR:","Ecus:","Niv: ",null,null,null,null,"",{"$f":"VLOOKUP(BP33,LstVillage!$B$8:$C$283,1)","v":{"$error":"#N/A"}},{"$error":"#N/A"},{"$error":"#N/A"},"",{"$f":"VLOOKUP(BT33,Datas!$G$6:$G$17,1)","v":{"$error":"#N/A"}},{"$error":"#N/A"},{"$error":"#N/A"},null,"",0,0,null,{"$f":"VLOOKUP(BP33,Liste_Noire!$B$15:$G$1208,1)","v":{"$error":"#N/A"}},{"$f":"VLOOKUP(BP33,Liste_Noire!$B$15:$G$1208,5)","v":{"$error":"#N/A"}},{"$error":"#N/A"},null,0,0,0,0,0,0,1]
[null,""," ","","","","","",{"$f":"IF(ISBLANK(Trait_Etrangers!H34),\"\",Trait_Etrangers!H34)","v":""},{"$f":"IF(ISBLANK(Trait_Etrangers!I34),\"\",Trait_Etrangers!I34)","v":""},{"$f":"IF(ISBLANK(Trait_Etrangers!J34),\"\",Trait_Etrangers!J34)","v":""},{"$f":"IF(ISBLANK(Trait_Etrangers!K34),\"\",Trait_Etrangers!K34)","v":""},{"$f":"IF(ISBLANK(Trait_Etrangers!L34),\"\",Trait_Etrangers!L34)","v":""},{"$f":"IF(ISBLANK(Trait_Etrangers!M34),\"\",Trait_Etrangers!M34)","v":""},{"$f":"IF(ISBLANK(Trait_Etrangers!N34),\"\",Trait_Etrangers!N34)","v":""},{"$f":"IF(ISBLANK(Trait_Etrangers!O34),\"\",Trait_Etrangers!O34)","v":""},{"$f":"IF(ISBLANK(Trait_Etrangers!P34),\"\",Trait_Etrangers!P34)","v":""},null,{"$f":"IF(ISBLANK(Trait_Etrangers!R34),\"\",Trait_Etrangers!R34)","v":""},{"$f":"IF(ISBLANK(Trait_Etrangers!S34),\"\",Trait_Etrangers!S34)","v":""},{"$f":"IF(ISBLANK(Trait_Etrangers!T34),\"\",Trait_Etrangers!T34)","v":""},{"$f":"IF(ISBLANK(Trait_Etrangers!U34),\"\",Trait_Etrangers!U34)","v":""},null,null,null,"","",0,0,0,0,0,0,0,0,0,0,0,0,0,0,0,0,0,null,1,null,null,{"$f":"IF(AX34=\"\",\"\",IF(CE34=1,\"[b][color=red]\"&Datas!$D$32&\"[/color][/b]\"&AX34&\"[b][color=red]\"&Datas!$D$33&\"{\"&CD34&\"}[/color][/b]\",AX34))","v":{"$error":"#N/A"}},{"$error":"#N/A"}," ",{"$f":"IF(ISBLANK(Datas!$C$47),\"\",\" - \"&BG34)","v":{"$error":"#N/A"}},{"$f":"IF(ISBLANK(Datas!$C$48),\"\",\" - \"&BH34)","v":" - "},{"$f":"IF(ISBLANK(Datas!$C$49),\"\",\" - \"&BI34)","v":""},{"$f":"IF(ISBLANK(Datas!$C$50),\"\",\" - \"&BJ34)","v":" - Ecus:"},{"$f":"IF(ISBLANK(Datas!$C$51),\"\",\" - \"&BK34)","v":" - Niv: "},null,{"$error":"#N/A"},{"$error":"#N/A"},"","PR:","Ecus:","Niv: ",null,null,null,null,"",{"$f":"VLOOKUP(BP34,LstVillage!$B$8:$C$283,1)","v":{"$error":"#N/A"}},{"$error":"#N/A"},{"$error":"#N/A"},"",{"$f":"VLOOKUP(BT34,Datas!$G$6:$G$17,1)","v":{"$error":"#N/A"}},{"$error":"#N/A"},{"$error":"#N/A"},null,"",0,0,null,{"$f":"VLOOKUP(BP34,Liste_Noire!$B$15:$G$1208,1)","v":{"$error":"#N/A"}},{"$f":"VLOOKUP(BP34,Liste_Noire!$B$15:$G$1208,5)","v":{"$error":"#N/A"}},{"$error":"#N/A"},null,0,0,0,0,0,0,1]
[null,""," ","","","","","",{"$f":"IF(ISBLANK(Trait_Etrangers!H35),\"\",Trait_Etrangers!H35)","v":""},{"$f":"IF(ISBLANK(Trait_Etrangers!I35),\"\",Trait_Etrangers!I35)","v":""},{"$f":"IF(ISBLANK(Trait_Etrangers!J35),\"\",Trait_Etrangers!J35)","v":""},{"$f":"IF(ISBLANK(Trait_Etrangers!K35),\"\",Trait_Etrangers!K35)","v":""},{"$f":"IF(ISBLANK(Trait_Etrangers!L35),\"\",Trait_Etrangers!L35)","v":""},{"$f":"IF(ISBLANK(Trait_Etrangers!M35),\"\",Trait_Etrangers!M35)","v":""},{"$f":"IF(ISBLANK(Trait_Etrangers!N35),\"\",Trait_Etrangers!N35)","v":""},{"$f":"IF(ISBLANK(Trait_Etrangers!O35),\"\",Trait_Etrangers!O35)","v":""},{"$f":"IF(ISBLANK(Trait_Etrangers!P35),\"\",Trait_Etrangers!P35)","v":""},null,{"$f":"IF(ISBLANK(Trait_Etrangers!R35),\"\",Trait_Etrangers!R35)","v":""},{"$f":"IF(ISBLANK(Trait_Etrangers!S35),\"\",Trait_Etrangers!S35)","v":""},{"$f":"IF(ISBLANK(Trait_Etrangers!T35),\"\",Trait_Etrangers!T35)","v":""},{"$f":"IF(ISBLANK(Trait_Etrangers!U35),\"\",Trait_Etrangers!U35)","v":""},null,null,null,"","",0,0,0,0,0,0,0,0,0,0,0,0,0,0,0,0,0,null,1,null,null,{"$f":"IF(AX35=\"\",\"\",IF(CE35=1,\"[b][color=red]\"&Datas!$D$32&\"[/color][/b]\"&AX35&\"[b][color=red]\"&Datas!$D$33&\"{\"&CD35&\"}[/color][/b]\",AX35))","v":{"$error":"#N/A"}},{"$error":"#N/A"}," ",{"$f":"IF(ISBLANK(Datas!$C$47),\"\",\" - \"&BG35)","v":{"$error":"#N/A"}},{"$f":"IF(ISBLANK(Datas!$C$48),\"\",\" - \"&BH35)","v":" - "},{"$f":"IF(ISBLANK(Datas!$C$49),\"\",\" - \"&BI35)","v":""},{"$f":"IF(ISBLANK(Datas!$C$50),\"\",\" - \"&BJ35)","v":" - Ecus:"},{"$f":"IF(ISBLANK(Datas!$C$51),\"\",\" - \"&BK35)","v":" - Niv: "},null,{"$error":"#N/A"},{"$error":"#N/A"},"","PR:","Ecus:","Niv: ",null,null,null,null,"",{"$f":"VLOOKUP(BP35,LstVillage!$B$8:$C$283,1)","v":{"$error":"#N/A"}},{"$error":"#N/A"},{"$error":"#N/A"},"",{"$f":"VLOOKUP(BT35,Datas!$G$6:$G$17,1)","v":{"$error":"#N/A"}},{"$error":"#N/A"},{"$error":"#N/A"},null,"",0,0,null,{"$f":"VLOOKUP(BP35,Liste_Noire!$B$15:$G$1208,1)","v":{"$error":"#N/A"}},{"$f":"VLOOKUP(BP35,Liste_Noire!$B$15:$G$1208,5)","v":{"$error":"#N/A"}},{"$error":"#N/A"},null,0,0,0,0,0,0,1]
[null,""," ","","","","","",{"$f":"IF(ISBLANK(Trait_Etrangers!H36),\"\",Trait_Etrangers!H36)","v":""},{"$f":"IF(ISBLANK(Trait_Etrangers!I36),\"\",Trait_Etrangers!I36)","v":""},{"$f":"IF(ISBLANK(Trait_Etrangers!J36),\"\",Trait_Etrangers!J36)","v":""},{"$f":"IF(ISBLANK(Trait_Etrangers!K36),\"\",Trait_Etrangers!K36)","v":""},{"$f":"IF(ISBLANK(Trait_Etrangers!L36),\"\",Trait_Etrangers!L36)","v":""},{"$f":"IF(ISBLANK(Trait_Etrangers!M36),\"\",Trait_Etrangers!M36)","v":""},{"$f":"IF(ISBLANK(Trait_Etrangers!N36),\"\",Trait_Etrangers!N36)","v":""},{"$f":"IF(ISBLANK(Trait_Etrangers!O36),\"\",Trait_Etrangers!O36)","v":""},{"$f":"IF(ISBLANK(Trait_Etrangers!P36),\"\",Trait_Etrangers!P36)","v":""},null,{"$f":"IF(ISBLANK(Trait_Etrangers!R36),\"\",Trait_Etrangers!R36)","v":""},{"$f":"IF(ISBLANK(Trait_Etrangers!S36),\"\",Trait_Etrangers!S36)","v":""},{"$f":"IF(ISBLANK(Trait_Etrangers!T36),\"\",Trait_Etrangers!T36)","v":""},{"$f":"IF(ISBLANK(Trait_Etrangers!U36),\"\",Trait_Etrangers!U36)","v":""},null,null,null,"","",0,0,0,0,0,0,0,0,0,0,0,0,0,0,0,0,0,null,1,null,null,{"$f":"IF(AX36=\"\",\"\",IF(CE36=1,\"[b][color=red]\"&Datas!$D$32&\"[/color][/b]\"&AX36&\"[b][color=red]\"&Datas!$D$33&\"{\"&CD36&\"}[/color][/b]\",AX36))","v":{"$error":"#N/A"}},{"$error":"#N/A"}," ",{"$f":"IF(ISBLANK(Datas!$C$47),\"\",\" - \"&BG36)","v":{"$error":"#N/A"}},{"$f":"IF(ISBLANK(Datas!$C$48),\"\",\" - \"&BH36)","v":" - "},{"$f":"IF(ISBLANK(Datas!$C$49),\"\",\" - \"&BI36)","v":""},{"$f":"IF(ISBLANK(Datas!$C$50),\"\",\" - \"&BJ36)","v":" - Ecus:"},{"$f":"IF(ISBLANK(Datas!$C$51),\"\",\" - \"&BK36)","v":" - Niv: "},null,{"$error":"#N/A"},{"$error":"#N/A"},"","PR:","Ecus:","Niv: ",null,null,null,null,"",{"$f":"VLOOKUP(BP36,LstVillage!$B$8:$C$283,1)","v":{"$error":"#N/A"}},{"$error":"#N/A"},{"$error":"#N/A"},"",{"$f":"VLOOKUP(BT36,Datas!$G$6:$G$17,1)","v":{"$error":"#N/A"}},{"$error":"#N/A"},{"$error":"#N/A"},null,"",0,0,null,{"$f":"VLOOKUP(BP36,Liste_Noire!$B$15:$G$1208,1)","v":{"$error":"#N/A"}},{"$f":"VLOOKUP(BP36,Liste_Noire!$B$15:$G$1208,5)","v":{"$error":"#N/A"}},{"$error":"#N/A"},null,0,0,0,0,0,0,1]
[null,""," ","","","","","",{"$f":"IF(ISBLANK(Trait_Etrangers!H37),\"\",Trait_Etrangers!H37)","v":""},{"$f":"IF(ISBLANK(Trait_Etrangers!I37),\"\",Trait_Etrangers!I37)","v":""},{"$f":"IF(ISBLANK(Trait_Etrangers!J37),\"\",Trait_Etrangers!J37)","v":""},{"$f":"IF(ISBLANK(Trait_Etrangers!K37),\"\",Trait_Etrangers!K37)","v":""},{"$f":"IF(ISBLANK(Trait_Etrangers!L37),\"\",Trait_Etrangers!L37)","v":""},{"$f":"IF(ISBLANK(Trait_Etrangers!M37),\"\",Trait_Etrangers!M37)","v":""},{"$f":"IF(ISBLANK(Trait_Etrangers!N37),\"\",Trait_Etrangers!N37)","v":""},{"$f":"IF(ISBLANK(Trait_Etrangers!O37),\"\",Trait_Etrangers!O37)","v":""},{"$f":"IF(ISBLANK(Trait_Etrangers!P37),\"\",Trait_Etrangers!P37)","v":""},null,{"$f":"IF(ISBLANK(Trait_Etrangers!R37),\"\",Trait_Etrangers!R37)","v":""},{"$f":"IF(ISBLANK(Trait_Etrangers!S37),\"\",Trait_Etrangers!S37)","v":""},{"$f":"IF(ISBLANK(Trait_Etrangers!T37),\"\",Trait_Etrangers!T37)","v":""},{"$f":"IF(ISBLANK(Trait_Etrangers!U37),\"\",Trait_Etrangers!U37)","v":""},null,null,null,"","",0,0,0,0,0,0,0,0,0,0,0,0,0,0,0,0,0,null,1,null,null,{"$f":"IF(AX37=\"\",\"\",IF(CE37=1,\"[b][color=red]\"&Datas!$D$32&\"[/color][/b]\"&AX37&\"[b][color=red]\"&Datas!$D$33&\"{\"&CD37&\"}[/color][/b]\",AX37))","v":{"$error":"#N/A"}},{"$error":"#N/A"}," ",{"$f":"IF(ISBLANK(Datas!$C$47),\"\",\" - \"&BG37)","v":{"$error":"#N/A"}},{"$f":"IF(ISBLANK(Datas!$C$48),\"\",\" - \"&BH37)","v":" - "},{"$f":"IF(ISBLANK(Datas!$C$49),\"\",\" - \"&BI37)","v":""},{"$f":"IF(ISBLANK(Datas!$C$50),\"\",\" - \"&BJ37)","v":" - Ecus:"},{"$f":"IF(ISBLANK(Datas!$C$51),\"\",\" - \"&BK37)","v":" - Niv: "},null,{"$error":"#N/A"},{"$error":"#N/A"},"","PR:","Ecus:","Niv: ",null,null,null,null,"",{"$f":"VLOOKUP(BP37,LstVillage!$B$8:$C$283,1)","v":{"$error":"#N/A"}},{"$error":"#N/A"},{"$error":"#N/A"},"",{"$f":"VLOOKUP(BT37,Datas!$G$6:$G$17,1)","v":{"$error":"#N/A"}},{"$error":"#N/A"},{"$error":"#N/A"},null,"",0,0,null,{"$f":"VLOOKUP(BP37,Liste_Noire!$B$15:$G$1208,1)","v":{"$error":"#N/A"}},{"$f":"VLOOKUP(BP37,Liste_Noire!$B$15:$G$1208,5)","v":{"$error":"#N/A"}},{"$error":"#N/A"},null,0,0,0,0,0,0,1]
[null,""," ","","","","","",{"$f":"IF(ISBLANK(Trait_Etrangers!H38),\"\",Trait_Etrangers!H38)","v":""},{"$f":"IF(ISBLANK(Trait_Etrangers!I38),\"\",Trait_Etrangers!I38)","v":""},{"$f":"IF(ISBLANK(Trait_Etrangers!J38),\"\",Trait_Etrangers!J38)","v":""},{"$f":"IF(ISBLANK(Trait_Etrangers!K38),\"\",Trait_Etrangers!K38)","v":""},{"$f":"IF(ISBLANK(Trait_Etrangers!L38),\"\",Trait_Etrangers!L38)","v":""},{"$f":"IF(ISBLANK(Trait_Etrangers!M38),\"\",Trait_Etrangers!M38)","v":""},{"$f":"IF(ISBLANK(Trait_Etrangers!N38),\"\",Trait_Etrangers!N38)","v":""},{"$f":"IF(ISBLANK(Trait_Etrangers!O38),\"\",Trait_Etrangers!O38)","v":""},{"$f":"IF(ISBLANK(Trait_Etrangers!P38),\"\",Trait_Etrangers!P38)","v":""},null,{"$f":"IF(ISBLANK(Trait_Etrangers!R38),\"\",Trait_Etrangers!R38)","v":""},{"$f":"IF(ISBLANK(Trait_Etrangers!S38),\"\",Trait_Etrangers!S38)","v":""},{"$f":"IF(ISBLANK(Trait_Etrangers!T38),\"\",Trait_Etrangers!T38)","v":""},{"$f":"IF(ISBLANK(Trait_Etrangers!U38),\"\",Trait_Etrangers!U38)","v":""},null,null,null,"","",0,0,0,0,0,0,0,0,0,0,0,0,0,0,0,0,0,null,1,null,null,{"$f":"IF(AX38=\"\",\"\",IF(CE38=1,\"[b][color=red]\"&Datas!$D$32&\"[/color][/b]\"&AX38&\"[b][color=red]\"&Datas!$D$33&\"{\"&CD38&\"}[/color][/b]\",AX38))","v":{"$error":"#N/A"}},{"$error":"#N/A"}," ",{"$f":"IF(ISBLANK(Datas!$C$47),\"\",\" - \"&BG38)","v":{"$error":"#N/A"}},{"$f":"IF(ISBLANK(Datas!$C$48),\"\",\" - \"&BH38)","v":" - "},{"$f":"IF(ISBLANK(Datas!$C$49),\"\",\" - \"&BI38)","v":""},{"$f":"IF(ISBLANK(Datas!$C$50),\"\",\" - \"&BJ38)","v":" - Ecus:"},{"$f":"IF(ISBLANK(Datas!$C$51),\"\",\" - \"&BK38)","v":" - Niv: "},null,{"$error":"#N/A"},{"$error":"#N/A"},"","PR:","Ecus:","Niv: ",null,null,null,null,"",{"$f":"VLOOKUP(BP38,LstVillage!$B$8:$C$283,1)","v":{"$error":"#N/A"}},{"$error":"#N/A"},{"$error":"#N/A"},"",{"$f":"VLOOKUP(BT38,Datas!$G$6:$G$17,1)","v":{"$error":"#N/A"}},{"$error":"#N/A"},{"$error":"#N/A"},null,"",0,0,null,{"$f":"VLOOKUP(BP38,Liste_Noire!$B$15:$G$1208,1)","v":{"$error":"#N/A"}},{"$f":"VLOOKUP(BP38,Liste_Noire!$B$15:$G$1208,5)","v":{"$error":"#N/A"}},{"$error":"#N/A"},null,0,0,0,0,0,0,1]
[null,""," ","","","","","",{"$f":"IF(ISBLANK(Trait_Etrangers!H39),\"\",Trait_Etrangers!H39)","v":""},{"$f":"IF(ISBLANK(Trait_Etrangers!I39),\"\",Trait_Etrangers!I39)","v":""},{"$f":"IF(ISBLANK(Trait_Etrangers!J39),\"\",Trait_Etrangers!J39)","v":""},{"$f":"IF(ISBLANK(Trait_Etrangers!K39),\"\",Trait_Etrangers!K39)","v":""},{"$f":"IF(ISBLANK(Trait_Etrangers!L39),\"\",Trait_Etrangers!L39)","v":""},{"$f":"IF(ISBLANK(Trait_Etrangers!M39),\"\",Trait_Etrangers!M39)","v":""},{"$f":"IF(ISBLANK(Trait_Etrangers!N39),\"\",Trait_Etrangers!N39)","v":""},{"$f":"IF(ISBLANK(Trait_Etrangers!O39),\"\",Trait_Etrangers!O39)","v":""},{"$f":"IF(ISBLANK(Trait_Etrangers!P39),\"\",Trait_Etrangers!P39)","v":""},null,{"$f":"IF(ISBLANK(Trait_Etrangers!R39),\"\",Trait_Etrangers!R39)","v":""},{"$f":"IF(ISBLANK(Trait_Etrangers!S39),\"\",Trait_Etrangers!S39)","v":""},{"$f":"IF(ISBLANK(Trait_Etrangers!T39),\"\",Trait_Etrangers!T39)","v":""},{"$f":"IF(ISBLANK(Trait_Etrangers!U39),\"\",Trait_Etrangers!U39)","v":""},null,null,null,"","",0,0,0,0,0,0,0,0,0,0,0,0,0,0,0,0,0,null,1,null,null,{"$f":"IF(AX39=\"\",\"\",IF(CE39=1,\"[b][color=red]\"&Datas!$D$32&\"[/color][/b]\"&AX39&\"[b][color=red]\"&Datas!$D$33&\"{\"&CD39&\"}[/color][/b]\",AX39))","v":{"$error":"#N/A"}},{"$error":"#N/A"}," ",{"$f":"IF(ISBLANK(Datas!$C$47),\"\",\" - \"&BG39)","v":{"$error":"#N/A"}},{"$f":"IF(ISBLANK(Datas!$C$48),\"\",\" - \"&BH39)","v":" - "},{"$f":"IF(ISBLANK(Datas!$C$49),\"\",\" - \"&BI39)","v":""},{"$f":"IF(ISBLANK(Datas!$C$50),\"\",\" - \"&BJ39)","v":" - Ecus:"},{"$f":"IF(ISBLANK(Datas!$C$51),\"\",\" - \"&BK39)","v":" - Niv: "},null,{"$error":"#N/A"},{"$error":"#N/A"},"","PR:","Ecus:","Niv: ",null,null,null,null,"",{"$f":"VLOOKUP(BP39,LstVillage!$B$8:$C$283,1)","v":{"$error":"#N/A"}},{"$error":"#N/A"},{"$error":"#N/A"},"",{"$f":"VLOOKUP(BT39,Datas!$G$6:$G$17,1)","v":{"$error":"#N/A"}},{"$error":"#N/A"},{"$error":"#N/A"},null,"",0,0,null,{"$f":"VLOOKUP(BP39,Liste_Noire!$B$15:$G$1208,1)","v":{"$error":"#N/A"}},{"$f":"VLOOKUP(BP39,Liste_Noire!$B$15:$G$1208,5)","v":{"$error":"#N/A"}},{"$error":"#N/A"},null,0,0,0,0,0,0,1]
[null,""," ","","","","","",{"$f":"IF(ISBLANK(Trait_Etrangers!H40),\"\",Trait_Etrangers!H40)","v":""},{"$f":"IF(ISBLANK(Trait_Etrangers!I40),\"\",Trait_Etrangers!I40)","v":""},{"$f":"IF(ISBLANK(Trait_Etrangers!J40),\"\",Trait_Etrangers!J40)","v":""},{"$f":"IF(ISBLANK(Trait_Etrangers!K40),\"\",Trait_Etrangers!K40)","v":""},{"$f":"IF(ISBLANK(Trait_Etrangers!L40),\"\",Trait_Etrangers!L40)","v":""},{"$f":"IF(ISBLANK(Trait_Etrangers!M40),\"\",Trait_Etrangers!M40)","v":""},{"$f":"IF(ISBLANK(Trait_Etrangers!N40),\"\",Trait_Etrangers!N40)","v":""},{"$f":"IF(ISBLANK(Trait_Etrangers!O40),\"\",Trait_Etrangers!O40)","v":""},{"$f":"IF(ISBLANK(Trait_Etrangers!P40),\"\",Trait_Etrangers!P40)","v":""},null,{"$f":"IF(ISBLANK(Trait_Etrangers!R40),\"\",Trait_Etrangers!R40)","v":""},{"$f":"IF(ISBLANK(Trait_Etrangers!S40),\"\",Trait_Etrangers!S40)","v":""},{"$f":"IF(ISBLANK(Trait_Etrangers!T40),\"\",Trait_Etrangers!T40)","v":""},{"$f":"IF(ISBLANK(Trait_Etrangers!U40),\"\",Trait_Etrangers!U40)","v":""},null,null,null,"","",0,0,0,0,0,0,0,0,0,0,0,0,0,0,0,0,0,null,1,null,null,{"$f":"IF(AX40=\"\",\"\",IF(CE40=1,\"[b][color=red]\"&Datas!$D$32&\"[/color][/b]\"&AX40&\"[b][color=red]\"&Datas!$D$33&\"{\"&CD40&\"}[/color][/b]\",AX40))","v":{"$error":"#N/A"}},{"$error":"#N/A"}," ",{"$f":"IF(ISBLANK(Datas!$C$47),\"\",\" - \"&BG40)","v":{"$error":"#N/A"}},{"$f":"IF(ISBLANK(Datas!$C$48),\"\",\" - \"&BH40)","v":" - "},{"$f":"IF(ISBLANK(Datas!$C$49),\"\",\" - \"&BI40)","v":""},{"$f":"IF(ISBLANK(Datas!$C$50),\"\",\" - \"&BJ40)","v":" - Ecus:"},{"$f":"IF(ISBLANK(Datas!$C$51),\"\",\" - \"&BK40)","v":" - Niv: "},null,{"$error":"#N/A"},{"$error":"#N/A"},"","PR:","Ecus:","Niv: ",null,null,null,null,"",{"$f":"VLOOKUP(BP40,LstVillage!$B$8:$C$283,1)","v":{"$error":"#N/A"}},{"$error":"#N/A"},{"$error":"#N/A"},"",{"$f":"VLOOKUP(BT40,Datas!$G$6:$G$17,1)","v":{"$error":"#N/A"}},{"$error":"#N/A"},{"$error":"#N/A"},null,"",0,0,null,{"$f":"VLOOKUP(BP40,Liste_Noire!$B$15:$G$1208,1)","v":{"$error":"#N/A"}},{"$f":"VLOOKUP(BP40,Liste_Noire!$B$15:$G$1208,5)","v":{"$error":"#N/A"}},{"$error":"#N/A"},null,0,0,0,0,0,0,1]
[null,""," ","","","","","",{"$f":"IF(ISBLANK(Trait_Etrangers!H41),\"\",Trait_Etrangers!H41)","v":""},{"$f":"IF(ISBLANK(Trait_Etrangers!I41),\"\",Trait_Etrangers!I41)","v":""},{"$f":"IF(ISBLANK(Trait_Etrangers!J41),\"\",Trait_Etrangers!J41)","v":""},{"$f":"IF(ISBLANK(Trait_Etrangers!K41),\"\",Trait_Etrangers!K41)","v":""},{"$f":"IF(ISBLANK(Trait_Etrangers!L41),\"\",Trait_Etrangers!L41)","v":""},{"$f":"IF(ISBLANK(Trait_Etrangers!M41),\"\",Trait_Etrangers!M41)","v":""},{"$f":"IF(ISBLANK(Trait_Etrangers!N41),\"\",Trait_Etrangers!N41)","v":""},{"$f":"IF(ISBLANK(Trait_Etrangers!O41),\"\",Trait_Etrangers!O41)","v":""},{"$f":"IF(ISBLANK(Trait_Etrangers!P41),\"\",Trait_Etrangers!P41)","v":""},null,{"$f":"IF(ISBLANK(Trait_Etrangers!R41),\"\",Trait_Etrangers!R41)","v":""},{"$f":"IF(ISBLANK(Trait_Etrangers!S41),\"\",Trait_Etrangers!S41)","v":""},{"$f":"IF(ISBLANK(Trait_Etrangers!T41),\"\",Trait_Etrangers!T41)","v":""},{"$f":"IF(ISBLANK(Trait_Etrangers!U41),\"\",Trait_Etrangers!U41)","v":""},null,null,null,"","",0,0,0,0,0,0,0,0,0,0,0,0,0,0,0,0,0,null,1,null,null,{"$f":"IF(AX41=\"\",\"\",IF(CE41=1,\"[b][color=red]\"&Datas!$D$32&\"[/color][/b]\"&AX41&\"[b][color=red]\"&Datas!$D$33&\"{\"&CD41&\"}[/color][/b]\",AX41))","v":{"$error":"#N/A"}},{"$error":"#N/A"}," ",{"$f":"IF(ISBLANK(Datas!$C$47),\"\",\" - \"&BG41)","v":{"$error":"#N/A"}},{"$f":"IF(ISBLANK(Datas!$C$48),\"\",\" - \"&BH41)","v":" - "},{"$f":"IF(ISBLANK(Datas!$C$49),\"\",\" - \"&BI41)","v":""},{"$f":"IF(ISBLANK(Datas!$C$50),\"\",\" - \"&BJ41)","v":" - Ecus:"},{"$f":"IF(ISBLANK(Datas!$C$51),\"\",\" - \"&BK41)","v":" - Niv: "},null,{"$error":"#N/A"},{"$error":"#N/A"},"","PR:","Ecus:","Niv: ",null,null,null,null,"",{"$f":"VLOOKUP(BP41,LstVillage!$B$8:$C$283,1)","v":{"$error":"#N/A"}},{"$error":"#N/A"},{"$error":"#N/A"},"",{"$f":"VLOOKUP(BT41,Datas!$G$6:$G$17,1)","v":{"$error":"#N/A"}},{"$error":"#N/A"},{"$error":"#N/A"},null,"",0,0,null,{"$f":"VLOOKUP(BP41,Liste_Noire!$B$15:$G$1208,1)","v":{"$error":"#N/A"}},{"$f":"VLOOKUP(BP41,Liste_Noire!$B$15:$G$1208,5)","v":{"$error":"#N/A"}},{"$error":"#N/A"},null,0,0,0,0,0,0,1]
[null,""," ","","","","","",{"$f":"IF(ISBLANK(Trait_Etrangers!H42),\"\",Trait_Etrangers!H42)","v":""},{"$f":"IF(ISBLANK(Trait_Etrangers!I42),\"\",Trait_Etrangers!I42)","v":""},{"$f":"IF(ISBLANK(Trait_Etrangers!J42),\"\",Trait_Etrangers!J42)","v":""},{"$f":"IF(ISBLANK(Trait_Etrangers!K42),\"\",Trait_Etrangers!K42)","v":""},{"$f":"IF(ISBLANK(Trait_Etrangers!L42),\"\",Trait_Etrangers!L42)","v":""},{"$f":"IF(ISBLANK(Trait_Etrangers!M42),\"\",Trait_Etrangers!M42)","v":""},{"$f":"IF(ISBLANK(Trait_Etrangers!N42),\"\",Trait_Etrangers!N42)","v":""},{"$f":"IF(ISBLANK(Trait_Etrangers!O42),\"\",Trait_Etrangers!O42)","v":""},{"$f":"IF(ISBLANK(Trait_Etrangers!P42),\"\",Trait_Etrangers!P42)","v":""},null,{"$f":"IF(ISBLANK(Trait_Etrangers!R42),\"\",Trait_Etrangers!R42)","v":""},{"$f":"IF(ISBLANK(Trait_Etrangers!S42),\"\",Trait_Etrangers!S42)","v":""},{"$f":"IF(ISBLANK(Trait_Etrangers!T42),\"\",Trait_Etrangers!T42)","v":""},{"$f":"IF(ISBLANK(Trait_Etrangers!U42),\"\",Trait_Etrangers!U42)","v":""},null,null,null,"","",0,0,0,0,0,0,0,0,0,0,0,0,0,0,0,0,0,null,1,null,null,{"$f":"IF(AX42=\"\",\"\",IF(CE42=1,\"[b][color=red]\"&Datas!$D$32&\"[/color][/b]\"&AX42&\"[b][color=red]\"&Datas!$D$33&\"{\"&CD42&\"}[/color][/b]\",AX42))","v":{"$error":"#N/A"}},{"$error":"#N/A"}," ",{"$f":"IF(ISBLANK(Datas!$C$47),\"\",\" - \"&BG42)","v":{"$error":"#N/A"}},{"$f":"IF(ISBLANK(Datas!$C$48),\"\",\" - \"&BH42)","v":" - "},{"$f":"IF(ISBLANK(Datas!$C$49),\"\",\" - \"&BI42)","v":""},{"$f":"IF(ISBLANK(Datas!$C$50),\"\",\" - \"&BJ42)","v":" - Ecus:"},{"$f":"IF(ISBLANK(Datas!$C$51),\"\",\" - \"&BK42)","v":" - Niv: "},null,{"$error":"#N/A"},{"$error":"#N/A"},"","PR:","Ecus:","Niv: ",null,null,null,null,"",{"$f":"VLOOKUP(BP42,LstVillage!$B$8:$C$283,1)","v":{"$error":"#N/A"}},{"$error":"#N/A"},{"$error":"#N/A"},"",{"$f":"VLOOKUP(BT42,Datas!$G$6:$G$17,1)","v":{"$error":"#N/A"}},{"$error":"#N/A"},{"$error":"#N/A"},null,"",0,0,null,{"$f":"VLOOKUP(BP42,Liste_Noire!$B$15:$G$1208,1)","v":{"$error":"#N/A"}},{"$f":"VLOOKUP(BP42,Liste_Noire!$B$15:$G$1208,5)","v":{"$error":"#N/A"}},{"$error":"#N/A"},null,0,0,0,0,0,0,1]
[null,""," ","","","","","",{"$f":"IF(ISBLANK(Trait_Etrangers!H43),\"\",Trait_Etrangers!H43)","v":""},{"$f":"IF(ISBLANK(Trait_Etrangers!I43),\"\",Trait_Etrangers!I43)","v":""},{"$f":"IF(ISBLANK(Trait_Etrangers!J43),\"\",Trait_Etrangers!J43)","v":""},{"$f":"IF(ISBLANK(Trait_Etrangers!K43),\"\",Trait_Etrangers!K43)","v":""},{"$f":"IF(ISBLANK(Trait_Etrangers!L43),\"\",Trait_Etrangers!L43)","v":""},{"$f":"IF(ISBLANK(Trait_Etrangers!M43),\"\",Trait_Etrangers!M43)","v":""},{"$f":"IF(ISBLANK(Trait_Etrangers!N43),\"\",Trait_Etrangers!N43)","v":""},{"$f":"IF(ISBLANK(Trait_Etrangers!O43),\"\",Trait_Etrangers!O43)","v":""},{"$f":"IF(ISBLANK(Trait_Etrangers!P43),\"\",Trait_Etrangers!P43)","v":""},null,{"$f":"IF(ISBLANK(Trait_Etrangers!R43),\"\",Trait_Etrangers!R43)","v":""},{"$f":"IF(ISBLANK(Trait_Etrangers!S43),\"\",Trait_Etrangers!S43)","v":""},{"$f":"IF(ISBLANK(Trait_Etrangers!T43),\"\",Trait_Etrangers!T43)","v":""},{"$f":"IF(ISBLANK(Trait_Etrangers!U43),\"\",Trait_Etrangers!U43)","v":""},null,null,null,"","",0,0,0,0,0,0,0,0,0,0,0,0,0,0,0,0,0,null,1,null,null,{"$f":"IF(AX43=\"\",\"\",IF(CE43=1,\"[b][color=red]\"&Datas!$D$32&\"[/color][/b]\"&AX43&\"[b][color=red]\"&Datas!$D$33&\"{\"&CD43&\"}[/color][/b]\",AX43))","v":{"$error":"#N/A"}},{"$error":"#N/A"}," ",{"$f":"IF(ISBLANK(Datas!$C$47),\"\",\" - \"&BG43)","v":{"$error":"#N/A"}},{"$f":"IF(ISBLANK(Datas!$C$48),\"\",\" - \"&BH43)","v":" - "},{"$f":"IF(ISBLANK(Datas!$C$49),\"\",\" - \"&BI43)","v":""},{"$f":"IF(ISBLANK(Datas!$C$50),\"\",\" - \"&BJ43)","v":" - Ecus:"},{"$f":"IF(ISBLANK(Datas!$C$51),\"\",\" - \"&BK43)","v":" - Niv: "},null,{"$error":"#N/A"},{"$error":"#N/A"},"","PR:","Ecus:","Niv: ",null,null,null,null,"",{"$f":"VLOOKUP(BP43,LstVillage!$B$8:$C$283,1)","v":{"$error":"#N/A"}},{"$error":"#N/A"},{"$error":"#N/A"},"",{"$f":"VLOOKUP(BT43,Datas!$G$6:$G$17,1)","v":{"$error":"#N/A"}},{"$error":"#N/A"},{"$error":"#N/A"},null,"",0,0,null,{"$f":"VLOOKUP(BP43,Liste_Noire!$B$15:$G$1208,1)","v":{"$error":"#N/A"}},{"$f":"VLOOKUP(BP43,Liste_Noire!$B$15:$G$1208,5)","v":{"$error":"#N/A"}},{"$error":"#N/A"},null,0,0,0,0,0,0,1]
[null,""," ","","","","","",{"$f":"IF(ISBLANK(Trait_Etrangers!H44),\"\",Trait_Etrangers!H44)","v":""},{"$f":"IF(ISBLANK(Trait_Etrangers!I44),\"\",Trait_Etrangers!I44)","v":""},{"$f":"IF(ISBLANK(Trait_Etrangers!J44),\"\",Trait_Etrangers!J44)","v":""},{"$f":"IF(ISBLANK(Trait_Etrangers!K44),\"\",Trait_Etrangers!K44)","v":""},{"$f":"IF(ISBLANK(Trait_Etrangers!L44),\"\",Trait_Etrangers!L44)","v":""},{"$f":"IF(ISBLANK(Trait_Etrangers!M44),\"\",Trait_Etrangers!M44)","v":""},{"$f":"IF(ISBLANK(Trait_Etrangers!N44),\"\",Trait_Etrangers!N44)","v":""},{"$f":"IF(ISBLANK(Trait_Etrangers!O44),\"\",Trait_Etrangers!O44)","v":""},{"$f":"IF(ISBLANK(Trait_Etrangers!P44),\"\",Trait_Etrangers!P44)","v":""},null,{"$f":"IF(ISBLANK(Trait_Etrangers!R44),\"\",Trait_Etrangers!R44)","v":""},{"$f":"IF(ISBLANK(Trait_Etrangers!S44),\"\",Trait_Etrangers!S44)","v":""},{"$f":"IF(ISBLANK(Trait_Etrangers!T44),\"\",Trait_Etrangers!T44)","v":""},null,null,null,null,"","",0,0,0,0,0,0,0,0,0,0,0,0,0,0,0,0,0,null,1,null,null,{"$f":"IF(AX44=\"\",\"\",IF(CE44=1,\"[b][color=red]\"&Datas!$D$32&\"[/color][/b]\"&AX44&\"[b][color=red]\"&Datas!$D$33&\"{\"&CD44&\"}[/color][/b]\",AX44))","v":{"$error":"#N/A"}},{"$error":"#N/A"}," ",{"$f":"IF(ISBLANK(Datas!$C$47),\"\",\" - \"&BG44)","v":{"$error":"#N/A"}},{"$f":"IF(ISBLANK(Datas!$C$48),\"\",\" - \"&BH44)","v":" - "},{"$f":"IF(ISBLANK(Datas!$C$49),\"\",\" - \"&BI44)","v":""},{"$f":"IF(ISBLANK(Datas!$C$50),\"\",\" - \"&BJ44)","v":" - Ecus:"},{"$f":"IF(ISBLANK(Datas!$C$51),\"\",\" - \"&BK44)","v":" - Niv: "},null,{"$error":"#N/A"},{"$error":"#N/A"},"","PR:","Ecus:","Niv: ",null,null,null,null,"",{"$f":"VLOOKUP(BP44,LstVillage!$B$8:$C$283,1)","v":{"$error":"#N/A"}},{"$error":"#N/A"},{"$error":"#N/A"},"",{"$f":"VLOOKUP(BT44,Datas!$G$6:$G$17,1)","v":{"$error":"#N/A"}},{"$error":"#N/A"},{"$error":"#N/A"},null,"",0,0,null,{"$f":"VLOOKUP(BP44,Liste_Noire!$B$15:$G$1208,1)","v":{"$error":"#N/A"}},{"$f":"VLOOKUP(BP44,Liste_Noire!$B$15:$G$1208,5)","v":{"$error":"#N/A"}},{"$error":"#N/A"},null,0,0,0,0,0,0,1]
[null,""," ","","","","","",{"$f":"IF(ISBLANK(Trait_Etrangers!H45),\"\",Trait_Etrangers!H45)","v":""},{"$f":"IF(ISBLANK(Trait_Etrangers!I45),\"\",Trait_Etrangers!I45)","v":""},{"$f":"IF(ISBLANK(Trait_Etrangers!J45),\"\",Trait_Etrangers!J45)","v":""},{"$f":"IF(ISBLANK(Trait_Etrangers!K45),\"\",Trait_Etrangers!K45)","v":""},{"$f":"IF(ISBLANK(Trait_Etrangers!L45),\"\",Trait_Etrangers!L45)","v":""},{"$f":"IF(ISBLANK(Trait_Etrangers!M45),\"\",Trait_Etrangers!M45)","v":""},{"$f":"IF(ISBLANK(Trait_Etrangers!N45),\"\",Trait_Etrangers!N45)","v":""},{"$f":"IF(ISBLANK(Trait_Etrangers!O45),\"\",Trait_Etrangers!O45)","v":""},{"$f":"IF(ISBLANK(Trait_Etrangers!P45),\"\",Trait_Etrangers!P45)","v":""},null,{"$f":"IF(ISBLANK(Trait_Etrangers!R45),\"\",Trait_Etrangers!R45)","v":""},{"$f":"IF(ISBLANK(Trait_Etrangers!S45),\"\",Trait_Etrangers!S45)","v":""},{"$f":"IF(ISBLANK(Trait_Etrangers!T45),\"\",Trait_Etrangers!T45)","v":""},{"$f":"IF(ISBLANK(Trait_Etrangers!U45),\"\",Trait_Etrangers!U45)","v":""},null,null,null,"","",0,0,0,0,0,0,0,0,0,0,0,0,0,0,0,0,0,null,1,null,null,{"$f":"IF(AX45=\"\",\"\",IF(CE45=1,\"[b][color=red]\"&Datas!$D$32&\"[/color][/b]\"&AX45&\"[b][color=red]\"&Datas!$D$33&\"{\"&CD45&\"}[/color][/b]\",AX45))","v":{"$error":"#N/A"}},{"$error":"#N/A"}," ",{"$f":"IF(ISBLANK(Datas!$C$47),\"\",\" - \"&BG45)","v":{"$error":"#N/A"}},{"$f":"IF(ISBLANK(Datas!$C$48),\"\",\" - \"&BH45)","v":" - "},{"$f":"IF(ISBLANK(Datas!$C$49),\"\",\" - \"&BI45)","v":""},{"$f":"IF(ISBLANK(Datas!$C$50),\"\",\" - \"&BJ45)","v":" - Ecus:"},{"$f":"IF(ISBLANK(Datas!$C$51),\"\",\" - \"&BK45)","v":" - Niv: "},null,{"$error":"#N/A"},{"$error":"#N/A"},"","PR:","Ecus:","Niv: ",null,null,null,null,"",{"$f":"VLOOKUP(BP45,LstVillage!$B$8:$C$283,1)","v":{"$error":"#N/A"}},{"$error":"#N/A"},{"$error":"#N/A"},"",{"$f":"VLOOKUP(BT45,Datas!$G$6:$G$17,1)","v":{"$error":"#N/A"}},{"$error":"#N/A"},{"$error":"#N/A"},null,"",0,0,null,{"$f":"VLOOKUP(BP45,Liste_Noire!$B$15:$G$1208,1)","v":{"$error":"#N/A"}},{"$f":"VLOOKUP(BP45,Liste_Noire!$B$15:$G$1208,5)","v":{"$error":"#N/A"}},{"$error":"#N/A"},null,0,0,0,0,0,0,1]
[null,""," ","","","","","",{"$f":"IF(ISBLANK(Trait_Etrangers!H46),\"\",Trait_Etrangers!H46)","v":""},{"$f":"IF(ISBLANK(Trait_Etrangers!I46),\"\",Trait_Etrangers!I46)","v":""},{"$f":"IF(ISBLANK(Trait_Etrangers!J46),\"\",Trait_Etrangers!J46)","v":""},{"$f":"IF(ISBLANK(Trait_Etrangers!K46),\"\",Trait_Etrangers!K46)","v":""},{"$f":"IF(ISBLANK(Trait_Etrangers!L46),\"\",Trait_Etrangers!L46)","v":""},{"$f":"IF(ISBLANK(Trait_Etrangers!M46),\"\",Trait_Etrangers!M46)","v":""},{"$f":"IF(ISBLANK(Trait_Etrangers!N46),\"\",Trait_Etrangers!N46)","v":""},{"$f":"IF(ISBLANK(Trait_Etrangers!O46),\"\",Trait_Etrangers!O46)","v":""},{"$f":"IF(ISBLANK(Trait_Etrangers!P46),\"\",Trait_Etrangers!P46)","v":""},null,{"$f":"IF(ISBLANK(Trait_Etrangers!R46),\"\",Trait_Etrangers!R46)","v":""},{"$f":"IF(ISBLANK(Trait_Etrangers!S46),\"\",Trait_Etrangers!S46)","v":""},{"$f":"IF(ISBLANK(Trait_Etrangers!T46),\"\",Trait_Etrangers!T46)","v":""},{"$f":"IF(ISBLANK(Trait_Etrangers!U46),\"\",Trait_Etrangers!U46)","v":""},null,null,null,"","",0,0,0,0,0,0,0,0,0,0,0,0,0,0,0,0,0,null,1,null,null,{"$f":"IF(AX46=\"\",\"\",IF(CE46=1,\"[b][color=red]\"&Datas!$D$32&\"[/color][/b]\"&AX46&\"[b][color=red]\"&Datas!$D$33&\"{\"&CD46&\"}[/color][/b]\",AX46))","v":{"$error":"#N/A"}},{"$error":"#N/A"}," ",{"$f":"IF(ISBLANK(Datas!$C$47),\"\",\" - \"&BG46)","v":{"$error":"#N/A"}},{"$f":"IF(ISBLANK(Datas!$C$48),\"\",\" - \"&BH46)","v":" - "},{"$f":"IF(ISBLANK(Datas!$C$49),\"\",\" - \"&BI46)","v":""},{"$f":"IF(ISBLANK(Datas!$C$50),\"\",\" - \"&BJ46)","v":" - Ecus:"},{"$f":"IF(ISBLANK(Datas!$C$51),\"\",\" - \"&BK46)","v":" - Niv: "},null,{"$error":"#N/A"},{"$error":"#N/A"},"","PR:","Ecus:","Niv: ",null,null,null,null,"",{"$f":"VLOOKUP(BP46,LstVillage!$B$8:$C$283,1)","v":{"$error":"#N/A"}},{"$error":"#N/A"},{"$error":"#N/A"},"",{"$f":"VLOOKUP(BT46,Datas!$G$6:$G$17,1)","v":{"$error":"#N/A"}},{"$error":"#N/A"},{"$error":"#N/A"},null,"",0,0,null,{"$f":"VLOOKUP(BP46,Liste_Noire!$B$15:$G$1208,1)","v":{"$error":"#N/A"}},{"$f":"VLOOKUP(BP46,Liste_Noire!$B$15:$G$1208,5)","v":{"$error":"#N/A"}},{"$error":"#N/A"},null,0,0,0,0,0,0,1]
[null,""," ","","","","","",{"$f":"IF(ISBLANK(Trait_Etrangers!H47),\"\",Trait_Etrangers!H47)","v":""},{"$f":"IF(ISBLANK(Trait_Etrangers!I47),\"\",Trait_Etrangers!I47)","v":""},{"$f":"IF(ISBLANK(Trait_Etrangers!J47),\"\",Trait_Etrangers!J47)","v":""},{"$f":"IF(ISBLANK(Trait_Etrangers!K47),\"\",Trait_Etrangers!K47)","v":""},{"$f":"IF(ISBLANK(Trait_Etrangers!L47),\"\",Trait_Etrangers!L47)","v":""},{"$f":"IF(ISBLANK(Trait_Etrangers!M47),\"\",Trait_Etrangers!M47)","v":""},{"$f":"IF(ISBLANK(Trait_Etrangers!N47),\"\",Trait_Etrangers!N47)","v":""},{"$f":"IF(ISBLANK(Trait_Etrangers!O47),\"\",Trait_Etrangers!O47)","v":""},{"$f":"IF(ISBLANK(Trait_Etrangers!P47),\"\",Trait_Etrangers!P47)","v":""},null,{"$f":"IF(ISBLANK(Trait_Etrangers!R47),\"\",Trait_Etrangers!R47)","v":""},{"$f":"IF(ISBLANK(Trait_Etrangers!S47),\"\",Trait_Etrangers!S47)","v":""},{"$f":"IF(ISBLANK(Trait_Etrangers!T47),\"\",Trait_Etrangers!T47)","v":""},{"$f":"IF(ISBLANK(Trait_Etrangers!U47),\"\",Trait_Etrangers!U47)","v":""},null,null,null,"","",0,0,0,0,0,0,0,0,0,0,0,0,0,0,0,0,0,null,1,null,null,{"$f":"IF(AX47=\"\",\"\",IF(CE47=1,\"[b][color=red]\"&Datas!$D$32&\"[/color][/b]\"&AX47&\"[b][color=red]\"&Datas!$D$33&\"{\"&CD47&\"}[/color][/b]\",AX47))","v":{"$error":"#N/A"}},{"$error":"#N/A"}," ",{"$f":"IF(ISBLANK(Datas!$C$47),\"\",\" - \"&BG47)","v":{"$error":"#N/A"}},{"$f":"IF(ISBLANK(Datas!$C$48),\"\",\" - \"&BH47)","v":" - "},{"$f":"IF(ISBLANK(Datas!$C$49),\"\",\" - \"&BI47)","v":""},{"$f":"IF(ISBLANK(Datas!$C$50),\"\",\" - \"&BJ47)","v":" - Ecus:"},{"$f":"IF(ISBLANK(Datas!$C$51),\"\",\" - \"&BK47)","v":" - Niv: "},null,{"$error":"#N/A"},{"$error":"#N/A"},"","PR:","Ecus:","Niv: ",null,null,null,null,"",{"$f":"VLOOKUP(BP47,LstVillage!$B$8:$C$283,1)","v":{"$error":"#N/A"}},{"$error":"#N/A"},{"$error":"#N/A"},"",{"$f":"VLOOKUP(BT47,Datas!$G$6:$G$17,1)","v":{"$error":"#N/A"}},{"$error":"#N/A"},{"$error":"#N/A"},null,"",0,0,null,{"$f":"VLOOKUP(BP47,Liste_Noire!$B$15:$G$1208,1)","v":{"$error":"#N/A"}},{"$f":"VLOOKUP(BP47,Liste_Noire!$B$15:$G$1208,5)","v":{"$error":"#N/A"}},{"$error":"#N/A"},null,0,0,0,0,0,0,1]
[null,""," ","","","","","",{"$f":"IF(ISBLANK(Trait_Etrangers!H48),\"\",Trait_Etrangers!H48)","v":""},{"$f":"IF(ISBLANK(Trait_Etrangers!I48),\"\",Trait_Etrangers!I48)","v":""},{"$f":"IF(ISBLANK(Trait_Etrangers!J48),\"\",Trait_Etrangers!J48)","v":""},{"$f":"IF(ISBLANK(Trait_Etrangers!K48),\"\",Trait_Etrangers!K48)","v":""},{"$f":"IF(ISBLANK(Trait_Etrangers!L48),\"\",Trait_Etrangers!L48)","v":""},{"$f":"IF(ISBLANK(Trait_Etrangers!M48),\"\",Trait_Etrangers!M48)","v":""},{"$f":"IF(ISBLANK(Trait_Etrangers!N48),\"\",Trait_Etrangers!N48)","v":""},{"$f":"IF(ISBLANK(Trait_Etrangers!O48),\"\",Trait_Etrangers!O48)","v":""},{"$f":"IF(ISBLANK(Trait_Etrangers!P48),\"\",Trait_Etrangers!P48)","v":""},null,{"$f":"IF(ISBLANK(Trait_Etrangers!R48),\"\",Trait_Etrangers!R48)","v":""},{"$f":"IF(ISBLANK(Trait_Etrangers!S48),\"\",Trait_Etrangers!S48)","v":""},{"$f":"IF(ISBLANK(Trait_Etrangers!T48),\"\",Trait_Etrangers!T48)","v":""},{"$f":"IF(ISBLANK(Trait_Etrangers!U48),\"\",Trait_Etrangers!U48)","v":""},null,null,null,"","",0,0,0,0,0,0,0,0,0,0,0,0,0,0,0,0,0,null,1,null,null,{"$f":"IF(AX48=\"\",\"\",IF(CE48=1,\"[b][color=red]\"&Datas!$D$32&\"[/color][/b]\"&AX48&\"[b][color=red]\"&Datas!$D$33&\"{\"&CD48&\"}[/color][/b]\",AX48))","v":{"$error":"#N/A"}},{"$error":"#N/A"}," ",{"$f":"IF(ISBLANK(Datas!$C$47),\"\",\" - \"&BG48)","v":{"$error":"#N/A"}},{"$f":"IF(ISBLANK(Datas!$C$48),\"\",\" - \"&BH48)","v":" - "},{"$f":"IF(ISBLANK(Datas!$C$49),\"\",\" - \"&BI48)","v":""},{"$f":"IF(ISBLANK(Datas!$C$50),\"\",\" - \"&BJ48)","v":" - Ecus:"},{"$f":"IF(ISBLANK(Datas!$C$51),\"\",\" - \"&BK48)","v":" - Niv: "},null,{"$error":"#N/A"},{"$error":"#N/A"},"","PR:","Ecus:","Niv: ",null,null,null,null,"",{"$f":"VLOOKUP(BP48,LstVillage!$B$8:$C$283,1)","v":{"$error":"#N/A"}},{"$error":"#N/A"},{"$error":"#N/A"},"",{"$f":"VLOOKUP(BT48,Datas!$G$6:$G$17,1)","v":{"$error":"#N/A"}},{"$error":"#N/A"},{"$error":"#N/A"},null,"",0,0,null,{"$f":"VLOOKUP(BP48,Liste_Noire!$B$15:$G$1208,1)","v":{"$error":"#N/A"}},{"$f":"VLOOKUP(BP48,Liste_Noire!$B$15:$G$1208,5)","v":{"$error":"#N/A"}},{"$error":"#N/A"},null,0,0,0,0,0,0,1]
[null,""," ","","","","","",{"$f":"IF(ISBLANK(Trait_Etrangers!H49),\"\",Trait_Etrangers!H49)","v":""},{"$f":"IF(ISBLANK(Trait_Etrangers!I49),\"\",Trait_Etrangers!I49)","v":""},{"$f":"IF(ISBLANK(Trait_Etrangers!J49),\"\",Trait_Etrangers!J49)","v":""},{"$f":"IF(ISBLANK(Trait_Etrangers!K49),\"\",Trait_Etrangers!K49)","v":""},{"$f":"IF(ISBLANK(Trait_Etrangers!L49),\"\",Trait_Etrangers!L49)","v":""},{"$f":"IF(ISBLANK(Trait_Etrangers!M49),\"\",Trait_Etrangers!M49)","v":""},{"$f":"IF(ISBLANK(Trait_Etrangers!N49),\"\",Trait_Etrangers!N49)","v":""},{"$f":"IF(ISBLANK(Trait_Etrangers!O49),\"\",Trait_Etrangers!O49)","v":""},{"$f":"IF(ISBLANK(Trait_Etrangers!P49),\"\",Trait_Etrangers!P49)","v":""},null,{"$f":"IF(ISBLANK(Trait_Etrangers!R49),\"\",Trait_Etrangers!R49)","v":""},{"$f":"IF(ISBLANK(Trait_Etrangers!S49),\"\",Trait_Etrangers!S49)","v":""},{"$f":"IF(ISBLANK(Trait_Etrangers!T49),\"\",Trait_Etrangers!T49)","v":""},{"$f":"IF(ISBLANK(Trait_Etrangers!U49),\"\",Trait_Etrangers!U49)","v":""},null,null,null,"","",0,0,0,0,0,0,0,0,0,0,0,0,0,0,0,0,0,null,1,null,null,{"$f":"IF(AX49=\"\",\"\",IF(CE49=1,\"[b][color=red]\"&Datas!$D$32&\"[/color][/b]\"&AX49&\"[b][color=red]\"&Datas!$D$33&\"{\"&CD49&\"}[/color][/b]\",AX49))","v":{"$error":"#N/A"}},{"$error":"#N/A"}," ",{"$f":"IF(ISBLANK(Datas!$C$47),\"\",\" - \"&BG49)","v":{"$error":"#N/A"}},{"$f":"IF(ISBLANK(Datas!$C$48),\"\",\" - \"&BH49)","v":" - "},{"$f":"IF(ISBLANK(Datas!$C$49),\"\",\" - \"&BI49)","v":""},{"$f":"IF(ISBLANK(Datas!$C$50),\"\",\" - \"&BJ49)","v":" - Ecus:"},{"$f":"IF(ISBLANK(Datas!$C$51),\"\",\" - \"&BK49)","v":" - Niv: "},null,{"$error":"#N/A"},{"$error":"#N/A"},"","PR:","Ecus:","Niv: ",null,null,null,null,"",{"$f":"VLOOKUP(BP49,LstVillage!$B$8:$C$283,1)","v":{"$error":"#N/A"}},{"$error":"#N/A"},{"$error":"#N/A"},"",{"$f":"VLOOKUP(BT49,Datas!$G$6:$G$17,1)","v":{"$error":"#N/A"}},{"$error":"#N/A"},{"$error":"#N/A"},null,"",0,0,null,{"$f":"VLOOKUP(BP49,Liste_Noire!$B$15:$G$1208,1)","v":{"$error":"#N/A"}},{"$f":"VLOOKUP(BP49,Liste_Noire!$B$15:$G$1208,5)","v":{"$error":"#N/A"}},{"$error":"#N/A"},null,0,0,0,0,0,0,1]
[null,""," ","","","","","",{"$f":"IF(ISBLANK(Trait_Etrangers!H50),\"\",Trait_Etrangers!H50)","v":""},{"$f":"IF(ISBLANK(Trait_Etrangers!I50),\"\",Trait_Etrangers!I50)","v":""},{"$f":"IF(ISBLANK(Trait_Etrangers!J50),\"\",Trait_Etrangers!J50)","v":""},{"$f":"IF(ISBLANK(Trait_Etrangers!K50),\"\",Trait_Etrangers!K50)","v":""},{"$f":"IF(ISBLANK(Trait_Etrangers!L50),\"\",Trait_Etrangers!L50)","v":""},{"$f":"IF(ISBLANK(Trait_Etrangers!M50),\"\",Trait_Etrangers!M50)","v":""},{"$f":"IF(ISBLANK(Trait_Etrangers!N50),\"\",Trait_Etrangers!N50)","v":""},{"$f":"IF(ISBLANK(Trait_Etrangers!O50),\"\",Trait_Etrangers!O50)","v":""},{"$f":"IF(ISBLANK(Trait_Etrangers!P50),\"\",Trait_Etrangers!P50)","v":""},null,{"$f":"IF(ISBLANK(Trait_Etrangers!R50),\"\",Trait_Etrangers!R50)","v":""},{"$f":"IF(ISBLANK(Trait_Etrangers!S50),\"\",Trait_Etrangers!S50)","v":""},{"$f":"IF(ISBLANK(Trait_Etrangers!T50),\"\",Trait_Etrangers!T50)","v":""},{"$f":"IF(ISBLANK(Trait_Etrangers!U50),\"\",Trait_Etrangers!U50)","v":""},null,null,null,"","",0,0,0,0,0,0,0,0,0,0,0,0,0,0,0,0,0,null,1,null,null,{"$f":"IF(AX50=\"\",\"\",IF(CE50=1,\"[b][color=red]\"&Datas!$D$32&\"[/color][/b]\"&AX50&\"[b][color=red]\"&Datas!$D$33&\"{\"&CD50&\"}[/color][/b]\",AX50))","v":{"$error":"#N/A"}},{"$error":"#N/A"}," ",{"$f":"IF(ISBLANK(Datas!$C$47),\"\",\" - \"&BG50)","v":{"$error":"#N/A"}},{"$f":"IF(ISBLANK(Datas!$C$48),\"\",\" - \"&BH50)","v":" - "},{"$f":"IF(ISBLANK(Datas!$C$49),\"\",\" - \"&BI50)","v":""},{"$f":"IF(ISBLANK(Datas!$C$50),\"\",\" - \"&BJ50)","v":" - Ecus:"},{"$f":"IF(ISBLANK(Datas!$C$51),\"\",\" - \"&BK50)","v":" - Niv: "},null,{"$error":"#N/A"},{"$error":"#N/A"},"","PR:","Ecus:","Niv: ",null,null,null,null,"",{"$f":"VLOOKUP(BP50,LstVillage!$B$8:$C$283,1)","v":{"$error":"#N/A"}},{"$error":"#N/A"},{"$error":"#N/A"},"",{"$f":"VLOOKUP(BT50,Datas!$G$6:$G$17,1)","v":{"$error":"#N/A"}},{"$error":"#N/A"},{"$error":"#N/A"},null,"",0,0,null,{"$f":"VLOOKUP(BP50,Liste_Noire!$B$15:$G$1208,1)","v":{"$error":"#N/A"}},{"$f":"VLOOKUP(BP50,Liste_Noire!$B$15:$G$1208,5)","v":{"$error":"#N/A"}},{"$error":"#N/A"},null,0,0,0,0,0,0,1]
[null,""," ","","","","","",{"$f":"IF(ISBLANK(Trait_Etrangers!H51),\"\",Trait_Etrangers!H51)","v":""},{"$f":"IF(ISBLANK(Trait_Etrangers!I51),\"\",Trait_Etrangers!I51)","v":""},{"$f":"IF(ISBLANK(Trait_Etrangers!J51),\"\",Trait_Etrangers!J51)","v":""},{"$f":"IF(ISBLANK(Trait_Etrangers!K51),\"\",Trait_Etrangers!K51)","v":""},{"$f":"IF(ISBLANK(Trait_Etrangers!L51),\"\",Trait_Etrangers!L51)","v":""},{"$f":"IF(ISBLANK(Trait_Etrangers!M51),\"\",Trait_Etrangers!M51)","v":""},{"$f":"IF(ISBLANK(Trait_Etrangers!N51),\"\",Trait_Etrangers!N51)","v":""},{"$f":"IF(ISBLANK(Trait_Etrangers!O51),\"\",Trait_Etrangers!O51)","v":""},{"$f":"IF(ISBLANK(Trait_Etrangers!P51),\"\",Trait_Etrangers!P51)","v":""},null,{"$f":"IF(ISBLANK(Trait_Etrangers!R51),\"\",Trait_Etrangers!R51)","v":""},{"$f":"IF(ISBLANK(Trait_Etrangers!S51),\"\",Trait_Etrangers!S51)","v":""},{"$f":"IF(ISBLANK(Trait_Etrangers!T51),\"\",Trait_Etrangers!T51)","v":""},{"$f":"IF(ISBLANK(Trait_Etrangers!U51),\"\",Trait_Etrangers!U51)","v":""},null,null,null,"","",0,0,0,0,0,0,0,0,0,0,0,0,0,0,0,0,0,null,1,null,null,{"$f":"IF(AX51=\"\",\"\",IF(CE51=1,\"[b][color=red]\"&Datas!$D$32&\"[/color][/b]\"&AX51&\"[b][color=red]\"&Datas!$D$33&\"{\"&CD51&\"}[/color][/b]\",AX51))","v":{"$error":"#N/A"}},{"$error":"#N/A"}," ",{"$f":"IF(ISBLANK(Datas!$C$47),\"\",\" - \"&BG51)","v":{"$error":"#N/A"}},{"$f":"IF(ISBLANK(Datas!$C$48),\"\",\" - \"&BH51)","v":" - "},{"$f":"IF(ISBLANK(Datas!$C$49),\"\",\" - \"&BI51)","v":""},{"$f":"IF(ISBLANK(Datas!$C$50),\"\",\" - \"&BJ51)","v":" - Ecus:"},{"$f":"IF(ISBLANK(Datas!$C$51),\"\",\" - \"&BK51)","v":" - Niv: "},null,{"$error":"#N/A"},{"$error":"#N/A"},"","PR:","Ecus:","Niv: ",null,null,null,null,"",{"$f":"VLOOKUP(BP51,LstVillage!$B$8:$C$283,1)","v":{"$error":"#N/A"}},{"$error":"#N/A"},{"$error":"#N/A"},"",{"$f":"VLOOKUP(BT51,Datas!$G$6:$G$17,1)","v":{"$error":"#N/A"}},{"$error":"#N/A"},{"$error":"#N/A"},null,"",0,0,null,{"$f":"VLOOKUP(BP51,Liste_Noire!$B$15:$G$1208,1)","v":{"$error":"#N/A"}},{"$f":"VLOOKUP(BP51,Liste_Noire!$B$15:$G$1208,5)","v":{"$error":"#N/A"}},{"$error":"#N/A"},null,0,0,0,0,0,0,1]
[null,""," ","","","","","",{"$f":"IF(ISBLANK(Trait_Etrangers!H52),\"\",Trait_Etrangers!H52)","v":""},{"$f":"IF(ISBLANK(Trait_Etrangers!I52),\"\",Trait_Etrangers!I52)","v":""},{"$f":"IF(ISBLANK(Trait_Etrangers!J52),\"\",Trait_Etrangers!J52)","v":""},{"$f":"IF(ISBLANK(Trait_Etrangers!K52),\"\",Trait_Etrangers!K52)","v":""},{"$f":"IF(ISBLANK(Trait_Etrangers!L52),\"\",Trait_Etrangers!L52)","v":""},{"$f":"IF(ISBLANK(Trait_Etrangers!M52),\"\",Trait_Etrangers!M52)","v":""},{"$f":"IF(ISBLANK(Trait_Etrangers!N52),\"\",Trait_Etrangers!N52)","v":""},{"$f":"IF(ISBLANK(Trait_Etrangers!O52),\"\",Trait_Etrangers!O52)","v":""},{"$f":"IF(ISBLANK(Trait_Etrangers!P52),\"\",Trait_Etrangers!P52)","v":""},null,{"$f":"IF(ISBLANK(Trait_Etrangers!R52),\"\",Trait_Etrangers!R52)","v":""},{"$f":"IF(ISBLANK(Trait_Etrangers!S52),\"\",Trait_Etrangers!S52)","v":""},{"$f":"IF(ISBLANK(Trait_Etrangers!T52),\"\",Trait_Etrangers!T52)","v":""},{"$f":"IF(ISBLANK(Trait_Etrangers!U52),\"\",Trait_Etrangers!U52)","v":""},null,null,null,"","",0,0,0,0,0,0,0,0,0,0,0,0,0,0,0,0,0,null,1,null,null,{"$f":"IF(AX52=\"\",\"\",IF(CE52=1,\"[b][color=red]\"&Datas!$D$32&\"[/color][/b]\"&AX52&\"[b][color=red]\"&Datas!$D$33&\"{\"&CD52&\"}[/color][/b]\",AX52))","v":{"$error":"#N/A"}},{"$error":"#N/A"}," ",{"$f":"IF(ISBLANK(Datas!$C$47),\"\",\" - \"&BG52)","v":{"$error":"#N/A"}},{"$f":"IF(ISBLANK(Datas!$C$48),\"\",\" - \"&BH52)","v":" - "},{"$f":"IF(ISBLANK(Datas!$C$49),\"\",\" - \"&BI52)","v":""},{"$f":"IF(ISBLANK(Datas!$C$50),\"\",\" - \"&BJ52)","v":" - Ecus:"},{"$f":"IF(ISBLANK(Datas!$C$51),\"\",\" - \"&BK52)","v":" - Niv: "},null,{"$error":"#N/A"},{"$error":"#N/A"},"","PR:","Ecus:","Niv: ",null,null,null,null,"",{"$f":"VLOOKUP(BP52,LstVillage!$B$8:$C$283,1)","v":{"$error":"#N/A"}},{"$error":"#N/A"},{"$error":"#N/A"},"",{"$f":"VLOOKUP(BT52,Datas!$G$6:$G$17,1)","v":{"$error":"#N/A"}},{"$error":"#N/A"},{"$error":"#N/A"},null,"",0,0,null,{"$f":"VLOOKUP(BP52,Liste_Noire!$B$15:$G$1208,1)","v":{"$error":"#N/A"}},{"$f":"VLOOKUP(BP52,Liste_Noire!$B$15:$G$1208,5)","v":{"$error":"#N/A"}},{"$error":"#N/A"},null,0,0,0,0,0,0,1]
[null,""," ","","","","","",{"$f":"IF(ISBLANK(Trait_Etrangers!H53),\"\",Trait_Etrangers!H53)","v":""},{"$f":"IF(ISBLANK(Trait_Etrangers!I53),\"\",Trait_Etrangers!I53)","v":""},{"$f":"IF(ISBLANK(Trait_Etrangers!J53),\"\",Trait_Etrangers!J53)","v":""},{"$f":"IF(ISBLANK(Trait_Etrangers!K53),\"\",Trait_Etrangers!K53)","v":""},{"$f":"IF(ISBLANK(Trait_Etrangers!L53),\"\",Trait_Etrangers!L53)","v":""},{"$f":"IF(ISBLANK(Trait_Etrangers!M53),\"\",Trait_Etrangers!M53)","v":""},{"$f":"IF(ISBLANK(Trait_Etrangers!N53),\"\",Trait_Etrangers!N53)","v":""},{"$f":"IF(ISBLANK(Trait_Etrangers!O53),\"\",Trait_Etrangers!O53)","v":""},{"$f":"IF(ISBLANK(Trait_Etrangers!P53),\"\",Trait_Etrangers!P53)","v":""},null,{"$f":"IF(ISBLANK(Trait_Etrangers!R53),\"\",Trait_Etrangers!R53)","v":""},{"$f":"IF(ISBLANK(Trait_Etrangers!S53),\"\",Trait_Etrangers!S53)","v":""},{"$f":"IF(ISBLANK(Trait_Etrangers!T53),\"\",Trait_Etrangers!T53)","v":""},{"$f":"IF(ISBLANK(Trait_Etrangers!U53),\"\",Trait_Etrangers!U53)","v":""},null,null,null,"","",0,0,0,0,0,0,0,0,0,0,0,0,0,0,0,0,0,null,1,null,null,{"$f":"IF(AX53=\"\",\"\",IF(CE53=1,\"[b][color=red]\"&Datas!$D$32&\"[/color][/b]\"&AX53&\"[b][color=red]\"&Datas!$D$33&\"{\"&CD53&\"}[/color][/b]\",AX53))","v":{"$error":"#N/A"}},{"$error":"#N/A"}," ",{"$f":"IF(ISBLANK(Datas!$C$47),\"\",\" - \"&BG53)","v":{"$error":"#N/A"}},{"$f":"IF(ISBLANK(Datas!$C$48),\"\",\" - \"&BH53)","v":" - "},{"$f":"IF(ISBLANK(Datas!$C$49),\"\",\" - \"&BI53)","v":""},{"$f":"IF(ISBLANK(Datas!$C$50),\"\",\" - \"&BJ53)","v":" - Ecus:"},{"$f":"IF(ISBLANK(Datas!$C$51),\"\",\" - \"&BK53)","v":" - Niv: "},null,{"$error":"#N/A"},{"$error":"#N/A"},"","PR:","Ecus:","Niv: ",null,null,null,null,"",{"$f":"VLOOKUP(BP53,LstVillage!$B$8:$C$283,1)","v":{"$error":"#N/A"}},{"$error":"#N/A"},{"$error":"#N/A"},"",{"$f":"VLOOKUP(BT53,Datas!$G$6:$G$17,1)","v":{"$error":"#N/A"}},{"$error":"#N/A"},{"$error":"#N/A"},null,"",0,0,null,{"$f":"VLOOKUP(BP53,Liste_Noire!$B$15:$G$1208,1)","v":{"$error":"#N/A"}},{"$f":"VLOOKUP(BP53,Liste_Noire!$B$15:$G$1208,5)","v":{"$error":"#N/A"}},{"$error":"#N/A"},null,0,0,0,0,0,0,1]
[null,""," ","","","","","",{"$f":"IF(ISBLANK(Trait_Etrangers!H54),\"\",Trait_Etrangers!H54)","v":""},{"$f":"IF(ISBLANK(Trait_Etrangers!I54),\"\",Trait_Etrangers!I54)","v":""},{"$f":"IF(ISBLANK(Trait_Etrangers!J54),\"\",Trait_Etrangers!J54)","v":""},{"$f":"IF(ISBLANK(Trait_Etrangers!K54),\"\",Trait_Etrangers!K54)","v":""},{"$f":"IF(ISBLANK(Trait_Etrangers!L54),\"\",Trait_Etrangers!L54)","v":""},{"$f":"IF(ISBLANK(Trait_Etrangers!M54),\"\",Trait_Etrangers!M54)","v":""},{"$f":"IF(ISBLANK(Trait_Etrangers!N54),\"\",Trait_Etrangers!N54)","v":""},{"$f":"IF(ISBLANK(Trait_Etrangers!O54),\"\",Trait_Etrangers!O54)","v":""},{"$f":"IF(ISBLANK(Trait_Etrangers!P54),\"\",Trait_Etrangers!P54)","v":""},null,{"$f":"IF(ISBLANK(Trait_Etrangers!R54),\"\",Trait_Etrangers!R54)","v":""},{"$f":"IF(ISBLANK(Trait_Etrangers!S54),\"\",Trait_Etrangers!S54)","v":""},{"$f":"IF(ISBLANK(Trait_Etrangers!T54),\"\",Trait_Etrangers!T54)","v":""},{"$f":"IF(ISBLANK(Trait_Etrangers!U54),\"\",Trait_Etrangers!U54)","v":""},null,null,null,"","",0,0,0,0,0,0,0,0,0,0,0,0,0,0,0,0,0,null,1,null,null,{"$f":"IF(AX54=\"\",\"\",IF(CE54=1,\"[b][color=red]\"&Datas!$D$32&\"[/color][/b]\"&AX54&\"[b][color=red]\"&Datas!$D$33&\"{\"&CD54&\"}[/color][/b]\",AX54))","v":{"$error":"#N/A"}},{"$error":"#N/A"}," ",{"$f":"IF(ISBLANK(Datas!$C$47),\"\",\" - \"&BG54)","v":{"$error":"#N/A"}},{"$f":"IF(ISBLANK(Datas!$C$48),\"\",\" - \"&BH54)","v":" - "},{"$f":"IF(ISBLANK(Datas!$C$49),\"\",\" - \"&BI54)","v":""},{"$f":"IF(ISBLANK(Datas!$C$50),\"\",\" - \"&BJ54)","v":" - Ecus:"},{"$f":"IF(ISBLANK(Datas!$C$51),\"\",\" - \"&BK54)","v":" - Niv: "},null,{"$error":"#N/A"},{"$error":"#N/A"},"","PR:","Ecus:","Niv: ",null,null,null,null,"",{"$f":"VLOOKUP(BP54,LstVillage!$B$8:$C$283,1)","v":{"$error":"#N/A"}},{"$error":"#N/A"},{"$error":"#N/A"},"",{"$f":"VLOOKUP(BT54,Datas!$G$6:$G$17,1)","v":{"$error":"#N/A"}},{"$error":"#N/A"},{"$error":"#N/A"},null,"",0,0,null,{"$f":"VLOOKUP(BP54,Liste_Noire!$B$15:$G$1208,1)","v":{"$error":"#N/A"}},{"$f":"VLOOKUP(BP54,Liste_Noire!$B$15:$G$1208,5)","v":{"$error":"#N/A"}},{"$error":"#N/A"},null,0,0,0,0,0,0,1]
[null,""," ","","","","","",{"$f":"IF(ISBLANK(Trait_Etrangers!H55),\"\",Trait_Etrangers!H55)","v":""},{"$f":"IF(ISBLANK(Trait_Etrangers!I55),\"\",Trait_Etrangers!I55)","v":""},{"$f":"IF(ISBLANK(Trait_Etrangers!J55),\"\",Trait_Etrangers!J55)","v":""},{"$f":"IF(ISBLANK(Trait_Etrangers!K55),\"\",Trait_Etrangers!K55)","v":""},{"$f":"IF(ISBLANK(Trait_Etrangers!L55),\"\",Trait_Etrangers!L55)","v":""},{"$f":"IF(ISBLANK(Trait_Etrangers!M55),\"\",Trait_Etrangers!M55)","v":""},{"$f":"IF(ISBLANK(Trait_Etrangers!N55),\"\",Trait_Etrangers!N55)","v":""},{"$f":"IF(ISBLANK(Trait_Etrangers!O55),\"\",Trait_Etrangers!O55)","v":""},{"$f":"IF(ISBLANK(Trait_Etrangers!P55),\"\",Trait_Etrangers!P55)","v":""},null,{"$f":"IF(ISBLANK(Trait_Etrangers!R55),\"\",Trait_Etrangers!R55)","v":""},{"$f":"IF(ISBLANK(Trait_Etrangers!S55),\"\",Trait_Etrangers!S55)","v":""},{"$f":"IF(ISBLANK(Trait_Etrangers!T55),\"\",Trait_Etrangers!T55)","v":""},{"$f":"IF(ISBLANK(Trait_Etrangers!U55),\"\",Trait_Etrangers!U55)","v":""},null,null,null,"","",0,0,0,0,0,0,0,0,0,0,0,0,0,0,0,0,0,null,1,null,null,{"$f":"IF(AX55=\"\",\"\",IF(CE55=1,\"[b][color=red]\"&Datas!$D$32&\"[/color][/b]\"&AX55&\"[b][color=red]\"&Datas!$D$33&\"{\"&CD55&\"}[/color][/b]\",AX55))","v":{"$error":"#N/A"}},{"$error":"#N/A"}," ",{"$f":"IF(ISBLANK(Datas!$C$47),\"\",\" - \"&BG55)","v":{"$error":"#N/A"}},{"$f":"IF(ISBLANK(Datas!$C$48),\"\",\" - \"&BH55)","v":" - "},{"$f":"IF(ISBLANK(Datas!$C$49),\"\",\" - \"&BI55)","v":""},{"$f":"IF(ISBLANK(Datas!$C$50),\"\",\" - \"&BJ55)","v":" - Ecus:"},{"$f":"IF(ISBLANK(Datas!$C$51),\"\",\" - \"&BK55)","v":" - Niv: "},null,{"$error":"#N/A"},{"$error":"#N/A"},"","PR:","Ecus:","Niv: ",null,null,null,null,"",{"$f":"VLOOKUP(BP55,LstVillage!$B$8:$C$283,1)","v":{"$error":"#N/A"}},{"$error":"#N/A"},{"$error":"#N/A"},"",{"$f":"VLOOKUP(BT55,Datas!$G$6:$G$17,1)","v":{"$error":"#N/A"}},{"$error":"#N/A"},{"$error":"#N/A"},null,"",0,0,null,{"$f":"VLOOKUP(BP55,Liste_Noire!$B$15:$G$1208,1)","v":{"$error":"#N/A"}},{"$f":"VLOOKUP(BP55,Liste_Noire!$B$15:$G$1208,5)","v":{"$error":"#N/A"}},{"$error":"#N/A"},null,0,0,0,0,0,0,1]
[null,""," ","","","","","",{"$f":"IF(ISBLANK(Trait_Etrangers!H56),\"\",Trait_Etrangers!H56)","v":""},{"$f":"IF(ISBLANK(Trait_Etrangers!I56),\"\",Trait_Etrangers!I56)","v":""},{"$f":"IF(ISBLANK(Trait_Etrangers!J56),\"\",Trait_Etrangers!J56)","v":""},{"$f":"IF(ISBLANK(Trait_Etrangers!K56),\"\",Trait_Etrangers!K56)","v":""},{"$f":"IF(ISBLANK(Trait_Etrangers!L56),\"\",Trait_Etrangers!L56)","v":""},{"$f":"IF(ISBLANK(Trait_Etrangers!M56),\"\",Trait_Etrangers!M56)","v":""},{"$f":"IF(ISBLANK(Trait_Etrangers!N56),\"\",Trait_Etrangers!N56)","v":""},{"$f":"IF(ISBLANK(Trait_Etrangers!O56),\"\",Trait_Etrangers!O56)","v":""},{"$f":"IF(ISBLANK(Trait_Etrangers!P56),\"\",Trait_Etrangers!P56)","v":""},null,{"$f":"IF(ISBLANK(Trait_Etrangers!R56),\"\",Trait_Etrangers!R56)","v":""},{"$f":"IF(ISBLANK(Trait_Etrangers!S56),\"\",Trait_Etrangers!S56)","v":""},{"$f":"IF(ISBLANK(Trait_Etrangers!T56),\"\",Trait_Etrangers!T56)","v":""},{"$f":"IF(ISBLANK(Trait_Etrangers!U56),\"\",Trait_Etrangers!U56)","v":""},null,null,null,"","",0,0,0,0,0,0,0,0,0,0,0,0,0,0,0,0,0,null,1,null,null,{"$f":"IF(AX56=\"\",\"\",IF(CE56=1,\"[b][color=red]\"&Datas!$D$32&\"[/color][/b]\"&AX56&\"[b][color=red]\"&Datas!$D$33&\"{\"&CD56&\"}[/color][/b]\",AX56))","v":{"$error":"#N/A"}},{"$error":"#N/A"}," ",{"$f":"IF(ISBLANK(Datas!$C$47),\"\",\" - \"&BG56)","v":{"$error":"#N/A"}},{"$f":"IF(ISBLANK(Datas!$C$48),\"\",\" - \"&BH56)","v":" - "},{"$f":"IF(ISBLANK(Datas!$C$49),\"\",\" - \"&BI56)","v":""},{"$f":"IF(ISBLANK(Datas!$C$50),\"\",\" - \"&BJ56)","v":" - Ecus:"},{"$f":"IF(ISBLANK(Datas!$C$51),\"\",\" - \"&BK56)","v":" - Niv: "},null,{"$error":"#N/A"},{"$error":"#N/A"},"","PR:","Ecus:","Niv: ",null,null,null,null,"",{"$f":"VLOOKUP(BP56,LstVillage!$B$8:$C$283,1)","v":{"$error":"#N/A"}},{"$error":"#N/A"},{"$error":"#N/A"},"",{"$f":"VLOOKUP(BT56,Datas!$G$6:$G$17,1)","v":{"$error":"#N/A"}},{"$error":"#N/A"},{"$error":"#N/A"},null,"",0,0,null,{"$f":"VLOOKUP(BP56,Liste_Noire!$B$15:$G$1208,1)","v":{"$error":"#N/A"}},{"$f":"VLOOKUP(BP56,Liste_Noire!$B$15:$G$1208,5)","v":{"$error":"#N/A"}},{"$error":"#N/A"},null,0,0,0,0,0,0,1]
[null,""," ","","","","","",{"$f":"IF(ISBLANK(Trait_Etrangers!H57),\"\",Trait_Etrangers!H57)","v":""},{"$f":"IF(ISBLANK(Trait_Etrangers!I57),\"\",Trait_Etrangers!I57)","v":""},{"$f":"IF(ISBLANK(Trait_Etrangers!J57),\"\",Trait_Etrangers!J57)","v":""},{"$f":"IF(ISBLANK(Trait_Etrangers!K57),\"\",Trait_Etrangers!K57)","v":""},{"$f":"IF(ISBLANK(Trait_Etrangers!L57),\"\",Trait_Etrangers!L57)","v":""},{"$f":"IF(ISBLANK(Trait_Etrangers!M57),\"\",Trait_Etrangers!M57)","v":""},{"$f":"IF(ISBLANK(Trait_Etrangers!N57),\"\",Trait_Etrangers!N57)","v":""},{"$f":"IF(ISBLANK(Trait_Etrangers!O57),\"\",Trait_Etrangers!O57)","v":""},{"$f":"IF(ISBLANK(Trait_Etrangers!P57),\"\",Trait_Etrangers!P57)","v":""},null,{"$f":"IF(ISBLANK(Trait_Etrangers!R57),\"\",Trait_Etrangers!R57)","v":""},{"$f":"IF(ISBLANK(Trait_Etrangers!S57),\"\",Trait_Etrangers!S57)","v":""},{"$f":"IF(ISBLANK(Trait_Etrangers!T57),\"\",Trait_Etrangers!T57)","v":""},{"$f":"IF(ISBLANK(Trait_Etrangers!U57),\"\",Trait_Etrangers!U57)","v":""},null,null,null,"","",0,0,0,0,0,0,0,0,0,0,0,0,0,0,0,{"$f":"IF(AND($Z57=AQ$11,(AK57+AO57)=0),1,0)","v":0},0,null,1,null,null,{"$f":"IF(AX57=\"\",\"\",IF(CE57=1,\"[b][color=red]\"&Datas!$D$32&\"[/color][/b]\"&AX57&\"[b][color=red]\"&Datas!$D$33&\"{\"&CD57&\"}[/color][/b]\",AX57))","v":{"$error":"#N/A"}},{"$error":"#N/A"}," ",{"$f":"IF(ISBLANK(Datas!$C$47),\"\",\" - \"&BG57)","v":{"$error":"#N/A"}},{"$f":"IF(ISBLANK(Datas!$C$48),\"\",\" - \"&BH57)","v":" - "},{"$f":"IF(ISBLANK(Datas!$C$49),\"\",\" - \"&BI57)","v":""},{"$f":"IF(ISBLANK(Datas!$C$50),\"\",\" - \"&BJ57)","v":" - Ecus:"},{"$f":"IF(ISBLANK(Datas!$C$51),\"\",\" - \"&BK57)","v":" - Niv: "},null,{"$error":"#N/A"},{"$error":"#N/A"},"","PR:","Ecus:","Niv: ",null,null,null,null,"",{"$f":"VLOOKUP(BP57,LstVillage!$B$8:$C$283,1)","v":{"$error":"#N/A"}},{"$error":"#N/A"},{"$error":"#N/A"},"",{"$f":"VLOOKUP(BT57,Datas!$G$6:$G$17,1)","v":{"$error":"#N/A"}},{"$error":"#N/A"},{"$error":"#N/A"},null,"",0,0,null,{"$f":"VLOOKUP(BP57,Liste_Noire!$B$15:$G$1208,1)","v":{"$error":"#N/A"}},{"$f":"VLOOKUP(BP57,Liste_Noire!$B$15:$G$1208,5)","v":{"$error":"#N/A"}},{"$error":"#N/A"},null,0,0,0,0,0,0,1]
[null,""," ","","","","","",{"$f":"IF(ISBLANK(Trait_Etrangers!H58),\"\",Trait_Etrangers!H58)","v":""},{"$f":"IF(ISBLANK(Trait_Etrangers!I58),\"\",Trait_Etrangers!I58)","v":""},{"$f":"IF(ISBLANK(Trait_Etrangers!J58),\"\",Trait_Etrangers!J58)","v":""},{"$f":"IF(ISBLANK(Trait_Etrangers!K58),\"\",Trait_Etrangers!K58)","v":""},{"$f":"IF(ISBLANK(Trait_Etrangers!L58),\"\",Trait_Etrangers!L58)","v":""},{"$f":"IF(ISBLANK(Trait_Etrangers!M58),\"\",Trait_Etrangers!M58)","v":""},{"$f":"IF(ISBLANK(Trait_Etrangers!N58),\"\",Trait_Etrangers!N58)","v":""},{"$f":"IF(ISBLANK(Trait_Etrangers!O58),\"\",Trait_Etrangers!O58)","v":""},{"$f":"IF(ISBLANK(Trait_Etrangers!P58),\"\",Trait_Etrangers!P58)","v":""},null,{"$f":"IF(ISBLANK(Trait_Etrangers!R58),\"\",Trait_Etrangers!R58)","v":""},{"$f":"IF(ISBLANK(Trait_Etrangers!S58),\"\",Trait_Etrangers!S58)","v":""},{"$f":"IF(ISBLANK(Trait_Etrangers!T58),\"\",Trait_Etrangers!T58)","v":""},{"$f":"IF(ISBLANK(Trait_Etrangers!U58),\"\",Trait_Etrangers!U58)","v":""},null,null,null,"","",0,0,0,0,0,0,0,0,0,0,0,0,0,0,0,0,0,null,1,null,null,{"$f":"IF(AX58=\"\",\"\",IF(CE58=1,\"[b][color=red]\"&Datas!$D$32&\"[/color][/b]\"&AX58&\"[b][color=red]\"&Datas!$D$33&\"{\"&CD58&\"}[/color][/b]\",AX58))","v":{"$error":"#N/A"}},{"$error":"#N/A"}," ",{"$f":"IF(ISBLANK(Datas!$C$47),\"\",\" - \"&BG58)","v":{"$error":"#N/A"}},{"$f":"IF(ISBLANK(Datas!$C$48),\"\",\" - \"&BH58)","v":" - "},{"$f":"IF(ISBLANK(Datas!$C$49),\"\",\" - \"&BI58)","v":""},{"$f":"IF(ISBLANK(Datas!$C$50),\"\",\" - \"&BJ58)","v":" - Ecus:"},{"$f":"IF(ISBLANK(Datas!$C$51),\"\",\" - \"&BK58)","v":" - Niv: "},null,{"$error":"#N/A"},{"$error":"#N/A"},"","PR:","Ecus:","Niv: ",null,null,null,null,"",{"$f":"VLOOKUP(BP58,LstVillage!$B$8:$C$283,1)","v":{"$error":"#N/A"}},{"$error":"#N/A"},{"$error":"#N/A"},"",{"$f":"VLOOKUP(BT58,Datas!$G$6:$G$17,1)","v":{"$error":"#N/A"}},{"$error":"#N/A"},{"$error":"#N/A"},null,"",0,0,null,{"$f":"VLOOKUP(BP58,Liste_Noire!$B$15:$G$1208,1)","v":{"$error":"#N/A"}},{"$f":"VLOOKUP(BP58,Liste_Noire!$B$15:$G$1208,5)","v":{"$error":"#N/A"}},{"$error":"#N/A"},null,0,0,0,0,0,0,1]
[null,""," ","","","","","",{"$f":"IF(ISBLANK(Trait_Etrangers!H59),\"\",Trait_Etrangers!H59)","v":""},{"$f":"IF(ISBLANK(Trait_Etrangers!I59),\"\",Trait_Etrangers!I59)","v":""},{"$f":"IF(ISBLANK(Trait_Etrangers!J59),\"\",Trait_Etrangers!J59)","v":""},{"$f":"IF(ISBLANK(Trait_Etrangers!K59),\"\",Trait_Etrangers!K59)","v":""},{"$f":"IF(ISBLANK(Trait_Etrangers!L59),\"\",Trait_Etrangers!L59)","v":""},{"$f":"IF(ISBLANK(Trait_Etrangers!M59),\"\",Trait_Etrangers!M59)","v":""},{"$f":"IF(ISBLANK(Trait_Etrangers!N59),\"\",Trait_Etrangers!N59)","v":""},{"$f":"IF(ISBLANK(Trait_Etrangers!O59),\"\",Trait_Etrangers!O59)","v":""},{"$f":"IF(ISBLANK(Trait_Etrangers!P59),\"\",Trait_Etrangers!P59)","v":""},null,{"$f":"IF(ISBLANK(Trait_Etrangers!R59),\"\",Trait_Etrangers!R59)","v":""},{"$f":"IF(ISBLANK(Trait_Etrangers!S59),\"\",Trait_Etrangers!S59)","v":""},{"$f":"IF(ISBLANK(Trait_Etrangers!T59),\"\",Trait_Etrangers!T59)","v":""},{"$f":"IF(ISBLANK(Trait_Etrangers!U59),\"\",Trait_Etrangers!U59)","v":""},null,null,null,"","",0,0,0,0,0,0,0,0,0,0,0,0,0,0,0,0,0,null,1,null,null,{"$f":"IF(AX59=\"\",\"\",IF(CE59=1,\"[b][color=red]\"&Datas!$D$32&\"[/color][/b]\"&AX59&\"[b][color=red]\"&Datas!$D$33&\"{\"&CD59&\"}[/color][/b]\",AX59))","v":{"$error":"#N/A"}},{"$error":"#N/A"}," ",{"$f":"IF(ISBLANK(Datas!$C$47),\"\",\" - \"&BG59)","v":{"$error":"#N/A"}},{"$f":"IF(ISBLANK(Datas!$C$48),\"\",\" - \"&BH59)","v":" - "},{"$f":"IF(ISBLANK(Datas!$C$49),\"\",\" - \"&BI59)","v":""},{"$f":"IF(ISBLANK(Datas!$C$50),\"\",\" - \"&BJ59)","v":" - Ecus:"},{"$f":"IF(ISBLANK(Datas!$C$51),\"\",\" - \"&BK59)","v":" - Niv: "},null,{"$error":"#N/A"},{"$error":"#N/A"},"","PR:","Ecus:","Niv: ",null,null,null,null,"",{"$f":"VLOOKUP(BP59,LstVillage!$B$8:$C$283,1)","v":{"$error":"#N/A"}},{"$error":"#N/A"},{"$error":"#N/A"},"",{"$f":"VLOOKUP(BT59,Datas!$G$6:$G$17,1)","v":{"$error":"#N/A"}},{"$error":"#N/A"},{"$error":"#N/A"},null,"",0,0,null,{"$f":"VLOOKUP(BP59,Liste_Noire!$B$15:$G$1208,1)","v":{"$error":"#N/A"}},{"$f":"VLOOKUP(BP59,Liste_Noire!$B$15:$G$1208,5)","v":{"$error":"#N/A"}},{"$error":"#N/A"},null,0,0,0,0,0,0,1]
[null,""," ","","","","","",{"$f":"IF(ISBLANK(Trait_Etrangers!H60),\"\",Trait_Etrangers!H60)","v":""},{"$f":"IF(ISBLANK(Trait_Etrangers!I60),\"\",Trait_Etrangers!I60)","v":""},{"$f":"IF(ISBLANK(Trait_Etrangers!J60),\"\",Trait_Etrangers!J60)","v":""},{"$f":"IF(ISBLANK(Trait_Etrangers!K60),\"\",Trait_Etrangers!K60)","v":""},{"$f":"IF(ISBLANK(Trait_Etrangers!L60),\"\",Trait_Etrangers!L60)","v":""},{"$f":"IF(ISBLANK(Trait_Etrangers!M60),\"\",Trait_Etrangers!M60)","v":""},{"$f":"IF(ISBLANK(Trait_Etrangers!N60),\"\",Trait_Etrangers!N60)","v":""},{"$f":"IF(ISBLANK(Trait_Etrangers!O60),\"\",Trait_Etrangers!O60)","v":""},{"$f":"IF(ISBLANK(Trait_Etrangers!P60),\"\",Trait_Etrangers!P60)","v":""},null,{"$f":"IF(ISBLANK(Trait_Etrangers!R60),\"\",Trait_Etrangers!R60)","v":""},{"$f":"IF(ISBLANK(Trait_Etrangers!S60),\"\",Trait_Etrangers!S60)","v":""},{"$f":"IF(ISBLANK(Trait_Etrangers!T60),\"\",Trait_Etrangers!T60)","v":""},{"$f":"IF(ISBLANK(Trait_Etrangers!U60),\"\",Trait_Etrangers!U60)","v":""},null,null,null,"","",0,0,0,0,0,0,0,0,0,0,0,0,0,0,0,0,0,null,1,null,null,{"$f":"IF(AX60=\"\",\"\",IF(CE60=1,\"[b][color=red]\"&Datas!$D$32&\"[/color][/b]\"&AX60&\"[b][color=red]\"&Datas!$D$33&\"{\"&CD60&\"}[/color][/b]\",AX60))","v":{"$error":"#N/A"}},{"$error":"#N/A"}," ",{"$f":"IF(ISBLANK(Datas!$C$47),\"\",\" - \"&BG60)","v":{"$error":"#N/A"}},{"$f":"IF(ISBLANK(Datas!$C$48),\"\",\" - \"&BH60)","v":" - "},{"$f":"IF(ISBLANK(Datas!$C$49),\"\",\" - \"&BI60)","v":""},{"$f":"IF(ISBLANK(Datas!$C$50),\"\",\" - \"&BJ60)","v":" - Ecus:"},{"$f":"IF(ISBLANK(Datas!$C$51),\"\",\" - \"&BK60)","v":" - Niv: "},null,{"$error":"#N/A"},{"$error":"#N/A"},"","PR:","Ecus:","Niv: ",null,null,null,null,"",{"$f":"VLOOKUP(BP60,LstVillage!$B$8:$C$283,1)","v":{"$error":"#N/A"}},{"$error":"#N/A"},{"$error":"#N/A"},"",{"$f":"VLOOKUP(BT60,Datas!$G$6:$G$17,1)","v":{"$error":"#N/A"}},{"$error":"#N/A"},{"$error":"#N/A"},null,"",0,0,null,{"$f":"VLOOKUP(BP60,Liste_Noire!$B$15:$G$1208,1)","v":{"$error":"#N/A"}},{"$f":"VLOOKUP(BP60,Liste_Noire!$B$15:$G$1208,5)","v":{"$error":"#N/A"}},{"$error":"#N/A"},null,0,0,0,0,0,0,1]
[null,""," ","","","","","",{"$f":"IF(ISBLANK(Trait_Etrangers!H61),\"\",Trait_Etrangers!H61)","v":""},{"$f":"IF(ISBLANK(Trait_Etrangers!I61),\"\",Trait_Etrangers!I61)","v":""},{"$f":"IF(ISBLANK(Trait_Etrangers!J61),\"\",Trait_Etrangers!J61)","v":""},{"$f":"IF(ISBLANK(Trait_Etrangers!K61),\"\",Trait_Etrangers!K61)","v":""},{"$f":"IF(ISBLANK(Trait_Etrangers!L61),\"\",Trait_Etrangers!L61)","v":""},{"$f":"IF(ISBLANK(Trait_Etrangers!M61),\"\",Trait_Etrangers!M61)","v":""},{"$f":"IF(ISBLANK(Trait_Etrangers!N61),\"\",Trait_Etrangers!N61)","v":""},{"$f":"IF(ISBLANK(Trait_Etrangers!O61),\"\",Trait_Etrangers!O61)","v":""},{"$f":"IF(ISBLANK(Trait_Etrangers!P61),\"\",Trait_Etrangers!P61)","v":""},null,{"$f":"IF(ISBLANK(Trait_Etrangers!R61),\"\",Trait_Etrangers!R61)","v":""},{"$f":"IF(ISBLANK(Trait_Etrangers!S61),\"\",Trait_Etrangers!S61)","v":""},{"$f":"IF(ISBLANK(Trait_Etrangers!T61),\"\",Trait_Etrangers!T61)","v":""},{"$f":"IF(ISBLANK(Trait_Etrangers!U61),\"\",Trait_Etrangers!U61)","v":""},null,null,null,"","",0,0,0,0,0,0,0,0,0,0,0,0,0,0,0,0,0,null,1,null,null,{"$f":"IF(AX61=\"\",\"\",IF(CE61=1,\"[b][color=red]\"&Datas!$D$32&\"[/color][/b]\"&AX61&\"[b][color=red]\"&Datas!$D$33&\"{\"&CD61&\"}[/color][/b]\",AX61))","v":{"$error":"#N/A"}},{"$error":"#N/A"}," ",{"$f":"IF(ISBLANK(Datas!$C$47),\"\",\" - \"&BG61)","v":{"$error":"#N/A"}},{"$f":"IF(ISBLANK(Datas!$C$48),\"\",\" - \"&BH61)","v":" - "},{"$f":"IF(ISBLANK(Datas!$C$49),\"\",\" - \"&BI61)","v":""},{"$f":"IF(ISBLANK(Datas!$C$50),\"\",\" - \"&BJ61)","v":" - Ecus:"},{"$f":"IF(ISBLANK(Datas!$C$51),\"\",\" - \"&BK61)","v":" - Niv: "},null,{"$error":"#N/A"},{"$error":"#N/A"},"","PR:","Ecus:","Niv: ",null,null,null,null,"",{"$f":"VLOOKUP(BP61,LstVillage!$B$8:$C$283,1)","v":{"$error":"#N/A"}},{"$error":"#N/A"},{"$error":"#N/A"},"",{"$f":"VLOOKUP(BT61,Datas!$G$6:$G$17,1)","v":{"$error":"#N/A"}},{"$error":"#N/A"},{"$error":"#N/A"},null,"",0,0,null,{"$f":"VLOOKUP(BP61,Liste_Noire!$B$15:$G$1208,1)","v":{"$error":"#N/A"}},{"$f":"VLOOKUP(BP61,Liste_Noire!$B$15:$G$1208,5)","v":{"$error":"#N/A"}},{"$error":"#N/A"},null,0,0,0,0,0,0,1]
[null,""," ","","","","","",{"$f":"IF(ISBLANK(Trait_Etrangers!H62),\"\",Trait_Etrangers!H62)","v":""},{"$f":"IF(ISBLANK(Trait_Etrangers!I62),\"\",Trait_Etrangers!I62)","v":""},{"$f":"IF(ISBLANK(Trait_Etrangers!J62),\"\",Trait_Etrangers!J62)","v":""},{"$f":"IF(ISBLANK(Trait_Etrangers!K62),\"\",Trait_Etrangers!K62)","v":""},{"$f":"IF(ISBLANK(Trait_Etrangers!L62),\"\",Trait_Etrangers!L62)","v":""},{"$f":"IF(ISBLANK(Trait_Etrangers!M62),\"\",Trait_Etrangers!M62)","v":""},{"$f":"IF(ISBLANK(Trait_Etrangers!N62),\"\",Trait_Etrangers!N62)","v":""},{"$f":"IF(ISBLANK(Trait_Etrangers!O62),\"\",Trait_Etrangers!O62)","v":""},{"$f":"IF(ISBLANK(Trait_Etrangers!P62),\"\",Trait_Etrangers!P62)","v":""},null,{"$f":"IF(ISBLANK(Trait_Etrangers!R62),\"\",Trait_Etrangers!R62)","v":""},{"$f":"IF(ISBLANK(Trait_Etrangers!S62),\"\",Trait_Etrangers!S62)","v":""},{"$f":"IF(ISBLANK(Trait_Etrangers!T62),\"\",Trait_Etrangers!T62)","v":""},{"$f":"IF(ISBLANK(Trait_Etrangers!U62),\"\",Trait_Etrangers!U62)","v":""},null,null,null,"","",0,0,0,0,0,0,0,0,0,0,0,0,0,0,0,0,0,null,1,null,null,{"$f":"IF(AX62=\"\",\"\",IF(CE62=1,\"[b][color=red]\"&Datas!$D$32&\"[/color][/b]\"&AX62&\"[b][color=red]\"&Datas!$D$33&\"{\"&CD62&\"}[/color][/b]\",AX62))","v":{"$error":"#N/A"}},{"$error":"#N/A"}," ",{"$f":"IF(ISBLANK(Datas!$C$47),\"\",\" - \"&BG62)","v":{"$error":"#N/A"}},{"$f":"IF(ISBLANK(Datas!$C$48),\"\",\" - \"&BH62)","v":" - "},{"$f":"IF(ISBLANK(Datas!$C$49),\"\",\" - \"&BI62)","v":""},{"$f":"IF(ISBLANK(Datas!$C$50),\"\",\" - \"&BJ62)","v":" - Ecus:"},{"$f":"IF(ISBLANK(Datas!$C$51),\"\",\" - \"&BK62)","v":" - Niv: "},null,{"$error":"#N/A"},{"$error":"#N/A"},"","PR:","Ecus:","Niv: ",null,null,null,null,"",{"$f":"VLOOKUP(BP62,LstVillage!$B$8:$C$283,1)","v":{"$error":"#N/A"}},{"$error":"#N/A"},{"$error":"#N/A"},"",{"$f":"VLOOKUP(BT62,Datas!$G$6:$G$17,1)","v":{"$error":"#N/A"}},{"$error":"#N/A"},{"$error":"#N/A"},null,"",0,0,null,{"$f":"VLOOKUP(BP62,Liste_Noire!$B$15:$G$1208,1)","v":{"$error":"#N/A"}},{"$f":"VLOOKUP(BP62,Liste_Noire!$B$15:$G$1208,5)","v":{"$error":"#N/A"}},{"$error":"#N/A"},null,0,0,0,0,0,0,1]
[null,""," ","","","","","",{"$f":"IF(ISBLANK(Trait_Etrangers!H63),\"\",Trait_Etrangers!H63)","v":""},{"$f":"IF(ISBLANK(Trait_Etrangers!I63),\"\",Trait_Etrangers!I63)","v":""},{"$f":"IF(ISBLANK(Trait_Etrangers!J63),\"\",Trait_Etrangers!J63)","v":""},{"$f":"IF(ISBLANK(Trait_Etrangers!K63),\"\",Trait_Etrangers!K63)","v":""},{"$f":"IF(ISBLANK(Trait_Etrangers!L63),\"\",Trait_Etrangers!L63)","v":""},{"$f":"IF(ISBLANK(Trait_Etrangers!M63),\"\",Trait_Etrangers!M63)","v":""},{"$f":"IF(ISBLANK(Trait_Etrangers!N63),\"\",Trait_Etrangers!N63)","v":""},{"$f":"IF(ISBLANK(Trait_Etrangers!O63),\"\",Trait_Etrangers!O63)","v":""},{"$f":"IF(ISBLANK(Trait_Etrangers!P63),\"\",Trait_Etrangers!P63)","v":""},null,{"$f":"IF(ISBLANK(Trait_Etrangers!R63),\"\",Trait_Etrangers!R63)","v":""},{"$f":"IF(ISBLANK(Trait_Etrangers!S63),\"\",Trait_Etrangers!S63)","v":""},{"$f":"IF(ISBLANK(Trait_Etrangers!T63),\"\",Trait_Etrangers!T63)","v":""},{"$f":"IF(ISBLANK(Trait_Etrangers!U63),\"\",Trait_Etrangers!U63)","v":""},null,null,null,"","",0,0,0,0,0,0,0,0,0,0,0,0,0,0,0,0,0,null,1,null,null,{"$f":"IF(AX63=\"\",\"\",IF(CE63=1,\"[b][color=red]\"&Datas!$D$32&\"[/color][/b]\"&AX63&\"[b][color=red]\"&Datas!$D$33&\"{\"&CD63&\"}[/color][/b]\",AX63))","v":{"$error":"#N/A"}},{"$error":"#N/A"}," ",{"$f":"IF(ISBLANK(Datas!$C$47),\"\",\" - \"&BG63)","v":{"$error":"#N/A"}},{"$f":"IF(ISBLANK(Datas!$C$48),\"\",\" - \"&BH63)","v":" - "},{"$f":"IF(ISBLANK(Datas!$C$49),\"\",\" - \"&BI63)","v":""},{"$f":"IF(ISBLANK(Datas!$C$50),\"\",\" - \"&BJ63)","v":" - Ecus:"},{"$f":"IF(ISBLANK(Datas!$C$51),\"\",\" - \"&BK63)","v":" - Niv: "},null,{"$error":"#N/A"},{"$error":"#N/A"},"","PR:","Ecus:","Niv: ",null,null,null,null,"",{"$f":"VLOOKUP(BP63,LstVillage!$B$8:$C$283,1)","v":{"$error":"#N/A"}},{"$error":"#N/A"},{"$error":"#N/A"},"",{"$f":"VLOOKUP(BT63,Datas!$G$6:$G$17,1)","v":{"$error":"#N/A"}},{"$error":"#N/A"},{"$error":"#N/A"},null,"",0,0,null,{"$f":"VLOOKUP(BP63,Liste_Noire!$B$15:$G$1208,1)","v":{"$error":"#N/A"}},{"$f":"VLOOKUP(BP63,Liste_Noire!$B$15:$G$1208,5)","v":{"$error":"#N/A"}},{"$error":"#N/A"},null,0,0,0,0,0,0,1]
[null,""," ","","","","","",{"$f":"IF(ISBLANK(Trait_Etrangers!H64),\"\",Trait_Etrangers!H64)","v":""},{"$f":"IF(ISBLANK(Trait_Etrangers!I64),\"\",Trait_Etrangers!I64)","v":""},{"$f":"IF(ISBLANK(Trait_Etrangers!J64),\"\",Trait_Etrangers!J64)","v":""},{"$f":"IF(ISBLANK(Trait_Etrangers!K64),\"\",Trait_Etrangers!K64)","v":""},{"$f":"IF(ISBLANK(Trait_Etrangers!L64),\"\",Trait_Etrangers!L64)","v":""},{"$f":"IF(ISBLANK(Trait_Etrangers!M64),\"\",Trait_Etrangers!M64)","v":""},{"$f":"IF(ISBLANK(Trait_Etrangers!N64),\"\",Trait_Etrangers!N64)","v":""},{"$f":"IF(ISBLANK(Trait_Etrangers!O64),\"\",Trait_Etrangers!O64)","v":""},{"$f":"IF(ISBLANK(Trait_Etrangers!P64),\"\",Trait_Etrangers!P64)","v":""},null,{"$f":"IF(ISBLANK(Trait_Etrangers!R64),\"\",Trait_Etrangers!R64)","v":""},{"$f":"IF(ISBLANK(Trait_Etrangers!S64),\"\",Trait_Etrangers!S64)","v":""},{"$f":"IF(ISBLANK(Trait_Etrangers!T64),\"\",Trait_Etrangers!T64)","v":""},{"$f":"IF(ISBLANK(Trait_Etrangers!U64),\"\",Trait_Etrangers!U64)","v":""},null,null,null,"","",0,0,0,0,0,0,0,0,0,0,0,0,0,0,0,0,0,null,1,null,null,{"$f":"IF(AX64=\"\",\"\",IF(CE64=1,\"[b][color=red]\"&Datas!$D$32&\"[/color][/b]\"&AX64&\"[b][color=red]\"&Datas!$D$33&\"{\"&CD64&\"}[/color][/b]\",AX64))","v":{"$error":"#N/A"}},{"$error":"#N/A"}," ",{"$f":"IF(ISBLANK(Datas!$C$47),\"\",\" - \"&BG64)","v":{"$error":"#N/A"}},{"$f":"IF(ISBLANK(Datas!$C$48),\"\",\" - \"&BH64)","v":" - "},{"$f":"IF(ISBLANK(Datas!$C$49),\"\",\" - \"&BI64)","v":""},{"$f":"IF(ISBLANK(Datas!$C$50),\"\",\" - \"&BJ64)","v":" - Ecus:"},{"$f":"IF(ISBLANK(Datas!$C$51),\"\",\" - \"&BK64)","v":" - Niv: "},null,{"$error":"#N/A"},{"$error":"#N/A"},"","PR:","Ecus:","Niv: ",null,null,null,null,"",{"$f":"VLOOKUP(BP64,LstVillage!$B$8:$C$283,1)","v":{"$error":"#N/A"}},{"$error":"#N/A"},{"$error":"#N/A"},"",{"$f":"VLOOKUP(BT64,Datas!$G$6:$G$17,1)","v":{"$error":"#N/A"}},{"$error":"#N/A"},{"$error":"#N/A"},null,"",0,0,null,{"$f":"VLOOKUP(BP64,Liste_Noire!$B$15:$G$1208,1)","v":{"$error":"#N/A"}},{"$f":"VLOOKUP(BP64,Liste_Noire!$B$15:$G$1208,5)","v":{"$error":"#N/A"}},{"$error":"#N/A"},null,0,0,0,0,0,0,1]
[null,""," ","","","","","",{"$f":"IF(ISBLANK(Trait_Etrangers!H65),\"\",Trait_Etrangers!H65)","v":""},{"$f":"IF(ISBLANK(Trait_Etrangers!I65),\"\",Trait_Etrangers!I65)","v":""},{"$f":"IF(ISBLANK(Trait_Etrangers!J65),\"\",Trait_Etrangers!J65)","v":""},{"$f":"IF(ISBLANK(Trait_Etrangers!K65),\"\",Trait_Etrangers!K65)","v":""},{"$f":"IF(ISBLANK(Trait_Etrangers!L65),\"\",Trait_Etrangers!L65)","v":""},{"$f":"IF(ISBLANK(Trait_Etrangers!M65),\"\",Trait_Etrangers!M65)","v":""},{"$f":"IF(ISBLANK(Trait_Etrangers!N65),\"\",Trait_Etrangers!N65)","v":""},{"$f":"IF(ISBLANK(Trait_Etrangers!O65),\"\",Trait_Etrangers!O65)","v":""},{"$f":"IF(ISBLANK(Trait_Etrangers!P65),\"\",Trait_Etrangers!P65)","v":""},null,{"$f":"IF(ISBLANK(Trait_Etrangers!R65),\"\",Trait_Etrangers!R65)","v":""},{"$f":"IF(ISBLANK(Trait_Etrangers!S65),\"\",Trait_Etrangers!S65)","v":""},{"$f":"IF(ISBLANK(Trait_Etrangers!T65),\"\",Trait_Etrangers!T65)","v":""},{"$f":"IF(ISBLANK(Trait_Etrangers!U65),\"\",Trait_Etrangers!U65)","v":""},null,null,null,"","",0,0,0,0,0,0,0,0,0,0,0,0,0,0,0,0,0,null,1,null,null,{"$f":"IF(AX65=\"\",\"\",IF(CE65=1,\"[b][color=red]\"&Datas!$D$32&\"[/color][/b]\"&AX65&\"[b][color=red]\"&Datas!$D$33&\"{\"&CD65&\"}[/color][/b]\",AX65))","v":{"$error":"#N/A"}},{"$error":"#N/A"}," ",{"$f":"IF(ISBLANK(Datas!$C$47),\"\",\" - \"&BG65)","v":{"$error":"#N/A"}},{"$f":"IF(ISBLANK(Datas!$C$48),\"\",\" - \"&BH65)","v":" - "},{"$f":"IF(ISBLANK(Datas!$C$49),\"\",\" - \"&BI65)","v":""},{"$f":"IF(ISBLANK(Datas!$C$50),\"\",\" - \"&BJ65)","v":" - Ecus:"},{"$f":"IF(ISBLANK(Datas!$C$51),\"\",\" - \"&BK65)","v":" - Niv: "},null,{"$error":"#N/A"},{"$error":"#N/A"},"","PR:","Ecus:","Niv: ",null,null,null,null,"",{"$f":"VLOOKUP(BP65,LstVillage!$B$8:$C$283,1)","v":{"$error":"#N/A"}},{"$error":"#N/A"},{"$error":"#N/A"},"",{"$f":"VLOOKUP(BT65,Datas!$G$6:$G$17,1)","v":{"$error":"#N/A"}},{"$error":"#N/A"},{"$error":"#N/A"},null,"",0,0,null,{"$f":"VLOOKUP(BP65,Liste_Noire!$B$15:$G$1208,1)","v":{"$error":"#N/A"}},{"$f":"VLOOKUP(BP65,Liste_Noire!$B$15:$G$1208,5)","v":{"$error":"#N/A"}},{"$error":"#N/A"},null,0,0,0,0,0,0,1]
[null,""," ","","","","","",{"$f":"IF(ISBLANK(Trait_Etrangers!H66),\"\",Trait_Etrangers!H66)","v":""},{"$f":"IF(ISBLANK(Trait_Etrangers!I66),\"\",Trait_Etrangers!I66)","v":""},{"$f":"IF(ISBLANK(Trait_Etrangers!J66),\"\",Trait_Etrangers!J66)","v":""},{"$f":"IF(ISBLANK(Trait_Etrangers!K66),\"\",Trait_Etrangers!K66)","v":""},{"$f":"IF(ISBLANK(Trait_Etrangers!L66),\"\",Trait_Etrangers!L66)","v":""},{"$f":"IF(ISBLANK(Trait_Etrangers!M66),\"\",Trait_Etrangers!M66)","v":""},{"$f":"IF(ISBLANK(Trait_Etrangers!N66),\"\",Trait_Etrangers!N66)","v":""},{"$f":"IF(ISBLANK(Trait_Etrangers!O66),\"\",Trait_Etrangers!O66)","v":""},{"$f":"IF(ISBLANK(Trait_Etrangers!P66),\"\",Trait_Etrangers!P66)","v":""},null,{"$f":"IF(ISBLANK(Trait_Etrangers!R66),\"\",Trait_Etrangers!R66)","v":""},{"$f":"IF(ISBLANK(Trait_Etrangers!S66),\"\",Trait_Etrangers!S66)","v":""},{"$f":"IF(ISBLANK(Trait_Etrangers!T66),\"\",Trait_Etrangers!T66)","v":""},{"$f":"IF(ISBLANK(Trait_Etrangers!U66),\"\",Trait_Etrangers!U66)","v":""},null,null,null,"","",0,0,0,0,0,0,0,0,0,0,0,0,0,0,0,0,0,null,1,null,null,{"$f":"IF(AX66=\"\",\"\",IF(CE66=1,\"[b][color=red]\"&Datas!$D$32&\"[/color][/b]\"&AX66&\"[b][color=red]\"&Datas!$D$33&\"{\"&CD66&\"}[/color][/b]\",AX66))","v":{"$error":"#N/A"}},{"$error":"#N/A"}," ",{"$f":"IF(ISBLANK(Datas!$C$47),\"\",\" - \"&BG66)","v":{"$error":"#N/A"}},{"$f":"IF(ISBLANK(Datas!$C$48),\"\",\" - \"&BH66)","v":" - "},{"$f":"IF(ISBLANK(Datas!$C$49),\"\",\" - \"&BI66)","v":""},{"$f":"IF(ISBLANK(Datas!$C$50),\"\",\" - \"&BJ66)","v":" - Ecus:"},{"$f":"IF(ISBLANK(Datas!$C$51),\"\",\" - \"&BK66)","v":" - Niv: "},null,{"$error":"#N/A"},{"$error":"#N/A"},"","PR:","Ecus:","Niv: ",null,null,null,null,"",{"$f":"VLOOKUP(BP66,LstVillage!$B$8:$C$283,1)","v":{"$error":"#N/A"}},{"$error":"#N/A"},{"$error":"#N/A"},"",{"$f":"VLOOKUP(BT66,Datas!$G$6:$G$17,1)","v":{"$error":"#N/A"}},{"$error":"#N/A"},{"$error":"#N/A"},null,"",0,0,null,{"$f":"VLOOKUP(BP66,Liste_Noire!$B$15:$G$1208,1)","v":{"$error":"#N/A"}},{"$f":"VLOOKUP(BP66,Liste_Noire!$B$15:$G$1208,5)","v":{"$error":"#N/A"}},{"$error":"#N/A"},null,0,0,0,0,0,0,1]
[null,""," ","","","","","",{"$f":"IF(ISBLANK(Trait_Etrangers!H67),\"\",Trait_Etrangers!H67)","v":""},{"$f":"IF(ISBLANK(Trait_Etrangers!I67),\"\",Trait_Etrangers!I67)","v":""},{"$f":"IF(ISBLANK(Trait_Etrangers!J67),\"\",Trait_Etrangers!J67)","v":""},{"$f":"IF(ISBLANK(Trait_Etrangers!K67),\"\",Trait_Etrangers!K67)","v":""},{"$f":"IF(ISBLANK(Trait_Etrangers!L67),\"\",Trait_Etrangers!L67)","v":""},{"$f":"IF(ISBLANK(Trait_Etrangers!M67),\"\",Trait_Etrangers!M67)","v":""},{"$f":"IF(ISBLANK(Trait_Etrangers!N67),\"\",Trait_Etrangers!N67)","v":""},{"$f":"IF(ISBLANK(Trait_Etrangers!O67),\"\",Trait_Etrangers!O67)","v":""},{"$f":"IF(ISBLANK(Trait_Etrangers!P67),\"\",Trait_Etrangers!P67)","v":""},null,{"$f":"IF(ISBLANK(Trait_Etrangers!R67),\"\",Trait_Etrangers!R67)","v":""},{"$f":"IF(ISBLANK(Trait_Etrangers!S67),\"\",Trait_Etrangers!S67)","v":""},{"$f":"IF(ISBLANK(Trait_Etrangers!T67),\"\",Trait_Etrangers!T67)","v":""},{"$f":"IF(ISBLANK(Trait_Etrangers!U67),\"\",Trait_Etrangers!U67)","v":""},null,null,null,"","",0,0,0,0,0,0,0,0,0,0,0,0,0,0,0,0,0,null,1,null,null,{"$f":"IF(AX67=\"\",\"\",IF(CE67=1,\"[b][color=red]\"&Datas!$D$32&\"[/color][/b]\"&AX67&\"[b][color=red]\"&Datas!$D$33&\"{\"&CD67&\"}[/color][/b]\",AX67))","v":{"$error":"#N/A"}},{"$error":"#N/A"}," ",{"$f":"IF(ISBLANK(Datas!$C$47),\"\",\" - \"&BG67)","v":{"$error":"#N/A"}},{"$f":"IF(ISBLANK(Datas!$C$48),\"\",\" - \"&BH67)","v":" - "},{"$f":"IF(ISBLANK(Datas!$C$49),\"\",\" - \"&BI67)","v":""},{"$f":"IF(ISBLANK(Datas!$C$50),\"\",\" - \"&BJ67)","v":" - Ecus:"},{"$f":"IF(ISBLANK(Datas!$C$51),\"\",\" - \"&BK67)","v":" - Niv: "},null,{"$error":"#N/A"},{"$error":"#N/A"},"","PR:","Ecus:","Niv: ",null,null,null,null,"",{"$f":"VLOOKUP(BP67,LstVillage!$B$8:$C$283,1)","v":{"$error":"#N/A"}},{"$error":"#N/A"},{"$error":"#N/A"},"",{"$f":"VLOOKUP(BT67,Datas!$G$6:$G$17,1)","v":{"$error":"#N/A"}},{"$error":"#N/A"},{"$error":"#N/A"},null,"",0,0,null,{"$f":"VLOOKUP(BP67,Liste_Noire!$B$15:$G$1208,1)","v":{"$error":"#N/A"}},{"$f":"VLOOKUP(BP67,Liste_Noire!$B$15:$G$1208,5)","v":{"$error":"#N/A"}},{"$error":"#N/A"},null,0,0,0,0,0,0,1]
[null,""," ","","","","","",{"$f":"IF(ISBLANK(Trait_Etrangers!H68),\"\",Trait_Etrangers!H68)","v":""},{"$f":"IF(ISBLANK(Trait_Etrangers!I68),\"\",Trait_Etrangers!I68)","v":""},{"$f":"IF(ISBLANK(Trait_Etrangers!J68),\"\",Trait_Etrangers!J68)","v":""},{"$f":"IF(ISBLANK(Trait_Etrangers!K68),\"\",Trait_Etrangers!K68)","v":""},{"$f":"IF(ISBLANK(Trait_Etrangers!L68),\"\",Trait_Etrangers!L68)","v":""},{"$f":"IF(ISBLANK(Trait_Etrangers!M68),\"\",Trait_Etrangers!M68)","v":""},{"$f":"IF(ISBLANK(Trait_Etrangers!N68),\"\",Trait_Etrangers!N68)","v":""},{"$f":"IF(ISBLANK(Trait_Etrangers!O68),\"\",Trait_Etrangers!O68)","v":""},{"$f":"IF(ISBLANK(Trait_Etrangers!P68),\"\",Trait_Etrangers!P68)","v":""},null,{"$f":"IF(ISBLANK(Trait_Etrangers!R68),\"\",Trait_Etrangers!R68)","v":""},{"$f":"IF(ISBLANK(Trait_Etrangers!S68),\"\",Trait_Etrangers!S68)","v":""},{"$f":"IF(ISBLANK(Trait_Etrangers!T68),\"\",Trait_Etrangers!T68)","v":""},{"$f":"IF(ISBLANK(Trait_Etrangers!U68),\"\",Trait_Etrangers!U68)","v":""},null,null,null,"","",0,0,0,0,0,0,0,0,0,0,0,0,0,0,0,0,0,null,1,null,null,{"$f":"IF(AX68=\"\",\"\",IF(CE68=1,\"[b][color=red]\"&Datas!$D$32&\"[/color][/b]\"&AX68&\"[b][color=red]\"&Datas!$D$33&\"{\"&CD68&\"}[/color][/b]\",AX68))","v":{"$error":"#N/A"}},{"$error":"#N/A"}," ",{"$f":"IF(ISBLANK(Datas!$C$47),\"\",\" - \"&BG68)","v":{"$error":"#N/A"}},{"$f":"IF(ISBLANK(Datas!$C$48),\"\",\" - \"&BH68)","v":" - "},{"$f":"IF(ISBLANK(Datas!$C$49),\"\",\" - \"&BI68)","v":""},{"$f":"IF(ISBLANK(Datas!$C$50),\"\",\" - \"&BJ68)","v":" - Ecus:"},{"$f":"IF(ISBLANK(Datas!$C$51),\"\",\" - \"&BK68)","v":" - Niv: "},null,{"$error":"#N/A"},{"$error":"#N/A"},"","PR:","Ecus:","Niv: ",null,null,null,null,"",{"$f":"VLOOKUP(BP68,LstVillage!$B$8:$C$283,1)","v":{"$error":"#N/A"}},{"$error":"#N/A"},{"$error":"#N/A"},"",{"$f":"VLOOKUP(BT68,Datas!$G$6:$G$17,1)","v":{"$error":"#N/A"}},{"$error":"#N/A"},{"$error":"#N/A"},null,"",0,0,null,{"$f":"VLOOKUP(BP68,Liste_Noire!$B$15:$G$1208,1)","v":{"$error":"#N/A"}},{"$f":"VLOOKUP(BP68,Liste_Noire!$B$15:$G$1208,5)","v":{"$error":"#N/A"}},{"$error":"#N/A"},null,0,0,0,0,0,0,1]
[null,""," ","","","","","",{"$f":"IF(ISBLANK(Trait_Etrangers!H69),\"\",Trait_Etrangers!H69)","v":""},{"$f":"IF(ISBLANK(Trait_Etrangers!I69),\"\",Trait_Etrangers!I69)","v":""},{"$f":"IF(ISBLANK(Trait_Etrangers!J69),\"\",Trait_Etrangers!J69)","v":""},{"$f":"IF(ISBLANK(Trait_Etrangers!K69),\"\",Trait_Etrangers!K69)","v":""},{"$f":"IF(ISBLANK(Trait_Etrangers!L69),\"\",Trait_Etrangers!L69)","v":""},{"$f":"IF(ISBLANK(Trait_Etrangers!M69),\"\",Trait_Etrangers!M69)","v":""},{"$f":"IF(ISBLANK(Trait_Etrangers!N69),\"\",Trait_Etrangers!N69)","v":""},{"$f":"IF(ISBLANK(Trait_Etrangers!O69),\"\",Trait_Etrangers!O69)","v":""},{"$f":"IF(ISBLANK(Trait_Etrangers!P69),\"\",Trait_Etrangers!P69)","v":""},null,{"$f":"IF(ISBLANK(Trait_Etrangers!R69),\"\",Trait_Etrangers!R69)","v":""},{"$f":"IF(ISBLANK(Trait_Etrangers!S69),\"\",Trait_Etrangers!S69)","v":""},{"$f":"IF(ISBLANK(Trait_Etrangers!T69),\"\",Trait_Etrangers!T69)","v":""},{"$f":"IF(ISBLANK(Trait_Etrangers!U69),\"\",Trait_Etrangers!U69)","v":""},null,null,null,"","",0,0,0,0,0,0,0,0,0,0,0,0,0,0,0,0,0,null,1,null,null,{"$f":"IF(AX69=\"\",\"\",IF(CE69=1,\"[b][color=red]\"&Datas!$D$32&\"[/color][/b]\"&AX69&\"[b][color=red]\"&Datas!$D$33&\"{\"&CD69&\"}[/color][/b]\",AX69))","v":{"$error":"#N/A"}},{"$error":"#N/A"}," ",{"$f":"IF(ISBLANK(Datas!$C$47),\"\",\" - \"&BG69)","v":{"$error":"#N/A"}},{"$f":"IF(ISBLANK(Datas!$C$48),\"\",\" - \"&BH69)","v":" - "},{"$f":"IF(ISBLANK(Datas!$C$49),\"\",\" - \"&BI69)","v":""},{"$f":"IF(ISBLANK(Datas!$C$50),\"\",\" - \"&BJ69)","v":" - Ecus:"},{"$f":"IF(ISBLANK(Datas!$C$51),\"\",\" - \"&BK69)","v":" - Niv: "},null,{"$error":"#N/A"},{"$error":"#N/A"},"","PR:","Ecus:","Niv: ",null,null,null,null,"",{"$f":"VLOOKUP(BP69,LstVillage!$B$8:$C$283,1)","v":{"$error":"#N/A"}},{"$error":"#N/A"},{"$error":"#N/A"},"",{"$f":"VLOOKUP(BT69,Datas!$G$6:$G$17,1)","v":{"$error":"#N/A"}},{"$error":"#N/A"},{"$error":"#N/A"},null,"",0,0,null,{"$f":"VLOOKUP(BP69,Liste_Noire!$B$15:$G$1208,1)","v":{"$error":"#N/A"}},{"$f":"VLOOKUP(BP69,Liste_Noire!$B$15:$G$1208,5)","v":{"$error":"#N/A"}},{"$error":"#N/A"},null,0,0,0,0,0,0,1]
[null,""," ","","","","","",{"$f":"IF(ISBLANK(Trait_Etrangers!H70),\"\",Trait_Etrangers!H70)","v":""},{"$f":"IF(ISBLANK(Trait_Etrangers!I70),\"\",Trait_Etrangers!I70)","v":""},{"$f":"IF(ISBLANK(Trait_Etrangers!J70),\"\",Trait_Etrangers!J70)","v":""},{"$f":"IF(ISBLANK(Trait_Etrangers!K70),\"\",Trait_Etrangers!K70)","v":""},{"$f":"IF(ISBLANK(Trait_Etrangers!L70),\"\",Trait_Etrangers!L70)","v":""},{"$f":"IF(ISBLANK(Trait_Etrangers!M70),\"\",Trait_Etrangers!M70)","v":""},{"$f":"IF(ISBLANK(Trait_Etrangers!N70),\"\",Trait_Etrangers!N70)","v":""},{"$f":"IF(ISBLANK(Trait_Etrangers!O70),\"\",Trait_Etrangers!O70)","v":""},{"$f":"IF(ISBLANK(Trait_Etrangers!P70),\"\",Trait_Etrangers!P70)","v":""},null,{"$f":"IF(ISBLANK(Trait_Etrangers!R70),\"\",Trait_Etrangers!R70)","v":""},{"$f":"IF(ISBLANK(Trait_Etrangers!S70),\"\",Trait_Etrangers!S70)","v":""},{"$f":"IF(ISBLANK(Trait_Etrangers!T70),\"\",Trait_Etrangers!T70)","v":""},{"$f":"IF(ISBLANK(Trait_Etrangers!U70),\"\",Trait_Etrangers!U70)","v":""},null,null,null,"","",0,0,0,0,0,0,0,0,0,0,0,0,0,0,0,0,0,null,1,null,null,{"$f":"IF(AX70=\"\",\"\",IF(CE70=1,\"[b][color=red]\"&Datas!$D$32&\"[/color][/b]\"&AX70&\"[b][color=red]\"&Datas!$D$33&\"{\"&CD70&\"}[/color][/b]\",AX70))","v":{"$error":"#N/A"}},{"$error":"#N/A"}," ",{"$f":"IF(ISBLANK(Datas!$C$47),\"\",\" - \"&BG70)","v":{"$error":"#N/A"}},{"$f":"IF(ISBLANK(Datas!$C$48),\"\",\" - \"&BH70)","v":" - "},{"$f":"IF(ISBLANK(Datas!$C$49),\"\",\" - \"&BI70)","v":""},{"$f":"IF(ISBLANK(Datas!$C$50),\"\",\" - \"&BJ70)","v":" - Ecus:"},{"$f":"IF(ISBLANK(Datas!$C$51),\"\",\" - \"&BK70)","v":" - Niv: "},null,{"$error":"#N/A"},{"$error":"#N/A"},"","PR:","Ecus:","Niv: ",null,null,null,null,"",{"$f":"VLOOKUP(BP70,LstVillage!$B$8:$C$283,1)","v":{"$error":"#N/A"}},{"$error":"#N/A"},{"$error":"#N/A"},"",{"$f":"VLOOKUP(BT70,Datas!$G$6:$G$17,1)","v":{"$error":"#N/A"}},{"$error":"#N/A"},{"$error":"#N/A"},null,"",0,0,null,{"$f":"VLOOKUP(BP70,Liste_Noire!$B$15:$G$1208,1)","v":{"$error":"#N/A"}},{"$f":"VLOOKUP(BP70,Liste_Noire!$B$15:$G$1208,5)","v":{"$error":"#N/A"}},{"$error":"#N/A"},null,0,0,0,0,0,0,1]
[null,""," ","","","","","",{"$f":"IF(ISBLANK(Trait_Etrangers!H71),\"\",Trait_Etrangers!H71)","v":""},{"$f":"IF(ISBLANK(Trait_Etrangers!I71),\"\",Trait_Etrangers!I71)","v":""},{"$f":"IF(ISBLANK(Trait_Etrangers!J71),\"\",Trait_Etrangers!J71)","v":""},{"$f":"IF(ISBLANK(Trait_Etrangers!K71),\"\",Trait_Etrangers!K71)","v":""},{"$f":"IF(ISBLANK(Trait_Etrangers!L71),\"\",Trait_Etrangers!L71)","v":""},{"$f":"IF(ISBLANK(Trait_Etrangers!M71),\"\",Trait_Etrangers!M71)","v":""},{"$f":"IF(ISBLANK(Trait_Etrangers!N71),\"\",Trait_Etrangers!N71)","v":""},{"$f":"IF(ISBLANK(Trait_Etrangers!O71),\"\",Trait_Etrangers!O71)","v":""},{"$f":"IF(ISBLANK(Trait_Etrangers!P71),\"\",Trait_Etrangers!P71)","v":""},null,{"$f":"IF(ISBLANK(Trait_Etrangers!R71),\"\",Trait_Etrangers!R71)","v":""},{"$f":"IF(ISBLANK(Trait_Etrangers!S71),\"\",Trait_Etrangers!S71)","v":""},{"$f":"IF(ISBLANK(Trait_Etrangers!T71),\"\",Trait_Etrangers!T71)","v":""},{"$f":"IF(ISBLANK(Trait_Etrangers!U71),\"\",Trait_Etrangers!U71)","v":""},null,null,null,"","",0,0,0,0,0,0,0,0,0,0,0,0,0,0,0,0,0,null,1,null,null,{"$f":"IF(AX71=\"\",\"\",IF(CE71=1,\"[b][color=red]\"&Datas!$D$32&\"[/color][/b]\"&AX71&\"[b][color=red]\"&Datas!$D$33&\"{\"&CD71&\"}[/color][/b]\",AX71))","v":{"$error":"#N/A"}},{"$error":"#N/A"}," ",{"$f":"IF(ISBLANK(Datas!$C$47),\"\",\" - \"&BG71)","v":{"$error":"#N/A"}},{"$f":"IF(ISBLANK(Datas!$C$48),\"\",\" - \"&BH71)","v":" - "},{"$f":"IF(ISBLANK(Datas!$C$49),\"\",\" - \"&BI71)","v":""},{"$f":"IF(ISBLANK(Datas!$C$50),\"\",\" - \"&BJ71)","v":" - Ecus:"},{"$f":"IF(ISBLANK(Datas!$C$51),\"\",\" - \"&BK71)","v":" - Niv: "},null,{"$error":"#N/A"},{"$error":"#N/A"},"","PR:","Ecus:","Niv: ",null,null,null,null,"",{"$f":"VLOOKUP(BP71,LstVillage!$B$8:$C$283,1)","v":{"$error":"#N/A"}},{"$error":"#N/A"},{"$error":"#N/A"},"",{"$f":"VLOOKUP(BT71,Datas!$G$6:$G$17,1)","v":{"$error":"#N/A"}},{"$error":"#N/A"},{"$error":"#N/A"},null,"",0,0,null,{"$f":"VLOOKUP(BP71,Liste_Noire!$B$15:$G$1208,1)","v":{"$error":"#N/A"}},{"$f":"VLOOKUP(BP71,Liste_Noire!$B$15:$G$1208,5)","v":{"$error":"#N/A"}},{"$error":"#N/A"},null,0,0,0,0,0,0,1]
[null,""," ","","","","","",{"$f":"IF(ISBLANK(Trait_Etrangers!H72),\"\",Trait_Etrangers!H72)","v":""},{"$f":"IF(ISBLANK(Trait_Etrangers!I72),\"\",Trait_Etrangers!I72)","v":""},{"$f":"IF(ISBLANK(Trait_Etrangers!J72),\"\",Trait_Etrangers!J72)","v":""},{"$f":"IF(ISBLANK(Trait_Etrangers!K72),\"\",Trait_Etrangers!K72)","v":""},{"$f":"IF(ISBLANK(Trait_Etrangers!L72),\"\",Trait_Etrangers!L72)","v":""},{"$f":"IF(ISBLANK(Trait_Etrangers!M72),\"\",Trait_Etrangers!M72)","v":""},{"$f":"IF(ISBLANK(Trait_Etrangers!N72),\"\",Trait_Etrangers!N72)","v":""},{"$f":"IF(ISBLANK(Trait_Etrangers!O72),\"\",Trait_Etrangers!O72)","v":""},{"$f":"IF(ISBLANK(Trait_Etrangers!P72),\"\",Trait_Etrangers!P72)","v":""},null,{"$f":"IF(ISBLANK(Trait_Etrangers!R72),\"\",Trait_Etrangers!R72)","v":""},{"$f":"IF(ISBLANK(Trait_Etrangers!S72),\"\",Trait_Etrangers!S72)","v":""},{"$f":"IF(ISBLANK(Trait_Etrangers!T72),\"\",Trait_Etrangers!T72)","v":""},{"$f":"IF(ISBLANK(Trait_Etrangers!U72),\"\",Trait_Etrangers!U72)","v":""},null,null,null,"","",0,0,0,0,0,0,0,0,0,0,0,0,0,0,0,0,0,null,1,null,null,{"$f":"IF(AX72=\"\",\"\",IF(CE72=1,\"[b][color=red]\"&Datas!$D$32&\"[/color][/b]\"&AX72&\"[b][color=red]\"&Datas!$D$33&\"{\"&CD72&\"}[/color][/b]\",AX72))","v":{"$error":"#N/A"}},{"$error":"#N/A"}," ",{"$f":"IF(ISBLANK(Datas!$C$47),\"\",\" - \"&BG72)","v":{"$error":"#N/A"}},{"$f":"IF(ISBLANK(Datas!$C$48),\"\",\" - \"&BH72)","v":" - "},{"$f":"IF(ISBLANK(Datas!$C$49),\"\",\" - \"&BI72)","v":""},{"$f":"IF(ISBLANK(Datas!$C$50),\"\",\" - \"&BJ72)","v":" - Ecus:"},{"$f":"IF(ISBLANK(Datas!$C$51),\"\",\" - \"&BK72)","v":" - Niv: "},null,{"$error":"#N/A"},{"$error":"#N/A"},"","PR:","Ecus:","Niv: ",null,null,null,null,"",{"$f":"VLOOKUP(BP72,LstVillage!$B$8:$C$283,1)","v":{"$error":"#N/A"}},{"$error":"#N/A"},{"$error":"#N/A"},"",{"$f":"VLOOKUP(BT72,Datas!$G$6:$G$17,1)","v":{"$error":"#N/A"}},{"$error":"#N/A"},{"$error":"#N/A"},null,"",0,0,null,{"$f":"VLOOKUP(BP72,Liste_Noire!$B$15:$G$1208,1)","v":{"$error":"#N/A"}},{"$f":"VLOOKUP(BP72,Liste_Noire!$B$15:$G$1208,5)","v":{"$error":"#N/A"}},{"$error":"#N/A"},null,0,0,0,0,0,0,1]
[null,""," ","","","","","",{"$f":"IF(ISBLANK(Trait_Etrangers!H73),\"\",Trait_Etrangers!H73)","v":""},{"$f":"IF(ISBLANK(Trait_Etrangers!I73),\"\",Trait_Etrangers!I73)","v":""},{"$f":"IF(ISBLANK(Trait_Etrangers!J73),\"\",Trait_Etrangers!J73)","v":""},{"$f":"IF(ISBLANK(Trait_Etrangers!K73),\"\",Trait_Etrangers!K73)","v":""},{"$f":"IF(ISBLANK(Trait_Etrangers!L73),\"\",Trait_Etrangers!L73)","v":""},{"$f":"IF(ISBLANK(Trait_Etrangers!M73),\"\",Trait_Etrangers!M73)","v":""},{"$f":"IF(ISBLANK(Trait_Etrangers!N73),\"\",Trait_Etrangers!N73)","v":""},{"$f":"IF(ISBLANK(Trait_Etrangers!O73),\"\",Trait_Etrangers!O73)","v":""},{"$f":"IF(ISBLANK(Trait_Etrangers!P73),\"\",Trait_Etrangers!P73)","v":""},null,{"$f":"IF(ISBLANK(Trait_Etrangers!R73),\"\",Trait_Etrangers!R73)","v":""},{"$f":"IF(ISBLANK(Trait_Etrangers!S73),\"\",Trait_Etrangers!S73)","v":""},{"$f":"IF(ISBLANK(Trait_Etrangers!T73),\"\",Trait_Etrangers!T73)","v":""},{"$f":"IF(ISBLANK(Trait_Etrangers!U73),\"\",Trait_Etrangers!U73)","v":""},null,null,null,"","",0,0,0,0,0,0,0,0,0,0,0,0,0,0,0,0,0,null,1,null,null,{"$f":"IF(AX73=\"\",\"\",IF(CE73=1,\"[b][color=red]\"&Datas!$D$32&\"[/color][/b]\"&AX73&\"[b][color=red]\"&Datas!$D$33&\"{\"&CD73&\"}[/color][/b]\",AX73))","v":{"$error":"#N/A"}},{"$error":"#N/A"}," ",{"$f":"IF(ISBLANK(Datas!$C$47),\"\",\" - \"&BG73)","v":{"$error":"#N/A"}},{"$f":"IF(ISBLANK(Datas!$C$48),\"\",\" - \"&BH73)","v":" - "},{"$f":"IF(ISBLANK(Datas!$C$49),\"\",\" - \"&BI73)","v":""},{"$f":"IF(ISBLANK(Datas!$C$50),\"\",\" - \"&BJ73)","v":" - Ecus:"},{"$f":"IF(ISBLANK(Datas!$C$51),\"\",\" - \"&BK73)","v":" - Niv: "},null,{"$error":"#N/A"},{"$error":"#N/A"},"","PR:","Ecus:","Niv: ",null,null,null,null,"",{"$f":"VLOOKUP(BP73,LstVillage!$B$8:$C$283,1)","v":{"$error":"#N/A"}},{"$error":"#N/A"},{"$error":"#N/A"},"",{"$f":"VLOOKUP(BT73,Datas!$G$6:$G$17,1)","v":{"$error":"#N/A"}},{"$error":"#N/A"},{"$error":"#N/A"},null,"",0,0,null,{"$f":"VLOOKUP(BP73,Liste_Noire!$B$15:$G$1208,1)","v":{"$error":"#N/A"}},{"$f":"VLOOKUP(BP73,Liste_Noire!$B$15:$G$1208,5)","v":{"$error":"#N/A"}},{"$error":"#N/A"},null,0,0,0,0,0,0,1]
[null,""," ","","","","","",{"$f":"IF(ISBLANK(Trait_Etrangers!H74),\"\",Trait_Etrangers!H74)","v":""},{"$f":"IF(ISBLANK(Trait_Etrangers!I74),\"\",Trait_Etrangers!I74)","v":""},{"$f":"IF(ISBLANK(Trait_Etrangers!J74),\"\",Trait_Etrangers!J74)","v":""},{"$f":"IF(ISBLANK(Trait_Etrangers!K74),\"\",Trait_Etrangers!K74)","v":""},{"$f":"IF(ISBLANK(Trait_Etrangers!L74),\"\",Trait_Etrangers!L74)","v":""},{"$f":"IF(ISBLANK(Trait_Etrangers!M74),\"\",Trait_Etrangers!M74)","v":""},{"$f":"IF(ISBLANK(Trait_Etrangers!N74),\"\",Trait_Etrangers!N74)","v":""},{"$f":"IF(ISBLANK(Trait_Etrangers!O74),\"\",Trait_Etrangers!O74)","v":""},{"$f":"IF(ISBLANK(Trait_Etrangers!P74),\"\",Trait_Etrangers!P74)","v":""},null,{"$f":"IF(ISBLANK(Trait_Etrangers!R74),\"\",Trait_Etrangers!R74)","v":""},{"$f":"IF(ISBLANK(Trait_Etrangers!S74),\"\",Trait_Etrangers!S74)","v":""},{"$f":"IF(ISBLANK(Trait_Etrangers!T74),\"\",Trait_Etrangers!T74)","v":""},{"$f":"IF(ISBLANK(Trait_Etrangers!U74),\"\",Trait_Etrangers!U74)","v":""},null,null,null,"","",0,0,0,0,0,0,0,0,0,0,0,0,0,0,0,0,0,null,1,null,null,{"$f":"IF(AX74=\"\",\"\",IF(CE74=1,\"[b][color=red]\"&Datas!$D$32&\"[/color][/b]\"&AX74&\"[b][color=red]\"&Datas!$D$33&\"{\"&CD74&\"}[/color][/b]\",AX74))","v":{"$error":"#N/A"}},{"$error":"#N/A"}," ",{"$f":"IF(ISBLANK(Datas!$C$47),\"\",\" - \"&BG74)","v":{"$error":"#N/A"}},{"$f":"IF(ISBLANK(Datas!$C$48),\"\",\" - \"&BH74)","v":" - "},{"$f":"IF(ISBLANK(Datas!$C$49),\"\",\" - \"&BI74)","v":""},{"$f":"IF(ISBLANK(Datas!$C$50),\"\",\" - \"&BJ74)","v":" - Ecus:"},{"$f":"IF(ISBLANK(Datas!$C$51),\"\",\" - \"&BK74)","v":" - Niv: "},null,{"$error":"#N/A"},{"$error":"#N/A"},"","PR:","Ecus:","Niv: ",null,null,null,null,"",{"$f":"VLOOKUP(BP74,LstVillage!$B$8:$C$283,1)","v":{"$error":"#N/A"}},{"$error":"#N/A"},{"$error":"#N/A"},"",{"$f":"VLOOKUP(BT74,Datas!$G$6:$G$17,1)","v":{"$error":"#N/A"}},{"$error":"#N/A"},{"$error":"#N/A"},null,"",0,0,null,{"$f":"VLOOKUP(BP74,Liste_Noire!$B$15:$G$1208,1)","v":{"$error":"#N/A"}},{"$f":"VLOOKUP(BP74,Liste_Noire!$B$15:$G$1208,5)","v":{"$error":"#N/A"}},{"$error":"#N/A"},null,0,0,0,0,0,0,1]
[null,""," ","","","","","",{"$f":"IF(ISBLANK(Trait_Etrangers!H75),\"\",Trait_Etrangers!H75)","v":""},{"$f":"IF(ISBLANK(Trait_Etrangers!I75),\"\",Trait_Etrangers!I75)","v":""},{"$f":"IF(ISBLANK(Trait_Etrangers!J75),\"\",Trait_Etrangers!J75)","v":""},{"$f":"IF(ISBLANK(Trait_Etrangers!K75),\"\",Trait_Etrangers!K75)","v":""},{"$f":"IF(ISBLANK(Trait_Etrangers!L75),\"\",Trait_Etrangers!L75)","v":""},{"$f":"IF(ISBLANK(Trait_Etrangers!M75),\"\",Trait_Etrangers!M75)","v":""},{"$f":"IF(ISBLANK(Trait_Etrangers!N75),\"\",Trait_Etrangers!N75)","v":""},{"$f":"IF(ISBLANK(Trait_Etrangers!O75),\"\",Trait_Etrangers!O75)","v":""},{"$f":"IF(ISBLANK(Trait_Etrangers!P75),\"\",Trait_Etrangers!P75)","v":""},null,{"$f":"IF(ISBLANK(Trait_Etrangers!R75),\"\",Trait_Etrangers!R75)","v":""},{"$f":"IF(ISBLANK(Trait_Etrangers!S75),\"\",Trait_Etrangers!S75)","v":""},{"$f":"IF(ISBLANK(Trait_Etrangers!T75),\"\",Trait_Etrangers!T75)","v":""},{"$f":"IF(ISBLANK(Trait_Etrangers!U75),\"\",Trait_Etrangers!U75)","v":""},null,null,null,"","",0,0,0,0,0,0,0,0,0,0,0,0,0,0,0,0,0,null,1,null,null,{"$f":"IF(AX75=\"\",\"\",IF(CE75=1,\"[b][color=red]\"&Datas!$D$32&\"[/color][/b]\"&AX75&\"[b][color=red]\"&Datas!$D$33&\"{\"&CD75&\"}[/color][/b]\",AX75))","v":{"$error":"#N/A"}},{"$error":"#N/A"}," ",{"$f":"IF(ISBLANK(Datas!$C$47),\"\",\" - \"&BG75)","v":{"$error":"#N/A"}},{"$f":"IF(ISBLANK(Datas!$C$48),\"\",\" - \"&BH75)","v":" - "},{"$f":"IF(ISBLANK(Datas!$C$49),\"\",\" - \"&BI75)","v":""},{"$f":"IF(ISBLANK(Datas!$C$50),\"\",\" - \"&BJ75)","v":" - Ecus:"},{"$f":"IF(ISBLANK(Datas!$C$51),\"\",\" - \"&BK75)","v":" - Niv: "},null,{"$error":"#N/A"},{"$error":"#N/A"},"","PR:","Ecus:","Niv: ",null,null,null,null,"",{"$f":"VLOOKUP(BP75,LstVillage!$B$8:$C$283,1)","v":{"$error":"#N/A"}},{"$error":"#N/A"},{"$error":"#N/A"},"",{"$f":"VLOOKUP(BT75,Datas!$G$6:$G$17,1)","v":{"$error":"#N/A"}},{"$error":"#N/A"},{"$error":"#N/A"},null,"",0,0,null,{"$f":"VLOOKUP(BP75,Liste_Noire!$B$15:$G$1208,1)","v":{"$error":"#N/A"}},{"$f":"VLOOKUP(BP75,Liste_Noire!$B$15:$G$1208,5)","v":{"$error":"#N/A"}},{"$error":"#N/A"},null,0,0,0,0,0,0,1]
[null,""," ","","","","","",{"$f":"IF(ISBLANK(Trait_Etrangers!H76),\"\",Trait_Etrangers!H76)","v":""},{"$f":"IF(ISBLANK(Trait_Etrangers!I76),\"\",Trait_Etrangers!I76)","v":""},{"$f":"IF(ISBLANK(Trait_Etrangers!J76),\"\",Trait_Etrangers!J76)","v":""},{"$f":"IF(ISBLANK(Trait_Etrangers!K76),\"\",Trait_Etrangers!K76)","v":""},{"$f":"IF(ISBLANK(Trait_Etrangers!L76),\"\",Trait_Etrangers!L76)","v":""},{"$f":"IF(ISBLANK(Trait_Etrangers!M76),\"\",Trait_Etrangers!M76)","v":""},{"$f":"IF(ISBLANK(Trait_Etrangers!N76),\"\",Trait_Etrangers!N76)","v":""},{"$f":"IF(ISBLANK(Trait_Etrangers!O76),\"\",Trait_Etrangers!O76)","v":""},{"$f":"IF(ISBLANK(Trait_Etrangers!P76),\"\",Trait_Etrangers!P76)","v":""},null,{"$f":"IF(ISBLANK(Trait_Etrangers!R76),\"\",Trait_Etrangers!R76)","v":""},{"$f":"IF(ISBLANK(Trait_Etrangers!S76),\"\",Trait_Etrangers!S76)","v":""},{"$f":"IF(ISBLANK(Trait_Etrangers!T76),\"\",Trait_Etrangers!T76)","v":""},{"$f":"IF(ISBLANK(Trait_Etrangers!U76),\"\",Trait_Etrangers!U76)","v":""},null,null,null,"","",0,0,0,0,0,0,0,0,0,0,0,0,0,0,0,0,0,null,1,null,null,{"$f":"IF(AX76=\"\",\"\",IF(CE76=1,\"[b][color=red]\"&Datas!$D$32&\"[/color][/b]\"&AX76&\"[b][color=red]\"&Datas!$D$33&\"{\"&CD76&\"}[/color][/b]\",AX76))","v":{"$error":"#N/A"}},{"$error":"#N/A"}," ",{"$f":"IF(ISBLANK(Datas!$C$47),\"\",\" - \"&BG76)","v":{"$error":"#N/A"}},{"$f":"IF(ISBLANK(Datas!$C$48),\"\",\" - \"&BH76)","v":" - "},{"$f":"IF(ISBLANK(Datas!$C$49),\"\",\" - \"&BI76)","v":""},{"$f":"IF(ISBLANK(Datas!$C$50),\"\",\" - \"&BJ76)","v":" - Ecus:"},{"$f":"IF(ISBLANK(Datas!$C$51),\"\",\" - \"&BK76)","v":" - Niv: "},null,{"$error":"#N/A"},{"$error":"#N/A"},"","PR:","Ecus:","Niv: ",null,null,null,null,"",{"$f":"VLOOKUP(BP76,LstVillage!$B$8:$C$283,1)","v":{"$error":"#N/A"}},{"$error":"#N/A"},{"$error":"#N/A"},"",{"$f":"VLOOKUP(BT76,Datas!$G$6:$G$17,1)","v":{"$error":"#N/A"}},{"$error":"#N/A"},{"$error":"#N/A"},null,"",0,0,null,{"$f":"VLOOKUP(BP76,Liste_Noire!$B$15:$G$1208,1)","v":{"$error":"#N/A"}},{"$f":"VLOOKUP(BP76,Liste_Noire!$B$15:$G$1208,5)","v":{"$error":"#N/A"}},{"$error":"#N/A"},null,0,0,0,0,0,0,1]
[null,{"$f":"IF(OR(ISBLANK($J77),$J77=\"\"),\"\",IF(BZ77,\"[strike]\"&AW77&\"[/strike]\",IF(CA77,\"[i]\"&AW77&\"[/i]\",AW77)))","v":""}," ",{"$f":"IF(N77=\"mort\",\"M\",\"\")","v":""},{"$f":"IF(ISERROR(CE77),\"\",IF(CE77=1,\"LN\",\"\"))","v":""},{"$f":"IF(N77=\"retraite\",\"R\",\"\")","v":""},{"$f":"IF(ISBLANK(Z77),\"\",Z77)","v":""},{"$f":"IF(ISBLANK(AA77),\"\",AA77)","v":""},{"$f":"IF(ISBLANK(Trait_Etrangers!H77),\"\",Trait_Etrangers!H77)","v":""},{"$f":"IF(ISBLANK(Trait_Etrangers!I77),\"\",Trait_Etrangers!I77)","v":""},{"$f":"IF(ISBLANK(Trait_Etrangers!J77),\"\",Trait_Etrangers!J77)","v":""},{"$f":"IF(ISBLANK(Trait_Etrangers!K77),\"\",Trait_Etrangers!K77)","v":""},{"$f":"IF(ISBLANK(Trait_Etrangers!L77),\"\",Trait_Etrangers!L77)","v":""},{"$f":"IF(ISBLANK(Trait_Etrangers!M77),\"\",Trait_Etrangers!M77)","v":""},{"$f":"IF(ISBLANK(Trait_Etrangers!N77),\"\",Trait_Etrangers!N77)","v":""},{"$f":"IF(ISBLANK(Trait_Etrangers!O77),\"\",Trait_Etrangers!O77)","v":""},{"$f":"IF(ISBLANK(Trait_Etrangers!P77),\"\",Trait_Etrangers!P77)","v":""},null,{"$f":"IF(ISBLANK(Trait_Etrangers!R77),\"\",Trait_Etrangers!R77)","v":""},{"$f":"IF(ISBLANK(Trait_Etrangers!S77),\"\",Trait_Etrangers!S77)","v":""},{"$f":"IF(ISBLANK(Trait_Etrangers!T77),\"\",Trait_Etrangers!T77)","v":""},{"$f":"IF(ISBLANK(Trait_Etrangers!U77),\"\",Trait_Etrangers!U77)","v":""},null,null,null,"","",{"$f":"IF(OR(ISBLANK($J77),$J77=\"\"),0,IF($L77<>$AB$8,1,0))","v":0},{"$f":"IF(AND(AB77=1,AK77=0,AO77=0,Z77=$Z$11),1,0)","v":0},{"$f":"IF(OR(ISBLANK($J77),$J77=\"\"),0,IF(AND(AC77=1,CE77=1),1,0))","v":0},{"$f":"IF($Z77=AE$11,1,0)","v":0},{"$f":"IF(AND(AE77=1,$E77=AF$11),1,0)","v":0},{"$f":"IF(AE77+AB77=2,1,0)","v":0},{"$f":"IF(AG77+AF77>1,1,0)","v":0},{"$f":"IF($Z77=AI$11,1,0)","v":0},{"$f":"IF(AND(AI77=1,$E77=AJ$11),1,0)","v":0},{"$f":"IF($F77=AK$11,1,0)","v":0},{"$f":"IF(AND(AK77=1,$E77=AL$11),1,0)","v":0},{"$f":"IF(AK77+AB77>1,1,0)","v":0},{"$f":"IF(AL77+AM77>1,1,0)","v":0},{"$f":"IF($D77=AO$11,1,0)","v":0},{"$f":"IF(AND(AO77=1,$E77=AP$11),1,0)","v":0},{"$f":"IF(AND($Z77=AQ$11,(AK77+AO77)=0),1,0)","v":0},{"$f":"IF(AND(AQ77=1,$E77=AR$11),1,0)","v":0},null,{"$f":"IF(AND(ISBLANK(J77),ISBLANK(L77),ISBLANK(M77),ISBLANK(Q77)),0,1)","v":1},null,null,{"$f":"IF(AX77=\"\",\"\",IF(CE77=1,\"[b][color=red]\"&Datas!$D$32&\"[/color][/b]\"&AX77&\"[b][color=red]\"&Datas!$D$33&\"{\"&CD77&\"}[/color][/b]\",AX77))","v":{"$error":"#N/A"}},{"$f":"IF(ISBLANK(N77),\"\",BF77&AZ77&BA77&BB77&BC77&BD77)","v":{"$error":"#N/A"}}," ",{"$f":"IF(ISBLANK(Datas!$C$47),\"\",\" - \"&BG77)","v":{"$error":"#N/A"}},{"$f":"IF(ISBLANK(Datas!$C$48),\"\",\" - \"&BH77)","v":" - "},{"$f":"IF(ISBLANK(Datas!$C$49),\"\",\" - \"&BI77)","v":""},{"$f":"IF(ISBLANK(Datas!$C$50),\"\",\" - \"&BJ77)","v":" - Ecus:"},{"$f":"IF(ISBLANK(Datas!$C$51),\"\",\" - \"&BK77)","v":" - Niv: "},null,{"$f":"\"[b][color=\"&BS77&\"]\"&BP77&\"[/color][/b]\"","v":{"$error":"#N/A"}},{"$f":"\"[b][color=\"&BW77&\"]\"&BT77&\"[/color][/b]\"","v":{"$error":"#N/A"}},{"$f":"BY77","v":""},{"$f":"\"PR:\"&P77","v":"PR:"},{"$f":"\"Ecus:\"&Q77","v":"Ecus:"},{"$f":"\"Niv: \"&O77","v":"Niv: "},null,null,null,null,{"$f":"J77","v":""},{"$f":"VLOOKUP(BP77,LstVillage!$B$8:$C$283,1)","v":{"$error":"#N/A"}},{"$f":"IF(BQ77<>BP77,0,1)","v":{"$error":"#N/A"}},{"$f":"IF(BR77=1,$BG$2,IF(BV77=1,$BG$3,$BG$4))","v":{"$error":"#N/A"}},{"$f":"M77","v":""},{"$f":"VLOOKUP(BT77,Datas!$G$6:$G$17,1)","v":{"$error":"#N/A"}},{"$f":"IF(BU77<>BT77,0,1)","v":{"$error":"#N/A"}},{"$f":"IF(BV77=1,$BJ$2,$BJ$3)","v":{"$error":"#N/A"}},null,{"$f":"L77","v":""},{"$f":"IF(F77=\"M\",1,0)","v":0},{"$f":"IF(F77=\"R\",1,0)","v":0},null,{"$f":"VLOOKUP(BP77,Liste_Noire!$B$15:$G$1208,1)","v":{"$error":"#N/A"}},{"$f":"VLOOKUP(BP77,Liste_Noire!$B$15:$G$1208,5)","v":{"$error":"#N/A"}},{"$f":"IF(ISERR(CC77),0,IF(CC77=BP77,1,0))","v":{"$error":"#N/A"}},null,{"$f":"IF(G77=\"a\",1,0)","v":0},{"$f":"IF(G77=\"d\",1,0)","v":0},{"$f":"IF(F77=\"R\",1,0)","v":0},{"$f":"IF(F77=\"M\",1,0)","v":0},{"$f":"IF(ISERROR(CE77),0,IF(CE77=1,IF(CD77=\"Liste Noire\",1,0),0))","v":0},{"$f":"IF(ISERROR(CE77),0,IF(CE77=1,IF(CD77=\"Surveillance\",1,0),0))","v":0},{"$f":"IF(ISBLANK(J77),0,1)","v":1}]
[null,""," ","","","","","",{"$f":"IF(ISBLANK(Trait_Etrangers!H78),\"\",Trait_Etrangers!H78)","v":""},{"$f":"IF(ISBLANK(Trait_Etrangers!I78),\"\",Trait_Etrangers!I78)","v":""},{"$f":"IF(ISBLANK(Trait_Etrangers!J78),\"\",Trait_Etrangers!J78)","v":""},{"$f":"IF(ISBLANK(Trait_Etrangers!K78),\"\",Trait_Etrangers!K78)","v":""},{"$f":"IF(ISBLANK(Trait_Etrangers!L78),\"\",Trait_Etrangers!L78)","v":""},{"$f":"IF(ISBLANK(Trait_Etrangers!M78),\"\",Trait_Etrangers!M78)","v":""},{"$f":"IF(ISBLANK(Trait_Etrangers!N78),\"\",Trait_Etrangers!N78)","v":""},{"$f":"IF(ISBLANK(Trait_Etrangers!O78),\"\",Trait_Etrangers!O78)","v":""},{"$f":"IF(ISBLANK(Trait_Etrangers!P78),\"\",Trait_Etrangers!P78)","v":""},null,{"$f":"IF(ISBLANK(Trait_Etrangers!R78),\"\",Trait_Etrangers!R78)","v":""},{"$f":"IF(ISBLANK(Trait_Etrangers!S78),\"\",Trait_Etrangers!S78)","v":""},{"$f":"IF(ISBLANK(Trait_Etrangers!T78),\"\",Trait_Etrangers!T78)","v":""},{"$f":"IF(ISBLANK(Trait_Etrangers!U78),\"\",Trait_Etrangers!U78)","v":""},null,null,null,{"$f":"IF(OR(ISBLANK($V78),TRIM($V78)=\"\"),IF(OR(ISBLANK($J78),$J78=\"\"),\"\",$Z$11),IF(OR($F78=$AK$11,$D78=$AO$11),$Z$11,IF($V78=\"a/d\",\"\",$V78)))","v":""},{"$f":"IF(OR(ISBLANK($J78),TRIM($J78)=\"\"),\"\",IF($D78=$AO$11,$AA$10,IF($V78=$AI$11,$AA$10,IF($AB78=1,$AA$11,$AA$10))))","v":""},0,0,0,0,0,0,0,0,0,0,0,0,0,0,0,0,0,null,1,null,null,{"$f":"IF(AX78=\"\",\"\",IF(CE78=1,\"[b][color=red]\"&Datas!$D$32&\"[/color][/b]\"&AX78&\"[b][color=red]\"&Datas!$D$33&\"{\"&CD78&\"}[/color][/b]\",AX78))","v":{"$error":"#N/A"}},{"$error":"#N/A"}," ",{"$f":"IF(ISBLANK(Datas!$C$47),\"\",\" - \"&BG78)","v":{"$error":"#N/A"}},{"$f":"IF(ISBLANK(Datas!$C$48),\"\",\" - \"&BH78)","v":" - "},{"$f":"IF(ISBLANK(Datas!$C$49),\"\",\" - \"&BI78)","v":""},{"$f":"IF(ISBLANK(Datas!$C$50),\"\",\" - \"&BJ78)","v":" - Ecus:"},{"$f":"IF(ISBLANK(Datas!$C$51),\"\",\" - \"&BK78)","v":" - Niv: "},null,{"$error":"#N/A"},{"$error":"#N/A"},"","PR:","Ecus:","Niv: ",null,null,null,null,"",{"$f":"VLOOKUP(BP78,LstVillage!$B$8:$C$283,1)","v":{"$error":"#N/A"}},{"$error":"#N/A"},{"$error":"#N/A"},"",{"$f":"VLOOKUP(BT78,Datas!$G$6:$G$17,1)","v":{"$error":"#N/A"}},{"$error":"#N/A"},{"$error":"#N/A"},null,"",0,0,null,{"$f":"VLOOKUP(BP78,Liste_Noire!$B$15:$G$1208,1)","v":{"$error":"#N/A"}},{"$f":"VLOOKUP(BP78,Liste_Noire!$B$15:$G$1208,5)","v":{"$error":"#N/A"}},{"$error":"#N/A"},null,0,0,0,0,0,0,1]
[null,""," ","","","","","",{"$f":"IF(ISBLANK(Trait_Etrangers!H79),\"\",Trait_Etrangers!H79)","v":""},{"$f":"IF(ISBLANK(Trait_Etrangers!I79),\"\",Trait_Etrangers!I79)","v":""},{"$f":"IF(ISBLANK(Trait_Etrangers!J79),\"\",Trait_Etrangers!J79)","v":""},{"$f":"IF(ISBLANK(Trait_Etrangers!K79),\"\",Trait_Etrangers!K79)","v":""},{"$f":"IF(ISBLANK(Trait_Etrangers!L79),\"\",Trait_Etrangers!L79)","v":""},{"$f":"IF(ISBLANK(Trait_Etrangers!M79),\"\",Trait_Etrangers!M79)","v":""},{"$f":"IF(ISBLANK(Trait_Etrangers!N79),\"\",Trait_Etrangers!N79)","v":""},{"$f":"IF(ISBLANK(Trait_Etrangers!O79),\"\",Trait_Etrangers!O79)","v":""},{"$f":"IF(ISBLANK(Trait_Etrangers!P79),\"\",Trait_Etrangers!P79)","v":""},null,{"$f":"IF(ISBLANK(Trait_Etrangers!R79),\"\",Trait_Etrangers!R79)","v":""},{"$f":"IF(ISBLANK(Trait_Etrangers!S79),\"\",Trait_Etrangers!S79)","v":""},{"$f":"IF(ISBLANK(Trait_Etrangers!T79),\"\",Trait_Etrangers!T79)","v":""},{"$f":"IF(ISBLANK(Trait_Etrangers!U79),\"\",Trait_Etrangers!U79)","v":""},null,null,null,"","",0,0,0,0,0,0,0,0,0,0,0,0,0,0,0,0,0,null,1,null,null,{"$f":"IF(AX79=\"\",\"\",IF(CE79=1,\"[b][color=red]\"&Datas!$D$32&\"[/color][/b]\"&AX79&\"[b][color=red]\"&Datas!$D$33&\"{\"&CD79&\"}[/color][/b]\",AX79))","v":{"$error":"#N/A"}},{"$error":"#N/A"}," ",{"$f":"IF(ISBLANK(Datas!$C$47),\"\",\" - \"&BG79)","v":{"$error":"#N/A"}},{"$f":"IF(ISBLANK(Datas!$C$48),\"\",\" - \"&BH79)","v":" - "},{"$f":"IF(ISBLANK(Datas!$C$49),\"\",\" - \"&BI79)","v":""},{"$f":"IF(ISBLANK(Datas!$C$50),\"\",\" - \"&BJ79)","v":" - Ecus:"},{"$f":"IF(ISBLANK(Datas!$C$51),\"\",\" - \"&BK79)","v":" - Niv: "},null,{"$error":"#N/A"},{"$error":"#N/A"},"","PR:","Ecus:","Niv: ",null,null,null,null,"",{"$f":"VLOOKUP(BP79,LstVillage!$B$8:$C$283,1)","v":{"$error":"#N/A"}},{"$error":"#N/A"},{"$error":"#N/A"},"",{"$f":"VLOOKUP(BT79,Datas!$G$6:$G$17,1)","v":{"$error":"#N/A"}},{"$error":"#N/A"},{"$error":"#N/A"},null,"",0,0,null,{"$f":"VLOOKUP(BP79,Liste_Noire!$B$15:$G$1208,1)","v":{"$error":"#N/A"}},{"$f":"VLOOKUP(BP79,Liste_Noire!$B$15:$G$1208,5)","v":{"$error":"#N/A"}},{"$error":"#N/A"},null,0,0,0,0,0,0,1]
[null,""," ","","","","","",{"$f":"IF(ISBLANK(Trait_Etrangers!H80),\"\",Trait_Etrangers!H80)","v":""},{"$f":"IF(ISBLANK(Trait_Etrangers!I80),\"\",Trait_Etrangers!I80)","v":""},{"$f":"IF(ISBLANK(Trait_Etrangers!J80),\"\",Trait_Etrangers!J80)","v":""},{"$f":"IF(ISBLANK(Trait_Etrangers!K80),\"\",Trait_Etrangers!K80)","v":""},{"$f":"IF(ISBLANK(Trait_Etrangers!L80),\"\",Trait_Etrangers!L80)","v":""},{"$f":"IF(ISBLANK(Trait_Etrangers!M80),\"\",Trait_Etrangers!M80)","v":""},{"$f":"IF(ISBLANK(Trait_Etrangers!N80),\"\",Trait_Etrangers!N80)","v":""},{"$f":"IF(ISBLANK(Trait_Etrangers!O80),\"\",Trait_Etrangers!O80)","v":""},{"$f":"IF(ISBLANK(Trait_Etrangers!P80),\"\",Trait_Etrangers!P80)","v":""},null,{"$f":"IF(ISBLANK(Trait_Etrangers!R80),\"\",Trait_Etrangers!R80)","v":""},{"$f":"IF(ISBLANK(Trait_Etrangers!S80),\"\",Trait_Etrangers!S80)","v":""},{"$f":"IF(ISBLANK(Trait_Etrangers!T80),\"\",Trait_Etrangers!T80)","v":""},{"$f":"IF(ISBLANK(Trait_Etrangers!U80),\"\",Trait_Etrangers!U80)","v":""},null,null,null,"","",0,0,0,0,0,0,0,0,0,0,0,0,0,0,0,0,0,null,1,null,null,{"$f":"IF(AX80=\"\",\"\",IF(CE80=1,\"[b][color=red]\"&Datas!$D$32&\"[/color][/b]\"&AX80&\"[b][color=red]\"&Datas!$D$33&\"{\"&CD80&\"}[/color][/b]\",AX80))","v":{"$error":"#N/A"}},{"$error":"#N/A"}," ",{"$f":"IF(ISBLANK(Datas!$C$47),\"\",\" - \"&BG80)","v":{"$error":"#N/A"}},{"$f":"IF(ISBLANK(Datas!$C$48),\"\",\" - \"&BH80)","v":" - "},{"$f":"IF(ISBLANK(Datas!$C$49),\"\",\" - \"&BI80)","v":""},{"$f":"IF(ISBLANK(Datas!$C$50),\"\",\" - \"&BJ80)","v":" - Ecus:"},{"$f":"IF(ISBLANK(Datas!$C$51),\"\",\" - \"&BK80)","v":" - Niv: "},null,{"$error":"#N/A"},{"$error":"#N/A"},"","PR:","Ecus:","Niv: ",null,null,null,null,"",{"$f":"VLOOKUP(BP80,LstVillage!$B$8:$C$283,1)","v":{"$error":"#N/A"}},{"$error":"#N/A"},{"$error":"#N/A"},"",{"$f":"VLOOKUP(BT80,Datas!$G$6:$G$17,1)","v":{"$error":"#N/A"}},{"$error":"#N/A"},{"$error":"#N/A"},null,"",0,0,null,{"$f":"VLOOKUP(BP80,Liste_Noire!$B$15:$G$1208,1)","v":{"$error":"#N/A"}},{"$f":"VLOOKUP(BP80,Liste_Noire!$B$15:$G$1208,5)","v":{"$error":"#N/A"}},{"$error":"#N/A"},null,0,0,0,0,0,0,1]
[null,""," ","","","","","",{"$f":"IF(ISBLANK(Trait_Etrangers!H81),\"\",Trait_Etrangers!H81)","v":""},{"$f":"IF(ISBLANK(Trait_Etrangers!I81),\"\",Trait_Etrangers!I81)","v":""},{"$f":"IF(ISBLANK(Trait_Etrangers!J81),\"\",Trait_Etrangers!J81)","v":""},{"$f":"IF(ISBLANK(Trait_Etrangers!K81),\"\",Trait_Etrangers!K81)","v":""},{"$f":"IF(ISBLANK(Trait_Etrangers!L81),\"\",Trait_Etrangers!L81)","v":""},{"$f":"IF(ISBLANK(Trait_Etrangers!M81),\"\",Trait_Etrangers!M81)","v":""},{"$f":"IF(ISBLANK(Trait_Etrangers!N81),\"\",Trait_Etrangers!N81)","v":""},{"$f":"IF(ISBLANK(Trait_Etrangers!O81),\"\",Trait_Etrangers!O81)","v":""},{"$f":"IF(ISBLANK(Trait_Etrangers!P81),\"\",Trait_Etrangers!P81)","v":""},null,{"$f":"IF(ISBLANK(Trait_Etrangers!R81),\"\",Trait_Etrangers!R81)","v":""},{"$f":"IF(ISBLANK(Trait_Etrangers!S81),\"\",Trait_Etrangers!S81)","v":""},{"$f":"IF(ISBLANK(Trait_Etrangers!T81),\"\",Trait_Etrangers!T81)","v":""},{"$f":"IF(ISBLANK(Trait_Etrangers!U81),\"\",Trait_Etrangers!U81)","v":""},null,null,null,"","",0,0,0,0,0,0,0,0,0,0,0,0,0,0,0,0,0,null,1,null,null,{"$f":"IF(AX81=\"\",\"\",IF(CE81=1,\"[b][color=red]\"&Datas!$D$32&\"[/color][/b]\"&AX81&\"[b][color=red]\"&Datas!$D$33&\"{\"&CD81&\"}[/color][/b]\",AX81))","v":{"$error":"#N/A"}},{"$error":"#N/A"}," ",{"$f":"IF(ISBLANK(Datas!$C$47),\"\",\" - \"&BG81)","v":{"$error":"#N/A"}},{"$f":"IF(ISBLANK(Datas!$C$48),\"\",\" - \"&BH81)","v":" - "},{"$f":"IF(ISBLANK(Datas!$C$49),\"\",\" - \"&BI81)","v":""},{"$f":"IF(ISBLANK(Datas!$C$50),\"\",\" - \"&BJ81)","v":" - Ecus:"},{"$f":"IF(ISBLANK(Datas!$C$51),\"\",\" - \"&BK81)","v":" - Niv: "},null,{"$error":"#N/A"},{"$error":"#N/A"},"","PR:","Ecus:","Niv: ",null,null,null,null,"",{"$f":"VLOOKUP(BP81,LstVillage!$B$8:$C$283,1)","v":{"$error":"#N/A"}},{"$error":"#N/A"},{"$error":"#N/A"},"",{"$f":"VLOOKUP(BT81,Datas!$G$6:$G$17,1)","v":{"$error":"#N/A"}},{"$error":"#N/A"},{"$error":"#N/A"},null,"",0,0,null,{"$f":"VLOOKUP(BP81,Liste_Noire!$B$15:$G$1208,1)","v":{"$error":"#N/A"}},{"$f":"VLOOKUP(BP81,Liste_Noire!$B$15:$G$1208,5)","v":{"$error":"#N/A"}},{"$error":"#N/A"},null,0,0,0,0,0,0,1]
[null,""," ","","","","","",{"$f":"IF(ISBLANK(Trait_Etrangers!H82),\"\",Trait_Etrangers!H82)","v":""},{"$f":"IF(ISBLANK(Trait_Etrangers!I82),\"\",Trait_Etrangers!I82)","v":""},{"$f":"IF(ISBLANK(Trait_Etrangers!J82),\"\",Trait_Etrangers!J82)","v":""},{"$f":"IF(ISBLANK(Trait_Etrangers!K82),\"\",Trait_Etrangers!K82)","v":""},{"$f":"IF(ISBLANK(Trait_Etrangers!L82),\"\",Trait_Etrangers!L82)","v":""},{"$f":"IF(ISBLANK(Trait_Etrangers!M82),\"\",Trait_Etrangers!M82)","v":""},{"$f":"IF(ISBLANK(Trait_Etrangers!N82),\"\",Trait_Etrangers!N82)","v":""},{"$f":"IF(ISBLANK(Trait_Etrangers!O82),\"\",Trait_Etrangers!O82)","v":""},{"$f":"IF(ISBLANK(Trait_Etrangers!P82),\"\",Trait_Etrangers!P82)","v":""},null,{"$f":"IF(ISBLANK(Trait_Etrangers!R82),\"\",Trait_Etrangers!R82)","v":""},{"$f":"IF(ISBLANK(Trait_Etrangers!S82),\"\",Trait_Etrangers!S82)","v":""},{"$f":"IF(ISBLANK(Trait_Etrangers!T82),\"\",Trait_Etrangers!T82)","v":""},{"$f":"IF(ISBLANK(Trait_Etrangers!U82),\"\",Trait_Etrangers!U82)","v":""},null,null,null,"","",0,0,0,0,0,0,0,0,0,0,0,0,0,0,0,0,0,null,1,null,null,{"$f":"IF(AX82=\"\",\"\",IF(CE82=1,\"[b][color=red]\"&Datas!$D$32&\"[/color][/b]\"&AX82&\"[b][color=red]\"&Datas!$D$33&\"{\"&CD82&\"}[/color][/b]\",AX82))","v":{"$error":"#N/A"}},{"$error":"#N/A"}," ",{"$f":"IF(ISBLANK(Datas!$C$47),\"\",\" - \"&BG82)","v":{"$error":"#N/A"}},{"$f":"IF(ISBLANK(Datas!$C$48),\"\",\" - \"&BH82)","v":" - "},{"$f":"IF(ISBLANK(Datas!$C$49),\"\",\" - \"&BI82)","v":""},{"$f":"IF(ISBLANK(Datas!$C$50),\"\",\" - \"&BJ82)","v":" - Ecus:"},{"$f":"IF(ISBLANK(Datas!$C$51),\"\",\" - \"&BK82)","v":" - Niv: "},null,{"$error":"#N/A"},{"$error":"#N/A"},"","PR:","Ecus:","Niv: ",null,null,null,null,"",{"$f":"VLOOKUP(BP82,LstVillage!$B$8:$C$283,1)","v":{"$error":"#N/A"}},{"$error":"#N/A"},{"$error":"#N/A"},"",{"$f":"VLOOKUP(BT82,Datas!$G$6:$G$17,1)","v":{"$error":"#N/A"}},{"$error":"#N/A"},{"$error":"#N/A"},null,"",0,0,null,{"$f":"VLOOKUP(BP82,Liste_Noire!$B$15:$G$1208,1)","v":{"$error":"#N/A"}},{"$f":"VLOOKUP(BP82,Liste_Noire!$B$15:$G$1208,5)","v":{"$error":"#N/A"}},{"$error":"#N/A"},null,0,0,0,0,0,0,1]
[null,""," ","","","","","",{"$f":"IF(ISBLANK(Trait_Etrangers!H83),\"\",Trait_Etrangers!H83)","v":""},{"$f":"IF(ISBLANK(Trait_Etrangers!I83),\"\",Trait_Etrangers!I83)","v":""},{"$f":"IF(ISBLANK(Trait_Etrangers!J83),\"\",Trait_Etrangers!J83)","v":""},{"$f":"IF(ISBLANK(Trait_Etrangers!K83),\"\",Trait_Etrangers!K83)","v":""},{"$f":"IF(ISBLANK(Trait_Etrangers!L83),\"\",Trait_Etrangers!L83)","v":""},{"$f":"IF(ISBLANK(Trait_Etrangers!M83),\"\",Trait_Etrangers!M83)","v":""},{"$f":"IF(ISBLANK(Trait_Etrangers!N83),\"\",Trait_Etrangers!N83)","v":""},{"$f":"IF(ISBLANK(Trait_Etrangers!O83),\"\",Trait_Etrangers!O83)","v":""},{"$f":"IF(ISBLANK(Trait_Etrangers!P83),\"\",Trait_Etrangers!P83)","v":""},null,{"$f":"IF(ISBLANK(Trait_Etrangers!R83),\"\",Trait_Etrangers!R83)","v":""},{"$f":"IF(ISBLANK(Trait_Etrangers!S83),\"\",Trait_Etrangers!S83)","v":""},{"$f":"IF(ISBLANK(Trait_Etrangers!T83),\"\",Trait_Etrangers!T83)","v":""},{"$f":"IF(ISBLANK(Trait_Etrangers!U83),\"\",Trait_Etrangers!U83)","v":""},null,null,null,"","",0,0,0,0,0,0,0,0,0,0,0,0,0,0,0,0,0,null,1,null,null,{"$f":"IF(AX83=\"\",\"\",IF(CE83=1,\"[b][color=red]\"&Datas!$D$32&\"[/color][/b]\"&AX83&\"[b][color=red]\"&Datas!$D$33&\"{\"&CD83&\"}[/color][/b]\",AX83))","v":{"$error":"#N/A"}},{"$error":"#N/A"}," ",{"$f":"IF(ISBLANK(Datas!$C$47),\"\",\" - \"&BG83)","v":{"$error":"#N/A"}},{"$f":"IF(ISBLANK(Datas!$C$48),\"\",\" - \"&BH83)","v":" - "},{"$f":"IF(ISBLANK(Datas!$C$49),\"\",\" - \"&BI83)","v":""},{"$f":"IF(ISBLANK(Datas!$C$50),\"\",\" - \"&BJ83)","v":" - Ecus:"},{"$f":"IF(ISBLANK(Datas!$C$51),\"\",\" - \"&BK83)","v":" - Niv: "},null,{"$error":"#N/A"},{"$error":"#N/A"},"","PR:","Ecus:","Niv: ",null,null,null,null,"",{"$f":"VLOOKUP(BP83,LstVillage!$B$8:$C$283,1)","v":{"$error":"#N/A"}},{"$error":"#N/A"},{"$error":"#N/A"},"",{"$f":"VLOOKUP(BT83,Datas!$G$6:$G$17,1)","v":{"$error":"#N/A"}},{"$error":"#N/A"},{"$error":"#N/A"},null,"",0,0,null,{"$f":"VLOOKUP(BP83,Liste_Noire!$B$15:$G$1208,1)","v":{"$error":"#N/A"}},{"$f":"VLOOKUP(BP83,Liste_Noire!$B$15:$G$1208,5)","v":{"$error":"#N/A"}},{"$error":"#N/A"},null,0,0,0,0,0,0,1]
[null,""," ","","","","","",{"$f":"IF(ISBLANK(Trait_Etrangers!H84),\"\",Trait_Etrangers!H84)","v":""},{"$f":"IF(ISBLANK(Trait_Etrangers!I84),\"\",Trait_Etrangers!I84)","v":""},{"$f":"IF(ISBLANK(Trait_Etrangers!J84),\"\",Trait_Etrangers!J84)","v":""},{"$f":"IF(ISBLANK(Trait_Etrangers!K84),\"\",Trait_Etrangers!K84)","v":""},{"$f":"IF(ISBLANK(Trait_Etrangers!L84),\"\",Trait_Etrangers!L84)","v":""},{"$f":"IF(ISBLANK(Trait_Etrangers!M84),\"\",Trait_Etrangers!M84)","v":""},{"$f":"IF(ISBLANK(Trait_Etrangers!N84),\"\",Trait_Etrangers!N84)","v":""},{"$f":"IF(ISBLANK(Trait_Etrangers!O84),\"\",Trait_Etrangers!O84)","v":""},{"$f":"IF(ISBLANK(Trait_Etrangers!P84),\"\",Trait_Etrangers!P84)","v":""},null,{"$f":"IF(ISBLANK(Trait_Etrangers!R84),\"\",Trait_Etrangers!R84)","v":""},{"$f":"IF(ISBLANK(Trait_Etrangers!S84),\"\",Trait_Etrangers!S84)","v":""},{"$f":"IF(ISBLANK(Trait_Etrangers!T84),\"\",Trait_Etrangers!T84)","v":""},{"$f":"IF(ISBLANK(Trait_Etrangers!U84),\"\",Trait_Etrangers!U84)","v":""},null,null,null,"","",0,0,0,0,0,0,0,0,0,0,0,0,0,0,0,0,0,null,1,null,null,{"$f":"IF(AX84=\"\",\"\",IF(CE84=1,\"[b][color=red]\"&Datas!$D$32&\"[/color][/b]\"&AX84&\"[b][color=red]\"&Datas!$D$33&\"{\"&CD84&\"}[/color][/b]\",AX84))","v":{"$error":"#N/A"}},{"$error":"#N/A"}," ",{"$f":"IF(ISBLANK(Datas!$C$47),\"\",\" - \"&BG84)","v":{"$error":"#N/A"}},{"$f":"IF(ISBLANK(Datas!$C$48),\"\",\" - \"&BH84)","v":" - "},{"$f":"IF(ISBLANK(Datas!$C$49),\"\",\" - \"&BI84)","v":""},{"$f":"IF(ISBLANK(Datas!$C$50),\"\",\" - \"&BJ84)","v":" - Ecus:"},{"$f":"IF(ISBLANK(Datas!$C$51),\"\",\" - \"&BK84)","v":" - Niv: "},null,{"$error":"#N/A"},{"$error":"#N/A"},"","PR:","Ecus:","Niv: ",null,null,null,null,"",{"$f":"VLOOKUP(BP84,LstVillage!$B$8:$C$283,1)","v":{"$error":"#N/A"}},{"$error":"#N/A"},{"$error":"#N/A"},"",{"$f":"VLOOKUP(BT84,Datas!$G$6:$G$17,1)","v":{"$error":"#N/A"}},{"$error":"#N/A"},{"$error":"#N/A"},null,"",0,0,null,{"$f":"VLOOKUP(BP84,Liste_Noire!$B$15:$G$1208,1)","v":{"$error":"#N/A"}},{"$f":"VLOOKUP(BP84,Liste_Noire!$B$15:$G$1208,5)","v":{"$error":"#N/A"}},{"$error":"#N/A"},null,0,0,0,0,0,0,1]
[null,""," ","","","","","",{"$f":"IF(ISBLANK(Trait_Etrangers!H85),\"\",Trait_Etrangers!H85)","v":""},{"$f":"IF(ISBLANK(Trait_Etrangers!I85),\"\",Trait_Etrangers!I85)","v":""},{"$f":"IF(ISBLANK(Trait_Etrangers!J85),\"\",Trait_Etrangers!J85)","v":""},{"$f":"IF(ISBLANK(Trait_Etrangers!K85),\"\",Trait_Etrangers!K85)","v":""},{"$f":"IF(ISBLANK(Trait_Etrangers!L85),\"\",Trait_Etrangers!L85)","v":""},{"$f":"IF(ISBLANK(Trait_Etrangers!M85),\"\",Trait_Etrangers!M85)","v":""},{"$f":"IF(ISBLANK(Trait_Etrangers!N85),\"\",Trait_Etrangers!N85)","v":""},{"$f":"IF(ISBLANK(Trait_Etrangers!O85),\"\",Trait_Etrangers!O85)","v":""},{"$f":"IF(ISBLANK(Trait_Etrangers!P85),\"\",Trait_Etrangers!P85)","v":""},null,{"$f":"IF(ISBLANK(Trait_Etrangers!R85),\"\",Trait_Etrangers!R85)","v":""},{"$f":"IF(ISBLANK(Trait_Etrangers!S85),\"\",Trait_Etrangers!S85)","v":""},{"$f":"IF(ISBLANK(Trait_Etrangers!T85),\"\",Trait_Etrangers!T85)","v":""},{"$f":"IF(ISBLANK(Trait_Etrangers!U85),\"\",Trait_Etrangers!U85)","v":""},null,null,null,"","",0,0,0,0,0,0,0,0,0,0,0,0,0,0,0,0,0,null,1,null,null,{"$f":"IF(AX85=\"\",\"\",IF(CE85=1,\"[b][color=red]\"&Datas!$D$32&\"[/color][/b]\"&AX85&\"[b][color=red]\"&Datas!$D$33&\"{\"&CD85&\"}[/color][/b]\",AX85))","v":{"$error":"#N/A"}},{"$error":"#N/A"}," ",{"$f":"IF(ISBLANK(Datas!$C$47),\"\",\" - \"&BG85)","v":{"$error":"#N/A"}},{"$f":"IF(ISBLANK(Datas!$C$48),\"\",\" - \"&BH85)","v":" - "},{"$f":"IF(ISBLANK(Datas!$C$49),\"\",\" - \"&BI85)","v":""},{"$f":"IF(ISBLANK(Datas!$C$50),\"\",\" - \"&BJ85)","v":" - Ecus:"},{"$f":"IF(ISBLANK(Datas!$C$51),\"\",\" - \"&BK85)","v":" - Niv: "},null,{"$error":"#N/A"},{"$error":"#N/A"},"","PR:","Ecus:","Niv: ",null,null,null,null,"",{"$f":"VLOOKUP(BP85,LstVillage!$B$8:$C$283,1)","v":{"$error":"#N/A"}},{"$error":"#N/A"},{"$error":"#N/A"},"",{"$f":"VLOOKUP(BT85,Datas!$G$6:$G$17,1)","v":{"$error":"#N/A"}},{"$error":"#N/A"},{"$error":"#N/A"},null,"",0,0,null,{"$f":"VLOOKUP(BP85,Liste_Noire!$B$15:$G$1208,1)","v":{"$error":"#N/A"}},{"$f":"VLOOKUP(BP85,Liste_Noire!$B$15:$G$1208,5)","v":{"$error":"#N/A"}},{"$error":"#N/A"},null,0,0,0,0,0,0,1]
[null,""," ","","","","","",{"$f":"IF(ISBLANK(Trait_Etrangers!H86),\"\",Trait_Etrangers!H86)","v":""},{"$f":"IF(ISBLANK(Trait_Etrangers!I86),\"\",Trait_Etrangers!I86)","v":""},{"$f":"IF(ISBLANK(Trait_Etrangers!J86),\"\",Trait_Etrangers!J86)","v":""},{"$f":"IF(ISBLANK(Trait_Etrangers!K86),\"\",Trait_Etrangers!K86)","v":""},{"$f":"IF(ISBLANK(Trait_Etrangers!L86),\"\",Trait_Etrangers!L86)","v":""},{"$f":"IF(ISBLANK(Trait_Etrangers!M86),\"\",Trait_Etrangers!M86)","v":""},{"$f":"IF(ISBLANK(Trait_Etrangers!N86),\"\",Trait_Etrangers!N86)","v":""},{"$f":"IF(ISBLANK(Trait_Etrangers!O86),\"\",Trait_Etrangers!O86)","v":""},{"$f":"IF(ISBLANK(Trait_Etrangers!P86),\"\",Trait_Etrangers!P86)","v":""},null,{"$f":"IF(ISBLANK(Trait_Etrangers!R86),\"\",Trait_Etrangers!R86)","v":""},{"$f":"IF(ISBLANK(Trait_Etrangers!S86),\"\",Trait_Etrangers!S86)","v":""},{"$f":"IF(ISBLANK(Trait_Etrangers!T86),\"\",Trait_Etrangers!T86)","v":""},{"$f":"IF(ISBLANK(Trait_Etrangers!U86),\"\",Trait_Etrangers!U86)","v":""},null,null,null,"","",0,0,0,0,0,0,0,0,0,0,0,0,0,0,0,0,0,null,1,null,null,{"$f":"IF(AX86=\"\",\"\",IF(CE86=1,\"[b][color=red]\"&Datas!$D$32&\"[/color][/b]\"&AX86&\"[b][color=red]\"&Datas!$D$33&\"{\"&CD86&\"}[/color][/b]\",AX86))","v":{"$error":"#N/A"}},{"$error":"#N/A"}," ",{"$f":"IF(ISBLANK(Datas!$C$47),\"\",\" - \"&BG86)","v":{"$error":"#N/A"}},{"$f":"IF(ISBLANK(Datas!$C$48),\"\",\" - \"&BH86)","v":" - "},{"$f":"IF(ISBLANK(Datas!$C$49),\"\",\" - \"&BI86)","v":""},{"$f":"IF(ISBLANK(Datas!$C$50),\"\",\" - \"&BJ86)","v":" - Ecus:"},{"$f":"IF(ISBLANK(Datas!$C$51),\"\",\" - \"&BK86)","v":" - Niv: "},null,{"$error":"#N/A"},{"$error":"#N/A"},"","PR:","Ecus:","Niv: ",null,null,null,null,"",{"$f":"VLOOKUP(BP86,LstVillage!$B$8:$C$283,1)","v":{"$error":"#N/A"}},{"$error":"#N/A"},{"$error":"#N/A"},"",{"$f":"VLOOKUP(BT86,Datas!$G$6:$G$17,1)","v":{"$error":"#N/A"}},{"$error":"#N/A"},{"$error":"#N/A"},null,"",0,0,null,{"$f":"VLOOKUP(BP86,Liste_Noire!$B$15:$G$1208,1)","v":{"$error":"#N/A"}},{"$f":"VLOOKUP(BP86,Liste_Noire!$B$15:$G$1208,5)","v":{"$error":"#N/A"}},{"$error":"#N/A"},null,0,0,0,0,0,0,1]
[null,""," ","","","","","",{"$f":"IF(ISBLANK(Trait_Etrangers!H87),\"\",Trait_Etrangers!H87)","v":""},{"$f":"IF(ISBLANK(Trait_Etrangers!I87),\"\",Trait_Etrangers!I87)","v":""},{"$f":"IF(ISBLANK(Trait_Etrangers!J87),\"\",Trait_Etrangers!J87)","v":""},{"$f":"IF(ISBLANK(Trait_Etrangers!K87),\"\",Trait_Etrangers!K87)","v":""},{"$f":"IF(ISBLANK(Trait_Etrangers!L87),\"\",Trait_Etrangers!L87)","v":""},{"$f":"IF(ISBLANK(Trait_Etrangers!M87),\"\",Trait_Etrangers!M87)","v":""},{"$f":"IF(ISBLANK(Trait_Etrangers!N87),\"\",Trait_Etrangers!N87)","v":""},{"$f":"IF(ISBLANK(Trait_Etrangers!O87),\"\",Trait_Etrangers!O87)","v":""},{"$f":"IF(ISBLANK(Trait_Etrangers!P87),\"\",Trait_Etrangers!P87)","v":""},null,{"$f":"IF(ISBLANK(Trait_Etrangers!R87),\"\",Trait_Etrangers!R87)","v":""},{"$f":"IF(ISBLANK(Trait_Etrangers!S87),\"\",Trait_Etrangers!S87)","v":""},{"$f":"IF(ISBLANK(Trait_Etrangers!T87),\"\",Trait_Etrangers!T87)","v":""},{"$f":"IF(ISBLANK(Trait_Etrangers!U87),\"\",Trait_Etrangers!U87)","v":""},null,null,null,"","",0,0,0,0,0,0,0,0,0,0,0,0,0,0,0,0,0,null,1,null,null,{"$f":"IF(AX87=\"\",\"\",IF(CE87=1,\"[b][color=red]\"&Datas!$D$32&\"[/color][/b]\"&AX87&\"[b][color=red]\"&Datas!$D$33&\"{\"&CD87&\"}[/color][/b]\",AX87))","v":{"$error":"#N/A"}},{"$error":"#N/A"}," ",{"$f":"IF(ISBLANK(Datas!$C$47),\"\",\" - \"&BG87)","v":{"$error":"#N/A"}},{"$f":"IF(ISBLANK(Datas!$C$48),\"\",\" - \"&BH87)","v":" - "},{"$f":"IF(ISBLANK(Datas!$C$49),\"\",\" - \"&BI87)","v":""},{"$f":"IF(ISBLANK(Datas!$C$50),\"\",\" - \"&BJ87)","v":" - Ecus:"},{"$f":"IF(ISBLANK(Datas!$C$51),\"\",\" - \"&BK87)","v":" - Niv: "},null,{"$error":"#N/A"},{"$error":"#N/A"},"","PR:","Ecus:","Niv: ",null,null,null,null,"",{"$f":"VLOOKUP(BP87,LstVillage!$B$8:$C$283,1)","v":{"$error":"#N/A"}},{"$error":"#N/A"},{"$error":"#N/A"},"",{"$f":"VLOOKUP(BT87,Datas!$G$6:$G$17,1)","v":{"$error":"#N/A"}},{"$error":"#N/A"},{"$error":"#N/A"},null,"",0,0,null,{"$f":"VLOOKUP(BP87,Liste_Noire!$B$15:$G$1208,1)","v":{"$error":"#N/A"}},{"$f":"VLOOKUP(BP87,Liste_Noire!$B$15:$G$1208,5)","v":{"$error":"#N/A"}},{"$error":"#N/A"},null,0,0,0,0,0,0,1]
[null,""," ","","","","","",{"$f":"IF(ISBLANK(Trait_Etrangers!H88),\"\",Trait_Etrangers!H88)","v":""},{"$f":"IF(ISBLANK(Trait_Etrangers!I88),\"\",Trait_Etrangers!I88)","v":""},{"$f":"IF(ISBLANK(Trait_Etrangers!J88),\"\",Trait_Etrangers!J88)","v":""},{"$f":"IF(ISBLANK(Trait_Etrangers!K88),\"\",Trait_Etrangers!K88)","v":""},{"$f":"IF(ISBLANK(Trait_Etrangers!L88),\"\",Trait_Etrangers!L88)","v":""},{"$f":"IF(ISBLANK(Trait_Etrangers!M88),\"\",Trait_Etrangers!M88)","v":""},{"$f":"IF(ISBLANK(Trait_Etrangers!N88),\"\",Trait_Etrangers!N88)","v":""},{"$f":"IF(ISBLANK(Trait_Etrangers!O88),\"\",Trait_Etrangers!O88)","v":""},{"$f":"IF(ISBLANK(Trait_Etrangers!P88),\"\",Trait_Etrangers!P88)","v":""},null,{"$f":"IF(ISBLANK(Trait_Etrangers!R88),\"\",Trait_Etrangers!R88)","v":""},{"$f":"IF(ISBLANK(Trait_Etrangers!S88),\"\",Trait_Etrangers!S88)","v":""},{"$f":"IF(ISBLANK(Trait_Etrangers!T88),\"\",Trait_Etrangers!T88)","v":""},{"$f":"IF(ISBLANK(Trait_Etrangers!U88),\"\",Trait_Etrangers!U88)","v":""},null,null,null,"","",0,0,0,0,0,0,0,0,0,0,0,0,0,0,0,0,0,null,1,null,null,{"$f":"IF(AX88=\"\",\"\",IF(CE88=1,\"[b][color=red]\"&Datas!$D$32&\"[/color][/b]\"&AX88&\"[b][color=red]\"&Datas!$D$33&\"{\"&CD88&\"}[/color][/b]\",AX88))","v":{"$error":"#N/A"}},{"$error":"#N/A"}," ",{"$f":"IF(ISBLANK(Datas!$C$47),\"\",\" - \"&BG88)","v":{"$error":"#N/A"}},{"$f":"IF(ISBLANK(Datas!$C$48),\"\",\" - \"&BH88)","v":" - "},{"$f":"IF(ISBLANK(Datas!$C$49),\"\",\" - \"&BI88)","v":""},{"$f":"IF(ISBLANK(Datas!$C$50),\"\",\" - \"&BJ88)","v":" - Ecus:"},{"$f":"IF(ISBLANK(Datas!$C$51),\"\",\" - \"&BK88)","v":" - Niv: "},null,{"$error":"#N/A"},{"$error":"#N/A"},"","PR:","Ecus:","Niv: ",null,null,null,null,"",{"$f":"VLOOKUP(BP88,LstVillage!$B$8:$C$283,1)","v":{"$error":"#N/A"}},{"$error":"#N/A"},{"$error":"#N/A"},"",{"$f":"VLOOKUP(BT88,Datas!$G$6:$G$17,1)","v":{"$error":"#N/A"}},{"$error":"#N/A"},{"$error":"#N/A"},null,"",0,0,null,{"$f":"VLOOKUP(BP88,Liste_Noire!$B$15:$G$1208,1)","v":{"$error":"#N/A"}},{"$f":"VLOOKUP(BP88,Liste_Noire!$B$15:$G$1208,5)","v":{"$error":"#N/A"}},{"$error":"#N/A"},null,0,0,0,0,0,0,1]
[null,""," ","","","","","",{"$f":"IF(ISBLANK(Trait_Etrangers!H89),\"\",Trait_Etrangers!H89)","v":""},{"$f":"IF(ISBLANK(Trait_Etrangers!I89),\"\",Trait_Etrangers!I89)","v":""},{"$f":"IF(ISBLANK(Trait_Etrangers!J89),\"\",Trait_Etrangers!J89)","v":""},{"$f":"IF(ISBLANK(Trait_Etrangers!K89),\"\",Trait_Etrangers!K89)","v":""},{"$f":"IF(ISBLANK(Trait_Etrangers!L89),\"\",Trait_Etrangers!L89)","v":""},{"$f":"IF(ISBLANK(Trait_Etrangers!M89),\"\",Trait_Etrangers!M89)","v":""},{"$f":"IF(ISBLANK(Trait_Etrangers!N89),\"\",Trait_Etrangers!N89)","v":""},{"$f":"IF(ISBLANK(Trait_Etrangers!O89),\"\",Trait_Etrangers!O89)","v":""},{"$f":"IF(ISBLANK(Trait_Etrangers!P89),\"\",Trait_Etrangers!P89)","v":""},null,{"$f":"IF(ISBLANK(Trait_Etrangers!R89),\"\",Trait_Etrangers!R89)","v":""},{"$f":"IF(ISBLANK(Trait_Etrangers!S89),\"\",Trait_Etrangers!S89)","v":""},{"$f":"IF(ISBLANK(Trait_Etrangers!T89),\"\",Trait_Etrangers!T89)","v":""},{"$f":"IF(ISBLANK(Trait_Etrangers!U89),\"\",Trait_Etrangers!U89)","v":""},null,null,null,"","",0,0,0,0,0,0,0,0,0,0,0,0,0,0,0,0,0,null,1,null,null,{"$f":"IF(AX89=\"\",\"\",IF(CE89=1,\"[b][color=red]\"&Datas!$D$32&\"[/color][/b]\"&AX89&\"[b][color=red]\"&Datas!$D$33&\"{\"&CD89&\"}[/color][/b]\",AX89))","v":{"$error":"#N/A"}},{"$error":"#N/A"}," ",{"$f":"IF(ISBLANK(Datas!$C$47),\"\",\" - \"&BG89)","v":{"$error":"#N/A"}},{"$f":"IF(ISBLANK(Datas!$C$48),\"\",\" - \"&BH89)","v":" - "},{"$f":"IF(ISBLANK(Datas!$C$49),\"\",\" - \"&BI89)","v":""},{"$f":"IF(ISBLANK(Datas!$C$50),\"\",\" - \"&BJ89)","v":" - Ecus:"},{"$f":"IF(ISBLANK(Datas!$C$51),\"\",\" - \"&BK89)","v":" - Niv: "},null,{"$error":"#N/A"},{"$error":"#N/A"},"","PR:","Ecus:","Niv: ",null,null,null,null,"",{"$f":"VLOOKUP(BP89,LstVillage!$B$8:$C$283,1)","v":{"$error":"#N/A"}},{"$error":"#N/A"},{"$error":"#N/A"},"",{"$f":"VLOOKUP(BT89,Datas!$G$6:$G$17,1)","v":{"$error":"#N/A"}},{"$error":"#N/A"},{"$error":"#N/A"},null,"",0,0,null,{"$f":"VLOOKUP(BP89,Liste_Noire!$B$15:$G$1208,1)","v":{"$error":"#N/A"}},{"$f":"VLOOKUP(BP89,Liste_Noire!$B$15:$G$1208,5)","v":{"$error":"#N/A"}},{"$error":"#N/A"},null,0,0,0,0,0,0,1]
[null,""," ","","","","","",{"$f":"IF(ISBLANK(Trait_Etrangers!H90),\"\",Trait_Etrangers!H90)","v":""},{"$f":"IF(ISBLANK(Trait_Etrangers!I90),\"\",Trait_Etrangers!I90)","v":""},{"$f":"IF(ISBLANK(Trait_Etrangers!J90),\"\",Trait_Etrangers!J90)","v":""},{"$f":"IF(ISBLANK(Trait_Etrangers!K90),\"\",Trait_Etrangers!K90)","v":""},{"$f":"IF(ISBLANK(Trait_Etrangers!L90),\"\",Trait_Etrangers!L90)","v":""},{"$f":"IF(ISBLANK(Trait_Etrangers!M90),\"\",Trait_Etrangers!M90)","v":""},{"$f":"IF(ISBLANK(Trait_Etrangers!N90),\"\",Trait_Etrangers!N90)","v":""},{"$f":"IF(ISBLANK(Trait_Etrangers!O90),\"\",Trait_Etrangers!O90)","v":""},{"$f":"IF(ISBLANK(Trait_Etrangers!P90),\"\",Trait_Etrangers!P90)","v":""},null,{"$f":"IF(ISBLANK(Trait_Etrangers!R90),\"\",Trait_Etrangers!R90)","v":""},{"$f":"IF(ISBLANK(Trait_Etrangers!S90),\"\",Trait_Etrangers!S90)","v":""},{"$f":"IF(ISBLANK(Trait_Etrangers!T90),\"\",Trait_Etrangers!T90)","v":""},{"$f":"IF(ISBLANK(Trait_Etrangers!U90),\"\",Trait_Etrangers!U90)","v":""},null,null,null,"","",0,0,0,0,0,0,0,0,0,0,0,0,0,0,0,0,0,null,1,null,null,{"$f":"IF(AX90=\"\",\"\",IF(CE90=1,\"[b][color=red]\"&Datas!$D$32&\"[/color][/b]\"&AX90&\"[b][color=red]\"&Datas!$D$33&\"{\"&CD90&\"}[/color][/b]\",AX90))","v":{"$error":"#N/A"}},{"$error":"#N/A"}," ",{"$f":"IF(ISBLANK(Datas!$C$47),\"\",\" - \"&BG90)","v":{"$error":"#N/A"}},{"$f":"IF(ISBLANK(Datas!$C$48),\"\",\" - \"&BH90)","v":" - "},{"$f":"IF(ISBLANK(Datas!$C$49),\"\",\" - \"&BI90)","v":""},{"$f":"IF(ISBLANK(Datas!$C$50),\"\",\" - \"&BJ90)","v":" - Ecus:"},{"$f":"IF(ISBLANK(Datas!$C$51),\"\",\" - \"&BK90)","v":" - Niv: "},null,{"$error":"#N/A"},{"$error":"#N/A"},"","PR:","Ecus:","Niv: ",null,null,null,null,"",{"$f":"VLOOKUP(BP90,LstVillage!$B$8:$C$283,1)","v":{"$error":"#N/A"}},{"$error":"#N/A"},{"$error":"#N/A"},"",{"$f":"VLOOKUP(BT90,Datas!$G$6:$G$17,1)","v":{"$error":"#N/A"}},{"$error":"#N/A"},{"$error":"#N/A"},null,"",0,0,null,{"$f":"VLOOKUP(BP90,Liste_Noire!$B$15:$G$1208,1)","v":{"$error":"#N/A"}},{"$f":"VLOOKUP(BP90,Liste_Noire!$B$15:$G$1208,5)","v":{"$error":"#N/A"}},{"$error":"#N/A"},null,0,0,0,0,0,0,1]
[null,""," ","","","","","",{"$f":"IF(ISBLANK(Trait_Etrangers!H91),\"\",Trait_Etrangers!H91)","v":""},{"$f":"IF(ISBLANK(Trait_Etrangers!I91),\"\",Trait_Etrangers!I91)","v":""},{"$f":"IF(ISBLANK(Trait_Etrangers!J91),\"\",Trait_Etrangers!J91)","v":""},{"$f":"IF(ISBLANK(Trait_Etrangers!K91),\"\",Trait_Etrangers!K91)","v":""},{"$f":"IF(ISBLANK(Trait_Etrangers!L91),\"\",Trait_Etrangers!L91)","v":""},{"$f":"IF(ISBLANK(Trait_Etrangers!M91),\"\",Trait_Etrangers!M91)","v":""},{"$f":"IF(ISBLANK(Trait_Etrangers!N91),\"\",Trait_Etrangers!N91)","v":""},{"$f":"IF(ISBLANK(Trait_Etrangers!O91),\"\",Trait_Etrangers!O91)","v":""},{"$f":"IF(ISBLANK(Trait_Etrangers!P91),\"\",Trait_Etrangers!P91)","v":""},null,{"$f":"IF(ISBLANK(Trait_Etrangers!R91),\"\",Trait_Etrangers!R91)","v":""},{"$f":"IF(ISBLANK(Trait_Etrangers!S91),\"\",Trait_Etrangers!S91)","v":""},{"$f":"IF(ISBLANK(Trait_Etrangers!T91),\"\",Trait_Etrangers!T91)","v":""},{"$f":"IF(ISBLANK(Trait_Etrangers!U91),\"\",Trait_Etrangers!U91)","v":""},null,null,null,"","",0,0,0,0,0,0,0,0,0,0,0,0,0,0,0,0,0,null,1,null,null,{"$f":"IF(AX91=\"\",\"\",IF(CE91=1,\"[b][color=red]\"&Datas!$D$32&\"[/color][/b]\"&AX91&\"[b][color=red]\"&Datas!$D$33&\"{\"&CD91&\"}[/color][/b]\",AX91))","v":{"$error":"#N/A"}},{"$error":"#N/A"}," ",{"$f":"IF(ISBLANK(Datas!$C$47),\"\",\" - \"&BG91)","v":{"$error":"#N/A"}},{"$f":"IF(ISBLANK(Datas!$C$48),\"\",\" - \"&BH91)","v":" - "},{"$f":"IF(ISBLANK(Datas!$C$49),\"\",\" - \"&BI91)","v":""},{"$f":"IF(ISBLANK(Datas!$C$50),\"\",\" - \"&BJ91)","v":" - Ecus:"},{"$f":"IF(ISBLANK(Datas!$C$51),\"\",\" - \"&BK91)","v":" - Niv: "},null,{"$error":"#N/A"},{"$error":"#N/A"},"","PR:","Ecus:","Niv: ",null,null,null,null,"",{"$f":"VLOOKUP(BP91,LstVillage!$B$8:$C$283,1)","v":{"$error":"#N/A"}},{"$error":"#N/A"},{"$error":"#N/A"},"",{"$f":"VLOOKUP(BT91,Datas!$G$6:$G$17,1)","v":{"$error":"#N/A"}},{"$error":"#N/A"},{"$error":"#N/A"},null,"",0,0,null,{"$f":"VLOOKUP(BP91,Liste_Noire!$B$15:$G$1208,1)","v":{"$error":"#N/A"}},{"$f":"VLOOKUP(BP91,Liste_Noire!$B$15:$G$1208,5)","v":{"$error":"#N/A"}},{"$error":"#N/A"},null,0,0,0,0,0,0,1]
[null,""," ","","","","","",{"$f":"IF(ISBLANK(Trait_Etrangers!H92),\"\",Trait_Etrangers!H92)","v":""},{"$f":"IF(ISBLANK(Trait_Etrangers!I92),\"\",Trait_Etrangers!I92)","v":""},{"$f":"IF(ISBLANK(Trait_Etrangers!J92),\"\",Trait_Etrangers!J92)","v":""},{"$f":"IF(ISBLANK(Trait_Etrangers!K92),\"\",Trait_Etrangers!K92)","v":""},{"$f":"IF(ISBLANK(Trait_Etrangers!L92),\"\",Trait_Etrangers!L92)","v":""},{"$f":"IF(ISBLANK(Trait_Etrangers!M92),\"\",Trait_Etrangers!M92)","v":""},{"$f":"IF(ISBLANK(Trait_Etrangers!N92),\"\",Trait_Etrangers!N92)","v":""},{"$f":"IF(ISBLANK(Trait_Etrangers!O92),\"\",Trait_Etrangers!O92)","v":""},{"$f":"IF(ISBLANK(Trait_Etrangers!P92),\"\",Trait_Etrangers!P92)","v":""},null,{"$f":"IF(ISBLANK(Trait_Etrangers!R92),\"\",Trait_Etrangers!R92)","v":""},{"$f":"IF(ISBLANK(Trait_Etrangers!S92),\"\",Trait_Etrangers!S92)","v":""},{"$f":"IF(ISBLANK(Trait_Etrangers!T92),\"\",Trait_Etrangers!T92)","v":""},{"$f":"IF(ISBLANK(Trait_Etrangers!U92),\"\",Trait_Etrangers!U92)","v":""},null,null,null,"","",0,0,0,0,0,0,0,0,0,0,0,0,0,0,0,0,0,null,1,null,null,{"$f":"IF(AX92=\"\",\"\",IF(CE92=1,\"[b][color=red]\"&Datas!$D$32&\"[/color][/b]\"&AX92&\"[b][color=red]\"&Datas!$D$33&\"{\"&CD92&\"}[/color][/b]\",AX92))","v":{"$error":"#N/A"}},{"$error":"#N/A"}," ",{"$f":"IF(ISBLANK(Datas!$C$47),\"\",\" - \"&BG92)","v":{"$error":"#N/A"}},{"$f":"IF(ISBLANK(Datas!$C$48),\"\",\" - \"&BH92)","v":" - "},{"$f":"IF(ISBLANK(Datas!$C$49),\"\",\" - \"&BI92)","v":""},{"$f":"IF(ISBLANK(Datas!$C$50),\"\",\" - \"&BJ92)","v":" - Ecus:"},{"$f":"IF(ISBLANK(Datas!$C$51),\"\",\" - \"&BK92)","v":" - Niv: "},null,{"$error":"#N/A"},{"$error":"#N/A"},"","PR:","Ecus:","Niv: ",null,null,null,null,"",{"$f":"VLOOKUP(BP92,LstVillage!$B$8:$C$283,1)","v":{"$error":"#N/A"}},{"$error":"#N/A"},{"$error":"#N/A"},"",{"$f":"VLOOKUP(BT92,Datas!$G$6:$G$17,1)","v":{"$error":"#N/A"}},{"$error":"#N/A"},{"$error":"#N/A"},null,"",0,0,null,{"$f":"VLOOKUP(BP92,Liste_Noire!$B$15:$G$1208,1)","v":{"$error":"#N/A"}},{"$f":"VLOOKUP(BP92,Liste_Noire!$B$15:$G$1208,5)","v":{"$error":"#N/A"}},{"$error":"#N/A"},null,0,0,0,0,0,0,1]
[null,""," ","","","","","",{"$f":"IF(ISBLANK(Trait_Etrangers!H93),\"\",Trait_Etrangers!H93)","v":""},{"$f":"IF(ISBLANK(Trait_Etrangers!I93),\"\",Trait_Etrangers!I93)","v":""},{"$f":"IF(ISBLANK(Trait_Etrangers!J93),\"\",Trait_Etrangers!J93)","v":""},{"$f":"IF(ISBLANK(Trait_Etrangers!K93),\"\",Trait_Etrangers!K93)","v":""},{"$f":"IF(ISBLANK(Trait_Etrangers!L93),\"\",Trait_Etrangers!L93)","v":""},{"$f":"IF(ISBLANK(Trait_Etrangers!M93),\"\",Trait_Etrangers!M93)","v":""},{"$f":"IF(ISBLANK(Trait_Etrangers!N93),\"\",Trait_Etrangers!N93)","v":""},{"$f":"IF(ISBLANK(Trait_Etrangers!O93),\"\",Trait_Etrangers!O93)","v":""},{"$f":"IF(ISBLANK(Trait_Etrangers!P93),\"\",Trait_Etrangers!P93)","v":""},null,{"$f":"IF(ISBLANK(Trait_Etrangers!R93),\"\",Trait_Etrangers!R93)","v":""},{"$f":"IF(ISBLANK(Trait_Etrangers!S93),\"\",Trait_Etrangers!S93)","v":""},{"$f":"IF(ISBLANK(Trait_Etrangers!T93),\"\",Trait_Etrangers!T93)","v":""},{"$f":"IF(ISBLANK(Trait_Etrangers!U93),\"\",Trait_Etrangers!U93)","v":""},null,null,null,"","",0,0,0,0,0,0,0,0,0,0,0,0,0,0,0,0,0,null,1,null,null,{"$f":"IF(AX93=\"\",\"\",IF(CE93=1,\"[b][color=red]\"&Datas!$D$32&\"[/color][/b]\"&AX93&\"[b][color=red]\"&Datas!$D$33&\"{\"&CD93&\"}[/color][/b]\",AX93))","v":{"$error":"#N/A"}},{"$error":"#N/A"}," ",{"$f":"IF(ISBLANK(Datas!$C$47),\"\",\" - \"&BG93)","v":{"$error":"#N/A"}},{"$f":"IF(ISBLANK(Datas!$C$48),\"\",\" - \"&BH93)","v":" - "},{"$f":"IF(ISBLANK(Datas!$C$49),\"\",\" - \"&BI93)","v":""},{"$f":"IF(ISBLANK(Datas!$C$50),\"\",\" - \"&BJ93)","v":" - Ecus:"},{"$f":"IF(ISBLANK(Datas!$C$51),\"\",\" - \"&BK93)","v":" - Niv: "},null,{"$error":"#N/A"},{"$error":"#N/A"},"","PR:","Ecus:","Niv: ",null,null,null,null,"",{"$f":"VLOOKUP(BP93,LstVillage!$B$8:$C$283,1)","v":{"$error":"#N/A"}},{"$error":"#N/A"},{"$error":"#N/A"},"",{"$f":"VLOOKUP(BT93,Datas!$G$6:$G$17,1)","v":{"$error":"#N/A"}},{"$error":"#N/A"},{"$error":"#N/A"},null,"",0,0,null,{"$f":"VLOOKUP(BP93,Liste_Noire!$B$15:$G$1208,1)","v":{"$error":"#N/A"}},{"$f":"VLOOKUP(BP93,Liste_Noire!$B$15:$G$1208,5)","v":{"$error":"#N/A"}},{"$error":"#N/A"},null,0,0,0,0,0,0,1]
[null,""," ","","","","","",{"$f":"IF(ISBLANK(Trait_Etrangers!H94),\"\",Trait_Etrangers!H94)","v":""},{"$f":"IF(ISBLANK(Trait_Etrangers!I94),\"\",Trait_Etrangers!I94)","v":""},{"$f":"IF(ISBLANK(Trait_Etrangers!J94),\"\",Trait_Etrangers!J94)","v":""},{"$f":"IF(ISBLANK(Trait_Etrangers!K94),\"\",Trait_Etrangers!K94)","v":""},{"$f":"IF(ISBLANK(Trait_Etrangers!L94),\"\",Trait_Etrangers!L94)","v":""},{"$f":"IF(ISBLANK(Trait_Etrangers!M94),\"\",Trait_Etrangers!M94)","v":""},{"$f":"IF(ISBLANK(Trait_Etrangers!N94),\"\",Trait_Etrangers!N94)","v":""},{"$f":"IF(ISBLANK(Trait_Etrangers!O94),\"\",Trait_Etrangers!O94)","v":""},{"$f":"IF(ISBLANK(Trait_Etrangers!P94),\"\",Trait_Etrangers!P94)","v":""},null,{"$f":"IF(ISBLANK(Trait_Etrangers!R94),\"\",Trait_Etrangers!R94)","v":""},{"$f":"IF(ISBLANK(Trait_Etrangers!S94),\"\",Trait_Etrangers!S94)","v":""},{"$f":"IF(ISBLANK(Trait_Etrangers!T94),\"\",Trait_Etrangers!T94)","v":""},{"$f":"IF(ISBLANK(Trait_Etrangers!U94),\"\",Trait_Etrangers!U94)","v":""},null,null,null,"","",0,0,0,0,0,0,0,0,0,0,0,0,0,0,0,0,0,null,1,null,null,{"$f":"IF(AX94=\"\",\"\",IF(CE94=1,\"[b][color=red]\"&Datas!$D$32&\"[/color][/b]\"&AX94&\"[b][color=red]\"&Datas!$D$33&\"{\"&CD94&\"}[/color][/b]\",AX94))","v":{"$error":"#N/A"}},{"$error":"#N/A"}," ",{"$f":"IF(ISBLANK(Datas!$C$47),\"\",\" - \"&BG94)","v":{"$error":"#N/A"}},{"$f":"IF(ISBLANK(Datas!$C$48),\"\",\" - \"&BH94)","v":" - "},{"$f":"IF(ISBLANK(Datas!$C$49),\"\",\" - \"&BI94)","v":""},{"$f":"IF(ISBLANK(Datas!$C$50),\"\",\" - \"&BJ94)","v":" - Ecus:"},{"$f":"IF(ISBLANK(Datas!$C$51),\"\",\" - \"&BK94)","v":" - Niv: "},null,{"$error":"#N/A"},{"$error":"#N/A"},"","PR:","Ecus:","Niv: ",null,null,null,null,"",{"$f":"VLOOKUP(BP94,LstVillage!$B$8:$C$283,1)","v":{"$error":"#N/A"}},{"$error":"#N/A"},{"$error":"#N/A"},"",{"$f":"VLOOKUP(BT94,Datas!$G$6:$G$17,1)","v":{"$error":"#N/A"}},{"$error":"#N/A"},{"$error":"#N/A"},null,"",0,0,null,{"$f":"VLOOKUP(BP94,Liste_Noire!$B$15:$G$1208,1)","v":{"$error":"#N/A"}},{"$f":"VLOOKUP(BP94,Liste_Noire!$B$15:$G$1208,5)","v":{"$error":"#N/A"}},{"$error":"#N/A"},null,0,0,0,0,0,0,1]
[null,""," ","","","","","",{"$f":"IF(ISBLANK(Trait_Etrangers!H95),\"\",Trait_Etrangers!H95)","v":""},{"$f":"IF(ISBLANK(Trait_Etrangers!I95),\"\",Trait_Etrangers!I95)","v":""},{"$f":"IF(ISBLANK(Trait_Etrangers!J95),\"\",Trait_Etrangers!J95)","v":""},{"$f":"IF(ISBLANK(Trait_Etrangers!K95),\"\",Trait_Etrangers!K95)","v":""},{"$f":"IF(ISBLANK(Trait_Etrangers!L95),\"\",Trait_Etrangers!L95)","v":""},{"$f":"IF(ISBLANK(Trait_Etrangers!M95),\"\",Trait_Etrangers!M95)","v":""},{"$f":"IF(ISBLANK(Trait_Etrangers!N95),\"\",Trait_Etrangers!N95)","v":""},{"$f":"IF(ISBLANK(Trait_Etrangers!O95),\"\",Trait_Etrangers!O95)","v":""},{"$f":"IF(ISBLANK(Trait_Etrangers!P95),\"\",Trait_Etrangers!P95)","v":""},null,{"$f":"IF(ISBLANK(Trait_Etrangers!R95),\"\",Trait_Etrangers!R95)","v":""},{"$f":"IF(ISBLANK(Trait_Etrangers!S95),\"\",Trait_Etrangers!S95)","v":""},{"$f":"IF(ISBLANK(Trait_Etrangers!T95),\"\",Trait_Etrangers!T95)","v":""},{"$f":"IF(ISBLANK(Trait_Etrangers!U95),\"\",Trait_Etrangers!U95)","v":""},null,null,null,"","",0,0,0,0,0,0,0,0,0,0,0,0,0,0,0,0,0,null,1,null,null,{"$f":"IF(AX95=\"\",\"\",IF(CE95=1,\"[b][color=red]\"&Datas!$D$32&\"[/color][/b]\"&AX95&\"[b][color=red]\"&Datas!$D$33&\"{\"&CD95&\"}[/color][/b]\",AX95))","v":{"$error":"#N/A"}},{"$error":"#N/A"}," ",{"$f":"IF(ISBLANK(Datas!$C$47),\"\",\" - \"&BG95)","v":{"$error":"#N/A"}},{"$f":"IF(ISBLANK(Datas!$C$48),\"\",\" - \"&BH95)","v":" - "},{"$f":"IF(ISBLANK(Datas!$C$49),\"\",\" - \"&BI95)","v":""},{"$f":"IF(ISBLANK(Datas!$C$50),\"\",\" - \"&BJ95)","v":" - Ecus:"},{"$f":"IF(ISBLANK(Datas!$C$51),\"\",\" - \"&BK95)","v":" - Niv: "},null,{"$error":"#N/A"},{"$error":"#N/A"},"","PR:","Ecus:","Niv: ",null,null,null,null,"",{"$f":"VLOOKUP(BP95,LstVillage!$B$8:$C$283,1)","v":{"$error":"#N/A"}},{"$error":"#N/A"},{"$error":"#N/A"},"",{"$f":"VLOOKUP(BT95,Datas!$G$6:$G$17,1)","v":{"$error":"#N/A"}},{"$error":"#N/A"},{"$error":"#N/A"},null,"",0,0,null,{"$f":"VLOOKUP(BP95,Liste_Noire!$B$15:$G$1208,1)","v":{"$error":"#N/A"}},{"$f":"VLOOKUP(BP95,Liste_Noire!$B$15:$G$1208,5)","v":{"$error":"#N/A"}},{"$error":"#N/A"},null,0,0,0,0,0,0,1]
[null,""," ","","","","","",{"$f":"IF(ISBLANK(Trait_Etrangers!H96),\"\",Trait_Etrangers!H96)","v":""},{"$f":"IF(ISBLANK(Trait_Etrangers!I96),\"\",Trait_Etrangers!I96)","v":""},{"$f":"IF(ISBLANK(Trait_Etrangers!J96),\"\",Trait_Etrangers!J96)","v":""},{"$f":"IF(ISBLANK(Trait_Etrangers!K96),\"\",Trait_Etrangers!K96)","v":""},{"$f":"IF(ISBLANK(Trait_Etrangers!L96),\"\",Trait_Etrangers!L96)","v":""},{"$f":"IF(ISBLANK(Trait_Etrangers!M96),\"\",Trait_Etrangers!M96)","v":""},{"$f":"IF(ISBLANK(Trait_Etrangers!N96),\"\",Trait_Etrangers!N96)","v":""},{"$f":"IF(ISBLANK(Trait_Etrangers!O96),\"\",Trait_Etrangers!O96)","v":""},{"$f":"IF(ISBLANK(Trait_Etrangers!P96),\"\",Trait_Etrangers!P96)","v":""},null,{"$f":"IF(ISBLANK(Trait_Etrangers!R96),\"\",Trait_Etrangers!R96)","v":""},{"$f":"IF(ISBLANK(Trait_Etrangers!S96),\"\",Trait_Etrangers!S96)","v":""},{"$f":"IF(ISBLANK(Trait_Etrangers!T96),\"\",Trait_Etrangers!T96)","v":""},{"$f":"IF(ISBLANK(Trait_Etrangers!U96),\"\",Trait_Etrangers!U96)","v":""},null,null,null,"","",0,0,0,0,0,0,0,0,0,0,0,0,0,0,0,0,0,null,1,null,null,{"$f":"IF(AX96=\"\",\"\",IF(CE96=1,\"[b][color=red]\"&Datas!$D$32&\"[/color][/b]\"&AX96&\"[b][color=red]\"&Datas!$D$33&\"{\"&CD96&\"}[/color][/b]\",AX96))","v":{"$error":"#N/A"}},{"$error":"#N/A"}," ",{"$f":"IF(ISBLANK(Datas!$C$47),\"\",\" - \"&BG96)","v":{"$error":"#N/A"}},{"$f":"IF(ISBLANK(Datas!$C$48),\"\",\" - \"&BH96)","v":" - "},{"$f":"IF(ISBLANK(Datas!$C$49),\"\",\" - \"&BI96)","v":""},{"$f":"IF(ISBLANK(Datas!$C$50),\"\",\" - \"&BJ96)","v":" - Ecus:"},{"$f":"IF(ISBLANK(Datas!$C$51),\"\",\" - \"&BK96)","v":" - Niv: "},null,{"$error":"#N/A"},{"$error":"#N/A"},"","PR:","Ecus:","Niv: ",null,null,null,null,"",{"$f":"VLOOKUP(BP96,LstVillage!$B$8:$C$283,1)","v":{"$error":"#N/A"}},{"$error":"#N/A"},{"$error":"#N/A"},"",{"$f":"VLOOKUP(BT96,Datas!$G$6:$G$17,1)","v":{"$error":"#N/A"}},{"$error":"#N/A"},{"$error":"#N/A"},null,"",0,0,null,{"$f":"VLOOKUP(BP96,Liste_Noire!$B$15:$G$1208,1)","v":{"$error":"#N/A"}},{"$f":"VLOOKUP(BP96,Liste_Noire!$B$15:$G$1208,5)","v":{"$error":"#N/A"}},{"$error":"#N/A"},null,0,0,0,0,0,0,1]
[null,""," ","","","","","",{"$f":"IF(ISBLANK(Trait_Etrangers!H97),\"\",Trait_Etrangers!H97)","v":""},{"$f":"IF(ISBLANK(Trait_Etrangers!I97),\"\",Trait_Etrangers!I97)","v":""},{"$f":"IF(ISBLANK(Trait_Etrangers!J97),\"\",Trait_Etrangers!J97)","v":""},{"$f":"IF(ISBLANK(Trait_Etrangers!K97),\"\",Trait_Etrangers!K97)","v":""},{"$f":"IF(ISBLANK(Trait_Etrangers!L97),\"\",Trait_Etrangers!L97)","v":""},{"$f":"IF(ISBLANK(Trait_Etrangers!M97),\"\",Trait_Etrangers!M97)","v":""},{"$f":"IF(ISBLANK(Trait_Etrangers!N97),\"\",Trait_Etrangers!N97)","v":""},{"$f":"IF(ISBLANK(Trait_Etrangers!O97),\"\",Trait_Etrangers!O97)","v":""},{"$f":"IF(ISBLANK(Trait_Etrangers!P97),\"\",Trait_Etrangers!P97)","v":""},null,{"$f":"IF(ISBLANK(Trait_Etrangers!R97),\"\",Trait_Etrangers!R97)","v":""},{"$f":"IF(ISBLANK(Trait_Etrangers!S97),\"\",Trait_Etrangers!S97)","v":""},{"$f":"IF(ISBLANK(Trait_Etrangers!T97),\"\",Trait_Etrangers!T97)","v":""},{"$f":"IF(ISBLANK(Trait_Etrangers!U97),\"\",Trait_Etrangers!U97)","v":""},null,null,null,"","",0,0,0,0,0,0,0,0,0,0,0,0,0,0,0,0,0,null,1,null,null,{"$f":"IF(AX97=\"\",\"\",IF(CE97=1,\"[b][color=red]\"&Datas!$D$32&\"[/color][/b]\"&AX97&\"[b][color=red]\"&Datas!$D$33&\"{\"&CD97&\"}[/color][/b]\",AX97))","v":{"$error":"#N/A"}},{"$error":"#N/A"}," ",{"$f":"IF(ISBLANK(Datas!$C$47),\"\",\" - \"&BG97)","v":{"$error":"#N/A"}},{"$f":"IF(ISBLANK(Datas!$C$48),\"\",\" - \"&BH97)","v":" - "},{"$f":"IF(ISBLANK(Datas!$C$49),\"\",\" - \"&BI97)","v":""},{"$f":"IF(ISBLANK(Datas!$C$50),\"\",\" - \"&BJ97)","v":" - Ecus:"},{"$f":"IF(ISBLANK(Datas!$C$51),\"\",\" - \"&BK97)","v":" - Niv: "},null,{"$error":"#N/A"},{"$error":"#N/A"},"","PR:","Ecus:","Niv: ",null,null,null,null,"",{"$f":"VLOOKUP(BP97,LstVillage!$B$8:$C$283,1)","v":{"$error":"#N/A"}},{"$error":"#N/A"},{"$error":"#N/A"},"",{"$f":"VLOOKUP(BT97,Datas!$G$6:$G$17,1)","v":{"$error":"#N/A"}},{"$error":"#N/A"},{"$error":"#N/A"},null,"",0,0,null,{"$f":"VLOOKUP(BP97,Liste_Noire!$B$15:$G$1208,1)","v":{"$error":"#N/A"}},{"$f":"VLOOKUP(BP97,Liste_Noire!$B$15:$G$1208,5)","v":{"$error":"#N/A"}},{"$error":"#N/A"},null,0,0,0,0,0,0,1]
[null,""," ","","","","","",{"$f":"IF(ISBLANK(Trait_Etrangers!H98),\"\",Trait_Etrangers!H98)","v":""},{"$f":"IF(ISBLANK(Trait_Etrangers!I98),\"\",Trait_Etrangers!I98)","v":""},{"$f":"IF(ISBLANK(Trait_Etrangers!J98),\"\",Trait_Etrangers!J98)","v":""},{"$f":"IF(ISBLANK(Trait_Etrangers!K98),\"\",Trait_Etrangers!K98)","v":""},{"$f":"IF(ISBLANK(Trait_Etrangers!L98),\"\",Trait_Etrangers!L98)","v":""},{"$f":"IF(ISBLANK(Trait_Etrangers!M98),\"\",Trait_Etrangers!M98)","v":""},{"$f":"IF(ISBLANK(Trait_Etrangers!N98),\"\",Trait_Etrangers!N98)","v":""},{"$f":"IF(ISBLANK(Trait_Etrangers!O98),\"\",Trait_Etrangers!O98)","v":""},{"$f":"IF(ISBLANK(Trait_Etrangers!P98),\"\",Trait_Etrangers!P98)","v":""},null,{"$f":"IF(ISBLANK(Trait_Etrangers!R98),\"\",Trait_Etrangers!R98)","v":""},{"$f":"IF(ISBLANK(Trait_Etrangers!S98),\"\",Trait_Etrangers!S98)","v":""},{"$f":"IF(ISBLANK(Trait_Etrangers!T98),\"\",Trait_Etrangers!T98)","v":""},{"$f":"IF(ISBLANK(Trait_Etrangers!U98),\"\",Trait_Etrangers!U98)","v":""},null,null,null,"","",0,0,0,0,0,0,0,0,0,0,0,0,0,0,0,0,0,null,1,null,null,{"$f":"IF(AX98=\"\",\"\",IF(CE98=1,\"[b][color=red]\"&Datas!$D$32&\"[/color][/b]\"&AX98&\"[b][color=red]\"&Datas!$D$33&\"{\"&CD98&\"}[/color][/b]\",AX98))","v":{"$error":"#N/A"}},{"$error":"#N/A"}," ",{"$f":"IF(ISBLANK(Datas!$C$47),\"\",\" - \"&BG98)","v":{"$error":"#N/A"}},{"$f":"IF(ISBLANK(Datas!$C$48),\"\",\" - \"&BH98)","v":" - "},{"$f":"IF(ISBLANK(Datas!$C$49),\"\",\" - \"&BI98)","v":""},{"$f":"IF(ISBLANK(Datas!$C$50),\"\",\" - \"&BJ98)","v":" - Ecus:"},{"$f":"IF(ISBLANK(Datas!$C$51),\"\",\" - \"&BK98)","v":" - Niv: "},null,{"$error":"#N/A"},{"$error":"#N/A"},"","PR:","Ecus:","Niv: ",null,null,null,null,"",{"$f":"VLOOKUP(BP98,LstVillage!$B$8:$C$283,1)","v":{"$error":"#N/A"}},{"$error":"#N/A"},{"$error":"#N/A"},"",{"$f":"VLOOKUP(BT98,Datas!$G$6:$G$17,1)","v":{"$error":"#N/A"}},{"$error":"#N/A"},{"$error":"#N/A"},null,"",0,0,null,{"$f":"VLOOKUP(BP98,Liste_Noire!$B$15:$G$1208,1)","v":{"$error":"#N/A"}},{"$f":"VLOOKUP(BP98,Liste_Noire!$B$15:$G$1208,5)","v":{"$error":"#N/A"}},{"$error":"#N/A"},null,0,0,0,0,0,0,1]
[null,""," ","","","","","",{"$f":"IF(ISBLANK(Trait_Etrangers!H99),\"\",Trait_Etrangers!H99)","v":""},{"$f":"IF(ISBLANK(Trait_Etrangers!I99),\"\",Trait_Etrangers!I99)","v":""},{"$f":"IF(ISBLANK(Trait_Etrangers!J99),\"\",Trait_Etrangers!J99)","v":""},{"$f":"IF(ISBLANK(Trait_Etrangers!K99),\"\",Trait_Etrangers!K99)","v":""},{"$f":"IF(ISBLANK(Trait_Etrangers!L99),\"\",Trait_Etrangers!L99)","v":""},{"$f":"IF(ISBLANK(Trait_Etrangers!M99),\"\",Trait_Etrangers!M99)","v":""},{"$f":"IF(ISBLANK(Trait_Etrangers!N99),\"\",Trait_Etrangers!N99)","v":""},{"$f":"IF(ISBLANK(Trait_Etrangers!O99),\"\",Trait_Etrangers!O99)","v":""},{"$f":"IF(ISBLANK(Trait_Etrangers!P99),\"\",Trait_Etrangers!P99)","v":""},null,{"$f":"IF(ISBLANK(Trait_Etrangers!R99),\"\",Trait_Etrangers!R99)","v":""},{"$f":"IF(ISBLANK(Trait_Etrangers!S99),\"\",Trait_Etrangers!S99)","v":""},{"$f":"IF(ISBLANK(Trait_Etrangers!T99),\"\",Trait_Etrangers!T99)","v":""},{"$f":"IF(ISBLANK(Trait_Etrangers!U99),\"\",Trait_Etrangers!U99)","v":""},null,null,null,"","",0,0,0,0,0,0,0,0,0,0,0,0,0,0,0,0,0,null,1,null,null,{"$f":"IF(AX99=\"\",\"\",IF(CE99=1,\"[b][color=red]\"&Datas!$D$32&\"[/color][/b]\"&AX99&\"[b][color=red]\"&Datas!$D$33&\"{\"&CD99&\"}[/color][/b]\",AX99))","v":{"$error":"#N/A"}},{"$error":"#N/A"}," ",{"$f":"IF(ISBLANK(Datas!$C$47),\"\",\" - \"&BG99)","v":{"$error":"#N/A"}},{"$f":"IF(ISBLANK(Datas!$C$48),\"\",\" - \"&BH99)","v":" - "},{"$f":"IF(ISBLANK(Datas!$C$49),\"\",\" - \"&BI99)","v":""},{"$f":"IF(ISBLANK(Datas!$C$50),\"\",\" - \"&BJ99)","v":" - Ecus:"},{"$f":"IF(ISBLANK(Datas!$C$51),\"\",\" - \"&BK99)","v":" - Niv: "},null,{"$error":"#N/A"},{"$error":"#N/A"},"","PR:","Ecus:","Niv: ",null,null,null,null,"",{"$f":"VLOOKUP(BP99,LstVillage!$B$8:$C$283,1)","v":{"$error":"#N/A"}},{"$error":"#N/A"},{"$error":"#N/A"},"",{"$f":"VLOOKUP(BT99,Datas!$G$6:$G$17,1)","v":{"$error":"#N/A"}},{"$error":"#N/A"},{"$error":"#N/A"},null,"",0,0,null,{"$f":"VLOOKUP(BP99,Liste_Noire!$B$15:$G$1208,1)","v":{"$error":"#N/A"}},{"$f":"VLOOKUP(BP99,Liste_Noire!$B$15:$G$1208,5)","v":{"$error":"#N/A"}},{"$error":"#N/A"},null,0,0,0,0,0,0,1]
[null,""," ","","","","","",{"$f":"IF(ISBLANK(Trait_Etrangers!H100),\"\",Trait_Etrangers!H100)","v":""},{"$f":"IF(ISBLANK(Trait_Etrangers!I100),\"\",Trait_Etrangers!I100)","v":""},{"$f":"IF(ISBLANK(Trait_Etrangers!J100),\"\",Trait_Etrangers!J100)","v":""},{"$f":"IF(ISBLANK(Trait_Etrangers!K100),\"\",Trait_Etrangers!K100)","v":""},{"$f":"IF(ISBLANK(Trait_Etrangers!L100),\"\",Trait_Etrangers!L100)","v":""},{"$f":"IF(ISBLANK(Trait_Etrangers!M100),\"\",Trait_Etrangers!M100)","v":""},{"$f":"IF(ISBLANK(Trait_Etrangers!N100),\"\",Trait_Etrangers!N100)","v":""},{"$f":"IF(ISBLANK(Trait_Etrangers!O100),\"\",Trait_Etrangers!O100)","v":""},{"$f":"IF(ISBLANK(Trait_Etrangers!P100),\"\",Trait_Etrangers!P100)","v":""},null,{"$f":"IF(ISBLANK(Trait_Etrangers!R100),\"\",Trait_Etrangers!R100)","v":""},{"$f":"IF(ISBLANK(Trait_Etrangers!S100),\"\",Trait_Etrangers!S100)","v":""},{"$f":"IF(ISBLANK(Trait_Etrangers!T100),\"\",Trait_Etrangers!T100)","v":""},{"$f":"IF(ISBLANK(Trait_Etrangers!U100),\"\",Trait_Etrangers!U100)","v":""},null,null,null,"","",0,0,0,0,0,0,0,0,0,0,0,0,0,0,0,0,0,null,1,null,null,{"$f":"IF(AX100=\"\",\"\",IF(CE100=1,\"[b][color=red]\"&Datas!$D$32&\"[/color][/b]\"&AX100&\"[b][color=red]\"&Datas!$D$33&\"{\"&CD100&\"}[/color][/b]\",AX100))","v":{"$error":"#N/A"}},{"$error":"#N/A"}," ",{"$f":"IF(ISBLANK(Datas!$C$47),\"\",\" - \"&BG100)","v":{"$error":"#N/A"}},{"$f":"IF(ISBLANK(Datas!$C$48),\"\",\" - \"&BH100)","v":" - "},{"$f":"IF(ISBLANK(Datas!$C$49),\"\",\" - \"&BI100)","v":""},{"$f":"IF(ISBLANK(Datas!$C$50),\"\",\" - \"&BJ100)","v":" - Ecus:"},{"$f":"IF(ISBLANK(Datas!$C$51),\"\",\" - \"&BK100)","v":" - Niv: "},null,{"$error":"#N/A"},{"$error":"#N/A"},"","PR:","Ecus:","Niv: ",null,null,null,null,"",{"$f":"VLOOKUP(BP100,LstVillage!$B$8:$C$283,1)","v":{"$error":"#N/A"}},{"$error":"#N/A"},{"$error":"#N/A"},"",{"$f":"VLOOKUP(BT100,Datas!$G$6:$G$17,1)","v":{"$error":"#N/A"}},{"$error":"#N/A"},{"$error":"#N/A"},null,"",0,0,null,{"$f":"VLOOKUP(BP100,Liste_Noire!$B$15:$G$1208,1)","v":{"$error":"#N/A"}},{"$f":"VLOOKUP(BP100,Liste_Noire!$B$15:$G$1208,5)","v":{"$error":"#N/A"}},{"$error":"#N/A"},null,0,0,0,0,0,0,1]
[null,""," ","","","","","",{"$f":"IF(ISBLANK(Trait_Etrangers!H101),\"\",Trait_Etrangers!H101)","v":""},{"$f":"IF(ISBLANK(Trait_Etrangers!I101),\"\",Trait_Etrangers!I101)","v":""},{"$f":"IF(ISBLANK(Trait_Etrangers!J101),\"\",Trait_Etrangers!J101)","v":""},{"$f":"IF(ISBLANK(Trait_Etrangers!K101),\"\",Trait_Etrangers!K101)","v":""},{"$f":"IF(ISBLANK(Trait_Etrangers!L101),\"\",Trait_Etrangers!L101)","v":""},{"$f":"IF(ISBLANK(Trait_Etrangers!M101),\"\",Trait_Etrangers!M101)","v":""},{"$f":"IF(ISBLANK(Trait_Etrangers!N101),\"\",Trait_Etrangers!N101)","v":""},{"$f":"IF(ISBLANK(Trait_Etrangers!O101),\"\",Trait_Etrangers!O101)","v":""},{"$f":"IF(ISBLANK(Trait_Etrangers!P101),\"\",Trait_Etrangers!P101)","v":""},null,{"$f":"IF(ISBLANK(Trait_Etrangers!R101),\"\",Trait_Etrangers!R101)","v":""},{"$f":"IF(ISBLANK(Trait_Etrangers!S101),\"\",Trait_Etrangers!S101)","v":""},{"$f":"IF(ISBLANK(Trait_Etrangers!T101),\"\",Trait_Etrangers!T101)","v":""},{"$f":"IF(ISBLANK(Trait_Etrangers!U101),\"\",Trait_Etrangers!U101)","v":""},null,null,null,"","",0,0,0,0,0,0,0,0,0,0,0,0,0,0,0,0,0,null,1,null,null,{"$f":"IF(AX101=\"\",\"\",IF(CE101=1,\"[b][color=red]\"&Datas!$D$32&\"[/color][/b]\"&AX101&\"[b][color=red]\"&Datas!$D$33&\"{\"&CD101&\"}[/color][/b]\",AX101))","v":{"$error":"#N/A"}},{"$error":"#N/A"}," ",{"$f":"IF(ISBLANK(Datas!$C$47),\"\",\" - \"&BG101)","v":{"$error":"#N/A"}},{"$f":"IF(ISBLANK(Datas!$C$48),\"\",\" - \"&BH101)","v":" - "},{"$f":"IF(ISBLANK(Datas!$C$49),\"\",\" - \"&BI101)","v":""},{"$f":"IF(ISBLANK(Datas!$C$50),\"\",\" - \"&BJ101)","v":" - Ecus:"},{"$f":"IF(ISBLANK(Datas!$C$51),\"\",\" - \"&BK101)","v":" - Niv: "},null,{"$error":"#N/A"},{"$error":"#N/A"},"","PR:","Ecus:","Niv: ",null,null,null,null,"",{"$f":"VLOOKUP(BP101,LstVillage!$B$8:$C$283,1)","v":{"$error":"#N/A"}},{"$error":"#N/A"},{"$error":"#N/A"},"",{"$f":"VLOOKUP(BT101,Datas!$G$6:$G$17,1)","v":{"$error":"#N/A"}},{"$error":"#N/A"},{"$error":"#N/A"},null,"",0,0,null,{"$f":"VLOOKUP(BP101,Liste_Noire!$B$15:$G$1208,1)","v":{"$error":"#N/A"}},{"$f":"VLOOKUP(BP101,Liste_Noire!$B$15:$G$1208,5)","v":{"$error":"#N/A"}},{"$error":"#N/A"},null,0,0,0,0,0,0,1]
[null,""," ","","","","","",{"$f":"IF(ISBLANK(Trait_Etrangers!H102),\"\",Trait_Etrangers!H102)","v":""},{"$f":"IF(ISBLANK(Trait_Etrangers!I102),\"\",Trait_Etrangers!I102)","v":""},{"$f":"IF(ISBLANK(Trait_Etrangers!J102),\"\",Trait_Etrangers!J102)","v":""},{"$f":"IF(ISBLANK(Trait_Etrangers!K102),\"\",Trait_Etrangers!K102)","v":""},{"$f":"IF(ISBLANK(Trait_Etrangers!L102),\"\",Trait_Etrangers!L102)","v":""},{"$f":"IF(ISBLANK(Trait_Etrangers!M102),\"\",Trait_Etrangers!M102)","v":""},{"$f":"IF(ISBLANK(Trait_Etrangers!N102),\"\",Trait_Etrangers!N102)","v":""},{"$f":"IF(ISBLANK(Trait_Etrangers!O102),\"\",Trait_Etrangers!O102)","v":""},{"$f":"IF(ISBLANK(Trait_Etrangers!P102),\"\",Trait_Etrangers!P102)","v":""},null,{"$f":"IF(ISBLANK(Trait_Etrangers!R102),\"\",Trait_Etrangers!R102)","v":""},{"$f":"IF(ISBLANK(Trait_Etrangers!S102),\"\",Trait_Etrangers!S102)","v":""},{"$f":"IF(ISBLANK(Trait_Etrangers!T102),\"\",Trait_Etrangers!T102)","v":""},{"$f":"IF(ISBLANK(Trait_Etrangers!U102),\"\",Trait_Etrangers!U102)","v":""},null,null,null,"","",0,0,0,0,0,0,0,0,0,0,0,0,0,0,0,0,0,null,1,null,null,{"$f":"IF(AX102=\"\",\"\",IF(CE102=1,\"[b][color=red]\"&Datas!$D$32&\"[/color][/b]\"&AX102&\"[b][color=red]\"&Datas!$D$33&\"{\"&CD102&\"}[/color][/b]\",AX102))","v":{"$error":"#N/A"}},{"$error":"#N/A"}," ",{"$f":"IF(ISBLANK(Datas!$C$47),\"\",\" - \"&BG102)","v":{"$error":"#N/A"}},{"$f":"IF(ISBLANK(Datas!$C$48),\"\",\" - \"&BH102)","v":" - "},{"$f":"IF(ISBLANK(Datas!$C$49),\"\",\" - \"&BI102)","v":""},{"$f":"IF(ISBLANK(Datas!$C$50),\"\",\" - \"&BJ102)","v":" - Ecus:"},{"$f":"IF(ISBLANK(Datas!$C$51),\"\",\" - \"&BK102)","v":" - Niv: "},null,{"$error":"#N/A"},{"$error":"#N/A"},"","PR:","Ecus:","Niv: ",null,null,null,null,"",{"$f":"VLOOKUP(BP102,LstVillage!$B$8:$C$283,1)","v":{"$error":"#N/A"}},{"$error":"#N/A"},{"$error":"#N/A"},"",{"$f":"VLOOKUP(BT102,Datas!$G$6:$G$17,1)","v":{"$error":"#N/A"}},{"$error":"#N/A"},{"$error":"#N/A"},null,"",0,0,null,{"$f":"VLOOKUP(BP102,Liste_Noire!$B$15:$G$1208,1)","v":{"$error":"#N/A"}},{"$f":"VLOOKUP(BP102,Liste_Noire!$B$15:$G$1208,5)","v":{"$error":"#N/A"}},{"$error":"#N/A"},null,0,0,0,0,0,0,1]
[null,""," ","","","","","",{"$f":"IF(ISBLANK(Trait_Etrangers!H103),\"\",Trait_Etrangers!H103)","v":""},{"$f":"IF(ISBLANK(Trait_Etrangers!I103),\"\",Trait_Etrangers!I103)","v":""},{"$f":"IF(ISBLANK(Trait_Etrangers!J103),\"\",Trait_Etrangers!J103)","v":""},{"$f":"IF(ISBLANK(Trait_Etrangers!K103),\"\",Trait_Etrangers!K103)","v":""},{"$f":"IF(ISBLANK(Trait_Etrangers!L103),\"\",Trait_Etrangers!L103)","v":""},{"$f":"IF(ISBLANK(Trait_Etrangers!M103),\"\",Trait_Etrangers!M103)","v":""},{"$f":"IF(ISBLANK(Trait_Etrangers!N103),\"\",Trait_Etrangers!N103)","v":""},{"$f":"IF(ISBLANK(Trait_Etrangers!O103),\"\",Trait_Etrangers!O103)","v":""},{"$f":"IF(ISBLANK(Trait_Etrangers!P103),\"\",Trait_Etrangers!P103)","v":""},null,{"$f":"IF(ISBLANK(Trait_Etrangers!R103),\"\",Trait_Etrangers!R103)","v":""},{"$f":"IF(ISBLANK(Trait_Etrangers!S103),\"\",Trait_Etrangers!S103)","v":""},{"$f":"IF(ISBLANK(Trait_Etrangers!T103),\"\",Trait_Etrangers!T103)","v":""},{"$f":"IF(ISBLANK(Trait_Etrangers!U103),\"\",Trait_Etrangers!U103)","v":""},null,null,null,"","",0,0,0,0,0,0,0,0,0,0,0,0,0,0,0,0,0,null,1,null,null,{"$f":"IF(AX103=\"\",\"\",IF(CE103=1,\"[b][color=red]\"&Datas!$D$32&\"[/color][/b]\"&AX103&\"[b][color=red]\"&Datas!$D$33&\"{\"&CD103&\"}[/color][/b]\",AX103))","v":{"$error":"#N/A"}},{"$error":"#N/A"}," ",{"$f":"IF(ISBLANK(Datas!$C$47),\"\",\" - \"&BG103)","v":{"$error":"#N/A"}},{"$f":"IF(ISBLANK(Datas!$C$48),\"\",\" - \"&BH103)","v":" - "},{"$f":"IF(ISBLANK(Datas!$C$49),\"\",\" - \"&BI103)","v":""},{"$f":"IF(ISBLANK(Datas!$C$50),\"\",\" - \"&BJ103)","v":" - Ecus:"},{"$f":"IF(ISBLANK(Datas!$C$51),\"\",\" - \"&BK103)","v":" - Niv: "},null,{"$error":"#N/A"},{"$error":"#N/A"},"","PR:","Ecus:","Niv: ",null,null,null,null,"",{"$f":"VLOOKUP(BP103,LstVillage!$B$8:$C$283,1)","v":{"$error":"#N/A"}},{"$error":"#N/A"},{"$error":"#N/A"},"",{"$f":"VLOOKUP(BT103,Datas!$G$6:$G$17,1)","v":{"$error":"#N/A"}},{"$error":"#N/A"},{"$error":"#N/A"},null,"",0,0,null,{"$f":"VLOOKUP(BP103,Liste_Noire!$B$15:$G$1208,1)","v":{"$error":"#N/A"}},{"$f":"VLOOKUP(BP103,Liste_Noire!$B$15:$G$1208,5)","v":{"$error":"#N/A"}},{"$error":"#N/A"},null,0,0,0,0,0,0,1]
[null,""," ","","","","","",{"$f":"IF(ISBLANK(Trait_Etrangers!H104),\"\",Trait_Etrangers!H104)","v":""},{"$f":"IF(ISBLANK(Trait_Etrangers!I104),\"\",Trait_Etrangers!I104)","v":""},{"$f":"IF(ISBLANK(Trait_Etrangers!J104),\"\",Trait_Etrangers!J104)","v":""},{"$f":"IF(ISBLANK(Trait_Etrangers!K104),\"\",Trait_Etrangers!K104)","v":""},{"$f":"IF(ISBLANK(Trait_Etrangers!L104),\"\",Trait_Etrangers!L104)","v":""},{"$f":"IF(ISBLANK(Trait_Etrangers!M104),\"\",Trait_Etrangers!M104)","v":""},{"$f":"IF(ISBLANK(Trait_Etrangers!N104),\"\",Trait_Etrangers!N104)","v":""},{"$f":"IF(ISBLANK(Trait_Etrangers!O104),\"\",Trait_Etrangers!O104)","v":""},{"$f":"IF(ISBLANK(Trait_Etrangers!P104),\"\",Trait_Etrangers!P104)","v":""},null,{"$f":"IF(ISBLANK(Trait_Etrangers!R104),\"\",Trait_Etrangers!R104)","v":""},{"$f":"IF(ISBLANK(Trait_Etrangers!S104),\"\",Trait_Etrangers!S104)","v":""},{"$f":"IF(ISBLANK(Trait_Etrangers!T104),\"\",Trait_Etrangers!T104)","v":""},{"$f":"IF(ISBLANK(Trait_Etrangers!U104),\"\",Trait_Etrangers!U104)","v":""},null,null,null,"","",0,0,0,0,0,0,0,0,0,0,0,0,0,0,0,0,0,null,1,null,null,{"$f":"IF(AX104=\"\",\"\",IF(CE104=1,\"[b][color=red]\"&Datas!$D$32&\"[/color][/b]\"&AX104&\"[b][color=red]\"&Datas!$D$33&\"{\"&CD104&\"}[/color][/b]\",AX104))","v":{"$error":"#N/A"}},{"$error":"#N/A"}," ",{"$f":"IF(ISBLANK(Datas!$C$47),\"\",\" - \"&BG104)","v":{"$error":"#N/A"}},{"$f":"IF(ISBLANK(Datas!$C$48),\"\",\" - \"&BH104)","v":" - "},{"$f":"IF(ISBLANK(Datas!$C$49),\"\",\" - \"&BI104)","v":""},{"$f":"IF(ISBLANK(Datas!$C$50),\"\",\" - \"&BJ104)","v":" - Ecus:"},{"$f":"IF(ISBLANK(Datas!$C$51),\"\",\" - \"&BK104)","v":" - Niv: "},null,{"$error":"#N/A"},{"$error":"#N/A"},"","PR:","Ecus:","Niv: ",null,null,null,null,"",{"$f":"VLOOKUP(BP104,LstVillage!$B$8:$C$283,1)","v":{"$error":"#N/A"}},{"$error":"#N/A"},{"$error":"#N/A"},"",{"$f":"VLOOKUP(BT104,Datas!$G$6:$G$17,1)","v":{"$error":"#N/A"}},{"$error":"#N/A"},{"$error":"#N/A"},null,"",0,0,null,{"$f":"VLOOKUP(BP104,Liste_Noire!$B$15:$G$1208,1)","v":{"$error":"#N/A"}},{"$f":"VLOOKUP(BP104,Liste_Noire!$B$15:$G$1208,5)","v":{"$error":"#N/A"}},{"$error":"#N/A"},null,0,0,0,0,0,0,1]
[null,""," ","","","","","",{"$f":"IF(ISBLANK(Trait_Etrangers!H105),\"\",Trait_Etrangers!H105)","v":""},{"$f":"IF(ISBLANK(Trait_Etrangers!I105),\"\",Trait_Etrangers!I105)","v":""},{"$f":"IF(ISBLANK(Trait_Etrangers!J105),\"\",Trait_Etrangers!J105)","v":""},{"$f":"IF(ISBLANK(Trait_Etrangers!K105),\"\",Trait_Etrangers!K105)","v":""},{"$f":"IF(ISBLANK(Trait_Etrangers!L105),\"\",Trait_Etrangers!L105)","v":""},{"$f":"IF(ISBLANK(Trait_Etrangers!M105),\"\",Trait_Etrangers!M105)","v":""},{"$f":"IF(ISBLANK(Trait_Etrangers!N105),\"\",Trait_Etrangers!N105)","v":""},{"$f":"IF(ISBLANK(Trait_Etrangers!O105),\"\",Trait_Etrangers!O105)","v":""},{"$f":"IF(ISBLANK(Trait_Etrangers!P105),\"\",Trait_Etrangers!P105)","v":""},null,{"$f":"IF(ISBLANK(Trait_Etrangers!R105),\"\",Trait_Etrangers!R105)","v":""},{"$f":"IF(ISBLANK(Trait_Etrangers!S105),\"\",Trait_Etrangers!S105)","v":""},{"$f":"IF(ISBLANK(Trait_Etrangers!T105),\"\",Trait_Etrangers!T105)","v":""},{"$f":"IF(ISBLANK(Trait_Etrangers!U105),\"\",Trait_Etrangers!U105)","v":""},null,null,null,"","",0,0,0,0,0,0,0,0,0,0,0,0,0,0,0,0,0,null,1,null,null,{"$f":"IF(AX105=\"\",\"\",IF(CE105=1,\"[b][color=red]\"&Datas!$D$32&\"[/color][/b]\"&AX105&\"[b][color=red]\"&Datas!$D$33&\"{\"&CD105&\"}[/color][/b]\",AX105))","v":{"$error":"#N/A"}},{"$error":"#N/A"}," ",{"$f":"IF(ISBLANK(Datas!$C$47),\"\",\" - \"&BG105)","v":{"$error":"#N/A"}},{"$f":"IF(ISBLANK(Datas!$C$48),\"\",\" - \"&BH105)","v":" - "},{"$f":"IF(ISBLANK(Datas!$C$49),\"\",\" - \"&BI105)","v":""},{"$f":"IF(ISBLANK(Datas!$C$50),\"\",\" - \"&BJ105)","v":" - Ecus:"},{"$f":"IF(ISBLANK(Datas!$C$51),\"\",\" - \"&BK105)","v":" - Niv: "},null,{"$error":"#N/A"},{"$error":"#N/A"},"","PR:","Ecus:","Niv: ",null,null,null,null,"",{"$f":"VLOOKUP(BP105,LstVillage!$B$8:$C$283,1)","v":{"$error":"#N/A"}},{"$error":"#N/A"},{"$error":"#N/A"},"",{"$f":"VLOOKUP(BT105,Datas!$G$6:$G$17,1)","v":{"$error":"#N/A"}},{"$error":"#N/A"},{"$error":"#N/A"},null,"",0,0,null,{"$f":"VLOOKUP(BP105,Liste_Noire!$B$15:$G$1208,1)","v":{"$error":"#N/A"}},{"$f":"VLOOKUP(BP105,Liste_Noire!$B$15:$G$1208,5)","v":{"$error":"#N/A"}},{"$error":"#N/A"},null,0,0,0,0,0,0,1]
[null,""," ","","","","","",{"$f":"IF(ISBLANK(Trait_Etrangers!H106),\"\",Trait_Etrangers!H106)","v":""},{"$f":"IF(ISBLANK(Trait_Etrangers!I106),\"\",Trait_Etrangers!I106)","v":""},{"$f":"IF(ISBLANK(Trait_Etrangers!J106),\"\",Trait_Etrangers!J106)","v":""},{"$f":"IF(ISBLANK(Trait_Etrangers!K106),\"\",Trait_Etrangers!K106)","v":""},{"$f":"IF(ISBLANK(Trait_Etrangers!L106),\"\",Trait_Etrangers!L106)","v":""},{"$f":"IF(ISBLANK(Trait_Etrangers!M106),\"\",Trait_Etrangers!M106)","v":""},{"$f":"IF(ISBLANK(Trait_Etrangers!N106),\"\",Trait_Etrangers!N106)","v":""},{"$f":"IF(ISBLANK(Trait_Etrangers!O106),\"\",Trait_Etrangers!O106)","v":""},{"$f":"IF(ISBLANK(Trait_Etrangers!P106),\"\",Trait_Etrangers!P106)","v":""},null,{"$f":"IF(ISBLANK(Trait_Etrangers!R106),\"\",Trait_Etrangers!R106)","v":""},{"$f":"IF(ISBLANK(Trait_Etrangers!S106),\"\",Trait_Etrangers!S106)","v":""},{"$f":"IF(ISBLANK(Trait_Etrangers!T106),\"\",Trait_Etrangers!T106)","v":""},{"$f":"IF(ISBLANK(Trait_Etrangers!U106),\"\",Trait_Etrangers!U106)","v":""},null,null,null,"","",0,0,0,0,0,0,0,0,0,0,0,0,0,0,0,0,0,null,1,null,null,{"$f":"IF(AX106=\"\",\"\",IF(CE106=1,\"[b][color=red]\"&Datas!$D$32&\"[/color][/b]\"&AX106&\"[b][color=red]\"&Datas!$D$33&\"{\"&CD106&\"}[/color][/b]\",AX106))","v":{"$error":"#N/A"}},{"$error":"#N/A"}," ",{"$f":"IF(ISBLANK(Datas!$C$47),\"\",\" - \"&BG106)","v":{"$error":"#N/A"}},{"$f":"IF(ISBLANK(Datas!$C$48),\"\",\" - \"&BH106)","v":" - "},{"$f":"IF(ISBLANK(Datas!$C$49),\"\",\" - \"&BI106)","v":""},{"$f":"IF(ISBLANK(Datas!$C$50),\"\",\" - \"&BJ106)","v":" - Ecus:"},{"$f":"IF(ISBLANK(Datas!$C$51),\"\",\" - \"&BK106)","v":" - Niv: "},null,{"$error":"#N/A"},{"$error":"#N/A"},"","PR:","Ecus:","Niv: ",null,null,null,null,"",{"$f":"VLOOKUP(BP106,LstVillage!$B$8:$C$283,1)","v":{"$error":"#N/A"}},{"$error":"#N/A"},{"$error":"#N/A"},"",{"$f":"VLOOKUP(BT106,Datas!$G$6:$G$17,1)","v":{"$error":"#N/A"}},{"$error":"#N/A"},{"$error":"#N/A"},null,"",0,0,null,{"$f":"VLOOKUP(BP106,Liste_Noire!$B$15:$G$1208,1)","v":{"$error":"#N/A"}},{"$f":"VLOOKUP(BP106,Liste_Noire!$B$15:$G$1208,5)","v":{"$error":"#N/A"}},{"$error":"#N/A"},null,0,0,0,0,0,0,1]
[null,""," ","","","","","",{"$f":"IF(ISBLANK(Trait_Etrangers!H107),\"\",Trait_Etrangers!H107)","v":""},{"$f":"IF(ISBLANK(Trait_Etrangers!I107),\"\",Trait_Etrangers!I107)","v":""},{"$f":"IF(ISBLANK(Trait_Etrangers!J107),\"\",Trait_Etrangers!J107)","v":""},{"$f":"IF(ISBLANK(Trait_Etrangers!K107),\"\",Trait_Etrangers!K107)","v":""},{"$f":"IF(ISBLANK(Trait_Etrangers!L107),\"\",Trait_Etrangers!L107)","v":""},{"$f":"IF(ISBLANK(Trait_Etrangers!M107),\"\",Trait_Etrangers!M107)","v":""},{"$f":"IF(ISBLANK(Trait_Etrangers!N107),\"\",Trait_Etrangers!N107)","v":""},{"$f":"IF(ISBLANK(Trait_Etrangers!O107),\"\",Trait_Etrangers!O107)","v":""},{"$f":"IF(ISBLANK(Trait_Etrangers!P107),\"\",Trait_Etrangers!P107)","v":""},null,{"$f":"IF(ISBLANK(Trait_Etrangers!R107),\"\",Trait_Etrangers!R107)","v":""},{"$f":"IF(ISBLANK(Trait_Etrangers!S107),\"\",Trait_Etrangers!S107)","v":""},{"$f":"IF(ISBLANK(Trait_Etrangers!T107),\"\",Trait_Etrangers!T107)","v":""},{"$f":"IF(ISBLANK(Trait_Etrangers!U107),\"\",Trait_Etrangers!U107)","v":""},null,null,null,"","",0,0,0,0,0,0,0,0,0,0,0,0,0,0,0,0,0,null,1,null,null,{"$f":"IF(AX107=\"\",\"\",IF(CE107=1,\"[b][color=red]\"&Datas!$D$32&\"[/color][/b]\"&AX107&\"[b][color=red]\"&Datas!$D$33&\"{\"&CD107&\"}[/color][/b]\",AX107))","v":{"$error":"#N/A"}},{"$error":"#N/A"}," ",{"$f":"IF(ISBLANK(Datas!$C$47),\"\",\" - \"&BG107)","v":{"$error":"#N/A"}},{"$f":"IF(ISBLANK(Datas!$C$48),\"\",\" - \"&BH107)","v":" - "},{"$f":"IF(ISBLANK(Datas!$C$49),\"\",\" - \"&BI107)","v":""},{"$f":"IF(ISBLANK(Datas!$C$50),\"\",\" - \"&BJ107)","v":" - Ecus:"},{"$f":"IF(ISBLANK(Datas!$C$51),\"\",\" - \"&BK107)","v":" - Niv: "},null,{"$error":"#N/A"},{"$error":"#N/A"},"","PR:","Ecus:","Niv: ",null,null,null,null,"",{"$f":"VLOOKUP(BP107,LstVillage!$B$8:$C$283,1)","v":{"$error":"#N/A"}},{"$error":"#N/A"},{"$error":"#N/A"},"",{"$f":"VLOOKUP(BT107,Datas!$G$6:$G$17,1)","v":{"$error":"#N/A"}},{"$error":"#N/A"},{"$error":"#N/A"},null,"",0,0,null,{"$f":"VLOOKUP(BP107,Liste_Noire!$B$15:$G$1208,1)","v":{"$error":"#N/A"}},{"$f":"VLOOKUP(BP107,Liste_Noire!$B$15:$G$1208,5)","v":{"$error":"#N/A"}},{"$error":"#N/A"},null,0,0,0,0,0,0,1]
[null,""," ","","","","","",{"$f":"IF(ISBLANK(Trait_Etrangers!H108),\"\",Trait_Etrangers!H108)","v":""},{"$f":"IF(ISBLANK(Trait_Etrangers!I108),\"\",Trait_Etrangers!I108)","v":""},{"$f":"IF(ISBLANK(Trait_Etrangers!J108),\"\",Trait_Etrangers!J108)","v":""},{"$f":"IF(ISBLANK(Trait_Etrangers!K108),\"\",Trait_Etrangers!K108)","v":""},{"$f":"IF(ISBLANK(Trait_Etrangers!L108),\"\",Trait_Etrangers!L108)","v":""},{"$f":"IF(ISBLANK(Trait_Etrangers!M108),\"\",Trait_Etrangers!M108)","v":""},{"$f":"IF(ISBLANK(Trait_Etrangers!N108),\"\",Trait_Etrangers!N108)","v":""},{"$f":"IF(ISBLANK(Trait_Etrangers!O108),\"\",Trait_Etrangers!O108)","v":""},{"$f":"IF(ISBLANK(Trait_Etrangers!P108),\"\",Trait_Etrangers!P108)","v":""},null,{"$f":"IF(ISBLANK(Trait_Etrangers!R108),\"\",Trait_Etrangers!R108)","v":""},{"$f":"IF(ISBLANK(Trait_Etrangers!S108),\"\",Trait_Etrangers!S108)","v":""},{"$f":"IF(ISBLANK(Trait_Etrangers!T108),\"\",Trait_Etrangers!T108)","v":""},{"$f":"IF(ISBLANK(Trait_Etrangers!U108),\"\",Trait_Etrangers!U108)","v":""},null,null,null,"","",0,0,0,0,0,0,0,0,0,0,0,0,0,0,0,0,0,null,1,null,null,{"$f":"IF(AX108=\"\",\"\",IF(CE108=1,\"[b][color=red]\"&Datas!$D$32&\"[/color][/b]\"&AX108&\"[b][color=red]\"&Datas!$D$33&\"{\"&CD108&\"}[/color][/b]\",AX108))","v":{"$error":"#N/A"}},{"$error":"#N/A"}," ",{"$f":"IF(ISBLANK(Datas!$C$47),\"\",\" - \"&BG108)","v":{"$error":"#N/A"}},{"$f":"IF(ISBLANK(Datas!$C$48),\"\",\" - \"&BH108)","v":" - "},{"$f":"IF(ISBLANK(Datas!$C$49),\"\",\" - \"&BI108)","v":""},{"$f":"IF(ISBLANK(Datas!$C$50),\"\",\" - \"&BJ108)","v":" - Ecus:"},{"$f":"IF(ISBLANK(Datas!$C$51),\"\",\" - \"&BK108)","v":" - Niv: "},null,{"$error":"#N/A"},{"$error":"#N/A"},"","PR:","Ecus:","Niv: ",null,null,null,null,"",{"$f":"VLOOKUP(BP108,LstVillage!$B$8:$C$283,1)","v":{"$error":"#N/A"}},{"$error":"#N/A"},{"$error":"#N/A"},"",{"$f":"VLOOKUP(BT108,Datas!$G$6:$G$17,1)","v":{"$error":"#N/A"}},{"$error":"#N/A"},{"$error":"#N/A"},null,"",0,0,null,{"$f":"VLOOKUP(BP108,Liste_Noire!$B$15:$G$1208,1)","v":{"$error":"#N/A"}},{"$f":"VLOOKUP(BP108,Liste_Noire!$B$15:$G$1208,5)","v":{"$error":"#N/A"}},{"$error":"#N/A"},null,0,0,0,0,0,0,1]
[null,""," ","","","","","",{"$f":"IF(ISBLANK(Trait_Etrangers!H109),\"\",Trait_Etrangers!H109)","v":""},{"$f":"IF(ISBLANK(Trait_Etrangers!I109),\"\",Trait_Etrangers!I109)","v":""},{"$f":"IF(ISBLANK(Trait_Etrangers!J109),\"\",Trait_Etrangers!J109)","v":""},{"$f":"IF(ISBLANK(Trait_Etrangers!K109),\"\",Trait_Etrangers!K109)","v":""},{"$f":"IF(ISBLANK(Trait_Etrangers!L109),\"\",Trait_Etrangers!L109)","v":""},{"$f":"IF(ISBLANK(Trait_Etrangers!M109),\"\",Trait_Etrangers!M109)","v":""},{"$f":"IF(ISBLANK(Trait_Etrangers!N109),\"\",Trait_Etrangers!N109)","v":""},{"$f":"IF(ISBLANK(Trait_Etrangers!O109),\"\",Trait_Etrangers!O109)","v":""},{"$f":"IF(ISBLANK(Trait_Etrangers!P109),\"\",Trait_Etrangers!P109)","v":""},null,{"$f":"IF(ISBLANK(Trait_Etrangers!R109),\"\",Trait_Etrangers!R109)","v":""},{"$f":"IF(ISBLANK(Trait_Etrangers!S109),\"\",Trait_Etrangers!S109)","v":""},{"$f":"IF(ISBLANK(Trait_Etrangers!T109),\"\",Trait_Etrangers!T109)","v":""},{"$f":"IF(ISBLANK(Trait_Etrangers!U109),\"\",Trait_Etrangers!U109)","v":""},null,null,null,"","",0,0,0,0,0,0,0,0,0,0,0,0,0,0,0,0,0,null,1,null,null,{"$f":"IF(AX109=\"\",\"\",IF(CE109=1,\"[b][color=red]\"&Datas!$D$32&\"[/color][/b]\"&AX109&\"[b][color=red]\"&Datas!$D$33&\"{\"&CD109&\"}[/color][/b]\",AX109))","v":{"$error":"#N/A"}},{"$error":"#N/A"}," ",{"$f":"IF(ISBLANK(Datas!$C$47),\"\",\" - \"&BG109)","v":{"$error":"#N/A"}},{"$f":"IF(ISBLANK(Datas!$C$48),\"\",\" - \"&BH109)","v":" - "},{"$f":"IF(ISBLANK(Datas!$C$49),\"\",\" - \"&BI109)","v":""},{"$f":"IF(ISBLANK(Datas!$C$50),\"\",\" - \"&BJ109)","v":" - Ecus:"},{"$f":"IF(ISBLANK(Datas!$C$51),\"\",\" - \"&BK109)","v":" - Niv: "},null,{"$error":"#N/A"},{"$error":"#N/A"},"","PR:","Ecus:","Niv: ",null,null,null,null,"",{"$f":"VLOOKUP(BP109,LstVillage!$B$8:$C$283,1)","v":{"$error":"#N/A"}},{"$error":"#N/A"},{"$error":"#N/A"},"",{"$f":"VLOOKUP(BT109,Datas!$G$6:$G$17,1)","v":{"$error":"#N/A"}},{"$error":"#N/A"},{"$error":"#N/A"},null,"",0,0,null,{"$f":"VLOOKUP(BP109,Liste_Noire!$B$15:$G$1208,1)","v":{"$error":"#N/A"}},{"$f":"VLOOKUP(BP109,Liste_Noire!$B$15:$G$1208,5)","v":{"$error":"#N/A"}},{"$error":"#N/A"},null,0,0,0,0,0,0,1]
[null,""," ","","","","","",{"$f":"IF(ISBLANK(Trait_Etrangers!H110),\"\",Trait_Etrangers!H110)","v":""},{"$f":"IF(ISBLANK(Trait_Etrangers!I110),\"\",Trait_Etrangers!I110)","v":""},{"$f":"IF(ISBLANK(Trait_Etrangers!J110),\"\",Trait_Etrangers!J110)","v":""},{"$f":"IF(ISBLANK(Trait_Etrangers!K110),\"\",Trait_Etrangers!K110)","v":""},{"$f":"IF(ISBLANK(Trait_Etrangers!L110),\"\",Trait_Etrangers!L110)","v":""},{"$f":"IF(ISBLANK(Trait_Etrangers!M110),\"\",Trait_Etrangers!M110)","v":""},{"$f":"IF(ISBLANK(Trait_Etrangers!N110),\"\",Trait_Etrangers!N110)","v":""},{"$f":"IF(ISBLANK(Trait_Etrangers!O110),\"\",Trait_Etrangers!O110)","v":""},{"$f":"IF(ISBLANK(Trait_Etrangers!P110),\"\",Trait_Etrangers!P110)","v":""},null,{"$f":"IF(ISBLANK(Trait_Etrangers!R110),\"\",Trait_Etrangers!R110)","v":""},{"$f":"IF(ISBLANK(Trait_Etrangers!S110),\"\",Trait_Etrangers!S110)","v":""},{"$f":"IF(ISBLANK(Trait_Etrangers!T110),\"\",Trait_Etrangers!T110)","v":""},{"$f":"IF(ISBLANK(Trait_Etrangers!U110),\"\",Trait_Etrangers!U110)","v":""},null,null,null,"","",0,0,0,0,0,0,0,0,0,0,0,0,0,0,0,0,0,null,1,null,null,{"$f":"IF(AX110=\"\",\"\",IF(CE110=1,\"[b][color=red]\"&Datas!$D$32&\"[/color][/b]\"&AX110&\"[b][color=red]\"&Datas!$D$33&\"{\"&CD110&\"}[/color][/b]\",AX110))","v":{"$error":"#N/A"}},{"$error":"#N/A"}," ",{"$f":"IF(ISBLANK(Datas!$C$47),\"\",\" - \"&BG110)","v":{"$error":"#N/A"}},{"$f":"IF(ISBLANK(Datas!$C$48),\"\",\" - \"&BH110)","v":" - "},{"$f":"IF(ISBLANK(Datas!$C$49),\"\",\" - \"&BI110)","v":""},{"$f":"IF(ISBLANK(Datas!$C$50),\"\",\" - \"&BJ110)","v":" - Ecus:"},{"$f":"IF(ISBLANK(Datas!$C$51),\"\",\" - \"&BK110)","v":" - Niv: "},null,{"$error":"#N/A"},{"$error":"#N/A"},"","PR:","Ecus:","Niv: ",null,null,null,null,"",{"$f":"VLOOKUP(BP110,LstVillage!$B$8:$C$283,1)","v":{"$error":"#N/A"}},{"$error":"#N/A"},{"$error":"#N/A"},"",{"$f":"VLOOKUP(BT110,Datas!$G$6:$G$17,1)","v":{"$error":"#N/A"}},{"$error":"#N/A"},{"$error":"#N/A"},null,"",0,0,null,{"$f":"VLOOKUP(BP110,Liste_Noire!$B$15:$G$1208,1)","v":{"$error":"#N/A"}},{"$f":"VLOOKUP(BP110,Liste_Noire!$B$15:$G$1208,5)","v":{"$error":"#N/A"}},{"$error":"#N/A"},null,0,0,0,0,0,0,1]
[null,""," ","","","","","",{"$f":"IF(ISBLANK(Trait_Etrangers!H111),\"\",Trait_Etrangers!H111)","v":""},{"$f":"IF(ISBLANK(Trait_Etrangers!I111),\"\",Trait_Etrangers!I111)","v":""},{"$f":"IF(ISBLANK(Trait_Etrangers!J111),\"\",Trait_Etrangers!J111)","v":""},{"$f":"IF(ISBLANK(Trait_Etrangers!K111),\"\",Trait_Etrangers!K111)","v":""},{"$f":"IF(ISBLANK(Trait_Etrangers!L111),\"\",Trait_Etrangers!L111)","v":""},{"$f":"IF(ISBLANK(Trait_Etrangers!M111),\"\",Trait_Etrangers!M111)","v":""},{"$f":"IF(ISBLANK(Trait_Etrangers!N111),\"\",Trait_Etrangers!N111)","v":""},{"$f":"IF(ISBLANK(Trait_Etrangers!O111),\"\",Trait_Etrangers!O111)","v":""},{"$f":"IF(ISBLANK(Trait_Etrangers!P111),\"\",Trait_Etrangers!P111)","v":""},null,{"$f":"IF(ISBLANK(Trait_Etrangers!R111),\"\",Trait_Etrangers!R111)","v":""},{"$f":"IF(ISBLANK(Trait_Etrangers!S111),\"\",Trait_Etrangers!S111)","v":""},{"$f":"IF(ISBLANK(Trait_Etrangers!T111),\"\",Trait_Etrangers!T111)","v":""},{"$f":"IF(ISBLANK(Trait_Etrangers!U111),\"\",Trait_Etrangers!U111)","v":""},null,null,null,"","",0,0,0,0,0,0,0,0,0,0,0,0,0,0,0,0,0,null,1,null,null,{"$f":"IF(AX111=\"\",\"\",IF(CE111=1,\"[b][color=red]\"&Datas!$D$32&\"[/color][/b]\"&AX111&\"[b][color=red]\"&Datas!$D$33&\"{\"&CD111&\"}[/color][/b]\",AX111))","v":{"$error":"#N/A"}},{"$error":"#N/A"}," ",{"$f":"IF(ISBLANK(Datas!$C$47),\"\",\" - \"&BG111)","v":{"$error":"#N/A"}},{"$f":"IF(ISBLANK(Datas!$C$48),\"\",\" - \"&BH111)","v":" - "},{"$f":"IF(ISBLANK(Datas!$C$49),\"\",\" - \"&BI111)","v":""},{"$f":"IF(ISBLANK(Datas!$C$50),\"\",\" - \"&BJ111)","v":" - Ecus:"},{"$f":"IF(ISBLANK(Datas!$C$51),\"\",\" - \"&BK111)","v":" - Niv: "},null,{"$error":"#N/A"},{"$error":"#N/A"},"","PR:","Ecus:","Niv: ",null,null,null,null,"",{"$f":"VLOOKUP(BP111,LstVillage!$B$8:$C$283,1)","v":{"$error":"#N/A"}},{"$error":"#N/A"},{"$error":"#N/A"},"",{"$f":"VLOOKUP(BT111,Datas!$G$6:$G$17,1)","v":{"$error":"#N/A"}},{"$error":"#N/A"},{"$error":"#N/A"},null,"",0,0,null,{"$f":"VLOOKUP(BP111,Liste_Noire!$B$15:$G$1208,1)","v":{"$error":"#N/A"}},{"$f":"VLOOKUP(BP111,Liste_Noire!$B$15:$G$1208,5)","v":{"$error":"#N/A"}},{"$error":"#N/A"},null,0,0,0,0,0,0,1]
[null,""," ","","","","","",{"$f":"IF(ISBLANK(Trait_Etrangers!H112),\"\",Trait_Etrangers!H112)","v":""},{"$f":"IF(ISBLANK(Trait_Etrangers!I112),\"\",Trait_Etrangers!I112)","v":""},{"$f":"IF(ISBLANK(Trait_Etrangers!J112),\"\",Trait_Etrangers!J112)","v":""},{"$f":"IF(ISBLANK(Trait_Etrangers!K112),\"\",Trait_Etrangers!K112)","v":""},{"$f":"IF(ISBLANK(Trait_Etrangers!L112),\"\",Trait_Etrangers!L112)","v":""},{"$f":"IF(ISBLANK(Trait_Etrangers!M112),\"\",Trait_Etrangers!M112)","v":""},{"$f":"IF(ISBLANK(Trait_Etrangers!N112),\"\",Trait_Etrangers!N112)","v":""},{"$f":"IF(ISBLANK(Trait_Etrangers!O112),\"\",Trait_Etrangers!O112)","v":""},{"$f":"IF(ISBLANK(Trait_Etrangers!P112),\"\",Trait_Etrangers!P112)","v":""},null,{"$f":"IF(ISBLANK(Trait_Etrangers!R112),\"\",Trait_Etrangers!R112)","v":""},{"$f":"IF(ISBLANK(Trait_Etrangers!S112),\"\",Trait_Etrangers!S112)","v":""},{"$f":"IF(ISBLANK(Trait_Etrangers!T112),\"\",Trait_Etrangers!T112)","v":""},{"$f":"IF(ISBLANK(Trait_Etrangers!U112),\"\",Trait_Etrangers!U112)","v":""},null,null,null,"","",0,0,0,0,0,0,0,0,0,0,0,0,0,0,0,0,0,null,1,null,null,{"$f":"IF(AX112=\"\",\"\",IF(CE112=1,\"[b][color=red]\"&Datas!$D$32&\"[/color][/b]\"&AX112&\"[b][color=red]\"&Datas!$D$33&\"{\"&CD112&\"}[/color][/b]\",AX112))","v":{"$error":"#N/A"}},{"$error":"#N/A"}," ",{"$f":"IF(ISBLANK(Datas!$C$47),\"\",\" - \"&BG112)","v":{"$error":"#N/A"}},{"$f":"IF(ISBLANK(Datas!$C$48),\"\",\" - \"&BH112)","v":" - "},{"$f":"IF(ISBLANK(Datas!$C$49),\"\",\" - \"&BI112)","v":""},{"$f":"IF(ISBLANK(Datas!$C$50),\"\",\" - \"&BJ112)","v":" - Ecus:"},{"$f":"IF(ISBLANK(Datas!$C$51),\"\",\" - \"&BK112)","v":" - Niv: "},null,{"$error":"#N/A"},{"$error":"#N/A"},"","PR:","Ecus:","Niv: ",null,null,null,null,"",{"$f":"VLOOKUP(BP112,LstVillage!$B$8:$C$283,1)","v":{"$error":"#N/A"}},{"$error":"#N/A"},{"$error":"#N/A"},"",{"$f":"VLOOKUP(BT112,Datas!$G$6:$G$17,1)","v":{"$error":"#N/A"}},{"$error":"#N/A"},{"$error":"#N/A"},null,"",0,0,null,{"$f":"VLOOKUP(BP112,Liste_Noire!$B$15:$G$1208,1)","v":{"$error":"#N/A"}},{"$f":"VLOOKUP(BP112,Liste_Noire!$B$15:$G$1208,5)","v":{"$error":"#N/A"}},{"$error":"#N/A"},null,0,0,0,0,0,0,1]
[null,""," ","","","","","",{"$f":"IF(ISBLANK(Trait_Etrangers!H113),\"\",Trait_Etrangers!H113)","v":""},{"$f":"IF(ISBLANK(Trait_Etrangers!I113),\"\",Trait_Etrangers!I113)","v":""},{"$f":"IF(ISBLANK(Trait_Etrangers!J113),\"\",Trait_Etrangers!J113)","v":""},{"$f":"IF(ISBLANK(Trait_Etrangers!K113),\"\",Trait_Etrangers!K113)","v":""},{"$f":"IF(ISBLANK(Trait_Etrangers!L113),\"\",Trait_Etrangers!L113)","v":""},{"$f":"IF(ISBLANK(Trait_Etrangers!M113),\"\",Trait_Etrangers!M113)","v":""},{"$f":"IF(ISBLANK(Trait_Etrangers!N113),\"\",Trait_Etrangers!N113)","v":""},{"$f":"IF(ISBLANK(Trait_Etrangers!O113),\"\",Trait_Etrangers!O113)","v":""},{"$f":"IF(ISBLANK(Trait_Etrangers!P113),\"\",Trait_Etrangers!P113)","v":""},null,{"$f":"IF(ISBLANK(Trait_Etrangers!R113),\"\",Trait_Etrangers!R113)","v":""},{"$f":"IF(ISBLANK(Trait_Etrangers!S113),\"\",Trait_Etrangers!S113)","v":""},{"$f":"IF(ISBLANK(Trait_Etrangers!T113),\"\",Trait_Etrangers!T113)","v":""},{"$f":"IF(ISBLANK(Trait_Etrangers!U113),\"\",Trait_Etrangers!U113)","v":""},null,null,null,"","",0,0,0,0,0,0,0,0,0,0,0,0,0,0,0,0,0,null,1,null,null,{"$f":"IF(AX113=\"\",\"\",IF(CE113=1,\"[b][color=red]\"&Datas!$D$32&\"[/color][/b]\"&AX113&\"[b][color=red]\"&Datas!$D$33&\"{\"&CD113&\"}[/color][/b]\",AX113))","v":{"$error":"#N/A"}},{"$error":"#N/A"}," ",{"$f":"IF(ISBLANK(Datas!$C$47),\"\",\" - \"&BG113)","v":{"$error":"#N/A"}},{"$f":"IF(ISBLANK(Datas!$C$48),\"\",\" - \"&BH113)","v":" - "},{"$f":"IF(ISBLANK(Datas!$C$49),\"\",\" - \"&BI113)","v":""},{"$f":"IF(ISBLANK(Datas!$C$50),\"\",\" - \"&BJ113)","v":" - Ecus:"},{"$f":"IF(ISBLANK(Datas!$C$51),\"\",\" - \"&BK113)","v":" - Niv: "},null,{"$error":"#N/A"},{"$error":"#N/A"},"","PR:","Ecus:","Niv: ",null,null,null,null,"",{"$f":"VLOOKUP(BP113,LstVillage!$B$8:$C$283,1)","v":{"$error":"#N/A"}},{"$error":"#N/A"},{"$error":"#N/A"},"",{"$f":"VLOOKUP(BT113,Datas!$G$6:$G$17,1)","v":{"$error":"#N/A"}},{"$error":"#N/A"},{"$error":"#N/A"},null,"",0,0,null,{"$f":"VLOOKUP(BP113,Liste_Noire!$B$15:$G$1208,1)","v":{"$error":"#N/A"}},{"$f":"VLOOKUP(BP113,Liste_Noire!$B$15:$G$1208,5)","v":{"$error":"#N/A"}},{"$error":"#N/A"},null,0,0,0,0,0,0,1]
[null,""," ","","","","","",{"$f":"IF(ISBLANK(Trait_Etrangers!H114),\"\",Trait_Etrangers!H114)","v":""},{"$f":"IF(ISBLANK(Trait_Etrangers!I114),\"\",Trait_Etrangers!I114)","v":""},{"$f":"IF(ISBLANK(Trait_Etrangers!J114),\"\",Trait_Etrangers!J114)","v":""},{"$f":"IF(ISBLANK(Trait_Etrangers!K114),\"\",Trait_Etrangers!K114)","v":""},{"$f":"IF(ISBLANK(Trait_Etrangers!L114),\"\",Trait_Etrangers!L114)","v":""},{"$f":"IF(ISBLANK(Trait_Etrangers!M114),\"\",Trait_Etrangers!M114)","v":""},{"$f":"IF(ISBLANK(Trait_Etrangers!N114),\"\",Trait_Etrangers!N114)","v":""},{"$f":"IF(ISBLANK(Trait_Etrangers!O114),\"\",Trait_Etrangers!O114)","v":""},{"$f":"IF(ISBLANK(Trait_Etrangers!P114),\"\",Trait_Etrangers!P114)","v":""},null,{"$f":"IF(ISBLANK(Trait_Etrangers!R114),\"\",Trait_Etrangers!R114)","v":""},{"$f":"IF(ISBLANK(Trait_Etrangers!S114),\"\",Trait_Etrangers!S114)","v":""},{"$f":"IF(ISBLANK(Trait_Etrangers!T114),\"\",Trait_Etrangers!T114)","v":""},{"$f":"IF(ISBLANK(Trait_Etrangers!U114),\"\",Trait_Etrangers!U114)","v":""},null,null,null,"","",0,0,0,0,0,0,0,0,0,0,0,0,0,0,0,0,0,null,1,null,null,{"$f":"IF(AX114=\"\",\"\",IF(CE114=1,\"[b][color=red]\"&Datas!$D$32&\"[/color][/b]\"&AX114&\"[b][color=red]\"&Datas!$D$33&\"{\"&CD114&\"}[/color][/b]\",AX114))","v":{"$error":"#N/A"}},{"$error":"#N/A"}," ",{"$f":"IF(ISBLANK(Datas!$C$47),\"\",\" - \"&BG114)","v":{"$error":"#N/A"}},{"$f":"IF(ISBLANK(Datas!$C$48),\"\",\" - \"&BH114)","v":" - "},{"$f":"IF(ISBLANK(Datas!$C$49),\"\",\" - \"&BI114)","v":""},{"$f":"IF(ISBLANK(Datas!$C$50),\"\",\" - \"&BJ114)","v":" - Ecus:"},{"$f":"IF(ISBLANK(Datas!$C$51),\"\",\" - \"&BK114)","v":" - Niv: "},null,{"$error":"#N/A"},{"$error":"#N/A"},"","PR:","Ecus:","Niv: ",null,null,null,null,"",{"$f":"VLOOKUP(BP114,LstVillage!$B$8:$C$283,1)","v":{"$error":"#N/A"}},{"$error":"#N/A"},{"$error":"#N/A"},"",{"$f":"VLOOKUP(BT114,Datas!$G$6:$G$17,1)","v":{"$error":"#N/A"}},{"$error":"#N/A"},{"$error":"#N/A"},null,"",0,0,null,{"$f":"VLOOKUP(BP114,Liste_Noire!$B$15:$G$1208,1)","v":{"$error":"#N/A"}},{"$f":"VLOOKUP(BP114,Liste_Noire!$B$15:$G$1208,5)","v":{"$error":"#N/A"}},{"$error":"#N/A"},null,0,0,0,0,0,0,1]
[null,""," ","","","","","",{"$f":"IF(ISBLANK(Trait_Etrangers!H115),\"\",Trait_Etrangers!H115)","v":""},{"$f":"IF(ISBLANK(Trait_Etrangers!I115),\"\",Trait_Etrangers!I115)","v":""},{"$f":"IF(ISBLANK(Trait_Etrangers!J115),\"\",Trait_Etrangers!J115)","v":""},{"$f":"IF(ISBLANK(Trait_Etrangers!K115),\"\",Trait_Etrangers!K115)","v":""},{"$f":"IF(ISBLANK(Trait_Etrangers!L115),\"\",Trait_Etrangers!L115)","v":""},{"$f":"IF(ISBLANK(Trait_Etrangers!M115),\"\",Trait_Etrangers!M115)","v":""},{"$f":"IF(ISBLANK(Trait_Etrangers!N115),\"\",Trait_Etrangers!N115)","v":""},{"$f":"IF(ISBLANK(Trait_Etrangers!O115),\"\",Trait_Etrangers!O115)","v":""},{"$f":"IF(ISBLANK(Trait_Etrangers!P115),\"\",Trait_Etrangers!P115)","v":""},null,{"$f":"IF(ISBLANK(Trait_Etrangers!R115),\"\",Trait_Etrangers!R115)","v":""},{"$f":"IF(ISBLANK(Trait_Etrangers!S115),\"\",Trait_Etrangers!S115)","v":""},{"$f":"IF(ISBLANK(Trait_Etrangers!T115),\"\",Trait_Etrangers!T115)","v":""},{"$f":"IF(ISBLANK(Trait_Etrangers!U115),\"\",Trait_Etrangers!U115)","v":""},null,null,null,"","",0,0,0,0,0,0,0,0,0,0,0,0,0,0,0,0,0,null,1,null,null,{"$f":"IF(AX115=\"\",\"\",IF(CE115=1,\"[b][color=red]\"&Datas!$D$32&\"[/color][/b]\"&AX115&\"[b][color=red]\"&Datas!$D$33&\"{\"&CD115&\"}[/color][/b]\",AX115))","v":{"$error":"#N/A"}},{"$error":"#N/A"}," ",{"$f":"IF(ISBLANK(Datas!$C$47),\"\",\" - \"&BG115)","v":{"$error":"#N/A"}},{"$f":"IF(ISBLANK(Datas!$C$48),\"\",\" - \"&BH115)","v":" - "},{"$f":"IF(ISBLANK(Datas!$C$49),\"\",\" - \"&BI115)","v":""},{"$f":"IF(ISBLANK(Datas!$C$50),\"\",\" - \"&BJ115)","v":" - Ecus:"},{"$f":"IF(ISBLANK(Datas!$C$51),\"\",\" - \"&BK115)","v":" - Niv: "},null,{"$error":"#N/A"},{"$error":"#N/A"},"","PR:","Ecus:","Niv: ",null,null,null,null,"",{"$f":"VLOOKUP(BP115,LstVillage!$B$8:$C$283,1)","v":{"$error":"#N/A"}},{"$error":"#N/A"},{"$error":"#N/A"},"",{"$f":"VLOOKUP(BT115,Datas!$G$6:$G$17,1)","v":{"$error":"#N/A"}},{"$error":"#N/A"},{"$error":"#N/A"},null,"",0,0,null,{"$f":"VLOOKUP(BP115,Liste_Noire!$B$15:$G$1208,1)","v":{"$error":"#N/A"}},{"$f":"VLOOKUP(BP115,Liste_Noire!$B$15:$G$1208,5)","v":{"$error":"#N/A"}},{"$error":"#N/A"},null,0,0,0,0,0,0,1]
[null,""," ","","","","","",{"$f":"IF(ISBLANK(Trait_Etrangers!H116),\"\",Trait_Etrangers!H116)","v":""},{"$f":"IF(ISBLANK(Trait_Etrangers!I116),\"\",Trait_Etrangers!I116)","v":""},{"$f":"IF(ISBLANK(Trait_Etrangers!J116),\"\",Trait_Etrangers!J116)","v":""},{"$f":"IF(ISBLANK(Trait_Etrangers!K116),\"\",Trait_Etrangers!K116)","v":""},{"$f":"IF(ISBLANK(Trait_Etrangers!L116),\"\",Trait_Etrangers!L116)","v":""},{"$f":"IF(ISBLANK(Trait_Etrangers!M116),\"\",Trait_Etrangers!M116)","v":""},{"$f":"IF(ISBLANK(Trait_Etrangers!N116),\"\",Trait_Etrangers!N116)","v":""},{"$f":"IF(ISBLANK(Trait_Etrangers!O116),\"\",Trait_Etrangers!O116)","v":""},{"$f":"IF(ISBLANK(Trait_Etrangers!P116),\"\",Trait_Etrangers!P116)","v":""},null,{"$f":"IF(ISBLANK(Trait_Etrangers!R116),\"\",Trait_Etrangers!R116)","v":""},{"$f":"IF(ISBLANK(Trait_Etrangers!S116),\"\",Trait_Etrangers!S116)","v":""},{"$f":"IF(ISBLANK(Trait_Etrangers!T116),\"\",Trait_Etrangers!T116)","v":""},{"$f":"IF(ISBLANK(Trait_Etrangers!U116),\"\",Trait_Etrangers!U116)","v":""},null,null,null,"","",0,0,0,0,0,0,0,0,0,0,0,0,0,0,0,0,0,null,1,null,null,{"$f":"IF(AX116=\"\",\"\",IF(CE116=1,\"[b][color=red]\"&Datas!$D$32&\"[/color][/b]\"&AX116&\"[b][color=red]\"&Datas!$D$33&\"{\"&CD116&\"}[/color][/b]\",AX116))","v":{"$error":"#N/A"}},{"$error":"#N/A"}," ",{"$f":"IF(ISBLANK(Datas!$C$47),\"\",\" - \"&BG116)","v":{"$error":"#N/A"}},{"$f":"IF(ISBLANK(Datas!$C$48),\"\",\" - \"&BH116)","v":" - "},{"$f":"IF(ISBLANK(Datas!$C$49),\"\",\" - \"&BI116)","v":""},{"$f":"IF(ISBLANK(Datas!$C$50),\"\",\" - \"&BJ116)","v":" - Ecus:"},{"$f":"IF(ISBLANK(Datas!$C$51),\"\",\" - \"&BK116)","v":" - Niv: "},null,{"$error":"#N/A"},{"$error":"#N/A"},"","PR:","Ecus:","Niv: ",null,null,null,null,"",{"$f":"VLOOKUP(BP116,LstVillage!$B$8:$C$283,1)","v":{"$error":"#N/A"}},{"$error":"#N/A"},{"$error":"#N/A"},"",{"$f":"VLOOKUP(BT116,Datas!$G$6:$G$17,1)","v":{"$error":"#N/A"}},{"$error":"#N/A"},{"$error":"#N/A"},null,"",0,0,null,{"$f":"VLOOKUP(BP116,Liste_Noire!$B$15:$G$1208,1)","v":{"$error":"#N/A"}},{"$f":"VLOOKUP(BP116,Liste_Noire!$B$15:$G$1208,5)","v":{"$error":"#N/A"}},{"$error":"#N/A"},null,0,0,0,0,0,0,1]
[null,""," ","","","","","",{"$f":"IF(ISBLANK(Trait_Etrangers!H117),\"\",Trait_Etrangers!H117)","v":""},{"$f":"IF(ISBLANK(Trait_Etrangers!I117),\"\",Trait_Etrangers!I117)","v":""},{"$f":"IF(ISBLANK(Trait_Etrangers!J117),\"\",Trait_Etrangers!J117)","v":""},{"$f":"IF(ISBLANK(Trait_Etrangers!K117),\"\",Trait_Etrangers!K117)","v":""},{"$f":"IF(ISBLANK(Trait_Etrangers!L117),\"\",Trait_Etrangers!L117)","v":""},{"$f":"IF(ISBLANK(Trait_Etrangers!M117),\"\",Trait_Etrangers!M117)","v":""},{"$f":"IF(ISBLANK(Trait_Etrangers!N117),\"\",Trait_Etrangers!N117)","v":""},{"$f":"IF(ISBLANK(Trait_Etrangers!O117),\"\",Trait_Etrangers!O117)","v":""},{"$f":"IF(ISBLANK(Trait_Etrangers!P117),\"\",Trait_Etrangers!P117)","v":""},null,{"$f":"IF(ISBLANK(Trait_Etrangers!R117),\"\",Trait_Etrangers!R117)","v":""},{"$f":"IF(ISBLANK(Trait_Etrangers!S117),\"\",Trait_Etrangers!S117)","v":""},{"$f":"IF(ISBLANK(Trait_Etrangers!T117),\"\",Trait_Etrangers!T117)","v":""},{"$f":"IF(ISBLANK(Trait_Etrangers!U117),\"\",Trait_Etrangers!U117)","v":""},null,null,null,"","",0,0,0,0,0,0,0,0,0,0,0,0,0,0,0,0,0,null,1,null,null,{"$f":"IF(AX117=\"\",\"\",IF(CE117=1,\"[b][color=red]\"&Datas!$D$32&\"[/color][/b]\"&AX117&\"[b][color=red]\"&Datas!$D$33&\"{\"&CD117&\"}[/color][/b]\",AX117))","v":{"$error":"#N/A"}},{"$error":"#N/A"}," ",{"$f":"IF(ISBLANK(Datas!$C$47),\"\",\" - \"&BG117)","v":{"$error":"#N/A"}},{"$f":"IF(ISBLANK(Datas!$C$48),\"\",\" - \"&BH117)","v":" - "},{"$f":"IF(ISBLANK(Datas!$C$49),\"\",\" - \"&BI117)","v":""},{"$f":"IF(ISBLANK(Datas!$C$50),\"\",\" - \"&BJ117)","v":" - Ecus:"},{"$f":"IF(ISBLANK(Datas!$C$51),\"\",\" - \"&BK117)","v":" - Niv: "},null,{"$error":"#N/A"},{"$error":"#N/A"},"","PR:","Ecus:","Niv: ",null,null,null,null,"",{"$f":"VLOOKUP(BP117,LstVillage!$B$8:$C$283,1)","v":{"$error":"#N/A"}},{"$error":"#N/A"},{"$error":"#N/A"},"",{"$f":"VLOOKUP(BT117,Datas!$G$6:$G$17,1)","v":{"$error":"#N/A"}},{"$error":"#N/A"},{"$error":"#N/A"},null,"",0,0,null,{"$f":"VLOOKUP(BP117,Liste_Noire!$B$15:$G$1208,1)","v":{"$error":"#N/A"}},{"$f":"VLOOKUP(BP117,Liste_Noire!$B$15:$G$1208,5)","v":{"$error":"#N/A"}},{"$error":"#N/A"},null,0,0,0,0,0,0,1]
[null,""," ","","","","","",{"$f":"IF(ISBLANK(Trait_Etrangers!H118),\"\",Trait_Etrangers!H118)","v":""},{"$f":"IF(ISBLANK(Trait_Etrangers!I118),\"\",Trait_Etrangers!I118)","v":""},{"$f":"IF(ISBLANK(Trait_Etrangers!J118),\"\",Trait_Etrangers!J118)","v":""},{"$f":"IF(ISBLANK(Trait_Etrangers!K118),\"\",Trait_Etrangers!K118)","v":""},{"$f":"IF(ISBLANK(Trait_Etrangers!L118),\"\",Trait_Etrangers!L118)","v":""},{"$f":"IF(ISBLANK(Trait_Etrangers!M118),\"\",Trait_Etrangers!M118)","v":""},{"$f":"IF(ISBLANK(Trait_Etrangers!N118),\"\",Trait_Etrangers!N118)","v":""},{"$f":"IF(ISBLANK(Trait_Etrangers!O118),\"\",Trait_Etrangers!O118)","v":""},{"$f":"IF(ISBLANK(Trait_Etrangers!P118),\"\",Trait_Etrangers!P118)","v":""},null,{"$f":"IF(ISBLANK(Trait_Etrangers!R118),\"\",Trait_Etrangers!R118)","v":""},{"$f":"IF(ISBLANK(Trait_Etrangers!S118),\"\",Trait_Etrangers!S118)","v":""},{"$f":"IF(ISBLANK(Trait_Etrangers!T118),\"\",Trait_Etrangers!T118)","v":""},{"$f":"IF(ISBLANK(Trait_Etrangers!U118),\"\",Trait_Etrangers!U118)","v":""},null,null,null,"","",0,0,0,0,0,0,0,0,0,0,0,0,0,0,0,0,0,null,1,null,null,{"$f":"IF(AX118=\"\",\"\",IF(CE118=1,\"[b][color=red]\"&Datas!$D$32&\"[/color][/b]\"&AX118&\"[b][color=red]\"&Datas!$D$33&\"{\"&CD118&\"}[/color][/b]\",AX118))","v":{"$error":"#N/A"}},{"$error":"#N/A"}," ",{"$f":"IF(ISBLANK(Datas!$C$47),\"\",\" - \"&BG118)","v":{"$error":"#N/A"}},{"$f":"IF(ISBLANK(Datas!$C$48),\"\",\" - \"&BH118)","v":" - "},{"$f":"IF(ISBLANK(Datas!$C$49),\"\",\" - \"&BI118)","v":""},{"$f":"IF(ISBLANK(Datas!$C$50),\"\",\" - \"&BJ118)","v":" - Ecus:"},{"$f":"IF(ISBLANK(Datas!$C$51),\"\",\" - \"&BK118)","v":" - Niv: "},null,{"$error":"#N/A"},{"$error":"#N/A"},"","PR:","Ecus:","Niv: ",null,null,null,null,"",{"$f":"VLOOKUP(BP118,LstVillage!$B$8:$C$283,1)","v":{"$error":"#N/A"}},{"$error":"#N/A"},{"$error":"#N/A"},"",{"$f":"VLOOKUP(BT118,Datas!$G$6:$G$17,1)","v":{"$error":"#N/A"}},{"$error":"#N/A"},{"$error":"#N/A"},null,"",0,0,null,{"$f":"VLOOKUP(BP118,Liste_Noire!$B$15:$G$1208,1)","v":{"$error":"#N/A"}},{"$f":"VLOOKUP(BP118,Liste_Noire!$B$15:$G$1208,5)","v":{"$error":"#N/A"}},{"$error":"#N/A"},null,0,0,0,0,0,0,1]
[null,""," ","","","","","",{"$f":"IF(ISBLANK(Trait_Etrangers!H119),\"\",Trait_Etrangers!H119)","v":""},{"$f":"IF(ISBLANK(Trait_Etrangers!I119),\"\",Trait_Etrangers!I119)","v":""},{"$f":"IF(ISBLANK(Trait_Etrangers!J119),\"\",Trait_Etrangers!J119)","v":""},{"$f":"IF(ISBLANK(Trait_Etrangers!K119),\"\",Trait_Etrangers!K119)","v":""},{"$f":"IF(ISBLANK(Trait_Etrangers!L119),\"\",Trait_Etrangers!L119)","v":""},{"$f":"IF(ISBLANK(Trait_Etrangers!M119),\"\",Trait_Etrangers!M119)","v":""},{"$f":"IF(ISBLANK(Trait_Etrangers!N119),\"\",Trait_Etrangers!N119)","v":""},{"$f":"IF(ISBLANK(Trait_Etrangers!O119),\"\",Trait_Etrangers!O119)","v":""},{"$f":"IF(ISBLANK(Trait_Etrangers!P119),\"\",Trait_Etrangers!P119)","v":""},null,{"$f":"IF(ISBLANK(Trait_Etrangers!R119),\"\",Trait_Etrangers!R119)","v":""},{"$f":"IF(ISBLANK(Trait_Etrangers!S119),\"\",Trait_Etrangers!S119)","v":""},{"$f":"IF(ISBLANK(Trait_Etrangers!T119),\"\",Trait_Etrangers!T119)","v":""},{"$f":"IF(ISBLANK(Trait_Etrangers!U119),\"\",Trait_Etrangers!U119)","v":""},null,null,null,"","",0,0,0,0,0,0,0,0,0,0,0,0,0,0,0,0,0,null,1,null,null,{"$f":"IF(AX119=\"\",\"\",IF(CE119=1,\"[b][color=red]\"&Datas!$D$32&\"[/color][/b]\"&AX119&\"[b][color=red]\"&Datas!$D$33&\"{\"&CD119&\"}[/color][/b]\",AX119))","v":{"$error":"#N/A"}},{"$error":"#N/A"}," ",{"$f":"IF(ISBLANK(Datas!$C$47),\"\",\" - \"&BG119)","v":{"$error":"#N/A"}},{"$f":"IF(ISBLANK(Datas!$C$48),\"\",\" - \"&BH119)","v":" - "},{"$f":"IF(ISBLANK(Datas!$C$49),\"\",\" - \"&BI119)","v":""},{"$f":"IF(ISBLANK(Datas!$C$50),\"\",\" - \"&BJ119)","v":" - Ecus:"},{"$f":"IF(ISBLANK(Datas!$C$51),\"\",\" - \"&BK119)","v":" - Niv: "},null,{"$error":"#N/A"},{"$error":"#N/A"},"","PR:","Ecus:","Niv: ",null,null,null,null,"",{"$f":"VLOOKUP(BP119,LstVillage!$B$8:$C$283,1)","v":{"$error":"#N/A"}},{"$error":"#N/A"},{"$error":"#N/A"},"",{"$f":"VLOOKUP(BT119,Datas!$G$6:$G$17,1)","v":{"$error":"#N/A"}},{"$error":"#N/A"},{"$error":"#N/A"},null,"",0,0,null,{"$f":"VLOOKUP(BP119,Liste_Noire!$B$15:$G$1208,1)","v":{"$error":"#N/A"}},{"$f":"VLOOKUP(BP119,Liste_Noire!$B$15:$G$1208,5)","v":{"$error":"#N/A"}},{"$error":"#N/A"},null,0,0,0,0,0,0,1]
[null,""," ","","","","","",{"$f":"IF(ISBLANK(Trait_Etrangers!H120),\"\",Trait_Etrangers!H120)","v":""},{"$f":"IF(ISBLANK(Trait_Etrangers!I120),\"\",Trait_Etrangers!I120)","v":""},{"$f":"IF(ISBLANK(Trait_Etrangers!J120),\"\",Trait_Etrangers!J120)","v":""},{"$f":"IF(ISBLANK(Trait_Etrangers!K120),\"\",Trait_Etrangers!K120)","v":""},{"$f":"IF(ISBLANK(Trait_Etrangers!L120),\"\",Trait_Etrangers!L120)","v":""},{"$f":"IF(ISBLANK(Trait_Etrangers!M120),\"\",Trait_Etrangers!M120)","v":""},{"$f":"IF(ISBLANK(Trait_Etrangers!N120),\"\",Trait_Etrangers!N120)","v":""},{"$f":"IF(ISBLANK(Trait_Etrangers!O120),\"\",Trait_Etrangers!O120)","v":""},{"$f":"IF(ISBLANK(Trait_Etrangers!P120),\"\",Trait_Etrangers!P120)","v":""},null,{"$f":"IF(ISBLANK(Trait_Etrangers!R120),\"\",Trait_Etrangers!R120)","v":""},{"$f":"IF(ISBLANK(Trait_Etrangers!S120),\"\",Trait_Etrangers!S120)","v":""},{"$f":"IF(ISBLANK(Trait_Etrangers!T120),\"\",Trait_Etrangers!T120)","v":""},{"$f":"IF(ISBLANK(Trait_Etrangers!U120),\"\",Trait_Etrangers!U120)","v":""},null,null,null,"","",0,0,0,0,0,0,0,0,0,0,0,0,0,0,0,0,0,null,1,null,null,{"$f":"IF(AX120=\"\",\"\",IF(CE120=1,\"[b][color=red]\"&Datas!$D$32&\"[/color][/b]\"&AX120&\"[b][color=red]\"&Datas!$D$33&\"{\"&CD120&\"}[/color][/b]\",AX120))","v":{"$error":"#N/A"}},{"$error":"#N/A"}," ",{"$f":"IF(ISBLANK(Datas!$C$47),\"\",\" - \"&BG120)","v":{"$error":"#N/A"}},{"$f":"IF(ISBLANK(Datas!$C$48),\"\",\" - \"&BH120)","v":" - "},{"$f":"IF(ISBLANK(Datas!$C$49),\"\",\" - \"&BI120)","v":""},{"$f":"IF(ISBLANK(Datas!$C$50),\"\",\" - \"&BJ120)","v":" - Ecus:"},{"$f":"IF(ISBLANK(Datas!$C$51),\"\",\" - \"&BK120)","v":" - Niv: "},null,{"$error":"#N/A"},{"$error":"#N/A"},"","PR:","Ecus:","Niv: ",null,null,null,null,"",{"$f":"VLOOKUP(BP120,LstVillage!$B$8:$C$283,1)","v":{"$error":"#N/A"}},{"$error":"#N/A"},{"$error":"#N/A"},"",{"$f":"VLOOKUP(BT120,Datas!$G$6:$G$17,1)","v":{"$error":"#N/A"}},{"$error":"#N/A"},{"$error":"#N/A"},null,"",0,0,null,{"$f":"VLOOKUP(BP120,Liste_Noire!$B$15:$G$1208,1)","v":{"$error":"#N/A"}},{"$f":"VLOOKUP(BP120,Liste_Noire!$B$15:$G$1208,5)","v":{"$error":"#N/A"}},{"$error":"#N/A"},null,0,0,0,0,0,0,1]
[null,""," ","","","","","",{"$f":"IF(ISBLANK(Trait_Etrangers!H121),\"\",Trait_Etrangers!H121)","v":""},{"$f":"IF(ISBLANK(Trait_Etrangers!I121),\"\",Trait_Etrangers!I121)","v":""},{"$f":"IF(ISBLANK(Trait_Etrangers!J121),\"\",Trait_Etrangers!J121)","v":""},{"$f":"IF(ISBLANK(Trait_Etrangers!K121),\"\",Trait_Etrangers!K121)","v":""},{"$f":"IF(ISBLANK(Trait_Etrangers!L121),\"\",Trait_Etrangers!L121)","v":""},{"$f":"IF(ISBLANK(Trait_Etrangers!M121),\"\",Trait_Etrangers!M121)","v":""},{"$f":"IF(ISBLANK(Trait_Etrangers!N121),\"\",Trait_Etrangers!N121)","v":""},{"$f":"IF(ISBLANK(Trait_Etrangers!O121),\"\",Trait_Etrangers!O121)","v":""},{"$f":"IF(ISBLANK(Trait_Etrangers!P121),\"\",Trait_Etrangers!P121)","v":""},null,{"$f":"IF(ISBLANK(Trait_Etrangers!R121),\"\",Trait_Etrangers!R121)","v":""},{"$f":"IF(ISBLANK(Trait_Etrangers!S121),\"\",Trait_Etrangers!S121)","v":""},{"$f":"IF(ISBLANK(Trait_Etrangers!T121),\"\",Trait_Etrangers!T121)","v":""},{"$f":"IF(ISBLANK(Trait_Etrangers!U121),\"\",Trait_Etrangers!U121)","v":""},null,null,null,"","",0,0,0,0,0,0,0,0,0,0,0,0,0,0,0,0,0,null,1,null,null,{"$f":"IF(AX121=\"\",\"\",IF(CE121=1,\"[b][color=red]\"&Datas!$D$32&\"[/color][/b]\"&AX121&\"[b][color=red]\"&Datas!$D$33&\"{\"&CD121&\"}[/color][/b]\",AX121))","v":{"$error":"#N/A"}},{"$error":"#N/A"}," ",{"$f":"IF(ISBLANK(Datas!$C$47),\"\",\" - \"&BG121)","v":{"$error":"#N/A"}},{"$f":"IF(ISBLANK(Datas!$C$48),\"\",\" - \"&BH121)","v":" - "},{"$f":"IF(ISBLANK(Datas!$C$49),\"\",\" - \"&BI121)","v":""},{"$f":"IF(ISBLANK(Datas!$C$50),\"\",\" - \"&BJ121)","v":" - Ecus:"},{"$f":"IF(ISBLANK(Datas!$C$51),\"\",\" - \"&BK121)","v":" - Niv: "},null,{"$error":"#N/A"},{"$error":"#N/A"},"","PR:","Ecus:","Niv: ",null,null,null,null,"",{"$f":"VLOOKUP(BP121,LstVillage!$B$8:$C$283,1)","v":{"$error":"#N/A"}},{"$error":"#N/A"},{"$error":"#N/A"},"",{"$f":"VLOOKUP(BT121,Datas!$G$6:$G$17,1)","v":{"$error":"#N/A"}},{"$error":"#N/A"},{"$error":"#N/A"},null,"",0,0,null,{"$f":"VLOOKUP(BP121,Liste_Noire!$B$15:$G$1208,1)","v":{"$error":"#N/A"}},{"$f":"VLOOKUP(BP121,Liste_Noire!$B$15:$G$1208,5)","v":{"$error":"#N/A"}},{"$error":"#N/A"},null,0,0,0,0,0,0,1]
[null,""," ","","","","","",{"$f":"IF(ISBLANK(Trait_Etrangers!H122),\"\",Trait_Etrangers!H122)","v":""},{"$f":"IF(ISBLANK(Trait_Etrangers!I122),\"\",Trait_Etrangers!I122)","v":""},{"$f":"IF(ISBLANK(Trait_Etrangers!J122),\"\",Trait_Etrangers!J122)","v":""},{"$f":"IF(ISBLANK(Trait_Etrangers!K122),\"\",Trait_Etrangers!K122)","v":""},{"$f":"IF(ISBLANK(Trait_Etrangers!L122),\"\",Trait_Etrangers!L122)","v":""},{"$f":"IF(ISBLANK(Trait_Etrangers!M122),\"\",Trait_Etrangers!M122)","v":""},{"$f":"IF(ISBLANK(Trait_Etrangers!N122),\"\",Trait_Etrangers!N122)","v":""},{"$f":"IF(ISBLANK(Trait_Etrangers!O122),\"\",Trait_Etrangers!O122)","v":""},{"$f":"IF(ISBLANK(Trait_Etrangers!P122),\"\",Trait_Etrangers!P122)","v":""},null,{"$f":"IF(ISBLANK(Trait_Etrangers!R122),\"\",Trait_Etrangers!R122)","v":""},{"$f":"IF(ISBLANK(Trait_Etrangers!S122),\"\",Trait_Etrangers!S122)","v":""},{"$f":"IF(ISBLANK(Trait_Etrangers!T122),\"\",Trait_Etrangers!T122)","v":""},{"$f":"IF(ISBLANK(Trait_Etrangers!U122),\"\",Trait_Etrangers!U122)","v":""},null,null,null,"","",0,0,0,0,0,0,0,0,0,0,0,0,0,0,0,0,0,null,1,null,null,{"$f":"IF(AX122=\"\",\"\",IF(CE122=1,\"[b][color=red]\"&Datas!$D$32&\"[/color][/b]\"&AX122&\"[b][color=red]\"&Datas!$D$33&\"{\"&CD122&\"}[/color][/b]\",AX122))","v":{"$error":"#N/A"}},{"$error":"#N/A"}," ",{"$f":"IF(ISBLANK(Datas!$C$47),\"\",\" - \"&BG122)","v":{"$error":"#N/A"}},{"$f":"IF(ISBLANK(Datas!$C$48),\"\",\" - \"&BH122)","v":" - "},{"$f":"IF(ISBLANK(Datas!$C$49),\"\",\" - \"&BI122)","v":""},{"$f":"IF(ISBLANK(Datas!$C$50),\"\",\" - \"&BJ122)","v":" - Ecus:"},{"$f":"IF(ISBLANK(Datas!$C$51),\"\",\" - \"&BK122)","v":" - Niv: "},null,{"$error":"#N/A"},{"$error":"#N/A"},"","PR:","Ecus:","Niv: ",null,null,null,null,"",{"$f":"VLOOKUP(BP122,LstVillage!$B$8:$C$283,1)","v":{"$error":"#N/A"}},{"$error":"#N/A"},{"$error":"#N/A"},"",{"$f":"VLOOKUP(BT122,Datas!$G$6:$G$17,1)","v":{"$error":"#N/A"}},{"$error":"#N/A"},{"$error":"#N/A"},null,"",0,0,null,{"$f":"VLOOKUP(BP122,Liste_Noire!$B$15:$G$1208,1)","v":{"$error":"#N/A"}},{"$f":"VLOOKUP(BP122,Liste_Noire!$B$15:$G$1208,5)","v":{"$error":"#N/A"}},{"$error":"#N/A"},null,0,0,0,0,0,0,1]
[null,""," ","","","","","",{"$f":"IF(ISBLANK(Trait_Etrangers!H123),\"\",Trait_Etrangers!H123)","v":""},{"$f":"IF(ISBLANK(Trait_Etrangers!I123),\"\",Trait_Etrangers!I123)","v":""},{"$f":"IF(ISBLANK(Trait_Etrangers!J123),\"\",Trait_Etrangers!J123)","v":""},{"$f":"IF(ISBLANK(Trait_Etrangers!K123),\"\",Trait_Etrangers!K123)","v":""},{"$f":"IF(ISBLANK(Trait_Etrangers!L123),\"\",Trait_Etrangers!L123)","v":""},{"$f":"IF(ISBLANK(Trait_Etrangers!M123),\"\",Trait_Etrangers!M123)","v":""},{"$f":"IF(ISBLANK(Trait_Etrangers!N123),\"\",Trait_Etrangers!N123)","v":""},{"$f":"IF(ISBLANK(Trait_Etrangers!O123),\"\",Trait_Etrangers!O123)","v":""},{"$f":"IF(ISBLANK(Trait_Etrangers!P123),\"\",Trait_Etrangers!P123)","v":""},null,{"$f":"IF(ISBLANK(Trait_Etrangers!R123),\"\",Trait_Etrangers!R123)","v":""},{"$f":"IF(ISBLANK(Trait_Etrangers!S123),\"\",Trait_Etrangers!S123)","v":""},{"$f":"IF(ISBLANK(Trait_Etrangers!T123),\"\",Trait_Etrangers!T123)","v":""},{"$f":"IF(ISBLANK(Trait_Etrangers!U123),\"\",Trait_Etrangers!U123)","v":""},null,null,null,"","",0,0,0,0,0,0,0,0,0,0,0,0,0,0,0,0,0,null,1,null,null,{"$f":"IF(AX123=\"\",\"\",IF(CE123=1,\"[b][color=red]\"&Datas!$D$32&\"[/color][/b]\"&AX123&\"[b][color=red]\"&Datas!$D$33&\"{\"&CD123&\"}[/color][/b]\",AX123))","v":{"$error":"#N/A"}},{"$error":"#N/A"}," ",{"$f":"IF(ISBLANK(Datas!$C$47),\"\",\" - \"&BG123)","v":{"$error":"#N/A"}},{"$f":"IF(ISBLANK(Datas!$C$48),\"\",\" - \"&BH123)","v":" - "},{"$f":"IF(ISBLANK(Datas!$C$49),\"\",\" - \"&BI123)","v":""},{"$f":"IF(ISBLANK(Datas!$C$50),\"\",\" - \"&BJ123)","v":" - Ecus:"},{"$f":"IF(ISBLANK(Datas!$C$51),\"\",\" - \"&BK123)","v":" - Niv: "},null,{"$error":"#N/A"},{"$error":"#N/A"},"","PR:","Ecus:","Niv: ",null,null,null,null,"",{"$f":"VLOOKUP(BP123,LstVillage!$B$8:$C$283,1)","v":{"$error":"#N/A"}},{"$error":"#N/A"},{"$error":"#N/A"},"",{"$f":"VLOOKUP(BT123,Datas!$G$6:$G$17,1)","v":{"$error":"#N/A"}},{"$error":"#N/A"},{"$error":"#N/A"},null,"",0,0,null,{"$f":"VLOOKUP(BP123,Liste_Noire!$B$15:$G$1208,1)","v":{"$error":"#N/A"}},{"$f":"VLOOKUP(BP123,Liste_Noire!$B$15:$G$1208,5)","v":{"$error":"#N/A"}},{"$error":"#N/A"},null,0,0,0,0,0,0,1]
[null,""," ","","","","","",{"$f":"IF(ISBLANK(Trait_Etrangers!H124),\"\",Trait_Etrangers!H124)","v":""},{"$f":"IF(ISBLANK(Trait_Etrangers!I124),\"\",Trait_Etrangers!I124)","v":""},{"$f":"IF(ISBLANK(Trait_Etrangers!J124),\"\",Trait_Etrangers!J124)","v":""},{"$f":"IF(ISBLANK(Trait_Etrangers!K124),\"\",Trait_Etrangers!K124)","v":""},{"$f":"IF(ISBLANK(Trait_Etrangers!L124),\"\",Trait_Etrangers!L124)","v":""},{"$f":"IF(ISBLANK(Trait_Etrangers!M124),\"\",Trait_Etrangers!M124)","v":""},{"$f":"IF(ISBLANK(Trait_Etrangers!N124),\"\",Trait_Etrangers!N124)","v":""},{"$f":"IF(ISBLANK(Trait_Etrangers!O124),\"\",Trait_Etrangers!O124)","v":""},{"$f":"IF(ISBLANK(Trait_Etrangers!P124),\"\",Trait_Etrangers!P124)","v":""},null,{"$f":"IF(ISBLANK(Trait_Etrangers!R124),\"\",Trait_Etrangers!R124)","v":""},{"$f":"IF(ISBLANK(Trait_Etrangers!S124),\"\",Trait_Etrangers!S124)","v":""},{"$f":"IF(ISBLANK(Trait_Etrangers!T124),\"\",Trait_Etrangers!T124)","v":""},{"$f":"IF(ISBLANK(Trait_Etrangers!U124),\"\",Trait_Etrangers!U124)","v":""},null,null,null,"","",0,0,0,0,0,0,0,0,0,0,0,0,0,0,0,0,0,null,1,null,null,{"$f":"IF(AX124=\"\",\"\",IF(CE124=1,\"[b][color=red]\"&Datas!$D$32&\"[/color][/b]\"&AX124&\"[b][color=red]\"&Datas!$D$33&\"{\"&CD124&\"}[/color][/b]\",AX124))","v":{"$error":"#N/A"}},{"$error":"#N/A"}," ",{"$f":"IF(ISBLANK(Datas!$C$47),\"\",\" - \"&BG124)","v":{"$error":"#N/A"}},{"$f":"IF(ISBLANK(Datas!$C$48),\"\",\" - \"&BH124)","v":" - "},{"$f":"IF(ISBLANK(Datas!$C$49),\"\",\" - \"&BI124)","v":""},{"$f":"IF(ISBLANK(Datas!$C$50),\"\",\" - \"&BJ124)","v":" - Ecus:"},{"$f":"IF(ISBLANK(Datas!$C$51),\"\",\" - \"&BK124)","v":" - Niv: "},null,{"$error":"#N/A"},{"$error":"#N/A"},"","PR:","Ecus:","Niv: ",null,null,null,null,"",{"$f":"VLOOKUP(BP124,LstVillage!$B$8:$C$283,1)","v":{"$error":"#N/A"}},{"$error":"#N/A"},{"$error":"#N/A"},"",{"$f":"VLOOKUP(BT124,Datas!$G$6:$G$17,1)","v":{"$error":"#N/A"}},{"$error":"#N/A"},{"$error":"#N/A"},null,"",0,0,null,{"$f":"VLOOKUP(BP124,Liste_Noire!$B$15:$G$1208,1)","v":{"$error":"#N/A"}},{"$f":"VLOOKUP(BP124,Liste_Noire!$B$15:$G$1208,5)","v":{"$error":"#N/A"}},{"$error":"#N/A"},null,0,0,0,0,0,0,1]
[null,""," ","","","","","",{"$f":"IF(ISBLANK(Trait_Etrangers!H125),\"\",Trait_Etrangers!H125)","v":""},{"$f":"IF(ISBLANK(Trait_Etrangers!I125),\"\",Trait_Etrangers!I125)","v":""},{"$f":"IF(ISBLANK(Trait_Etrangers!J125),\"\",Trait_Etrangers!J125)","v":""},{"$f":"IF(ISBLANK(Trait_Etrangers!K125),\"\",Trait_Etrangers!K125)","v":""},{"$f":"IF(ISBLANK(Trait_Etrangers!L125),\"\",Trait_Etrangers!L125)","v":""},{"$f":"IF(ISBLANK(Trait_Etrangers!M125),\"\",Trait_Etrangers!M125)","v":""},{"$f":"IF(ISBLANK(Trait_Etrangers!N125),\"\",Trait_Etrangers!N125)","v":""},{"$f":"IF(ISBLANK(Trait_Etrangers!O125),\"\",Trait_Etrangers!O125)","v":""},{"$f":"IF(ISBLANK(Trait_Etrangers!P125),\"\",Trait_Etrangers!P125)","v":""},null,{"$f":"IF(ISBLANK(Trait_Etrangers!R125),\"\",Trait_Etrangers!R125)","v":""},{"$f":"IF(ISBLANK(Trait_Etrangers!S125),\"\",Trait_Etrangers!S125)","v":""},{"$f":"IF(ISBLANK(Trait_Etrangers!T125),\"\",Trait_Etrangers!T125)","v":""},{"$f":"IF(ISBLANK(Trait_Etrangers!U125),\"\",Trait_Etrangers!U125)","v":""},null,null,null,"","",0,0,0,0,0,0,0,0,0,0,0,0,0,0,0,0,0,null,1,null,null,{"$f":"IF(AX125=\"\",\"\",IF(CE125=1,\"[b][color=red]\"&Datas!$D$32&\"[/color][/b]\"&AX125&\"[b][color=red]\"&Datas!$D$33&\"{\"&CD125&\"}[/color][/b]\",AX125))","v":{"$error":"#N/A"}},{"$error":"#N/A"}," ",{"$f":"IF(ISBLANK(Datas!$C$47),\"\",\" - \"&BG125)","v":{"$error":"#N/A"}},{"$f":"IF(ISBLANK(Datas!$C$48),\"\",\" - \"&BH125)","v":" - "},{"$f":"IF(ISBLANK(Datas!$C$49),\"\",\" - \"&BI125)","v":""},{"$f":"IF(ISBLANK(Datas!$C$50),\"\",\" - \"&BJ125)","v":" - Ecus:"},{"$f":"IF(ISBLANK(Datas!$C$51),\"\",\" - \"&BK125)","v":" - Niv: "},null,{"$error":"#N/A"},{"$error":"#N/A"},"","PR:","Ecus:","Niv: ",null,null,null,null,"",{"$f":"VLOOKUP(BP125,LstVillage!$B$8:$C$283,1)","v":{"$error":"#N/A"}},{"$error":"#N/A"},{"$error":"#N/A"},"",{"$f":"VLOOKUP(BT125,Datas!$G$6:$G$17,1)","v":{"$error":"#N/A"}},{"$error":"#N/A"},{"$error":"#N/A"},null,"",0,0,null,{"$f":"VLOOKUP(BP125,Liste_Noire!$B$15:$G$1208,1)","v":{"$error":"#N/A"}},{"$f":"VLOOKUP(BP125,Liste_Noire!$B$15:$G$1208,5)","v":{"$error":"#N/A"}},{"$error":"#N/A"},null,0,0,0,0,0,0,1]
[null,""," ","","","","","",{"$f":"IF(ISBLANK(Trait_Etrangers!H126),\"\",Trait_Etrangers!H126)","v":""},{"$f":"IF(ISBLANK(Trait_Etrangers!I126),\"\",Trait_Etrangers!I126)","v":""},{"$f":"IF(ISBLANK(Trait_Etrangers!J126),\"\",Trait_Etrangers!J126)","v":""},{"$f":"IF(ISBLANK(Trait_Etrangers!K126),\"\",Trait_Etrangers!K126)","v":""},{"$f":"IF(ISBLANK(Trait_Etrangers!L126),\"\",Trait_Etrangers!L126)","v":""},{"$f":"IF(ISBLANK(Trait_Etrangers!M126),\"\",Trait_Etrangers!M126)","v":""},{"$f":"IF(ISBLANK(Trait_Etrangers!N126),\"\",Trait_Etrangers!N126)","v":""},{"$f":"IF(ISBLANK(Trait_Etrangers!O126),\"\",Trait_Etrangers!O126)","v":""},{"$f":"IF(ISBLANK(Trait_Etrangers!P126),\"\",Trait_Etrangers!P126)","v":""},null,{"$f":"IF(ISBLANK(Trait_Etrangers!R126),\"\",Trait_Etrangers!R126)","v":""},{"$f":"IF(ISBLANK(Trait_Etrangers!S126),\"\",Trait_Etrangers!S126)","v":""},{"$f":"IF(ISBLANK(Trait_Etrangers!T126),\"\",Trait_Etrangers!T126)","v":""},{"$f":"IF(ISBLANK(Trait_Etrangers!U126),\"\",Trait_Etrangers!U126)","v":""},null,null,null,"","",0,0,0,0,0,0,0,0,0,0,0,0,0,0,0,0,0,null,1,null,null,{"$f":"IF(AX126=\"\",\"\",IF(CE126=1,\"[b][color=red]\"&Datas!$D$32&\"[/color][/b]\"&AX126&\"[b][color=red]\"&Datas!$D$33&\"{\"&CD126&\"}[/color][/b]\",AX126))","v":{"$error":"#N/A"}},{"$error":"#N/A"}," ",{"$f":"IF(ISBLANK(Datas!$C$47),\"\",\" - \"&BG126)","v":{"$error":"#N/A"}},{"$f":"IF(ISBLANK(Datas!$C$48),\"\",\" - \"&BH126)","v":" - "},{"$f":"IF(ISBLANK(Datas!$C$49),\"\",\" - \"&BI126)","v":""},{"$f":"IF(ISBLANK(Datas!$C$50),\"\",\" - \"&BJ126)","v":" - Ecus:"},{"$f":"IF(ISBLANK(Datas!$C$51),\"\",\" - \"&BK126)","v":" - Niv: "},null,{"$error":"#N/A"},{"$error":"#N/A"},"","PR:","Ecus:","Niv: ",null,null,null,null,"",{"$f":"VLOOKUP(BP126,LstVillage!$B$8:$C$283,1)","v":{"$error":"#N/A"}},{"$error":"#N/A"},{"$error":"#N/A"},"",{"$f":"VLOOKUP(BT126,Datas!$G$6:$G$17,1)","v":{"$error":"#N/A"}},{"$error":"#N/A"},{"$error":"#N/A"},null,"",0,0,null,{"$f":"VLOOKUP(BP126,Liste_Noire!$B$15:$G$1208,1)","v":{"$error":"#N/A"}},{"$f":"VLOOKUP(BP126,Liste_Noire!$B$15:$G$1208,5)","v":{"$error":"#N/A"}},{"$error":"#N/A"},null,0,0,0,0,0,0,1]
[null,""," ","","","","","",{"$f":"IF(ISBLANK(Trait_Etrangers!H127),\"\",Trait_Etrangers!H127)","v":""},{"$f":"IF(ISBLANK(Trait_Etrangers!I127),\"\",Trait_Etrangers!I127)","v":""},{"$f":"IF(ISBLANK(Trait_Etrangers!J127),\"\",Trait_Etrangers!J127)","v":""},{"$f":"IF(ISBLANK(Trait_Etrangers!K127),\"\",Trait_Etrangers!K127)","v":""},{"$f":"IF(ISBLANK(Trait_Etrangers!L127),\"\",Trait_Etrangers!L127)","v":""},{"$f":"IF(ISBLANK(Trait_Etrangers!M127),\"\",Trait_Etrangers!M127)","v":""},{"$f":"IF(ISBLANK(Trait_Etrangers!N127),\"\",Trait_Etrangers!N127)","v":""},{"$f":"IF(ISBLANK(Trait_Etrangers!O127),\"\",Trait_Etrangers!O127)","v":""},{"$f":"IF(ISBLANK(Trait_Etrangers!P127),\"\",Trait_Etrangers!P127)","v":""},null,{"$f":"IF(ISBLANK(Trait_Etrangers!R127),\"\",Trait_Etrangers!R127)","v":""},{"$f":"IF(ISBLANK(Trait_Etrangers!S127),\"\",Trait_Etrangers!S127)","v":""},{"$f":"IF(ISBLANK(Trait_Etrangers!T127),\"\",Trait_Etrangers!T127)","v":""},{"$f":"IF(ISBLANK(Trait_Etrangers!U127),\"\",Trait_Etrangers!U127)","v":""},null,null,null,"","",0,0,0,0,0,0,0,0,0,0,0,0,0,0,0,0,0,null,1,null,null,{"$f":"IF(AX127=\"\",\"\",IF(CE127=1,\"[b][color=red]\"&Datas!$D$32&\"[/color][/b]\"&AX127&\"[b][color=red]\"&Datas!$D$33&\"{\"&CD127&\"}[/color][/b]\",AX127))","v":{"$error":"#N/A"}},{"$error":"#N/A"}," ",{"$f":"IF(ISBLANK(Datas!$C$47),\"\",\" - \"&BG127)","v":{"$error":"#N/A"}},{"$f":"IF(ISBLANK(Datas!$C$48),\"\",\" - \"&BH127)","v":" - "},{"$f":"IF(ISBLANK(Datas!$C$49),\"\",\" - \"&BI127)","v":""},{"$f":"IF(ISBLANK(Datas!$C$50),\"\",\" - \"&BJ127)","v":" - Ecus:"},{"$f":"IF(ISBLANK(Datas!$C$51),\"\",\" - \"&BK127)","v":" - Niv: "},null,{"$error":"#N/A"},{"$error":"#N/A"},"","PR:","Ecus:","Niv: ",null,null,null,null,"",{"$f":"VLOOKUP(BP127,LstVillage!$B$8:$C$283,1)","v":{"$error":"#N/A"}},{"$error":"#N/A"},{"$error":"#N/A"},"",{"$f":"VLOOKUP(BT127,Datas!$G$6:$G$17,1)","v":{"$error":"#N/A"}},{"$error":"#N/A"},{"$error":"#N/A"},null,"",0,0,null,{"$f":"VLOOKUP(BP127,Liste_Noire!$B$15:$G$1208,1)","v":{"$error":"#N/A"}},{"$f":"VLOOKUP(BP127,Liste_Noire!$B$15:$G$1208,5)","v":{"$error":"#N/A"}},{"$error":"#N/A"},null,0,0,0,0,0,0,1]
[null,""," ","","","","","",{"$f":"IF(ISBLANK(Trait_Etrangers!H128),\"\",Trait_Etrangers!H128)","v":""},{"$f":"IF(ISBLANK(Trait_Etrangers!I128),\"\",Trait_Etrangers!I128)","v":""},{"$f":"IF(ISBLANK(Trait_Etrangers!J128),\"\",Trait_Etrangers!J128)","v":""},{"$f":"IF(ISBLANK(Trait_Etrangers!K128),\"\",Trait_Etrangers!K128)","v":""},{"$f":"IF(ISBLANK(Trait_Etrangers!L128),\"\",Trait_Etrangers!L128)","v":""},{"$f":"IF(ISBLANK(Trait_Etrangers!M128),\"\",Trait_Etrangers!M128)","v":""},{"$f":"IF(ISBLANK(Trait_Etrangers!N128),\"\",Trait_Etrangers!N128)","v":""},{"$f":"IF(ISBLANK(Trait_Etrangers!O128),\"\",Trait_Etrangers!O128)","v":""},{"$f":"IF(ISBLANK(Trait_Etrangers!P128),\"\",Trait_Etrangers!P128)","v":""},null,{"$f":"IF(ISBLANK(Trait_Etrangers!R128),\"\",Trait_Etrangers!R128)","v":""},{"$f":"IF(ISBLANK(Trait_Etrangers!S128),\"\",Trait_Etrangers!S128)","v":""},{"$f":"IF(ISBLANK(Trait_Etrangers!T128),\"\",Trait_Etrangers!T128)","v":""},{"$f":"IF(ISBLANK(Trait_Etrangers!U128),\"\",Trait_Etrangers!U128)","v":""},null,null,null,"","",0,0,0,0,0,0,0,0,0,0,0,0,0,0,0,0,0,null,1,null,null,{"$f":"IF(AX128=\"\",\"\",IF(CE128=1,\"[b][color=red]\"&Datas!$D$32&\"[/color][/b]\"&AX128&\"[b][color=red]\"&Datas!$D$33&\"{\"&CD128&\"}[/color][/b]\",AX128))","v":{"$error":"#N/A"}},{"$error":"#N/A"}," ",{"$f":"IF(ISBLANK(Datas!$C$47),\"\",\" - \"&BG128)","v":{"$error":"#N/A"}},{"$f":"IF(ISBLANK(Datas!$C$48),\"\",\" - \"&BH128)","v":" - "},{"$f":"IF(ISBLANK(Datas!$C$49),\"\",\" - \"&BI128)","v":""},{"$f":"IF(ISBLANK(Datas!$C$50),\"\",\" - \"&BJ128)","v":" - Ecus:"},{"$f":"IF(ISBLANK(Datas!$C$51),\"\",\" - \"&BK128)","v":" - Niv: "},null,{"$error":"#N/A"},{"$error":"#N/A"},"","PR:","Ecus:","Niv: ",null,null,null,null,"",{"$f":"VLOOKUP(BP128,LstVillage!$B$8:$C$283,1)","v":{"$error":"#N/A"}},{"$error":"#N/A"},{"$error":"#N/A"},"",{"$f":"VLOOKUP(BT128,Datas!$G$6:$G$17,1)","v":{"$error":"#N/A"}},{"$error":"#N/A"},{"$error":"#N/A"},null,"",0,0,null,{"$f":"VLOOKUP(BP128,Liste_Noire!$B$15:$G$1208,1)","v":{"$error":"#N/A"}},{"$f":"VLOOKUP(BP128,Liste_Noire!$B$15:$G$1208,5)","v":{"$error":"#N/A"}},{"$error":"#N/A"},null,0,0,0,0,0,0,1]
[null,""," ","","","","","",{"$f":"IF(ISBLANK(Trait_Etrangers!H129),\"\",Trait_Etrangers!H129)","v":""},{"$f":"IF(ISBLANK(Trait_Etrangers!I129),\"\",Trait_Etrangers!I129)","v":""},{"$f":"IF(ISBLANK(Trait_Etrangers!J129),\"\",Trait_Etrangers!J129)","v":""},{"$f":"IF(ISBLANK(Trait_Etrangers!K129),\"\",Trait_Etrangers!K129)","v":""},{"$f":"IF(ISBLANK(Trait_Etrangers!L129),\"\",Trait_Etrangers!L129)","v":""},{"$f":"IF(ISBLANK(Trait_Etrangers!M129),\"\",Trait_Etrangers!M129)","v":""},{"$f":"IF(ISBLANK(Trait_Etrangers!N129),\"\",Trait_Etrangers!N129)","v":""},{"$f":"IF(ISBLANK(Trait_Etrangers!O129),\"\",Trait_Etrangers!O129)","v":""},{"$f":"IF(ISBLANK(Trait_Etrangers!P129),\"\",Trait_Etrangers!P129)","v":""},null,{"$f":"IF(ISBLANK(Trait_Etrangers!R129),\"\",Trait_Etrangers!R129)","v":""},{"$f":"IF(ISBLANK(Trait_Etrangers!S129),\"\",Trait_Etrangers!S129)","v":""},{"$f":"IF(ISBLANK(Trait_Etrangers!T129),\"\",Trait_Etrangers!T129)","v":""},{"$f":"IF(ISBLANK(Trait_Etrangers!U129),\"\",Trait_Etrangers!U129)","v":""},null,null,null,"","",0,0,0,0,0,0,0,0,0,0,0,0,0,0,0,0,0,null,1,null,null,{"$f":"IF(AX129=\"\",\"\",IF(CE129=1,\"[b][color=red]\"&Datas!$D$32&\"[/color][/b]\"&AX129&\"[b][color=red]\"&Datas!$D$33&\"{\"&CD129&\"}[/color][/b]\",AX129))","v":{"$error":"#N/A"}},{"$error":"#N/A"}," ",{"$f":"IF(ISBLANK(Datas!$C$47),\"\",\" - \"&BG129)","v":{"$error":"#N/A"}},{"$f":"IF(ISBLANK(Datas!$C$48),\"\",\" - \"&BH129)","v":" - "},{"$f":"IF(ISBLANK(Datas!$C$49),\"\",\" - \"&BI129)","v":""},{"$f":"IF(ISBLANK(Datas!$C$50),\"\",\" - \"&BJ129)","v":" - Ecus:"},{"$f":"IF(ISBLANK(Datas!$C$51),\"\",\" - \"&BK129)","v":" - Niv: "},null,{"$error":"#N/A"},{"$error":"#N/A"},"","PR:","Ecus:","Niv: ",null,null,null,null,"",{"$f":"VLOOKUP(BP129,LstVillage!$B$8:$C$283,1)","v":{"$error":"#N/A"}},{"$error":"#N/A"},{"$error":"#N/A"},"",{"$f":"VLOOKUP(BT129,Datas!$G$6:$G$17,1)","v":{"$error":"#N/A"}},{"$error":"#N/A"},{"$error":"#N/A"},null,"",0,0,null,{"$f":"VLOOKUP(BP129,Liste_Noire!$B$15:$G$1208,1)","v":{"$error":"#N/A"}},{"$f":"VLOOKUP(BP129,Liste_Noire!$B$15:$G$1208,5)","v":{"$error":"#N/A"}},{"$error":"#N/A"},null,0,0,0,0,0,0,1]
[null,""," ","","","","","",{"$f":"IF(ISBLANK(Trait_Etrangers!H130),\"\",Trait_Etrangers!H130)","v":""},{"$f":"IF(ISBLANK(Trait_Etrangers!I130),\"\",Trait_Etrangers!I130)","v":""},{"$f":"IF(ISBLANK(Trait_Etrangers!J130),\"\",Trait_Etrangers!J130)","v":""},{"$f":"IF(ISBLANK(Trait_Etrangers!K130),\"\",Trait_Etrangers!K130)","v":""},{"$f":"IF(ISBLANK(Trait_Etrangers!L130),\"\",Trait_Etrangers!L130)","v":""},{"$f":"IF(ISBLANK(Trait_Etrangers!M130),\"\",Trait_Etrangers!M130)","v":""},{"$f":"IF(ISBLANK(Trait_Etrangers!N130),\"\",Trait_Etrangers!N130)","v":""},{"$f":"IF(ISBLANK(Trait_Etrangers!O130),\"\",Trait_Etrangers!O130)","v":""},{"$f":"IF(ISBLANK(Trait_Etrangers!P130),\"\",Trait_Etrangers!P130)","v":""},null,{"$f":"IF(ISBLANK(Trait_Etrangers!R130),\"\",Trait_Etrangers!R130)","v":""},{"$f":"IF(ISBLANK(Trait_Etrangers!S130),\"\",Trait_Etrangers!S130)","v":""},{"$f":"IF(ISBLANK(Trait_Etrangers!T130),\"\",Trait_Etrangers!T130)","v":""},{"$f":"IF(ISBLANK(Trait_Etrangers!U130),\"\",Trait_Etrangers!U130)","v":""},null,null,null,"","",0,0,0,0,0,0,0,0,0,0,0,0,0,0,0,0,0,null,1,null,null,{"$f":"IF(AX130=\"\",\"\",IF(CE130=1,\"[b][color=red]\"&Datas!$D$32&\"[/color][/b]\"&AX130&\"[b][color=red]\"&Datas!$D$33&\"{\"&CD130&\"}[/color][/b]\",AX130))","v":{"$error":"#N/A"}},{"$error":"#N/A"}," ",{"$f":"IF(ISBLANK(Datas!$C$47),\"\",\" - \"&BG130)","v":{"$error":"#N/A"}},{"$f":"IF(ISBLANK(Datas!$C$48),\"\",\" - \"&BH130)","v":" - "},{"$f":"IF(ISBLANK(Datas!$C$49),\"\",\" - \"&BI130)","v":""},{"$f":"IF(ISBLANK(Datas!$C$50),\"\",\" - \"&BJ130)","v":" - Ecus:"},{"$f":"IF(ISBLANK(Datas!$C$51),\"\",\" - \"&BK130)","v":" - Niv: "},null,{"$error":"#N/A"},{"$error":"#N/A"},"","PR:","Ecus:","Niv: ",null,null,null,null,"",{"$f":"VLOOKUP(BP130,LstVillage!$B$8:$C$283,1)","v":{"$error":"#N/A"}},{"$error":"#N/A"},{"$error":"#N/A"},"",{"$f":"VLOOKUP(BT130,Datas!$G$6:$G$17,1)","v":{"$error":"#N/A"}},{"$error":"#N/A"},{"$error":"#N/A"},null,"",0,0,null,{"$f":"VLOOKUP(BP130,Liste_Noire!$B$15:$G$1208,1)","v":{"$error":"#N/A"}},{"$f":"VLOOKUP(BP130,Liste_Noire!$B$15:$G$1208,5)","v":{"$error":"#N/A"}},{"$error":"#N/A"},null,0,0,0,0,0,0,1]
[null,""," ","","","","","",{"$f":"IF(ISBLANK(Trait_Etrangers!H131),\"\",Trait_Etrangers!H131)","v":""},{"$f":"IF(ISBLANK(Trait_Etrangers!I131),\"\",Trait_Etrangers!I131)","v":""},{"$f":"IF(ISBLANK(Trait_Etrangers!J131),\"\",Trait_Etrangers!J131)","v":""},{"$f":"IF(ISBLANK(Trait_Etrangers!K131),\"\",Trait_Etrangers!K131)","v":""},{"$f":"IF(ISBLANK(Trait_Etrangers!L131),\"\",Trait_Etrangers!L131)","v":""},{"$f":"IF(ISBLANK(Trait_Etrangers!M131),\"\",Trait_Etrangers!M131)","v":""},{"$f":"IF(ISBLANK(Trait_Etrangers!N131),\"\",Trait_Etrangers!N131)","v":""},{"$f":"IF(ISBLANK(Trait_Etrangers!O131),\"\",Trait_Etrangers!O131)","v":""},{"$f":"IF(ISBLANK(Trait_Etrangers!P131),\"\",Trait_Etrangers!P131)","v":""},null,{"$f":"IF(ISBLANK(Trait_Etrangers!R131),\"\",Trait_Etrangers!R131)","v":""},{"$f":"IF(ISBLANK(Trait_Etrangers!S131),\"\",Trait_Etrangers!S131)","v":""},{"$f":"IF(ISBLANK(Trait_Etrangers!T131),\"\",Trait_Etrangers!T131)","v":""},{"$f":"IF(ISBLANK(Trait_Etrangers!U131),\"\",Trait_Etrangers!U131)","v":""},null,null,null,"","",0,0,0,0,0,0,0,0,0,0,0,0,0,0,0,0,0,null,1,null,null,{"$f":"IF(AX131=\"\",\"\",IF(CE131=1,\"[b][color=red]\"&Datas!$D$32&\"[/color][/b]\"&AX131&\"[b][color=red]\"&Datas!$D$33&\"{\"&CD131&\"}[/color][/b]\",AX131))","v":{"$error":"#N/A"}},{"$error":"#N/A"}," ",{"$f":"IF(ISBLANK(Datas!$C$47),\"\",\" - \"&BG131)","v":{"$error":"#N/A"}},{"$f":"IF(ISBLANK(Datas!$C$48),\"\",\" - \"&BH131)","v":" - "},{"$f":"IF(ISBLANK(Datas!$C$49),\"\",\" - \"&BI131)","v":""},{"$f":"IF(ISBLANK(Datas!$C$50),\"\",\" - \"&BJ131)","v":" - Ecus:"},{"$f":"IF(ISBLANK(Datas!$C$51),\"\",\" - \"&BK131)","v":" - Niv: "},null,{"$error":"#N/A"},{"$error":"#N/A"},"","PR:","Ecus:","Niv: ",null,null,null,null,"",{"$f":"VLOOKUP(BP131,LstVillage!$B$8:$C$283,1)","v":{"$error":"#N/A"}},{"$error":"#N/A"},{"$error":"#N/A"},"",{"$f":"VLOOKUP(BT131,Datas!$G$6:$G$17,1)","v":{"$error":"#N/A"}},{"$error":"#N/A"},{"$error":"#N/A"},null,"",0,0,null,{"$f":"VLOOKUP(BP131,Liste_Noire!$B$15:$G$1208,1)","v":{"$error":"#N/A"}},{"$f":"VLOOKUP(BP131,Liste_Noire!$B$15:$G$1208,5)","v":{"$error":"#N/A"}},{"$error":"#N/A"},null,0,0,0,0,0,0,1]
[null,""," ","","","","","",{"$f":"IF(ISBLANK(Trait_Etrangers!H132),\"\",Trait_Etrangers!H132)","v":""},{"$f":"IF(ISBLANK(Trait_Etrangers!I132),\"\",Trait_Etrangers!I132)","v":""},{"$f":"IF(ISBLANK(Trait_Etrangers!J132),\"\",Trait_Etrangers!J132)","v":""},{"$f":"IF(ISBLANK(Trait_Etrangers!K132),\"\",Trait_Etrangers!K132)","v":""},{"$f":"IF(ISBLANK(Trait_Etrangers!L132),\"\",Trait_Etrangers!L132)","v":""},{"$f":"IF(ISBLANK(Trait_Etrangers!M132),\"\",Trait_Etrangers!M132)","v":""},{"$f":"IF(ISBLANK(Trait_Etrangers!N132),\"\",Trait_Etrangers!N132)","v":""},{"$f":"IF(ISBLANK(Trait_Etrangers!O132),\"\",Trait_Etrangers!O132)","v":""},{"$f":"IF(ISBLANK(Trait_Etrangers!P132),\"\",Trait_Etrangers!P132)","v":""},null,{"$f":"IF(ISBLANK(Trait_Etrangers!R132),\"\",Trait_Etrangers!R132)","v":""},{"$f":"IF(ISBLANK(Trait_Etrangers!S132),\"\",Trait_Etrangers!S132)","v":""},{"$f":"IF(ISBLANK(Trait_Etrangers!T132),\"\",Trait_Etrangers!T132)","v":""},{"$f":"IF(ISBLANK(Trait_Etrangers!U132),\"\",Trait_Etrangers!U132)","v":""},null,null,null,"","",0,0,0,0,0,0,0,0,0,0,0,0,0,0,0,0,0,null,1,null,null,{"$f":"IF(AX132=\"\",\"\",IF(CE132=1,\"[b][color=red]\"&Datas!$D$32&\"[/color][/b]\"&AX132&\"[b][color=red]\"&Datas!$D$33&\"{\"&CD132&\"}[/color][/b]\",AX132))","v":{"$error":"#N/A"}},{"$error":"#N/A"}," ",{"$f":"IF(ISBLANK(Datas!$C$47),\"\",\" - \"&BG132)","v":{"$error":"#N/A"}},{"$f":"IF(ISBLANK(Datas!$C$48),\"\",\" - \"&BH132)","v":" - "},{"$f":"IF(ISBLANK(Datas!$C$49),\"\",\" - \"&BI132)","v":""},{"$f":"IF(ISBLANK(Datas!$C$50),\"\",\" - \"&BJ132)","v":" - Ecus:"},{"$f":"IF(ISBLANK(Datas!$C$51),\"\",\" - \"&BK132)","v":" - Niv: "},null,{"$error":"#N/A"},{"$error":"#N/A"},"","PR:","Ecus:","Niv: ",null,null,null,null,"",{"$f":"VLOOKUP(BP132,LstVillage!$B$8:$C$283,1)","v":{"$error":"#N/A"}},{"$error":"#N/A"},{"$error":"#N/A"},"",{"$f":"VLOOKUP(BT132,Datas!$G$6:$G$17,1)","v":{"$error":"#N/A"}},{"$error":"#N/A"},{"$error":"#N/A"},null,"",0,0,null,{"$f":"VLOOKUP(BP132,Liste_Noire!$B$15:$G$1208,1)","v":{"$error":"#N/A"}},{"$f":"VLOOKUP(BP132,Liste_Noire!$B$15:$G$1208,5)","v":{"$error":"#N/A"}},{"$error":"#N/A"},null,0,0,0,0,0,0,1]
[null,""," ","","","","","",{"$f":"IF(ISBLANK(Trait_Etrangers!H133),\"\",Trait_Etrangers!H133)","v":""},{"$f":"IF(ISBLANK(Trait_Etrangers!I133),\"\",Trait_Etrangers!I133)","v":""},{"$f":"IF(ISBLANK(Trait_Etrangers!J133),\"\",Trait_Etrangers!J133)","v":""},{"$f":"IF(ISBLANK(Trait_Etrangers!K133),\"\",Trait_Etrangers!K133)","v":""},{"$f":"IF(ISBLANK(Trait_Etrangers!L133),\"\",Trait_Etrangers!L133)","v":""},{"$f":"IF(ISBLANK(Trait_Etrangers!M133),\"\",Trait_Etrangers!M133)","v":""},{"$f":"IF(ISBLANK(Trait_Etrangers!N133),\"\",Trait_Etrangers!N133)","v":""},{"$f":"IF(ISBLANK(Trait_Etrangers!O133),\"\",Trait_Etrangers!O133)","v":""},{"$f":"IF(ISBLANK(Trait_Etrangers!P133),\"\",Trait_Etrangers!P133)","v":""},null,{"$f":"IF(ISBLANK(Trait_Etrangers!R133),\"\",Trait_Etrangers!R133)","v":""},{"$f":"IF(ISBLANK(Trait_Etrangers!S133),\"\",Trait_Etrangers!S133)","v":""},{"$f":"IF(ISBLANK(Trait_Etrangers!T133),\"\",Trait_Etrangers!T133)","v":""},{"$f":"IF(ISBLANK(Trait_Etrangers!U133),\"\",Trait_Etrangers!U133)","v":""},null,null,null,"","",0,0,0,0,0,0,0,0,0,0,0,0,0,0,0,0,0,null,1,null,null,{"$f":"IF(AX133=\"\",\"\",IF(CE133=1,\"[b][color=red]\"&Datas!$D$32&\"[/color][/b]\"&AX133&\"[b][color=red]\"&Datas!$D$33&\"{\"&CD133&\"}[/color][/b]\",AX133))","v":{"$error":"#N/A"}},{"$error":"#N/A"}," ",{"$f":"IF(ISBLANK(Datas!$C$47),\"\",\" - \"&BG133)","v":{"$error":"#N/A"}},{"$f":"IF(ISBLANK(Datas!$C$48),\"\",\" - \"&BH133)","v":" - "},{"$f":"IF(ISBLANK(Datas!$C$49),\"\",\" - \"&BI133)","v":""},{"$f":"IF(ISBLANK(Datas!$C$50),\"\",\" - \"&BJ133)","v":" - Ecus:"},{"$f":"IF(ISBLANK(Datas!$C$51),\"\",\" - \"&BK133)","v":" - Niv: "},null,{"$error":"#N/A"},{"$error":"#N/A"},"","PR:","Ecus:","Niv: ",null,null,null,null,"",{"$f":"VLOOKUP(BP133,LstVillage!$B$8:$C$283,1)","v":{"$error":"#N/A"}},{"$error":"#N/A"},{"$error":"#N/A"},"",{"$f":"VLOOKUP(BT133,Datas!$G$6:$G$17,1)","v":{"$error":"#N/A"}},{"$error":"#N/A"},{"$error":"#N/A"},null,"",0,0,null,{"$f":"VLOOKUP(BP133,Liste_Noire!$B$15:$G$1208,1)","v":{"$error":"#N/A"}},{"$f":"VLOOKUP(BP133,Liste_Noire!$B$15:$G$1208,5)","v":{"$error":"#N/A"}},{"$error":"#N/A"},null,0,0,0,0,0,0,1]
[null,""," ","","","","","",{"$f":"IF(ISBLANK(Trait_Etrangers!H134),\"\",Trait_Etrangers!H134)","v":""},{"$f":"IF(ISBLANK(Trait_Etrangers!I134),\"\",Trait_Etrangers!I134)","v":""},{"$f":"IF(ISBLANK(Trait_Etrangers!J134),\"\",Trait_Etrangers!J134)","v":""},{"$f":"IF(ISBLANK(Trait_Etrangers!K134),\"\",Trait_Etrangers!K134)","v":""},{"$f":"IF(ISBLANK(Trait_Etrangers!L134),\"\",Trait_Etrangers!L134)","v":""},{"$f":"IF(ISBLANK(Trait_Etrangers!M134),\"\",Trait_Etrangers!M134)","v":""},{"$f":"IF(ISBLANK(Trait_Etrangers!N134),\"\",Trait_Etrangers!N134)","v":""},{"$f":"IF(ISBLANK(Trait_Etrangers!O134),\"\",Trait_Etrangers!O134)","v":""},{"$f":"IF(ISBLANK(Trait_Etrangers!P134),\"\",Trait_Etrangers!P134)","v":""},null,{"$f":"IF(ISBLANK(Trait_Etrangers!R134),\"\",Trait_Etrangers!R134)","v":""},{"$f":"IF(ISBLANK(Trait_Etrangers!S134),\"\",Trait_Etrangers!S134)","v":""},{"$f":"IF(ISBLANK(Trait_Etrangers!T134),\"\",Trait_Etrangers!T134)","v":""},{"$f":"IF(ISBLANK(Trait_Etrangers!U134),\"\",Trait_Etrangers!U134)","v":""},null,null,null,"","",0,0,0,0,0,0,0,0,0,0,0,0,0,0,0,0,0,null,1,null,null,{"$f":"IF(AX134=\"\",\"\",IF(CE134=1,\"[b][color=red]\"&Datas!$D$32&\"[/color][/b]\"&AX134&\"[b][color=red]\"&Datas!$D$33&\"{\"&CD134&\"}[/color][/b]\",AX134))","v":{"$error":"#N/A"}},{"$error":"#N/A"}," ",{"$f":"IF(ISBLANK(Datas!$C$47),\"\",\" - \"&BG134)","v":{"$error":"#N/A"}},{"$f":"IF(ISBLANK(Datas!$C$48),\"\",\" - \"&BH134)","v":" - "},{"$f":"IF(ISBLANK(Datas!$C$49),\"\",\" - \"&BI134)","v":""},{"$f":"IF(ISBLANK(Datas!$C$50),\"\",\" - \"&BJ134)","v":" - Ecus:"},{"$f":"IF(ISBLANK(Datas!$C$51),\"\",\" - \"&BK134)","v":" - Niv: "},null,{"$error":"#N/A"},{"$error":"#N/A"},"","PR:","Ecus:","Niv: ",null,null,null,null,"",{"$f":"VLOOKUP(BP134,LstVillage!$B$8:$C$283,1)","v":{"$error":"#N/A"}},{"$error":"#N/A"},{"$error":"#N/A"},"",{"$f":"VLOOKUP(BT134,Datas!$G$6:$G$17,1)","v":{"$error":"#N/A"}},{"$error":"#N/A"},{"$error":"#N/A"},null,"",0,0,null,{"$f":"VLOOKUP(BP134,Liste_Noire!$B$15:$G$1208,1)","v":{"$error":"#N/A"}},{"$f":"VLOOKUP(BP134,Liste_Noire!$B$15:$G$1208,5)","v":{"$error":"#N/A"}},{"$error":"#N/A"},null,0,0,0,0,0,0,1]
[null,""," ","","","","","",{"$f":"IF(ISBLANK(Trait_Etrangers!H135),\"\",Trait_Etrangers!H135)","v":""},{"$f":"IF(ISBLANK(Trait_Etrangers!I135),\"\",Trait_Etrangers!I135)","v":""},{"$f":"IF(ISBLANK(Trait_Etrangers!J135),\"\",Trait_Etrangers!J135)","v":""},{"$f":"IF(ISBLANK(Trait_Etrangers!K135),\"\",Trait_Etrangers!K135)","v":""},{"$f":"IF(ISBLANK(Trait_Etrangers!L135),\"\",Trait_Etrangers!L135)","v":""},{"$f":"IF(ISBLANK(Trait_Etrangers!M135),\"\",Trait_Etrangers!M135)","v":""},{"$f":"IF(ISBLANK(Trait_Etrangers!N135),\"\",Trait_Etrangers!N135)","v":""},{"$f":"IF(ISBLANK(Trait_Etrangers!O135),\"\",Trait_Etrangers!O135)","v":""},{"$f":"IF(ISBLANK(Trait_Etrangers!P135),\"\",Trait_Etrangers!P135)","v":""},null,{"$f":"IF(ISBLANK(Trait_Etrangers!R135),\"\",Trait_Etrangers!R135)","v":""},{"$f":"IF(ISBLANK(Trait_Etrangers!S135),\"\",Trait_Etrangers!S135)","v":""},{"$f":"IF(ISBLANK(Trait_Etrangers!T135),\"\",Trait_Etrangers!T135)","v":""},{"$f":"IF(ISBLANK(Trait_Etrangers!U135),\"\",Trait_Etrangers!U135)","v":""},null,null,null,"","",0,0,0,0,0,0,0,0,0,0,0,0,0,0,0,0,0,null,1,null,null,{"$f":"IF(AX135=\"\",\"\",IF(CE135=1,\"[b][color=red]\"&Datas!$D$32&\"[/color][/b]\"&AX135&\"[b][color=red]\"&Datas!$D$33&\"{\"&CD135&\"}[/color][/b]\",AX135))","v":{"$error":"#N/A"}},{"$error":"#N/A"}," ",{"$f":"IF(ISBLANK(Datas!$C$47),\"\",\" - \"&BG135)","v":{"$error":"#N/A"}},{"$f":"IF(ISBLANK(Datas!$C$48),\"\",\" - \"&BH135)","v":" - "},{"$f":"IF(ISBLANK(Datas!$C$49),\"\",\" - \"&BI135)","v":""},{"$f":"IF(ISBLANK(Datas!$C$50),\"\",\" - \"&BJ135)","v":" - Ecus:"},{"$f":"IF(ISBLANK(Datas!$C$51),\"\",\" - \"&BK135)","v":" - Niv: "},null,{"$error":"#N/A"},{"$error":"#N/A"},"","PR:","Ecus:","Niv: ",null,null,null,null,"",{"$f":"VLOOKUP(BP135,LstVillage!$B$8:$C$283,1)","v":{"$error":"#N/A"}},{"$error":"#N/A"},{"$error":"#N/A"},"",{"$f":"VLOOKUP(BT135,Datas!$G$6:$G$17,1)","v":{"$error":"#N/A"}},{"$error":"#N/A"},{"$error":"#N/A"},null,"",0,0,null,{"$f":"VLOOKUP(BP135,Liste_Noire!$B$15:$G$1208,1)","v":{"$error":"#N/A"}},{"$f":"VLOOKUP(BP135,Liste_Noire!$B$15:$G$1208,5)","v":{"$error":"#N/A"}},{"$error":"#N/A"},null,0,0,0,0,0,0,1]
[null,""," ","","","","","",{"$f":"IF(ISBLANK(Trait_Etrangers!H136),\"\",Trait_Etrangers!H136)","v":""},{"$f":"IF(ISBLANK(Trait_Etrangers!I136),\"\",Trait_Etrangers!I136)","v":""},{"$f":"IF(ISBLANK(Trait_Etrangers!J136),\"\",Trait_Etrangers!J136)","v":""},{"$f":"IF(ISBLANK(Trait_Etrangers!K136),\"\",Trait_Etrangers!K136)","v":""},{"$f":"IF(ISBLANK(Trait_Etrangers!L136),\"\",Trait_Etrangers!L136)","v":""},{"$f":"IF(ISBLANK(Trait_Etrangers!M136),\"\",Trait_Etrangers!M136)","v":""},{"$f":"IF(ISBLANK(Trait_Etrangers!N136),\"\",Trait_Etrangers!N136)","v":""},{"$f":"IF(ISBLANK(Trait_Etrangers!O136),\"\",Trait_Etrangers!O136)","v":""},{"$f":"IF(ISBLANK(Trait_Etrangers!P136),\"\",Trait_Etrangers!P136)","v":""},null,{"$f":"IF(ISBLANK(Trait_Etrangers!R136),\"\",Trait_Etrangers!R136)","v":""},{"$f":"IF(ISBLANK(Trait_Etrangers!S136),\"\",Trait_Etrangers!S136)","v":""},{"$f":"IF(ISBLANK(Trait_Etrangers!T136),\"\",Trait_Etrangers!T136)","v":""},{"$f":"IF(ISBLANK(Trait_Etrangers!U136),\"\",Trait_Etrangers!U136)","v":""},null,null,null,"","",0,0,0,0,0,0,0,0,0,0,0,0,0,0,0,0,0,null,1,null,null,{"$f":"IF(AX136=\"\",\"\",IF(CE136=1,\"[b][color=red]\"&Datas!$D$32&\"[/color][/b]\"&AX136&\"[b][color=red]\"&Datas!$D$33&\"{\"&CD136&\"}[/color][/b]\",AX136))","v":{"$error":"#N/A"}},{"$error":"#N/A"}," ",{"$f":"IF(ISBLANK(Datas!$C$47),\"\",\" - \"&BG136)","v":{"$error":"#N/A"}},{"$f":"IF(ISBLANK(Datas!$C$48),\"\",\" - \"&BH136)","v":" - "},{"$f":"IF(ISBLANK(Datas!$C$49),\"\",\" - \"&BI136)","v":""},{"$f":"IF(ISBLANK(Datas!$C$50),\"\",\" - \"&BJ136)","v":" - Ecus:"},{"$f":"IF(ISBLANK(Datas!$C$51),\"\",\" - \"&BK136)","v":" - Niv: "},null,{"$error":"#N/A"},{"$error":"#N/A"},"","PR:","Ecus:","Niv: ",null,null,null,null,"",{"$f":"VLOOKUP(BP136,LstVillage!$B$8:$C$283,1)","v":{"$error":"#N/A"}},{"$error":"#N/A"},{"$error":"#N/A"},"",{"$f":"VLOOKUP(BT136,Datas!$G$6:$G$17,1)","v":{"$error":"#N/A"}},{"$error":"#N/A"},{"$error":"#N/A"},null,"",0,0,null,{"$f":"VLOOKUP(BP136,Liste_Noire!$B$15:$G$1208,1)","v":{"$error":"#N/A"}},{"$f":"VLOOKUP(BP136,Liste_Noire!$B$15:$G$1208,5)","v":{"$error":"#N/A"}},{"$error":"#N/A"},null,0,0,0,0,0,0,1]
[null,""," ","","","","","",{"$f":"IF(ISBLANK(Trait_Etrangers!H137),\"\",Trait_Etrangers!H137)","v":""},{"$f":"IF(ISBLANK(Trait_Etrangers!I137),\"\",Trait_Etrangers!I137)","v":""},{"$f":"IF(ISBLANK(Trait_Etrangers!J137),\"\",Trait_Etrangers!J137)","v":""},{"$f":"IF(ISBLANK(Trait_Etrangers!K137),\"\",Trait_Etrangers!K137)","v":""},{"$f":"IF(ISBLANK(Trait_Etrangers!L137),\"\",Trait_Etrangers!L137)","v":""},{"$f":"IF(ISBLANK(Trait_Etrangers!M137),\"\",Trait_Etrangers!M137)","v":""},{"$f":"IF(ISBLANK(Trait_Etrangers!N137),\"\",Trait_Etrangers!N137)","v":""},{"$f":"IF(ISBLANK(Trait_Etrangers!O137),\"\",Trait_Etrangers!O137)","v":""},{"$f":"IF(ISBLANK(Trait_Etrangers!P137),\"\",Trait_Etrangers!P137)","v":""},null,{"$f":"IF(ISBLANK(Trait_Etrangers!R137),\"\",Trait_Etrangers!R137)","v":""},{"$f":"IF(ISBLANK(Trait_Etrangers!S137),\"\",Trait_Etrangers!S137)","v":""},{"$f":"IF(ISBLANK(Trait_Etrangers!T137),\"\",Trait_Etrangers!T137)","v":""},{"$f":"IF(ISBLANK(Trait_Etrangers!U137),\"\",Trait_Etrangers!U137)","v":""},null,null,null,"","",0,0,0,0,0,0,0,0,0,0,0,0,0,0,0,0,0,null,1,null,null,{"$f":"IF(AX137=\"\",\"\",IF(CE137=1,\"[b][color=red]\"&Datas!$D$32&\"[/color][/b]\"&AX137&\"[b][color=red]\"&Datas!$D$33&\"{\"&CD137&\"}[/color][/b]\",AX137))","v":{"$error":"#N/A"}},{"$error":"#N/A"}," ",{"$f":"IF(ISBLANK(Datas!$C$47),\"\",\" - \"&BG137)","v":{"$error":"#N/A"}},{"$f":"IF(ISBLANK(Datas!$C$48),\"\",\" - \"&BH137)","v":" - "},{"$f":"IF(ISBLANK(Datas!$C$49),\"\",\" - \"&BI137)","v":""},{"$f":"IF(ISBLANK(Datas!$C$50),\"\",\" - \"&BJ137)","v":" - Ecus:"},{"$f":"IF(ISBLANK(Datas!$C$51),\"\",\" - \"&BK137)","v":" - Niv: "},null,{"$error":"#N/A"},{"$error":"#N/A"},"","PR:","Ecus:","Niv: ",null,null,null,null,"",{"$f":"VLOOKUP(BP137,LstVillage!$B$8:$C$283,1)","v":{"$error":"#N/A"}},{"$error":"#N/A"},{"$error":"#N/A"},"",{"$f":"VLOOKUP(BT137,Datas!$G$6:$G$17,1)","v":{"$error":"#N/A"}},{"$error":"#N/A"},{"$error":"#N/A"},null,"",0,0,null,{"$f":"VLOOKUP(BP137,Liste_Noire!$B$15:$G$1208,1)","v":{"$error":"#N/A"}},{"$f":"VLOOKUP(BP137,Liste_Noire!$B$15:$G$1208,5)","v":{"$error":"#N/A"}},{"$error":"#N/A"},null,0,0,0,0,0,0,1]
[null,""," ","","","","","",{"$f":"IF(ISBLANK(Trait_Etrangers!H138),\"\",Trait_Etrangers!H138)","v":""},{"$f":"IF(ISBLANK(Trait_Etrangers!I138),\"\",Trait_Etrangers!I138)","v":""},{"$f":"IF(ISBLANK(Trait_Etrangers!J138),\"\",Trait_Etrangers!J138)","v":""},{"$f":"IF(ISBLANK(Trait_Etrangers!K138),\"\",Trait_Etrangers!K138)","v":""},{"$f":"IF(ISBLANK(Trait_Etrangers!L138),\"\",Trait_Etrangers!L138)","v":""},{"$f":"IF(ISBLANK(Trait_Etrangers!M138),\"\",Trait_Etrangers!M138)","v":""},{"$f":"IF(ISBLANK(Trait_Etrangers!N138),\"\",Trait_Etrangers!N138)","v":""},{"$f":"IF(ISBLANK(Trait_Etrangers!O138),\"\",Trait_Etrangers!O138)","v":""},{"$f":"IF(ISBLANK(Trait_Etrangers!P138),\"\",Trait_Etrangers!P138)","v":""},null,{"$f":"IF(ISBLANK(Trait_Etrangers!R138),\"\",Trait_Etrangers!R138)","v":""},{"$f":"IF(ISBLANK(Trait_Etrangers!S138),\"\",Trait_Etrangers!S138)","v":""},{"$f":"IF(ISBLANK(Trait_Etrangers!T138),\"\",Trait_Etrangers!T138)","v":""},{"$f":"IF(ISBLANK(Trait_Etrangers!U138),\"\",Trait_Etrangers!U138)","v":""},null,null,null,"","",0,0,0,0,0,0,0,0,0,0,0,0,0,0,0,0,0,null,1,null,null,{"$f":"IF(AX138=\"\",\"\",IF(CE138=1,\"[b][color=red]\"&Datas!$D$32&\"[/color][/b]\"&AX138&\"[b][color=red]\"&Datas!$D$33&\"{\"&CD138&\"}[/color][/b]\",AX138))","v":{"$error":"#N/A"}},{"$error":"#N/A"}," ",{"$f":"IF(ISBLANK(Datas!$C$47),\"\",\" - \"&BG138)","v":{"$error":"#N/A"}},{"$f":"IF(ISBLANK(Datas!$C$48),\"\",\" - \"&BH138)","v":" - "},{"$f":"IF(ISBLANK(Datas!$C$49),\"\",\" - \"&BI138)","v":""},{"$f":"IF(ISBLANK(Datas!$C$50),\"\",\" - \"&BJ138)","v":" - Ecus:"},{"$f":"IF(ISBLANK(Datas!$C$51),\"\",\" - \"&BK138)","v":" - Niv: "},null,{"$error":"#N/A"},{"$error":"#N/A"},"","PR:","Ecus:","Niv: ",null,null,null,null,"",{"$f":"VLOOKUP(BP138,LstVillage!$B$8:$C$283,1)","v":{"$error":"#N/A"}},{"$error":"#N/A"},{"$error":"#N/A"},"",{"$f":"VLOOKUP(BT138,Datas!$G$6:$G$17,1)","v":{"$error":"#N/A"}},{"$error":"#N/A"},{"$error":"#N/A"},null,"",0,0,null,{"$f":"VLOOKUP(BP138,Liste_Noire!$B$15:$G$1208,1)","v":{"$error":"#N/A"}},{"$f":"VLOOKUP(BP138,Liste_Noire!$B$15:$G$1208,5)","v":{"$error":"#N/A"}},{"$error":"#N/A"},null,0,0,0,0,0,0,1]
[null,""," ","","","","","",{"$f":"IF(ISBLANK(Trait_Etrangers!H139),\"\",Trait_Etrangers!H139)","v":""},{"$f":"IF(ISBLANK(Trait_Etrangers!I139),\"\",Trait_Etrangers!I139)","v":""},{"$f":"IF(ISBLANK(Trait_Etrangers!J139),\"\",Trait_Etrangers!J139)","v":""},{"$f":"IF(ISBLANK(Trait_Etrangers!K139),\"\",Trait_Etrangers!K139)","v":""},{"$f":"IF(ISBLANK(Trait_Etrangers!L139),\"\",Trait_Etrangers!L139)","v":""},{"$f":"IF(ISBLANK(Trait_Etrangers!M139),\"\",Trait_Etrangers!M139)","v":""},{"$f":"IF(ISBLANK(Trait_Etrangers!N139),\"\",Trait_Etrangers!N139)","v":""},{"$f":"IF(ISBLANK(Trait_Etrangers!O139),\"\",Trait_Etrangers!O139)","v":""},{"$f":"IF(ISBLANK(Trait_Etrangers!P139),\"\",Trait_Etrangers!P139)","v":""},null,{"$f":"IF(ISBLANK(Trait_Etrangers!R139),\"\",Trait_Etrangers!R139)","v":""},{"$f":"IF(ISBLANK(Trait_Etrangers!S139),\"\",Trait_Etrangers!S139)","v":""},{"$f":"IF(ISBLANK(Trait_Etrangers!T139),\"\",Trait_Etrangers!T139)","v":""},{"$f":"IF(ISBLANK(Trait_Etrangers!U139),\"\",Trait_Etrangers!U139)","v":""},null,null,null,"","",0,0,0,0,0,0,0,0,0,0,0,0,0,0,0,0,0,null,1,null,null,{"$f":"IF(AX139=\"\",\"\",IF(CE139=1,\"[b][color=red]\"&Datas!$D$32&\"[/color][/b]\"&AX139&\"[b][color=red]\"&Datas!$D$33&\"{\"&CD139&\"}[/color][/b]\",AX139))","v":{"$error":"#N/A"}},{"$error":"#N/A"}," ",{"$f":"IF(ISBLANK(Datas!$C$47),\"\",\" - \"&BG139)","v":{"$error":"#N/A"}},{"$f":"IF(ISBLANK(Datas!$C$48),\"\",\" - \"&BH139)","v":" - "},{"$f":"IF(ISBLANK(Datas!$C$49),\"\",\" - \"&BI139)","v":""},{"$f":"IF(ISBLANK(Datas!$C$50),\"\",\" - \"&BJ139)","v":" - Ecus:"},{"$f":"IF(ISBLANK(Datas!$C$51),\"\",\" - \"&BK139)","v":" - Niv: "},null,{"$error":"#N/A"},{"$error":"#N/A"},"","PR:","Ecus:","Niv: ",null,null,null,null,"",{"$f":"VLOOKUP(BP139,LstVillage!$B$8:$C$283,1)","v":{"$error":"#N/A"}},{"$error":"#N/A"},{"$error":"#N/A"},"",{"$f":"VLOOKUP(BT139,Datas!$G$6:$G$17,1)","v":{"$error":"#N/A"}},{"$error":"#N/A"},{"$error":"#N/A"},null,"",0,0,null,{"$f":"VLOOKUP(BP139,Liste_Noire!$B$15:$G$1208,1)","v":{"$error":"#N/A"}},{"$f":"VLOOKUP(BP139,Liste_Noire!$B$15:$G$1208,5)","v":{"$error":"#N/A"}},{"$error":"#N/A"},null,0,0,0,0,0,0,1]
[null,""," ","","","","","",{"$f":"IF(ISBLANK(Trait_Etrangers!H140),\"\",Trait_Etrangers!H140)","v":""},{"$f":"IF(ISBLANK(Trait_Etrangers!I140),\"\",Trait_Etrangers!I140)","v":""},{"$f":"IF(ISBLANK(Trait_Etrangers!J140),\"\",Trait_Etrangers!J140)","v":""},{"$f":"IF(ISBLANK(Trait_Etrangers!K140),\"\",Trait_Etrangers!K140)","v":""},{"$f":"IF(ISBLANK(Trait_Etrangers!L140),\"\",Trait_Etrangers!L140)","v":""},{"$f":"IF(ISBLANK(Trait_Etrangers!M140),\"\",Trait_Etrangers!M140)","v":""},{"$f":"IF(ISBLANK(Trait_Etrangers!N140),\"\",Trait_Etrangers!N140)","v":""},{"$f":"IF(ISBLANK(Trait_Etrangers!O140),\"\",Trait_Etrangers!O140)","v":""},{"$f":"IF(ISBLANK(Trait_Etrangers!P140),\"\",Trait_Etrangers!P140)","v":""},null,{"$f":"IF(ISBLANK(Trait_Etrangers!R140),\"\",Trait_Etrangers!R140)","v":""},{"$f":"IF(ISBLANK(Trait_Etrangers!S140),\"\",Trait_Etrangers!S140)","v":""},{"$f":"IF(ISBLANK(Trait_Etrangers!T140),\"\",Trait_Etrangers!T140)","v":""},{"$f":"IF(ISBLANK(Trait_Etrangers!U140),\"\",Trait_Etrangers!U140)","v":""},null,null,null,"","",0,0,0,0,0,0,0,0,0,0,0,0,0,0,0,0,0,null,1,null,null,{"$f":"IF(AX140=\"\",\"\",IF(CE140=1,\"[b][color=red]\"&Datas!$D$32&\"[/color][/b]\"&AX140&\"[b][color=red]\"&Datas!$D$33&\"{\"&CD140&\"}[/color][/b]\",AX140))","v":{"$error":"#N/A"}},{"$error":"#N/A"}," ",{"$f":"IF(ISBLANK(Datas!$C$47),\"\",\" - \"&BG140)","v":{"$error":"#N/A"}},{"$f":"IF(ISBLANK(Datas!$C$48),\"\",\" - \"&BH140)","v":" - "},{"$f":"IF(ISBLANK(Datas!$C$49),\"\",\" - \"&BI140)","v":""},{"$f":"IF(ISBLANK(Datas!$C$50),\"\",\" - \"&BJ140)","v":" - Ecus:"},{"$f":"IF(ISBLANK(Datas!$C$51),\"\",\" - \"&BK140)","v":" - Niv: "},null,{"$error":"#N/A"},{"$error":"#N/A"},"","PR:","Ecus:","Niv: ",null,null,null,null,"",{"$f":"VLOOKUP(BP140,LstVillage!$B$8:$C$283,1)","v":{"$error":"#N/A"}},{"$error":"#N/A"},{"$error":"#N/A"},"",{"$f":"VLOOKUP(BT140,Datas!$G$6:$G$17,1)","v":{"$error":"#N/A"}},{"$error":"#N/A"},{"$error":"#N/A"},null,"",0,0,null,{"$f":"VLOOKUP(BP140,Liste_Noire!$B$15:$G$1208,1)","v":{"$error":"#N/A"}},{"$f":"VLOOKUP(BP140,Liste_Noire!$B$15:$G$1208,5)","v":{"$error":"#N/A"}},{"$error":"#N/A"},null,0,0,0,0,0,0,1]
[null,{"$f":"IF(OR(ISBLANK($J141),$J141=\"\"),\"\",IF(BZ141,\"[strike]\"&AW141&\"[/strike]\",IF(CA141,\"[i]\"&AW141&\"[/i]\",AW141)))","v":""}," ",{"$f":"IF(N141=\"mort\",\"M\",\"\")","v":""},{"$f":"IF(ISERROR(CE141),\"\",IF(CE141=1,\"LN\",\"\"))","v":""},{"$f":"IF(N141=\"retraite\",\"R\",\"\")","v":""},{"$f":"IF(ISBLANK(Z141),\"\",Z141)","v":""},{"$f":"IF(ISBLANK(AA141),\"\",AA141)","v":""},{"$f":"IF(ISBLANK(Trait_Etrangers!H141),\"\",Trait_Etrangers!H141)","v":""},{"$f":"IF(ISBLANK(Trait_Etrangers!I141),\"\",Trait_Etrangers!I141)","v":""},{"$f":"IF(ISBLANK(Trait_Etrangers!J141),\"\",Trait_Etrangers!J141)","v":""},{"$f":"IF(ISBLANK(Trait_Etrangers!K141),\"\",Trait_Etrangers!K141)","v":""},{"$f":"IF(ISBLANK(Trait_Etrangers!L141),\"\",Trait_Etrangers!L141)","v":""},{"$f":"IF(ISBLANK(Trait_Etrangers!M141),\"\",Trait_Etrangers!M141)","v":""},{"$f":"IF(ISBLANK(Trait_Etrangers!N141),\"\",Trait_Etrangers!N141)","v":""},{"$f":"IF(ISBLANK(Trait_Etrangers!O141),\"\",Trait_Etrangers!O141)","v":""},{"$f":"IF(ISBLANK(Trait_Etrangers!P141),\"\",Trait_Etrangers!P141)","v":""},null,{"$f":"IF(ISBLANK(Trait_Etrangers!R141),\"\",Trait_Etrangers!R141)","v":""},{"$f":"IF(ISBLANK(Trait_Etrangers!S141),\"\",Trait_Etrangers!S141)","v":""},{"$f":"IF(ISBLANK(Trait_Etrangers!T141),\"\",Trait_Etrangers!T141)","v":""},{"$f":"IF(ISBLANK(Trait_Etrangers!U141),\"\",Trait_Etrangers!U141)","v":""},null,null,null,"","",{"$f":"IF(OR(ISBLANK($J141),$J141=\"\"),0,IF($L141<>$AB$8,1,0))","v":0},{"$f":"IF(AND(AB141=1,AK141=0,AO141=0,Z141=$Z$11),1,0)","v":0},{"$f":"IF(OR(ISBLANK($J141),$J141=\"\"),0,IF(AND(AC141=1,CE141=1),1,0))","v":0},{"$f":"IF($Z141=AE$11,1,0)","v":0},{"$f":"IF(AND(AE141=1,$E141=AF$11),1,0)","v":0},{"$f":"IF(AE141+AB141=2,1,0)","v":0},{"$f":"IF(AG141+AF141>1,1,0)","v":0},{"$f":"IF($Z141=AI$11,1,0)","v":0},{"$f":"IF(AND(AI141=1,$E141=AJ$11),1,0)","v":0},{"$f":"IF($F141=AK$11,1,0)","v":0},{"$f":"IF(AND(AK141=1,$E141=AL$11),1,0)","v":0},{"$f":"IF(AK141+AB141>1,1,0)","v":0},{"$f":"IF(AL141+AM141>1,1,0)","v":0},{"$f":"IF($D141=AO$11,1,0)","v":0},{"$f":"IF(AND(AO141=1,$E141=AP$11),1,0)","v":0},{"$f":"IF(AND($Z141=AQ$11,(AK141+AO141)=0),1,0)","v":0},{"$f":"IF(AND(AQ141=1,$E141=AR$11),1,0)","v":0},null,{"$f":"IF(AND(ISBLANK(J141),ISBLANK(L141),ISBLANK(M141),ISBLANK(Q141)),0,1)","v":1},null,null,{"$f":"IF(AX141=\"\",\"\",IF(CE141=1,\"[b][color=red]\"&Datas!$D$32&\"[/color][/b]\"&AX141&\"[b][color=red]\"&Datas!$D$33&\"{\"&CD141&\"}[/color][/b]\",AX141))","v":{"$error":"#N/A"}},{"$f":"IF(ISBLANK(N141),\"\",BF141&AZ141&BA141&BB141&BC141&BD141)","v":{"$error":"#N/A"}}," ",{"$f":"IF(ISBLANK(Datas!$C$47),\"\",\" - \"&BG141)","v":{"$error":"#N/A"}},{"$f":"IF(ISBLANK(Datas!$C$48),\"\",\" - \"&BH141)","v":" - "},{"$f":"IF(ISBLANK(Datas!$C$49),\"\",\" - \"&BI141)","v":""},{"$f":"IF(ISBLANK(Datas!$C$50),\"\",\" - \"&BJ141)","v":" - Ecus:"},{"$f":"IF(ISBLANK(Datas!$C$51),\"\",\" - \"&BK141)","v":" - Niv: "},null,{"$f":"\"[b][color=\"&BS141&\"]\"&BP141&\"[/color][/b]\"","v":{"$error":"#N/A"}},{"$f":"\"[b][color=\"&BW141&\"]\"&BT141&\"[/color][/b]\"","v":{"$error":"#N/A"}},{"$f":"BY141","v":""},{"$f":"\"PR:\"&P141","v":"PR:"},{"$f":"\"Ecus:\"&Q141","v":"Ecus:"},{"$f":"\"Niv: \"&O141","v":"Niv: "},null,null,null,null,{"$f":"J141","v":""},{"$f":"VLOOKUP(BP141,LstVillage!$B$8:$C$283,1)","v":{"$error":"#N/A"}},{"$f":"IF(BQ141<>BP141,0,1)","v":{"$error":"#N/A"}},{"$f":"IF(BR141=1,$BG$2,IF(BV141=1,$BG$3,$BG$4))","v":{"$error":"#N/A"}},{"$f":"M141","v":""},{"$f":"VLOOKUP(BT141,Datas!$G$6:$G$17,1)","v":{"$error":"#N/A"}},{"$f":"IF(BU141<>BT141,0,1)","v":{"$error":"#N/A"}},{"$f":"IF(BV141=1,$BJ$2,$BJ$3)","v":{"$error":"#N/A"}},null,{"$f":"L141","v":""},{"$f":"IF(F141=\"M\",1,0)","v":0},{"$f":"IF(F141=\"R\",1,0)","v":0},null,{"$f":"VLOOKUP(BP141,Liste_Noire!$B$15:$G$1208,1)","v":{"$error":"#N/A"}},{"$f":"VLOOKUP(BP141,Liste_Noire!$B$15:$G$1208,5)","v":{"$error":"#N/A"}},{"$f":"IF(ISERR(CC141),0,IF(CC141=BP141,1,0))","v":{"$error":"#N/A"}},null,{"$f":"IF(G141=\"a\",1,0)","v":0},{"$f":"IF(G141=\"d\",1,0)","v":0},{"$f":"IF(F141=\"R\",1,0)","v":0},{"$f":"IF(F141=\"M\",1,0)","v":0},{"$f":"IF(ISERROR(CE141),0,IF(CE141=1,IF(CD141=\"Liste Noire\",1,0),0))","v":0},{"$f":"IF(ISERROR(CE141),0,IF(CE141=1,IF(CD141=\"Surveillance\",1,0),0))","v":0},{"$f":"IF(ISBLANK(J141),0,1)","v":1}]
[null,""," ","","","","","",{"$f":"IF(ISBLANK(Trait_Etrangers!H142),\"\",Trait_Etrangers!H142)","v":""},{"$f":"IF(ISBLANK(Trait_Etrangers!I142),\"\",Trait_Etrangers!I142)","v":""},{"$f":"IF(ISBLANK(Trait_Etrangers!J142),\"\",Trait_Etrangers!J142)","v":""},{"$f":"IF(ISBLANK(Trait_Etrangers!K142),\"\",Trait_Etrangers!K142)","v":""},{"$f":"IF(ISBLANK(Trait_Etrangers!L142),\"\",Trait_Etrangers!L142)","v":""},{"$f":"IF(ISBLANK(Trait_Etrangers!M142),\"\",Trait_Etrangers!M142)","v":""},{"$f":"IF(ISBLANK(Trait_Etrangers!N142),\"\",Trait_Etrangers!N142)","v":""},{"$f":"IF(ISBLANK(Trait_Etrangers!O142),\"\",Trait_Etrangers!O142)","v":""},{"$f":"IF(ISBLANK(Trait_Etrangers!P142),\"\",Trait_Etrangers!P142)","v":""},null,{"$f":"IF(ISBLANK(Trait_Etrangers!R142),\"\",Trait_Etrangers!R142)","v":""},{"$f":"IF(ISBLANK(Trait_Etrangers!S142),\"\",Trait_Etrangers!S142)","v":""},{"$f":"IF(ISBLANK(Trait_Etrangers!T142),\"\",Trait_Etrangers!T142)","v":""},{"$f":"IF(ISBLANK(Trait_Etrangers!U142),\"\",Trait_Etrangers!U142)","v":""},null,null,null,{"$f":"IF(OR(ISBLANK($V142),TRIM($V142)=\"\"),IF(OR(ISBLANK($J142),$J142=\"\"),\"\",$Z$11),IF(OR($F142=$AK$11,$D142=$AO$11),$Z$11,IF($V142=\"a/d\",\"\",$V142)))","v":""},{"$f":"IF(OR(ISBLANK($J142),TRIM($J142)=\"\"),\"\",IF($D142=$AO$11,$AA$10,IF($V142=$AI$11,$AA$10,IF($AB142=1,$AA$11,$AA$10))))","v":""},0,0,0,0,0,0,0,0,0,0,0,0,0,0,0,0,0,null,1,null,null,{"$f":"IF(AX142=\"\",\"\",IF(CE142=1,\"[b][color=red]\"&Datas!$D$32&\"[/color][/b]\"&AX142&\"[b][color=red]\"&Datas!$D$33&\"{\"&CD142&\"}[/color][/b]\",AX142))","v":{"$error":"#N/A"}},{"$error":"#N/A"}," ",{"$f":"IF(ISBLANK(Datas!$C$47),\"\",\" - \"&BG142)","v":{"$error":"#N/A"}},{"$f":"IF(ISBLANK(Datas!$C$48),\"\",\" - \"&BH142)","v":" - "},{"$f":"IF(ISBLANK(Datas!$C$49),\"\",\" - \"&BI142)","v":""},{"$f":"IF(ISBLANK(Datas!$C$50),\"\",\" - \"&BJ142)","v":" - Ecus:"},{"$f":"IF(ISBLANK(Datas!$C$51),\"\",\" - \"&BK142)","v":" - Niv: "},null,{"$error":"#N/A"},{"$error":"#N/A"},"","PR:","Ecus:","Niv: ",null,null,null,null,"",{"$f":"VLOOKUP(BP142,LstVillage!$B$8:$C$283,1)","v":{"$error":"#N/A"}},{"$error":"#N/A"},{"$error":"#N/A"},"",{"$f":"VLOOKUP(BT142,Datas!$G$6:$G$17,1)","v":{"$error":"#N/A"}},{"$error":"#N/A"},{"$error":"#N/A"},null,"",0,0,null,{"$f":"VLOOKUP(BP142,Liste_Noire!$B$15:$G$1208,1)","v":{"$error":"#N/A"}},{"$f":"VLOOKUP(BP142,Liste_Noire!$B$15:$G$1208,5)","v":{"$error":"#N/A"}},{"$error":"#N/A"},null,0,0,0,0,0,0,1]
[null,""," ","","","","","",{"$f":"IF(ISBLANK(Trait_Etrangers!H143),\"\",Trait_Etrangers!H143)","v":""},{"$f":"IF(ISBLANK(Trait_Etrangers!I143),\"\",Trait_Etrangers!I143)","v":""},{"$f":"IF(ISBLANK(Trait_Etrangers!J143),\"\",Trait_Etrangers!J143)","v":""},{"$f":"IF(ISBLANK(Trait_Etrangers!K143),\"\",Trait_Etrangers!K143)","v":""},{"$f":"IF(ISBLANK(Trait_Etrangers!L143),\"\",Trait_Etrangers!L143)","v":""},{"$f":"IF(ISBLANK(Trait_Etrangers!M143),\"\",Trait_Etrangers!M143)","v":""},{"$f":"IF(ISBLANK(Trait_Etrangers!N143),\"\",Trait_Etrangers!N143)","v":""},{"$f":"IF(ISBLANK(Trait_Etrangers!O143),\"\",Trait_Etrangers!O143)","v":""},{"$f":"IF(ISBLANK(Trait_Etrangers!P143),\"\",Trait_Etrangers!P143)","v":""},null,{"$f":"IF(ISBLANK(Trait_Etrangers!R143),\"\",Trait_Etrangers!R143)","v":""},{"$f":"IF(ISBLANK(Trait_Etrangers!S143),\"\",Trait_Etrangers!S143)","v":""},{"$f":"IF(ISBLANK(Trait_Etrangers!T143),\"\",Trait_Etrangers!T143)","v":""},{"$f":"IF(ISBLANK(Trait_Etrangers!U143),\"\",Trait_Etrangers!U143)","v":""},null,null,null,"","",0,0,0,0,0,0,0,0,0,0,0,0,0,0,0,0,0,null,1,null,null,{"$f":"IF(AX143=\"\",\"\",IF(CE143=1,\"[b][color=red]\"&Datas!$D$32&\"[/color][/b]\"&AX143&\"[b][color=red]\"&Datas!$D$33&\"{\"&CD143&\"}[/color][/b]\",AX143))","v":{"$error":"#N/A"}},{"$error":"#N/A"}," ",{"$f":"IF(ISBLANK(Datas!$C$47),\"\",\" - \"&BG143)","v":{"$error":"#N/A"}},{"$f":"IF(ISBLANK(Datas!$C$48),\"\",\" - \"&BH143)","v":" - "},{"$f":"IF(ISBLANK(Datas!$C$49),\"\",\" - \"&BI143)","v":""},{"$f":"IF(ISBLANK(Datas!$C$50),\"\",\" - \"&BJ143)","v":" - Ecus:"},{"$f":"IF(ISBLANK(Datas!$C$51),\"\",\" - \"&BK143)","v":" - Niv: "},null,{"$error":"#N/A"},{"$error":"#N/A"},"","PR:","Ecus:","Niv: ",null,null,null,null,"",{"$f":"VLOOKUP(BP143,LstVillage!$B$8:$C$283,1)","v":{"$error":"#N/A"}},{"$error":"#N/A"},{"$error":"#N/A"},"",{"$f":"VLOOKUP(BT143,Datas!$G$6:$G$17,1)","v":{"$error":"#N/A"}},{"$error":"#N/A"},{"$error":"#N/A"},null,"",0,0,null,{"$f":"VLOOKUP(BP143,Liste_Noire!$B$15:$G$1208,1)","v":{"$error":"#N/A"}},{"$f":"VLOOKUP(BP143,Liste_Noire!$B$15:$G$1208,5)","v":{"$error":"#N/A"}},{"$error":"#N/A"},null,0,0,0,0,0,0,1]
[null,""," ","","","","","",{"$f":"IF(ISBLANK(Trait_Etrangers!H144),\"\",Trait_Etrangers!H144)","v":""},{"$f":"IF(ISBLANK(Trait_Etrangers!I144),\"\",Trait_Etrangers!I144)","v":""},{"$f":"IF(ISBLANK(Trait_Etrangers!J144),\"\",Trait_Etrangers!J144)","v":""},{"$f":"IF(ISBLANK(Trait_Etrangers!K144),\"\",Trait_Etrangers!K144)","v":""},{"$f":"IF(ISBLANK(Trait_Etrangers!L144),\"\",Trait_Etrangers!L144)","v":""},{"$f":"IF(ISBLANK(Trait_Etrangers!M144),\"\",Trait_Etrangers!M144)","v":""},{"$f":"IF(ISBLANK(Trait_Etrangers!N144),\"\",Trait_Etrangers!N144)","v":""},{"$f":"IF(ISBLANK(Trait_Etrangers!O144),\"\",Trait_Etrangers!O144)","v":""},{"$f":"IF(ISBLANK(Trait_Etrangers!P144),\"\",Trait_Etrangers!P144)","v":""},null,{"$f":"IF(ISBLANK(Trait_Etrangers!R144),\"\",Trait_Etrangers!R144)","v":""},{"$f":"IF(ISBLANK(Trait_Etrangers!S144),\"\",Trait_Etrangers!S144)","v":""},{"$f":"IF(ISBLANK(Trait_Etrangers!T144),\"\",Trait_Etrangers!T144)","v":""},{"$f":"IF(ISBLANK(Trait_Etrangers!U144),\"\",Trait_Etrangers!U144)","v":""},null,null,null,"","",0,0,0,0,0,0,0,0,0,0,0,0,0,0,0,0,0,null,1,null,null,{"$f":"IF(AX144=\"\",\"\",IF(CE144=1,\"[b][color=red]\"&Datas!$D$32&\"[/color][/b]\"&AX144&\"[b][color=red]\"&Datas!$D$33&\"{\"&CD144&\"}[/color][/b]\",AX144))","v":{"$error":"#N/A"}},{"$error":"#N/A"}," ",{"$f":"IF(ISBLANK(Datas!$C$47),\"\",\" - \"&BG144)","v":{"$error":"#N/A"}},{"$f":"IF(ISBLANK(Datas!$C$48),\"\",\" - \"&BH144)","v":" - "},{"$f":"IF(ISBLANK(Datas!$C$49),\"\",\" - \"&BI144)","v":""},{"$f":"IF(ISBLANK(Datas!$C$50),\"\",\" - \"&BJ144)","v":" - Ecus:"},{"$f":"IF(ISBLANK(Datas!$C$51),\"\",\" - \"&BK144)","v":" - Niv: "},null,{"$error":"#N/A"},{"$error":"#N/A"},"","PR:","Ecus:","Niv: ",null,null,null,null,"",{"$f":"VLOOKUP(BP144,LstVillage!$B$8:$C$283,1)","v":{"$error":"#N/A"}},{"$error":"#N/A"},{"$error":"#N/A"},"",{"$f":"VLOOKUP(BT144,Datas!$G$6:$G$17,1)","v":{"$error":"#N/A"}},{"$error":"#N/A"},{"$error":"#N/A"},null,"",0,0,null,{"$f":"VLOOKUP(BP144,Liste_Noire!$B$15:$G$1208,1)","v":{"$error":"#N/A"}},{"$f":"VLOOKUP(BP144,Liste_Noire!$B$15:$G$1208,5)","v":{"$error":"#N/A"}},{"$error":"#N/A"},null,0,0,0,0,0,0,1]
[null,""," ","","","","","",{"$f":"IF(ISBLANK(Trait_Etrangers!H145),\"\",Trait_Etrangers!H145)","v":""},{"$f":"IF(ISBLANK(Trait_Etrangers!I145),\"\",Trait_Etrangers!I145)","v":""},{"$f":"IF(ISBLANK(Trait_Etrangers!J145),\"\",Trait_Etrangers!J145)","v":""},{"$f":"IF(ISBLANK(Trait_Etrangers!K145),\"\",Trait_Etrangers!K145)","v":""},{"$f":"IF(ISBLANK(Trait_Etrangers!L145),\"\",Trait_Etrangers!L145)","v":""},{"$f":"IF(ISBLANK(Trait_Etrangers!M145),\"\",Trait_Etrangers!M145)","v":""},{"$f":"IF(ISBLANK(Trait_Etrangers!N145),\"\",Trait_Etrangers!N145)","v":""},{"$f":"IF(ISBLANK(Trait_Etrangers!O145),\"\",Trait_Etrangers!O145)","v":""},{"$f":"IF(ISBLANK(Trait_Etrangers!P145),\"\",Trait_Etrangers!P145)","v":""},null,{"$f":"IF(ISBLANK(Trait_Etrangers!R145),\"\",Trait_Etrangers!R145)","v":""},{"$f":"IF(ISBLANK(Trait_Etrangers!S145),\"\",Trait_Etrangers!S145)","v":""},{"$f":"IF(ISBLANK(Trait_Etrangers!T145),\"\",Trait_Etrangers!T145)","v":""},{"$f":"IF(ISBLANK(Trait_Etrangers!U145),\"\",Trait_Etrangers!U145)","v":""},null,null,null,"","",0,0,0,0,0,0,0,0,0,0,0,0,0,0,0,0,0,null,1,null,null,{"$f":"IF(AX145=\"\",\"\",IF(CE145=1,\"[b][color=red]\"&Datas!$D$32&\"[/color][/b]\"&AX145&\"[b][color=red]\"&Datas!$D$33&\"{\"&CD145&\"}[/color][/b]\",AX145))","v":{"$error":"#N/A"}},{"$error":"#N/A"}," ",{"$f":"IF(ISBLANK(Datas!$C$47),\"\",\" - \"&BG145)","v":{"$error":"#N/A"}},{"$f":"IF(ISBLANK(Datas!$C$48),\"\",\" - \"&BH145)","v":" - "},{"$f":"IF(ISBLANK(Datas!$C$49),\"\",\" - \"&BI145)","v":""},{"$f":"IF(ISBLANK(Datas!$C$50),\"\",\" - \"&BJ145)","v":" - Ecus:"},{"$f":"IF(ISBLANK(Datas!$C$51),\"\",\" - \"&BK145)","v":" - Niv: "},null,{"$error":"#N/A"},{"$error":"#N/A"},"","PR:","Ecus:","Niv: ",null,null,null,null,"",{"$f":"VLOOKUP(BP145,LstVillage!$B$8:$C$283,1)","v":{"$error":"#N/A"}},{"$error":"#N/A"},{"$error":"#N/A"},"",{"$f":"VLOOKUP(BT145,Datas!$G$6:$G$17,1)","v":{"$error":"#N/A"}},{"$error":"#N/A"},{"$error":"#N/A"},null,"",0,0,null,{"$f":"VLOOKUP(BP145,Liste_Noire!$B$15:$G$1208,1)","v":{"$error":"#N/A"}},{"$f":"VLOOKUP(BP145,Liste_Noire!$B$15:$G$1208,5)","v":{"$error":"#N/A"}},{"$error":"#N/A"},null,0,0,0,0,0,0,1]
[null,""," ","","","","","",{"$f":"IF(ISBLANK(Trait_Etrangers!H146),\"\",Trait_Etrangers!H146)","v":""},{"$f":"IF(ISBLANK(Trait_Etrangers!I146),\"\",Trait_Etrangers!I146)","v":""},{"$f":"IF(ISBLANK(Trait_Etrangers!J146),\"\",Trait_Etrangers!J146)","v":""},{"$f":"IF(ISBLANK(Trait_Etrangers!K146),\"\",Trait_Etrangers!K146)","v":""},{"$f":"IF(ISBLANK(Trait_Etrangers!L146),\"\",Trait_Etrangers!L146)","v":""},{"$f":"IF(ISBLANK(Trait_Etrangers!M146),\"\",Trait_Etrangers!M146)","v":""},{"$f":"IF(ISBLANK(Trait_Etrangers!N146),\"\",Trait_Etrangers!N146)","v":""},{"$f":"IF(ISBLANK(Trait_Etrangers!O146),\"\",Trait_Etrangers!O146)","v":""},{"$f":"IF(ISBLANK(Trait_Etrangers!P146),\"\",Trait_Etrangers!P146)","v":""},null,{"$f":"IF(ISBLANK(Trait_Etrangers!R146),\"\",Trait_Etrangers!R146)","v":""},{"$f":"IF(ISBLANK(Trait_Etrangers!S146),\"\",Trait_Etrangers!S146)","v":""},{"$f":"IF(ISBLANK(Trait_Etrangers!T146),\"\",Trait_Etrangers!T146)","v":""},{"$f":"IF(ISBLANK(Trait_Etrangers!U146),\"\",Trait_Etrangers!U146)","v":""},null,null,null,"","",0,0,0,0,0,0,0,0,0,0,0,0,0,0,0,0,0,null,1,null,null,{"$f":"IF(AX146=\"\",\"\",IF(CE146=1,\"[b][color=red]\"&Datas!$D$32&\"[/color][/b]\"&AX146&\"[b][color=red]\"&Datas!$D$33&\"{\"&CD146&\"}[/color][/b]\",AX146))","v":{"$error":"#N/A"}},{"$error":"#N/A"}," ",{"$f":"IF(ISBLANK(Datas!$C$47),\"\",\" - \"&BG146)","v":{"$error":"#N/A"}},{"$f":"IF(ISBLANK(Datas!$C$48),\"\",\" - \"&BH146)","v":" - "},{"$f":"IF(ISBLANK(Datas!$C$49),\"\",\" - \"&BI146)","v":""},{"$f":"IF(ISBLANK(Datas!$C$50),\"\",\" - \"&BJ146)","v":" - Ecus:"},{"$f":"IF(ISBLANK(Datas!$C$51),\"\",\" - \"&BK146)","v":" - Niv: "},null,{"$error":"#N/A"},{"$error":"#N/A"},"","PR:","Ecus:","Niv: ",null,null,null,null,"",{"$f":"VLOOKUP(BP146,LstVillage!$B$8:$C$283,1)","v":{"$error":"#N/A"}},{"$error":"#N/A"},{"$error":"#N/A"},"",{"$f":"VLOOKUP(BT146,Datas!$G$6:$G$17,1)","v":{"$error":"#N/A"}},{"$error":"#N/A"},{"$error":"#N/A"},null,"",0,0,null,{"$f":"VLOOKUP(BP146,Liste_Noire!$B$15:$G$1208,1)","v":{"$error":"#N/A"}},{"$f":"VLOOKUP(BP146,Liste_Noire!$B$15:$G$1208,5)","v":{"$error":"#N/A"}},{"$error":"#N/A"},null,0,0,0,0,0,0,1]
[null,""," ","","","","","",{"$f":"IF(ISBLANK(Trait_Etrangers!H147),\"\",Trait_Etrangers!H147)","v":""},{"$f":"IF(ISBLANK(Trait_Etrangers!I147),\"\",Trait_Etrangers!I147)","v":""},{"$f":"IF(ISBLANK(Trait_Etrangers!J147),\"\",Trait_Etrangers!J147)","v":""},{"$f":"IF(ISBLANK(Trait_Etrangers!K147),\"\",Trait_Etrangers!K147)","v":""},{"$f":"IF(ISBLANK(Trait_Etrangers!L147),\"\",Trait_Etrangers!L147)","v":""},{"$f":"IF(ISBLANK(Trait_Etrangers!M147),\"\",Trait_Etrangers!M147)","v":""},{"$f":"IF(ISBLANK(Trait_Etrangers!N147),\"\",Trait_Etrangers!N147)","v":""},{"$f":"IF(ISBLANK(Trait_Etrangers!O147),\"\",Trait_Etrangers!O147)","v":""},{"$f":"IF(ISBLANK(Trait_Etrangers!P147),\"\",Trait_Etrangers!P147)","v":""},null,{"$f":"IF(ISBLANK(Trait_Etrangers!R147),\"\",Trait_Etrangers!R147)","v":""},{"$f":"IF(ISBLANK(Trait_Etrangers!S147),\"\",Trait_Etrangers!S147)","v":""},{"$f":"IF(ISBLANK(Trait_Etrangers!T147),\"\",Trait_Etrangers!T147)","v":""},{"$f":"IF(ISBLANK(Trait_Etrangers!U147),\"\",Trait_Etrangers!U147)","v":""},null,null,null,"","",0,0,0,0,0,0,0,0,0,0,0,0,0,0,0,0,0,null,1,null,null,{"$f":"IF(AX147=\"\",\"\",IF(CE147=1,\"[b][color=red]\"&Datas!$D$32&\"[/color][/b]\"&AX147&\"[b][color=red]\"&Datas!$D$33&\"{\"&CD147&\"}[/color][/b]\",AX147))","v":{"$error":"#N/A"}},{"$error":"#N/A"}," ",{"$f":"IF(ISBLANK(Datas!$C$47),\"\",\" - \"&BG147)","v":{"$error":"#N/A"}},{"$f":"IF(ISBLANK(Datas!$C$48),\"\",\" - \"&BH147)","v":" - "},{"$f":"IF(ISBLANK(Datas!$C$49),\"\",\" - \"&BI147)","v":""},{"$f":"IF(ISBLANK(Datas!$C$50),\"\",\" - \"&BJ147)","v":" - Ecus:"},{"$f":"IF(ISBLANK(Datas!$C$51),\"\",\" - \"&BK147)","v":" - Niv: "},null,{"$error":"#N/A"},{"$error":"#N/A"},"","PR:","Ecus:","Niv: ",null,null,null,null,"",{"$f":"VLOOKUP(BP147,LstVillage!$B$8:$C$283,1)","v":{"$error":"#N/A"}},{"$error":"#N/A"},{"$error":"#N/A"},"",{"$f":"VLOOKUP(BT147,Datas!$G$6:$G$17,1)","v":{"$error":"#N/A"}},{"$error":"#N/A"},{"$error":"#N/A"},null,"",0,0,null,{"$f":"VLOOKUP(BP147,Liste_Noire!$B$15:$G$1208,1)","v":{"$error":"#N/A"}},{"$f":"VLOOKUP(BP147,Liste_Noire!$B$15:$G$1208,5)","v":{"$error":"#N/A"}},{"$error":"#N/A"},null,0,0,0,0,0,0,1]
[null,""," ","","","","","",{"$f":"IF(ISBLANK(Trait_Etrangers!H148),\"\",Trait_Etrangers!H148)","v":""},{"$f":"IF(ISBLANK(Trait_Etrangers!I148),\"\",Trait_Etrangers!I148)","v":""},{"$f":"IF(ISBLANK(Trait_Etrangers!J148),\"\",Trait_Etrangers!J148)","v":""},{"$f":"IF(ISBLANK(Trait_Etrangers!K148),\"\",Trait_Etrangers!K148)","v":""},{"$f":"IF(ISBLANK(Trait_Etrangers!L148),\"\",Trait_Etrangers!L148)","v":""},{"$f":"IF(ISBLANK(Trait_Etrangers!M148),\"\",Trait_Etrangers!M148)","v":""},{"$f":"IF(ISBLANK(Trait_Etrangers!N148),\"\",Trait_Etrangers!N148)","v":""},{"$f":"IF(ISBLANK(Trait_Etrangers!O148),\"\",Trait_Etrangers!O148)","v":""},{"$f":"IF(ISBLANK(Trait_Etrangers!P148),\"\",Trait_Etrangers!P148)","v":""},null,{"$f":"IF(ISBLANK(Trait_Etrangers!R148),\"\",Trait_Etrangers!R148)","v":""},{"$f":"IF(ISBLANK(Trait_Etrangers!S148),\"\",Trait_Etrangers!S148)","v":""},{"$f":"IF(ISBLANK(Trait_Etrangers!T148),\"\",Trait_Etrangers!T148)","v":""},{"$f":"IF(ISBLANK(Trait_Etrangers!U148),\"\",Trait_Etrangers!U148)","v":""},null,null,null,"","",0,0,0,0,0,0,0,0,0,0,0,0,0,0,0,0,0,null,1,null,null,{"$f":"IF(AX148=\"\",\"\",IF(CE148=1,\"[b][color=red]\"&Datas!$D$32&\"[/color][/b]\"&AX148&\"[b][color=red]\"&Datas!$D$33&\"{\"&CD148&\"}[/color][/b]\",AX148))","v":{"$error":"#N/A"}},{"$error":"#N/A"}," ",{"$f":"IF(ISBLANK(Datas!$C$47),\"\",\" - \"&BG148)","v":{"$error":"#N/A"}},{"$f":"IF(ISBLANK(Datas!$C$48),\"\",\" - \"&BH148)","v":" - "},{"$f":"IF(ISBLANK(Datas!$C$49),\"\",\" - \"&BI148)","v":""},{"$f":"IF(ISBLANK(Datas!$C$50),\"\",\" - \"&BJ148)","v":" - Ecus:"},{"$f":"IF(ISBLANK(Datas!$C$51),\"\",\" - \"&BK148)","v":" - Niv: "},null,{"$error":"#N/A"},{"$error":"#N/A"},"","PR:","Ecus:","Niv: ",null,null,null,null,"",{"$f":"VLOOKUP(BP148,LstVillage!$B$8:$C$283,1)","v":{"$error":"#N/A"}},{"$error":"#N/A"},{"$error":"#N/A"},"",{"$f":"VLOOKUP(BT148,Datas!$G$6:$G$17,1)","v":{"$error":"#N/A"}},{"$error":"#N/A"},{"$error":"#N/A"},null,"",0,0,null,{"$f":"VLOOKUP(BP148,Liste_Noire!$B$15:$G$1208,1)","v":{"$error":"#N/A"}},{"$f":"VLOOKUP(BP148,Liste_Noire!$B$15:$G$1208,5)","v":{"$error":"#N/A"}},{"$error":"#N/A"},null,0,0,0,0,0,0,1]
[null,""," ","","","","","",{"$f":"IF(ISBLANK(Trait_Etrangers!H149),\"\",Trait_Etrangers!H149)","v":""},{"$f":"IF(ISBLANK(Trait_Etrangers!I149),\"\",Trait_Etrangers!I149)","v":""},{"$f":"IF(ISBLANK(Trait_Etrangers!J149),\"\",Trait_Etrangers!J149)","v":""},{"$f":"IF(ISBLANK(Trait_Etrangers!K149),\"\",Trait_Etrangers!K149)","v":""},{"$f":"IF(ISBLANK(Trait_Etrangers!L149),\"\",Trait_Etrangers!L149)","v":""},{"$f":"IF(ISBLANK(Trait_Etrangers!M149),\"\",Trait_Etrangers!M149)","v":""},{"$f":"IF(ISBLANK(Trait_Etrangers!N149),\"\",Trait_Etrangers!N149)","v":""},{"$f":"IF(ISBLANK(Trait_Etrangers!O149),\"\",Trait_Etrangers!O149)","v":""},{"$f":"IF(ISBLANK(Trait_Etrangers!P149),\"\",Trait_Etrangers!P149)","v":""},null,{"$f":"IF(ISBLANK(Trait_Etrangers!R149),\"\",Trait_Etrangers!R149)","v":""},{"$f":"IF(ISBLANK(Trait_Etrangers!S149),\"\",Trait_Etrangers!S149)","v":""},{"$f":"IF(ISBLANK(Trait_Etrangers!T149),\"\",Trait_Etrangers!T149)","v":""},{"$f":"IF(ISBLANK(Trait_Etrangers!U149),\"\",Trait_Etrangers!U149)","v":""},null,null,null,"","",0,0,0,0,0,0,0,0,0,0,0,0,0,0,0,0,0,null,1,null,null,{"$f":"IF(AX149=\"\",\"\",IF(CE149=1,\"[b][color=red]\"&Datas!$D$32&\"[/color][/b]\"&AX149&\"[b][color=red]\"&Datas!$D$33&\"{\"&CD149&\"}[/color][/b]\",AX149))","v":{"$error":"#N/A"}},{"$error":"#N/A"}," ",{"$f":"IF(ISBLANK(Datas!$C$47),\"\",\" - \"&BG149)","v":{"$error":"#N/A"}},{"$f":"IF(ISBLANK(Datas!$C$48),\"\",\" - \"&BH149)","v":" - "},{"$f":"IF(ISBLANK(Datas!$C$49),\"\",\" - \"&BI149)","v":""},{"$f":"IF(ISBLANK(Datas!$C$50),\"\",\" - \"&BJ149)","v":" - Ecus:"},{"$f":"IF(ISBLANK(Datas!$C$51),\"\",\" - \"&BK149)","v":" - Niv: "},null,{"$error":"#N/A"},{"$error":"#N/A"},"","PR:","Ecus:","Niv: ",null,null,null,null,"",{"$f":"VLOOKUP(BP149,LstVillage!$B$8:$C$283,1)","v":{"$error":"#N/A"}},{"$error":"#N/A"},{"$error":"#N/A"},"",{"$f":"VLOOKUP(BT149,Datas!$G$6:$G$17,1)","v":{"$error":"#N/A"}},{"$error":"#N/A"},{"$error":"#N/A"},null,"",0,0,null,{"$f":"VLOOKUP(BP149,Liste_Noire!$B$15:$G$1208,1)","v":{"$error":"#N/A"}},{"$f":"VLOOKUP(BP149,Liste_Noire!$B$15:$G$1208,5)","v":{"$error":"#N/A"}},{"$error":"#N/A"},null,0,0,0,0,0,0,1]
[null,""," ","","","","","",{"$f":"IF(ISBLANK(Trait_Etrangers!H150),\"\",Trait_Etrangers!H150)","v":""},{"$f":"IF(ISBLANK(Trait_Etrangers!I150),\"\",Trait_Etrangers!I150)","v":""},{"$f":"IF(ISBLANK(Trait_Etrangers!J150),\"\",Trait_Etrangers!J150)","v":""},{"$f":"IF(ISBLANK(Trait_Etrangers!K150),\"\",Trait_Etrangers!K150)","v":""},{"$f":"IF(ISBLANK(Trait_Etrangers!L150),\"\",Trait_Etrangers!L150)","v":""},{"$f":"IF(ISBLANK(Trait_Etrangers!M150),\"\",Trait_Etrangers!M150)","v":""},{"$f":"IF(ISBLANK(Trait_Etrangers!N150),\"\",Trait_Etrangers!N150)","v":""},{"$f":"IF(ISBLANK(Trait_Etrangers!O150),\"\",Trait_Etrangers!O150)","v":""},{"$f":"IF(ISBLANK(Trait_Etrangers!P150),\"\",Trait_Etrangers!P150)","v":""},null,{"$f":"IF(ISBLANK(Trait_Etrangers!R150),\"\",Trait_Etrangers!R150)","v":""},{"$f":"IF(ISBLANK(Trait_Etrangers!S150),\"\",Trait_Etrangers!S150)","v":""},{"$f":"IF(ISBLANK(Trait_Etrangers!T150),\"\",Trait_Etrangers!T150)","v":""},{"$f":"IF(ISBLANK(Trait_Etrangers!U150),\"\",Trait_Etrangers!U150)","v":""},null,null,null,"","",0,0,0,0,0,0,0,0,0,0,0,0,0,0,0,0,0,null,1,null,null,{"$f":"IF(AX150=\"\",\"\",IF(CE150=1,\"[b][color=red]\"&Datas!$D$32&\"[/color][/b]\"&AX150&\"[b][color=red]\"&Datas!$D$33&\"{\"&CD150&\"}[/color][/b]\",AX150))","v":{"$error":"#N/A"}},{"$error":"#N/A"}," ",{"$f":"IF(ISBLANK(Datas!$C$47),\"\",\" - \"&BG150)","v":{"$error":"#N/A"}},{"$f":"IF(ISBLANK(Datas!$C$48),\"\",\" - \"&BH150)","v":" - "},{"$f":"IF(ISBLANK(Datas!$C$49),\"\",\" - \"&BI150)","v":""},{"$f":"IF(ISBLANK(Datas!$C$50),\"\",\" - \"&BJ150)","v":" - Ecus:"},{"$f":"IF(ISBLANK(Datas!$C$51),\"\",\" - \"&BK150)","v":" - Niv: "},null,{"$error":"#N/A"},{"$error":"#N/A"},"","PR:","Ecus:","Niv: ",null,null,null,null,"",{"$f":"VLOOKUP(BP150,LstVillage!$B$8:$C$283,1)","v":{"$error":"#N/A"}},{"$error":"#N/A"},{"$error":"#N/A"},"",{"$f":"VLOOKUP(BT150,Datas!$G$6:$G$17,1)","v":{"$error":"#N/A"}},{"$error":"#N/A"},{"$error":"#N/A"},null,"",0,0,null,{"$f":"VLOOKUP(BP150,Liste_Noire!$B$15:$G$1208,1)","v":{"$error":"#N/A"}},{"$f":"VLOOKUP(BP150,Liste_Noire!$B$15:$G$1208,5)","v":{"$error":"#N/A"}},{"$error":"#N/A"},null,0,0,0,0,0,0,1]
[null,""," ","","","","","",{"$f":"IF(ISBLANK(Trait_Etrangers!H151),\"\",Trait_Etrangers!H151)","v":""},{"$f":"IF(ISBLANK(Trait_Etrangers!I151),\"\",Trait_Etrangers!I151)","v":""},{"$f":"IF(ISBLANK(Trait_Etrangers!J151),\"\",Trait_Etrangers!J151)","v":""},{"$f":"IF(ISBLANK(Trait_Etrangers!K151),\"\",Trait_Etrangers!K151)","v":""},{"$f":"IF(ISBLANK(Trait_Etrangers!L151),\"\",Trait_Etrangers!L151)","v":""},{"$f":"IF(ISBLANK(Trait_Etrangers!M151),\"\",Trait_Etrangers!M151)","v":""},{"$f":"IF(ISBLANK(Trait_Etrangers!N151),\"\",Trait_Etrangers!N151)","v":""},{"$f":"IF(ISBLANK(Trait_Etrangers!O151),\"\",Trait_Etrangers!O151)","v":""},{"$f":"IF(ISBLANK(Trait_Etrangers!P151),\"\",Trait_Etrangers!P151)","v":""},null,{"$f":"IF(ISBLANK(Trait_Etrangers!R151),\"\",Trait_Etrangers!R151)","v":""},{"$f":"IF(ISBLANK(Trait_Etrangers!S151),\"\",Trait_Etrangers!S151)","v":""},{"$f":"IF(ISBLANK(Trait_Etrangers!T151),\"\",Trait_Etrangers!T151)","v":""},{"$f":"IF(ISBLANK(Trait_Etrangers!U151),\"\",Trait_Etrangers!U151)","v":""},null,null,null,"","",0,0,0,0,0,0,0,0,0,0,0,0,0,0,0,0,0,null,1,null,null,{"$f":"IF(AX151=\"\",\"\",IF(CE151=1,\"[b][color=red]\"&Datas!$D$32&\"[/color][/b]\"&AX151&\"[b][color=red]\"&Datas!$D$33&\"{\"&CD151&\"}[/color][/b]\",AX151))","v":{"$error":"#N/A"}},{"$error":"#N/A"}," ",{"$f":"IF(ISBLANK(Datas!$C$47),\"\",\" - \"&BG151)","v":{"$error":"#N/A"}},{"$f":"IF(ISBLANK(Datas!$C$48),\"\",\" - \"&BH151)","v":" - "},{"$f":"IF(ISBLANK(Datas!$C$49),\"\",\" - \"&BI151)","v":""},{"$f":"IF(ISBLANK(Datas!$C$50),\"\",\" - \"&BJ151)","v":" - Ecus:"},{"$f":"IF(ISBLANK(Datas!$C$51),\"\",\" - \"&BK151)","v":" - Niv: "},null,{"$error":"#N/A"},{"$error":"#N/A"},"","PR:","Ecus:","Niv: ",null,null,null,null,"",{"$f":"VLOOKUP(BP151,LstVillage!$B$8:$C$283,1)","v":{"$error":"#N/A"}},{"$error":"#N/A"},{"$error":"#N/A"},"",{"$f":"VLOOKUP(BT151,Datas!$G$6:$G$17,1)","v":{"$error":"#N/A"}},{"$error":"#N/A"},{"$error":"#N/A"},null,"",0,0,null,{"$f":"VLOOKUP(BP151,Liste_Noire!$B$15:$G$1208,1)","v":{"$error":"#N/A"}},{"$f":"VLOOKUP(BP151,Liste_Noire!$B$15:$G$1208,5)","v":{"$error":"#N/A"}},{"$error":"#N/A"},null,0,0,0,0,0,0,1]
[null,""," ","","","","","",{"$f":"IF(ISBLANK(Trait_Etrangers!H152),\"\",Trait_Etrangers!H152)","v":""},{"$f":"IF(ISBLANK(Trait_Etrangers!I152),\"\",Trait_Etrangers!I152)","v":""},{"$f":"IF(ISBLANK(Trait_Etrangers!J152),\"\",Trait_Etrangers!J152)","v":""},{"$f":"IF(ISBLANK(Trait_Etrangers!K152),\"\",Trait_Etrangers!K152)","v":""},{"$f":"IF(ISBLANK(Trait_Etrangers!L152),\"\",Trait_Etrangers!L152)","v":""},{"$f":"IF(ISBLANK(Trait_Etrangers!M152),\"\",Trait_Etrangers!M152)","v":""},{"$f":"IF(ISBLANK(Trait_Etrangers!N152),\"\",Trait_Etrangers!N152)","v":""},{"$f":"IF(ISBLANK(Trait_Etrangers!O152),\"\",Trait_Etrangers!O152)","v":""},{"$f":"IF(ISBLANK(Trait_Etrangers!P152),\"\",Trait_Etrangers!P152)","v":""},null,{"$f":"IF(ISBLANK(Trait_Etrangers!R152),\"\",Trait_Etrangers!R152)","v":""},{"$f":"IF(ISBLANK(Trait_Etrangers!S152),\"\",Trait_Etrangers!S152)","v":""},{"$f":"IF(ISBLANK(Trait_Etrangers!T152),\"\",Trait_Etrangers!T152)","v":""},{"$f":"IF(ISBLANK(Trait_Etrangers!U152),\"\",Trait_Etrangers!U152)","v":""},null,null,null,"","",0,0,0,0,0,0,0,0,0,0,0,0,0,0,0,0,0,null,1,null,null,{"$f":"IF(AX152=\"\",\"\",IF(CE152=1,\"[b][color=red]\"&Datas!$D$32&\"[/color][/b]\"&AX152&\"[b][color=red]\"&Datas!$D$33&\"{\"&CD152&\"}[/color][/b]\",AX152))","v":{"$error":"#N/A"}},{"$error":"#N/A"}," ",{"$f":"IF(ISBLANK(Datas!$C$47),\"\",\" - \"&BG152)","v":{"$error":"#N/A"}},{"$f":"IF(ISBLANK(Datas!$C$48),\"\",\" - \"&BH152)","v":" - "},{"$f":"IF(ISBLANK(Datas!$C$49),\"\",\" - \"&BI152)","v":""},{"$f":"IF(ISBLANK(Datas!$C$50),\"\",\" - \"&BJ152)","v":" - Ecus:"},{"$f":"IF(ISBLANK(Datas!$C$51),\"\",\" - \"&BK152)","v":" - Niv: "},null,{"$error":"#N/A"},{"$error":"#N/A"},"","PR:","Ecus:","Niv: ",null,null,null,null,"",{"$f":"VLOOKUP(BP152,LstVillage!$B$8:$C$283,1)","v":{"$error":"#N/A"}},{"$error":"#N/A"},{"$error":"#N/A"},"",{"$f":"VLOOKUP(BT152,Datas!$G$6:$G$17,1)","v":{"$error":"#N/A"}},{"$error":"#N/A"},{"$error":"#N/A"},null,"",0,0,null,{"$f":"VLOOKUP(BP152,Liste_Noire!$B$15:$G$1208,1)","v":{"$error":"#N/A"}},{"$f":"VLOOKUP(BP152,Liste_Noire!$B$15:$G$1208,5)","v":{"$error":"#N/A"}},{"$error":"#N/A"},null,0,0,0,0,0,0,1]
[null,""," ","","","","","",{"$f":"IF(ISBLANK(Trait_Etrangers!H153),\"\",Trait_Etrangers!H153)","v":""},{"$f":"IF(ISBLANK(Trait_Etrangers!I153),\"\",Trait_Etrangers!I153)","v":""},{"$f":"IF(ISBLANK(Trait_Etrangers!J153),\"\",Trait_Etrangers!J153)","v":""},{"$f":"IF(ISBLANK(Trait_Etrangers!K153),\"\",Trait_Etrangers!K153)","v":""},{"$f":"IF(ISBLANK(Trait_Etrangers!L153),\"\",Trait_Etrangers!L153)","v":""},{"$f":"IF(ISBLANK(Trait_Etrangers!M153),\"\",Trait_Etrangers!M153)","v":""},{"$f":"IF(ISBLANK(Trait_Etrangers!N153),\"\",Trait_Etrangers!N153)","v":""},{"$f":"IF(ISBLANK(Trait_Etrangers!O153),\"\",Trait_Etrangers!O153)","v":""},{"$f":"IF(ISBLANK(Trait_Etrangers!P153),\"\",Trait_Etrangers!P153)","v":""},null,{"$f":"IF(ISBLANK(Trait_Etrangers!R153),\"\",Trait_Etrangers!R153)","v":""},{"$f":"IF(ISBLANK(Trait_Etrangers!S153),\"\",Trait_Etrangers!S153)","v":""},{"$f":"IF(ISBLANK(Trait_Etrangers!T153),\"\",Trait_Etrangers!T153)","v":""},{"$f":"IF(ISBLANK(Trait_Etrangers!U153),\"\",Trait_Etrangers!U153)","v":""},null,null,null,"","",0,0,0,0,0,0,0,0,0,0,0,0,0,0,0,0,0,null,1,null,null,{"$f":"IF(AX153=\"\",\"\",IF(CE153=1,\"[b][color=red]\"&Datas!$D$32&\"[/color][/b]\"&AX153&\"[b][color=red]\"&Datas!$D$33&\"{\"&CD153&\"}[/color][/b]\",AX153))","v":{"$error":"#N/A"}},{"$error":"#N/A"}," ",{"$f":"IF(ISBLANK(Datas!$C$47),\"\",\" - \"&BG153)","v":{"$error":"#N/A"}},{"$f":"IF(ISBLANK(Datas!$C$48),\"\",\" - \"&BH153)","v":" - "},{"$f":"IF(ISBLANK(Datas!$C$49),\"\",\" - \"&BI153)","v":""},{"$f":"IF(ISBLANK(Datas!$C$50),\"\",\" - \"&BJ153)","v":" - Ecus:"},{"$f":"IF(ISBLANK(Datas!$C$51),\"\",\" - \"&BK153)","v":" - Niv: "},null,{"$error":"#N/A"},{"$error":"#N/A"},"","PR:","Ecus:","Niv: ",null,null,null,null,"",{"$f":"VLOOKUP(BP153,LstVillage!$B$8:$C$283,1)","v":{"$error":"#N/A"}},{"$error":"#N/A"},{"$error":"#N/A"},"",{"$f":"VLOOKUP(BT153,Datas!$G$6:$G$17,1)","v":{"$error":"#N/A"}},{"$error":"#N/A"},{"$error":"#N/A"},null,"",0,0,null,{"$f":"VLOOKUP(BP153,Liste_Noire!$B$15:$G$1208,1)","v":{"$error":"#N/A"}},{"$f":"VLOOKUP(BP153,Liste_Noire!$B$15:$G$1208,5)","v":{"$error":"#N/A"}},{"$error":"#N/A"},null,0,0,0,0,0,0,1]
[null,""," ","","","","","",{"$f":"IF(ISBLANK(Trait_Etrangers!H154),\"\",Trait_Etrangers!H154)","v":""},{"$f":"IF(ISBLANK(Trait_Etrangers!I154),\"\",Trait_Etrangers!I154)","v":""},{"$f":"IF(ISBLANK(Trait_Etrangers!J154),\"\",Trait_Etrangers!J154)","v":""},{"$f":"IF(ISBLANK(Trait_Etrangers!K154),\"\",Trait_Etrangers!K154)","v":""},{"$f":"IF(ISBLANK(Trait_Etrangers!L154),\"\",Trait_Etrangers!L154)","v":""},{"$f":"IF(ISBLANK(Trait_Etrangers!M154),\"\",Trait_Etrangers!M154)","v":""},{"$f":"IF(ISBLANK(Trait_Etrangers!N154),\"\",Trait_Etrangers!N154)","v":""},{"$f":"IF(ISBLANK(Trait_Etrangers!O154),\"\",Trait_Etrangers!O154)","v":""},{"$f":"IF(ISBLANK(Trait_Etrangers!P154),\"\",Trait_Etrangers!P154)","v":""},null,{"$f":"IF(ISBLANK(Trait_Etrangers!R154),\"\",Trait_Etrangers!R154)","v":""},{"$f":"IF(ISBLANK(Trait_Etrangers!S154),\"\",Trait_Etrangers!S154)","v":""},{"$f":"IF(ISBLANK(Trait_Etrangers!T154),\"\",Trait_Etrangers!T154)","v":""},{"$f":"IF(ISBLANK(Trait_Etrangers!U154),\"\",Trait_Etrangers!U154)","v":""},null,null,null,"","",0,0,0,0,0,0,0,0,0,0,0,0,0,0,0,0,0,null,1,null,null,{"$f":"IF(AX154=\"\",\"\",IF(CE154=1,\"[b][color=red]\"&Datas!$D$32&\"[/color][/b]\"&AX154&\"[b][color=red]\"&Datas!$D$33&\"{\"&CD154&\"}[/color][/b]\",AX154))","v":{"$error":"#N/A"}},{"$error":"#N/A"}," ",{"$f":"IF(ISBLANK(Datas!$C$47),\"\",\" - \"&BG154)","v":{"$error":"#N/A"}},{"$f":"IF(ISBLANK(Datas!$C$48),\"\",\" - \"&BH154)","v":" - "},{"$f":"IF(ISBLANK(Datas!$C$49),\"\",\" - \"&BI154)","v":""},{"$f":"IF(ISBLANK(Datas!$C$50),\"\",\" - \"&BJ154)","v":" - Ecus:"},{"$f":"IF(ISBLANK(Datas!$C$51),\"\",\" - \"&BK154)","v":" - Niv: "},null,{"$error":"#N/A"},{"$error":"#N/A"},"","PR:","Ecus:","Niv: ",null,null,null,null,"",{"$f":"VLOOKUP(BP154,LstVillage!$B$8:$C$283,1)","v":{"$error":"#N/A"}},{"$error":"#N/A"},{"$error":"#N/A"},"",{"$f":"VLOOKUP(BT154,Datas!$G$6:$G$17,1)","v":{"$error":"#N/A"}},{"$error":"#N/A"},{"$error":"#N/A"},null,"",0,0,null,{"$f":"VLOOKUP(BP154,Liste_Noire!$B$15:$G$1208,1)","v":{"$error":"#N/A"}},{"$f":"VLOOKUP(BP154,Liste_Noire!$B$15:$G$1208,5)","v":{"$error":"#N/A"}},{"$error":"#N/A"},null,0,0,0,0,0,0,1]
[null,""," ","","","","","",{"$f":"IF(ISBLANK(Trait_Etrangers!H155),\"\",Trait_Etrangers!H155)","v":""},{"$f":"IF(ISBLANK(Trait_Etrangers!I155),\"\",Trait_Etrangers!I155)","v":""},{"$f":"IF(ISBLANK(Trait_Etrangers!J155),\"\",Trait_Etrangers!J155)","v":""},{"$f":"IF(ISBLANK(Trait_Etrangers!K155),\"\",Trait_Etrangers!K155)","v":""},{"$f":"IF(ISBLANK(Trait_Etrangers!L155),\"\",Trait_Etrangers!L155)","v":""},{"$f":"IF(ISBLANK(Trait_Etrangers!M155),\"\",Trait_Etrangers!M155)","v":""},{"$f":"IF(ISBLANK(Trait_Etrangers!N155),\"\",Trait_Etrangers!N155)","v":""},{"$f":"IF(ISBLANK(Trait_Etrangers!O155),\"\",Trait_Etrangers!O155)","v":""},{"$f":"IF(ISBLANK(Trait_Etrangers!P155),\"\",Trait_Etrangers!P155)","v":""},null,{"$f":"IF(ISBLANK(Trait_Etrangers!R155),\"\",Trait_Etrangers!R155)","v":""},{"$f":"IF(ISBLANK(Trait_Etrangers!S155),\"\",Trait_Etrangers!S155)","v":""},{"$f":"IF(ISBLANK(Trait_Etrangers!T155),\"\",Trait_Etrangers!T155)","v":""},{"$f":"IF(ISBLANK(Trait_Etrangers!U155),\"\",Trait_Etrangers!U155)","v":""},null,null,null,"","",0,0,0,0,0,0,0,0,0,0,0,0,0,0,0,0,0,null,1,null,null,{"$f":"IF(AX155=\"\",\"\",IF(CE155=1,\"[b][color=red]\"&Datas!$D$32&\"[/color][/b]\"&AX155&\"[b][color=red]\"&Datas!$D$33&\"{\"&CD155&\"}[/color][/b]\",AX155))","v":{"$error":"#N/A"}},{"$error":"#N/A"}," ",{"$f":"IF(ISBLANK(Datas!$C$47),\"\",\" - \"&BG155)","v":{"$error":"#N/A"}},{"$f":"IF(ISBLANK(Datas!$C$48),\"\",\" - \"&BH155)","v":" - "},{"$f":"IF(ISBLANK(Datas!$C$49),\"\",\" - \"&BI155)","v":""},{"$f":"IF(ISBLANK(Datas!$C$50),\"\",\" - \"&BJ155)","v":" - Ecus:"},{"$f":"IF(ISBLANK(Datas!$C$51),\"\",\" - \"&BK155)","v":" - Niv: "},null,{"$error":"#N/A"},{"$error":"#N/A"},"","PR:","Ecus:","Niv: ",null,null,null,null,"",{"$f":"VLOOKUP(BP155,LstVillage!$B$8:$C$283,1)","v":{"$error":"#N/A"}},{"$error":"#N/A"},{"$error":"#N/A"},"",{"$f":"VLOOKUP(BT155,Datas!$G$6:$G$17,1)","v":{"$error":"#N/A"}},{"$error":"#N/A"},{"$error":"#N/A"},null,"",0,0,null,{"$f":"VLOOKUP(BP155,Liste_Noire!$B$15:$G$1208,1)","v":{"$error":"#N/A"}},{"$f":"VLOOKUP(BP155,Liste_Noire!$B$15:$G$1208,5)","v":{"$error":"#N/A"}},{"$error":"#N/A"},null,0,0,0,0,0,0,1]
[null,""," ","","","","","",{"$f":"IF(ISBLANK(Trait_Etrangers!H156),\"\",Trait_Etrangers!H156)","v":""},{"$f":"IF(ISBLANK(Trait_Etrangers!I156),\"\",Trait_Etrangers!I156)","v":""},{"$f":"IF(ISBLANK(Trait_Etrangers!J156),\"\",Trait_Etrangers!J156)","v":""},{"$f":"IF(ISBLANK(Trait_Etrangers!K156),\"\",Trait_Etrangers!K156)","v":""},{"$f":"IF(ISBLANK(Trait_Etrangers!L156),\"\",Trait_Etrangers!L156)","v":""},{"$f":"IF(ISBLANK(Trait_Etrangers!M156),\"\",Trait_Etrangers!M156)","v":""},{"$f":"IF(ISBLANK(Trait_Etrangers!N156),\"\",Trait_Etrangers!N156)","v":""},{"$f":"IF(ISBLANK(Trait_Etrangers!O156),\"\",Trait_Etrangers!O156)","v":""},{"$f":"IF(ISBLANK(Trait_Etrangers!P156),\"\",Trait_Etrangers!P156)","v":""},null,{"$f":"IF(ISBLANK(Trait_Etrangers!R156),\"\",Trait_Etrangers!R156)","v":""},{"$f":"IF(ISBLANK(Trait_Etrangers!S156),\"\",Trait_Etrangers!S156)","v":""},{"$f":"IF(ISBLANK(Trait_Etrangers!T156),\"\",Trait_Etrangers!T156)","v":""},{"$f":"IF(ISBLANK(Trait_Etrangers!U156),\"\",Trait_Etrangers!U156)","v":""},null,null,null,"","",0,0,0,0,0,0,0,0,0,0,0,0,0,0,0,0,0,null,1,null,null,{"$f":"IF(AX156=\"\",\"\",IF(CE156=1,\"[b][color=red]\"&Datas!$D$32&\"[/color][/b]\"&AX156&\"[b][color=red]\"&Datas!$D$33&\"{\"&CD156&\"}[/color][/b]\",AX156))","v":{"$error":"#N/A"}},{"$error":"#N/A"}," ",{"$f":"IF(ISBLANK(Datas!$C$47),\"\",\" - \"&BG156)","v":{"$error":"#N/A"}},{"$f":"IF(ISBLANK(Datas!$C$48),\"\",\" - \"&BH156)","v":" - "},{"$f":"IF(ISBLANK(Datas!$C$49),\"\",\" - \"&BI156)","v":""},{"$f":"IF(ISBLANK(Datas!$C$50),\"\",\" - \"&BJ156)","v":" - Ecus:"},{"$f":"IF(ISBLANK(Datas!$C$51),\"\",\" - \"&BK156)","v":" - Niv: "},null,{"$error":"#N/A"},{"$error":"#N/A"},"","PR:","Ecus:","Niv: ",null,null,null,null,"",{"$f":"VLOOKUP(BP156,LstVillage!$B$8:$C$283,1)","v":{"$error":"#N/A"}},{"$error":"#N/A"},{"$error":"#N/A"},"",{"$f":"VLOOKUP(BT156,Datas!$G$6:$G$17,1)","v":{"$error":"#N/A"}},{"$error":"#N/A"},{"$error":"#N/A"},null,"",0,0,null,{"$f":"VLOOKUP(BP156,Liste_Noire!$B$15:$G$1208,1)","v":{"$error":"#N/A"}},{"$f":"VLOOKUP(BP156,Liste_Noire!$B$15:$G$1208,5)","v":{"$error":"#N/A"}},{"$error":"#N/A"},null,0,0,0,0,0,0,1]
[null,""," ","","","","","",{"$f":"IF(ISBLANK(Trait_Etrangers!H157),\"\",Trait_Etrangers!H157)","v":""},{"$f":"IF(ISBLANK(Trait_Etrangers!I157),\"\",Trait_Etrangers!I157)","v":""},{"$f":"IF(ISBLANK(Trait_Etrangers!J157),\"\",Trait_Etrangers!J157)","v":""},{"$f":"IF(ISBLANK(Trait_Etrangers!K157),\"\",Trait_Etrangers!K157)","v":""},{"$f":"IF(ISBLANK(Trait_Etrangers!L157),\"\",Trait_Etrangers!L157)","v":""},{"$f":"IF(ISBLANK(Trait_Etrangers!M157),\"\",Trait_Etrangers!M157)","v":""},{"$f":"IF(ISBLANK(Trait_Etrangers!N157),\"\",Trait_Etrangers!N157)","v":""},{"$f":"IF(ISBLANK(Trait_Etrangers!O157),\"\",Trait_Etrangers!O157)","v":""},{"$f":"IF(ISBLANK(Trait_Etrangers!P157),\"\",Trait_Etrangers!P157)","v":""},null,{"$f":"IF(ISBLANK(Trait_Etrangers!R157),\"\",Trait_Etrangers!R157)","v":""},{"$f":"IF(ISBLANK(Trait_Etrangers!S157),\"\",Trait_Etrangers!S157)","v":""},{"$f":"IF(ISBLANK(Trait_Etrangers!T157),\"\",Trait_Etrangers!T157)","v":""},{"$f":"IF(ISBLANK(Trait_Etrangers!U157),\"\",Trait_Etrangers!U157)","v":""},null,null,null,"","",0,0,0,0,0,0,0,0,0,0,0,0,0,0,0,0,0,null,1,null,null,{"$f":"IF(AX157=\"\",\"\",IF(CE157=1,\"[b][color=red]\"&Datas!$D$32&\"[/color][/b]\"&AX157&\"[b][color=red]\"&Datas!$D$33&\"{\"&CD157&\"}[/color][/b]\",AX157))","v":{"$error":"#N/A"}},{"$error":"#N/A"}," ",{"$f":"IF(ISBLANK(Datas!$C$47),\"\",\" - \"&BG157)","v":{"$error":"#N/A"}},{"$f":"IF(ISBLANK(Datas!$C$48),\"\",\" - \"&BH157)","v":" - "},{"$f":"IF(ISBLANK(Datas!$C$49),\"\",\" - \"&BI157)","v":""},{"$f":"IF(ISBLANK(Datas!$C$50),\"\",\" - \"&BJ157)","v":" - Ecus:"},{"$f":"IF(ISBLANK(Datas!$C$51),\"\",\" - \"&BK157)","v":" - Niv: "},null,{"$error":"#N/A"},{"$error":"#N/A"},"","PR:","Ecus:","Niv: ",null,null,null,null,"",{"$f":"VLOOKUP(BP157,LstVillage!$B$8:$C$283,1)","v":{"$error":"#N/A"}},{"$error":"#N/A"},{"$error":"#N/A"},"",{"$f":"VLOOKUP(BT157,Datas!$G$6:$G$17,1)","v":{"$error":"#N/A"}},{"$error":"#N/A"},{"$error":"#N/A"},null,"",0,0,null,{"$f":"VLOOKUP(BP157,Liste_Noire!$B$15:$G$1208,1)","v":{"$error":"#N/A"}},{"$f":"VLOOKUP(BP157,Liste_Noire!$B$15:$G$1208,5)","v":{"$error":"#N/A"}},{"$error":"#N/A"},null,0,0,0,0,0,0,1]
[null,""," ","","","","","",{"$f":"IF(ISBLANK(Trait_Etrangers!H158),\"\",Trait_Etrangers!H158)","v":""},{"$f":"IF(ISBLANK(Trait_Etrangers!I158),\"\",Trait_Etrangers!I158)","v":""},{"$f":"IF(ISBLANK(Trait_Etrangers!J158),\"\",Trait_Etrangers!J158)","v":""},{"$f":"IF(ISBLANK(Trait_Etrangers!K158),\"\",Trait_Etrangers!K158)","v":""},{"$f":"IF(ISBLANK(Trait_Etrangers!L158),\"\",Trait_Etrangers!L158)","v":""},{"$f":"IF(ISBLANK(Trait_Etrangers!M158),\"\",Trait_Etrangers!M158)","v":""},{"$f":"IF(ISBLANK(Trait_Etrangers!N158),\"\",Trait_Etrangers!N158)","v":""},{"$f":"IF(ISBLANK(Trait_Etrangers!O158),\"\",Trait_Etrangers!O158)","v":""},{"$f":"IF(ISBLANK(Trait_Etrangers!P158),\"\",Trait_Etrangers!P158)","v":""},null,{"$f":"IF(ISBLANK(Trait_Etrangers!R158),\"\",Trait_Etrangers!R158)","v":""},{"$f":"IF(ISBLANK(Trait_Etrangers!S158),\"\",Trait_Etrangers!S158)","v":""},{"$f":"IF(ISBLANK(Trait_Etrangers!T158),\"\",Trait_Etrangers!T158)","v":""},{"$f":"IF(ISBLANK(Trait_Etrangers!U158),\"\",Trait_Etrangers!U158)","v":""},null,null,null,"","",0,0,0,0,0,0,0,0,0,0,0,0,0,0,0,0,0,null,1,null,null,{"$f":"IF(AX158=\"\",\"\",IF(CE158=1,\"[b][color=red]\"&Datas!$D$32&\"[/color][/b]\"&AX158&\"[b][color=red]\"&Datas!$D$33&\"{\"&CD158&\"}[/color][/b]\",AX158))","v":{"$error":"#N/A"}},{"$error":"#N/A"}," ",{"$f":"IF(ISBLANK(Datas!$C$47),\"\",\" - \"&BG158)","v":{"$error":"#N/A"}},{"$f":"IF(ISBLANK(Datas!$C$48),\"\",\" - \"&BH158)","v":" - "},{"$f":"IF(ISBLANK(Datas!$C$49),\"\",\" - \"&BI158)","v":""},{"$f":"IF(ISBLANK(Datas!$C$50),\"\",\" - \"&BJ158)","v":" - Ecus:"},{"$f":"IF(ISBLANK(Datas!$C$51),\"\",\" - \"&BK158)","v":" - Niv: "},null,{"$error":"#N/A"},{"$error":"#N/A"},"","PR:","Ecus:","Niv: ",null,null,null,null,"",{"$f":"VLOOKUP(BP158,LstVillage!$B$8:$C$283,1)","v":{"$error":"#N/A"}},{"$error":"#N/A"},{"$error":"#N/A"},"",{"$f":"VLOOKUP(BT158,Datas!$G$6:$G$17,1)","v":{"$error":"#N/A"}},{"$error":"#N/A"},{"$error":"#N/A"},null,"",0,0,null,{"$f":"VLOOKUP(BP158,Liste_Noire!$B$15:$G$1208,1)","v":{"$error":"#N/A"}},{"$f":"VLOOKUP(BP158,Liste_Noire!$B$15:$G$1208,5)","v":{"$error":"#N/A"}},{"$error":"#N/A"},null,0,0,0,0,0,0,1]
[null,""," ","","","","","",{"$f":"IF(ISBLANK(Trait_Etrangers!H159),\"\",Trait_Etrangers!H159)","v":""},{"$f":"IF(ISBLANK(Trait_Etrangers!I159),\"\",Trait_Etrangers!I159)","v":""},{"$f":"IF(ISBLANK(Trait_Etrangers!J159),\"\",Trait_Etrangers!J159)","v":""},{"$f":"IF(ISBLANK(Trait_Etrangers!K159),\"\",Trait_Etrangers!K159)","v":""},{"$f":"IF(ISBLANK(Trait_Etrangers!L159),\"\",Trait_Etrangers!L159)","v":""},{"$f":"IF(ISBLANK(Trait_Etrangers!M159),\"\",Trait_Etrangers!M159)","v":""},{"$f":"IF(ISBLANK(Trait_Etrangers!N159),\"\",Trait_Etrangers!N159)","v":""},{"$f":"IF(ISBLANK(Trait_Etrangers!O159),\"\",Trait_Etrangers!O159)","v":""},{"$f":"IF(ISBLANK(Trait_Etrangers!P159),\"\",Trait_Etrangers!P159)","v":""},null,{"$f":"IF(ISBLANK(Trait_Etrangers!R159),\"\",Trait_Etrangers!R159)","v":""},{"$f":"IF(ISBLANK(Trait_Etrangers!S159),\"\",Trait_Etrangers!S159)","v":""},{"$f":"IF(ISBLANK(Trait_Etrangers!T159),\"\",Trait_Etrangers!T159)","v":""},{"$f":"IF(ISBLANK(Trait_Etrangers!U159),\"\",Trait_Etrangers!U159)","v":""},null,null,null,"","",0,0,0,0,0,0,0,0,0,0,0,0,0,0,0,0,0,null,1,null,null,{"$f":"IF(AX159=\"\",\"\",IF(CE159=1,\"[b][color=red]\"&Datas!$D$32&\"[/color][/b]\"&AX159&\"[b][color=red]\"&Datas!$D$33&\"{\"&CD159&\"}[/color][/b]\",AX159))","v":{"$error":"#N/A"}},{"$error":"#N/A"}," ",{"$f":"IF(ISBLANK(Datas!$C$47),\"\",\" - \"&BG159)","v":{"$error":"#N/A"}},{"$f":"IF(ISBLANK(Datas!$C$48),\"\",\" - \"&BH159)","v":" - "},{"$f":"IF(ISBLANK(Datas!$C$49),\"\",\" - \"&BI159)","v":""},{"$f":"IF(ISBLANK(Datas!$C$50),\"\",\" - \"&BJ159)","v":" - Ecus:"},{"$f":"IF(ISBLANK(Datas!$C$51),\"\",\" - \"&BK159)","v":" - Niv: "},null,{"$error":"#N/A"},{"$error":"#N/A"},"","PR:","Ecus:","Niv: ",null,null,null,null,"",{"$f":"VLOOKUP(BP159,LstVillage!$B$8:$C$283,1)","v":{"$error":"#N/A"}},{"$error":"#N/A"},{"$error":"#N/A"},"",{"$f":"VLOOKUP(BT159,Datas!$G$6:$G$17,1)","v":{"$error":"#N/A"}},{"$error":"#N/A"},{"$error":"#N/A"},null,"",0,0,null,{"$f":"VLOOKUP(BP159,Liste_Noire!$B$15:$G$1208,1)","v":{"$error":"#N/A"}},{"$f":"VLOOKUP(BP159,Liste_Noire!$B$15:$G$1208,5)","v":{"$error":"#N/A"}},{"$error":"#N/A"},null,0,0,0,0,0,0,1]
[null,""," ","","","","","",{"$f":"IF(ISBLANK(Trait_Etrangers!H160),\"\",Trait_Etrangers!H160)","v":""},{"$f":"IF(ISBLANK(Trait_Etrangers!I160),\"\",Trait_Etrangers!I160)","v":""},{"$f":"IF(ISBLANK(Trait_Etrangers!J160),\"\",Trait_Etrangers!J160)","v":""},{"$f":"IF(ISBLANK(Trait_Etrangers!K160),\"\",Trait_Etrangers!K160)","v":""},{"$f":"IF(ISBLANK(Trait_Etrangers!L160),\"\",Trait_Etrangers!L160)","v":""},{"$f":"IF(ISBLANK(Trait_Etrangers!M160),\"\",Trait_Etrangers!M160)","v":""},{"$f":"IF(ISBLANK(Trait_Etrangers!N160),\"\",Trait_Etrangers!N160)","v":""},{"$f":"IF(ISBLANK(Trait_Etrangers!O160),\"\",Trait_Etrangers!O160)","v":""},{"$f":"IF(ISBLANK(Trait_Etrangers!P160),\"\",Trait_Etrangers!P160)","v":""},null,{"$f":"IF(ISBLANK(Trait_Etrangers!R160),\"\",Trait_Etrangers!R160)","v":""},{"$f":"IF(ISBLANK(Trait_Etrangers!S160),\"\",Trait_Etrangers!S160)","v":""},{"$f":"IF(ISBLANK(Trait_Etrangers!T160),\"\",Trait_Etrangers!T160)","v":""},{"$f":"IF(ISBLANK(Trait_Etrangers!U160),\"\",Trait_Etrangers!U160)","v":""},null,null,null,"","",0,0,0,0,0,0,0,0,0,0,0,0,0,0,0,0,0,null,1,null,null,{"$f":"IF(AX160=\"\",\"\",IF(CE160=1,\"[b][color=red]\"&Datas!$D$32&\"[/color][/b]\"&AX160&\"[b][color=red]\"&Datas!$D$33&\"{\"&CD160&\"}[/color][/b]\",AX160))","v":{"$error":"#N/A"}},{"$error":"#N/A"}," ",{"$f":"IF(ISBLANK(Datas!$C$47),\"\",\" - \"&BG160)","v":{"$error":"#N/A"}},{"$f":"IF(ISBLANK(Datas!$C$48),\"\",\" - \"&BH160)","v":" - "},{"$f":"IF(ISBLANK(Datas!$C$49),\"\",\" - \"&BI160)","v":""},{"$f":"IF(ISBLANK(Datas!$C$50),\"\",\" - \"&BJ160)","v":" - Ecus:"},{"$f":"IF(ISBLANK(Datas!$C$51),\"\",\" - \"&BK160)","v":" - Niv: "},null,{"$error":"#N/A"},{"$error":"#N/A"},"","PR:","Ecus:","Niv: ",null,null,null,null,"",{"$f":"VLOOKUP(BP160,LstVillage!$B$8:$C$283,1)","v":{"$error":"#N/A"}},{"$error":"#N/A"},{"$error":"#N/A"},"",{"$f":"VLOOKUP(BT160,Datas!$G$6:$G$17,1)","v":{"$error":"#N/A"}},{"$error":"#N/A"},{"$error":"#N/A"},null,"",0,0,null,{"$f":"VLOOKUP(BP160,Liste_Noire!$B$15:$G$1208,1)","v":{"$error":"#N/A"}},{"$f":"VLOOKUP(BP160,Liste_Noire!$B$15:$G$1208,5)","v":{"$error":"#N/A"}},{"$error":"#N/A"},null,0,0,0,0,0,0,1]
[null,""," ","","","","","",{"$f":"IF(ISBLANK(Trait_Etrangers!H161),\"\",Trait_Etrangers!H161)","v":""},{"$f":"IF(ISBLANK(Trait_Etrangers!I161),\"\",Trait_Etrangers!I161)","v":""},{"$f":"IF(ISBLANK(Trait_Etrangers!J161),\"\",Trait_Etrangers!J161)","v":""},{"$f":"IF(ISBLANK(Trait_Etrangers!K161),\"\",Trait_Etrangers!K161)","v":""},{"$f":"IF(ISBLANK(Trait_Etrangers!L161),\"\",Trait_Etrangers!L161)","v":""},{"$f":"IF(ISBLANK(Trait_Etrangers!M161),\"\",Trait_Etrangers!M161)","v":""},{"$f":"IF(ISBLANK(Trait_Etrangers!N161),\"\",Trait_Etrangers!N161)","v":""},{"$f":"IF(ISBLANK(Trait_Etrangers!O161),\"\",Trait_Etrangers!O161)","v":""},{"$f":"IF(ISBLANK(Trait_Etrangers!P161),\"\",Trait_Etrangers!P161)","v":""},null,{"$f":"IF(ISBLANK(Trait_Etrangers!R161),\"\",Trait_Etrangers!R161)","v":""},{"$f":"IF(ISBLANK(Trait_Etrangers!S161),\"\",Trait_Etrangers!S161)","v":""},{"$f":"IF(ISBLANK(Trait_Etrangers!T161),\"\",Trait_Etrangers!T161)","v":""},{"$f":"IF(ISBLANK(Trait_Etrangers!U161),\"\",Trait_Etrangers!U161)","v":""},null,null,null,"","",0,0,0,0,0,0,0,0,0,0,0,0,0,0,0,0,0,null,1,null,null,{"$f":"IF(AX161=\"\",\"\",IF(CE161=1,\"[b][color=red]\"&Datas!$D$32&\"[/color][/b]\"&AX161&\"[b][color=red]\"&Datas!$D$33&\"{\"&CD161&\"}[/color][/b]\",AX161))","v":{"$error":"#N/A"}},{"$error":"#N/A"}," ",{"$f":"IF(ISBLANK(Datas!$C$47),\"\",\" - \"&BG161)","v":{"$error":"#N/A"}},{"$f":"IF(ISBLANK(Datas!$C$48),\"\",\" - \"&BH161)","v":" - "},{"$f":"IF(ISBLANK(Datas!$C$49),\"\",\" - \"&BI161)","v":""},{"$f":"IF(ISBLANK(Datas!$C$50),\"\",\" - \"&BJ161)","v":" - Ecus:"},{"$f":"IF(ISBLANK(Datas!$C$51),\"\",\" - \"&BK161)","v":" - Niv: "},null,{"$error":"#N/A"},{"$error":"#N/A"},"","PR:","Ecus:","Niv: ",null,null,null,null,"",{"$f":"VLOOKUP(BP161,LstVillage!$B$8:$C$283,1)","v":{"$error":"#N/A"}},{"$error":"#N/A"},{"$error":"#N/A"},"",{"$f":"VLOOKUP(BT161,Datas!$G$6:$G$17,1)","v":{"$error":"#N/A"}},{"$error":"#N/A"},{"$error":"#N/A"},null,"",0,0,null,{"$f":"VLOOKUP(BP161,Liste_Noire!$B$15:$G$1208,1)","v":{"$error":"#N/A"}},{"$f":"VLOOKUP(BP161,Liste_Noire!$B$15:$G$1208,5)","v":{"$error":"#N/A"}},{"$error":"#N/A"},null,0,0,0,0,0,0,1]
[null,""," ","","","","","",{"$f":"IF(ISBLANK(Trait_Etrangers!H162),\"\",Trait_Etrangers!H162)","v":""},{"$f":"IF(ISBLANK(Trait_Etrangers!I162),\"\",Trait_Etrangers!I162)","v":""},{"$f":"IF(ISBLANK(Trait_Etrangers!J162),\"\",Trait_Etrangers!J162)","v":""},{"$f":"IF(ISBLANK(Trait_Etrangers!K162),\"\",Trait_Etrangers!K162)","v":""},{"$f":"IF(ISBLANK(Trait_Etrangers!L162),\"\",Trait_Etrangers!L162)","v":""},{"$f":"IF(ISBLANK(Trait_Etrangers!M162),\"\",Trait_Etrangers!M162)","v":""},{"$f":"IF(ISBLANK(Trait_Etrangers!N162),\"\",Trait_Etrangers!N162)","v":""},{"$f":"IF(ISBLANK(Trait_Etrangers!O162),\"\",Trait_Etrangers!O162)","v":""},{"$f":"IF(ISBLANK(Trait_Etrangers!P162),\"\",Trait_Etrangers!P162)","v":""},null,{"$f":"IF(ISBLANK(Trait_Etrangers!R162),\"\",Trait_Etrangers!R162)","v":""},{"$f":"IF(ISBLANK(Trait_Etrangers!S162),\"\",Trait_Etrangers!S162)","v":""},{"$f":"IF(ISBLANK(Trait_Etrangers!T162),\"\",Trait_Etrangers!T162)","v":""},{"$f":"IF(ISBLANK(Trait_Etrangers!U162),\"\",Trait_Etrangers!U162)","v":""},null,null,null,"","",0,0,0,0,0,0,0,0,0,0,0,0,0,0,0,0,0,null,1,null,null,{"$f":"IF(AX162=\"\",\"\",IF(CE162=1,\"[b][color=red]\"&Datas!$D$32&\"[/color][/b]\"&AX162&\"[b][color=red]\"&Datas!$D$33&\"{\"&CD162&\"}[/color][/b]\",AX162))","v":{"$error":"#N/A"}},{"$error":"#N/A"}," ",{"$f":"IF(ISBLANK(Datas!$C$47),\"\",\" - \"&BG162)","v":{"$error":"#N/A"}},{"$f":"IF(ISBLANK(Datas!$C$48),\"\",\" - \"&BH162)","v":" - "},{"$f":"IF(ISBLANK(Datas!$C$49),\"\",\" - \"&BI162)","v":""},{"$f":"IF(ISBLANK(Datas!$C$50),\"\",\" - \"&BJ162)","v":" - Ecus:"},{"$f":"IF(ISBLANK(Datas!$C$51),\"\",\" - \"&BK162)","v":" - Niv: "},null,{"$error":"#N/A"},{"$error":"#N/A"},"","PR:","Ecus:","Niv: ",null,null,null,null,"",{"$f":"VLOOKUP(BP162,LstVillage!$B$8:$C$283,1)","v":{"$error":"#N/A"}},{"$error":"#N/A"},{"$error":"#N/A"},"",{"$f":"VLOOKUP(BT162,Datas!$G$6:$G$17,1)","v":{"$error":"#N/A"}},{"$error":"#N/A"},{"$error":"#N/A"},null,"",0,0,null,{"$f":"VLOOKUP(BP162,Liste_Noire!$B$15:$G$1208,1)","v":{"$error":"#N/A"}},{"$f":"VLOOKUP(BP162,Liste_Noire!$B$15:$G$1208,5)","v":{"$error":"#N/A"}},{"$error":"#N/A"},null,0,0,0,0,0,0,1]
[null,""," ","","","","","",{"$f":"IF(ISBLANK(Trait_Etrangers!H163),\"\",Trait_Etrangers!H163)","v":""},{"$f":"IF(ISBLANK(Trait_Etrangers!I163),\"\",Trait_Etrangers!I163)","v":""},{"$f":"IF(ISBLANK(Trait_Etrangers!J163),\"\",Trait_Etrangers!J163)","v":""},{"$f":"IF(ISBLANK(Trait_Etrangers!K163),\"\",Trait_Etrangers!K163)","v":""},{"$f":"IF(ISBLANK(Trait_Etrangers!L163),\"\",Trait_Etrangers!L163)","v":""},{"$f":"IF(ISBLANK(Trait_Etrangers!M163),\"\",Trait_Etrangers!M163)","v":""},{"$f":"IF(ISBLANK(Trait_Etrangers!N163),\"\",Trait_Etrangers!N163)","v":""},{"$f":"IF(ISBLANK(Trait_Etrangers!O163),\"\",Trait_Etrangers!O163)","v":""},{"$f":"IF(ISBLANK(Trait_Etrangers!P163),\"\",Trait_Etrangers!P163)","v":""},null,{"$f":"IF(ISBLANK(Trait_Etrangers!R163),\"\",Trait_Etrangers!R163)","v":""},{"$f":"IF(ISBLANK(Trait_Etrangers!S163),\"\",Trait_Etrangers!S163)","v":""},{"$f":"IF(ISBLANK(Trait_Etrangers!T163),\"\",Trait_Etrangers!T163)","v":""},{"$f":"IF(ISBLANK(Trait_Etrangers!U163),\"\",Trait_Etrangers!U163)","v":""},null,null,null,"","",0,0,0,0,0,0,0,0,0,0,0,0,0,0,0,0,0,null,1,null,null,{"$f":"IF(AX163=\"\",\"\",IF(CE163=1,\"[b][color=red]\"&Datas!$D$32&\"[/color][/b]\"&AX163&\"[b][color=red]\"&Datas!$D$33&\"{\"&CD163&\"}[/color][/b]\",AX163))","v":{"$error":"#N/A"}},{"$error":"#N/A"}," ",{"$f":"IF(ISBLANK(Datas!$C$47),\"\",\" - \"&BG163)","v":{"$error":"#N/A"}},{"$f":"IF(ISBLANK(Datas!$C$48),\"\",\" - \"&BH163)","v":" - "},{"$f":"IF(ISBLANK(Datas!$C$49),\"\",\" - \"&BI163)","v":""},{"$f":"IF(ISBLANK(Datas!$C$50),\"\",\" - \"&BJ163)","v":" - Ecus:"},{"$f":"IF(ISBLANK(Datas!$C$51),\"\",\" - \"&BK163)","v":" - Niv: "},null,{"$error":"#N/A"},{"$error":"#N/A"},"","PR:","Ecus:","Niv: ",null,null,null,null,"",{"$f":"VLOOKUP(BP163,LstVillage!$B$8:$C$283,1)","v":{"$error":"#N/A"}},{"$error":"#N/A"},{"$error":"#N/A"},"",{"$f":"VLOOKUP(BT163,Datas!$G$6:$G$17,1)","v":{"$error":"#N/A"}},{"$error":"#N/A"},{"$error":"#N/A"},null,"",0,0,null,{"$f":"VLOOKUP(BP163,Liste_Noire!$B$15:$G$1208,1)","v":{"$error":"#N/A"}},{"$f":"VLOOKUP(BP163,Liste_Noire!$B$15:$G$1208,5)","v":{"$error":"#N/A"}},{"$error":"#N/A"},null,0,0,0,0,0,0,1]
[null,""," ","","","","","",{"$f":"IF(ISBLANK(Trait_Etrangers!H164),\"\",Trait_Etrangers!H164)","v":""},{"$f":"IF(ISBLANK(Trait_Etrangers!I164),\"\",Trait_Etrangers!I164)","v":""},{"$f":"IF(ISBLANK(Trait_Etrangers!J164),\"\",Trait_Etrangers!J164)","v":""},{"$f":"IF(ISBLANK(Trait_Etrangers!K164),\"\",Trait_Etrangers!K164)","v":""},{"$f":"IF(ISBLANK(Trait_Etrangers!L164),\"\",Trait_Etrangers!L164)","v":""},{"$f":"IF(ISBLANK(Trait_Etrangers!M164),\"\",Trait_Etrangers!M164)","v":""},{"$f":"IF(ISBLANK(Trait_Etrangers!N164),\"\",Trait_Etrangers!N164)","v":""},{"$f":"IF(ISBLANK(Trait_Etrangers!O164),\"\",Trait_Etrangers!O164)","v":""},{"$f":"IF(ISBLANK(Trait_Etrangers!P164),\"\",Trait_Etrangers!P164)","v":""},null,{"$f":"IF(ISBLANK(Trait_Etrangers!R164),\"\",Trait_Etrangers!R164)","v":""},{"$f":"IF(ISBLANK(Trait_Etrangers!S164),\"\",Trait_Etrangers!S164)","v":""},{"$f":"IF(ISBLANK(Trait_Etrangers!T164),\"\",Trait_Etrangers!T164)","v":""},{"$f":"IF(ISBLANK(Trait_Etrangers!U164),\"\",Trait_Etrangers!U164)","v":""},null,null,null,"","",0,0,0,0,0,0,0,0,0,0,0,0,0,0,0,0,0,null,1,null,null,{"$f":"IF(AX164=\"\",\"\",IF(CE164=1,\"[b][color=red]\"&Datas!$D$32&\"[/color][/b]\"&AX164&\"[b][color=red]\"&Datas!$D$33&\"{\"&CD164&\"}[/color][/b]\",AX164))","v":{"$error":"#N/A"}},{"$error":"#N/A"}," ",{"$f":"IF(ISBLANK(Datas!$C$47),\"\",\" - \"&BG164)","v":{"$error":"#N/A"}},{"$f":"IF(ISBLANK(Datas!$C$48),\"\",\" - \"&BH164)","v":" - "},{"$f":"IF(ISBLANK(Datas!$C$49),\"\",\" - \"&BI164)","v":""},{"$f":"IF(ISBLANK(Datas!$C$50),\"\",\" - \"&BJ164)","v":" - Ecus:"},{"$f":"IF(ISBLANK(Datas!$C$51),\"\",\" - \"&BK164)","v":" - Niv: "},null,{"$error":"#N/A"},{"$error":"#N/A"},"","PR:","Ecus:","Niv: ",null,null,null,null,"",{"$f":"VLOOKUP(BP164,LstVillage!$B$8:$C$283,1)","v":{"$error":"#N/A"}},{"$error":"#N/A"},{"$error":"#N/A"},"",{"$f":"VLOOKUP(BT164,Datas!$G$6:$G$17,1)","v":{"$error":"#N/A"}},{"$error":"#N/A"},{"$error":"#N/A"},null,"",0,0,null,{"$f":"VLOOKUP(BP164,Liste_Noire!$B$15:$G$1208,1)","v":{"$error":"#N/A"}},{"$f":"VLOOKUP(BP164,Liste_Noire!$B$15:$G$1208,5)","v":{"$error":"#N/A"}},{"$error":"#N/A"},null,0,0,0,0,0,0,1]
[null,""," ","","","","","",{"$f":"IF(ISBLANK(Trait_Etrangers!H165),\"\",Trait_Etrangers!H165)","v":""},{"$f":"IF(ISBLANK(Trait_Etrangers!I165),\"\",Trait_Etrangers!I165)","v":""},{"$f":"IF(ISBLANK(Trait_Etrangers!J165),\"\",Trait_Etrangers!J165)","v":""},{"$f":"IF(ISBLANK(Trait_Etrangers!K165),\"\",Trait_Etrangers!K165)","v":""},{"$f":"IF(ISBLANK(Trait_Etrangers!L165),\"\",Trait_Etrangers!L165)","v":""},{"$f":"IF(ISBLANK(Trait_Etrangers!M165),\"\",Trait_Etrangers!M165)","v":""},{"$f":"IF(ISBLANK(Trait_Etrangers!N165),\"\",Trait_Etrangers!N165)","v":""},{"$f":"IF(ISBLANK(Trait_Etrangers!O165),\"\",Trait_Etrangers!O165)","v":""},{"$f":"IF(ISBLANK(Trait_Etrangers!P165),\"\",Trait_Etrangers!P165)","v":""},null,{"$f":"IF(ISBLANK(Trait_Etrangers!R165),\"\",Trait_Etrangers!R165)","v":""},{"$f":"IF(ISBLANK(Trait_Etrangers!S165),\"\",Trait_Etrangers!S165)","v":""},{"$f":"IF(ISBLANK(Trait_Etrangers!T165),\"\",Trait_Etrangers!T165)","v":""},{"$f":"IF(ISBLANK(Trait_Etrangers!U165),\"\",Trait_Etrangers!U165)","v":""},null,null,null,"","",0,0,0,0,0,0,0,0,0,0,0,0,0,0,0,0,0,null,1,null,null,{"$f":"IF(AX165=\"\",\"\",IF(CE165=1,\"[b][color=red]\"&Datas!$D$32&\"[/color][/b]\"&AX165&\"[b][color=red]\"&Datas!$D$33&\"{\"&CD165&\"}[/color][/b]\",AX165))","v":{"$error":"#N/A"}},{"$error":"#N/A"}," ",{"$f":"IF(ISBLANK(Datas!$C$47),\"\",\" - \"&BG165)","v":{"$error":"#N/A"}},{"$f":"IF(ISBLANK(Datas!$C$48),\"\",\" - \"&BH165)","v":" - "},{"$f":"IF(ISBLANK(Datas!$C$49),\"\",\" - \"&BI165)","v":""},{"$f":"IF(ISBLANK(Datas!$C$50),\"\",\" - \"&BJ165)","v":" - Ecus:"},{"$f":"IF(ISBLANK(Datas!$C$51),\"\",\" - \"&BK165)","v":" - Niv: "},null,{"$error":"#N/A"},{"$error":"#N/A"},"","PR:","Ecus:","Niv: ",null,null,null,null,"",{"$f":"VLOOKUP(BP165,LstVillage!$B$8:$C$283,1)","v":{"$error":"#N/A"}},{"$error":"#N/A"},{"$error":"#N/A"},"",{"$f":"VLOOKUP(BT165,Datas!$G$6:$G$17,1)","v":{"$error":"#N/A"}},{"$error":"#N/A"},{"$error":"#N/A"},null,"",0,0,null,{"$f":"VLOOKUP(BP165,Liste_Noire!$B$15:$G$1208,1)","v":{"$error":"#N/A"}},{"$f":"VLOOKUP(BP165,Liste_Noire!$B$15:$G$1208,5)","v":{"$error":"#N/A"}},{"$error":"#N/A"},null,0,0,0,0,0,0,1]
[null,""," ","","","","","",{"$f":"IF(ISBLANK(Trait_Etrangers!H166),\"\",Trait_Etrangers!H166)","v":""},{"$f":"IF(ISBLANK(Trait_Etrangers!I166),\"\",Trait_Etrangers!I166)","v":""},{"$f":"IF(ISBLANK(Trait_Etrangers!J166),\"\",Trait_Etrangers!J166)","v":""},{"$f":"IF(ISBLANK(Trait_Etrangers!K166),\"\",Trait_Etrangers!K166)","v":""},{"$f":"IF(ISBLANK(Trait_Etrangers!L166),\"\",Trait_Etrangers!L166)","v":""},{"$f":"IF(ISBLANK(Trait_Etrangers!M166),\"\",Trait_Etrangers!M166)","v":""},{"$f":"IF(ISBLANK(Trait_Etrangers!N166),\"\",Trait_Etrangers!N166)","v":""},{"$f":"IF(ISBLANK(Trait_Etrangers!O166),\"\",Trait_Etrangers!O166)","v":""},{"$f":"IF(ISBLANK(Trait_Etrangers!P166),\"\",Trait_Etrangers!P166)","v":""},null,{"$f":"IF(ISBLANK(Trait_Etrangers!R166),\"\",Trait_Etrangers!R166)","v":""},{"$f":"IF(ISBLANK(Trait_Etrangers!S166),\"\",Trait_Etrangers!S166)","v":""},{"$f":"IF(ISBLANK(Trait_Etrangers!T166),\"\",Trait_Etrangers!T166)","v":""},{"$f":"IF(ISBLANK(Trait_Etrangers!U166),\"\",Trait_Etrangers!U166)","v":""},null,null,null,"","",0,0,0,0,0,0,0,0,0,0,0,0,0,0,0,0,0,null,1,null,null,{"$f":"IF(AX166=\"\",\"\",IF(CE166=1,\"[b][color=red]\"&Datas!$D$32&\"[/color][/b]\"&AX166&\"[b][color=red]\"&Datas!$D$33&\"{\"&CD166&\"}[/color][/b]\",AX166))","v":{"$error":"#N/A"}},{"$error":"#N/A"}," ",{"$f":"IF(ISBLANK(Datas!$C$47),\"\",\" - \"&BG166)","v":{"$error":"#N/A"}},{"$f":"IF(ISBLANK(Datas!$C$48),\"\",\" - \"&BH166)","v":" - "},{"$f":"IF(ISBLANK(Datas!$C$49),\"\",\" - \"&BI166)","v":""},{"$f":"IF(ISBLANK(Datas!$C$50),\"\",\" - \"&BJ166)","v":" - Ecus:"},{"$f":"IF(ISBLANK(Datas!$C$51),\"\",\" - \"&BK166)","v":" - Niv: "},null,{"$error":"#N/A"},{"$error":"#N/A"},"","PR:","Ecus:","Niv: ",null,null,null,null,"",{"$f":"VLOOKUP(BP166,LstVillage!$B$8:$C$283,1)","v":{"$error":"#N/A"}},{"$error":"#N/A"},{"$error":"#N/A"},"",{"$f":"VLOOKUP(BT166,Datas!$G$6:$G$17,1)","v":{"$error":"#N/A"}},{"$error":"#N/A"},{"$error":"#N/A"},null,"",0,0,null,{"$f":"VLOOKUP(BP166,Liste_Noire!$B$15:$G$1208,1)","v":{"$error":"#N/A"}},{"$f":"VLOOKUP(BP166,Liste_Noire!$B$15:$G$1208,5)","v":{"$error":"#N/A"}},{"$error":"#N/A"},null,0,0,0,0,0,0,1]
[null,""," ","","","","","",{"$f":"IF(ISBLANK(Trait_Etrangers!H167),\"\",Trait_Etrangers!H167)","v":""},{"$f":"IF(ISBLANK(Trait_Etrangers!I167),\"\",Trait_Etrangers!I167)","v":""},{"$f":"IF(ISBLANK(Trait_Etrangers!J167),\"\",Trait_Etrangers!J167)","v":""},{"$f":"IF(ISBLANK(Trait_Etrangers!K167),\"\",Trait_Etrangers!K167)","v":""},{"$f":"IF(ISBLANK(Trait_Etrangers!L167),\"\",Trait_Etrangers!L167)","v":""},{"$f":"IF(ISBLANK(Trait_Etrangers!M167),\"\",Trait_Etrangers!M167)","v":""},{"$f":"IF(ISBLANK(Trait_Etrangers!N167),\"\",Trait_Etrangers!N167)","v":""},{"$f":"IF(ISBLANK(Trait_Etrangers!O167),\"\",Trait_Etrangers!O167)","v":""},{"$f":"IF(ISBLANK(Trait_Etrangers!P167),\"\",Trait_Etrangers!P167)","v":""},null,{"$f":"IF(ISBLANK(Trait_Etrangers!R167),\"\",Trait_Etrangers!R167)","v":""},{"$f":"IF(ISBLANK(Trait_Etrangers!S167),\"\",Trait_Etrangers!S167)","v":""},{"$f":"IF(ISBLANK(Trait_Etrangers!T167),\"\",Trait_Etrangers!T167)","v":""},{"$f":"IF(ISBLANK(Trait_Etrangers!U167),\"\",Trait_Etrangers!U167)","v":""},null,null,null,"","",0,0,0,0,0,0,0,0,0,0,0,0,0,0,0,0,0,null,1,null,null,{"$f":"IF(AX167=\"\",\"\",IF(CE167=1,\"[b][color=red]\"&Datas!$D$32&\"[/color][/b]\"&AX167&\"[b][color=red]\"&Datas!$D$33&\"{\"&CD167&\"}[/color][/b]\",AX167))","v":{"$error":"#N/A"}},{"$error":"#N/A"}," ",{"$f":"IF(ISBLANK(Datas!$C$47),\"\",\" - \"&BG167)","v":{"$error":"#N/A"}},{"$f":"IF(ISBLANK(Datas!$C$48),\"\",\" - \"&BH167)","v":" - "},{"$f":"IF(ISBLANK(Datas!$C$49),\"\",\" - \"&BI167)","v":""},{"$f":"IF(ISBLANK(Datas!$C$50),\"\",\" - \"&BJ167)","v":" - Ecus:"},{"$f":"IF(ISBLANK(Datas!$C$51),\"\",\" - \"&BK167)","v":" - Niv: "},null,{"$error":"#N/A"},{"$error":"#N/A"},"","PR:","Ecus:","Niv: ",null,null,null,null,"",{"$f":"VLOOKUP(BP167,LstVillage!$B$8:$C$283,1)","v":{"$error":"#N/A"}},{"$error":"#N/A"},{"$error":"#N/A"},"",{"$f":"VLOOKUP(BT167,Datas!$G$6:$G$17,1)","v":{"$error":"#N/A"}},{"$error":"#N/A"},{"$error":"#N/A"},null,"",0,0,null,{"$f":"VLOOKUP(BP167,Liste_Noire!$B$15:$G$1208,1)","v":{"$error":"#N/A"}},{"$f":"VLOOKUP(BP167,Liste_Noire!$B$15:$G$1208,5)","v":{"$error":"#N/A"}},{"$error":"#N/A"},null,0,0,0,0,0,0,1]
[null,""," ","","","","","",{"$f":"IF(ISBLANK(Trait_Etrangers!H168),\"\",Trait_Etrangers!H168)","v":""},{"$f":"IF(ISBLANK(Trait_Etrangers!I168),\"\",Trait_Etrangers!I168)","v":""},{"$f":"IF(ISBLANK(Trait_Etrangers!J168),\"\",Trait_Etrangers!J168)","v":""},{"$f":"IF(ISBLANK(Trait_Etrangers!K168),\"\",Trait_Etrangers!K168)","v":""},{"$f":"IF(ISBLANK(Trait_Etrangers!L168),\"\",Trait_Etrangers!L168)","v":""},{"$f":"IF(ISBLANK(Trait_Etrangers!M168),\"\",Trait_Etrangers!M168)","v":""},{"$f":"IF(ISBLANK(Trait_Etrangers!N168),\"\",Trait_Etrangers!N168)","v":""},{"$f":"IF(ISBLANK(Trait_Etrangers!O168),\"\",Trait_Etrangers!O168)","v":""},{"$f":"IF(ISBLANK(Trait_Etrangers!P168),\"\",Trait_Etrangers!P168)","v":""},null,{"$f":"IF(ISBLANK(Trait_Etrangers!R168),\"\",Trait_Etrangers!R168)","v":""},{"$f":"IF(ISBLANK(Trait_Etrangers!S168),\"\",Trait_Etrangers!S168)","v":""},{"$f":"IF(ISBLANK(Trait_Etrangers!T168),\"\",Trait_Etrangers!T168)","v":""},{"$f":"IF(ISBLANK(Trait_Etrangers!U168),\"\",Trait_Etrangers!U168)","v":""},null,null,null,"","",0,0,0,0,0,0,0,0,0,0,0,0,0,0,0,0,0,null,1,null,null,{"$f":"IF(AX168=\"\",\"\",IF(CE168=1,\"[b][color=red]\"&Datas!$D$32&\"[/color][/b]\"&AX168&\"[b][color=red]\"&Datas!$D$33&\"{\"&CD168&\"}[/color][/b]\",AX168))","v":{"$error":"#N/A"}},{"$error":"#N/A"}," ",{"$f":"IF(ISBLANK(Datas!$C$47),\"\",\" - \"&BG168)","v":{"$error":"#N/A"}},{"$f":"IF(ISBLANK(Datas!$C$48),\"\",\" - \"&BH168)","v":" - "},{"$f":"IF(ISBLANK(Datas!$C$49),\"\",\" - \"&BI168)","v":""},{"$f":"IF(ISBLANK(Datas!$C$50),\"\",\" - \"&BJ168)","v":" - Ecus:"},{"$f":"IF(ISBLANK(Datas!$C$51),\"\",\" - \"&BK168)","v":" - Niv: "},null,{"$error":"#N/A"},{"$error":"#N/A"},"","PR:","Ecus:","Niv: ",null,null,null,null,"",{"$f":"VLOOKUP(BP168,LstVillage!$B$8:$C$283,1)","v":{"$error":"#N/A"}},{"$error":"#N/A"},{"$error":"#N/A"},"",{"$f":"VLOOKUP(BT168,Datas!$G$6:$G$17,1)","v":{"$error":"#N/A"}},{"$error":"#N/A"},{"$error":"#N/A"},null,"",0,0,null,{"$f":"VLOOKUP(BP168,Liste_Noire!$B$15:$G$1208,1)","v":{"$error":"#N/A"}},{"$f":"VLOOKUP(BP168,Liste_Noire!$B$15:$G$1208,5)","v":{"$error":"#N/A"}},{"$error":"#N/A"},null,0,0,0,0,0,0,1]
[null,""," ","","","","","",{"$f":"IF(ISBLANK(Trait_Etrangers!H169),\"\",Trait_Etrangers!H169)","v":""},{"$f":"IF(ISBLANK(Trait_Etrangers!I169),\"\",Trait_Etrangers!I169)","v":""},{"$f":"IF(ISBLANK(Trait_Etrangers!J169),\"\",Trait_Etrangers!J169)","v":""},{"$f":"IF(ISBLANK(Trait_Etrangers!K169),\"\",Trait_Etrangers!K169)","v":""},{"$f":"IF(ISBLANK(Trait_Etrangers!L169),\"\",Trait_Etrangers!L169)","v":""},{"$f":"IF(ISBLANK(Trait_Etrangers!M169),\"\",Trait_Etrangers!M169)","v":""},{"$f":"IF(ISBLANK(Trait_Etrangers!N169),\"\",Trait_Etrangers!N169)","v":""},{"$f":"IF(ISBLANK(Trait_Etrangers!O169),\"\",Trait_Etrangers!O169)","v":""},{"$f":"IF(ISBLANK(Trait_Etrangers!P169),\"\",Trait_Etrangers!P169)","v":""},null,{"$f":"IF(ISBLANK(Trait_Etrangers!R169),\"\",Trait_Etrangers!R169)","v":""},{"$f":"IF(ISBLANK(Trait_Etrangers!S169),\"\",Trait_Etrangers!S169)","v":""},{"$f":"IF(ISBLANK(Trait_Etrangers!T169),\"\",Trait_Etrangers!T169)","v":""},{"$f":"IF(ISBLANK(Trait_Etrangers!U169),\"\",Trait_Etrangers!U169)","v":""},null,null,null,"","",0,0,0,0,0,0,0,0,0,0,0,0,0,0,0,0,0,null,1,null,null,{"$f":"IF(AX169=\"\",\"\",IF(CE169=1,\"[b][color=red]\"&Datas!$D$32&\"[/color][/b]\"&AX169&\"[b][color=red]\"&Datas!$D$33&\"{\"&CD169&\"}[/color][/b]\",AX169))","v":{"$error":"#N/A"}},{"$error":"#N/A"}," ",{"$f":"IF(ISBLANK(Datas!$C$47),\"\",\" - \"&BG169)","v":{"$error":"#N/A"}},{"$f":"IF(ISBLANK(Datas!$C$48),\"\",\" - \"&BH169)","v":" - "},{"$f":"IF(ISBLANK(Datas!$C$49),\"\",\" - \"&BI169)","v":""},{"$f":"IF(ISBLANK(Datas!$C$50),\"\",\" - \"&BJ169)","v":" - Ecus:"},{"$f":"IF(ISBLANK(Datas!$C$51),\"\",\" - \"&BK169)","v":" - Niv: "},null,{"$error":"#N/A"},{"$error":"#N/A"},"","PR:","Ecus:","Niv: ",null,null,null,null,"",{"$f":"VLOOKUP(BP169,LstVillage!$B$8:$C$283,1)","v":{"$error":"#N/A"}},{"$error":"#N/A"},{"$error":"#N/A"},"",{"$f":"VLOOKUP(BT169,Datas!$G$6:$G$17,1)","v":{"$error":"#N/A"}},{"$error":"#N/A"},{"$error":"#N/A"},null,"",0,0,null,{"$f":"VLOOKUP(BP169,Liste_Noire!$B$15:$G$1208,1)","v":{"$error":"#N/A"}},{"$f":"VLOOKUP(BP169,Liste_Noire!$B$15:$G$1208,5)","v":{"$error":"#N/A"}},{"$error":"#N/A"},null,0,0,0,0,0,0,1]
[null,""," ","","","","","",{"$f":"IF(ISBLANK(Trait_Etrangers!H170),\"\",Trait_Etrangers!H170)","v":""},{"$f":"IF(ISBLANK(Trait_Etrangers!I170),\"\",Trait_Etrangers!I170)","v":""},{"$f":"IF(ISBLANK(Trait_Etrangers!J170),\"\",Trait_Etrangers!J170)","v":""},{"$f":"IF(ISBLANK(Trait_Etrangers!K170),\"\",Trait_Etrangers!K170)","v":""},{"$f":"IF(ISBLANK(Trait_Etrangers!L170),\"\",Trait_Etrangers!L170)","v":""},{"$f":"IF(ISBLANK(Trait_Etrangers!M170),\"\",Trait_Etrangers!M170)","v":""},{"$f":"IF(ISBLANK(Trait_Etrangers!N170),\"\",Trait_Etrangers!N170)","v":""},{"$f":"IF(ISBLANK(Trait_Etrangers!O170),\"\",Trait_Etrangers!O170)","v":""},{"$f":"IF(ISBLANK(Trait_Etrangers!P170),\"\",Trait_Etrangers!P170)","v":""},null,{"$f":"IF(ISBLANK(Trait_Etrangers!R170),\"\",Trait_Etrangers!R170)","v":""},{"$f":"IF(ISBLANK(Trait_Etrangers!S170),\"\",Trait_Etrangers!S170)","v":""},{"$f":"IF(ISBLANK(Trait_Etrangers!T170),\"\",Trait_Etrangers!T170)","v":""},{"$f":"IF(ISBLANK(Trait_Etrangers!U170),\"\",Trait_Etrangers!U170)","v":""},null,null,null,"","",0,0,0,0,0,0,0,0,0,0,0,0,0,0,0,0,0,null,1,null,null,{"$f":"IF(AX170=\"\",\"\",IF(CE170=1,\"[b][color=red]\"&Datas!$D$32&\"[/color][/b]\"&AX170&\"[b][color=red]\"&Datas!$D$33&\"{\"&CD170&\"}[/color][/b]\",AX170))","v":{"$error":"#N/A"}},{"$error":"#N/A"}," ",{"$f":"IF(ISBLANK(Datas!$C$47),\"\",\" - \"&BG170)","v":{"$error":"#N/A"}},{"$f":"IF(ISBLANK(Datas!$C$48),\"\",\" - \"&BH170)","v":" - "},{"$f":"IF(ISBLANK(Datas!$C$49),\"\",\" - \"&BI170)","v":""},{"$f":"IF(ISBLANK(Datas!$C$50),\"\",\" - \"&BJ170)","v":" - Ecus:"},{"$f":"IF(ISBLANK(Datas!$C$51),\"\",\" - \"&BK170)","v":" - Niv: "},null,{"$error":"#N/A"},{"$error":"#N/A"},"","PR:","Ecus:","Niv: ",null,null,null,null,"",{"$f":"VLOOKUP(BP170,LstVillage!$B$8:$C$283,1)","v":{"$error":"#N/A"}},{"$error":"#N/A"},{"$error":"#N/A"},"",{"$f":"VLOOKUP(BT170,Datas!$G$6:$G$17,1)","v":{"$error":"#N/A"}},{"$error":"#N/A"},{"$error":"#N/A"},null,"",0,0,null,{"$f":"VLOOKUP(BP170,Liste_Noire!$B$15:$G$1208,1)","v":{"$error":"#N/A"}},{"$f":"VLOOKUP(BP170,Liste_Noire!$B$15:$G$1208,5)","v":{"$error":"#N/A"}},{"$error":"#N/A"},null,0,0,0,0,0,0,1]
[null,""," ","","","","","",{"$f":"IF(ISBLANK(Trait_Etrangers!H171),\"\",Trait_Etrangers!H171)","v":""},{"$f":"IF(ISBLANK(Trait_Etrangers!I171),\"\",Trait_Etrangers!I171)","v":""},{"$f":"IF(ISBLANK(Trait_Etrangers!J171),\"\",Trait_Etrangers!J171)","v":""},{"$f":"IF(ISBLANK(Trait_Etrangers!K171),\"\",Trait_Etrangers!K171)","v":""},{"$f":"IF(ISBLANK(Trait_Etrangers!L171),\"\",Trait_Etrangers!L171)","v":""},{"$f":"IF(ISBLANK(Trait_Etrangers!M171),\"\",Trait_Etrangers!M171)","v":""},{"$f":"IF(ISBLANK(Trait_Etrangers!N171),\"\",Trait_Etrangers!N171)","v":""},{"$f":"IF(ISBLANK(Trait_Etrangers!O171),\"\",Trait_Etrangers!O171)","v":""},{"$f":"IF(ISBLANK(Trait_Etrangers!P171),\"\",Trait_Etrangers!P171)","v":""},null,{"$f":"IF(ISBLANK(Trait_Etrangers!R171),\"\",Trait_Etrangers!R171)","v":""},{"$f":"IF(ISBLANK(Trait_Etrangers!S171),\"\",Trait_Etrangers!S171)","v":""},{"$f":"IF(ISBLANK(Trait_Etrangers!T171),\"\",Trait_Etrangers!T171)","v":""},{"$f":"IF(ISBLANK(Trait_Etrangers!U171),\"\",Trait_Etrangers!U171)","v":""},null,null,null,"","",0,0,0,0,0,0,0,0,0,0,0,0,0,0,0,0,0,null,1,null,null,{"$f":"IF(AX171=\"\",\"\",IF(CE171=1,\"[b][color=red]\"&Datas!$D$32&\"[/color][/b]\"&AX171&\"[b][color=red]\"&Datas!$D$33&\"{\"&CD171&\"}[/color][/b]\",AX171))","v":{"$error":"#N/A"}},{"$error":"#N/A"}," ",{"$f":"IF(ISBLANK(Datas!$C$47),\"\",\" - \"&BG171)","v":{"$error":"#N/A"}},{"$f":"IF(ISBLANK(Datas!$C$48),\"\",\" - \"&BH171)","v":" - "},{"$f":"IF(ISBLANK(Datas!$C$49),\"\",\" - \"&BI171)","v":""},{"$f":"IF(ISBLANK(Datas!$C$50),\"\",\" - \"&BJ171)","v":" - Ecus:"},{"$f":"IF(ISBLANK(Datas!$C$51),\"\",\" - \"&BK171)","v":" - Niv: "},null,{"$error":"#N/A"},{"$error":"#N/A"},"","PR:","Ecus:","Niv: ",null,null,null,null,"",{"$f":"VLOOKUP(BP171,LstVillage!$B$8:$C$283,1)","v":{"$error":"#N/A"}},{"$error":"#N/A"},{"$error":"#N/A"},"",{"$f":"VLOOKUP(BT171,Datas!$G$6:$G$17,1)","v":{"$error":"#N/A"}},{"$error":"#N/A"},{"$error":"#N/A"},null,"",0,0,null,{"$f":"VLOOKUP(BP171,Liste_Noire!$B$15:$G$1208,1)","v":{"$error":"#N/A"}},{"$f":"VLOOKUP(BP171,Liste_Noire!$B$15:$G$1208,5)","v":{"$error":"#N/A"}},{"$error":"#N/A"},null,0,0,0,0,0,0,1]
[null,""," ","","","","","",{"$f":"IF(ISBLANK(Trait_Etrangers!H172),\"\",Trait_Etrangers!H172)","v":""},{"$f":"IF(ISBLANK(Trait_Etrangers!I172),\"\",Trait_Etrangers!I172)","v":""},{"$f":"IF(ISBLANK(Trait_Etrangers!J172),\"\",Trait_Etrangers!J172)","v":""},{"$f":"IF(ISBLANK(Trait_Etrangers!K172),\"\",Trait_Etrangers!K172)","v":""},{"$f":"IF(ISBLANK(Trait_Etrangers!L172),\"\",Trait_Etrangers!L172)","v":""},{"$f":"IF(ISBLANK(Trait_Etrangers!M172),\"\",Trait_Etrangers!M172)","v":""},{"$f":"IF(ISBLANK(Trait_Etrangers!N172),\"\",Trait_Etrangers!N172)","v":""},{"$f":"IF(ISBLANK(Trait_Etrangers!O172),\"\",Trait_Etrangers!O172)","v":""},{"$f":"IF(ISBLANK(Trait_Etrangers!P172),\"\",Trait_Etrangers!P172)","v":""},null,{"$f":"IF(ISBLANK(Trait_Etrangers!R172),\"\",Trait_Etrangers!R172)","v":""},{"$f":"IF(ISBLANK(Trait_Etrangers!S172),\"\",Trait_Etrangers!S172)","v":""},{"$f":"IF(ISBLANK(Trait_Etrangers!T172),\"\",Trait_Etrangers!T172)","v":""},{"$f":"IF(ISBLANK(Trait_Etrangers!U172),\"\",Trait_Etrangers!U172)","v":""},null,null,null,"","",0,0,0,0,0,0,0,0,0,0,0,0,0,0,0,0,0,null,1,null,null,{"$f":"IF(AX172=\"\",\"\",IF(CE172=1,\"[b][color=red]\"&Datas!$D$32&\"[/color][/b]\"&AX172&\"[b][color=red]\"&Datas!$D$33&\"{\"&CD172&\"}[/color][/b]\",AX172))","v":{"$error":"#N/A"}},{"$error":"#N/A"}," ",{"$f":"IF(ISBLANK(Datas!$C$47),\"\",\" - \"&BG172)","v":{"$error":"#N/A"}},{"$f":"IF(ISBLANK(Datas!$C$48),\"\",\" - \"&BH172)","v":" - "},{"$f":"IF(ISBLANK(Datas!$C$49),\"\",\" - \"&BI172)","v":""},{"$f":"IF(ISBLANK(Datas!$C$50),\"\",\" - \"&BJ172)","v":" - Ecus:"},{"$f":"IF(ISBLANK(Datas!$C$51),\"\",\" - \"&BK172)","v":" - Niv: "},null,{"$error":"#N/A"},{"$error":"#N/A"},"","PR:","Ecus:","Niv: ",null,null,null,null,"",{"$f":"VLOOKUP(BP172,LstVillage!$B$8:$C$283,1)","v":{"$error":"#N/A"}},{"$error":"#N/A"},{"$error":"#N/A"},"",{"$f":"VLOOKUP(BT172,Datas!$G$6:$G$17,1)","v":{"$error":"#N/A"}},{"$error":"#N/A"},{"$error":"#N/A"},null,"",0,0,null,{"$f":"VLOOKUP(BP172,Liste_Noire!$B$15:$G$1208,1)","v":{"$error":"#N/A"}},{"$f":"VLOOKUP(BP172,Liste_Noire!$B$15:$G$1208,5)","v":{"$error":"#N/A"}},{"$error":"#N/A"},null,0,0,0,0,0,0,1]
[null,""," ","","","","","",{"$f":"IF(ISBLANK(Trait_Etrangers!H173),\"\",Trait_Etrangers!H173)","v":""},{"$f":"IF(ISBLANK(Trait_Etrangers!I173),\"\",Trait_Etrangers!I173)","v":""},{"$f":"IF(ISBLANK(Trait_Etrangers!J173),\"\",Trait_Etrangers!J173)","v":""},{"$f":"IF(ISBLANK(Trait_Etrangers!K173),\"\",Trait_Etrangers!K173)","v":""},{"$f":"IF(ISBLANK(Trait_Etrangers!L173),\"\",Trait_Etrangers!L173)","v":""},{"$f":"IF(ISBLANK(Trait_Etrangers!M173),\"\",Trait_Etrangers!M173)","v":""},{"$f":"IF(ISBLANK(Trait_Etrangers!N173),\"\",Trait_Etrangers!N173)","v":""},{"$f":"IF(ISBLANK(Trait_Etrangers!O173),\"\",Trait_Etrangers!O173)","v":""},{"$f":"IF(ISBLANK(Trait_Etrangers!P173),\"\",Trait_Etrangers!P173)","v":""},null,{"$f":"IF(ISBLANK(Trait_Etrangers!R173),\"\",Trait_Etrangers!R173)","v":""},{"$f":"IF(ISBLANK(Trait_Etrangers!S173),\"\",Trait_Etrangers!S173)","v":""},{"$f":"IF(ISBLANK(Trait_Etrangers!T173),\"\",Trait_Etrangers!T173)","v":""},{"$f":"IF(ISBLANK(Trait_Etrangers!U173),\"\",Trait_Etrangers!U173)","v":""},null,null,null,"","",0,0,0,0,0,0,0,0,0,0,0,0,0,0,0,0,0,null,1,null,null,{"$f":"IF(AX173=\"\",\"\",IF(CE173=1,\"[b][color=red]\"&Datas!$D$32&\"[/color][/b]\"&AX173&\"[b][color=red]\"&Datas!$D$33&\"{\"&CD173&\"}[/color][/b]\",AX173))","v":{"$error":"#N/A"}},{"$error":"#N/A"}," ",{"$f":"IF(ISBLANK(Datas!$C$47),\"\",\" - \"&BG173)","v":{"$error":"#N/A"}},{"$f":"IF(ISBLANK(Datas!$C$48),\"\",\" - \"&BH173)","v":" - "},{"$f":"IF(ISBLANK(Datas!$C$49),\"\",\" - \"&BI173)","v":""},{"$f":"IF(ISBLANK(Datas!$C$50),\"\",\" - \"&BJ173)","v":" - Ecus:"},{"$f":"IF(ISBLANK(Datas!$C$51),\"\",\" - \"&BK173)","v":" - Niv: "},null,{"$error":"#N/A"},{"$error":"#N/A"},"","PR:","Ecus:","Niv: ",null,null,null,null,"",{"$f":"VLOOKUP(BP173,LstVillage!$B$8:$C$283,1)","v":{"$error":"#N/A"}},{"$error":"#N/A"},{"$error":"#N/A"},"",{"$f":"VLOOKUP(BT173,Datas!$G$6:$G$17,1)","v":{"$error":"#N/A"}},{"$error":"#N/A"},{"$error":"#N/A"},null,"",0,0,null,{"$f":"VLOOKUP(BP173,Liste_Noire!$B$15:$G$1208,1)","v":{"$error":"#N/A"}},{"$f":"VLOOKUP(BP173,Liste_Noire!$B$15:$G$1208,5)","v":{"$error":"#N/A"}},{"$error":"#N/A"},null,0,0,0,0,0,0,1]
[null,""," ","","","","","",{"$f":"IF(ISBLANK(Trait_Etrangers!H174),\"\",Trait_Etrangers!H174)","v":""},{"$f":"IF(ISBLANK(Trait_Etrangers!I174),\"\",Trait_Etrangers!I174)","v":""},{"$f":"IF(ISBLANK(Trait_Etrangers!J174),\"\",Trait_Etrangers!J174)","v":""},{"$f":"IF(ISBLANK(Trait_Etrangers!K174),\"\",Trait_Etrangers!K174)","v":""},{"$f":"IF(ISBLANK(Trait_Etrangers!L174),\"\",Trait_Etrangers!L174)","v":""},{"$f":"IF(ISBLANK(Trait_Etrangers!M174),\"\",Trait_Etrangers!M174)","v":""},{"$f":"IF(ISBLANK(Trait_Etrangers!N174),\"\",Trait_Etrangers!N174)","v":""},{"$f":"IF(ISBLANK(Trait_Etrangers!O174),\"\",Trait_Etrangers!O174)","v":""},{"$f":"IF(ISBLANK(Trait_Etrangers!P174),\"\",Trait_Etrangers!P174)","v":""},null,{"$f":"IF(ISBLANK(Trait_Etrangers!R174),\"\",Trait_Etrangers!R174)","v":""},{"$f":"IF(ISBLANK(Trait_Etrangers!S174),\"\",Trait_Etrangers!S174)","v":""},{"$f":"IF(ISBLANK(Trait_Etrangers!T174),\"\",Trait_Etrangers!T174)","v":""},{"$f":"IF(ISBLANK(Trait_Etrangers!U174),\"\",Trait_Etrangers!U174)","v":""},null,null,null,"","",0,0,0,0,0,0,0,0,0,0,0,0,0,0,0,0,0,null,1,null,null,{"$f":"IF(AX174=\"\",\"\",IF(CE174=1,\"[b][color=red]\"&Datas!$D$32&\"[/color][/b]\"&AX174&\"[b][color=red]\"&Datas!$D$33&\"{\"&CD174&\"}[/color][/b]\",AX174))","v":{"$error":"#N/A"}},{"$error":"#N/A"}," ",{"$f":"IF(ISBLANK(Datas!$C$47),\"\",\" - \"&BG174)","v":{"$error":"#N/A"}},{"$f":"IF(ISBLANK(Datas!$C$48),\"\",\" - \"&BH174)","v":" - "},{"$f":"IF(ISBLANK(Datas!$C$49),\"\",\" - \"&BI174)","v":""},{"$f":"IF(ISBLANK(Datas!$C$50),\"\",\" - \"&BJ174)","v":" - Ecus:"},{"$f":"IF(ISBLANK(Datas!$C$51),\"\",\" - \"&BK174)","v":" - Niv: "},null,{"$error":"#N/A"},{"$error":"#N/A"},"","PR:","Ecus:","Niv: ",null,null,null,null,"",{"$f":"VLOOKUP(BP174,LstVillage!$B$8:$C$283,1)","v":{"$error":"#N/A"}},{"$error":"#N/A"},{"$error":"#N/A"},"",{"$f":"VLOOKUP(BT174,Datas!$G$6:$G$17,1)","v":{"$error":"#N/A"}},{"$error":"#N/A"},{"$error":"#N/A"},null,"",0,0,null,{"$f":"VLOOKUP(BP174,Liste_Noire!$B$15:$G$1208,1)","v":{"$error":"#N/A"}},{"$f":"VLOOKUP(BP174,Liste_Noire!$B$15:$G$1208,5)","v":{"$error":"#N/A"}},{"$error":"#N/A"},null,0,0,0,0,0,0,1]
[null,""," ","","","","","",{"$f":"IF(ISBLANK(Trait_Etrangers!H175),\"\",Trait_Etrangers!H175)","v":""},{"$f":"IF(ISBLANK(Trait_Etrangers!I175),\"\",Trait_Etrangers!I175)","v":""},{"$f":"IF(ISBLANK(Trait_Etrangers!J175),\"\",Trait_Etrangers!J175)","v":""},{"$f":"IF(ISBLANK(Trait_Etrangers!K175),\"\",Trait_Etrangers!K175)","v":""},{"$f":"IF(ISBLANK(Trait_Etrangers!L175),\"\",Trait_Etrangers!L175)","v":""},{"$f":"IF(ISBLANK(Trait_Etrangers!M175),\"\",Trait_Etrangers!M175)","v":""},{"$f":"IF(ISBLANK(Trait_Etrangers!N175),\"\",Trait_Etrangers!N175)","v":""},{"$f":"IF(ISBLANK(Trait_Etrangers!O175),\"\",Trait_Etrangers!O175)","v":""},{"$f":"IF(ISBLANK(Trait_Etrangers!P175),\"\",Trait_Etrangers!P175)","v":""},null,{"$f":"IF(ISBLANK(Trait_Etrangers!R175),\"\",Trait_Etrangers!R175)","v":""},{"$f":"IF(ISBLANK(Trait_Etrangers!S175),\"\",Trait_Etrangers!S175)","v":""},{"$f":"IF(ISBLANK(Trait_Etrangers!T175),\"\",Trait_Etrangers!T175)","v":""},{"$f":"IF(ISBLANK(Trait_Etrangers!U175),\"\",Trait_Etrangers!U175)","v":""},null,null,null,"","",0,0,0,0,0,0,0,0,0,0,0,0,0,0,0,0,0,null,1,null,null,{"$f":"IF(AX175=\"\",\"\",IF(CE175=1,\"[b][color=red]\"&Datas!$D$32&\"[/color][/b]\"&AX175&\"[b][color=red]\"&Datas!$D$33&\"{\"&CD175&\"}[/color][/b]\",AX175))","v":{"$error":"#N/A"}},{"$error":"#N/A"}," ",{"$f":"IF(ISBLANK(Datas!$C$47),\"\",\" - \"&BG175)","v":{"$error":"#N/A"}},{"$f":"IF(ISBLANK(Datas!$C$48),\"\",\" - \"&BH175)","v":" - "},{"$f":"IF(ISBLANK(Datas!$C$49),\"\",\" - \"&BI175)","v":""},{"$f":"IF(ISBLANK(Datas!$C$50),\"\",\" - \"&BJ175)","v":" - Ecus:"},{"$f":"IF(ISBLANK(Datas!$C$51),\"\",\" - \"&BK175)","v":" - Niv: "},null,{"$error":"#N/A"},{"$error":"#N/A"},"","PR:","Ecus:","Niv: ",null,null,null,null,"",{"$f":"VLOOKUP(BP175,LstVillage!$B$8:$C$283,1)","v":{"$error":"#N/A"}},{"$error":"#N/A"},{"$error":"#N/A"},"",{"$f":"VLOOKUP(BT175,Datas!$G$6:$G$17,1)","v":{"$error":"#N/A"}},{"$error":"#N/A"},{"$error":"#N/A"},null,"",0,0,null,{"$f":"VLOOKUP(BP175,Liste_Noire!$B$15:$G$1208,1)","v":{"$error":"#N/A"}},{"$f":"VLOOKUP(BP175,Liste_Noire!$B$15:$G$1208,5)","v":{"$error":"#N/A"}},{"$error":"#N/A"},null,0,0,0,0,0,0,1]
[null,""," ","","","","","",{"$f":"IF(ISBLANK(Trait_Etrangers!H176),\"\",Trait_Etrangers!H176)","v":""},{"$f":"IF(ISBLANK(Trait_Etrangers!I176),\"\",Trait_Etrangers!I176)","v":""},{"$f":"IF(ISBLANK(Trait_Etrangers!J176),\"\",Trait_Etrangers!J176)","v":""},{"$f":"IF(ISBLANK(Trait_Etrangers!K176),\"\",Trait_Etrangers!K176)","v":""},{"$f":"IF(ISBLANK(Trait_Etrangers!L176),\"\",Trait_Etrangers!L176)","v":""},{"$f":"IF(ISBLANK(Trait_Etrangers!M176),\"\",Trait_Etrangers!M176)","v":""},{"$f":"IF(ISBLANK(Trait_Etrangers!N176),\"\",Trait_Etrangers!N176)","v":""},{"$f":"IF(ISBLANK(Trait_Etrangers!O176),\"\",Trait_Etrangers!O176)","v":""},{"$f":"IF(ISBLANK(Trait_Etrangers!P176),\"\",Trait_Etrangers!P176)","v":""},null,{"$f":"IF(ISBLANK(Trait_Etrangers!R176),\"\",Trait_Etrangers!R176)","v":""},{"$f":"IF(ISBLANK(Trait_Etrangers!S176),\"\",Trait_Etrangers!S176)","v":""},{"$f":"IF(ISBLANK(Trait_Etrangers!T176),\"\",Trait_Etrangers!T176)","v":""},{"$f":"IF(ISBLANK(Trait_Etrangers!U176),\"\",Trait_Etrangers!U176)","v":""},null,null,null,"","",0,0,0,0,0,0,0,0,0,0,0,0,0,0,0,0,0,null,1,null,null,{"$f":"IF(AX176=\"\",\"\",IF(CE176=1,\"[b][color=red]\"&Datas!$D$32&\"[/color][/b]\"&AX176&\"[b][color=red]\"&Datas!$D$33&\"{\"&CD176&\"}[/color][/b]\",AX176))","v":{"$error":"#N/A"}},{"$error":"#N/A"}," ",{"$f":"IF(ISBLANK(Datas!$C$47),\"\",\" - \"&BG176)","v":{"$error":"#N/A"}},{"$f":"IF(ISBLANK(Datas!$C$48),\"\",\" - \"&BH176)","v":" - "},{"$f":"IF(ISBLANK(Datas!$C$49),\"\",\" - \"&BI176)","v":""},{"$f":"IF(ISBLANK(Datas!$C$50),\"\",\" - \"&BJ176)","v":" - Ecus:"},{"$f":"IF(ISBLANK(Datas!$C$51),\"\",\" - \"&BK176)","v":" - Niv: "},null,{"$error":"#N/A"},{"$error":"#N/A"},"","PR:","Ecus:","Niv: ",null,null,null,null,"",{"$f":"VLOOKUP(BP176,LstVillage!$B$8:$C$283,1)","v":{"$error":"#N/A"}},{"$error":"#N/A"},{"$error":"#N/A"},"",{"$f":"VLOOKUP(BT176,Datas!$G$6:$G$17,1)","v":{"$error":"#N/A"}},{"$error":"#N/A"},{"$error":"#N/A"},null,"",0,0,null,{"$f":"VLOOKUP(BP176,Liste_Noire!$B$15:$G$1208,1)","v":{"$error":"#N/A"}},{"$f":"VLOOKUP(BP176,Liste_Noire!$B$15:$G$1208,5)","v":{"$error":"#N/A"}},{"$error":"#N/A"},null,0,0,0,0,0,0,1]
[null,""," ","","","","","",{"$f":"IF(ISBLANK(Trait_Etrangers!H177),\"\",Trait_Etrangers!H177)","v":""},{"$f":"IF(ISBLANK(Trait_Etrangers!I177),\"\",Trait_Etrangers!I177)","v":""},{"$f":"IF(ISBLANK(Trait_Etrangers!J177),\"\",Trait_Etrangers!J177)","v":""},{"$f":"IF(ISBLANK(Trait_Etrangers!K177),\"\",Trait_Etrangers!K177)","v":""},{"$f":"IF(ISBLANK(Trait_Etrangers!L177),\"\",Trait_Etrangers!L177)","v":""},{"$f":"IF(ISBLANK(Trait_Etrangers!M177),\"\",Trait_Etrangers!M177)","v":""},{"$f":"IF(ISBLANK(Trait_Etrangers!N177),\"\",Trait_Etrangers!N177)","v":""},{"$f":"IF(ISBLANK(Trait_Etrangers!O177),\"\",Trait_Etrangers!O177)","v":""},{"$f":"IF(ISBLANK(Trait_Etrangers!P177),\"\",Trait_Etrangers!P177)","v":""},null,{"$f":"IF(ISBLANK(Trait_Etrangers!R177),\"\",Trait_Etrangers!R177)","v":""},{"$f":"IF(ISBLANK(Trait_Etrangers!S177),\"\",Trait_Etrangers!S177)","v":""},{"$f":"IF(ISBLANK(Trait_Etrangers!T177),\"\",Trait_Etrangers!T177)","v":""},{"$f":"IF(ISBLANK(Trait_Etrangers!U177),\"\",Trait_Etrangers!U177)","v":""},null,null,null,"","",0,0,0,0,0,0,0,0,0,0,0,0,0,0,0,0,0,null,1,null,null,{"$f":"IF(AX177=\"\",\"\",IF(CE177=1,\"[b][color=red]\"&Datas!$D$32&\"[/color][/b]\"&AX177&\"[b][color=red]\"&Datas!$D$33&\"{\"&CD177&\"}[/color][/b]\",AX177))","v":{"$error":"#N/A"}},{"$error":"#N/A"}," ",{"$f":"IF(ISBLANK(Datas!$C$47),\"\",\" - \"&BG177)","v":{"$error":"#N/A"}},{"$f":"IF(ISBLANK(Datas!$C$48),\"\",\" - \"&BH177)","v":" - "},{"$f":"IF(ISBLANK(Datas!$C$49),\"\",\" - \"&BI177)","v":""},{"$f":"IF(ISBLANK(Datas!$C$50),\"\",\" - \"&BJ177)","v":" - Ecus:"},{"$f":"IF(ISBLANK(Datas!$C$51),\"\",\" - \"&BK177)","v":" - Niv: "},null,{"$error":"#N/A"},{"$error":"#N/A"},"","PR:","Ecus:","Niv: ",null,null,null,null,"",{"$f":"VLOOKUP(BP177,LstVillage!$B$8:$C$283,1)","v":{"$error":"#N/A"}},{"$error":"#N/A"},{"$error":"#N/A"},"",{"$f":"VLOOKUP(BT177,Datas!$G$6:$G$17,1)","v":{"$error":"#N/A"}},{"$error":"#N/A"},{"$error":"#N/A"},null,"",0,0,null,{"$f":"VLOOKUP(BP177,Liste_Noire!$B$15:$G$1208,1)","v":{"$error":"#N/A"}},{"$f":"VLOOKUP(BP177,Liste_Noire!$B$15:$G$1208,5)","v":{"$error":"#N/A"}},{"$error":"#N/A"},null,0,0,0,0,0,0,1]
[null,""," ","","","","","",{"$f":"IF(ISBLANK(Trait_Etrangers!H178),\"\",Trait_Etrangers!H178)","v":""},{"$f":"IF(ISBLANK(Trait_Etrangers!I178),\"\",Trait_Etrangers!I178)","v":""},{"$f":"IF(ISBLANK(Trait_Etrangers!J178),\"\",Trait_Etrangers!J178)","v":""},{"$f":"IF(ISBLANK(Trait_Etrangers!K178),\"\",Trait_Etrangers!K178)","v":""},{"$f":"IF(ISBLANK(Trait_Etrangers!L178),\"\",Trait_Etrangers!L178)","v":""},{"$f":"IF(ISBLANK(Trait_Etrangers!M178),\"\",Trait_Etrangers!M178)","v":""},{"$f":"IF(ISBLANK(Trait_Etrangers!N178),\"\",Trait_Etrangers!N178)","v":""},{"$f":"IF(ISBLANK(Trait_Etrangers!O178),\"\",Trait_Etrangers!O178)","v":""},{"$f":"IF(ISBLANK(Trait_Etrangers!P178),\"\",Trait_Etrangers!P178)","v":""},null,{"$f":"IF(ISBLANK(Trait_Etrangers!R178),\"\",Trait_Etrangers!R178)","v":""},{"$f":"IF(ISBLANK(Trait_Etrangers!S178),\"\",Trait_Etrangers!S178)","v":""},{"$f":"IF(ISBLANK(Trait_Etrangers!T178),\"\",Trait_Etrangers!T178)","v":""},{"$f":"IF(ISBLANK(Trait_Etrangers!U178),\"\",Trait_Etrangers!U178)","v":""},null,null,null,"","",0,0,0,0,0,0,0,0,0,0,0,0,0,0,0,0,0,null,1,null,null,{"$f":"IF(AX178=\"\",\"\",IF(CE178=1,\"[b][color=red]\"&Datas!$D$32&\"[/color][/b]\"&AX178&\"[b][color=red]\"&Datas!$D$33&\"{\"&CD178&\"}[/color][/b]\",AX178))","v":{"$error":"#N/A"}},{"$error":"#N/A"}," ",{"$f":"IF(ISBLANK(Datas!$C$47),\"\",\" - \"&BG178)","v":{"$error":"#N/A"}},{"$f":"IF(ISBLANK(Datas!$C$48),\"\",\" - \"&BH178)","v":" - "},{"$f":"IF(ISBLANK(Datas!$C$49),\"\",\" - \"&BI178)","v":""},{"$f":"IF(ISBLANK(Datas!$C$50),\"\",\" - \"&BJ178)","v":" - Ecus:"},{"$f":"IF(ISBLANK(Datas!$C$51),\"\",\" - \"&BK178)","v":" - Niv: "},null,{"$error":"#N/A"},{"$error":"#N/A"},"","PR:","Ecus:","Niv: ",null,null,null,null,"",{"$f":"VLOOKUP(BP178,LstVillage!$B$8:$C$283,1)","v":{"$error":"#N/A"}},{"$error":"#N/A"},{"$error":"#N/A"},"",{"$f":"VLOOKUP(BT178,Datas!$G$6:$G$17,1)","v":{"$error":"#N/A"}},{"$error":"#N/A"},{"$error":"#N/A"},null,"",0,0,null,{"$f":"VLOOKUP(BP178,Liste_Noire!$B$15:$G$1208,1)","v":{"$error":"#N/A"}},{"$f":"VLOOKUP(BP178,Liste_Noire!$B$15:$G$1208,5)","v":{"$error":"#N/A"}},{"$error":"#N/A"},null,0,0,0,0,0,0,1]
[null,""," ","","","","","",{"$f":"IF(ISBLANK(Trait_Etrangers!H179),\"\",Trait_Etrangers!H179)","v":""},{"$f":"IF(ISBLANK(Trait_Etrangers!I179),\"\",Trait_Etrangers!I179)","v":""},{"$f":"IF(ISBLANK(Trait_Etrangers!J179),\"\",Trait_Etrangers!J179)","v":""},{"$f":"IF(ISBLANK(Trait_Etrangers!K179),\"\",Trait_Etrangers!K179)","v":""},{"$f":"IF(ISBLANK(Trait_Etrangers!L179),\"\",Trait_Etrangers!L179)","v":""},{"$f":"IF(ISBLANK(Trait_Etrangers!M179),\"\",Trait_Etrangers!M179)","v":""},{"$f":"IF(ISBLANK(Trait_Etrangers!N179),\"\",Trait_Etrangers!N179)","v":""},{"$f":"IF(ISBLANK(Trait_Etrangers!O179),\"\",Trait_Etrangers!O179)","v":""},{"$f":"IF(ISBLANK(Trait_Etrangers!P179),\"\",Trait_Etrangers!P179)","v":""},null,{"$f":"IF(ISBLANK(Trait_Etrangers!R179),\"\",Trait_Etrangers!R179)","v":""},{"$f":"IF(ISBLANK(Trait_Etrangers!S179),\"\",Trait_Etrangers!S179)","v":""},{"$f":"IF(ISBLANK(Trait_Etrangers!T179),\"\",Trait_Etrangers!T179)","v":""},{"$f":"IF(ISBLANK(Trait_Etrangers!U179),\"\",Trait_Etrangers!U179)","v":""},null,null,null,"","",0,0,0,0,0,0,0,0,0,0,0,0,0,0,0,0,0,null,1,null,null,{"$f":"IF(AX179=\"\",\"\",IF(CE179=1,\"[b][color=red]\"&Datas!$D$32&\"[/color][/b]\"&AX179&\"[b][color=red]\"&Datas!$D$33&\"{\"&CD179&\"}[/color][/b]\",AX179))","v":{"$error":"#N/A"}},{"$error":"#N/A"}," ",{"$f":"IF(ISBLANK(Datas!$C$47),\"\",\" - \"&BG179)","v":{"$error":"#N/A"}},{"$f":"IF(ISBLANK(Datas!$C$48),\"\",\" - \"&BH179)","v":" - "},{"$f":"IF(ISBLANK(Datas!$C$49),\"\",\" - \"&BI179)","v":""},{"$f":"IF(ISBLANK(Datas!$C$50),\"\",\" - \"&BJ179)","v":" - Ecus:"},{"$f":"IF(ISBLANK(Datas!$C$51),\"\",\" - \"&BK179)","v":" - Niv: "},null,{"$error":"#N/A"},{"$error":"#N/A"},"","PR:","Ecus:","Niv: ",null,null,null,null,"",{"$f":"VLOOKUP(BP179,LstVillage!$B$8:$C$283,1)","v":{"$error":"#N/A"}},{"$error":"#N/A"},{"$error":"#N/A"},"",{"$f":"VLOOKUP(BT179,Datas!$G$6:$G$17,1)","v":{"$error":"#N/A"}},{"$error":"#N/A"},{"$error":"#N/A"},null,"",0,0,null,{"$f":"VLOOKUP(BP179,Liste_Noire!$B$15:$G$1208,1)","v":{"$error":"#N/A"}},{"$f":"VLOOKUP(BP179,Liste_Noire!$B$15:$G$1208,5)","v":{"$error":"#N/A"}},{"$error":"#N/A"},null,0,0,0,0,0,0,1]
[null,""," ","","","","","",{"$f":"IF(ISBLANK(Trait_Etrangers!H180),\"\",Trait_Etrangers!H180)","v":""},{"$f":"IF(ISBLANK(Trait_Etrangers!I180),\"\",Trait_Etrangers!I180)","v":""},{"$f":"IF(ISBLANK(Trait_Etrangers!J180),\"\",Trait_Etrangers!J180)","v":""},{"$f":"IF(ISBLANK(Trait_Etrangers!K180),\"\",Trait_Etrangers!K180)","v":""},{"$f":"IF(ISBLANK(Trait_Etrangers!L180),\"\",Trait_Etrangers!L180)","v":""},{"$f":"IF(ISBLANK(Trait_Etrangers!M180),\"\",Trait_Etrangers!M180)","v":""},{"$f":"IF(ISBLANK(Trait_Etrangers!N180),\"\",Trait_Etrangers!N180)","v":""},{"$f":"IF(ISBLANK(Trait_Etrangers!O180),\"\",Trait_Etrangers!O180)","v":""},{"$f":"IF(ISBLANK(Trait_Etrangers!P180),\"\",Trait_Etrangers!P180)","v":""},null,{"$f":"IF(ISBLANK(Trait_Etrangers!R180),\"\",Trait_Etrangers!R180)","v":""},{"$f":"IF(ISBLANK(Trait_Etrangers!S180),\"\",Trait_Etrangers!S180)","v":""},{"$f":"IF(ISBLANK(Trait_Etrangers!T180),\"\",Trait_Etrangers!T180)","v":""},{"$f":"IF(ISBLANK(Trait_Etrangers!U180),\"\",Trait_Etrangers!U180)","v":""},null,null,null,"","",0,0,0,0,0,0,0,0,0,0,0,0,0,0,0,0,0,null,1,null,null,{"$f":"IF(AX180=\"\",\"\",IF(CE180=1,\"[b][color=red]\"&Datas!$D$32&\"[/color][/b]\"&AX180&\"[b][color=red]\"&Datas!$D$33&\"{\"&CD180&\"}[/color][/b]\",AX180))","v":{"$error":"#N/A"}},{"$error":"#N/A"}," ",{"$f":"IF(ISBLANK(Datas!$C$47),\"\",\" - \"&BG180)","v":{"$error":"#N/A"}},{"$f":"IF(ISBLANK(Datas!$C$48),\"\",\" - \"&BH180)","v":" - "},{"$f":"IF(ISBLANK(Datas!$C$49),\"\",\" - \"&BI180)","v":""},{"$f":"IF(ISBLANK(Datas!$C$50),\"\",\" - \"&BJ180)","v":" - Ecus:"},{"$f":"IF(ISBLANK(Datas!$C$51),\"\",\" - \"&BK180)","v":" - Niv: "},null,{"$error":"#N/A"},{"$error":"#N/A"},"","PR:","Ecus:","Niv: ",null,null,null,null,"",{"$f":"VLOOKUP(BP180,LstVillage!$B$8:$C$283,1)","v":{"$error":"#N/A"}},{"$error":"#N/A"},{"$error":"#N/A"},"",{"$f":"VLOOKUP(BT180,Datas!$G$6:$G$17,1)","v":{"$error":"#N/A"}},{"$error":"#N/A"},{"$error":"#N/A"},null,"",0,0,null,{"$f":"VLOOKUP(BP180,Liste_Noire!$B$15:$G$1208,1)","v":{"$error":"#N/A"}},{"$f":"VLOOKUP(BP180,Liste_Noire!$B$15:$G$1208,5)","v":{"$error":"#N/A"}},{"$error":"#N/A"},null,0,0,0,0,0,0,1]
[null,""," ","","","","","",{"$f":"IF(ISBLANK(Trait_Etrangers!H181),\"\",Trait_Etrangers!H181)","v":""},{"$f":"IF(ISBLANK(Trait_Etrangers!I181),\"\",Trait_Etrangers!I181)","v":""},{"$f":"IF(ISBLANK(Trait_Etrangers!J181),\"\",Trait_Etrangers!J181)","v":""},{"$f":"IF(ISBLANK(Trait_Etrangers!K181),\"\",Trait_Etrangers!K181)","v":""},{"$f":"IF(ISBLANK(Trait_Etrangers!L181),\"\",Trait_Etrangers!L181)","v":""},{"$f":"IF(ISBLANK(Trait_Etrangers!M181),\"\",Trait_Etrangers!M181)","v":""},{"$f":"IF(ISBLANK(Trait_Etrangers!N181),\"\",Trait_Etrangers!N181)","v":""},{"$f":"IF(ISBLANK(Trait_Etrangers!O181),\"\",Trait_Etrangers!O181)","v":""},{"$f":"IF(ISBLANK(Trait_Etrangers!P181),\"\",Trait_Etrangers!P181)","v":""},null,{"$f":"IF(ISBLANK(Trait_Etrangers!R181),\"\",Trait_Etrangers!R181)","v":""},{"$f":"IF(ISBLANK(Trait_Etrangers!S181),\"\",Trait_Etrangers!S181)","v":""},{"$f":"IF(ISBLANK(Trait_Etrangers!T181),\"\",Trait_Etrangers!T181)","v":""},{"$f":"IF(ISBLANK(Trait_Etrangers!U181),\"\",Trait_Etrangers!U181)","v":""},null,null,null,"","",0,0,0,0,0,0,0,0,0,0,0,0,0,0,0,0,0,null,1,null,null,{"$f":"IF(AX181=\"\",\"\",IF(CE181=1,\"[b][color=red]\"&Datas!$D$32&\"[/color][/b]\"&AX181&\"[b][color=red]\"&Datas!$D$33&\"{\"&CD181&\"}[/color][/b]\",AX181))","v":{"$error":"#N/A"}},{"$error":"#N/A"}," ",{"$f":"IF(ISBLANK(Datas!$C$47),\"\",\" - \"&BG181)","v":{"$error":"#N/A"}},{"$f":"IF(ISBLANK(Datas!$C$48),\"\",\" - \"&BH181)","v":" - "},{"$f":"IF(ISBLANK(Datas!$C$49),\"\",\" - \"&BI181)","v":""},{"$f":"IF(ISBLANK(Datas!$C$50),\"\",\" - \"&BJ181)","v":" - Ecus:"},{"$f":"IF(ISBLANK(Datas!$C$51),\"\",\" - \"&BK181)","v":" - Niv: "},null,{"$error":"#N/A"},{"$error":"#N/A"},"","PR:","Ecus:","Niv: ",null,null,null,null,"",{"$f":"VLOOKUP(BP181,LstVillage!$B$8:$C$283,1)","v":{"$error":"#N/A"}},{"$error":"#N/A"},{"$error":"#N/A"},"",{"$f":"VLOOKUP(BT181,Datas!$G$6:$G$17,1)","v":{"$error":"#N/A"}},{"$error":"#N/A"},{"$error":"#N/A"},null,"",0,0,null,{"$f":"VLOOKUP(BP181,Liste_Noire!$B$15:$G$1208,1)","v":{"$error":"#N/A"}},{"$f":"VLOOKUP(BP181,Liste_Noire!$B$15:$G$1208,5)","v":{"$error":"#N/A"}},{"$error":"#N/A"},null,0,0,0,0,0,0,1]
[null,""," ","","","","","",{"$f":"IF(ISBLANK(Trait_Etrangers!H182),\"\",Trait_Etrangers!H182)","v":""},{"$f":"IF(ISBLANK(Trait_Etrangers!I182),\"\",Trait_Etrangers!I182)","v":""},{"$f":"IF(ISBLANK(Trait_Etrangers!J182),\"\",Trait_Etrangers!J182)","v":""},{"$f":"IF(ISBLANK(Trait_Etrangers!K182),\"\",Trait_Etrangers!K182)","v":""},{"$f":"IF(ISBLANK(Trait_Etrangers!L182),\"\",Trait_Etrangers!L182)","v":""},{"$f":"IF(ISBLANK(Trait_Etrangers!M182),\"\",Trait_Etrangers!M182)","v":""},{"$f":"IF(ISBLANK(Trait_Etrangers!N182),\"\",Trait_Etrangers!N182)","v":""},{"$f":"IF(ISBLANK(Trait_Etrangers!O182),\"\",Trait_Etrangers!O182)","v":""},{"$f":"IF(ISBLANK(Trait_Etrangers!P182),\"\",Trait_Etrangers!P182)","v":""},null,{"$f":"IF(ISBLANK(Trait_Etrangers!R182),\"\",Trait_Etrangers!R182)","v":""},{"$f":"IF(ISBLANK(Trait_Etrangers!S182),\"\",Trait_Etrangers!S182)","v":""},{"$f":"IF(ISBLANK(Trait_Etrangers!T182),\"\",Trait_Etrangers!T182)","v":""},{"$f":"IF(ISBLANK(Trait_Etrangers!U182),\"\",Trait_Etrangers!U182)","v":""},null,null,null,"","",0,0,0,0,0,0,0,0,0,0,0,0,0,0,0,0,0,null,1,null,null,{"$f":"IF(AX182=\"\",\"\",IF(CE182=1,\"[b][color=red]\"&Datas!$D$32&\"[/color][/b]\"&AX182&\"[b][color=red]\"&Datas!$D$33&\"{\"&CD182&\"}[/color][/b]\",AX182))","v":{"$error":"#N/A"}},{"$error":"#N/A"}," ",{"$f":"IF(ISBLANK(Datas!$C$47),\"\",\" - \"&BG182)","v":{"$error":"#N/A"}},{"$f":"IF(ISBLANK(Datas!$C$48),\"\",\" - \"&BH182)","v":" - "},{"$f":"IF(ISBLANK(Datas!$C$49),\"\",\" - \"&BI182)","v":""},{"$f":"IF(ISBLANK(Datas!$C$50),\"\",\" - \"&BJ182)","v":" - Ecus:"},{"$f":"IF(ISBLANK(Datas!$C$51),\"\",\" - \"&BK182)","v":" - Niv: "},null,{"$error":"#N/A"},{"$error":"#N/A"},"","PR:","Ecus:","Niv: ",null,null,null,null,"",{"$f":"VLOOKUP(BP182,LstVillage!$B$8:$C$283,1)","v":{"$error":"#N/A"}},{"$error":"#N/A"},{"$error":"#N/A"},"",{"$f":"VLOOKUP(BT182,Datas!$G$6:$G$17,1)","v":{"$error":"#N/A"}},{"$error":"#N/A"},{"$error":"#N/A"},null,"",0,0,null,{"$f":"VLOOKUP(BP182,Liste_Noire!$B$15:$G$1208,1)","v":{"$error":"#N/A"}},{"$f":"VLOOKUP(BP182,Liste_Noire!$B$15:$G$1208,5)","v":{"$error":"#N/A"}},{"$error":"#N/A"},null,0,0,0,0,0,0,1]
[null,""," ","","","","","",{"$f":"IF(ISBLANK(Trait_Etrangers!H183),\"\",Trait_Etrangers!H183)","v":""},{"$f":"IF(ISBLANK(Trait_Etrangers!I183),\"\",Trait_Etrangers!I183)","v":""},{"$f":"IF(ISBLANK(Trait_Etrangers!J183),\"\",Trait_Etrangers!J183)","v":""},{"$f":"IF(ISBLANK(Trait_Etrangers!K183),\"\",Trait_Etrangers!K183)","v":""},{"$f":"IF(ISBLANK(Trait_Etrangers!L183),\"\",Trait_Etrangers!L183)","v":""},{"$f":"IF(ISBLANK(Trait_Etrangers!M183),\"\",Trait_Etrangers!M183)","v":""},{"$f":"IF(ISBLANK(Trait_Etrangers!N183),\"\",Trait_Etrangers!N183)","v":""},{"$f":"IF(ISBLANK(Trait_Etrangers!O183),\"\",Trait_Etrangers!O183)","v":""},{"$f":"IF(ISBLANK(Trait_Etrangers!P183),\"\",Trait_Etrangers!P183)","v":""},null,{"$f":"IF(ISBLANK(Trait_Etrangers!R183),\"\",Trait_Etrangers!R183)","v":""},{"$f":"IF(ISBLANK(Trait_Etrangers!S183),\"\",Trait_Etrangers!S183)","v":""},{"$f":"IF(ISBLANK(Trait_Etrangers!T183),\"\",Trait_Etrangers!T183)","v":""},{"$f":"IF(ISBLANK(Trait_Etrangers!U183),\"\",Trait_Etrangers!U183)","v":""},null,null,null,"","",0,0,0,0,0,0,0,0,0,0,0,0,0,0,0,0,0,null,1,null,null,{"$f":"IF(AX183=\"\",\"\",IF(CE183=1,\"[b][color=red]\"&Datas!$D$32&\"[/color][/b]\"&AX183&\"[b][color=red]\"&Datas!$D$33&\"{\"&CD183&\"}[/color][/b]\",AX183))","v":{"$error":"#N/A"}},{"$error":"#N/A"}," ",{"$f":"IF(ISBLANK(Datas!$C$47),\"\",\" - \"&BG183)","v":{"$error":"#N/A"}},{"$f":"IF(ISBLANK(Datas!$C$48),\"\",\" - \"&BH183)","v":" - "},{"$f":"IF(ISBLANK(Datas!$C$49),\"\",\" - \"&BI183)","v":""},{"$f":"IF(ISBLANK(Datas!$C$50),\"\",\" - \"&BJ183)","v":" - Ecus:"},{"$f":"IF(ISBLANK(Datas!$C$51),\"\",\" - \"&BK183)","v":" - Niv: "},null,{"$error":"#N/A"},{"$error":"#N/A"},"","PR:","Ecus:","Niv: ",null,null,null,null,"",{"$f":"VLOOKUP(BP183,LstVillage!$B$8:$C$283,1)","v":{"$error":"#N/A"}},{"$error":"#N/A"},{"$error":"#N/A"},"",{"$f":"VLOOKUP(BT183,Datas!$G$6:$G$17,1)","v":{"$error":"#N/A"}},{"$error":"#N/A"},{"$error":"#N/A"},null,"",0,0,null,{"$f":"VLOOKUP(BP183,Liste_Noire!$B$15:$G$1208,1)","v":{"$error":"#N/A"}},{"$f":"VLOOKUP(BP183,Liste_Noire!$B$15:$G$1208,5)","v":{"$error":"#N/A"}},{"$error":"#N/A"},null,0,0,0,0,0,0,1]
[null,""," ","","","","","",{"$f":"IF(ISBLANK(Trait_Etrangers!H184),\"\",Trait_Etrangers!H184)","v":""},{"$f":"IF(ISBLANK(Trait_Etrangers!I184),\"\",Trait_Etrangers!I184)","v":""},{"$f":"IF(ISBLANK(Trait_Etrangers!J184),\"\",Trait_Etrangers!J184)","v":""},{"$f":"IF(ISBLANK(Trait_Etrangers!K184),\"\",Trait_Etrangers!K184)","v":""},{"$f":"IF(ISBLANK(Trait_Etrangers!L184),\"\",Trait_Etrangers!L184)","v":""},{"$f":"IF(ISBLANK(Trait_Etrangers!M184),\"\",Trait_Etrangers!M184)","v":""},{"$f":"IF(ISBLANK(Trait_Etrangers!N184),\"\",Trait_Etrangers!N184)","v":""},{"$f":"IF(ISBLANK(Trait_Etrangers!O184),\"\",Trait_Etrangers!O184)","v":""},{"$f":"IF(ISBLANK(Trait_Etrangers!P184),\"\",Trait_Etrangers!P184)","v":""},null,{"$f":"IF(ISBLANK(Trait_Etrangers!R184),\"\",Trait_Etrangers!R184)","v":""},{"$f":"IF(ISBLANK(Trait_Etrangers!S184),\"\",Trait_Etrangers!S184)","v":""},{"$f":"IF(ISBLANK(Trait_Etrangers!T184),\"\",Trait_Etrangers!T184)","v":""},{"$f":"IF(ISBLANK(Trait_Etrangers!U184),\"\",Trait_Etrangers!U184)","v":""},null,null,null,"","",0,0,0,0,0,0,0,0,0,0,0,0,0,0,0,0,0,null,1,null,null,{"$f":"IF(AX184=\"\",\"\",IF(CE184=1,\"[b][color=red]\"&Datas!$D$32&\"[/color][/b]\"&AX184&\"[b][color=red]\"&Datas!$D$33&\"{\"&CD184&\"}[/color][/b]\",AX184))","v":{"$error":"#N/A"}},{"$error":"#N/A"}," ",{"$f":"IF(ISBLANK(Datas!$C$47),\"\",\" - \"&BG184)","v":{"$error":"#N/A"}},{"$f":"IF(ISBLANK(Datas!$C$48),\"\",\" - \"&BH184)","v":" - "},{"$f":"IF(ISBLANK(Datas!$C$49),\"\",\" - \"&BI184)","v":""},{"$f":"IF(ISBLANK(Datas!$C$50),\"\",\" - \"&BJ184)","v":" - Ecus:"},{"$f":"IF(ISBLANK(Datas!$C$51),\"\",\" - \"&BK184)","v":" - Niv: "},null,{"$error":"#N/A"},{"$error":"#N/A"},"","PR:","Ecus:","Niv: ",null,null,null,null,"",{"$f":"VLOOKUP(BP184,LstVillage!$B$8:$C$283,1)","v":{"$error":"#N/A"}},{"$error":"#N/A"},{"$error":"#N/A"},"",{"$f":"VLOOKUP(BT184,Datas!$G$6:$G$17,1)","v":{"$error":"#N/A"}},{"$error":"#N/A"},{"$error":"#N/A"},null,"",0,0,null,{"$f":"VLOOKUP(BP184,Liste_Noire!$B$15:$G$1208,1)","v":{"$error":"#N/A"}},{"$f":"VLOOKUP(BP184,Liste_Noire!$B$15:$G$1208,5)","v":{"$error":"#N/A"}},{"$error":"#N/A"},null,0,0,0,0,0,0,1]
[null,""," ","","","","","",{"$f":"IF(ISBLANK(Trait_Etrangers!H185),\"\",Trait_Etrangers!H185)","v":""},{"$f":"IF(ISBLANK(Trait_Etrangers!I185),\"\",Trait_Etrangers!I185)","v":""},{"$f":"IF(ISBLANK(Trait_Etrangers!J185),\"\",Trait_Etrangers!J185)","v":""},{"$f":"IF(ISBLANK(Trait_Etrangers!K185),\"\",Trait_Etrangers!K185)","v":""},{"$f":"IF(ISBLANK(Trait_Etrangers!L185),\"\",Trait_Etrangers!L185)","v":""},{"$f":"IF(ISBLANK(Trait_Etrangers!M185),\"\",Trait_Etrangers!M185)","v":""},{"$f":"IF(ISBLANK(Trait_Etrangers!N185),\"\",Trait_Etrangers!N185)","v":""},{"$f":"IF(ISBLANK(Trait_Etrangers!O185),\"\",Trait_Etrangers!O185)","v":""},{"$f":"IF(ISBLANK(Trait_Etrangers!P185),\"\",Trait_Etrangers!P185)","v":""},null,{"$f":"IF(ISBLANK(Trait_Etrangers!R185),\"\",Trait_Etrangers!R185)","v":""},{"$f":"IF(ISBLANK(Trait_Etrangers!S185),\"\",Trait_Etrangers!S185)","v":""},{"$f":"IF(ISBLANK(Trait_Etrangers!T185),\"\",Trait_Etrangers!T185)","v":""},{"$f":"IF(ISBLANK(Trait_Etrangers!U185),\"\",Trait_Etrangers!U185)","v":""},null,null,null,"","",0,0,0,0,0,0,0,0,0,0,0,0,0,0,0,0,0,null,1,null,null,{"$f":"IF(AX185=\"\",\"\",IF(CE185=1,\"[b][color=red]\"&Datas!$D$32&\"[/color][/b]\"&AX185&\"[b][color=red]\"&Datas!$D$33&\"{\"&CD185&\"}[/color][/b]\",AX185))","v":{"$error":"#N/A"}},{"$error":"#N/A"}," ",{"$f":"IF(ISBLANK(Datas!$C$47),\"\",\" - \"&BG185)","v":{"$error":"#N/A"}},{"$f":"IF(ISBLANK(Datas!$C$48),\"\",\" - \"&BH185)","v":" - "},{"$f":"IF(ISBLANK(Datas!$C$49),\"\",\" - \"&BI185)","v":""},{"$f":"IF(ISBLANK(Datas!$C$50),\"\",\" - \"&BJ185)","v":" - Ecus:"},{"$f":"IF(ISBLANK(Datas!$C$51),\"\",\" - \"&BK185)","v":" - Niv: "},null,{"$error":"#N/A"},{"$error":"#N/A"},"","PR:","Ecus:","Niv: ",null,null,null,null,"",{"$f":"VLOOKUP(BP185,LstVillage!$B$8:$C$283,1)","v":{"$error":"#N/A"}},{"$error":"#N/A"},{"$error":"#N/A"},"",{"$f":"VLOOKUP(BT185,Datas!$G$6:$G$17,1)","v":{"$error":"#N/A"}},{"$error":"#N/A"},{"$error":"#N/A"},null,"",0,0,null,{"$f":"VLOOKUP(BP185,Liste_Noire!$B$15:$G$1208,1)","v":{"$error":"#N/A"}},{"$f":"VLOOKUP(BP185,Liste_Noire!$B$15:$G$1208,5)","v":{"$error":"#N/A"}},{"$error":"#N/A"},null,0,0,0,0,0,0,1]
[null,""," ","","","","","",{"$f":"IF(ISBLANK(Trait_Etrangers!H186),\"\",Trait_Etrangers!H186)","v":""},{"$f":"IF(ISBLANK(Trait_Etrangers!I186),\"\",Trait_Etrangers!I186)","v":""},{"$f":"IF(ISBLANK(Trait_Etrangers!J186),\"\",Trait_Etrangers!J186)","v":""},{"$f":"IF(ISBLANK(Trait_Etrangers!K186),\"\",Trait_Etrangers!K186)","v":""},{"$f":"IF(ISBLANK(Trait_Etrangers!L186),\"\",Trait_Etrangers!L186)","v":""},{"$f":"IF(ISBLANK(Trait_Etrangers!M186),\"\",Trait_Etrangers!M186)","v":""},{"$f":"IF(ISBLANK(Trait_Etrangers!N186),\"\",Trait_Etrangers!N186)","v":""},{"$f":"IF(ISBLANK(Trait_Etrangers!O186),\"\",Trait_Etrangers!O186)","v":""},{"$f":"IF(ISBLANK(Trait_Etrangers!P186),\"\",Trait_Etrangers!P186)","v":""},null,{"$f":"IF(ISBLANK(Trait_Etrangers!R186),\"\",Trait_Etrangers!R186)","v":""},{"$f":"IF(ISBLANK(Trait_Etrangers!S186),\"\",Trait_Etrangers!S186)","v":""},{"$f":"IF(ISBLANK(Trait_Etrangers!T186),\"\",Trait_Etrangers!T186)","v":""},{"$f":"IF(ISBLANK(Trait_Etrangers!U186),\"\",Trait_Etrangers!U186)","v":""},null,null,null,"","",0,0,0,0,0,0,0,0,0,0,0,0,0,0,0,0,0,null,1,null,null,{"$f":"IF(AX186=\"\",\"\",IF(CE186=1,\"[b][color=red]\"&Datas!$D$32&\"[/color][/b]\"&AX186&\"[b][color=red]\"&Datas!$D$33&\"{\"&CD186&\"}[/color][/b]\",AX186))","v":{"$error":"#N/A"}},{"$error":"#N/A"}," ",{"$f":"IF(ISBLANK(Datas!$C$47),\"\",\" - \"&BG186)","v":{"$error":"#N/A"}},{"$f":"IF(ISBLANK(Datas!$C$48),\"\",\" - \"&BH186)","v":" - "},{"$f":"IF(ISBLANK(Datas!$C$49),\"\",\" - \"&BI186)","v":""},{"$f":"IF(ISBLANK(Datas!$C$50),\"\",\" - \"&BJ186)","v":" - Ecus:"},{"$f":"IF(ISBLANK(Datas!$C$51),\"\",\" - \"&BK186)","v":" - Niv: "},null,{"$error":"#N/A"},{"$error":"#N/A"},"","PR:","Ecus:","Niv: ",null,null,null,null,"",{"$f":"VLOOKUP(BP186,LstVillage!$B$8:$C$283,1)","v":{"$error":"#N/A"}},{"$error":"#N/A"},{"$error":"#N/A"},"",{"$f":"VLOOKUP(BT186,Datas!$G$6:$G$17,1)","v":{"$error":"#N/A"}},{"$error":"#N/A"},{"$error":"#N/A"},null,"",0,0,null,{"$f":"VLOOKUP(BP186,Liste_Noire!$B$15:$G$1208,1)","v":{"$error":"#N/A"}},{"$f":"VLOOKUP(BP186,Liste_Noire!$B$15:$G$1208,5)","v":{"$error":"#N/A"}},{"$error":"#N/A"},null,0,0,0,0,0,0,1]
[null,""," ","","","","","",{"$f":"IF(ISBLANK(Trait_Etrangers!H187),\"\",Trait_Etrangers!H187)","v":""},{"$f":"IF(ISBLANK(Trait_Etrangers!I187),\"\",Trait_Etrangers!I187)","v":""},{"$f":"IF(ISBLANK(Trait_Etrangers!J187),\"\",Trait_Etrangers!J187)","v":""},{"$f":"IF(ISBLANK(Trait_Etrangers!K187),\"\",Trait_Etrangers!K187)","v":""},{"$f":"IF(ISBLANK(Trait_Etrangers!L187),\"\",Trait_Etrangers!L187)","v":""},{"$f":"IF(ISBLANK(Trait_Etrangers!M187),\"\",Trait_Etrangers!M187)","v":""},{"$f":"IF(ISBLANK(Trait_Etrangers!N187),\"\",Trait_Etrangers!N187)","v":""},{"$f":"IF(ISBLANK(Trait_Etrangers!O187),\"\",Trait_Etrangers!O187)","v":""},{"$f":"IF(ISBLANK(Trait_Etrangers!P187),\"\",Trait_Etrangers!P187)","v":""},null,{"$f":"IF(ISBLANK(Trait_Etrangers!R187),\"\",Trait_Etrangers!R187)","v":""},{"$f":"IF(ISBLANK(Trait_Etrangers!S187),\"\",Trait_Etrangers!S187)","v":""},{"$f":"IF(ISBLANK(Trait_Etrangers!T187),\"\",Trait_Etrangers!T187)","v":""},{"$f":"IF(ISBLANK(Trait_Etrangers!U187),\"\",Trait_Etrangers!U187)","v":""},null,null,null,"","",0,0,0,0,0,0,0,0,0,0,0,0,0,0,0,0,0,null,1,null,null,{"$f":"IF(AX187=\"\",\"\",IF(CE187=1,\"[b][color=red]\"&Datas!$D$32&\"[/color][/b]\"&AX187&\"[b][color=red]\"&Datas!$D$33&\"{\"&CD187&\"}[/color][/b]\",AX187))","v":{"$error":"#N/A"}},{"$error":"#N/A"}," ",{"$f":"IF(ISBLANK(Datas!$C$47),\"\",\" - \"&BG187)","v":{"$error":"#N/A"}},{"$f":"IF(ISBLANK(Datas!$C$48),\"\",\" - \"&BH187)","v":" - "},{"$f":"IF(ISBLANK(Datas!$C$49),\"\",\" - \"&BI187)","v":""},{"$f":"IF(ISBLANK(Datas!$C$50),\"\",\" - \"&BJ187)","v":" - Ecus:"},{"$f":"IF(ISBLANK(Datas!$C$51),\"\",\" - \"&BK187)","v":" - Niv: "},null,{"$error":"#N/A"},{"$error":"#N/A"},"","PR:","Ecus:","Niv: ",null,null,null,null,"",{"$f":"VLOOKUP(BP187,LstVillage!$B$8:$C$283,1)","v":{"$error":"#N/A"}},{"$error":"#N/A"},{"$error":"#N/A"},"",{"$f":"VLOOKUP(BT187,Datas!$G$6:$G$17,1)","v":{"$error":"#N/A"}},{"$error":"#N/A"},{"$error":"#N/A"},null,"",0,0,null,{"$f":"VLOOKUP(BP187,Liste_Noire!$B$15:$G$1208,1)","v":{"$error":"#N/A"}},{"$f":"VLOOKUP(BP187,Liste_Noire!$B$15:$G$1208,5)","v":{"$error":"#N/A"}},{"$error":"#N/A"},null,0,0,0,0,0,0,1]
[null,""," ","","","","","",{"$f":"IF(ISBLANK(Trait_Etrangers!H188),\"\",Trait_Etrangers!H188)","v":""},{"$f":"IF(ISBLANK(Trait_Etrangers!I188),\"\",Trait_Etrangers!I188)","v":""},{"$f":"IF(ISBLANK(Trait_Etrangers!J188),\"\",Trait_Etrangers!J188)","v":""},{"$f":"IF(ISBLANK(Trait_Etrangers!K188),\"\",Trait_Etrangers!K188)","v":""},{"$f":"IF(ISBLANK(Trait_Etrangers!L188),\"\",Trait_Etrangers!L188)","v":""},{"$f":"IF(ISBLANK(Trait_Etrangers!M188),\"\",Trait_Etrangers!M188)","v":""},{"$f":"IF(ISBLANK(Trait_Etrangers!N188),\"\",Trait_Etrangers!N188)","v":""},{"$f":"IF(ISBLANK(Trait_Etrangers!O188),\"\",Trait_Etrangers!O188)","v":""},{"$f":"IF(ISBLANK(Trait_Etrangers!P188),\"\",Trait_Etrangers!P188)","v":""},null,{"$f":"IF(ISBLANK(Trait_Etrangers!R188),\"\",Trait_Etrangers!R188)","v":""},{"$f":"IF(ISBLANK(Trait_Etrangers!S188),\"\",Trait_Etrangers!S188)","v":""},{"$f":"IF(ISBLANK(Trait_Etrangers!T188),\"\",Trait_Etrangers!T188)","v":""},{"$f":"IF(ISBLANK(Trait_Etrangers!U188),\"\",Trait_Etrangers!U188)","v":""},null,null,null,"","",0,0,0,0,0,0,0,0,0,0,0,0,0,0,0,0,0,null,1,null,null,{"$f":"IF(AX188=\"\",\"\",IF(CE188=1,\"[b][color=red]\"&Datas!$D$32&\"[/color][/b]\"&AX188&\"[b][color=red]\"&Datas!$D$33&\"{\"&CD188&\"}[/color][/b]\",AX188))","v":{"$error":"#N/A"}},{"$error":"#N/A"}," ",{"$f":"IF(ISBLANK(Datas!$C$47),\"\",\" - \"&BG188)","v":{"$error":"#N/A"}},{"$f":"IF(ISBLANK(Datas!$C$48),\"\",\" - \"&BH188)","v":" - "},{"$f":"IF(ISBLANK(Datas!$C$49),\"\",\" - \"&BI188)","v":""},{"$f":"IF(ISBLANK(Datas!$C$50),\"\",\" - \"&BJ188)","v":" - Ecus:"},{"$f":"IF(ISBLANK(Datas!$C$51),\"\",\" - \"&BK188)","v":" - Niv: "},null,{"$error":"#N/A"},{"$error":"#N/A"},"","PR:","Ecus:","Niv: ",null,null,null,null,"",{"$f":"VLOOKUP(BP188,LstVillage!$B$8:$C$283,1)","v":{"$error":"#N/A"}},{"$error":"#N/A"},{"$error":"#N/A"},"",{"$f":"VLOOKUP(BT188,Datas!$G$6:$G$17,1)","v":{"$error":"#N/A"}},{"$error":"#N/A"},{"$error":"#N/A"},null,"",0,0,null,{"$f":"VLOOKUP(BP188,Liste_Noire!$B$15:$G$1208,1)","v":{"$error":"#N/A"}},{"$f":"VLOOKUP(BP188,Liste_Noire!$B$15:$G$1208,5)","v":{"$error":"#N/A"}},{"$error":"#N/A"},null,0,0,0,0,0,0,1]
[null,""," ","","","","","",{"$f":"IF(ISBLANK(Trait_Etrangers!H189),\"\",Trait_Etrangers!H189)","v":""},{"$f":"IF(ISBLANK(Trait_Etrangers!I189),\"\",Trait_Etrangers!I189)","v":""},{"$f":"IF(ISBLANK(Trait_Etrangers!J189),\"\",Trait_Etrangers!J189)","v":""},{"$f":"IF(ISBLANK(Trait_Etrangers!K189),\"\",Trait_Etrangers!K189)","v":""},{"$f":"IF(ISBLANK(Trait_Etrangers!L189),\"\",Trait_Etrangers!L189)","v":""},{"$f":"IF(ISBLANK(Trait_Etrangers!M189),\"\",Trait_Etrangers!M189)","v":""},{"$f":"IF(ISBLANK(Trait_Etrangers!N189),\"\",Trait_Etrangers!N189)","v":""},{"$f":"IF(ISBLANK(Trait_Etrangers!O189),\"\",Trait_Etrangers!O189)","v":""},{"$f":"IF(ISBLANK(Trait_Etrangers!P189),\"\",Trait_Etrangers!P189)","v":""},null,{"$f":"IF(ISBLANK(Trait_Etrangers!R189),\"\",Trait_Etrangers!R189)","v":""},{"$f":"IF(ISBLANK(Trait_Etrangers!S189),\"\",Trait_Etrangers!S189)","v":""},{"$f":"IF(ISBLANK(Trait_Etrangers!T189),\"\",Trait_Etrangers!T189)","v":""},{"$f":"IF(ISBLANK(Trait_Etrangers!U189),\"\",Trait_Etrangers!U189)","v":""},null,null,null,"","",0,0,0,0,0,0,0,0,0,0,0,0,0,0,0,0,0,null,1,null,null,{"$f":"IF(AX189=\"\",\"\",IF(CE189=1,\"[b][color=red]\"&Datas!$D$32&\"[/color][/b]\"&AX189&\"[b][color=red]\"&Datas!$D$33&\"{\"&CD189&\"}[/color][/b]\",AX189))","v":{"$error":"#N/A"}},{"$error":"#N/A"}," ",{"$f":"IF(ISBLANK(Datas!$C$47),\"\",\" - \"&BG189)","v":{"$error":"#N/A"}},{"$f":"IF(ISBLANK(Datas!$C$48),\"\",\" - \"&BH189)","v":" - "},{"$f":"IF(ISBLANK(Datas!$C$49),\"\",\" - \"&BI189)","v":""},{"$f":"IF(ISBLANK(Datas!$C$50),\"\",\" - \"&BJ189)","v":" - Ecus:"},{"$f":"IF(ISBLANK(Datas!$C$51),\"\",\" - \"&BK189)","v":" - Niv: "},null,{"$error":"#N/A"},{"$error":"#N/A"},"","PR:","Ecus:","Niv: ",null,null,null,null,"",{"$f":"VLOOKUP(BP189,LstVillage!$B$8:$C$283,1)","v":{"$error":"#N/A"}},{"$error":"#N/A"},{"$error":"#N/A"},"",{"$f":"VLOOKUP(BT189,Datas!$G$6:$G$17,1)","v":{"$error":"#N/A"}},{"$error":"#N/A"},{"$error":"#N/A"},null,"",0,0,null,{"$f":"VLOOKUP(BP189,Liste_Noire!$B$15:$G$1208,1)","v":{"$error":"#N/A"}},{"$f":"VLOOKUP(BP189,Liste_Noire!$B$15:$G$1208,5)","v":{"$error":"#N/A"}},{"$error":"#N/A"},null,0,0,0,0,0,0,1]
[null,""," ","","","","","",{"$f":"IF(ISBLANK(Trait_Etrangers!H190),\"\",Trait_Etrangers!H190)","v":""},{"$f":"IF(ISBLANK(Trait_Etrangers!I190),\"\",Trait_Etrangers!I190)","v":""},{"$f":"IF(ISBLANK(Trait_Etrangers!J190),\"\",Trait_Etrangers!J190)","v":""},{"$f":"IF(ISBLANK(Trait_Etrangers!K190),\"\",Trait_Etrangers!K190)","v":""},{"$f":"IF(ISBLANK(Trait_Etrangers!L190),\"\",Trait_Etrangers!L190)","v":""},{"$f":"IF(ISBLANK(Trait_Etrangers!M190),\"\",Trait_Etrangers!M190)","v":""},{"$f":"IF(ISBLANK(Trait_Etrangers!N190),\"\",Trait_Etrangers!N190)","v":""},{"$f":"IF(ISBLANK(Trait_Etrangers!O190),\"\",Trait_Etrangers!O190)","v":""},{"$f":"IF(ISBLANK(Trait_Etrangers!P190),\"\",Trait_Etrangers!P190)","v":""},null,{"$f":"IF(ISBLANK(Trait_Etrangers!R190),\"\",Trait_Etrangers!R190)","v":""},{"$f":"IF(ISBLANK(Trait_Etrangers!S190),\"\",Trait_Etrangers!S190)","v":""},{"$f":"IF(ISBLANK(Trait_Etrangers!T190),\"\",Trait_Etrangers!T190)","v":""},{"$f":"IF(ISBLANK(Trait_Etrangers!U190),\"\",Trait_Etrangers!U190)","v":""},null,null,null,"","",0,0,0,0,0,0,0,0,0,0,0,0,0,0,0,0,0,null,1,null,null,{"$f":"IF(AX190=\"\",\"\",IF(CE190=1,\"[b][color=red]\"&Datas!$D$32&\"[/color][/b]\"&AX190&\"[b][color=red]\"&Datas!$D$33&\"{\"&CD190&\"}[/color][/b]\",AX190))","v":{"$error":"#N/A"}},{"$error":"#N/A"}," ",{"$f":"IF(ISBLANK(Datas!$C$47),\"\",\" - \"&BG190)","v":{"$error":"#N/A"}},{"$f":"IF(ISBLANK(Datas!$C$48),\"\",\" - \"&BH190)","v":" - "},{"$f":"IF(ISBLANK(Datas!$C$49),\"\",\" - \"&BI190)","v":""},{"$f":"IF(ISBLANK(Datas!$C$50),\"\",\" - \"&BJ190)","v":" - Ecus:"},{"$f":"IF(ISBLANK(Datas!$C$51),\"\",\" - \"&BK190)","v":" - Niv: "},null,{"$error":"#N/A"},{"$error":"#N/A"},"","PR:","Ecus:","Niv: ",null,null,null,null,"",{"$f":"VLOOKUP(BP190,LstVillage!$B$8:$C$283,1)","v":{"$error":"#N/A"}},{"$error":"#N/A"},{"$error":"#N/A"},"",{"$f":"VLOOKUP(BT190,Datas!$G$6:$G$17,1)","v":{"$error":"#N/A"}},{"$error":"#N/A"},{"$error":"#N/A"},null,"",0,0,null,{"$f":"VLOOKUP(BP190,Liste_Noire!$B$15:$G$1208,1)","v":{"$error":"#N/A"}},{"$f":"VLOOKUP(BP190,Liste_Noire!$B$15:$G$1208,5)","v":{"$error":"#N/A"}},{"$error":"#N/A"},null,0,0,0,0,0,0,1]
[null,""," ","","","","","",{"$f":"IF(ISBLANK(Trait_Etrangers!H191),\"\",Trait_Etrangers!H191)","v":""},{"$f":"IF(ISBLANK(Trait_Etrangers!I191),\"\",Trait_Etrangers!I191)","v":""},{"$f":"IF(ISBLANK(Trait_Etrangers!J191),\"\",Trait_Etrangers!J191)","v":""},{"$f":"IF(ISBLANK(Trait_Etrangers!K191),\"\",Trait_Etrangers!K191)","v":""},{"$f":"IF(ISBLANK(Trait_Etrangers!L191),\"\",Trait_Etrangers!L191)","v":""},{"$f":"IF(ISBLANK(Trait_Etrangers!M191),\"\",Trait_Etrangers!M191)","v":""},{"$f":"IF(ISBLANK(Trait_Etrangers!N191),\"\",Trait_Etrangers!N191)","v":""},{"$f":"IF(ISBLANK(Trait_Etrangers!O191),\"\",Trait_Etrangers!O191)","v":""},{"$f":"IF(ISBLANK(Trait_Etrangers!P191),\"\",Trait_Etrangers!P191)","v":""},null,{"$f":"IF(ISBLANK(Trait_Etrangers!R191),\"\",Trait_Etrangers!R191)","v":""},{"$f":"IF(ISBLANK(Trait_Etrangers!S191),\"\",Trait_Etrangers!S191)","v":""},{"$f":"IF(ISBLANK(Trait_Etrangers!T191),\"\",Trait_Etrangers!T191)","v":""},{"$f":"IF(ISBLANK(Trait_Etrangers!U191),\"\",Trait_Etrangers!U191)","v":""},null,null,null,"","",0,0,0,0,0,0,0,0,0,0,0,0,0,0,0,0,0,null,1,null,null,{"$f":"IF(AX191=\"\",\"\",IF(CE191=1,\"[b][color=red]\"&Datas!$D$32&\"[/color][/b]\"&AX191&\"[b][color=red]\"&Datas!$D$33&\"{\"&CD191&\"}[/color][/b]\",AX191))","v":{"$error":"#N/A"}},{"$error":"#N/A"}," ",{"$f":"IF(ISBLANK(Datas!$C$47),\"\",\" - \"&BG191)","v":{"$error":"#N/A"}},{"$f":"IF(ISBLANK(Datas!$C$48),\"\",\" - \"&BH191)","v":" - "},{"$f":"IF(ISBLANK(Datas!$C$49),\"\",\" - \"&BI191)","v":""},{"$f":"IF(ISBLANK(Datas!$C$50),\"\",\" - \"&BJ191)","v":" - Ecus:"},{"$f":"IF(ISBLANK(Datas!$C$51),\"\",\" - \"&BK191)","v":" - Niv: "},null,{"$error":"#N/A"},{"$error":"#N/A"},"","PR:","Ecus:","Niv: ",null,null,null,null,"",{"$f":"VLOOKUP(BP191,LstVillage!$B$8:$C$283,1)","v":{"$error":"#N/A"}},{"$error":"#N/A"},{"$error":"#N/A"},"",{"$f":"VLOOKUP(BT191,Datas!$G$6:$G$17,1)","v":{"$error":"#N/A"}},{"$error":"#N/A"},{"$error":"#N/A"},null,"",0,0,null,{"$f":"VLOOKUP(BP191,Liste_Noire!$B$15:$G$1208,1)","v":{"$error":"#N/A"}},{"$f":"VLOOKUP(BP191,Liste_Noire!$B$15:$G$1208,5)","v":{"$error":"#N/A"}},{"$error":"#N/A"},null,0,0,0,0,0,0,1]
[null,""," ","","","","","",{"$f":"IF(ISBLANK(Trait_Etrangers!H192),\"\",Trait_Etrangers!H192)","v":""},{"$f":"IF(ISBLANK(Trait_Etrangers!I192),\"\",Trait_Etrangers!I192)","v":""},{"$f":"IF(ISBLANK(Trait_Etrangers!J192),\"\",Trait_Etrangers!J192)","v":""},{"$f":"IF(ISBLANK(Trait_Etrangers!K192),\"\",Trait_Etrangers!K192)","v":""},{"$f":"IF(ISBLANK(Trait_Etrangers!L192),\"\",Trait_Etrangers!L192)","v":""},{"$f":"IF(ISBLANK(Trait_Etrangers!M192),\"\",Trait_Etrangers!M192)","v":""},{"$f":"IF(ISBLANK(Trait_Etrangers!N192),\"\",Trait_Etrangers!N192)","v":""},{"$f":"IF(ISBLANK(Trait_Etrangers!O192),\"\",Trait_Etrangers!O192)","v":""},{"$f":"IF(ISBLANK(Trait_Etrangers!P192),\"\",Trait_Etrangers!P192)","v":""},null,{"$f":"IF(ISBLANK(Trait_Etrangers!R192),\"\",Trait_Etrangers!R192)","v":""},{"$f":"IF(ISBLANK(Trait_Etrangers!S192),\"\",Trait_Etrangers!S192)","v":""},{"$f":"IF(ISBLANK(Trait_Etrangers!T192),\"\",Trait_Etrangers!T192)","v":""},{"$f":"IF(ISBLANK(Trait_Etrangers!U192),\"\",Trait_Etrangers!U192)","v":""},null,null,null,"","",0,0,0,0,0,0,0,0,0,0,0,0,0,0,0,0,0,null,1,null,null,{"$f":"IF(AX192=\"\",\"\",IF(CE192=1,\"[b][color=red]\"&Datas!$D$32&\"[/color][/b]\"&AX192&\"[b][color=red]\"&Datas!$D$33&\"{\"&CD192&\"}[/color][/b]\",AX192))","v":{"$error":"#N/A"}},{"$error":"#N/A"}," ",{"$f":"IF(ISBLANK(Datas!$C$47),\"\",\" - \"&BG192)","v":{"$error":"#N/A"}},{"$f":"IF(ISBLANK(Datas!$C$48),\"\",\" - \"&BH192)","v":" - "},{"$f":"IF(ISBLANK(Datas!$C$49),\"\",\" - \"&BI192)","v":""},{"$f":"IF(ISBLANK(Datas!$C$50),\"\",\" - \"&BJ192)","v":" - Ecus:"},{"$f":"IF(ISBLANK(Datas!$C$51),\"\",\" - \"&BK192)","v":" - Niv: "},null,{"$error":"#N/A"},{"$error":"#N/A"},"","PR:","Ecus:","Niv: ",null,null,null,null,"",{"$f":"VLOOKUP(BP192,LstVillage!$B$8:$C$283,1)","v":{"$error":"#N/A"}},{"$error":"#N/A"},{"$error":"#N/A"},"",{"$f":"VLOOKUP(BT192,Datas!$G$6:$G$17,1)","v":{"$error":"#N/A"}},{"$error":"#N/A"},{"$error":"#N/A"},null,"",0,0,null,{"$f":"VLOOKUP(BP192,Liste_Noire!$B$15:$G$1208,1)","v":{"$error":"#N/A"}},{"$f":"VLOOKUP(BP192,Liste_Noire!$B$15:$G$1208,5)","v":{"$error":"#N/A"}},{"$error":"#N/A"},null,0,0,0,0,0,0,1]
[null,""," ","","","","","",{"$f":"IF(ISBLANK(Trait_Etrangers!H193),\"\",Trait_Etrangers!H193)","v":""},{"$f":"IF(ISBLANK(Trait_Etrangers!I193),\"\",Trait_Etrangers!I193)","v":""},{"$f":"IF(ISBLANK(Trait_Etrangers!J193),\"\",Trait_Etrangers!J193)","v":""},{"$f":"IF(ISBLANK(Trait_Etrangers!K193),\"\",Trait_Etrangers!K193)","v":""},{"$f":"IF(ISBLANK(Trait_Etrangers!L193),\"\",Trait_Etrangers!L193)","v":""},{"$f":"IF(ISBLANK(Trait_Etrangers!M193),\"\",Trait_Etrangers!M193)","v":""},{"$f":"IF(ISBLANK(Trait_Etrangers!N193),\"\",Trait_Etrangers!N193)","v":""},{"$f":"IF(ISBLANK(Trait_Etrangers!O193),\"\",Trait_Etrangers!O193)","v":""},{"$f":"IF(ISBLANK(Trait_Etrangers!P193),\"\",Trait_Etrangers!P193)","v":""},null,{"$f":"IF(ISBLANK(Trait_Etrangers!R193),\"\",Trait_Etrangers!R193)","v":""},{"$f":"IF(ISBLANK(Trait_Etrangers!S193),\"\",Trait_Etrangers!S193)","v":""},{"$f":"IF(ISBLANK(Trait_Etrangers!T193),\"\",Trait_Etrangers!T193)","v":""},{"$f":"IF(ISBLANK(Trait_Etrangers!U193),\"\",Trait_Etrangers!U193)","v":""},null,null,null,"","",0,0,0,0,0,0,0,0,0,0,0,0,0,0,0,0,0,null,1,null,null,{"$f":"IF(AX193=\"\",\"\",IF(CE193=1,\"[b][color=red]\"&Datas!$D$32&\"[/color][/b]\"&AX193&\"[b][color=red]\"&Datas!$D$33&\"{\"&CD193&\"}[/color][/b]\",AX193))","v":{"$error":"#N/A"}},{"$error":"#N/A"}," ",{"$f":"IF(ISBLANK(Datas!$C$47),\"\",\" - \"&BG193)","v":{"$error":"#N/A"}},{"$f":"IF(ISBLANK(Datas!$C$48),\"\",\" - \"&BH193)","v":" - "},{"$f":"IF(ISBLANK(Datas!$C$49),\"\",\" - \"&BI193)","v":""},{"$f":"IF(ISBLANK(Datas!$C$50),\"\",\" - \"&BJ193)","v":" - Ecus:"},{"$f":"IF(ISBLANK(Datas!$C$51),\"\",\" - \"&BK193)","v":" - Niv: "},null,{"$error":"#N/A"},{"$error":"#N/A"},"","PR:","Ecus:","Niv: ",null,null,null,null,"",{"$f":"VLOOKUP(BP193,LstVillage!$B$8:$C$283,1)","v":{"$error":"#N/A"}},{"$error":"#N/A"},{"$error":"#N/A"},"",{"$f":"VLOOKUP(BT193,Datas!$G$6:$G$17,1)","v":{"$error":"#N/A"}},{"$error":"#N/A"},{"$error":"#N/A"},null,"",0,0,null,{"$f":"VLOOKUP(BP193,Liste_Noire!$B$15:$G$1208,1)","v":{"$error":"#N/A"}},{"$f":"VLOOKUP(BP193,Liste_Noire!$B$15:$G$1208,5)","v":{"$error":"#N/A"}},{"$error":"#N/A"},null,0,0,0,0,0,0,1]
[null,""," ","","","","","",{"$f":"IF(ISBLANK(Trait_Etrangers!H194),\"\",Trait_Etrangers!H194)","v":""},{"$f":"IF(ISBLANK(Trait_Etrangers!I194),\"\",Trait_Etrangers!I194)","v":""},{"$f":"IF(ISBLANK(Trait_Etrangers!J194),\"\",Trait_Etrangers!J194)","v":""},{"$f":"IF(ISBLANK(Trait_Etrangers!K194),\"\",Trait_Etrangers!K194)","v":""},{"$f":"IF(ISBLANK(Trait_Etrangers!L194),\"\",Trait_Etrangers!L194)","v":""},{"$f":"IF(ISBLANK(Trait_Etrangers!M194),\"\",Trait_Etrangers!M194)","v":""},{"$f":"IF(ISBLANK(Trait_Etrangers!N194),\"\",Trait_Etrangers!N194)","v":""},{"$f":"IF(ISBLANK(Trait_Etrangers!O194),\"\",Trait_Etrangers!O194)","v":""},{"$f":"IF(ISBLANK(Trait_Etrangers!P194),\"\",Trait_Etrangers!P194)","v":""},null,{"$f":"IF(ISBLANK(Trait_Etrangers!R194),\"\",Trait_Etrangers!R194)","v":""},{"$f":"IF(ISBLANK(Trait_Etrangers!S194),\"\",Trait_Etrangers!S194)","v":""},{"$f":"IF(ISBLANK(Trait_Etrangers!T194),\"\",Trait_Etrangers!T194)","v":""},{"$f":"IF(ISBLANK(Trait_Etrangers!U194),\"\",Trait_Etrangers!U194)","v":""},null,null,null,"","",0,0,0,0,0,0,0,0,0,0,0,0,0,0,0,0,0,null,1,null,null,{"$f":"IF(AX194=\"\",\"\",IF(CE194=1,\"[b][color=red]\"&Datas!$D$32&\"[/color][/b]\"&AX194&\"[b][color=red]\"&Datas!$D$33&\"{\"&CD194&\"}[/color][/b]\",AX194))","v":{"$error":"#N/A"}},{"$error":"#N/A"}," ",{"$f":"IF(ISBLANK(Datas!$C$47),\"\",\" - \"&BG194)","v":{"$error":"#N/A"}},{"$f":"IF(ISBLANK(Datas!$C$48),\"\",\" - \"&BH194)","v":" - "},{"$f":"IF(ISBLANK(Datas!$C$49),\"\",\" - \"&BI194)","v":""},{"$f":"IF(ISBLANK(Datas!$C$50),\"\",\" - \"&BJ194)","v":" - Ecus:"},{"$f":"IF(ISBLANK(Datas!$C$51),\"\",\" - \"&BK194)","v":" - Niv: "},null,{"$error":"#N/A"},{"$error":"#N/A"},"","PR:","Ecus:","Niv: ",null,null,null,null,"",{"$f":"VLOOKUP(BP194,LstVillage!$B$8:$C$283,1)","v":{"$error":"#N/A"}},{"$error":"#N/A"},{"$error":"#N/A"},"",{"$f":"VLOOKUP(BT194,Datas!$G$6:$G$17,1)","v":{"$error":"#N/A"}},{"$error":"#N/A"},{"$error":"#N/A"},null,"",0,0,null,{"$f":"VLOOKUP(BP194,Liste_Noire!$B$15:$G$1208,1)","v":{"$error":"#N/A"}},{"$f":"VLOOKUP(BP194,Liste_Noire!$B$15:$G$1208,5)","v":{"$error":"#N/A"}},{"$error":"#N/A"},null,0,0,0,0,0,0,1]
[null,""," ","","","","","",{"$f":"IF(ISBLANK(Trait_Etrangers!H195),\"\",Trait_Etrangers!H195)","v":""},{"$f":"IF(ISBLANK(Trait_Etrangers!I195),\"\",Trait_Etrangers!I195)","v":""},{"$f":"IF(ISBLANK(Trait_Etrangers!J195),\"\",Trait_Etrangers!J195)","v":""},{"$f":"IF(ISBLANK(Trait_Etrangers!K195),\"\",Trait_Etrangers!K195)","v":""},{"$f":"IF(ISBLANK(Trait_Etrangers!L195),\"\",Trait_Etrangers!L195)","v":""},{"$f":"IF(ISBLANK(Trait_Etrangers!M195),\"\",Trait_Etrangers!M195)","v":""},{"$f":"IF(ISBLANK(Trait_Etrangers!N195),\"\",Trait_Etrangers!N195)","v":""},{"$f":"IF(ISBLANK(Trait_Etrangers!O195),\"\",Trait_Etrangers!O195)","v":""},{"$f":"IF(ISBLANK(Trait_Etrangers!P195),\"\",Trait_Etrangers!P195)","v":""},null,{"$f":"IF(ISBLANK(Trait_Etrangers!R195),\"\",Trait_Etrangers!R195)","v":""},{"$f":"IF(ISBLANK(Trait_Etrangers!S195),\"\",Trait_Etrangers!S195)","v":""},{"$f":"IF(ISBLANK(Trait_Etrangers!T195),\"\",Trait_Etrangers!T195)","v":""},{"$f":"IF(ISBLANK(Trait_Etrangers!U195),\"\",Trait_Etrangers!U195)","v":""},null,null,null,"","",0,0,0,0,0,0,0,0,0,0,0,0,0,0,0,0,0,null,1,null,null,{"$f":"IF(AX195=\"\",\"\",IF(CE195=1,\"[b][color=red]\"&Datas!$D$32&\"[/color][/b]\"&AX195&\"[b][color=red]\"&Datas!$D$33&\"{\"&CD195&\"}[/color][/b]\",AX195))","v":{"$error":"#N/A"}},{"$error":"#N/A"}," ",{"$f":"IF(ISBLANK(Datas!$C$47),\"\",\" - \"&BG195)","v":{"$error":"#N/A"}},{"$f":"IF(ISBLANK(Datas!$C$48),\"\",\" - \"&BH195)","v":" - "},{"$f":"IF(ISBLANK(Datas!$C$49),\"\",\" - \"&BI195)","v":""},{"$f":"IF(ISBLANK(Datas!$C$50),\"\",\" - \"&BJ195)","v":" - Ecus:"},{"$f":"IF(ISBLANK(Datas!$C$51),\"\",\" - \"&BK195)","v":" - Niv: "},null,{"$error":"#N/A"},{"$error":"#N/A"},"","PR:","Ecus:","Niv: ",null,null,null,null,"",{"$f":"VLOOKUP(BP195,LstVillage!$B$8:$C$283,1)","v":{"$error":"#N/A"}},{"$error":"#N/A"},{"$error":"#N/A"},"",{"$f":"VLOOKUP(BT195,Datas!$G$6:$G$17,1)","v":{"$error":"#N/A"}},{"$error":"#N/A"},{"$error":"#N/A"},null,"",0,0,null,{"$f":"VLOOKUP(BP195,Liste_Noire!$B$15:$G$1208,1)","v":{"$error":"#N/A"}},{"$f":"VLOOKUP(BP195,Liste_Noire!$B$15:$G$1208,5)","v":{"$error":"#N/A"}},{"$error":"#N/A"},null,0,0,0,0,0,0,1]
[null,""," ","","","","","",{"$f":"IF(ISBLANK(Trait_Etrangers!H196),\"\",Trait_Etrangers!H196)","v":""},{"$f":"IF(ISBLANK(Trait_Etrangers!I196),\"\",Trait_Etrangers!I196)","v":""},{"$f":"IF(ISBLANK(Trait_Etrangers!J196),\"\",Trait_Etrangers!J196)","v":""},{"$f":"IF(ISBLANK(Trait_Etrangers!K196),\"\",Trait_Etrangers!K196)","v":""},{"$f":"IF(ISBLANK(Trait_Etrangers!L196),\"\",Trait_Etrangers!L196)","v":""},{"$f":"IF(ISBLANK(Trait_Etrangers!M196),\"\",Trait_Etrangers!M196)","v":""},{"$f":"IF(ISBLANK(Trait_Etrangers!N196),\"\",Trait_Etrangers!N196)","v":""},{"$f":"IF(ISBLANK(Trait_Etrangers!O196),\"\",Trait_Etrangers!O196)","v":""},{"$f":"IF(ISBLANK(Trait_Etrangers!P196),\"\",Trait_Etrangers!P196)","v":""},null,{"$f":"IF(ISBLANK(Trait_Etrangers!R196),\"\",Trait_Etrangers!R196)","v":""},{"$f":"IF(ISBLANK(Trait_Etrangers!S196),\"\",Trait_Etrangers!S196)","v":""},{"$f":"IF(ISBLANK(Trait_Etrangers!T196),\"\",Trait_Etrangers!T196)","v":""},{"$f":"IF(ISBLANK(Trait_Etrangers!U196),\"\",Trait_Etrangers!U196)","v":""},null,null,null,"","",0,0,0,0,0,0,0,0,0,0,0,0,0,0,0,0,0,null,1,null,null,{"$f":"IF(AX196=\"\",\"\",IF(CE196=1,\"[b][color=red]\"&Datas!$D$32&\"[/color][/b]\"&AX196&\"[b][color=red]\"&Datas!$D$33&\"{\"&CD196&\"}[/color][/b]\",AX196))","v":{"$error":"#N/A"}},{"$error":"#N/A"}," ",{"$f":"IF(ISBLANK(Datas!$C$47),\"\",\" - \"&BG196)","v":{"$error":"#N/A"}},{"$f":"IF(ISBLANK(Datas!$C$48),\"\",\" - \"&BH196)","v":" - "},{"$f":"IF(ISBLANK(Datas!$C$49),\"\",\" - \"&BI196)","v":""},{"$f":"IF(ISBLANK(Datas!$C$50),\"\",\" - \"&BJ196)","v":" - Ecus:"},{"$f":"IF(ISBLANK(Datas!$C$51),\"\",\" - \"&BK196)","v":" - Niv: "},null,{"$error":"#N/A"},{"$error":"#N/A"},"","PR:","Ecus:","Niv: ",null,null,null,null,"",{"$f":"VLOOKUP(BP196,LstVillage!$B$8:$C$283,1)","v":{"$error":"#N/A"}},{"$error":"#N/A"},{"$error":"#N/A"},"",{"$f":"VLOOKUP(BT196,Datas!$G$6:$G$17,1)","v":{"$error":"#N/A"}},{"$error":"#N/A"},{"$error":"#N/A"},null,"",0,0,null,{"$f":"VLOOKUP(BP196,Liste_Noire!$B$15:$G$1208,1)","v":{"$error":"#N/A"}},{"$f":"VLOOKUP(BP196,Liste_Noire!$B$15:$G$1208,5)","v":{"$error":"#N/A"}},{"$error":"#N/A"},null,0,0,0,0,0,0,1]
[null,""," ","","","","","",{"$f":"IF(ISBLANK(Trait_Etrangers!H197),\"\",Trait_Etrangers!H197)","v":""},{"$f":"IF(ISBLANK(Trait_Etrangers!I197),\"\",Trait_Etrangers!I197)","v":""},{"$f":"IF(ISBLANK(Trait_Etrangers!J197),\"\",Trait_Etrangers!J197)","v":""},{"$f":"IF(ISBLANK(Trait_Etrangers!K197),\"\",Trait_Etrangers!K197)","v":""},{"$f":"IF(ISBLANK(Trait_Etrangers!L197),\"\",Trait_Etrangers!L197)","v":""},{"$f":"IF(ISBLANK(Trait_Etrangers!M197),\"\",Trait_Etrangers!M197)","v":""},{"$f":"IF(ISBLANK(Trait_Etrangers!N197),\"\",Trait_Etrangers!N197)","v":""},{"$f":"IF(ISBLANK(Trait_Etrangers!O197),\"\",Trait_Etrangers!O197)","v":""},{"$f":"IF(ISBLANK(Trait_Etrangers!P197),\"\",Trait_Etrangers!P197)","v":""},null,{"$f":"IF(ISBLANK(Trait_Etrangers!R197),\"\",Trait_Etrangers!R197)","v":""},{"$f":"IF(ISBLANK(Trait_Etrangers!S197),\"\",Trait_Etrangers!S197)","v":""},{"$f":"IF(ISBLANK(Trait_Etrangers!T197),\"\",Trait_Etrangers!T197)","v":""},{"$f":"IF(ISBLANK(Trait_Etrangers!U197),\"\",Trait_Etrangers!U197)","v":""},null,null,null,"","",0,0,0,0,0,0,0,0,0,0,0,0,0,0,0,0,0,null,1,null,null,{"$f":"IF(AX197=\"\",\"\",IF(CE197=1,\"[b][color=red]\"&Datas!$D$32&\"[/color][/b]\"&AX197&\"[b][color=red]\"&Datas!$D$33&\"{\"&CD197&\"}[/color][/b]\",AX197))","v":{"$error":"#N/A"}},{"$error":"#N/A"}," ",{"$f":"IF(ISBLANK(Datas!$C$47),\"\",\" - \"&BG197)","v":{"$error":"#N/A"}},{"$f":"IF(ISBLANK(Datas!$C$48),\"\",\" - \"&BH197)","v":" - "},{"$f":"IF(ISBLANK(Datas!$C$49),\"\",\" - \"&BI197)","v":""},{"$f":"IF(ISBLANK(Datas!$C$50),\"\",\" - \"&BJ197)","v":" - Ecus:"},{"$f":"IF(ISBLANK(Datas!$C$51),\"\",\" - \"&BK197)","v":" - Niv: "},null,{"$error":"#N/A"},{"$error":"#N/A"},"","PR:","Ecus:","Niv: ",null,null,null,null,"",{"$f":"VLOOKUP(BP197,LstVillage!$B$8:$C$283,1)","v":{"$error":"#N/A"}},{"$error":"#N/A"},{"$error":"#N/A"},"",{"$f":"VLOOKUP(BT197,Datas!$G$6:$G$17,1)","v":{"$error":"#N/A"}},{"$error":"#N/A"},{"$error":"#N/A"},null,"",0,0,null,{"$f":"VLOOKUP(BP197,Liste_Noire!$B$15:$G$1208,1)","v":{"$error":"#N/A"}},{"$f":"VLOOKUP(BP197,Liste_Noire!$B$15:$G$1208,5)","v":{"$error":"#N/A"}},{"$error":"#N/A"},null,0,0,0,0,0,0,1]
[null,""," ","","","","","",{"$f":"IF(ISBLANK(Trait_Etrangers!H198),\"\",Trait_Etrangers!H198)","v":""},{"$f":"IF(ISBLANK(Trait_Etrangers!I198),\"\",Trait_Etrangers!I198)","v":""},{"$f":"IF(ISBLANK(Trait_Etrangers!J198),\"\",Trait_Etrangers!J198)","v":""},{"$f":"IF(ISBLANK(Trait_Etrangers!K198),\"\",Trait_Etrangers!K198)","v":""},{"$f":"IF(ISBLANK(Trait_Etrangers!L198),\"\",Trait_Etrangers!L198)","v":""},{"$f":"IF(ISBLANK(Trait_Etrangers!M198),\"\",Trait_Etrangers!M198)","v":""},{"$f":"IF(ISBLANK(Trait_Etrangers!N198),\"\",Trait_Etrangers!N198)","v":""},{"$f":"IF(ISBLANK(Trait_Etrangers!O198),\"\",Trait_Etrangers!O198)","v":""},{"$f":"IF(ISBLANK(Trait_Etrangers!P198),\"\",Trait_Etrangers!P198)","v":""},null,{"$f":"IF(ISBLANK(Trait_Etrangers!R198),\"\",Trait_Etrangers!R198)","v":""},{"$f":"IF(ISBLANK(Trait_Etrangers!S198),\"\",Trait_Etrangers!S198)","v":""},{"$f":"IF(ISBLANK(Trait_Etrangers!T198),\"\",Trait_Etrangers!T198)","v":""},{"$f":"IF(ISBLANK(Trait_Etrangers!U198),\"\",Trait_Etrangers!U198)","v":""},null,null,null,"","",0,0,0,0,0,0,0,0,0,0,0,0,0,0,0,0,0,null,1,null,null,{"$f":"IF(AX198=\"\",\"\",IF(CE198=1,\"[b][color=red]\"&Datas!$D$32&\"[/color][/b]\"&AX198&\"[b][color=red]\"&Datas!$D$33&\"{\"&CD198&\"}[/color][/b]\",AX198))","v":{"$error":"#N/A"}},{"$error":"#N/A"}," ",{"$f":"IF(ISBLANK(Datas!$C$47),\"\",\" - \"&BG198)","v":{"$error":"#N/A"}},{"$f":"IF(ISBLANK(Datas!$C$48),\"\",\" - \"&BH198)","v":" - "},{"$f":"IF(ISBLANK(Datas!$C$49),\"\",\" - \"&BI198)","v":""},{"$f":"IF(ISBLANK(Datas!$C$50),\"\",\" - \"&BJ198)","v":" - Ecus:"},{"$f":"IF(ISBLANK(Datas!$C$51),\"\",\" - \"&BK198)","v":" - Niv: "},null,{"$error":"#N/A"},{"$error":"#N/A"},"","PR:","Ecus:","Niv: ",null,null,null,null,"",{"$f":"VLOOKUP(BP198,LstVillage!$B$8:$C$283,1)","v":{"$error":"#N/A"}},{"$error":"#N/A"},{"$error":"#N/A"},"",{"$f":"VLOOKUP(BT198,Datas!$G$6:$G$17,1)","v":{"$error":"#N/A"}},{"$error":"#N/A"},{"$error":"#N/A"},null,"",0,0,null,{"$f":"VLOOKUP(BP198,Liste_Noire!$B$15:$G$1208,1)","v":{"$error":"#N/A"}},{"$f":"VLOOKUP(BP198,Liste_Noire!$B$15:$G$1208,5)","v":{"$error":"#N/A"}},{"$error":"#N/A"},null,0,0,0,0,0,0,1]
[null,""," ","","","","","",{"$f":"IF(ISBLANK(Trait_Etrangers!H199),\"\",Trait_Etrangers!H199)","v":""},{"$f":"IF(ISBLANK(Trait_Etrangers!I199),\"\",Trait_Etrangers!I199)","v":""},{"$f":"IF(ISBLANK(Trait_Etrangers!J199),\"\",Trait_Etrangers!J199)","v":""},{"$f":"IF(ISBLANK(Trait_Etrangers!K199),\"\",Trait_Etrangers!K199)","v":""},{"$f":"IF(ISBLANK(Trait_Etrangers!L199),\"\",Trait_Etrangers!L199)","v":""},{"$f":"IF(ISBLANK(Trait_Etrangers!M199),\"\",Trait_Etrangers!M199)","v":""},{"$f":"IF(ISBLANK(Trait_Etrangers!N199),\"\",Trait_Etrangers!N199)","v":""},{"$f":"IF(ISBLANK(Trait_Etrangers!O199),\"\",Trait_Etrangers!O199)","v":""},{"$f":"IF(ISBLANK(Trait_Etrangers!P199),\"\",Trait_Etrangers!P199)","v":""},null,{"$f":"IF(ISBLANK(Trait_Etrangers!R199),\"\",Trait_Etrangers!R199)","v":""},{"$f":"IF(ISBLANK(Trait_Etrangers!S199),\"\",Trait_Etrangers!S199)","v":""},{"$f":"IF(ISBLANK(Trait_Etrangers!T199),\"\",Trait_Etrangers!T199)","v":""},{"$f":"IF(ISBLANK(Trait_Etrangers!U199),\"\",Trait_Etrangers!U199)","v":""},null,null,null,"","",0,0,0,0,0,0,0,0,0,0,0,0,0,0,0,0,0,null,1,null,null,{"$f":"IF(AX199=\"\",\"\",IF(CE199=1,\"[b][color=red]\"&Datas!$D$32&\"[/color][/b]\"&AX199&\"[b][color=red]\"&Datas!$D$33&\"{\"&CD199&\"}[/color][/b]\",AX199))","v":{"$error":"#N/A"}},{"$error":"#N/A"}," ",{"$f":"IF(ISBLANK(Datas!$C$47),\"\",\" - \"&BG199)","v":{"$error":"#N/A"}},{"$f":"IF(ISBLANK(Datas!$C$48),\"\",\" - \"&BH199)","v":" - "},{"$f":"IF(ISBLANK(Datas!$C$49),\"\",\" - \"&BI199)","v":""},{"$f":"IF(ISBLANK(Datas!$C$50),\"\",\" - \"&BJ199)","v":" - Ecus:"},{"$f":"IF(ISBLANK(Datas!$C$51),\"\",\" - \"&BK199)","v":" - Niv: "},null,{"$error":"#N/A"},{"$error":"#N/A"},"","PR:","Ecus:","Niv: ",null,null,null,null,"",{"$f":"VLOOKUP(BP199,LstVillage!$B$8:$C$283,1)","v":{"$error":"#N/A"}},{"$error":"#N/A"},{"$error":"#N/A"},"",{"$f":"VLOOKUP(BT199,Datas!$G$6:$G$17,1)","v":{"$error":"#N/A"}},{"$error":"#N/A"},{"$error":"#N/A"},null,"",0,0,null,{"$f":"VLOOKUP(BP199,Liste_Noire!$B$15:$G$1208,1)","v":{"$error":"#N/A"}},{"$f":"VLOOKUP(BP199,Liste_Noire!$B$15:$G$1208,5)","v":{"$error":"#N/A"}},{"$error":"#N/A"},null,0,0,0,0,0,0,1]
[null,""," ","","","","","",{"$f":"IF(ISBLANK(Trait_Etrangers!H200),\"\",Trait_Etrangers!H200)","v":""},{"$f":"IF(ISBLANK(Trait_Etrangers!I200),\"\",Trait_Etrangers!I200)","v":""},{"$f":"IF(ISBLANK(Trait_Etrangers!J200),\"\",Trait_Etrangers!J200)","v":""},{"$f":"IF(ISBLANK(Trait_Etrangers!K200),\"\",Trait_Etrangers!K200)","v":""},{"$f":"IF(ISBLANK(Trait_Etrangers!L200),\"\",Trait_Etrangers!L200)","v":""},{"$f":"IF(ISBLANK(Trait_Etrangers!M200),\"\",Trait_Etrangers!M200)","v":""},{"$f":"IF(ISBLANK(Trait_Etrangers!N200),\"\",Trait_Etrangers!N200)","v":""},{"$f":"IF(ISBLANK(Trait_Etrangers!O200),\"\",Trait_Etrangers!O200)","v":""},{"$f":"IF(ISBLANK(Trait_Etrangers!P200),\"\",Trait_Etrangers!P200)","v":""},null,{"$f":"IF(ISBLANK(Trait_Etrangers!R200),\"\",Trait_Etrangers!R200)","v":""},{"$f":"IF(ISBLANK(Trait_Etrangers!S200),\"\",Trait_Etrangers!S200)","v":""},{"$f":"IF(ISBLANK(Trait_Etrangers!T200),\"\",Trait_Etrangers!T200)","v":""},{"$f":"IF(ISBLANK(Trait_Etrangers!U200),\"\",Trait_Etrangers!U200)","v":""},null,null,null,"","",0,0,0,0,0,0,0,0,0,0,0,0,0,0,0,0,0,null,1,null,null,{"$f":"IF(AX200=\"\",\"\",IF(CE200=1,\"[b][color=red]\"&Datas!$D$32&\"[/color][/b]\"&AX200&\"[b][color=red]\"&Datas!$D$33&\"{\"&CD200&\"}[/color][/b]\",AX200))","v":{"$error":"#N/A"}},{"$error":"#N/A"}," ",{"$f":"IF(ISBLANK(Datas!$C$47),\"\",\" - \"&BG200)","v":{"$error":"#N/A"}},{"$f":"IF(ISBLANK(Datas!$C$48),\"\",\" - \"&BH200)","v":" - "},{"$f":"IF(ISBLANK(Datas!$C$49),\"\",\" - \"&BI200)","v":""},{"$f":"IF(ISBLANK(Datas!$C$50),\"\",\" - \"&BJ200)","v":" - Ecus:"},{"$f":"IF(ISBLANK(Datas!$C$51),\"\",\" - \"&BK200)","v":" - Niv: "},null,{"$error":"#N/A"},{"$error":"#N/A"},"","PR:","Ecus:","Niv: ",null,null,null,null,"",{"$f":"VLOOKUP(BP200,LstVillage!$B$8:$C$283,1)","v":{"$error":"#N/A"}},{"$error":"#N/A"},{"$error":"#N/A"},"",{"$f":"VLOOKUP(BT200,Datas!$G$6:$G$17,1)","v":{"$error":"#N/A"}},{"$error":"#N/A"},{"$error":"#N/A"},null,"",0,0,null,{"$f":"VLOOKUP(BP200,Liste_Noire!$B$15:$G$1208,1)","v":{"$error":"#N/A"}},{"$f":"VLOOKUP(BP200,Liste_Noire!$B$15:$G$1208,5)","v":{"$error":"#N/A"}},{"$error":"#N/A"},null,0,0,0,0,0,0,1]
[null,""," ","","","","","",{"$f":"IF(ISBLANK(Trait_Etrangers!H201),\"\",Trait_Etrangers!H201)","v":""},{"$f":"IF(ISBLANK(Trait_Etrangers!I201),\"\",Trait_Etrangers!I201)","v":""},{"$f":"IF(ISBLANK(Trait_Etrangers!J201),\"\",Trait_Etrangers!J201)","v":""},{"$f":"IF(ISBLANK(Trait_Etrangers!K201),\"\",Trait_Etrangers!K201)","v":""},{"$f":"IF(ISBLANK(Trait_Etrangers!L201),\"\",Trait_Etrangers!L201)","v":""},{"$f":"IF(ISBLANK(Trait_Etrangers!M201),\"\",Trait_Etrangers!M201)","v":""},{"$f":"IF(ISBLANK(Trait_Etrangers!N201),\"\",Trait_Etrangers!N201)","v":""},{"$f":"IF(ISBLANK(Trait_Etrangers!O201),\"\",Trait_Etrangers!O201)","v":""},{"$f":"IF(ISBLANK(Trait_Etrangers!P201),\"\",Trait_Etrangers!P201)","v":""},null,{"$f":"IF(ISBLANK(Trait_Etrangers!R201),\"\",Trait_Etrangers!R201)","v":""},{"$f":"IF(ISBLANK(Trait_Etrangers!S201),\"\",Trait_Etrangers!S201)","v":""},{"$f":"IF(ISBLANK(Trait_Etrangers!T201),\"\",Trait_Etrangers!T201)","v":""},{"$f":"IF(ISBLANK(Trait_Etrangers!U201),\"\",Trait_Etrangers!U201)","v":""},null,null,null,"","",0,0,0,0,0,0,0,0,0,0,0,0,0,0,0,0,0,null,1,null,null,{"$f":"IF(AX201=\"\",\"\",IF(CE201=1,\"[b][color=red]\"&Datas!$D$32&\"[/color][/b]\"&AX201&\"[b][color=red]\"&Datas!$D$33&\"{\"&CD201&\"}[/color][/b]\",AX201))","v":{"$error":"#N/A"}},{"$error":"#N/A"}," ",{"$f":"IF(ISBLANK(Datas!$C$47),\"\",\" - \"&BG201)","v":{"$error":"#N/A"}},{"$f":"IF(ISBLANK(Datas!$C$48),\"\",\" - \"&BH201)","v":" - "},{"$f":"IF(ISBLANK(Datas!$C$49),\"\",\" - \"&BI201)","v":""},{"$f":"IF(ISBLANK(Datas!$C$50),\"\",\" - \"&BJ201)","v":" - Ecus:"},{"$f":"IF(ISBLANK(Datas!$C$51),\"\",\" - \"&BK201)","v":" - Niv: "},null,{"$error":"#N/A"},{"$error":"#N/A"},"","PR:","Ecus:","Niv: ",null,null,null,null,"",{"$f":"VLOOKUP(BP201,LstVillage!$B$8:$C$283,1)","v":{"$error":"#N/A"}},{"$error":"#N/A"},{"$error":"#N/A"},"",{"$f":"VLOOKUP(BT201,Datas!$G$6:$G$17,1)","v":{"$error":"#N/A"}},{"$error":"#N/A"},{"$error":"#N/A"},null,"",0,0,null,{"$f":"VLOOKUP(BP201,Liste_Noire!$B$15:$G$1208,1)","v":{"$error":"#N/A"}},{"$f":"VLOOKUP(BP201,Liste_Noire!$B$15:$G$1208,5)","v":{"$error":"#N/A"}},{"$error":"#N/A"},null,0,0,0,0,0,0,1]
[null,""," ","","","","","",{"$f":"IF(ISBLANK(Trait_Etrangers!H202),\"\",Trait_Etrangers!H202)","v":""},{"$f":"IF(ISBLANK(Trait_Etrangers!I202),\"\",Trait_Etrangers!I202)","v":""},{"$f":"IF(ISBLANK(Trait_Etrangers!J202),\"\",Trait_Etrangers!J202)","v":""},{"$f":"IF(ISBLANK(Trait_Etrangers!K202),\"\",Trait_Etrangers!K202)","v":""},{"$f":"IF(ISBLANK(Trait_Etrangers!L202),\"\",Trait_Etrangers!L202)","v":""},{"$f":"IF(ISBLANK(Trait_Etrangers!M202),\"\",Trait_Etrangers!M202)","v":""},{"$f":"IF(ISBLANK(Trait_Etrangers!N202),\"\",Trait_Etrangers!N202)","v":""},{"$f":"IF(ISBLANK(Trait_Etrangers!O202),\"\",Trait_Etrangers!O202)","v":""},{"$f":"IF(ISBLANK(Trait_Etrangers!P202),\"\",Trait_Etrangers!P202)","v":""},null,{"$f":"IF(ISBLANK(Trait_Etrangers!R202),\"\",Trait_Etrangers!R202)","v":""},{"$f":"IF(ISBLANK(Trait_Etrangers!S202),\"\",Trait_Etrangers!S202)","v":""},{"$f":"IF(ISBLANK(Trait_Etrangers!T202),\"\",Trait_Etrangers!T202)","v":""},{"$f":"IF(ISBLANK(Trait_Etrangers!U202),\"\",Trait_Etrangers!U202)","v":""},null,null,null,"","",0,0,0,0,0,0,0,0,0,0,0,0,0,0,0,0,0,null,1,null,null,{"$f":"IF(AX202=\"\",\"\",IF(CE202=1,\"[b][color=red]\"&Datas!$D$32&\"[/color][/b]\"&AX202&\"[b][color=red]\"&Datas!$D$33&\"{\"&CD202&\"}[/color][/b]\",AX202))","v":{"$error":"#N/A"}},{"$error":"#N/A"}," ",{"$f":"IF(ISBLANK(Datas!$C$47),\"\",\" - \"&BG202)","v":{"$error":"#N/A"}},{"$f":"IF(ISBLANK(Datas!$C$48),\"\",\" - \"&BH202)","v":" - "},{"$f":"IF(ISBLANK(Datas!$C$49),\"\",\" - \"&BI202)","v":""},{"$f":"IF(ISBLANK(Datas!$C$50),\"\",\" - \"&BJ202)","v":" - Ecus:"},{"$f":"IF(ISBLANK(Datas!$C$51),\"\",\" - \"&BK202)","v":" - Niv: "},null,{"$error":"#N/A"},{"$error":"#N/A"},"","PR:","Ecus:","Niv: ",null,null,null,null,"",{"$f":"VLOOKUP(BP202,LstVillage!$B$8:$C$283,1)","v":{"$error":"#N/A"}},{"$error":"#N/A"},{"$error":"#N/A"},"",{"$f":"VLOOKUP(BT202,Datas!$G$6:$G$17,1)","v":{"$error":"#N/A"}},{"$error":"#N/A"},{"$error":"#N/A"},null,"",0,0,null,{"$f":"VLOOKUP(BP202,Liste_Noire!$B$15:$G$1208,1)","v":{"$error":"#N/A"}},{"$f":"VLOOKUP(BP202,Liste_Noire!$B$15:$G$1208,5)","v":{"$error":"#N/A"}},{"$error":"#N/A"},null,0,0,0,0,0,0,1]
[null,""," ","","","","","",{"$f":"IF(ISBLANK(Trait_Etrangers!H203),\"\",Trait_Etrangers!H203)","v":""},{"$f":"IF(ISBLANK(Trait_Etrangers!I203),\"\",Trait_Etrangers!I203)","v":""},{"$f":"IF(ISBLANK(Trait_Etrangers!J203),\"\",Trait_Etrangers!J203)","v":""},{"$f":"IF(ISBLANK(Trait_Etrangers!K203),\"\",Trait_Etrangers!K203)","v":""},{"$f":"IF(ISBLANK(Trait_Etrangers!L203),\"\",Trait_Etrangers!L203)","v":""},{"$f":"IF(ISBLANK(Trait_Etrangers!M203),\"\",Trait_Etrangers!M203)","v":""},{"$f":"IF(ISBLANK(Trait_Etrangers!N203),\"\",Trait_Etrangers!N203)","v":""},{"$f":"IF(ISBLANK(Trait_Etrangers!O203),\"\",Trait_Etrangers!O203)","v":""},{"$f":"IF(ISBLANK(Trait_Etrangers!P203),\"\",Trait_Etrangers!P203)","v":""},null,{"$f":"IF(ISBLANK(Trait_Etrangers!R203),\"\",Trait_Etrangers!R203)","v":""},{"$f":"IF(ISBLANK(Trait_Etrangers!S203),\"\",Trait_Etrangers!S203)","v":""},{"$f":"IF(ISBLANK(Trait_Etrangers!T203),\"\",Trait_Etrangers!T203)","v":""},{"$f":"IF(ISBLANK(Trait_Etrangers!U203),\"\",Trait_Etrangers!U203)","v":""},null,null,null,"","",0,0,0,0,0,0,0,0,0,0,0,0,0,0,0,0,0,null,1,null,null,{"$f":"IF(AX203=\"\",\"\",IF(CE203=1,\"[b][color=red]\"&Datas!$D$32&\"[/color][/b]\"&AX203&\"[b][color=red]\"&Datas!$D$33&\"{\"&CD203&\"}[/color][/b]\",AX203))","v":{"$error":"#N/A"}},{"$error":"#N/A"}," ",{"$f":"IF(ISBLANK(Datas!$C$47),\"\",\" - \"&BG203)","v":{"$error":"#N/A"}},{"$f":"IF(ISBLANK(Datas!$C$48),\"\",\" - \"&BH203)","v":" - "},{"$f":"IF(ISBLANK(Datas!$C$49),\"\",\" - \"&BI203)","v":""},{"$f":"IF(ISBLANK(Datas!$C$50),\"\",\" - \"&BJ203)","v":" - Ecus:"},{"$f":"IF(ISBLANK(Datas!$C$51),\"\",\" - \"&BK203)","v":" - Niv: "},null,{"$error":"#N/A"},{"$error":"#N/A"},"","PR:","Ecus:","Niv: ",null,null,null,null,"",{"$f":"VLOOKUP(BP203,LstVillage!$B$8:$C$283,1)","v":{"$error":"#N/A"}},{"$error":"#N/A"},{"$error":"#N/A"},"",{"$f":"VLOOKUP(BT203,Datas!$G$6:$G$17,1)","v":{"$error":"#N/A"}},{"$error":"#N/A"},{"$error":"#N/A"},null,"",0,0,null,{"$f":"VLOOKUP(BP203,Liste_Noire!$B$15:$G$1208,1)","v":{"$error":"#N/A"}},{"$f":"VLOOKUP(BP203,Liste_Noire!$B$15:$G$1208,5)","v":{"$error":"#N/A"}},{"$error":"#N/A"},null,0,0,0,0,0,0,1]
[null,""," ","","","","","",{"$f":"IF(ISBLANK(Trait_Etrangers!H204),\"\",Trait_Etrangers!H204)","v":""},{"$f":"IF(ISBLANK(Trait_Etrangers!I204),\"\",Trait_Etrangers!I204)","v":""},{"$f":"IF(ISBLANK(Trait_Etrangers!J204),\"\",Trait_Etrangers!J204)","v":""},{"$f":"IF(ISBLANK(Trait_Etrangers!K204),\"\",Trait_Etrangers!K204)","v":""},{"$f":"IF(ISBLANK(Trait_Etrangers!L204),\"\",Trait_Etrangers!L204)","v":""},{"$f":"IF(ISBLANK(Trait_Etrangers!M204),\"\",Trait_Etrangers!M204)","v":""},{"$f":"IF(ISBLANK(Trait_Etrangers!N204),\"\",Trait_Etrangers!N204)","v":""},{"$f":"IF(ISBLANK(Trait_Etrangers!O204),\"\",Trait_Etrangers!O204)","v":""},{"$f":"IF(ISBLANK(Trait_Etrangers!P204),\"\",Trait_Etrangers!P204)","v":""},null,{"$f":"IF(ISBLANK(Trait_Etrangers!R204),\"\",Trait_Etrangers!R204)","v":""},{"$f":"IF(ISBLANK(Trait_Etrangers!S204),\"\",Trait_Etrangers!S204)","v":""},{"$f":"IF(ISBLANK(Trait_Etrangers!T204),\"\",Trait_Etrangers!T204)","v":""},{"$f":"IF(ISBLANK(Trait_Etrangers!U204),\"\",Trait_Etrangers!U204)","v":""},null,null,null,"","",0,0,0,0,0,0,0,0,0,0,0,0,0,0,0,0,0,null,1,null,null,{"$f":"IF(AX204=\"\",\"\",IF(CE204=1,\"[b][color=red]\"&Datas!$D$32&\"[/color][/b]\"&AX204&\"[b][color=red]\"&Datas!$D$33&\"{\"&CD204&\"}[/color][/b]\",AX204))","v":{"$error":"#N/A"}},{"$error":"#N/A"}," ",{"$f":"IF(ISBLANK(Datas!$C$47),\"\",\" - \"&BG204)","v":{"$error":"#N/A"}},{"$f":"IF(ISBLANK(Datas!$C$48),\"\",\" - \"&BH204)","v":" - "},{"$f":"IF(ISBLANK(Datas!$C$49),\"\",\" - \"&BI204)","v":""},{"$f":"IF(ISBLANK(Datas!$C$50),\"\",\" - \"&BJ204)","v":" - Ecus:"},{"$f":"IF(ISBLANK(Datas!$C$51),\"\",\" - \"&BK204)","v":" - Niv: "},null,{"$error":"#N/A"},{"$error":"#N/A"},"","PR:","Ecus:","Niv: ",null,null,null,null,"",{"$f":"VLOOKUP(BP204,LstVillage!$B$8:$C$283,1)","v":{"$error":"#N/A"}},{"$error":"#N/A"},{"$error":"#N/A"},"",{"$f":"VLOOKUP(BT204,Datas!$G$6:$G$17,1)","v":{"$error":"#N/A"}},{"$error":"#N/A"},{"$error":"#N/A"},null,"",0,0,null,{"$f":"VLOOKUP(BP204,Liste_Noire!$B$15:$G$1208,1)","v":{"$error":"#N/A"}},{"$f":"VLOOKUP(BP204,Liste_Noire!$B$15:$G$1208,5)","v":{"$error":"#N/A"}},{"$error":"#N/A"},null,0,0,0,0,0,0,1]
[null,{"$f":"IF(OR(ISBLANK($J205),$J205=\"\"),\"\",IF(BZ205,\"[strike]\"&AW205&\"[/strike]\",IF(CA205,\"[i]\"&AW205&\"[/i]\",AW205)))","v":""}," ",{"$f":"IF(N205=\"mort\",\"M\",\"\")","v":""},{"$f":"IF(ISERROR(CE205),\"\",IF(CE205=1,\"LN\",\"\"))","v":""},{"$f":"IF(N205=\"retraite\",\"R\",\"\")","v":""},{"$f":"IF(ISBLANK(Z205),\"\",Z205)","v":""},{"$f":"IF(ISBLANK(AA205),\"\",AA205)","v":""},{"$f":"IF(ISBLANK(Trait_Etrangers!H205),\"\",Trait_Etrangers!H205)","v":""},{"$f":"IF(ISBLANK(Trait_Etrangers!I205),\"\",Trait_Etrangers!I205)","v":""},{"$f":"IF(ISBLANK(Trait_Etrangers!J205),\"\",Trait_Etrangers!J205)","v":""},{"$f":"IF(ISBLANK(Trait_Etrangers!K205),\"\",Trait_Etrangers!K205)","v":""},{"$f":"IF(ISBLANK(Trait_Etrangers!L205),\"\",Trait_Etrangers!L205)","v":""},{"$f":"IF(ISBLANK(Trait_Etrangers!M205),\"\",Trait_Etrangers!M205)","v":""},{"$f":"IF(ISBLANK(Trait_Etrangers!N205),\"\",Trait_Etrangers!N205)","v":""},{"$f":"IF(ISBLANK(Trait_Etrangers!O205),\"\",Trait_Etrangers!O205)","v":""},{"$f":"IF(ISBLANK(Trait_Etrangers!P205),\"\",Trait_Etrangers!P205)","v":""},null,{"$f":"IF(ISBLANK(Trait_Etrangers!R205),\"\",Trait_Etrangers!R205)","v":""},{"$f":"IF(ISBLANK(Trait_Etrangers!S205),\"\",Trait_Etrangers!S205)","v":""},{"$f":"IF(ISBLANK(Trait_Etrangers!T205),\"\",Trait_Etrangers!T205)","v":""},{"$f":"IF(ISBLANK(Trait_Etrangers!U205),\"\",Trait_Etrangers!U205)","v":""},null,null,null,"","",{"$f":"IF(OR(ISBLANK($J205),$J205=\"\"),0,IF($L205<>$AB$8,1,0))","v":0},{"$f":"IF(AND(AB205=1,AK205=0,AO205=0,Z205=$Z$11),1,0)","v":0},{"$f":"IF(OR(ISBLANK($J205),$J205=\"\"),0,IF(AND(AC205=1,CE205=1),1,0))","v":0},{"$f":"IF($Z205=AE$11,1,0)","v":0},{"$f":"IF(AND(AE205=1,$E205=AF$11),1,0)","v":0},{"$f":"IF(AE205+AB205=2,1,0)","v":0},{"$f":"IF(AG205+AF205>1,1,0)","v":0},{"$f":"IF($Z205=AI$11,1,0)","v":0},{"$f":"IF(AND(AI205=1,$E205=AJ$11),1,0)","v":0},{"$f":"IF($F205=AK$11,1,0)","v":0},{"$f":"IF(AND(AK205=1,$E205=AL$11),1,0)","v":0},{"$f":"IF(AK205+AB205>1,1,0)","v":0},{"$f":"IF(AL205+AM205>1,1,0)","v":0},{"$f":"IF($D205=AO$11,1,0)","v":0},{"$f":"IF(AND(AO205=1,$E205=AP$11),1,0)","v":0},{"$f":"IF(AND($Z205=AQ$11,(AK205+AO205)=0),1,0)","v":0},{"$f":"IF(AND(AQ205=1,$E205=AR$11),1,0)","v":0},null,{"$f":"IF(AND(ISBLANK(J205),ISBLANK(L205),ISBLANK(M205),ISBLANK(Q205)),0,1)","v":1},null,null,{"$f":"IF(AX205=\"\",\"\",IF(CE205=1,\"[b][color=red]\"&Datas!$D$32&\"[/color][/b]\"&AX205&\"[b][color=red]\"&Datas!$D$33&\"{\"&CD205&\"}[/color][/b]\",AX205))","v":{"$error":"#N/A"}},{"$f":"IF(ISBLANK(N205),\"\",BF205&AZ205&BA205&BB205&BC205&BD205)","v":{"$error":"#N/A"}}," ",{"$f":"IF(ISBLANK(Datas!$C$47),\"\",\" - \"&BG205)","v":{"$error":"#N/A"}},{"$f":"IF(ISBLANK(Datas!$C$48),\"\",\" - \"&BH205)","v":" - "},{"$f":"IF(ISBLANK(Datas!$C$49),\"\",\" - \"&BI205)","v":""},{"$f":"IF(ISBLANK(Datas!$C$50),\"\",\" - \"&BJ205)","v":" - Ecus:"},{"$f":"IF(ISBLANK(Datas!$C$51),\"\",\" - \"&BK205)","v":" - Niv: "},null,{"$f":"\"[b][color=\"&BS205&\"]\"&BP205&\"[/color][/b]\"","v":{"$error":"#N/A"}},{"$f":"\"[b][color=\"&BW205&\"]\"&BT205&\"[/color][/b]\"","v":{"$error":"#N/A"}},{"$f":"BY205","v":""},{"$f":"\"PR:\"&P205","v":"PR:"},{"$f":"\"Ecus:\"&Q205","v":"Ecus:"},{"$f":"\"Niv: \"&O205","v":"Niv: "},null,null,null,null,{"$f":"J205","v":""},{"$f":"VLOOKUP(BP205,LstVillage!$B$8:$C$283,1)","v":{"$error":"#N/A"}},{"$f":"IF(BQ205<>BP205,0,1)","v":{"$error":"#N/A"}},{"$f":"IF(BR205=1,$BG$2,IF(BV205=1,$BG$3,$BG$4))","v":{"$error":"#N/A"}},{"$f":"M205","v":""},{"$f":"VLOOKUP(BT205,Datas!$G$6:$G$17,1)","v":{"$error":"#N/A"}},{"$f":"IF(BU205<>BT205,0,1)","v":{"$error":"#N/A"}},{"$f":"IF(BV205=1,$BJ$2,$BJ$3)","v":{"$error":"#N/A"}},null,{"$f":"L205","v":""},{"$f":"IF(F205=\"M\",1,0)","v":0},{"$f":"IF(F205=\"R\",1,0)","v":0},null,{"$f":"VLOOKUP(BP205,Liste_Noire!$B$15:$G$1208,1)","v":{"$error":"#N/A"}},{"$f":"VLOOKUP(BP205,Liste_Noire!$B$15:$G$1208,5)","v":{"$error":"#N/A"}},{"$f":"IF(ISERR(CC205),0,IF(CC205=BP205,1,0))","v":{"$error":"#N/A"}},null,{"$f":"IF(G205=\"a\",1,0)","v":0},{"$f":"IF(G205=\"d\",1,0)","v":0},{"$f":"IF(F205=\"R\",1,0)","v":0},{"$f":"IF(F205=\"M\",1,0)","v":0},{"$f":"IF(ISERROR(CE205),0,IF(CE205=1,IF(CD205=\"Liste Noire\",1,0),0))","v":0},{"$f":"IF(ISERROR(CE205),0,IF(CE205=1,IF(CD205=\"Surveillance\",1,0),0))","v":0},{"$f":"IF(ISBLANK(J205),0,1)","v":1}]
[null,""," ","","","","","",{"$f":"IF(ISBLANK(Trait_Etrangers!H206),\"\",Trait_Etrangers!H206)","v":""},{"$f":"IF(ISBLANK(Trait_Etrangers!I206),\"\",Trait_Etrangers!I206)","v":""},{"$f":"IF(ISBLANK(Trait_Etrangers!J206),\"\",Trait_Etrangers!J206)","v":""},{"$f":"IF(ISBLANK(Trait_Etrangers!K206),\"\",Trait_Etrangers!K206)","v":""},{"$f":"IF(ISBLANK(Trait_Etrangers!L206),\"\",Trait_Etrangers!L206)","v":""},{"$f":"IF(ISBLANK(Trait_Etrangers!M206),\"\",Trait_Etrangers!M206)","v":""},{"$f":"IF(ISBLANK(Trait_Etrangers!N206),\"\",Trait_Etrangers!N206)","v":""},{"$f":"IF(ISBLANK(Trait_Etrangers!O206),\"\",Trait_Etrangers!O206)","v":""},{"$f":"IF(ISBLANK(Trait_Etrangers!P206),\"\",Trait_Etrangers!P206)","v":""},null,{"$f":"IF(ISBLANK(Trait_Etrangers!R206),\"\",Trait_Etrangers!R206)","v":""},{"$f":"IF(ISBLANK(Trait_Etrangers!S206),\"\",Trait_Etrangers!S206)","v":""},{"$f":"IF(ISBLANK(Trait_Etrangers!T206),\"\",Trait_Etrangers!T206)","v":""},{"$f":"IF(ISBLANK(Trait_Etrangers!U206),\"\",Trait_Etrangers!U206)","v":""},null,null,null,{"$f":"IF(OR(ISBLANK($V206),TRIM($V206)=\"\"),IF(OR(ISBLANK($J206),$J206=\"\"),\"\",$Z$11),IF(OR($F206=$AK$11,$D206=$AO$11),$Z$11,IF($V206=\"a/d\",\"\",$V206)))","v":""},{"$f":"IF(OR(ISBLANK($J206),TRIM($J206)=\"\"),\"\",IF($D206=$AO$11,$AA$10,IF($V206=$AI$11,$AA$10,IF($AB206=1,$AA$11,$AA$10))))","v":""},0,0,0,0,0,0,0,0,0,0,0,0,0,0,0,0,0,null,1,null,null,{"$f":"IF(AX206=\"\",\"\",IF(CE206=1,\"[b][color=red]\"&Datas!$D$32&\"[/color][/b]\"&AX206&\"[b][color=red]\"&Datas!$D$33&\"{\"&CD206&\"}[/color][/b]\",AX206))","v":{"$error":"#N/A"}},{"$error":"#N/A"}," ",{"$f":"IF(ISBLANK(Datas!$C$47),\"\",\" - \"&BG206)","v":{"$error":"#N/A"}},{"$f":"IF(ISBLANK(Datas!$C$48),\"\",\" - \"&BH206)","v":" - "},{"$f":"IF(ISBLANK(Datas!$C$49),\"\",\" - \"&BI206)","v":""},{"$f":"IF(ISBLANK(Datas!$C$50),\"\",\" - \"&BJ206)","v":" - Ecus:"},{"$f":"IF(ISBLANK(Datas!$C$51),\"\",\" - \"&BK206)","v":" - Niv: "},null,{"$error":"#N/A"},{"$error":"#N/A"},"","PR:","Ecus:","Niv: ",null,null,null,null,"",{"$f":"VLOOKUP(BP206,LstVillage!$B$8:$C$283,1)","v":{"$error":"#N/A"}},{"$error":"#N/A"},{"$error":"#N/A"},"",{"$f":"VLOOKUP(BT206,Datas!$G$6:$G$17,1)","v":{"$error":"#N/A"}},{"$error":"#N/A"},{"$error":"#N/A"},null,"",0,0,null,{"$f":"VLOOKUP(BP206,Liste_Noire!$B$15:$G$1208,1)","v":{"$error":"#N/A"}},{"$f":"VLOOKUP(BP206,Liste_Noire!$B$15:$G$1208,5)","v":{"$error":"#N/A"}},{"$error":"#N/A"},null,0,0,0,0,0,0,1]
[null,""," ","","","","","",{"$f":"IF(ISBLANK(Trait_Etrangers!H207),\"\",Trait_Etrangers!H207)","v":""},{"$f":"IF(ISBLANK(Trait_Etrangers!I207),\"\",Trait_Etrangers!I207)","v":""},{"$f":"IF(ISBLANK(Trait_Etrangers!J207),\"\",Trait_Etrangers!J207)","v":""},{"$f":"IF(ISBLANK(Trait_Etrangers!K207),\"\",Trait_Etrangers!K207)","v":""},{"$f":"IF(ISBLANK(Trait_Etrangers!L207),\"\",Trait_Etrangers!L207)","v":""},{"$f":"IF(ISBLANK(Trait_Etrangers!M207),\"\",Trait_Etrangers!M207)","v":""},{"$f":"IF(ISBLANK(Trait_Etrangers!N207),\"\",Trait_Etrangers!N207)","v":""},{"$f":"IF(ISBLANK(Trait_Etrangers!O207),\"\",Trait_Etrangers!O207)","v":""},{"$f":"IF(ISBLANK(Trait_Etrangers!P207),\"\",Trait_Etrangers!P207)","v":""},null,{"$f":"IF(ISBLANK(Trait_Etrangers!R207),\"\",Trait_Etrangers!R207)","v":""},{"$f":"IF(ISBLANK(Trait_Etrangers!S207),\"\",Trait_Etrangers!S207)","v":""},{"$f":"IF(ISBLANK(Trait_Etrangers!T207),\"\",Trait_Etrangers!T207)","v":""},{"$f":"IF(ISBLANK(Trait_Etrangers!U207),\"\",Trait_Etrangers!U207)","v":""},null,null,null,"","",0,0,0,0,0,0,0,0,0,0,0,0,0,0,0,0,0,null,1,null,null,{"$f":"IF(AX207=\"\",\"\",IF(CE207=1,\"[b][color=red]\"&Datas!$D$32&\"[/color][/b]\"&AX207&\"[b][color=red]\"&Datas!$D$33&\"{\"&CD207&\"}[/color][/b]\",AX207))","v":{"$error":"#N/A"}},{"$error":"#N/A"}," ",{"$f":"IF(ISBLANK(Datas!$C$47),\"\",\" - \"&BG207)","v":{"$error":"#N/A"}},{"$f":"IF(ISBLANK(Datas!$C$48),\"\",\" - \"&BH207)","v":" - "},{"$f":"IF(ISBLANK(Datas!$C$49),\"\",\" - \"&BI207)","v":""},{"$f":"IF(ISBLANK(Datas!$C$50),\"\",\" - \"&BJ207)","v":" - Ecus:"},{"$f":"IF(ISBLANK(Datas!$C$51),\"\",\" - \"&BK207)","v":" - Niv: "},null,{"$error":"#N/A"},{"$error":"#N/A"},"","PR:","Ecus:","Niv: ",null,null,null,null,"",{"$f":"VLOOKUP(BP207,LstVillage!$B$8:$C$283,1)","v":{"$error":"#N/A"}},{"$error":"#N/A"},{"$error":"#N/A"},"",{"$f":"VLOOKUP(BT207,Datas!$G$6:$G$17,1)","v":{"$error":"#N/A"}},{"$error":"#N/A"},{"$error":"#N/A"},null,"",0,0,null,{"$f":"VLOOKUP(BP207,Liste_Noire!$B$15:$G$1208,1)","v":{"$error":"#N/A"}},{"$f":"VLOOKUP(BP207,Liste_Noire!$B$15:$G$1208,5)","v":{"$error":"#N/A"}},{"$error":"#N/A"},null,0,0,0,0,0,0,1]
[null,""," ","","","","","",{"$f":"IF(ISBLANK(Trait_Etrangers!H208),\"\",Trait_Etrangers!H208)","v":""},{"$f":"IF(ISBLANK(Trait_Etrangers!I208),\"\",Trait_Etrangers!I208)","v":""},{"$f":"IF(ISBLANK(Trait_Etrangers!J208),\"\",Trait_Etrangers!J208)","v":""},{"$f":"IF(ISBLANK(Trait_Etrangers!K208),\"\",Trait_Etrangers!K208)","v":""},{"$f":"IF(ISBLANK(Trait_Etrangers!L208),\"\",Trait_Etrangers!L208)","v":""},{"$f":"IF(ISBLANK(Trait_Etrangers!M208),\"\",Trait_Etrangers!M208)","v":""},{"$f":"IF(ISBLANK(Trait_Etrangers!N208),\"\",Trait_Etrangers!N208)","v":""},{"$f":"IF(ISBLANK(Trait_Etrangers!O208),\"\",Trait_Etrangers!O208)","v":""},{"$f":"IF(ISBLANK(Trait_Etrangers!P208),\"\",Trait_Etrangers!P208)","v":""},null,{"$f":"IF(ISBLANK(Trait_Etrangers!R208),\"\",Trait_Etrangers!R208)","v":""},{"$f":"IF(ISBLANK(Trait_Etrangers!S208),\"\",Trait_Etrangers!S208)","v":""},{"$f":"IF(ISBLANK(Trait_Etrangers!T208),\"\",Trait_Etrangers!T208)","v":""},{"$f":"IF(ISBLANK(Trait_Etrangers!U208),\"\",Trait_Etrangers!U208)","v":""},null,null,null,"","",0,0,0,0,0,0,0,0,0,0,0,0,0,0,0,0,0,null,1,null,null,{"$f":"IF(AX208=\"\",\"\",IF(CE208=1,\"[b][color=red]\"&Datas!$D$32&\"[/color][/b]\"&AX208&\"[b][color=red]\"&Datas!$D$33&\"{\"&CD208&\"}[/color][/b]\",AX208))","v":{"$error":"#N/A"}},{"$error":"#N/A"}," ",{"$f":"IF(ISBLANK(Datas!$C$47),\"\",\" - \"&BG208)","v":{"$error":"#N/A"}},{"$f":"IF(ISBLANK(Datas!$C$48),\"\",\" - \"&BH208)","v":" - "},{"$f":"IF(ISBLANK(Datas!$C$49),\"\",\" - \"&BI208)","v":""},{"$f":"IF(ISBLANK(Datas!$C$50),\"\",\" - \"&BJ208)","v":" - Ecus:"},{"$f":"IF(ISBLANK(Datas!$C$51),\"\",\" - \"&BK208)","v":" - Niv: "},null,{"$error":"#N/A"},{"$error":"#N/A"},"","PR:","Ecus:","Niv: ",null,null,null,null,"",{"$f":"VLOOKUP(BP208,LstVillage!$B$8:$C$283,1)","v":{"$error":"#N/A"}},{"$error":"#N/A"},{"$error":"#N/A"},"",{"$f":"VLOOKUP(BT208,Datas!$G$6:$G$17,1)","v":{"$error":"#N/A"}},{"$error":"#N/A"},{"$error":"#N/A"},null,"",0,0,null,{"$f":"VLOOKUP(BP208,Liste_Noire!$B$15:$G$1208,1)","v":{"$error":"#N/A"}},{"$f":"VLOOKUP(BP208,Liste_Noire!$B$15:$G$1208,5)","v":{"$error":"#N/A"}},{"$error":"#N/A"},null,0,0,0,0,0,0,1]
[null,""," ","","","","","",{"$f":"IF(ISBLANK(Trait_Etrangers!H209),\"\",Trait_Etrangers!H209)","v":""},{"$f":"IF(ISBLANK(Trait_Etrangers!I209),\"\",Trait_Etrangers!I209)","v":""},{"$f":"IF(ISBLANK(Trait_Etrangers!J209),\"\",Trait_Etrangers!J209)","v":""},{"$f":"IF(ISBLANK(Trait_Etrangers!K209),\"\",Trait_Etrangers!K209)","v":""},{"$f":"IF(ISBLANK(Trait_Etrangers!L209),\"\",Trait_Etrangers!L209)","v":""},{"$f":"IF(ISBLANK(Trait_Etrangers!M209),\"\",Trait_Etrangers!M209)","v":""},{"$f":"IF(ISBLANK(Trait_Etrangers!N209),\"\",Trait_Etrangers!N209)","v":""},{"$f":"IF(ISBLANK(Trait_Etrangers!O209),\"\",Trait_Etrangers!O209)","v":""},{"$f":"IF(ISBLANK(Trait_Etrangers!P209),\"\",Trait_Etrangers!P209)","v":""},null,{"$f":"IF(ISBLANK(Trait_Etrangers!R209),\"\",Trait_Etrangers!R209)","v":""},{"$f":"IF(ISBLANK(Trait_Etrangers!S209),\"\",Trait_Etrangers!S209)","v":""},{"$f":"IF(ISBLANK(Trait_Etrangers!T209),\"\",Trait_Etrangers!T209)","v":""},{"$f":"IF(ISBLANK(Trait_Etrangers!U209),\"\",Trait_Etrangers!U209)","v":""},null,null,null,"","",0,0,0,0,0,0,0,0,0,0,0,0,0,0,0,0,0,null,1,null,null,{"$f":"IF(AX209=\"\",\"\",IF(CE209=1,\"[b][color=red]\"&Datas!$D$32&\"[/color][/b]\"&AX209&\"[b][color=red]\"&Datas!$D$33&\"{\"&CD209&\"}[/color][/b]\",AX209))","v":{"$error":"#N/A"}},{"$error":"#N/A"}," ",{"$f":"IF(ISBLANK(Datas!$C$47),\"\",\" - \"&BG209)","v":{"$error":"#N/A"}},{"$f":"IF(ISBLANK(Datas!$C$48),\"\",\" - \"&BH209)","v":" - "},{"$f":"IF(ISBLANK(Datas!$C$49),\"\",\" - \"&BI209)","v":""},{"$f":"IF(ISBLANK(Datas!$C$50),\"\",\" - \"&BJ209)","v":" - Ecus:"},{"$f":"IF(ISBLANK(Datas!$C$51),\"\",\" - \"&BK209)","v":" - Niv: "},null,{"$error":"#N/A"},{"$error":"#N/A"},"","PR:","Ecus:","Niv: ",null,null,null,null,"",{"$f":"VLOOKUP(BP209,LstVillage!$B$8:$C$283,1)","v":{"$error":"#N/A"}},{"$error":"#N/A"},{"$error":"#N/A"},"",{"$f":"VLOOKUP(BT209,Datas!$G$6:$G$17,1)","v":{"$error":"#N/A"}},{"$error":"#N/A"},{"$error":"#N/A"},null,"",0,0,null,{"$f":"VLOOKUP(BP209,Liste_Noire!$B$15:$G$1208,1)","v":{"$error":"#N/A"}},{"$f":"VLOOKUP(BP209,Liste_Noire!$B$15:$G$1208,5)","v":{"$error":"#N/A"}},{"$error":"#N/A"},null,0,0,0,0,0,0,1]
[null,""," ","","","","","",{"$f":"IF(ISBLANK(Trait_Etrangers!H210),\"\",Trait_Etrangers!H210)","v":""},{"$f":"IF(ISBLANK(Trait_Etrangers!I210),\"\",Trait_Etrangers!I210)","v":""},{"$f":"IF(ISBLANK(Trait_Etrangers!J210),\"\",Trait_Etrangers!J210)","v":""},{"$f":"IF(ISBLANK(Trait_Etrangers!K210),\"\",Trait_Etrangers!K210)","v":""},{"$f":"IF(ISBLANK(Trait_Etrangers!L210),\"\",Trait_Etrangers!L210)","v":""},{"$f":"IF(ISBLANK(Trait_Etrangers!M210),\"\",Trait_Etrangers!M210)","v":""},{"$f":"IF(ISBLANK(Trait_Etrangers!N210),\"\",Trait_Etrangers!N210)","v":""},{"$f":"IF(ISBLANK(Trait_Etrangers!O210),\"\",Trait_Etrangers!O210)","v":""},{"$f":"IF(ISBLANK(Trait_Etrangers!P210),\"\",Trait_Etrangers!P210)","v":""},null,{"$f":"IF(ISBLANK(Trait_Etrangers!R210),\"\",Trait_Etrangers!R210)","v":""},{"$f":"IF(ISBLANK(Trait_Etrangers!S210),\"\",Trait_Etrangers!S210)","v":""},{"$f":"IF(ISBLANK(Trait_Etrangers!T210),\"\",Trait_Etrangers!T210)","v":""},{"$f":"IF(ISBLANK(Trait_Etrangers!U210),\"\",Trait_Etrangers!U210)","v":""},null,null,null,"","",0,0,0,0,0,0,0,0,0,0,0,0,0,0,0,0,0,null,1,null,null,{"$f":"IF(AX210=\"\",\"\",IF(CE210=1,\"[b][color=red]\"&Datas!$D$32&\"[/color][/b]\"&AX210&\"[b][color=red]\"&Datas!$D$33&\"{\"&CD210&\"}[/color][/b]\",AX210))","v":{"$error":"#N/A"}},{"$error":"#N/A"}," ",{"$f":"IF(ISBLANK(Datas!$C$47),\"\",\" - \"&BG210)","v":{"$error":"#N/A"}},{"$f":"IF(ISBLANK(Datas!$C$48),\"\",\" - \"&BH210)","v":" - "},{"$f":"IF(ISBLANK(Datas!$C$49),\"\",\" - \"&BI210)","v":""},{"$f":"IF(ISBLANK(Datas!$C$50),\"\",\" - \"&BJ210)","v":" - Ecus:"},{"$f":"IF(ISBLANK(Datas!$C$51),\"\",\" - \"&BK210)","v":" - Niv: "},null,{"$error":"#N/A"},{"$error":"#N/A"},"","PR:","Ecus:","Niv: ",null,null,null,null,"",{"$f":"VLOOKUP(BP210,LstVillage!$B$8:$C$283,1)","v":{"$error":"#N/A"}},{"$error":"#N/A"},{"$error":"#N/A"},"",{"$f":"VLOOKUP(BT210,Datas!$G$6:$G$17,1)","v":{"$error":"#N/A"}},{"$error":"#N/A"},{"$error":"#N/A"},null,"",0,0,null,{"$f":"VLOOKUP(BP210,Liste_Noire!$B$15:$G$1208,1)","v":{"$error":"#N/A"}},{"$f":"VLOOKUP(BP210,Liste_Noire!$B$15:$G$1208,5)","v":{"$error":"#N/A"}},{"$error":"#N/A"},null,0,0,0,0,0,0,1]
[null,""," ","","","","","",{"$f":"IF(ISBLANK(Trait_Etrangers!H211),\"\",Trait_Etrangers!H211)","v":""},{"$f":"IF(ISBLANK(Trait_Etrangers!I211),\"\",Trait_Etrangers!I211)","v":""},{"$f":"IF(ISBLANK(Trait_Etrangers!J211),\"\",Trait_Etrangers!J211)","v":""},{"$f":"IF(ISBLANK(Trait_Etrangers!K211),\"\",Trait_Etrangers!K211)","v":""},{"$f":"IF(ISBLANK(Trait_Etrangers!L211),\"\",Trait_Etrangers!L211)","v":""},{"$f":"IF(ISBLANK(Trait_Etrangers!M211),\"\",Trait_Etrangers!M211)","v":""},{"$f":"IF(ISBLANK(Trait_Etrangers!N211),\"\",Trait_Etrangers!N211)","v":""},{"$f":"IF(ISBLANK(Trait_Etrangers!O211),\"\",Trait_Etrangers!O211)","v":""},{"$f":"IF(ISBLANK(Trait_Etrangers!P211),\"\",Trait_Etrangers!P211)","v":""},null,{"$f":"IF(ISBLANK(Trait_Etrangers!R211),\"\",Trait_Etrangers!R211)","v":""},{"$f":"IF(ISBLANK(Trait_Etrangers!S211),\"\",Trait_Etrangers!S211)","v":""},{"$f":"IF(ISBLANK(Trait_Etrangers!T211),\"\",Trait_Etrangers!T211)","v":""},{"$f":"IF(ISBLANK(Trait_Etrangers!U211),\"\",Trait_Etrangers!U211)","v":""},null,null,null,"","",0,0,0,0,0,0,0,0,0,0,0,0,0,0,0,0,0,null,1,null,null,{"$f":"IF(AX211=\"\",\"\",IF(CE211=1,\"[b][color=red]\"&Datas!$D$32&\"[/color][/b]\"&AX211&\"[b][color=red]\"&Datas!$D$33&\"{\"&CD211&\"}[/color][/b]\",AX211))","v":{"$error":"#N/A"}},{"$error":"#N/A"}," ",{"$f":"IF(ISBLANK(Datas!$C$47),\"\",\" - \"&BG211)","v":{"$error":"#N/A"}},{"$f":"IF(ISBLANK(Datas!$C$48),\"\",\" - \"&BH211)","v":" - "},{"$f":"IF(ISBLANK(Datas!$C$49),\"\",\" - \"&BI211)","v":""},{"$f":"IF(ISBLANK(Datas!$C$50),\"\",\" - \"&BJ211)","v":" - Ecus:"},{"$f":"IF(ISBLANK(Datas!$C$51),\"\",\" - \"&BK211)","v":" - Niv: "},null,{"$error":"#N/A"},{"$error":"#N/A"},"","PR:","Ecus:","Niv: ",null,null,null,null,"",{"$f":"VLOOKUP(BP211,LstVillage!$B$8:$C$283,1)","v":{"$error":"#N/A"}},{"$error":"#N/A"},{"$error":"#N/A"},"",{"$f":"VLOOKUP(BT211,Datas!$G$6:$G$17,1)","v":{"$error":"#N/A"}},{"$error":"#N/A"},{"$error":"#N/A"},null,"",0,0,null,{"$f":"VLOOKUP(BP211,Liste_Noire!$B$15:$G$1208,1)","v":{"$error":"#N/A"}},{"$f":"VLOOKUP(BP211,Liste_Noire!$B$15:$G$1208,5)","v":{"$error":"#N/A"}},{"$error":"#N/A"},null,0,0,0,0,0,0,1]
[null,""," ","","","","","",{"$f":"IF(ISBLANK(Trait_Etrangers!H212),\"\",Trait_Etrangers!H212)","v":""},{"$f":"IF(ISBLANK(Trait_Etrangers!I212),\"\",Trait_Etrangers!I212)","v":""},{"$f":"IF(ISBLANK(Trait_Etrangers!J212),\"\",Trait_Etrangers!J212)","v":""},{"$f":"IF(ISBLANK(Trait_Etrangers!K212),\"\",Trait_Etrangers!K212)","v":""},{"$f":"IF(ISBLANK(Trait_Etrangers!L212),\"\",Trait_Etrangers!L212)","v":""},{"$f":"IF(ISBLANK(Trait_Etrangers!M212),\"\",Trait_Etrangers!M212)","v":""},{"$f":"IF(ISBLANK(Trait_Etrangers!N212),\"\",Trait_Etrangers!N212)","v":""},{"$f":"IF(ISBLANK(Trait_Etrangers!O212),\"\",Trait_Etrangers!O212)","v":""},{"$f":"IF(ISBLANK(Trait_Etrangers!P212),\"\",Trait_Etrangers!P212)","v":""},null,{"$f":"IF(ISBLANK(Trait_Etrangers!R212),\"\",Trait_Etrangers!R212)","v":""},{"$f":"IF(ISBLANK(Trait_Etrangers!S212),\"\",Trait_Etrangers!S212)","v":""},{"$f":"IF(ISBLANK(Trait_Etrangers!T212),\"\",Trait_Etrangers!T212)","v":""},{"$f":"IF(ISBLANK(Trait_Etrangers!U212),\"\",Trait_Etrangers!U212)","v":""},null,null,null,"","",0,0,0,0,0,0,0,0,0,0,0,0,0,0,0,0,0,null,1,null,null,{"$f":"IF(AX212=\"\",\"\",IF(CE212=1,\"[b][color=red]\"&Datas!$D$32&\"[/color][/b]\"&AX212&\"[b][color=red]\"&Datas!$D$33&\"{\"&CD212&\"}[/color][/b]\",AX212))","v":{"$error":"#N/A"}},{"$error":"#N/A"}," ",{"$f":"IF(ISBLANK(Datas!$C$47),\"\",\" - \"&BG212)","v":{"$error":"#N/A"}},{"$f":"IF(ISBLANK(Datas!$C$48),\"\",\" - \"&BH212)","v":" - "},{"$f":"IF(ISBLANK(Datas!$C$49),\"\",\" - \"&BI212)","v":""},{"$f":"IF(ISBLANK(Datas!$C$50),\"\",\" - \"&BJ212)","v":" - Ecus:"},{"$f":"IF(ISBLANK(Datas!$C$51),\"\",\" - \"&BK212)","v":" - Niv: "},null,{"$error":"#N/A"},{"$error":"#N/A"},"","PR:","Ecus:","Niv: ",null,null,null,null,"",{"$f":"VLOOKUP(BP212,LstVillage!$B$8:$C$283,1)","v":{"$error":"#N/A"}},{"$error":"#N/A"},{"$error":"#N/A"},"",{"$f":"VLOOKUP(BT212,Datas!$G$6:$G$17,1)","v":{"$error":"#N/A"}},{"$error":"#N/A"},{"$error":"#N/A"},null,"",0,0,null,{"$f":"VLOOKUP(BP212,Liste_Noire!$B$15:$G$1208,1)","v":{"$error":"#N/A"}},{"$f":"VLOOKUP(BP212,Liste_Noire!$B$15:$G$1208,5)","v":{"$error":"#N/A"}},{"$error":"#N/A"},null,0,0,0,0,0,0,1]
[null,""," ","","","","","",{"$f":"IF(ISBLANK(Trait_Etrangers!H213),\"\",Trait_Etrangers!H213)","v":""},{"$f":"IF(ISBLANK(Trait_Etrangers!I213),\"\",Trait_Etrangers!I213)","v":""},{"$f":"IF(ISBLANK(Trait_Etrangers!J213),\"\",Trait_Etrangers!J213)","v":""},{"$f":"IF(ISBLANK(Trait_Etrangers!K213),\"\",Trait_Etrangers!K213)","v":""},{"$f":"IF(ISBLANK(Trait_Etrangers!L213),\"\",Trait_Etrangers!L213)","v":""},{"$f":"IF(ISBLANK(Trait_Etrangers!M213),\"\",Trait_Etrangers!M213)","v":""},{"$f":"IF(ISBLANK(Trait_Etrangers!N213),\"\",Trait_Etrangers!N213)","v":""},{"$f":"IF(ISBLANK(Trait_Etrangers!O213),\"\",Trait_Etrangers!O213)","v":""},{"$f":"IF(ISBLANK(Trait_Etrangers!P213),\"\",Trait_Etrangers!P213)","v":""},null,{"$f":"IF(ISBLANK(Trait_Etrangers!R213),\"\",Trait_Etrangers!R213)","v":""},{"$f":"IF(ISBLANK(Trait_Etrangers!S213),\"\",Trait_Etrangers!S213)","v":""},{"$f":"IF(ISBLANK(Trait_Etrangers!T213),\"\",Trait_Etrangers!T213)","v":""},{"$f":"IF(ISBLANK(Trait_Etrangers!U213),\"\",Trait_Etrangers!U213)","v":""},null,null,null,"","",0,0,0,0,0,0,0,0,0,0,0,0,0,0,0,0,0,null,1,null,null,{"$f":"IF(AX213=\"\",\"\",IF(CE213=1,\"[b][color=red]\"&Datas!$D$32&\"[/color][/b]\"&AX213&\"[b][color=red]\"&Datas!$D$33&\"{\"&CD213&\"}[/color][/b]\",AX213))","v":{"$error":"#N/A"}},{"$error":"#N/A"}," ",{"$f":"IF(ISBLANK(Datas!$C$47),\"\",\" - \"&BG213)","v":{"$error":"#N/A"}},{"$f":"IF(ISBLANK(Datas!$C$48),\"\",\" - \"&BH213)","v":" - "},{"$f":"IF(ISBLANK(Datas!$C$49),\"\",\" - \"&BI213)","v":""},{"$f":"IF(ISBLANK(Datas!$C$50),\"\",\" - \"&BJ213)","v":" - Ecus:"},{"$f":"IF(ISBLANK(Datas!$C$51),\"\",\" - \"&BK213)","v":" - Niv: "},null,{"$error":"#N/A"},{"$error":"#N/A"},"","PR:","Ecus:","Niv: ",null,null,null,null,"",{"$f":"VLOOKUP(BP213,LstVillage!$B$8:$C$283,1)","v":{"$error":"#N/A"}},{"$error":"#N/A"},{"$error":"#N/A"},"",{"$f":"VLOOKUP(BT213,Datas!$G$6:$G$17,1)","v":{"$error":"#N/A"}},{"$error":"#N/A"},{"$error":"#N/A"},null,"",0,0,null,{"$f":"VLOOKUP(BP213,Liste_Noire!$B$15:$G$1208,1)","v":{"$error":"#N/A"}},{"$f":"VLOOKUP(BP213,Liste_Noire!$B$15:$G$1208,5)","v":{"$error":"#N/A"}},{"$error":"#N/A"},null,0,0,0,0,0,0,1]
[null,""," ","","","","","",{"$f":"IF(ISBLANK(Trait_Etrangers!H214),\"\",Trait_Etrangers!H214)","v":""},{"$f":"IF(ISBLANK(Trait_Etrangers!I214),\"\",Trait_Etrangers!I214)","v":""},{"$f":"IF(ISBLANK(Trait_Etrangers!J214),\"\",Trait_Etrangers!J214)","v":""},{"$f":"IF(ISBLANK(Trait_Etrangers!K214),\"\",Trait_Etrangers!K214)","v":""},{"$f":"IF(ISBLANK(Trait_Etrangers!L214),\"\",Trait_Etrangers!L214)","v":""},{"$f":"IF(ISBLANK(Trait_Etrangers!M214),\"\",Trait_Etrangers!M214)","v":""},{"$f":"IF(ISBLANK(Trait_Etrangers!N214),\"\",Trait_Etrangers!N214)","v":""},{"$f":"IF(ISBLANK(Trait_Etrangers!O214),\"\",Trait_Etrangers!O214)","v":""},{"$f":"IF(ISBLANK(Trait_Etrangers!P214),\"\",Trait_Etrangers!P214)","v":""},null,{"$f":"IF(ISBLANK(Trait_Etrangers!R214),\"\",Trait_Etrangers!R214)","v":""},{"$f":"IF(ISBLANK(Trait_Etrangers!S214),\"\",Trait_Etrangers!S214)","v":""},{"$f":"IF(ISBLANK(Trait_Etrangers!T214),\"\",Trait_Etrangers!T214)","v":""},{"$f":"IF(ISBLANK(Trait_Etrangers!U214),\"\",Trait_Etrangers!U214)","v":""},null,null,null,"","",0,0,0,0,0,0,0,0,0,0,0,0,0,0,0,0,0,null,1,null,null,{"$f":"IF(AX214=\"\",\"\",IF(CE214=1,\"[b][color=red]\"&Datas!$D$32&\"[/color][/b]\"&AX214&\"[b][color=red]\"&Datas!$D$33&\"{\"&CD214&\"}[/color][/b]\",AX214))","v":{"$error":"#N/A"}},{"$error":"#N/A"}," ",{"$f":"IF(ISBLANK(Datas!$C$47),\"\",\" - \"&BG214)","v":{"$error":"#N/A"}},{"$f":"IF(ISBLANK(Datas!$C$48),\"\",\" - \"&BH214)","v":" - "},{"$f":"IF(ISBLANK(Datas!$C$49),\"\",\" - \"&BI214)","v":""},{"$f":"IF(ISBLANK(Datas!$C$50),\"\",\" - \"&BJ214)","v":" - Ecus:"},{"$f":"IF(ISBLANK(Datas!$C$51),\"\",\" - \"&BK214)","v":" - Niv: "},null,{"$error":"#N/A"},{"$error":"#N/A"},"","PR:","Ecus:","Niv: ",null,null,null,null,"",{"$f":"VLOOKUP(BP214,LstVillage!$B$8:$C$283,1)","v":{"$error":"#N/A"}},{"$error":"#N/A"},{"$error":"#N/A"},"",{"$f":"VLOOKUP(BT214,Datas!$G$6:$G$17,1)","v":{"$error":"#N/A"}},{"$error":"#N/A"},{"$error":"#N/A"},null,"",0,0,null,{"$f":"VLOOKUP(BP214,Liste_Noire!$B$15:$G$1208,1)","v":{"$error":"#N/A"}},{"$f":"VLOOKUP(BP214,Liste_Noire!$B$15:$G$1208,5)","v":{"$error":"#N/A"}},{"$error":"#N/A"},null,0,0,0,0,0,0,1]
[null,""," ","","","","","",{"$f":"IF(ISBLANK(Trait_Etrangers!H215),\"\",Trait_Etrangers!H215)","v":""},{"$f":"IF(ISBLANK(Trait_Etrangers!I215),\"\",Trait_Etrangers!I215)","v":""},{"$f":"IF(ISBLANK(Trait_Etrangers!J215),\"\",Trait_Etrangers!J215)","v":""},{"$f":"IF(ISBLANK(Trait_Etrangers!K215),\"\",Trait_Etrangers!K215)","v":""},{"$f":"IF(ISBLANK(Trait_Etrangers!L215),\"\",Trait_Etrangers!L215)","v":""},{"$f":"IF(ISBLANK(Trait_Etrangers!M215),\"\",Trait_Etrangers!M215)","v":""},{"$f":"IF(ISBLANK(Trait_Etrangers!N215),\"\",Trait_Etrangers!N215)","v":""},{"$f":"IF(ISBLANK(Trait_Etrangers!O215),\"\",Trait_Etrangers!O215)","v":""},{"$f":"IF(ISBLANK(Trait_Etrangers!P215),\"\",Trait_Etrangers!P215)","v":""},null,{"$f":"IF(ISBLANK(Trait_Etrangers!R215),\"\",Trait_Etrangers!R215)","v":""},{"$f":"IF(ISBLANK(Trait_Etrangers!S215),\"\",Trait_Etrangers!S215)","v":""},{"$f":"IF(ISBLANK(Trait_Etrangers!T215),\"\",Trait_Etrangers!T215)","v":""},{"$f":"IF(ISBLANK(Trait_Etrangers!U215),\"\",Trait_Etrangers!U215)","v":""},null,null,null,"","",0,0,0,0,0,0,0,0,0,0,0,0,0,0,0,0,0,null,1,null,null,{"$f":"IF(AX215=\"\",\"\",IF(CE215=1,\"[b][color=red]\"&Datas!$D$32&\"[/color][/b]\"&AX215&\"[b][color=red]\"&Datas!$D$33&\"{\"&CD215&\"}[/color][/b]\",AX215))","v":{"$error":"#N/A"}},{"$error":"#N/A"}," ",{"$f":"IF(ISBLANK(Datas!$C$47),\"\",\" - \"&BG215)","v":{"$error":"#N/A"}},{"$f":"IF(ISBLANK(Datas!$C$48),\"\",\" - \"&BH215)","v":" - "},{"$f":"IF(ISBLANK(Datas!$C$49),\"\",\" - \"&BI215)","v":""},{"$f":"IF(ISBLANK(Datas!$C$50),\"\",\" - \"&BJ215)","v":" - Ecus:"},{"$f":"IF(ISBLANK(Datas!$C$51),\"\",\" - \"&BK215)","v":" - Niv: "},null,{"$error":"#N/A"},{"$error":"#N/A"},"","PR:","Ecus:","Niv: ",null,null,null,null,"",{"$f":"VLOOKUP(BP215,LstVillage!$B$8:$C$283,1)","v":{"$error":"#N/A"}},{"$error":"#N/A"},{"$error":"#N/A"},"",{"$f":"VLOOKUP(BT215,Datas!$G$6:$G$17,1)","v":{"$error":"#N/A"}},{"$error":"#N/A"},{"$error":"#N/A"},null,"",0,0,null,{"$f":"VLOOKUP(BP215,Liste_Noire!$B$15:$G$1208,1)","v":{"$error":"#N/A"}},{"$f":"VLOOKUP(BP215,Liste_Noire!$B$15:$G$1208,5)","v":{"$error":"#N/A"}},{"$error":"#N/A"},null,0,0,0,0,0,0,1]
[null,""," ","","","","","",{"$f":"IF(ISBLANK(Trait_Etrangers!H216),\"\",Trait_Etrangers!H216)","v":""},{"$f":"IF(ISBLANK(Trait_Etrangers!I216),\"\",Trait_Etrangers!I216)","v":""},{"$f":"IF(ISBLANK(Trait_Etrangers!J216),\"\",Trait_Etrangers!J216)","v":""},{"$f":"IF(ISBLANK(Trait_Etrangers!K216),\"\",Trait_Etrangers!K216)","v":""},{"$f":"IF(ISBLANK(Trait_Etrangers!L216),\"\",Trait_Etrangers!L216)","v":""},{"$f":"IF(ISBLANK(Trait_Etrangers!M216),\"\",Trait_Etrangers!M216)","v":""},{"$f":"IF(ISBLANK(Trait_Etrangers!N216),\"\",Trait_Etrangers!N216)","v":""},{"$f":"IF(ISBLANK(Trait_Etrangers!O216),\"\",Trait_Etrangers!O216)","v":""},{"$f":"IF(ISBLANK(Trait_Etrangers!P216),\"\",Trait_Etrangers!P216)","v":""},null,{"$f":"IF(ISBLANK(Trait_Etrangers!R216),\"\",Trait_Etrangers!R216)","v":""},{"$f":"IF(ISBLANK(Trait_Etrangers!S216),\"\",Trait_Etrangers!S216)","v":""},{"$f":"IF(ISBLANK(Trait_Etrangers!T216),\"\",Trait_Etrangers!T216)","v":""},{"$f":"IF(ISBLANK(Trait_Etrangers!U216),\"\",Trait_Etrangers!U216)","v":""},null,null,null,"","",0,0,0,0,0,0,0,0,0,0,0,0,0,0,0,0,0,null,1,null,null,{"$f":"IF(AX216=\"\",\"\",IF(CE216=1,\"[b][color=red]\"&Datas!$D$32&\"[/color][/b]\"&AX216&\"[b][color=red]\"&Datas!$D$33&\"{\"&CD216&\"}[/color][/b]\",AX216))","v":{"$error":"#N/A"}},{"$error":"#N/A"}," ",{"$f":"IF(ISBLANK(Datas!$C$47),\"\",\" - \"&BG216)","v":{"$error":"#N/A"}},{"$f":"IF(ISBLANK(Datas!$C$48),\"\",\" - \"&BH216)","v":" - "},{"$f":"IF(ISBLANK(Datas!$C$49),\"\",\" - \"&BI216)","v":""},{"$f":"IF(ISBLANK(Datas!$C$50),\"\",\" - \"&BJ216)","v":" - Ecus:"},{"$f":"IF(ISBLANK(Datas!$C$51),\"\",\" - \"&BK216)","v":" - Niv: "},null,{"$error":"#N/A"},{"$error":"#N/A"},"","PR:","Ecus:","Niv: ",null,null,null,null,"",{"$f":"VLOOKUP(BP216,LstVillage!$B$8:$C$283,1)","v":{"$error":"#N/A"}},{"$error":"#N/A"},{"$error":"#N/A"},"",{"$f":"VLOOKUP(BT216,Datas!$G$6:$G$17,1)","v":{"$error":"#N/A"}},{"$error":"#N/A"},{"$error":"#N/A"},null,"",0,0,null,{"$f":"VLOOKUP(BP216,Liste_Noire!$B$15:$G$1208,1)","v":{"$error":"#N/A"}},{"$f":"VLOOKUP(BP216,Liste_Noire!$B$15:$G$1208,5)","v":{"$error":"#N/A"}},{"$error":"#N/A"},null,0,0,0,0,0,0,1]
[null,""," ","","","","","",{"$f":"IF(ISBLANK(Trait_Etrangers!H217),\"\",Trait_Etrangers!H217)","v":""},{"$f":"IF(ISBLANK(Trait_Etrangers!I217),\"\",Trait_Etrangers!I217)","v":""},{"$f":"IF(ISBLANK(Trait_Etrangers!J217),\"\",Trait_Etrangers!J217)","v":""},{"$f":"IF(ISBLANK(Trait_Etrangers!K217),\"\",Trait_Etrangers!K217)","v":""},{"$f":"IF(ISBLANK(Trait_Etrangers!L217),\"\",Trait_Etrangers!L217)","v":""},{"$f":"IF(ISBLANK(Trait_Etrangers!M217),\"\",Trait_Etrangers!M217)","v":""},{"$f":"IF(ISBLANK(Trait_Etrangers!N217),\"\",Trait_Etrangers!N217)","v":""},{"$f":"IF(ISBLANK(Trait_Etrangers!O217),\"\",Trait_Etrangers!O217)","v":""},{"$f":"IF(ISBLANK(Trait_Etrangers!P217),\"\",Trait_Etrangers!P217)","v":""},null,{"$f":"IF(ISBLANK(Trait_Etrangers!R217),\"\",Trait_Etrangers!R217)","v":""},{"$f":"IF(ISBLANK(Trait_Etrangers!S217),\"\",Trait_Etrangers!S217)","v":""},{"$f":"IF(ISBLANK(Trait_Etrangers!T217),\"\",Trait_Etrangers!T217)","v":""},{"$f":"IF(ISBLANK(Trait_Etrangers!U217),\"\",Trait_Etrangers!U217)","v":""},null,null,null,"","",0,0,0,0,0,0,0,0,0,0,0,0,0,0,0,0,0,null,1,null,null,{"$f":"IF(AX217=\"\",\"\",IF(CE217=1,\"[b][color=red]\"&Datas!$D$32&\"[/color][/b]\"&AX217&\"[b][color=red]\"&Datas!$D$33&\"{\"&CD217&\"}[/color][/b]\",AX217))","v":{"$error":"#N/A"}},{"$error":"#N/A"}," ",{"$f":"IF(ISBLANK(Datas!$C$47),\"\",\" - \"&BG217)","v":{"$error":"#N/A"}},{"$f":"IF(ISBLANK(Datas!$C$48),\"\",\" - \"&BH217)","v":" - "},{"$f":"IF(ISBLANK(Datas!$C$49),\"\",\" - \"&BI217)","v":""},{"$f":"IF(ISBLANK(Datas!$C$50),\"\",\" - \"&BJ217)","v":" - Ecus:"},{"$f":"IF(ISBLANK(Datas!$C$51),\"\",\" - \"&BK217)","v":" - Niv: "},null,{"$error":"#N/A"},{"$error":"#N/A"},"","PR:","Ecus:","Niv: ",null,null,null,null,"",{"$f":"VLOOKUP(BP217,LstVillage!$B$8:$C$283,1)","v":{"$error":"#N/A"}},{"$error":"#N/A"},{"$error":"#N/A"},"",{"$f":"VLOOKUP(BT217,Datas!$G$6:$G$17,1)","v":{"$error":"#N/A"}},{"$error":"#N/A"},{"$error":"#N/A"},null,"",0,0,null,{"$f":"VLOOKUP(BP217,Liste_Noire!$B$15:$G$1208,1)","v":{"$error":"#N/A"}},{"$f":"VLOOKUP(BP217,Liste_Noire!$B$15:$G$1208,5)","v":{"$error":"#N/A"}},{"$error":"#N/A"},null,0,0,0,0,0,0,1]
[null,""," ","","","","","",{"$f":"IF(ISBLANK(Trait_Etrangers!H218),\"\",Trait_Etrangers!H218)","v":""},{"$f":"IF(ISBLANK(Trait_Etrangers!I218),\"\",Trait_Etrangers!I218)","v":""},{"$f":"IF(ISBLANK(Trait_Etrangers!J218),\"\",Trait_Etrangers!J218)","v":""},{"$f":"IF(ISBLANK(Trait_Etrangers!K218),\"\",Trait_Etrangers!K218)","v":""},{"$f":"IF(ISBLANK(Trait_Etrangers!L218),\"\",Trait_Etrangers!L218)","v":""},{"$f":"IF(ISBLANK(Trait_Etrangers!M218),\"\",Trait_Etrangers!M218)","v":""},{"$f":"IF(ISBLANK(Trait_Etrangers!N218),\"\",Trait_Etrangers!N218)","v":""},{"$f":"IF(ISBLANK(Trait_Etrangers!O218),\"\",Trait_Etrangers!O218)","v":""},{"$f":"IF(ISBLANK(Trait_Etrangers!P218),\"\",Trait_Etrangers!P218)","v":""},null,{"$f":"IF(ISBLANK(Trait_Etrangers!R218),\"\",Trait_Etrangers!R218)","v":""},{"$f":"IF(ISBLANK(Trait_Etrangers!S218),\"\",Trait_Etrangers!S218)","v":""},{"$f":"IF(ISBLANK(Trait_Etrangers!T218),\"\",Trait_Etrangers!T218)","v":""},{"$f":"IF(ISBLANK(Trait_Etrangers!U218),\"\",Trait_Etrangers!U218)","v":""},null,null,null,"","",0,0,0,0,0,0,0,0,0,0,0,0,0,0,0,0,0,null,1,null,null,{"$f":"IF(AX218=\"\",\"\",IF(CE218=1,\"[b][color=red]\"&Datas!$D$32&\"[/color][/b]\"&AX218&\"[b][color=red]\"&Datas!$D$33&\"{\"&CD218&\"}[/color][/b]\",AX218))","v":{"$error":"#N/A"}},{"$error":"#N/A"}," ",{"$f":"IF(ISBLANK(Datas!$C$47),\"\",\" - \"&BG218)","v":{"$error":"#N/A"}},{"$f":"IF(ISBLANK(Datas!$C$48),\"\",\" - \"&BH218)","v":" - "},{"$f":"IF(ISBLANK(Datas!$C$49),\"\",\" - \"&BI218)","v":""},{"$f":"IF(ISBLANK(Datas!$C$50),\"\",\" - \"&BJ218)","v":" - Ecus:"},{"$f":"IF(ISBLANK(Datas!$C$51),\"\",\" - \"&BK218)","v":" - Niv: "},null,{"$error":"#N/A"},{"$error":"#N/A"},"","PR:","Ecus:","Niv: ",null,null,null,null,"",{"$f":"VLOOKUP(BP218,LstVillage!$B$8:$C$283,1)","v":{"$error":"#N/A"}},{"$error":"#N/A"},{"$error":"#N/A"},"",{"$f":"VLOOKUP(BT218,Datas!$G$6:$G$17,1)","v":{"$error":"#N/A"}},{"$error":"#N/A"},{"$error":"#N/A"},null,"",0,0,null,{"$f":"VLOOKUP(BP218,Liste_Noire!$B$15:$G$1208,1)","v":{"$error":"#N/A"}},{"$f":"VLOOKUP(BP218,Liste_Noire!$B$15:$G$1208,5)","v":{"$error":"#N/A"}},{"$error":"#N/A"},null,0,0,0,0,0,0,1]
[null,""," ","","","","","",{"$f":"IF(ISBLANK(Trait_Etrangers!H219),\"\",Trait_Etrangers!H219)","v":""},{"$f":"IF(ISBLANK(Trait_Etrangers!I219),\"\",Trait_Etrangers!I219)","v":""},{"$f":"IF(ISBLANK(Trait_Etrangers!J219),\"\",Trait_Etrangers!J219)","v":""},{"$f":"IF(ISBLANK(Trait_Etrangers!K219),\"\",Trait_Etrangers!K219)","v":""},{"$f":"IF(ISBLANK(Trait_Etrangers!L219),\"\",Trait_Etrangers!L219)","v":""},{"$f":"IF(ISBLANK(Trait_Etrangers!M219),\"\",Trait_Etrangers!M219)","v":""},{"$f":"IF(ISBLANK(Trait_Etrangers!N219),\"\",Trait_Etrangers!N219)","v":""},{"$f":"IF(ISBLANK(Trait_Etrangers!O219),\"\",Trait_Etrangers!O219)","v":""},{"$f":"IF(ISBLANK(Trait_Etrangers!P219),\"\",Trait_Etrangers!P219)","v":""},null,{"$f":"IF(ISBLANK(Trait_Etrangers!R219),\"\",Trait_Etrangers!R219)","v":""},{"$f":"IF(ISBLANK(Trait_Etrangers!S219),\"\",Trait_Etrangers!S219)","v":""},{"$f":"IF(ISBLANK(Trait_Etrangers!T219),\"\",Trait_Etrangers!T219)","v":""},{"$f":"IF(ISBLANK(Trait_Etrangers!U219),\"\",Trait_Etrangers!U219)","v":""},null,null,null,"","",0,0,0,0,0,0,0,0,0,0,0,0,0,0,0,0,0,null,1,null,null,{"$f":"IF(AX219=\"\",\"\",IF(CE219=1,\"[b][color=red]\"&Datas!$D$32&\"[/color][/b]\"&AX219&\"[b][color=red]\"&Datas!$D$33&\"{\"&CD219&\"}[/color][/b]\",AX219))","v":{"$error":"#N/A"}},{"$error":"#N/A"}," ",{"$f":"IF(ISBLANK(Datas!$C$47),\"\",\" - \"&BG219)","v":{"$error":"#N/A"}},{"$f":"IF(ISBLANK(Datas!$C$48),\"\",\" - \"&BH219)","v":" - "},{"$f":"IF(ISBLANK(Datas!$C$49),\"\",\" - \"&BI219)","v":""},{"$f":"IF(ISBLANK(Datas!$C$50),\"\",\" - \"&BJ219)","v":" - Ecus:"},{"$f":"IF(ISBLANK(Datas!$C$51),\"\",\" - \"&BK219)","v":" - Niv: "},null,{"$error":"#N/A"},{"$error":"#N/A"},"","PR:","Ecus:","Niv: ",null,null,null,null,"",{"$f":"VLOOKUP(BP219,LstVillage!$B$8:$C$283,1)","v":{"$error":"#N/A"}},{"$error":"#N/A"},{"$error":"#N/A"},"",{"$f":"VLOOKUP(BT219,Datas!$G$6:$G$17,1)","v":{"$error":"#N/A"}},{"$error":"#N/A"},{"$error":"#N/A"},null,"",0,0,null,{"$f":"VLOOKUP(BP219,Liste_Noire!$B$15:$G$1208,1)","v":{"$error":"#N/A"}},{"$f":"VLOOKUP(BP219,Liste_Noire!$B$15:$G$1208,5)","v":{"$error":"#N/A"}},{"$error":"#N/A"},null,0,0,0,0,0,0,1]
[null,""," ","","","","","",{"$f":"IF(ISBLANK(Trait_Etrangers!H220),\"\",Trait_Etrangers!H220)","v":""},{"$f":"IF(ISBLANK(Trait_Etrangers!I220),\"\",Trait_Etrangers!I220)","v":""},{"$f":"IF(ISBLANK(Trait_Etrangers!J220),\"\",Trait_Etrangers!J220)","v":""},{"$f":"IF(ISBLANK(Trait_Etrangers!K220),\"\",Trait_Etrangers!K220)","v":""},{"$f":"IF(ISBLANK(Trait_Etrangers!L220),\"\",Trait_Etrangers!L220)","v":""},{"$f":"IF(ISBLANK(Trait_Etrangers!M220),\"\",Trait_Etrangers!M220)","v":""},{"$f":"IF(ISBLANK(Trait_Etrangers!N220),\"\",Trait_Etrangers!N220)","v":""},{"$f":"IF(ISBLANK(Trait_Etrangers!O220),\"\",Trait_Etrangers!O220)","v":""},{"$f":"IF(ISBLANK(Trait_Etrangers!P220),\"\",Trait_Etrangers!P220)","v":""},null,{"$f":"IF(ISBLANK(Trait_Etrangers!R220),\"\",Trait_Etrangers!R220)","v":""},{"$f":"IF(ISBLANK(Trait_Etrangers!S220),\"\",Trait_Etrangers!S220)","v":""},{"$f":"IF(ISBLANK(Trait_Etrangers!T220),\"\",Trait_Etrangers!T220)","v":""},{"$f":"IF(ISBLANK(Trait_Etrangers!U220),\"\",Trait_Etrangers!U220)","v":""},null,null,null,"","",0,0,0,0,0,0,0,0,0,0,0,0,0,0,0,0,0,null,1,null,null,{"$f":"IF(AX220=\"\",\"\",IF(CE220=1,\"[b][color=red]\"&Datas!$D$32&\"[/color][/b]\"&AX220&\"[b][color=red]\"&Datas!$D$33&\"{\"&CD220&\"}[/color][/b]\",AX220))","v":{"$error":"#N/A"}},{"$error":"#N/A"}," ",{"$f":"IF(ISBLANK(Datas!$C$47),\"\",\" - \"&BG220)","v":{"$error":"#N/A"}},{"$f":"IF(ISBLANK(Datas!$C$48),\"\",\" - \"&BH220)","v":" - "},{"$f":"IF(ISBLANK(Datas!$C$49),\"\",\" - \"&BI220)","v":""},{"$f":"IF(ISBLANK(Datas!$C$50),\"\",\" - \"&BJ220)","v":" - Ecus:"},{"$f":"IF(ISBLANK(Datas!$C$51),\"\",\" - \"&BK220)","v":" - Niv: "},null,{"$error":"#N/A"},{"$error":"#N/A"},"","PR:","Ecus:","Niv: ",null,null,null,null,"",{"$f":"VLOOKUP(BP220,LstVillage!$B$8:$C$283,1)","v":{"$error":"#N/A"}},{"$error":"#N/A"},{"$error":"#N/A"},"",{"$f":"VLOOKUP(BT220,Datas!$G$6:$G$17,1)","v":{"$error":"#N/A"}},{"$error":"#N/A"},{"$error":"#N/A"},null,"",0,0,null,{"$f":"VLOOKUP(BP220,Liste_Noire!$B$15:$G$1208,1)","v":{"$error":"#N/A"}},{"$f":"VLOOKUP(BP220,Liste_Noire!$B$15:$G$1208,5)","v":{"$error":"#N/A"}},{"$error":"#N/A"},null,0,0,0,0,0,0,1]
[null,""," ","","","","","",{"$f":"IF(ISBLANK(Trait_Etrangers!H221),\"\",Trait_Etrangers!H221)","v":""},{"$f":"IF(ISBLANK(Trait_Etrangers!I221),\"\",Trait_Etrangers!I221)","v":""},{"$f":"IF(ISBLANK(Trait_Etrangers!J221),\"\",Trait_Etrangers!J221)","v":""},{"$f":"IF(ISBLANK(Trait_Etrangers!K221),\"\",Trait_Etrangers!K221)","v":""},{"$f":"IF(ISBLANK(Trait_Etrangers!L221),\"\",Trait_Etrangers!L221)","v":""},{"$f":"IF(ISBLANK(Trait_Etrangers!M221),\"\",Trait_Etrangers!M221)","v":""},{"$f":"IF(ISBLANK(Trait_Etrangers!N221),\"\",Trait_Etrangers!N221)","v":""},{"$f":"IF(ISBLANK(Trait_Etrangers!O221),\"\",Trait_Etrangers!O221)","v":""},{"$f":"IF(ISBLANK(Trait_Etrangers!P221),\"\",Trait_Etrangers!P221)","v":""},null,{"$f":"IF(ISBLANK(Trait_Etrangers!R221),\"\",Trait_Etrangers!R221)","v":""},{"$f":"IF(ISBLANK(Trait_Etrangers!S221),\"\",Trait_Etrangers!S221)","v":""},{"$f":"IF(ISBLANK(Trait_Etrangers!T221),\"\",Trait_Etrangers!T221)","v":""},{"$f":"IF(ISBLANK(Trait_Etrangers!U221),\"\",Trait_Etrangers!U221)","v":""},null,null,null,"","",0,0,0,0,0,0,0,0,0,0,0,0,0,0,0,0,0,null,1,null,null,{"$f":"IF(AX221=\"\",\"\",IF(CE221=1,\"[b][color=red]\"&Datas!$D$32&\"[/color][/b]\"&AX221&\"[b][color=red]\"&Datas!$D$33&\"{\"&CD221&\"}[/color][/b]\",AX221))","v":{"$error":"#N/A"}},{"$error":"#N/A"}," ",{"$f":"IF(ISBLANK(Datas!$C$47),\"\",\" - \"&BG221)","v":{"$error":"#N/A"}},{"$f":"IF(ISBLANK(Datas!$C$48),\"\",\" - \"&BH221)","v":" - "},{"$f":"IF(ISBLANK(Datas!$C$49),\"\",\" - \"&BI221)","v":""},{"$f":"IF(ISBLANK(Datas!$C$50),\"\",\" - \"&BJ221)","v":" - Ecus:"},{"$f":"IF(ISBLANK(Datas!$C$51),\"\",\" - \"&BK221)","v":" - Niv: "},null,{"$error":"#N/A"},{"$error":"#N/A"},"","PR:","Ecus:","Niv: ",null,null,null,null,"",{"$f":"VLOOKUP(BP221,LstVillage!$B$8:$C$283,1)","v":{"$error":"#N/A"}},{"$error":"#N/A"},{"$error":"#N/A"},"",{"$f":"VLOOKUP(BT221,Datas!$G$6:$G$17,1)","v":{"$error":"#N/A"}},{"$error":"#N/A"},{"$error":"#N/A"},null,"",0,0,null,{"$f":"VLOOKUP(BP221,Liste_Noire!$B$15:$G$1208,1)","v":{"$error":"#N/A"}},{"$f":"VLOOKUP(BP221,Liste_Noire!$B$15:$G$1208,5)","v":{"$error":"#N/A"}},{"$error":"#N/A"},null,0,0,0,0,0,0,1]
[null,""," ","","","","","",{"$f":"IF(ISBLANK(Trait_Etrangers!H222),\"\",Trait_Etrangers!H222)","v":""},{"$f":"IF(ISBLANK(Trait_Etrangers!I222),\"\",Trait_Etrangers!I222)","v":""},{"$f":"IF(ISBLANK(Trait_Etrangers!J222),\"\",Trait_Etrangers!J222)","v":""},{"$f":"IF(ISBLANK(Trait_Etrangers!K222),\"\",Trait_Etrangers!K222)","v":""},{"$f":"IF(ISBLANK(Trait_Etrangers!L222),\"\",Trait_Etrangers!L222)","v":""},{"$f":"IF(ISBLANK(Trait_Etrangers!M222),\"\",Trait_Etrangers!M222)","v":""},{"$f":"IF(ISBLANK(Trait_Etrangers!N222),\"\",Trait_Etrangers!N222)","v":""},{"$f":"IF(ISBLANK(Trait_Etrangers!O222),\"\",Trait_Etrangers!O222)","v":""},{"$f":"IF(ISBLANK(Trait_Etrangers!P222),\"\",Trait_Etrangers!P222)","v":""},null,{"$f":"IF(ISBLANK(Trait_Etrangers!R222),\"\",Trait_Etrangers!R222)","v":""},{"$f":"IF(ISBLANK(Trait_Etrangers!S222),\"\",Trait_Etrangers!S222)","v":""},{"$f":"IF(ISBLANK(Trait_Etrangers!T222),\"\",Trait_Etrangers!T222)","v":""},{"$f":"IF(ISBLANK(Trait_Etrangers!U222),\"\",Trait_Etrangers!U222)","v":""},null,null,null,"","",0,0,0,0,0,0,0,0,0,0,0,0,0,0,0,0,0,null,1,null,null,{"$f":"IF(AX222=\"\",\"\",IF(CE222=1,\"[b][color=red]\"&Datas!$D$32&\"[/color][/b]\"&AX222&\"[b][color=red]\"&Datas!$D$33&\"{\"&CD222&\"}[/color][/b]\",AX222))","v":{"$error":"#N/A"}},{"$error":"#N/A"}," ",{"$f":"IF(ISBLANK(Datas!$C$47),\"\",\" - \"&BG222)","v":{"$error":"#N/A"}},{"$f":"IF(ISBLANK(Datas!$C$48),\"\",\" - \"&BH222)","v":" - "},{"$f":"IF(ISBLANK(Datas!$C$49),\"\",\" - \"&BI222)","v":""},{"$f":"IF(ISBLANK(Datas!$C$50),\"\",\" - \"&BJ222)","v":" - Ecus:"},{"$f":"IF(ISBLANK(Datas!$C$51),\"\",\" - \"&BK222)","v":" - Niv: "},null,{"$error":"#N/A"},{"$error":"#N/A"},"","PR:","Ecus:","Niv: ",null,null,null,null,"",{"$f":"VLOOKUP(BP222,LstVillage!$B$8:$C$283,1)","v":{"$error":"#N/A"}},{"$error":"#N/A"},{"$error":"#N/A"},"",{"$f":"VLOOKUP(BT222,Datas!$G$6:$G$17,1)","v":{"$error":"#N/A"}},{"$error":"#N/A"},{"$error":"#N/A"},null,"",0,0,null,{"$f":"VLOOKUP(BP222,Liste_Noire!$B$15:$G$1208,1)","v":{"$error":"#N/A"}},{"$f":"VLOOKUP(BP222,Liste_Noire!$B$15:$G$1208,5)","v":{"$error":"#N/A"}},{"$error":"#N/A"},null,0,0,0,0,0,0,1]
[null,""," ","","","","","",{"$f":"IF(ISBLANK(Trait_Etrangers!H223),\"\",Trait_Etrangers!H223)","v":""},{"$f":"IF(ISBLANK(Trait_Etrangers!I223),\"\",Trait_Etrangers!I223)","v":""},{"$f":"IF(ISBLANK(Trait_Etrangers!J223),\"\",Trait_Etrangers!J223)","v":""},{"$f":"IF(ISBLANK(Trait_Etrangers!K223),\"\",Trait_Etrangers!K223)","v":""},{"$f":"IF(ISBLANK(Trait_Etrangers!L223),\"\",Trait_Etrangers!L223)","v":""},{"$f":"IF(ISBLANK(Trait_Etrangers!M223),\"\",Trait_Etrangers!M223)","v":""},{"$f":"IF(ISBLANK(Trait_Etrangers!N223),\"\",Trait_Etrangers!N223)","v":""},{"$f":"IF(ISBLANK(Trait_Etrangers!O223),\"\",Trait_Etrangers!O223)","v":""},{"$f":"IF(ISBLANK(Trait_Etrangers!P223),\"\",Trait_Etrangers!P223)","v":""},null,{"$f":"IF(ISBLANK(Trait_Etrangers!R223),\"\",Trait_Etrangers!R223)","v":""},{"$f":"IF(ISBLANK(Trait_Etrangers!S223),\"\",Trait_Etrangers!S223)","v":""},{"$f":"IF(ISBLANK(Trait_Etrangers!T223),\"\",Trait_Etrangers!T223)","v":""},{"$f":"IF(ISBLANK(Trait_Etrangers!U223),\"\",Trait_Etrangers!U223)","v":""},null,null,null,"","",0,0,0,0,0,0,0,0,0,0,0,0,0,0,0,0,0,null,1,null,null,{"$f":"IF(AX223=\"\",\"\",IF(CE223=1,\"[b][color=red]\"&Datas!$D$32&\"[/color][/b]\"&AX223&\"[b][color=red]\"&Datas!$D$33&\"{\"&CD223&\"}[/color][/b]\",AX223))","v":{"$error":"#N/A"}},{"$error":"#N/A"}," ",{"$f":"IF(ISBLANK(Datas!$C$47),\"\",\" - \"&BG223)","v":{"$error":"#N/A"}},{"$f":"IF(ISBLANK(Datas!$C$48),\"\",\" - \"&BH223)","v":" - "},{"$f":"IF(ISBLANK(Datas!$C$49),\"\",\" - \"&BI223)","v":""},{"$f":"IF(ISBLANK(Datas!$C$50),\"\",\" - \"&BJ223)","v":" - Ecus:"},{"$f":"IF(ISBLANK(Datas!$C$51),\"\",\" - \"&BK223)","v":" - Niv: "},null,{"$error":"#N/A"},{"$error":"#N/A"},"","PR:","Ecus:","Niv: ",null,null,null,null,"",{"$f":"VLOOKUP(BP223,LstVillage!$B$8:$C$283,1)","v":{"$error":"#N/A"}},{"$error":"#N/A"},{"$error":"#N/A"},"",{"$f":"VLOOKUP(BT223,Datas!$G$6:$G$17,1)","v":{"$error":"#N/A"}},{"$error":"#N/A"},{"$error":"#N/A"},null,"",0,0,null,{"$f":"VLOOKUP(BP223,Liste_Noire!$B$15:$G$1208,1)","v":{"$error":"#N/A"}},{"$f":"VLOOKUP(BP223,Liste_Noire!$B$15:$G$1208,5)","v":{"$error":"#N/A"}},{"$error":"#N/A"},null,0,0,0,0,0,0,1]
[null,""," ","","","","","",{"$f":"IF(ISBLANK(Trait_Etrangers!H224),\"\",Trait_Etrangers!H224)","v":""},{"$f":"IF(ISBLANK(Trait_Etrangers!I224),\"\",Trait_Etrangers!I224)","v":""},{"$f":"IF(ISBLANK(Trait_Etrangers!J224),\"\",Trait_Etrangers!J224)","v":""},{"$f":"IF(ISBLANK(Trait_Etrangers!K224),\"\",Trait_Etrangers!K224)","v":""},{"$f":"IF(ISBLANK(Trait_Etrangers!L224),\"\",Trait_Etrangers!L224)","v":""},{"$f":"IF(ISBLANK(Trait_Etrangers!M224),\"\",Trait_Etrangers!M224)","v":""},{"$f":"IF(ISBLANK(Trait_Etrangers!N224),\"\",Trait_Etrangers!N224)","v":""},{"$f":"IF(ISBLANK(Trait_Etrangers!O224),\"\",Trait_Etrangers!O224)","v":""},{"$f":"IF(ISBLANK(Trait_Etrangers!P224),\"\",Trait_Etrangers!P224)","v":""},null,{"$f":"IF(ISBLANK(Trait_Etrangers!R224),\"\",Trait_Etrangers!R224)","v":""},{"$f":"IF(ISBLANK(Trait_Etrangers!S224),\"\",Trait_Etrangers!S224)","v":""},{"$f":"IF(ISBLANK(Trait_Etrangers!T224),\"\",Trait_Etrangers!T224)","v":""},{"$f":"IF(ISBLANK(Trait_Etrangers!U224),\"\",Trait_Etrangers!U224)","v":""},null,null,null,"","",0,0,0,0,0,0,0,0,0,0,0,0,0,0,0,0,0,null,1,null,null,{"$f":"IF(AX224=\"\",\"\",IF(CE224=1,\"[b][color=red]\"&Datas!$D$32&\"[/color][/b]\"&AX224&\"[b][color=red]\"&Datas!$D$33&\"{\"&CD224&\"}[/color][/b]\",AX224))","v":{"$error":"#N/A"}},{"$error":"#N/A"}," ",{"$f":"IF(ISBLANK(Datas!$C$47),\"\",\" - \"&BG224)","v":{"$error":"#N/A"}},{"$f":"IF(ISBLANK(Datas!$C$48),\"\",\" - \"&BH224)","v":" - "},{"$f":"IF(ISBLANK(Datas!$C$49),\"\",\" - \"&BI224)","v":""},{"$f":"IF(ISBLANK(Datas!$C$50),\"\",\" - \"&BJ224)","v":" - Ecus:"},{"$f":"IF(ISBLANK(Datas!$C$51),\"\",\" - \"&BK224)","v":" - Niv: "},null,{"$error":"#N/A"},{"$error":"#N/A"},"","PR:","Ecus:","Niv: ",null,null,null,null,"",{"$f":"VLOOKUP(BP224,LstVillage!$B$8:$C$283,1)","v":{"$error":"#N/A"}},{"$error":"#N/A"},{"$error":"#N/A"},"",{"$f":"VLOOKUP(BT224,Datas!$G$6:$G$17,1)","v":{"$error":"#N/A"}},{"$error":"#N/A"},{"$error":"#N/A"},null,"",0,0,null,{"$f":"VLOOKUP(BP224,Liste_Noire!$B$15:$G$1208,1)","v":{"$error":"#N/A"}},{"$f":"VLOOKUP(BP224,Liste_Noire!$B$15:$G$1208,5)","v":{"$error":"#N/A"}},{"$error":"#N/A"},null,0,0,0,0,0,0,1]
[null,""," ","","","","","",{"$f":"IF(ISBLANK(Trait_Etrangers!H225),\"\",Trait_Etrangers!H225)","v":""},{"$f":"IF(ISBLANK(Trait_Etrangers!I225),\"\",Trait_Etrangers!I225)","v":""},{"$f":"IF(ISBLANK(Trait_Etrangers!J225),\"\",Trait_Etrangers!J225)","v":""},{"$f":"IF(ISBLANK(Trait_Etrangers!K225),\"\",Trait_Etrangers!K225)","v":""},{"$f":"IF(ISBLANK(Trait_Etrangers!L225),\"\",Trait_Etrangers!L225)","v":""},{"$f":"IF(ISBLANK(Trait_Etrangers!M225),\"\",Trait_Etrangers!M225)","v":""},{"$f":"IF(ISBLANK(Trait_Etrangers!N225),\"\",Trait_Etrangers!N225)","v":""},{"$f":"IF(ISBLANK(Trait_Etrangers!O225),\"\",Trait_Etrangers!O225)","v":""},{"$f":"IF(ISBLANK(Trait_Etrangers!P225),\"\",Trait_Etrangers!P225)","v":""},null,{"$f":"IF(ISBLANK(Trait_Etrangers!R225),\"\",Trait_Etrangers!R225)","v":""},{"$f":"IF(ISBLANK(Trait_Etrangers!S225),\"\",Trait_Etrangers!S225)","v":""},{"$f":"IF(ISBLANK(Trait_Etrangers!T225),\"\",Trait_Etrangers!T225)","v":""},{"$f":"IF(ISBLANK(Trait_Etrangers!U225),\"\",Trait_Etrangers!U225)","v":""},null,null,null,"","",0,0,0,0,0,0,0,0,0,0,0,0,0,0,0,0,0,null,1,null,null,{"$f":"IF(AX225=\"\",\"\",IF(CE225=1,\"[b][color=red]\"&Datas!$D$32&\"[/color][/b]\"&AX225&\"[b][color=red]\"&Datas!$D$33&\"{\"&CD225&\"}[/color][/b]\",AX225))","v":{"$error":"#N/A"}},{"$error":"#N/A"}," ",{"$f":"IF(ISBLANK(Datas!$C$47),\"\",\" - \"&BG225)","v":{"$error":"#N/A"}},{"$f":"IF(ISBLANK(Datas!$C$48),\"\",\" - \"&BH225)","v":" - "},{"$f":"IF(ISBLANK(Datas!$C$49),\"\",\" - \"&BI225)","v":""},{"$f":"IF(ISBLANK(Datas!$C$50),\"\",\" - \"&BJ225)","v":" - Ecus:"},{"$f":"IF(ISBLANK(Datas!$C$51),\"\",\" - \"&BK225)","v":" - Niv: "},null,{"$error":"#N/A"},{"$error":"#N/A"},"","PR:","Ecus:","Niv: ",null,null,null,null,"",{"$f":"VLOOKUP(BP225,LstVillage!$B$8:$C$283,1)","v":{"$error":"#N/A"}},{"$error":"#N/A"},{"$error":"#N/A"},"",{"$f":"VLOOKUP(BT225,Datas!$G$6:$G$17,1)","v":{"$error":"#N/A"}},{"$error":"#N/A"},{"$error":"#N/A"},null,"",0,0,null,{"$f":"VLOOKUP(BP225,Liste_Noire!$B$15:$G$1208,1)","v":{"$error":"#N/A"}},{"$f":"VLOOKUP(BP225,Liste_Noire!$B$15:$G$1208,5)","v":{"$error":"#N/A"}},{"$error":"#N/A"},null,0,0,0,0,0,0,1]
[null,""," ","","","","","",{"$f":"IF(ISBLANK(Trait_Etrangers!H226),\"\",Trait_Etrangers!H226)","v":""},{"$f":"IF(ISBLANK(Trait_Etrangers!I226),\"\",Trait_Etrangers!I226)","v":""},{"$f":"IF(ISBLANK(Trait_Etrangers!J226),\"\",Trait_Etrangers!J226)","v":""},{"$f":"IF(ISBLANK(Trait_Etrangers!K226),\"\",Trait_Etrangers!K226)","v":""},{"$f":"IF(ISBLANK(Trait_Etrangers!L226),\"\",Trait_Etrangers!L226)","v":""},{"$f":"IF(ISBLANK(Trait_Etrangers!M226),\"\",Trait_Etrangers!M226)","v":""},{"$f":"IF(ISBLANK(Trait_Etrangers!N226),\"\",Trait_Etrangers!N226)","v":""},{"$f":"IF(ISBLANK(Trait_Etrangers!O226),\"\",Trait_Etrangers!O226)","v":""},{"$f":"IF(ISBLANK(Trait_Etrangers!P226),\"\",Trait_Etrangers!P226)","v":""},null,{"$f":"IF(ISBLANK(Trait_Etrangers!R226),\"\",Trait_Etrangers!R226)","v":""},{"$f":"IF(ISBLANK(Trait_Etrangers!S226),\"\",Trait_Etrangers!S226)","v":""},{"$f":"IF(ISBLANK(Trait_Etrangers!T226),\"\",Trait_Etrangers!T226)","v":""},{"$f":"IF(ISBLANK(Trait_Etrangers!U226),\"\",Trait_Etrangers!U226)","v":""},null,null,null,"","",0,0,0,0,0,0,0,0,0,0,0,0,0,0,0,0,0,null,1,null,null,{"$f":"IF(AX226=\"\",\"\",IF(CE226=1,\"[b][color=red]\"&Datas!$D$32&\"[/color][/b]\"&AX226&\"[b][color=red]\"&Datas!$D$33&\"{\"&CD226&\"}[/color][/b]\",AX226))","v":{"$error":"#N/A"}},{"$error":"#N/A"}," ",{"$f":"IF(ISBLANK(Datas!$C$47),\"\",\" - \"&BG226)","v":{"$error":"#N/A"}},{"$f":"IF(ISBLANK(Datas!$C$48),\"\",\" - \"&BH226)","v":" - "},{"$f":"IF(ISBLANK(Datas!$C$49),\"\",\" - \"&BI226)","v":""},{"$f":"IF(ISBLANK(Datas!$C$50),\"\",\" - \"&BJ226)","v":" - Ecus:"},{"$f":"IF(ISBLANK(Datas!$C$51),\"\",\" - \"&BK226)","v":" - Niv: "},null,{"$error":"#N/A"},{"$error":"#N/A"},"","PR:","Ecus:","Niv: ",null,null,null,null,"",{"$f":"VLOOKUP(BP226,LstVillage!$B$8:$C$283,1)","v":{"$error":"#N/A"}},{"$error":"#N/A"},{"$error":"#N/A"},"",{"$f":"VLOOKUP(BT226,Datas!$G$6:$G$17,1)","v":{"$error":"#N/A"}},{"$error":"#N/A"},{"$error":"#N/A"},null,"",0,0,null,{"$f":"VLOOKUP(BP226,Liste_Noire!$B$15:$G$1208,1)","v":{"$error":"#N/A"}},{"$f":"VLOOKUP(BP226,Liste_Noire!$B$15:$G$1208,5)","v":{"$error":"#N/A"}},{"$error":"#N/A"},null,0,0,0,0,0,0,1]
[null,""," ","","","","","",{"$f":"IF(ISBLANK(Trait_Etrangers!H227),\"\",Trait_Etrangers!H227)","v":""},{"$f":"IF(ISBLANK(Trait_Etrangers!I227),\"\",Trait_Etrangers!I227)","v":""},{"$f":"IF(ISBLANK(Trait_Etrangers!J227),\"\",Trait_Etrangers!J227)","v":""},{"$f":"IF(ISBLANK(Trait_Etrangers!K227),\"\",Trait_Etrangers!K227)","v":""},{"$f":"IF(ISBLANK(Trait_Etrangers!L227),\"\",Trait_Etrangers!L227)","v":""},{"$f":"IF(ISBLANK(Trait_Etrangers!M227),\"\",Trait_Etrangers!M227)","v":""},{"$f":"IF(ISBLANK(Trait_Etrangers!N227),\"\",Trait_Etrangers!N227)","v":""},{"$f":"IF(ISBLANK(Trait_Etrangers!O227),\"\",Trait_Etrangers!O227)","v":""},{"$f":"IF(ISBLANK(Trait_Etrangers!P227),\"\",Trait_Etrangers!P227)","v":""},null,{"$f":"IF(ISBLANK(Trait_Etrangers!R227),\"\",Trait_Etrangers!R227)","v":""},{"$f":"IF(ISBLANK(Trait_Etrangers!S227),\"\",Trait_Etrangers!S227)","v":""},{"$f":"IF(ISBLANK(Trait_Etrangers!T227),\"\",Trait_Etrangers!T227)","v":""},{"$f":"IF(ISBLANK(Trait_Etrangers!U227),\"\",Trait_Etrangers!U227)","v":""},null,null,null,"","",0,0,0,0,0,0,0,0,0,0,0,0,0,0,0,0,0,null,1,null,null,{"$f":"IF(AX227=\"\",\"\",IF(CE227=1,\"[b][color=red]\"&Datas!$D$32&\"[/color][/b]\"&AX227&\"[b][color=red]\"&Datas!$D$33&\"{\"&CD227&\"}[/color][/b]\",AX227))","v":{"$error":"#N/A"}},{"$error":"#N/A"}," ",{"$f":"IF(ISBLANK(Datas!$C$47),\"\",\" - \"&BG227)","v":{"$error":"#N/A"}},{"$f":"IF(ISBLANK(Datas!$C$48),\"\",\" - \"&BH227)","v":" - "},{"$f":"IF(ISBLANK(Datas!$C$49),\"\",\" - \"&BI227)","v":""},{"$f":"IF(ISBLANK(Datas!$C$50),\"\",\" - \"&BJ227)","v":" - Ecus:"},{"$f":"IF(ISBLANK(Datas!$C$51),\"\",\" - \"&BK227)","v":" - Niv: "},null,{"$error":"#N/A"},{"$error":"#N/A"},"","PR:","Ecus:","Niv: ",null,null,null,null,"",{"$f":"VLOOKUP(BP227,LstVillage!$B$8:$C$283,1)","v":{"$error":"#N/A"}},{"$error":"#N/A"},{"$error":"#N/A"},"",{"$f":"VLOOKUP(BT227,Datas!$G$6:$G$17,1)","v":{"$error":"#N/A"}},{"$error":"#N/A"},{"$error":"#N/A"},null,"",0,0,null,{"$f":"VLOOKUP(BP227,Liste_Noire!$B$15:$G$1208,1)","v":{"$error":"#N/A"}},{"$f":"VLOOKUP(BP227,Liste_Noire!$B$15:$G$1208,5)","v":{"$error":"#N/A"}},{"$error":"#N/A"},null,0,0,0,0,0,0,1]
[null,""," ","","","","","",{"$f":"IF(ISBLANK(Trait_Etrangers!H228),\"\",Trait_Etrangers!H228)","v":""},{"$f":"IF(ISBLANK(Trait_Etrangers!I228),\"\",Trait_Etrangers!I228)","v":""},{"$f":"IF(ISBLANK(Trait_Etrangers!J228),\"\",Trait_Etrangers!J228)","v":""},{"$f":"IF(ISBLANK(Trait_Etrangers!K228),\"\",Trait_Etrangers!K228)","v":""},{"$f":"IF(ISBLANK(Trait_Etrangers!L228),\"\",Trait_Etrangers!L228)","v":""},{"$f":"IF(ISBLANK(Trait_Etrangers!M228),\"\",Trait_Etrangers!M228)","v":""},{"$f":"IF(ISBLANK(Trait_Etrangers!N228),\"\",Trait_Etrangers!N228)","v":""},{"$f":"IF(ISBLANK(Trait_Etrangers!O228),\"\",Trait_Etrangers!O228)","v":""},{"$f":"IF(ISBLANK(Trait_Etrangers!P228),\"\",Trait_Etrangers!P228)","v":""},null,{"$f":"IF(ISBLANK(Trait_Etrangers!R228),\"\",Trait_Etrangers!R228)","v":""},{"$f":"IF(ISBLANK(Trait_Etrangers!S228),\"\",Trait_Etrangers!S228)","v":""},{"$f":"IF(ISBLANK(Trait_Etrangers!T228),\"\",Trait_Etrangers!T228)","v":""},{"$f":"IF(ISBLANK(Trait_Etrangers!U228),\"\",Trait_Etrangers!U228)","v":""},null,null,null,"","",0,0,0,0,0,0,0,0,0,0,0,0,0,0,0,0,0,null,1,null,null,{"$f":"IF(AX228=\"\",\"\",IF(CE228=1,\"[b][color=red]\"&Datas!$D$32&\"[/color][/b]\"&AX228&\"[b][color=red]\"&Datas!$D$33&\"{\"&CD228&\"}[/color][/b]\",AX228))","v":{"$error":"#N/A"}},{"$error":"#N/A"}," ",{"$f":"IF(ISBLANK(Datas!$C$47),\"\",\" - \"&BG228)","v":{"$error":"#N/A"}},{"$f":"IF(ISBLANK(Datas!$C$48),\"\",\" - \"&BH228)","v":" - "},{"$f":"IF(ISBLANK(Datas!$C$49),\"\",\" - \"&BI228)","v":""},{"$f":"IF(ISBLANK(Datas!$C$50),\"\",\" - \"&BJ228)","v":" - Ecus:"},{"$f":"IF(ISBLANK(Datas!$C$51),\"\",\" - \"&BK228)","v":" - Niv: "},null,{"$error":"#N/A"},{"$error":"#N/A"},"","PR:","Ecus:","Niv: ",null,null,null,null,"",{"$f":"VLOOKUP(BP228,LstVillage!$B$8:$C$283,1)","v":{"$error":"#N/A"}},{"$error":"#N/A"},{"$error":"#N/A"},"",{"$f":"VLOOKUP(BT228,Datas!$G$6:$G$17,1)","v":{"$error":"#N/A"}},{"$error":"#N/A"},{"$error":"#N/A"},null,"",0,0,null,{"$f":"VLOOKUP(BP228,Liste_Noire!$B$15:$G$1208,1)","v":{"$error":"#N/A"}},{"$f":"VLOOKUP(BP228,Liste_Noire!$B$15:$G$1208,5)","v":{"$error":"#N/A"}},{"$error":"#N/A"},null,0,0,0,0,0,0,1]
[null,""," ","","","","","",{"$f":"IF(ISBLANK(Trait_Etrangers!H229),\"\",Trait_Etrangers!H229)","v":""},{"$f":"IF(ISBLANK(Trait_Etrangers!I229),\"\",Trait_Etrangers!I229)","v":""},{"$f":"IF(ISBLANK(Trait_Etrangers!J229),\"\",Trait_Etrangers!J229)","v":""},{"$f":"IF(ISBLANK(Trait_Etrangers!K229),\"\",Trait_Etrangers!K229)","v":""},{"$f":"IF(ISBLANK(Trait_Etrangers!L229),\"\",Trait_Etrangers!L229)","v":""},{"$f":"IF(ISBLANK(Trait_Etrangers!M229),\"\",Trait_Etrangers!M229)","v":""},{"$f":"IF(ISBLANK(Trait_Etrangers!N229),\"\",Trait_Etrangers!N229)","v":""},{"$f":"IF(ISBLANK(Trait_Etrangers!O229),\"\",Trait_Etrangers!O229)","v":""},{"$f":"IF(ISBLANK(Trait_Etrangers!P229),\"\",Trait_Etrangers!P229)","v":""},null,{"$f":"IF(ISBLANK(Trait_Etrangers!R229),\"\",Trait_Etrangers!R229)","v":""},{"$f":"IF(ISBLANK(Trait_Etrangers!S229),\"\",Trait_Etrangers!S229)","v":""},{"$f":"IF(ISBLANK(Trait_Etrangers!T229),\"\",Trait_Etrangers!T229)","v":""},{"$f":"IF(ISBLANK(Trait_Etrangers!U229),\"\",Trait_Etrangers!U229)","v":""},null,null,null,"","",0,0,0,0,0,0,0,0,0,0,0,0,0,0,0,0,0,null,1,null,null,{"$f":"IF(AX229=\"\",\"\",IF(CE229=1,\"[b][color=red]\"&Datas!$D$32&\"[/color][/b]\"&AX229&\"[b][color=red]\"&Datas!$D$33&\"{\"&CD229&\"}[/color][/b]\",AX229))","v":{"$error":"#N/A"}},{"$error":"#N/A"}," ",{"$f":"IF(ISBLANK(Datas!$C$47),\"\",\" - \"&BG229)","v":{"$error":"#N/A"}},{"$f":"IF(ISBLANK(Datas!$C$48),\"\",\" - \"&BH229)","v":" - "},{"$f":"IF(ISBLANK(Datas!$C$49),\"\",\" - \"&BI229)","v":""},{"$f":"IF(ISBLANK(Datas!$C$50),\"\",\" - \"&BJ229)","v":" - Ecus:"},{"$f":"IF(ISBLANK(Datas!$C$51),\"\",\" - \"&BK229)","v":" - Niv: "},null,{"$error":"#N/A"},{"$error":"#N/A"},"","PR:","Ecus:","Niv: ",null,null,null,null,"",{"$f":"VLOOKUP(BP229,LstVillage!$B$8:$C$283,1)","v":{"$error":"#N/A"}},{"$error":"#N/A"},{"$error":"#N/A"},"",{"$f":"VLOOKUP(BT229,Datas!$G$6:$G$17,1)","v":{"$error":"#N/A"}},{"$error":"#N/A"},{"$error":"#N/A"},null,"",0,0,null,{"$f":"VLOOKUP(BP229,Liste_Noire!$B$15:$G$1208,1)","v":{"$error":"#N/A"}},{"$f":"VLOOKUP(BP229,Liste_Noire!$B$15:$G$1208,5)","v":{"$error":"#N/A"}},{"$error":"#N/A"},null,0,0,0,0,0,0,1]
[null,""," ","","","","","",{"$f":"IF(ISBLANK(Trait_Etrangers!H230),\"\",Trait_Etrangers!H230)","v":""},{"$f":"IF(ISBLANK(Trait_Etrangers!I230),\"\",Trait_Etrangers!I230)","v":""},{"$f":"IF(ISBLANK(Trait_Etrangers!J230),\"\",Trait_Etrangers!J230)","v":""},{"$f":"IF(ISBLANK(Trait_Etrangers!K230),\"\",Trait_Etrangers!K230)","v":""},{"$f":"IF(ISBLANK(Trait_Etrangers!L230),\"\",Trait_Etrangers!L230)","v":""},{"$f":"IF(ISBLANK(Trait_Etrangers!M230),\"\",Trait_Etrangers!M230)","v":""},{"$f":"IF(ISBLANK(Trait_Etrangers!N230),\"\",Trait_Etrangers!N230)","v":""},{"$f":"IF(ISBLANK(Trait_Etrangers!O230),\"\",Trait_Etrangers!O230)","v":""},{"$f":"IF(ISBLANK(Trait_Etrangers!P230),\"\",Trait_Etrangers!P230)","v":""},null,{"$f":"IF(ISBLANK(Trait_Etrangers!R230),\"\",Trait_Etrangers!R230)","v":""},{"$f":"IF(ISBLANK(Trait_Etrangers!S230),\"\",Trait_Etrangers!S230)","v":""},{"$f":"IF(ISBLANK(Trait_Etrangers!T230),\"\",Trait_Etrangers!T230)","v":""},{"$f":"IF(ISBLANK(Trait_Etrangers!U230),\"\",Trait_Etrangers!U230)","v":""},null,null,null,"","",0,0,0,0,0,0,0,0,0,0,0,0,0,0,0,0,0,null,1,null,null,{"$f":"IF(AX230=\"\",\"\",IF(CE230=1,\"[b][color=red]\"&Datas!$D$32&\"[/color][/b]\"&AX230&\"[b][color=red]\"&Datas!$D$33&\"{\"&CD230&\"}[/color][/b]\",AX230))","v":{"$error":"#N/A"}},{"$error":"#N/A"}," ",{"$f":"IF(ISBLANK(Datas!$C$47),\"\",\" - \"&BG230)","v":{"$error":"#N/A"}},{"$f":"IF(ISBLANK(Datas!$C$48),\"\",\" - \"&BH230)","v":" - "},{"$f":"IF(ISBLANK(Datas!$C$49),\"\",\" - \"&BI230)","v":""},{"$f":"IF(ISBLANK(Datas!$C$50),\"\",\" - \"&BJ230)","v":" - Ecus:"},{"$f":"IF(ISBLANK(Datas!$C$51),\"\",\" - \"&BK230)","v":" - Niv: "},null,{"$error":"#N/A"},{"$error":"#N/A"},"","PR:","Ecus:","Niv: ",null,null,null,null,"",{"$f":"VLOOKUP(BP230,LstVillage!$B$8:$C$283,1)","v":{"$error":"#N/A"}},{"$error":"#N/A"},{"$error":"#N/A"},"",{"$f":"VLOOKUP(BT230,Datas!$G$6:$G$17,1)","v":{"$error":"#N/A"}},{"$error":"#N/A"},{"$error":"#N/A"},null,"",0,0,null,{"$f":"VLOOKUP(BP230,Liste_Noire!$B$15:$G$1208,1)","v":{"$error":"#N/A"}},{"$f":"VLOOKUP(BP230,Liste_Noire!$B$15:$G$1208,5)","v":{"$error":"#N/A"}},{"$error":"#N/A"},null,0,0,0,0,0,0,1]
[null,""," ","","","","","",{"$f":"IF(ISBLANK(Trait_Etrangers!H231),\"\",Trait_Etrangers!H231)","v":""},{"$f":"IF(ISBLANK(Trait_Etrangers!I231),\"\",Trait_Etrangers!I231)","v":""},{"$f":"IF(ISBLANK(Trait_Etrangers!J231),\"\",Trait_Etrangers!J231)","v":""},{"$f":"IF(ISBLANK(Trait_Etrangers!K231),\"\",Trait_Etrangers!K231)","v":""},{"$f":"IF(ISBLANK(Trait_Etrangers!L231),\"\",Trait_Etrangers!L231)","v":""},{"$f":"IF(ISBLANK(Trait_Etrangers!M231),\"\",Trait_Etrangers!M231)","v":""},{"$f":"IF(ISBLANK(Trait_Etrangers!N231),\"\",Trait_Etrangers!N231)","v":""},{"$f":"IF(ISBLANK(Trait_Etrangers!O231),\"\",Trait_Etrangers!O231)","v":""},{"$f":"IF(ISBLANK(Trait_Etrangers!P231),\"\",Trait_Etrangers!P231)","v":""},null,{"$f":"IF(ISBLANK(Trait_Etrangers!R231),\"\",Trait_Etrangers!R231)","v":""},{"$f":"IF(ISBLANK(Trait_Etrangers!S231),\"\",Trait_Etrangers!S231)","v":""},{"$f":"IF(ISBLANK(Trait_Etrangers!T231),\"\",Trait_Etrangers!T231)","v":""},{"$f":"IF(ISBLANK(Trait_Etrangers!U231),\"\",Trait_Etrangers!U231)","v":""},null,null,null,"","",0,0,0,0,0,0,0,0,0,0,0,0,0,0,0,0,0,null,1,null,null,{"$f":"IF(AX231=\"\",\"\",IF(CE231=1,\"[b][color=red]\"&Datas!$D$32&\"[/color][/b]\"&AX231&\"[b][color=red]\"&Datas!$D$33&\"{\"&CD231&\"}[/color][/b]\",AX231))","v":{"$error":"#N/A"}},{"$error":"#N/A"}," ",{"$f":"IF(ISBLANK(Datas!$C$47),\"\",\" - \"&BG231)","v":{"$error":"#N/A"}},{"$f":"IF(ISBLANK(Datas!$C$48),\"\",\" - \"&BH231)","v":" - "},{"$f":"IF(ISBLANK(Datas!$C$49),\"\",\" - \"&BI231)","v":""},{"$f":"IF(ISBLANK(Datas!$C$50),\"\",\" - \"&BJ231)","v":" - Ecus:"},{"$f":"IF(ISBLANK(Datas!$C$51),\"\",\" - \"&BK231)","v":" - Niv: "},null,{"$error":"#N/A"},{"$error":"#N/A"},"","PR:","Ecus:","Niv: ",null,null,null,null,"",{"$f":"VLOOKUP(BP231,LstVillage!$B$8:$C$283,1)","v":{"$error":"#N/A"}},{"$error":"#N/A"},{"$error":"#N/A"},"",{"$f":"VLOOKUP(BT231,Datas!$G$6:$G$17,1)","v":{"$error":"#N/A"}},{"$error":"#N/A"},{"$error":"#N/A"},null,"",0,0,null,{"$f":"VLOOKUP(BP231,Liste_Noire!$B$15:$G$1208,1)","v":{"$error":"#N/A"}},{"$f":"VLOOKUP(BP231,Liste_Noire!$B$15:$G$1208,5)","v":{"$error":"#N/A"}},{"$error":"#N/A"},null,0,0,0,0,0,0,1]
[null,""," ","","","","","",{"$f":"IF(ISBLANK(Trait_Etrangers!H232),\"\",Trait_Etrangers!H232)","v":""},{"$f":"IF(ISBLANK(Trait_Etrangers!I232),\"\",Trait_Etrangers!I232)","v":""},{"$f":"IF(ISBLANK(Trait_Etrangers!J232),\"\",Trait_Etrangers!J232)","v":""},{"$f":"IF(ISBLANK(Trait_Etrangers!K232),\"\",Trait_Etrangers!K232)","v":""},{"$f":"IF(ISBLANK(Trait_Etrangers!L232),\"\",Trait_Etrangers!L232)","v":""},{"$f":"IF(ISBLANK(Trait_Etrangers!M232),\"\",Trait_Etrangers!M232)","v":""},{"$f":"IF(ISBLANK(Trait_Etrangers!N232),\"\",Trait_Etrangers!N232)","v":""},{"$f":"IF(ISBLANK(Trait_Etrangers!O232),\"\",Trait_Etrangers!O232)","v":""},{"$f":"IF(ISBLANK(Trait_Etrangers!P232),\"\",Trait_Etrangers!P232)","v":""},null,{"$f":"IF(ISBLANK(Trait_Etrangers!R232),\"\",Trait_Etrangers!R232)","v":""},{"$f":"IF(ISBLANK(Trait_Etrangers!S232),\"\",Trait_Etrangers!S232)","v":""},{"$f":"IF(ISBLANK(Trait_Etrangers!T232),\"\",Trait_Etrangers!T232)","v":""},{"$f":"IF(ISBLANK(Trait_Etrangers!U232),\"\",Trait_Etrangers!U232)","v":""},null,null,null,"","",0,0,0,0,0,0,0,0,0,0,0,0,0,0,0,0,0,null,1,null,null,{"$f":"IF(AX232=\"\",\"\",IF(CE232=1,\"[b][color=red]\"&Datas!$D$32&\"[/color][/b]\"&AX232&\"[b][color=red]\"&Datas!$D$33&\"{\"&CD232&\"}[/color][/b]\",AX232))","v":{"$error":"#N/A"}},{"$error":"#N/A"}," ",{"$f":"IF(ISBLANK(Datas!$C$47),\"\",\" - \"&BG232)","v":{"$error":"#N/A"}},{"$f":"IF(ISBLANK(Datas!$C$48),\"\",\" - \"&BH232)","v":" - "},{"$f":"IF(ISBLANK(Datas!$C$49),\"\",\" - \"&BI232)","v":""},{"$f":"IF(ISBLANK(Datas!$C$50),\"\",\" - \"&BJ232)","v":" - Ecus:"},{"$f":"IF(ISBLANK(Datas!$C$51),\"\",\" - \"&BK232)","v":" - Niv: "},null,{"$error":"#N/A"},{"$error":"#N/A"},"","PR:","Ecus:","Niv: ",null,null,null,null,"",{"$f":"VLOOKUP(BP232,LstVillage!$B$8:$C$283,1)","v":{"$error":"#N/A"}},{"$error":"#N/A"},{"$error":"#N/A"},"",{"$f":"VLOOKUP(BT232,Datas!$G$6:$G$17,1)","v":{"$error":"#N/A"}},{"$error":"#N/A"},{"$error":"#N/A"},null,"",0,0,null,{"$f":"VLOOKUP(BP232,Liste_Noire!$B$15:$G$1208,1)","v":{"$error":"#N/A"}},{"$f":"VLOOKUP(BP232,Liste_Noire!$B$15:$G$1208,5)","v":{"$error":"#N/A"}},{"$error":"#N/A"},null,0,0,0,0,0,0,1]
[null,""," ","","","","","",{"$f":"IF(ISBLANK(Trait_Etrangers!H233),\"\",Trait_Etrangers!H233)","v":""},{"$f":"IF(ISBLANK(Trait_Etrangers!I233),\"\",Trait_Etrangers!I233)","v":""},{"$f":"IF(ISBLANK(Trait_Etrangers!J233),\"\",Trait_Etrangers!J233)","v":""},{"$f":"IF(ISBLANK(Trait_Etrangers!K233),\"\",Trait_Etrangers!K233)","v":""},{"$f":"IF(ISBLANK(Trait_Etrangers!L233),\"\",Trait_Etrangers!L233)","v":""},{"$f":"IF(ISBLANK(Trait_Etrangers!M233),\"\",Trait_Etrangers!M233)","v":""},{"$f":"IF(ISBLANK(Trait_Etrangers!N233),\"\",Trait_Etrangers!N233)","v":""},{"$f":"IF(ISBLANK(Trait_Etrangers!O233),\"\",Trait_Etrangers!O233)","v":""},{"$f":"IF(ISBLANK(Trait_Etrangers!P233),\"\",Trait_Etrangers!P233)","v":""},null,{"$f":"IF(ISBLANK(Trait_Etrangers!R233),\"\",Trait_Etrangers!R233)","v":""},{"$f":"IF(ISBLANK(Trait_Etrangers!S233),\"\",Trait_Etrangers!S233)","v":""},{"$f":"IF(ISBLANK(Trait_Etrangers!T233),\"\",Trait_Etrangers!T233)","v":""},{"$f":"IF(ISBLANK(Trait_Etrangers!U233),\"\",Trait_Etrangers!U233)","v":""},null,null,null,"","",0,0,0,0,0,0,0,0,0,0,0,0,0,0,0,0,0,null,1,null,null,{"$f":"IF(AX233=\"\",\"\",IF(CE233=1,\"[b][color=red]\"&Datas!$D$32&\"[/color][/b]\"&AX233&\"[b][color=red]\"&Datas!$D$33&\"{\"&CD233&\"}[/color][/b]\",AX233))","v":{"$error":"#N/A"}},{"$error":"#N/A"}," ",{"$f":"IF(ISBLANK(Datas!$C$47),\"\",\" - \"&BG233)","v":{"$error":"#N/A"}},{"$f":"IF(ISBLANK(Datas!$C$48),\"\",\" - \"&BH233)","v":" - "},{"$f":"IF(ISBLANK(Datas!$C$49),\"\",\" - \"&BI233)","v":""},{"$f":"IF(ISBLANK(Datas!$C$50),\"\",\" - \"&BJ233)","v":" - Ecus:"},{"$f":"IF(ISBLANK(Datas!$C$51),\"\",\" - \"&BK233)","v":" - Niv: "},null,{"$error":"#N/A"},{"$error":"#N/A"},"","PR:","Ecus:","Niv: ",null,null,null,null,"",{"$f":"VLOOKUP(BP233,LstVillage!$B$8:$C$283,1)","v":{"$error":"#N/A"}},{"$error":"#N/A"},{"$error":"#N/A"},"",{"$f":"VLOOKUP(BT233,Datas!$G$6:$G$17,1)","v":{"$error":"#N/A"}},{"$error":"#N/A"},{"$error":"#N/A"},null,"",0,0,null,{"$f":"VLOOKUP(BP233,Liste_Noire!$B$15:$G$1208,1)","v":{"$error":"#N/A"}},{"$f":"VLOOKUP(BP233,Liste_Noire!$B$15:$G$1208,5)","v":{"$error":"#N/A"}},{"$error":"#N/A"},null,0,0,0,0,0,0,1]
[null,""," ","","","","","",{"$f":"IF(ISBLANK(Trait_Etrangers!H234),\"\",Trait_Etrangers!H234)","v":""},{"$f":"IF(ISBLANK(Trait_Etrangers!I234),\"\",Trait_Etrangers!I234)","v":""},{"$f":"IF(ISBLANK(Trait_Etrangers!J234),\"\",Trait_Etrangers!J234)","v":""},{"$f":"IF(ISBLANK(Trait_Etrangers!K234),\"\",Trait_Etrangers!K234)","v":""},{"$f":"IF(ISBLANK(Trait_Etrangers!L234),\"\",Trait_Etrangers!L234)","v":""},{"$f":"IF(ISBLANK(Trait_Etrangers!M234),\"\",Trait_Etrangers!M234)","v":""},{"$f":"IF(ISBLANK(Trait_Etrangers!N234),\"\",Trait_Etrangers!N234)","v":""},{"$f":"IF(ISBLANK(Trait_Etrangers!O234),\"\",Trait_Etrangers!O234)","v":""},{"$f":"IF(ISBLANK(Trait_Etrangers!P234),\"\",Trait_Etrangers!P234)","v":""},null,{"$f":"IF(ISBLANK(Trait_Etrangers!R234),\"\",Trait_Etrangers!R234)","v":""},{"$f":"IF(ISBLANK(Trait_Etrangers!S234),\"\",Trait_Etrangers!S234)","v":""},{"$f":"IF(ISBLANK(Trait_Etrangers!T234),\"\",Trait_Etrangers!T234)","v":""},{"$f":"IF(ISBLANK(Trait_Etrangers!U234),\"\",Trait_Etrangers!U234)","v":""},null,null,null,"","",0,0,0,0,0,0,0,0,0,0,0,0,0,0,0,0,0,null,1,null,null,{"$f":"IF(AX234=\"\",\"\",IF(CE234=1,\"[b][color=red]\"&Datas!$D$32&\"[/color][/b]\"&AX234&\"[b][color=red]\"&Datas!$D$33&\"{\"&CD234&\"}[/color][/b]\",AX234))","v":{"$error":"#N/A"}},{"$error":"#N/A"}," ",{"$f":"IF(ISBLANK(Datas!$C$47),\"\",\" - \"&BG234)","v":{"$error":"#N/A"}},{"$f":"IF(ISBLANK(Datas!$C$48),\"\",\" - \"&BH234)","v":" - "},{"$f":"IF(ISBLANK(Datas!$C$49),\"\",\" - \"&BI234)","v":""},{"$f":"IF(ISBLANK(Datas!$C$50),\"\",\" - \"&BJ234)","v":" - Ecus:"},{"$f":"IF(ISBLANK(Datas!$C$51),\"\",\" - \"&BK234)","v":" - Niv: "},null,{"$error":"#N/A"},{"$error":"#N/A"},"","PR:","Ecus:","Niv: ",null,null,null,null,"",{"$f":"VLOOKUP(BP234,LstVillage!$B$8:$C$283,1)","v":{"$error":"#N/A"}},{"$error":"#N/A"},{"$error":"#N/A"},"",{"$f":"VLOOKUP(BT234,Datas!$G$6:$G$17,1)","v":{"$error":"#N/A"}},{"$error":"#N/A"},{"$error":"#N/A"},null,"",0,0,null,{"$f":"VLOOKUP(BP234,Liste_Noire!$B$15:$G$1208,1)","v":{"$error":"#N/A"}},{"$f":"VLOOKUP(BP234,Liste_Noire!$B$15:$G$1208,5)","v":{"$error":"#N/A"}},{"$error":"#N/A"},null,0,0,0,0,0,0,1]
[null,""," ","","","","","",{"$f":"IF(ISBLANK(Trait_Etrangers!H235),\"\",Trait_Etrangers!H235)","v":""},{"$f":"IF(ISBLANK(Trait_Etrangers!I235),\"\",Trait_Etrangers!I235)","v":""},{"$f":"IF(ISBLANK(Trait_Etrangers!J235),\"\",Trait_Etrangers!J235)","v":""},{"$f":"IF(ISBLANK(Trait_Etrangers!K235),\"\",Trait_Etrangers!K235)","v":""},{"$f":"IF(ISBLANK(Trait_Etrangers!L235),\"\",Trait_Etrangers!L235)","v":""},{"$f":"IF(ISBLANK(Trait_Etrangers!M235),\"\",Trait_Etrangers!M235)","v":""},{"$f":"IF(ISBLANK(Trait_Etrangers!N235),\"\",Trait_Etrangers!N235)","v":""},{"$f":"IF(ISBLANK(Trait_Etrangers!O235),\"\",Trait_Etrangers!O235)","v":""},{"$f":"IF(ISBLANK(Trait_Etrangers!P235),\"\",Trait_Etrangers!P235)","v":""},null,{"$f":"IF(ISBLANK(Trait_Etrangers!R235),\"\",Trait_Etrangers!R235)","v":""},{"$f":"IF(ISBLANK(Trait_Etrangers!S235),\"\",Trait_Etrangers!S235)","v":""},{"$f":"IF(ISBLANK(Trait_Etrangers!T235),\"\",Trait_Etrangers!T235)","v":""},{"$f":"IF(ISBLANK(Trait_Etrangers!U235),\"\",Trait_Etrangers!U235)","v":""},null,null,null,"","",0,0,0,0,0,0,0,0,0,0,0,0,0,0,0,0,0,null,1,null,null,{"$f":"IF(AX235=\"\",\"\",IF(CE235=1,\"[b][color=red]\"&Datas!$D$32&\"[/color][/b]\"&AX235&\"[b][color=red]\"&Datas!$D$33&\"{\"&CD235&\"}[/color][/b]\",AX235))","v":{"$error":"#N/A"}},{"$error":"#N/A"}," ",{"$f":"IF(ISBLANK(Datas!$C$47),\"\",\" - \"&BG235)","v":{"$error":"#N/A"}},{"$f":"IF(ISBLANK(Datas!$C$48),\"\",\" - \"&BH235)","v":" - "},{"$f":"IF(ISBLANK(Datas!$C$49),\"\",\" - \"&BI235)","v":""},{"$f":"IF(ISBLANK(Datas!$C$50),\"\",\" - \"&BJ235)","v":" - Ecus:"},{"$f":"IF(ISBLANK(Datas!$C$51),\"\",\" - \"&BK235)","v":" - Niv: "},null,{"$error":"#N/A"},{"$error":"#N/A"},"","PR:","Ecus:","Niv: ",null,null,null,null,"",{"$f":"VLOOKUP(BP235,LstVillage!$B$8:$C$283,1)","v":{"$error":"#N/A"}},{"$error":"#N/A"},{"$error":"#N/A"},"",{"$f":"VLOOKUP(BT235,Datas!$G$6:$G$17,1)","v":{"$error":"#N/A"}},{"$error":"#N/A"},{"$error":"#N/A"},null,"",0,0,null,{"$f":"VLOOKUP(BP235,Liste_Noire!$B$15:$G$1208,1)","v":{"$error":"#N/A"}},{"$f":"VLOOKUP(BP235,Liste_Noire!$B$15:$G$1208,5)","v":{"$error":"#N/A"}},{"$error":"#N/A"},null,0,0,0,0,0,0,1]
[null,""," ","","","","","",{"$f":"IF(ISBLANK(Trait_Etrangers!H236),\"\",Trait_Etrangers!H236)","v":""},{"$f":"IF(ISBLANK(Trait_Etrangers!I236),\"\",Trait_Etrangers!I236)","v":""},{"$f":"IF(ISBLANK(Trait_Etrangers!J236),\"\",Trait_Etrangers!J236)","v":""},{"$f":"IF(ISBLANK(Trait_Etrangers!K236),\"\",Trait_Etrangers!K236)","v":""},{"$f":"IF(ISBLANK(Trait_Etrangers!L236),\"\",Trait_Etrangers!L236)","v":""},{"$f":"IF(ISBLANK(Trait_Etrangers!M236),\"\",Trait_Etrangers!M236)","v":""},{"$f":"IF(ISBLANK(Trait_Etrangers!N236),\"\",Trait_Etrangers!N236)","v":""},{"$f":"IF(ISBLANK(Trait_Etrangers!O236),\"\",Trait_Etrangers!O236)","v":""},{"$f":"IF(ISBLANK(Trait_Etrangers!P236),\"\",Trait_Etrangers!P236)","v":""},null,{"$f":"IF(ISBLANK(Trait_Etrangers!R236),\"\",Trait_Etrangers!R236)","v":""},{"$f":"IF(ISBLANK(Trait_Etrangers!S236),\"\",Trait_Etrangers!S236)","v":""},{"$f":"IF(ISBLANK(Trait_Etrangers!T236),\"\",Trait_Etrangers!T236)","v":""},{"$f":"IF(ISBLANK(Trait_Etrangers!U236),\"\",Trait_Etrangers!U236)","v":""},null,null,null,"","",0,0,0,0,0,0,0,0,0,0,0,0,0,0,0,0,0,null,1,null,null,{"$f":"IF(AX236=\"\",\"\",IF(CE236=1,\"[b][color=red]\"&Datas!$D$32&\"[/color][/b]\"&AX236&\"[b][color=red]\"&Datas!$D$33&\"{\"&CD236&\"}[/color][/b]\",AX236))","v":{"$error":"#N/A"}},{"$error":"#N/A"}," ",{"$f":"IF(ISBLANK(Datas!$C$47),\"\",\" - \"&BG236)","v":{"$error":"#N/A"}},{"$f":"IF(ISBLANK(Datas!$C$48),\"\",\" - \"&BH236)","v":" - "},{"$f":"IF(ISBLANK(Datas!$C$49),\"\",\" - \"&BI236)","v":""},{"$f":"IF(ISBLANK(Datas!$C$50),\"\",\" - \"&BJ236)","v":" - Ecus:"},{"$f":"IF(ISBLANK(Datas!$C$51),\"\",\" - \"&BK236)","v":" - Niv: "},null,{"$error":"#N/A"},{"$error":"#N/A"},"","PR:","Ecus:","Niv: ",null,null,null,null,"",{"$f":"VLOOKUP(BP236,LstVillage!$B$8:$C$283,1)","v":{"$error":"#N/A"}},{"$error":"#N/A"},{"$error":"#N/A"},"",{"$f":"VLOOKUP(BT236,Datas!$G$6:$G$17,1)","v":{"$error":"#N/A"}},{"$error":"#N/A"},{"$error":"#N/A"},null,"",0,0,null,{"$f":"VLOOKUP(BP236,Liste_Noire!$B$15:$G$1208,1)","v":{"$error":"#N/A"}},{"$f":"VLOOKUP(BP236,Liste_Noire!$B$15:$G$1208,5)","v":{"$error":"#N/A"}},{"$error":"#N/A"},null,0,0,0,0,0,0,1]
[null,""," ","","","","","",{"$f":"IF(ISBLANK(Trait_Etrangers!H237),\"\",Trait_Etrangers!H237)","v":""},{"$f":"IF(ISBLANK(Trait_Etrangers!I237),\"\",Trait_Etrangers!I237)","v":""},{"$f":"IF(ISBLANK(Trait_Etrangers!J237),\"\",Trait_Etrangers!J237)","v":""},{"$f":"IF(ISBLANK(Trait_Etrangers!K237),\"\",Trait_Etrangers!K237)","v":""},{"$f":"IF(ISBLANK(Trait_Etrangers!L237),\"\",Trait_Etrangers!L237)","v":""},{"$f":"IF(ISBLANK(Trait_Etrangers!M237),\"\",Trait_Etrangers!M237)","v":""},{"$f":"IF(ISBLANK(Trait_Etrangers!N237),\"\",Trait_Etrangers!N237)","v":""},{"$f":"IF(ISBLANK(Trait_Etrangers!O237),\"\",Trait_Etrangers!O237)","v":""},{"$f":"IF(ISBLANK(Trait_Etrangers!P237),\"\",Trait_Etrangers!P237)","v":""},null,{"$f":"IF(ISBLANK(Trait_Etrangers!R237),\"\",Trait_Etrangers!R237)","v":""},{"$f":"IF(ISBLANK(Trait_Etrangers!S237),\"\",Trait_Etrangers!S237)","v":""},{"$f":"IF(ISBLANK(Trait_Etrangers!T237),\"\",Trait_Etrangers!T237)","v":""},{"$f":"IF(ISBLANK(Trait_Etrangers!U237),\"\",Trait_Etrangers!U237)","v":""},null,null,null,"","",0,0,0,0,0,0,0,0,0,0,0,0,0,0,0,0,0,null,1,null,null,{"$f":"IF(AX237=\"\",\"\",IF(CE237=1,\"[b][color=red]\"&Datas!$D$32&\"[/color][/b]\"&AX237&\"[b][color=red]\"&Datas!$D$33&\"{\"&CD237&\"}[/color][/b]\",AX237))","v":{"$error":"#N/A"}},{"$error":"#N/A"}," ",{"$f":"IF(ISBLANK(Datas!$C$47),\"\",\" - \"&BG237)","v":{"$error":"#N/A"}},{"$f":"IF(ISBLANK(Datas!$C$48),\"\",\" - \"&BH237)","v":" - "},{"$f":"IF(ISBLANK(Datas!$C$49),\"\",\" - \"&BI237)","v":""},{"$f":"IF(ISBLANK(Datas!$C$50),\"\",\" - \"&BJ237)","v":" - Ecus:"},{"$f":"IF(ISBLANK(Datas!$C$51),\"\",\" - \"&BK237)","v":" - Niv: "},null,{"$error":"#N/A"},{"$error":"#N/A"},"","PR:","Ecus:","Niv: ",null,null,null,null,"",{"$f":"VLOOKUP(BP237,LstVillage!$B$8:$C$283,1)","v":{"$error":"#N/A"}},{"$error":"#N/A"},{"$error":"#N/A"},"",{"$f":"VLOOKUP(BT237,Datas!$G$6:$G$17,1)","v":{"$error":"#N/A"}},{"$error":"#N/A"},{"$error":"#N/A"},null,"",0,0,null,{"$f":"VLOOKUP(BP237,Liste_Noire!$B$15:$G$1208,1)","v":{"$error":"#N/A"}},{"$f":"VLOOKUP(BP237,Liste_Noire!$B$15:$G$1208,5)","v":{"$error":"#N/A"}},{"$error":"#N/A"},null,0,0,0,0,0,0,1]
[null,""," ","","","","","",{"$f":"IF(ISBLANK(Trait_Etrangers!H238),\"\",Trait_Etrangers!H238)","v":""},{"$f":"IF(ISBLANK(Trait_Etrangers!I238),\"\",Trait_Etrangers!I238)","v":""},{"$f":"IF(ISBLANK(Trait_Etrangers!J238),\"\",Trait_Etrangers!J238)","v":""},{"$f":"IF(ISBLANK(Trait_Etrangers!K238),\"\",Trait_Etrangers!K238)","v":""},{"$f":"IF(ISBLANK(Trait_Etrangers!L238),\"\",Trait_Etrangers!L238)","v":""},{"$f":"IF(ISBLANK(Trait_Etrangers!M238),\"\",Trait_Etrangers!M238)","v":""},{"$f":"IF(ISBLANK(Trait_Etrangers!N238),\"\",Trait_Etrangers!N238)","v":""},{"$f":"IF(ISBLANK(Trait_Etrangers!O238),\"\",Trait_Etrangers!O238)","v":""},{"$f":"IF(ISBLANK(Trait_Etrangers!P238),\"\",Trait_Etrangers!P238)","v":""},null,{"$f":"IF(ISBLANK(Trait_Etrangers!R238),\"\",Trait_Etrangers!R238)","v":""},{"$f":"IF(ISBLANK(Trait_Etrangers!S238),\"\",Trait_Etrangers!S238)","v":""},{"$f":"IF(ISBLANK(Trait_Etrangers!T238),\"\",Trait_Etrangers!T238)","v":""},{"$f":"IF(ISBLANK(Trait_Etrangers!U238),\"\",Trait_Etrangers!U238)","v":""},null,null,null,"","",0,0,0,0,0,0,0,0,0,0,0,0,0,0,0,0,0,null,1,null,null,{"$f":"IF(AX238=\"\",\"\",IF(CE238=1,\"[b][color=red]\"&Datas!$D$32&\"[/color][/b]\"&AX238&\"[b][color=red]\"&Datas!$D$33&\"{\"&CD238&\"}[/color][/b]\",AX238))","v":{"$error":"#N/A"}},{"$error":"#N/A"}," ",{"$f":"IF(ISBLANK(Datas!$C$47),\"\",\" - \"&BG238)","v":{"$error":"#N/A"}},{"$f":"IF(ISBLANK(Datas!$C$48),\"\",\" - \"&BH238)","v":" - "},{"$f":"IF(ISBLANK(Datas!$C$49),\"\",\" - \"&BI238)","v":""},{"$f":"IF(ISBLANK(Datas!$C$50),\"\",\" - \"&BJ238)","v":" - Ecus:"},{"$f":"IF(ISBLANK(Datas!$C$51),\"\",\" - \"&BK238)","v":" - Niv: "},null,{"$error":"#N/A"},{"$error":"#N/A"},"","PR:","Ecus:","Niv: ",null,null,null,null,"",{"$f":"VLOOKUP(BP238,LstVillage!$B$8:$C$283,1)","v":{"$error":"#N/A"}},{"$error":"#N/A"},{"$error":"#N/A"},"",{"$f":"VLOOKUP(BT238,Datas!$G$6:$G$17,1)","v":{"$error":"#N/A"}},{"$error":"#N/A"},{"$error":"#N/A"},null,"",0,0,null,{"$f":"VLOOKUP(BP238,Liste_Noire!$B$15:$G$1208,1)","v":{"$error":"#N/A"}},{"$f":"VLOOKUP(BP238,Liste_Noire!$B$15:$G$1208,5)","v":{"$error":"#N/A"}},{"$error":"#N/A"},null,0,0,0,0,0,0,1]
[null,""," ","","","","","",{"$f":"IF(ISBLANK(Trait_Etrangers!H239),\"\",Trait_Etrangers!H239)","v":""},{"$f":"IF(ISBLANK(Trait_Etrangers!I239),\"\",Trait_Etrangers!I239)","v":""},{"$f":"IF(ISBLANK(Trait_Etrangers!J239),\"\",Trait_Etrangers!J239)","v":""},{"$f":"IF(ISBLANK(Trait_Etrangers!K239),\"\",Trait_Etrangers!K239)","v":""},{"$f":"IF(ISBLANK(Trait_Etrangers!L239),\"\",Trait_Etrangers!L239)","v":""},{"$f":"IF(ISBLANK(Trait_Etrangers!M239),\"\",Trait_Etrangers!M239)","v":""},{"$f":"IF(ISBLANK(Trait_Etrangers!N239),\"\",Trait_Etrangers!N239)","v":""},{"$f":"IF(ISBLANK(Trait_Etrangers!O239),\"\",Trait_Etrangers!O239)","v":""},{"$f":"IF(ISBLANK(Trait_Etrangers!P239),\"\",Trait_Etrangers!P239)","v":""},null,{"$f":"IF(ISBLANK(Trait_Etrangers!R239),\"\",Trait_Etrangers!R239)","v":""},{"$f":"IF(ISBLANK(Trait_Etrangers!S239),\"\",Trait_Etrangers!S239)","v":""},{"$f":"IF(ISBLANK(Trait_Etrangers!T239),\"\",Trait_Etrangers!T239)","v":""},{"$f":"IF(ISBLANK(Trait_Etrangers!U239),\"\",Trait_Etrangers!U239)","v":""},null,null,null,"","",0,0,0,0,0,0,0,0,0,0,0,0,0,0,0,0,0,null,1,null,null,{"$f":"IF(AX239=\"\",\"\",IF(CE239=1,\"[b][color=red]\"&Datas!$D$32&\"[/color][/b]\"&AX239&\"[b][color=red]\"&Datas!$D$33&\"{\"&CD239&\"}[/color][/b]\",AX239))","v":{"$error":"#N/A"}},{"$error":"#N/A"}," ",{"$f":"IF(ISBLANK(Datas!$C$47),\"\",\" - \"&BG239)","v":{"$error":"#N/A"}},{"$f":"IF(ISBLANK(Datas!$C$48),\"\",\" - \"&BH239)","v":" - "},{"$f":"IF(ISBLANK(Datas!$C$49),\"\",\" - \"&BI239)","v":""},{"$f":"IF(ISBLANK(Datas!$C$50),\"\",\" - \"&BJ239)","v":" - Ecus:"},{"$f":"IF(ISBLANK(Datas!$C$51),\"\",\" - \"&BK239)","v":" - Niv: "},null,{"$error":"#N/A"},{"$error":"#N/A"},"","PR:","Ecus:","Niv: ",null,null,null,null,"",{"$f":"VLOOKUP(BP239,LstVillage!$B$8:$C$283,1)","v":{"$error":"#N/A"}},{"$error":"#N/A"},{"$error":"#N/A"},"",{"$f":"VLOOKUP(BT239,Datas!$G$6:$G$17,1)","v":{"$error":"#N/A"}},{"$error":"#N/A"},{"$error":"#N/A"},null,"",0,0,null,{"$f":"VLOOKUP(BP239,Liste_Noire!$B$15:$G$1208,1)","v":{"$error":"#N/A"}},{"$f":"VLOOKUP(BP239,Liste_Noire!$B$15:$G$1208,5)","v":{"$error":"#N/A"}},{"$error":"#N/A"},null,0,0,0,0,0,0,1]
[null,""," ","","","","","",{"$f":"IF(ISBLANK(Trait_Etrangers!H240),\"\",Trait_Etrangers!H240)","v":""},{"$f":"IF(ISBLANK(Trait_Etrangers!I240),\"\",Trait_Etrangers!I240)","v":""},{"$f":"IF(ISBLANK(Trait_Etrangers!J240),\"\",Trait_Etrangers!J240)","v":""},{"$f":"IF(ISBLANK(Trait_Etrangers!K240),\"\",Trait_Etrangers!K240)","v":""},{"$f":"IF(ISBLANK(Trait_Etrangers!L240),\"\",Trait_Etrangers!L240)","v":""},{"$f":"IF(ISBLANK(Trait_Etrangers!M240),\"\",Trait_Etrangers!M240)","v":""},{"$f":"IF(ISBLANK(Trait_Etrangers!N240),\"\",Trait_Etrangers!N240)","v":""},{"$f":"IF(ISBLANK(Trait_Etrangers!O240),\"\",Trait_Etrangers!O240)","v":""},{"$f":"IF(ISBLANK(Trait_Etrangers!P240),\"\",Trait_Etrangers!P240)","v":""},null,{"$f":"IF(ISBLANK(Trait_Etrangers!R240),\"\",Trait_Etrangers!R240)","v":""},{"$f":"IF(ISBLANK(Trait_Etrangers!S240),\"\",Trait_Etrangers!S240)","v":""},{"$f":"IF(ISBLANK(Trait_Etrangers!T240),\"\",Trait_Etrangers!T240)","v":""},{"$f":"IF(ISBLANK(Trait_Etrangers!U240),\"\",Trait_Etrangers!U240)","v":""},null,null,null,"","",0,0,0,0,0,0,0,0,0,0,0,0,0,0,0,0,0,null,1,null,null,{"$f":"IF(AX240=\"\",\"\",IF(CE240=1,\"[b][color=red]\"&Datas!$D$32&\"[/color][/b]\"&AX240&\"[b][color=red]\"&Datas!$D$33&\"{\"&CD240&\"}[/color][/b]\",AX240))","v":{"$error":"#N/A"}},{"$error":"#N/A"}," ",{"$f":"IF(ISBLANK(Datas!$C$47),\"\",\" - \"&BG240)","v":{"$error":"#N/A"}},{"$f":"IF(ISBLANK(Datas!$C$48),\"\",\" - \"&BH240)","v":" - "},{"$f":"IF(ISBLANK(Datas!$C$49),\"\",\" - \"&BI240)","v":""},{"$f":"IF(ISBLANK(Datas!$C$50),\"\",\" - \"&BJ240)","v":" - Ecus:"},{"$f":"IF(ISBLANK(Datas!$C$51),\"\",\" - \"&BK240)","v":" - Niv: "},null,{"$error":"#N/A"},{"$error":"#N/A"},"","PR:","Ecus:","Niv: ",null,null,null,null,"",{"$f":"VLOOKUP(BP240,LstVillage!$B$8:$C$283,1)","v":{"$error":"#N/A"}},{"$error":"#N/A"},{"$error":"#N/A"},"",{"$f":"VLOOKUP(BT240,Datas!$G$6:$G$17,1)","v":{"$error":"#N/A"}},{"$error":"#N/A"},{"$error":"#N/A"},null,"",0,0,null,{"$f":"VLOOKUP(BP240,Liste_Noire!$B$15:$G$1208,1)","v":{"$error":"#N/A"}},{"$f":"VLOOKUP(BP240,Liste_Noire!$B$15:$G$1208,5)","v":{"$error":"#N/A"}},{"$error":"#N/A"},null,0,0,0,0,0,0,1]
[null,""," ","","","","","",{"$f":"IF(ISBLANK(Trait_Etrangers!H241),\"\",Trait_Etrangers!H241)","v":""},{"$f":"IF(ISBLANK(Trait_Etrangers!I241),\"\",Trait_Etrangers!I241)","v":""},{"$f":"IF(ISBLANK(Trait_Etrangers!J241),\"\",Trait_Etrangers!J241)","v":""},{"$f":"IF(ISBLANK(Trait_Etrangers!K241),\"\",Trait_Etrangers!K241)","v":""},{"$f":"IF(ISBLANK(Trait_Etrangers!L241),\"\",Trait_Etrangers!L241)","v":""},{"$f":"IF(ISBLANK(Trait_Etrangers!M241),\"\",Trait_Etrangers!M241)","v":""},{"$f":"IF(ISBLANK(Trait_Etrangers!N241),\"\",Trait_Etrangers!N241)","v":""},{"$f":"IF(ISBLANK(Trait_Etrangers!O241),\"\",Trait_Etrangers!O241)","v":""},{"$f":"IF(ISBLANK(Trait_Etrangers!P241),\"\",Trait_Etrangers!P241)","v":""},null,{"$f":"IF(ISBLANK(Trait_Etrangers!R241),\"\",Trait_Etrangers!R241)","v":""},{"$f":"IF(ISBLANK(Trait_Etrangers!S241),\"\",Trait_Etrangers!S241)","v":""},{"$f":"IF(ISBLANK(Trait_Etrangers!T241),\"\",Trait_Etrangers!T241)","v":""},{"$f":"IF(ISBLANK(Trait_Etrangers!U241),\"\",Trait_Etrangers!U241)","v":""},null,null,null,"","",0,0,0,0,0,0,0,0,0,0,0,0,0,0,0,0,0,null,1,null,null,{"$f":"IF(AX241=\"\",\"\",IF(CE241=1,\"[b][color=red]\"&Datas!$D$32&\"[/color][/b]\"&AX241&\"[b][color=red]\"&Datas!$D$33&\"{\"&CD241&\"}[/color][/b]\",AX241))","v":{"$error":"#N/A"}},{"$error":"#N/A"}," ",{"$f":"IF(ISBLANK(Datas!$C$47),\"\",\" - \"&BG241)","v":{"$error":"#N/A"}},{"$f":"IF(ISBLANK(Datas!$C$48),\"\",\" - \"&BH241)","v":" - "},{"$f":"IF(ISBLANK(Datas!$C$49),\"\",\" - \"&BI241)","v":""},{"$f":"IF(ISBLANK(Datas!$C$50),\"\",\" - \"&BJ241)","v":" - Ecus:"},{"$f":"IF(ISBLANK(Datas!$C$51),\"\",\" - \"&BK241)","v":" - Niv: "},null,{"$error":"#N/A"},{"$error":"#N/A"},"","PR:","Ecus:","Niv: ",null,null,null,null,"",{"$f":"VLOOKUP(BP241,LstVillage!$B$8:$C$283,1)","v":{"$error":"#N/A"}},{"$error":"#N/A"},{"$error":"#N/A"},"",{"$f":"VLOOKUP(BT241,Datas!$G$6:$G$17,1)","v":{"$error":"#N/A"}},{"$error":"#N/A"},{"$error":"#N/A"},null,"",0,0,null,{"$f":"VLOOKUP(BP241,Liste_Noire!$B$15:$G$1208,1)","v":{"$error":"#N/A"}},{"$f":"VLOOKUP(BP241,Liste_Noire!$B$15:$G$1208,5)","v":{"$error":"#N/A"}},{"$error":"#N/A"},null,0,0,0,0,0,0,1]
[null,""," ","","","","","",{"$f":"IF(ISBLANK(Trait_Etrangers!H242),\"\",Trait_Etrangers!H242)","v":""},{"$f":"IF(ISBLANK(Trait_Etrangers!I242),\"\",Trait_Etrangers!I242)","v":""},{"$f":"IF(ISBLANK(Trait_Etrangers!J242),\"\",Trait_Etrangers!J242)","v":""},{"$f":"IF(ISBLANK(Trait_Etrangers!K242),\"\",Trait_Etrangers!K242)","v":""},{"$f":"IF(ISBLANK(Trait_Etrangers!L242),\"\",Trait_Etrangers!L242)","v":""},{"$f":"IF(ISBLANK(Trait_Etrangers!M242),\"\",Trait_Etrangers!M242)","v":""},{"$f":"IF(ISBLANK(Trait_Etrangers!N242),\"\",Trait_Etrangers!N242)","v":""},{"$f":"IF(ISBLANK(Trait_Etrangers!O242),\"\",Trait_Etrangers!O242)","v":""},{"$f":"IF(ISBLANK(Trait_Etrangers!P242),\"\",Trait_Etrangers!P242)","v":""},null,{"$f":"IF(ISBLANK(Trait_Etrangers!R242),\"\",Trait_Etrangers!R242)","v":""},{"$f":"IF(ISBLANK(Trait_Etrangers!S242),\"\",Trait_Etrangers!S242)","v":""},{"$f":"IF(ISBLANK(Trait_Etrangers!T242),\"\",Trait_Etrangers!T242)","v":""},{"$f":"IF(ISBLANK(Trait_Etrangers!U242),\"\",Trait_Etrangers!U242)","v":""},null,null,null,"","",0,0,0,0,0,0,0,0,0,0,0,0,0,0,0,0,0,null,1,null,null,{"$f":"IF(AX242=\"\",\"\",IF(CE242=1,\"[b][color=red]\"&Datas!$D$32&\"[/color][/b]\"&AX242&\"[b][color=red]\"&Datas!$D$33&\"{\"&CD242&\"}[/color][/b]\",AX242))","v":{"$error":"#N/A"}},{"$error":"#N/A"}," ",{"$f":"IF(ISBLANK(Datas!$C$47),\"\",\" - \"&BG242)","v":{"$error":"#N/A"}},{"$f":"IF(ISBLANK(Datas!$C$48),\"\",\" - \"&BH242)","v":" - "},{"$f":"IF(ISBLANK(Datas!$C$49),\"\",\" - \"&BI242)","v":""},{"$f":"IF(ISBLANK(Datas!$C$50),\"\",\" - \"&BJ242)","v":" - Ecus:"},{"$f":"IF(ISBLANK(Datas!$C$51),\"\",\" - \"&BK242)","v":" - Niv: "},null,{"$error":"#N/A"},{"$error":"#N/A"},"","PR:","Ecus:","Niv: ",null,null,null,null,"",{"$f":"VLOOKUP(BP242,LstVillage!$B$8:$C$283,1)","v":{"$error":"#N/A"}},{"$error":"#N/A"},{"$error":"#N/A"},"",{"$f":"VLOOKUP(BT242,Datas!$G$6:$G$17,1)","v":{"$error":"#N/A"}},{"$error":"#N/A"},{"$error":"#N/A"},null,"",0,0,null,{"$f":"VLOOKUP(BP242,Liste_Noire!$B$15:$G$1208,1)","v":{"$error":"#N/A"}},{"$f":"VLOOKUP(BP242,Liste_Noire!$B$15:$G$1208,5)","v":{"$error":"#N/A"}},{"$error":"#N/A"},null,0,0,0,0,0,0,1]
[null,""," ","","","","","",{"$f":"IF(ISBLANK(Trait_Etrangers!H243),\"\",Trait_Etrangers!H243)","v":""},{"$f":"IF(ISBLANK(Trait_Etrangers!I243),\"\",Trait_Etrangers!I243)","v":""},{"$f":"IF(ISBLANK(Trait_Etrangers!J243),\"\",Trait_Etrangers!J243)","v":""},{"$f":"IF(ISBLANK(Trait_Etrangers!K243),\"\",Trait_Etrangers!K243)","v":""},{"$f":"IF(ISBLANK(Trait_Etrangers!L243),\"\",Trait_Etrangers!L243)","v":""},{"$f":"IF(ISBLANK(Trait_Etrangers!M243),\"\",Trait_Etrangers!M243)","v":""},{"$f":"IF(ISBLANK(Trait_Etrangers!N243),\"\",Trait_Etrangers!N243)","v":""},{"$f":"IF(ISBLANK(Trait_Etrangers!O243),\"\",Trait_Etrangers!O243)","v":""},{"$f":"IF(ISBLANK(Trait_Etrangers!P243),\"\",Trait_Etrangers!P243)","v":""},null,{"$f":"IF(ISBLANK(Trait_Etrangers!R243),\"\",Trait_Etrangers!R243)","v":""},{"$f":"IF(ISBLANK(Trait_Etrangers!S243),\"\",Trait_Etrangers!S243)","v":""},{"$f":"IF(ISBLANK(Trait_Etrangers!T243),\"\",Trait_Etrangers!T243)","v":""},{"$f":"IF(ISBLANK(Trait_Etrangers!U243),\"\",Trait_Etrangers!U243)","v":""},null,null,null,"","",0,0,0,0,0,0,0,0,0,0,0,0,0,0,0,0,0,null,1,null,null,{"$f":"IF(AX243=\"\",\"\",IF(CE243=1,\"[b][color=red]\"&Datas!$D$32&\"[/color][/b]\"&AX243&\"[b][color=red]\"&Datas!$D$33&\"{\"&CD243&\"}[/color][/b]\",AX243))","v":{"$error":"#N/A"}},{"$error":"#N/A"}," ",{"$f":"IF(ISBLANK(Datas!$C$47),\"\",\" - \"&BG243)","v":{"$error":"#N/A"}},{"$f":"IF(ISBLANK(Datas!$C$48),\"\",\" - \"&BH243)","v":" - "},{"$f":"IF(ISBLANK(Datas!$C$49),\"\",\" - \"&BI243)","v":""},{"$f":"IF(ISBLANK(Datas!$C$50),\"\",\" - \"&BJ243)","v":" - Ecus:"},{"$f":"IF(ISBLANK(Datas!$C$51),\"\",\" - \"&BK243)","v":" - Niv: "},null,{"$error":"#N/A"},{"$error":"#N/A"},"","PR:","Ecus:","Niv: ",null,null,null,null,"",{"$f":"VLOOKUP(BP243,LstVillage!$B$8:$C$283,1)","v":{"$error":"#N/A"}},{"$error":"#N/A"},{"$error":"#N/A"},"",{"$f":"VLOOKUP(BT243,Datas!$G$6:$G$17,1)","v":{"$error":"#N/A"}},{"$error":"#N/A"},{"$error":"#N/A"},null,"",0,0,null,{"$f":"VLOOKUP(BP243,Liste_Noire!$B$15:$G$1208,1)","v":{"$error":"#N/A"}},{"$f":"VLOOKUP(BP243,Liste_Noire!$B$15:$G$1208,5)","v":{"$error":"#N/A"}},{"$error":"#N/A"},null,0,0,0,0,0,0,1]
[null,""," ","","","","","",{"$f":"IF(ISBLANK(Trait_Etrangers!H244),\"\",Trait_Etrangers!H244)","v":""},{"$f":"IF(ISBLANK(Trait_Etrangers!I244),\"\",Trait_Etrangers!I244)","v":""},{"$f":"IF(ISBLANK(Trait_Etrangers!J244),\"\",Trait_Etrangers!J244)","v":""},{"$f":"IF(ISBLANK(Trait_Etrangers!K244),\"\",Trait_Etrangers!K244)","v":""},{"$f":"IF(ISBLANK(Trait_Etrangers!L244),\"\",Trait_Etrangers!L244)","v":""},{"$f":"IF(ISBLANK(Trait_Etrangers!M244),\"\",Trait_Etrangers!M244)","v":""},{"$f":"IF(ISBLANK(Trait_Etrangers!N244),\"\",Trait_Etrangers!N244)","v":""},{"$f":"IF(ISBLANK(Trait_Etrangers!O244),\"\",Trait_Etrangers!O244)","v":""},{"$f":"IF(ISBLANK(Trait_Etrangers!P244),\"\",Trait_Etrangers!P244)","v":""},null,{"$f":"IF(ISBLANK(Trait_Etrangers!R244),\"\",Trait_Etrangers!R244)","v":""},{"$f":"IF(ISBLANK(Trait_Etrangers!S244),\"\",Trait_Etrangers!S244)","v":""},{"$f":"IF(ISBLANK(Trait_Etrangers!T244),\"\",Trait_Etrangers!T244)","v":""},{"$f":"IF(ISBLANK(Trait_Etrangers!U244),\"\",Trait_Etrangers!U244)","v":""},null,null,null,"","",0,0,0,0,0,0,0,0,0,0,0,0,0,0,0,0,0,null,1,null,null,{"$f":"IF(AX244=\"\",\"\",IF(CE244=1,\"[b][color=red]\"&Datas!$D$32&\"[/color][/b]\"&AX244&\"[b][color=red]\"&Datas!$D$33&\"{\"&CD244&\"}[/color][/b]\",AX244))","v":{"$error":"#N/A"}},{"$error":"#N/A"}," ",{"$f":"IF(ISBLANK(Datas!$C$47),\"\",\" - \"&BG244)","v":{"$error":"#N/A"}},{"$f":"IF(ISBLANK(Datas!$C$48),\"\",\" - \"&BH244)","v":" - "},{"$f":"IF(ISBLANK(Datas!$C$49),\"\",\" - \"&BI244)","v":""},{"$f":"IF(ISBLANK(Datas!$C$50),\"\",\" - \"&BJ244)","v":" - Ecus:"},{"$f":"IF(ISBLANK(Datas!$C$51),\"\",\" - \"&BK244)","v":" - Niv: "},null,{"$error":"#N/A"},{"$error":"#N/A"},"","PR:","Ecus:","Niv: ",null,null,null,null,"",{"$f":"VLOOKUP(BP244,LstVillage!$B$8:$C$283,1)","v":{"$error":"#N/A"}},{"$error":"#N/A"},{"$error":"#N/A"},"",{"$f":"VLOOKUP(BT244,Datas!$G$6:$G$17,1)","v":{"$error":"#N/A"}},{"$error":"#N/A"},{"$error":"#N/A"},null,"",0,0,null,{"$f":"VLOOKUP(BP244,Liste_Noire!$B$15:$G$1208,1)","v":{"$error":"#N/A"}},{"$f":"VLOOKUP(BP244,Liste_Noire!$B$15:$G$1208,5)","v":{"$error":"#N/A"}},{"$error":"#N/A"},null,0,0,0,0,0,0,1]
[null,""," ","","","","","",{"$f":"IF(ISBLANK(Trait_Etrangers!H245),\"\",Trait_Etrangers!H245)","v":""},{"$f":"IF(ISBLANK(Trait_Etrangers!I245),\"\",Trait_Etrangers!I245)","v":""},{"$f":"IF(ISBLANK(Trait_Etrangers!J245),\"\",Trait_Etrangers!J245)","v":""},{"$f":"IF(ISBLANK(Trait_Etrangers!K245),\"\",Trait_Etrangers!K245)","v":""},{"$f":"IF(ISBLANK(Trait_Etrangers!L245),\"\",Trait_Etrangers!L245)","v":""},{"$f":"IF(ISBLANK(Trait_Etrangers!M245),\"\",Trait_Etrangers!M245)","v":""},{"$f":"IF(ISBLANK(Trait_Etrangers!N245),\"\",Trait_Etrangers!N245)","v":""},{"$f":"IF(ISBLANK(Trait_Etrangers!O245),\"\",Trait_Etrangers!O245)","v":""},{"$f":"IF(ISBLANK(Trait_Etrangers!P245),\"\",Trait_Etrangers!P245)","v":""},null,{"$f":"IF(ISBLANK(Trait_Etrangers!R245),\"\",Trait_Etrangers!R245)","v":""},{"$f":"IF(ISBLANK(Trait_Etrangers!S245),\"\",Trait_Etrangers!S245)","v":""},{"$f":"IF(ISBLANK(Trait_Etrangers!T245),\"\",Trait_Etrangers!T245)","v":""},{"$f":"IF(ISBLANK(Trait_Etrangers!U245),\"\",Trait_Etrangers!U245)","v":""},null,null,null,"","",0,0,0,0,0,0,0,0,0,0,0,0,0,0,0,0,0,null,1,null,null,{"$f":"IF(AX245=\"\",\"\",IF(CE245=1,\"[b][color=red]\"&Datas!$D$32&\"[/color][/b]\"&AX245&\"[b][color=red]\"&Datas!$D$33&\"{\"&CD245&\"}[/color][/b]\",AX245))","v":{"$error":"#N/A"}},{"$error":"#N/A"}," ",{"$f":"IF(ISBLANK(Datas!$C$47),\"\",\" - \"&BG245)","v":{"$error":"#N/A"}},{"$f":"IF(ISBLANK(Datas!$C$48),\"\",\" - \"&BH245)","v":" - "},{"$f":"IF(ISBLANK(Datas!$C$49),\"\",\" - \"&BI245)","v":""},{"$f":"IF(ISBLANK(Datas!$C$50),\"\",\" - \"&BJ245)","v":" - Ecus:"},{"$f":"IF(ISBLANK(Datas!$C$51),\"\",\" - \"&BK245)","v":" - Niv: "},null,{"$error":"#N/A"},{"$error":"#N/A"},"","PR:","Ecus:","Niv: ",null,null,null,null,"",{"$f":"VLOOKUP(BP245,LstVillage!$B$8:$C$283,1)","v":{"$error":"#N/A"}},{"$error":"#N/A"},{"$error":"#N/A"},"",{"$f":"VLOOKUP(BT245,Datas!$G$6:$G$17,1)","v":{"$error":"#N/A"}},{"$error":"#N/A"},{"$error":"#N/A"},null,"",0,0,null,{"$f":"VLOOKUP(BP245,Liste_Noire!$B$15:$G$1208,1)","v":{"$error":"#N/A"}},{"$f":"VLOOKUP(BP245,Liste_Noire!$B$15:$G$1208,5)","v":{"$error":"#N/A"}},{"$error":"#N/A"},null,0,0,0,0,0,0,1]
[null,""," ","","","","","",{"$f":"IF(ISBLANK(Trait_Etrangers!H246),\"\",Trait_Etrangers!H246)","v":""},{"$f":"IF(ISBLANK(Trait_Etrangers!I246),\"\",Trait_Etrangers!I246)","v":""},{"$f":"IF(ISBLANK(Trait_Etrangers!J246),\"\",Trait_Etrangers!J246)","v":""},{"$f":"IF(ISBLANK(Trait_Etrangers!K246),\"\",Trait_Etrangers!K246)","v":""},{"$f":"IF(ISBLANK(Trait_Etrangers!L246),\"\",Trait_Etrangers!L246)","v":""},{"$f":"IF(ISBLANK(Trait_Etrangers!M246),\"\",Trait_Etrangers!M246)","v":""},{"$f":"IF(ISBLANK(Trait_Etrangers!N246),\"\",Trait_Etrangers!N246)","v":""},{"$f":"IF(ISBLANK(Trait_Etrangers!O246),\"\",Trait_Etrangers!O246)","v":""},{"$f":"IF(ISBLANK(Trait_Etrangers!P246),\"\",Trait_Etrangers!P246)","v":""},null,{"$f":"IF(ISBLANK(Trait_Etrangers!R246),\"\",Trait_Etrangers!R246)","v":""},{"$f":"IF(ISBLANK(Trait_Etrangers!S246),\"\",Trait_Etrangers!S246)","v":""},{"$f":"IF(ISBLANK(Trait_Etrangers!T246),\"\",Trait_Etrangers!T246)","v":""},{"$f":"IF(ISBLANK(Trait_Etrangers!U246),\"\",Trait_Etrangers!U246)","v":""},null,null,null,"","",0,0,0,0,0,0,0,0,0,0,0,0,0,0,0,0,0,null,1,null,null,{"$f":"IF(AX246=\"\",\"\",IF(CE246=1,\"[b][color=red]\"&Datas!$D$32&\"[/color][/b]\"&AX246&\"[b][color=red]\"&Datas!$D$33&\"{\"&CD246&\"}[/color][/b]\",AX246))","v":{"$error":"#N/A"}},{"$error":"#N/A"}," ",{"$f":"IF(ISBLANK(Datas!$C$47),\"\",\" - \"&BG246)","v":{"$error":"#N/A"}},{"$f":"IF(ISBLANK(Datas!$C$48),\"\",\" - \"&BH246)","v":" - "},{"$f":"IF(ISBLANK(Datas!$C$49),\"\",\" - \"&BI246)","v":""},{"$f":"IF(ISBLANK(Datas!$C$50),\"\",\" - \"&BJ246)","v":" - Ecus:"},{"$f":"IF(ISBLANK(Datas!$C$51),\"\",\" - \"&BK246)","v":" - Niv: "},null,{"$error":"#N/A"},{"$error":"#N/A"},"","PR:","Ecus:","Niv: ",null,null,null,null,"",{"$f":"VLOOKUP(BP246,LstVillage!$B$8:$C$283,1)","v":{"$error":"#N/A"}},{"$error":"#N/A"},{"$error":"#N/A"},"",{"$f":"VLOOKUP(BT246,Datas!$G$6:$G$17,1)","v":{"$error":"#N/A"}},{"$error":"#N/A"},{"$error":"#N/A"},null,"",0,0,null,{"$f":"VLOOKUP(BP246,Liste_Noire!$B$15:$G$1208,1)","v":{"$error":"#N/A"}},{"$f":"VLOOKUP(BP246,Liste_Noire!$B$15:$G$1208,5)","v":{"$error":"#N/A"}},{"$error":"#N/A"},null,0,0,0,0,0,0,1]
[null,""," ","","","","","",{"$f":"IF(ISBLANK(Trait_Etrangers!H247),\"\",Trait_Etrangers!H247)","v":""},{"$f":"IF(ISBLANK(Trait_Etrangers!I247),\"\",Trait_Etrangers!I247)","v":""},{"$f":"IF(ISBLANK(Trait_Etrangers!J247),\"\",Trait_Etrangers!J247)","v":""},{"$f":"IF(ISBLANK(Trait_Etrangers!K247),\"\",Trait_Etrangers!K247)","v":""},{"$f":"IF(ISBLANK(Trait_Etrangers!L247),\"\",Trait_Etrangers!L247)","v":""},{"$f":"IF(ISBLANK(Trait_Etrangers!M247),\"\",Trait_Etrangers!M247)","v":""},{"$f":"IF(ISBLANK(Trait_Etrangers!N247),\"\",Trait_Etrangers!N247)","v":""},{"$f":"IF(ISBLANK(Trait_Etrangers!O247),\"\",Trait_Etrangers!O247)","v":""},{"$f":"IF(ISBLANK(Trait_Etrangers!P247),\"\",Trait_Etrangers!P247)","v":""},null,{"$f":"IF(ISBLANK(Trait_Etrangers!R247),\"\",Trait_Etrangers!R247)","v":""},{"$f":"IF(ISBLANK(Trait_Etrangers!S247),\"\",Trait_Etrangers!S247)","v":""},{"$f":"IF(ISBLANK(Trait_Etrangers!T247),\"\",Trait_Etrangers!T247)","v":""},{"$f":"IF(ISBLANK(Trait_Etrangers!U247),\"\",Trait_Etrangers!U247)","v":""},null,null,null,"","",0,0,0,0,0,0,0,0,0,0,0,0,0,0,0,0,0,null,1,null,null,{"$f":"IF(AX247=\"\",\"\",IF(CE247=1,\"[b][color=red]\"&Datas!$D$32&\"[/color][/b]\"&AX247&\"[b][color=red]\"&Datas!$D$33&\"{\"&CD247&\"}[/color][/b]\",AX247))","v":{"$error":"#N/A"}},{"$error":"#N/A"}," ",{"$f":"IF(ISBLANK(Datas!$C$47),\"\",\" - \"&BG247)","v":{"$error":"#N/A"}},{"$f":"IF(ISBLANK(Datas!$C$48),\"\",\" - \"&BH247)","v":" - "},{"$f":"IF(ISBLANK(Datas!$C$49),\"\",\" - \"&BI247)","v":""},{"$f":"IF(ISBLANK(Datas!$C$50),\"\",\" - \"&BJ247)","v":" - Ecus:"},{"$f":"IF(ISBLANK(Datas!$C$51),\"\",\" - \"&BK247)","v":" - Niv: "},null,{"$error":"#N/A"},{"$error":"#N/A"},"","PR:","Ecus:","Niv: ",null,null,null,null,"",{"$f":"VLOOKUP(BP247,LstVillage!$B$8:$C$283,1)","v":{"$error":"#N/A"}},{"$error":"#N/A"},{"$error":"#N/A"},"",{"$f":"VLOOKUP(BT247,Datas!$G$6:$G$17,1)","v":{"$error":"#N/A"}},{"$error":"#N/A"},{"$error":"#N/A"},null,"",0,0,null,{"$f":"VLOOKUP(BP247,Liste_Noire!$B$15:$G$1208,1)","v":{"$error":"#N/A"}},{"$f":"VLOOKUP(BP247,Liste_Noire!$B$15:$G$1208,5)","v":{"$error":"#N/A"}},{"$error":"#N/A"},null,0,0,0,0,0,0,1]
[null,""," ","","","","","",{"$f":"IF(ISBLANK(Trait_Etrangers!H248),\"\",Trait_Etrangers!H248)","v":""},{"$f":"IF(ISBLANK(Trait_Etrangers!I248),\"\",Trait_Etrangers!I248)","v":""},{"$f":"IF(ISBLANK(Trait_Etrangers!J248),\"\",Trait_Etrangers!J248)","v":""},{"$f":"IF(ISBLANK(Trait_Etrangers!K248),\"\",Trait_Etrangers!K248)","v":""},{"$f":"IF(ISBLANK(Trait_Etrangers!L248),\"\",Trait_Etrangers!L248)","v":""},{"$f":"IF(ISBLANK(Trait_Etrangers!M248),\"\",Trait_Etrangers!M248)","v":""},{"$f":"IF(ISBLANK(Trait_Etrangers!N248),\"\",Trait_Etrangers!N248)","v":""},{"$f":"IF(ISBLANK(Trait_Etrangers!O248),\"\",Trait_Etrangers!O248)","v":""},{"$f":"IF(ISBLANK(Trait_Etrangers!P248),\"\",Trait_Etrangers!P248)","v":""},null,{"$f":"IF(ISBLANK(Trait_Etrangers!R248),\"\",Trait_Etrangers!R248)","v":""},{"$f":"IF(ISBLANK(Trait_Etrangers!S248),\"\",Trait_Etrangers!S248)","v":""},{"$f":"IF(ISBLANK(Trait_Etrangers!T248),\"\",Trait_Etrangers!T248)","v":""},{"$f":"IF(ISBLANK(Trait_Etrangers!U248),\"\",Trait_Etrangers!U248)","v":""},null,null,null,"","",0,0,0,0,0,0,0,0,0,0,0,0,0,0,0,0,0,null,1,null,null,{"$f":"IF(AX248=\"\",\"\",IF(CE248=1,\"[b][color=red]\"&Datas!$D$32&\"[/color][/b]\"&AX248&\"[b][color=red]\"&Datas!$D$33&\"{\"&CD248&\"}[/color][/b]\",AX248))","v":{"$error":"#N/A"}},{"$error":"#N/A"}," ",{"$f":"IF(ISBLANK(Datas!$C$47),\"\",\" - \"&BG248)","v":{"$error":"#N/A"}},{"$f":"IF(ISBLANK(Datas!$C$48),\"\",\" - \"&BH248)","v":" - "},{"$f":"IF(ISBLANK(Datas!$C$49),\"\",\" - \"&BI248)","v":""},{"$f":"IF(ISBLANK(Datas!$C$50),\"\",\" - \"&BJ248)","v":" - Ecus:"},{"$f":"IF(ISBLANK(Datas!$C$51),\"\",\" - \"&BK248)","v":" - Niv: "},null,{"$error":"#N/A"},{"$error":"#N/A"},"","PR:","Ecus:","Niv: ",null,null,null,null,"",{"$f":"VLOOKUP(BP248,LstVillage!$B$8:$C$283,1)","v":{"$error":"#N/A"}},{"$error":"#N/A"},{"$error":"#N/A"},"",{"$f":"VLOOKUP(BT248,Datas!$G$6:$G$17,1)","v":{"$error":"#N/A"}},{"$error":"#N/A"},{"$error":"#N/A"},null,"",0,0,null,{"$f":"VLOOKUP(BP248,Liste_Noire!$B$15:$G$1208,1)","v":{"$error":"#N/A"}},{"$f":"VLOOKUP(BP248,Liste_Noire!$B$15:$G$1208,5)","v":{"$error":"#N/A"}},{"$error":"#N/A"},null,0,0,0,0,0,0,1]
[null,""," ","","","","","",{"$f":"IF(ISBLANK(Trait_Etrangers!H249),\"\",Trait_Etrangers!H249)","v":""},{"$f":"IF(ISBLANK(Trait_Etrangers!I249),\"\",Trait_Etrangers!I249)","v":""},{"$f":"IF(ISBLANK(Trait_Etrangers!J249),\"\",Trait_Etrangers!J249)","v":""},{"$f":"IF(ISBLANK(Trait_Etrangers!K249),\"\",Trait_Etrangers!K249)","v":""},{"$f":"IF(ISBLANK(Trait_Etrangers!L249),\"\",Trait_Etrangers!L249)","v":""},{"$f":"IF(ISBLANK(Trait_Etrangers!M249),\"\",Trait_Etrangers!M249)","v":""},{"$f":"IF(ISBLANK(Trait_Etrangers!N249),\"\",Trait_Etrangers!N249)","v":""},{"$f":"IF(ISBLANK(Trait_Etrangers!O249),\"\",Trait_Etrangers!O249)","v":""},{"$f":"IF(ISBLANK(Trait_Etrangers!P249),\"\",Trait_Etrangers!P249)","v":""},null,{"$f":"IF(ISBLANK(Trait_Etrangers!R249),\"\",Trait_Etrangers!R249)","v":""},{"$f":"IF(ISBLANK(Trait_Etrangers!S249),\"\",Trait_Etrangers!S249)","v":""},{"$f":"IF(ISBLANK(Trait_Etrangers!T249),\"\",Trait_Etrangers!T249)","v":""},{"$f":"IF(ISBLANK(Trait_Etrangers!U249),\"\",Trait_Etrangers!U249)","v":""},null,null,null,"","",0,0,0,0,0,0,0,0,0,0,0,0,0,0,0,0,0,null,1,null,null,{"$f":"IF(AX249=\"\",\"\",IF(CE249=1,\"[b][color=red]\"&Datas!$D$32&\"[/color][/b]\"&AX249&\"[b][color=red]\"&Datas!$D$33&\"{\"&CD249&\"}[/color][/b]\",AX249))","v":{"$error":"#N/A"}},{"$error":"#N/A"}," ",{"$f":"IF(ISBLANK(Datas!$C$47),\"\",\" - \"&BG249)","v":{"$error":"#N/A"}},{"$f":"IF(ISBLANK(Datas!$C$48),\"\",\" - \"&BH249)","v":" - "},{"$f":"IF(ISBLANK(Datas!$C$49),\"\",\" - \"&BI249)","v":""},{"$f":"IF(ISBLANK(Datas!$C$50),\"\",\" - \"&BJ249)","v":" - Ecus:"},{"$f":"IF(ISBLANK(Datas!$C$51),\"\",\" - \"&BK249)","v":" - Niv: "},null,{"$error":"#N/A"},{"$error":"#N/A"},"","PR:","Ecus:","Niv: ",null,null,null,null,"",{"$f":"VLOOKUP(BP249,LstVillage!$B$8:$C$283,1)","v":{"$error":"#N/A"}},{"$error":"#N/A"},{"$error":"#N/A"},"",{"$f":"VLOOKUP(BT249,Datas!$G$6:$G$17,1)","v":{"$error":"#N/A"}},{"$error":"#N/A"},{"$error":"#N/A"},null,"",0,0,null,{"$f":"VLOOKUP(BP249,Liste_Noire!$B$15:$G$1208,1)","v":{"$error":"#N/A"}},{"$f":"VLOOKUP(BP249,Liste_Noire!$B$15:$G$1208,5)","v":{"$error":"#N/A"}},{"$error":"#N/A"},null,0,0,0,0,0,0,1]
[null,""," ","","","","","",{"$f":"IF(ISBLANK(Trait_Etrangers!H250),\"\",Trait_Etrangers!H250)","v":""},{"$f":"IF(ISBLANK(Trait_Etrangers!I250),\"\",Trait_Etrangers!I250)","v":""},{"$f":"IF(ISBLANK(Trait_Etrangers!J250),\"\",Trait_Etrangers!J250)","v":""},{"$f":"IF(ISBLANK(Trait_Etrangers!K250),\"\",Trait_Etrangers!K250)","v":""},{"$f":"IF(ISBLANK(Trait_Etrangers!L250),\"\",Trait_Etrangers!L250)","v":""},{"$f":"IF(ISBLANK(Trait_Etrangers!M250),\"\",Trait_Etrangers!M250)","v":""},{"$f":"IF(ISBLANK(Trait_Etrangers!N250),\"\",Trait_Etrangers!N250)","v":""},{"$f":"IF(ISBLANK(Trait_Etrangers!O250),\"\",Trait_Etrangers!O250)","v":""},{"$f":"IF(ISBLANK(Trait_Etrangers!P250),\"\",Trait_Etrangers!P250)","v":""},null,{"$f":"IF(ISBLANK(Trait_Etrangers!R250),\"\",Trait_Etrangers!R250)","v":""},{"$f":"IF(ISBLANK(Trait_Etrangers!S250),\"\",Trait_Etrangers!S250)","v":""},{"$f":"IF(ISBLANK(Trait_Etrangers!T250),\"\",Trait_Etrangers!T250)","v":""},{"$f":"IF(ISBLANK(Trait_Etrangers!U250),\"\",Trait_Etrangers!U250)","v":""},null,null,null,"","",0,0,0,0,0,0,0,0,0,0,0,0,0,0,0,0,0,null,1,null,null,{"$f":"IF(AX250=\"\",\"\",IF(CE250=1,\"[b][color=red]\"&Datas!$D$32&\"[/color][/b]\"&AX250&\"[b][color=red]\"&Datas!$D$33&\"{\"&CD250&\"}[/color][/b]\",AX250))","v":{"$error":"#N/A"}},{"$error":"#N/A"}," ",{"$f":"IF(ISBLANK(Datas!$C$47),\"\",\" - \"&BG250)","v":{"$error":"#N/A"}},{"$f":"IF(ISBLANK(Datas!$C$48),\"\",\" - \"&BH250)","v":" - "},{"$f":"IF(ISBLANK(Datas!$C$49),\"\",\" - \"&BI250)","v":""},{"$f":"IF(ISBLANK(Datas!$C$50),\"\",\" - \"&BJ250)","v":" - Ecus:"},{"$f":"IF(ISBLANK(Datas!$C$51),\"\",\" - \"&BK250)","v":" - Niv: "},null,{"$error":"#N/A"},{"$error":"#N/A"},"","PR:","Ecus:","Niv: ",null,null,null,null,"",{"$f":"VLOOKUP(BP250,LstVillage!$B$8:$C$283,1)","v":{"$error":"#N/A"}},{"$error":"#N/A"},{"$error":"#N/A"},"",{"$f":"VLOOKUP(BT250,Datas!$G$6:$G$17,1)","v":{"$error":"#N/A"}},{"$error":"#N/A"},{"$error":"#N/A"},null,"",0,0,null,{"$f":"VLOOKUP(BP250,Liste_Noire!$B$15:$G$1208,1)","v":{"$error":"#N/A"}},{"$f":"VLOOKUP(BP250,Liste_Noire!$B$15:$G$1208,5)","v":{"$error":"#N/A"}},{"$error":"#N/A"},null,0,0,0,0,0,0,1]
[null,""," ","","","","","",{"$f":"IF(ISBLANK(Trait_Etrangers!H251),\"\",Trait_Etrangers!H251)","v":""},{"$f":"IF(ISBLANK(Trait_Etrangers!I251),\"\",Trait_Etrangers!I251)","v":""},{"$f":"IF(ISBLANK(Trait_Etrangers!J251),\"\",Trait_Etrangers!J251)","v":""},{"$f":"IF(ISBLANK(Trait_Etrangers!K251),\"\",Trait_Etrangers!K251)","v":""},{"$f":"IF(ISBLANK(Trait_Etrangers!L251),\"\",Trait_Etrangers!L251)","v":""},{"$f":"IF(ISBLANK(Trait_Etrangers!M251),\"\",Trait_Etrangers!M251)","v":""},{"$f":"IF(ISBLANK(Trait_Etrangers!N251),\"\",Trait_Etrangers!N251)","v":""},{"$f":"IF(ISBLANK(Trait_Etrangers!O251),\"\",Trait_Etrangers!O251)","v":""},{"$f":"IF(ISBLANK(Trait_Etrangers!P251),\"\",Trait_Etrangers!P251)","v":""},null,{"$f":"IF(ISBLANK(Trait_Etrangers!R251),\"\",Trait_Etrangers!R251)","v":""},{"$f":"IF(ISBLANK(Trait_Etrangers!S251),\"\",Trait_Etrangers!S251)","v":""},{"$f":"IF(ISBLANK(Trait_Etrangers!T251),\"\",Trait_Etrangers!T251)","v":""},{"$f":"IF(ISBLANK(Trait_Etrangers!U251),\"\",Trait_Etrangers!U251)","v":""},null,null,null,"","",0,0,0,0,0,0,0,0,0,0,0,0,0,0,0,0,0,null,1,null,null,{"$f":"IF(AX251=\"\",\"\",IF(CE251=1,\"[b][color=red]\"&Datas!$D$32&\"[/color][/b]\"&AX251&\"[b][color=red]\"&Datas!$D$33&\"{\"&CD251&\"}[/color][/b]\",AX251))","v":{"$error":"#N/A"}},{"$error":"#N/A"}," ",{"$f":"IF(ISBLANK(Datas!$C$47),\"\",\" - \"&BG251)","v":{"$error":"#N/A"}},{"$f":"IF(ISBLANK(Datas!$C$48),\"\",\" - \"&BH251)","v":" - "},{"$f":"IF(ISBLANK(Datas!$C$49),\"\",\" - \"&BI251)","v":""},{"$f":"IF(ISBLANK(Datas!$C$50),\"\",\" - \"&BJ251)","v":" - Ecus:"},{"$f":"IF(ISBLANK(Datas!$C$51),\"\",\" - \"&BK251)","v":" - Niv: "},null,{"$error":"#N/A"},{"$error":"#N/A"},"","PR:","Ecus:","Niv: ",null,null,null,null,"",{"$f":"VLOOKUP(BP251,LstVillage!$B$8:$C$283,1)","v":{"$error":"#N/A"}},{"$error":"#N/A"},{"$error":"#N/A"},"",{"$f":"VLOOKUP(BT251,Datas!$G$6:$G$17,1)","v":{"$error":"#N/A"}},{"$error":"#N/A"},{"$error":"#N/A"},null,"",0,0,null,{"$f":"VLOOKUP(BP251,Liste_Noire!$B$15:$G$1208,1)","v":{"$error":"#N/A"}},{"$f":"VLOOKUP(BP251,Liste_Noire!$B$15:$G$1208,5)","v":{"$error":"#N/A"}},{"$error":"#N/A"},null,0,0,0,0,0,0,1]
[null,""," ","","","","","",{"$f":"IF(ISBLANK(Trait_Etrangers!H252),\"\",Trait_Etrangers!H252)","v":""},{"$f":"IF(ISBLANK(Trait_Etrangers!I252),\"\",Trait_Etrangers!I252)","v":""},{"$f":"IF(ISBLANK(Trait_Etrangers!J252),\"\",Trait_Etrangers!J252)","v":""},{"$f":"IF(ISBLANK(Trait_Etrangers!K252),\"\",Trait_Etrangers!K252)","v":""},{"$f":"IF(ISBLANK(Trait_Etrangers!L252),\"\",Trait_Etrangers!L252)","v":""},{"$f":"IF(ISBLANK(Trait_Etrangers!M252),\"\",Trait_Etrangers!M252)","v":""},{"$f":"IF(ISBLANK(Trait_Etrangers!N252),\"\",Trait_Etrangers!N252)","v":""},{"$f":"IF(ISBLANK(Trait_Etrangers!O252),\"\",Trait_Etrangers!O252)","v":""},{"$f":"IF(ISBLANK(Trait_Etrangers!P252),\"\",Trait_Etrangers!P252)","v":""},null,{"$f":"IF(ISBLANK(Trait_Etrangers!R252),\"\",Trait_Etrangers!R252)","v":""},{"$f":"IF(ISBLANK(Trait_Etrangers!S252),\"\",Trait_Etrangers!S252)","v":""},{"$f":"IF(ISBLANK(Trait_Etrangers!T252),\"\",Trait_Etrangers!T252)","v":""},{"$f":"IF(ISBLANK(Trait_Etrangers!U252),\"\",Trait_Etrangers!U252)","v":""},null,null,null,"","",0,0,0,0,0,0,0,0,0,0,0,0,0,0,0,0,0,null,1,null,null,{"$f":"IF(AX252=\"\",\"\",IF(CE252=1,\"[b][color=red]\"&Datas!$D$32&\"[/color][/b]\"&AX252&\"[b][color=red]\"&Datas!$D$33&\"{\"&CD252&\"}[/color][/b]\",AX252))","v":{"$error":"#N/A"}},{"$error":"#N/A"}," ",{"$f":"IF(ISBLANK(Datas!$C$47),\"\",\" - \"&BG252)","v":{"$error":"#N/A"}},{"$f":"IF(ISBLANK(Datas!$C$48),\"\",\" - \"&BH252)","v":" - "},{"$f":"IF(ISBLANK(Datas!$C$49),\"\",\" - \"&BI252)","v":""},{"$f":"IF(ISBLANK(Datas!$C$50),\"\",\" - \"&BJ252)","v":" - Ecus:"},{"$f":"IF(ISBLANK(Datas!$C$51),\"\",\" - \"&BK252)","v":" - Niv: "},null,{"$error":"#N/A"},{"$error":"#N/A"},"","PR:","Ecus:","Niv: ",null,null,null,null,"",{"$f":"VLOOKUP(BP252,LstVillage!$B$8:$C$283,1)","v":{"$error":"#N/A"}},{"$error":"#N/A"},{"$error":"#N/A"},"",{"$f":"VLOOKUP(BT252,Datas!$G$6:$G$17,1)","v":{"$error":"#N/A"}},{"$error":"#N/A"},{"$error":"#N/A"},null,"",0,0,null,{"$f":"VLOOKUP(BP252,Liste_Noire!$B$15:$G$1208,1)","v":{"$error":"#N/A"}},{"$f":"VLOOKUP(BP252,Liste_Noire!$B$15:$G$1208,5)","v":{"$error":"#N/A"}},{"$error":"#N/A"},null,0,0,0,0,0,0,1]
[null,""," ","","","","","",{"$f":"IF(ISBLANK(Trait_Etrangers!H253),\"\",Trait_Etrangers!H253)","v":""},{"$f":"IF(ISBLANK(Trait_Etrangers!I253),\"\",Trait_Etrangers!I253)","v":""},{"$f":"IF(ISBLANK(Trait_Etrangers!J253),\"\",Trait_Etrangers!J253)","v":""},{"$f":"IF(ISBLANK(Trait_Etrangers!K253),\"\",Trait_Etrangers!K253)","v":""},{"$f":"IF(ISBLANK(Trait_Etrangers!L253),\"\",Trait_Etrangers!L253)","v":""},{"$f":"IF(ISBLANK(Trait_Etrangers!M253),\"\",Trait_Etrangers!M253)","v":""},{"$f":"IF(ISBLANK(Trait_Etrangers!N253),\"\",Trait_Etrangers!N253)","v":""},{"$f":"IF(ISBLANK(Trait_Etrangers!O253),\"\",Trait_Etrangers!O253)","v":""},{"$f":"IF(ISBLANK(Trait_Etrangers!P253),\"\",Trait_Etrangers!P253)","v":""},null,{"$f":"IF(ISBLANK(Trait_Etrangers!R253),\"\",Trait_Etrangers!R253)","v":""},{"$f":"IF(ISBLANK(Trait_Etrangers!S253),\"\",Trait_Etrangers!S253)","v":""},{"$f":"IF(ISBLANK(Trait_Etrangers!T253),\"\",Trait_Etrangers!T253)","v":""},{"$f":"IF(ISBLANK(Trait_Etrangers!U253),\"\",Trait_Etrangers!U253)","v":""},null,null,null,"","",0,0,0,0,0,0,0,0,0,0,0,0,0,0,0,0,0,null,1,null,null,{"$f":"IF(AX253=\"\",\"\",IF(CE253=1,\"[b][color=red]\"&Datas!$D$32&\"[/color][/b]\"&AX253&\"[b][color=red]\"&Datas!$D$33&\"{\"&CD253&\"}[/color][/b]\",AX253))","v":{"$error":"#N/A"}},{"$error":"#N/A"}," ",{"$f":"IF(ISBLANK(Datas!$C$47),\"\",\" - \"&BG253)","v":{"$error":"#N/A"}},{"$f":"IF(ISBLANK(Datas!$C$48),\"\",\" - \"&BH253)","v":" - "},{"$f":"IF(ISBLANK(Datas!$C$49),\"\",\" - \"&BI253)","v":""},{"$f":"IF(ISBLANK(Datas!$C$50),\"\",\" - \"&BJ253)","v":" - Ecus:"},{"$f":"IF(ISBLANK(Datas!$C$51),\"\",\" - \"&BK253)","v":" - Niv: "},null,{"$error":"#N/A"},{"$error":"#N/A"},"","PR:","Ecus:","Niv: ",null,null,null,null,"",{"$f":"VLOOKUP(BP253,LstVillage!$B$8:$C$283,1)","v":{"$error":"#N/A"}},{"$error":"#N/A"},{"$error":"#N/A"},"",{"$f":"VLOOKUP(BT253,Datas!$G$6:$G$17,1)","v":{"$error":"#N/A"}},{"$error":"#N/A"},{"$error":"#N/A"},null,"",0,0,null,{"$f":"VLOOKUP(BP253,Liste_Noire!$B$15:$G$1208,1)","v":{"$error":"#N/A"}},{"$f":"VLOOKUP(BP253,Liste_Noire!$B$15:$G$1208,5)","v":{"$error":"#N/A"}},{"$error":"#N/A"},null,0,0,0,0,0,0,1]
[null,""," ","","","","","",{"$f":"IF(ISBLANK(Trait_Etrangers!H254),\"\",Trait_Etrangers!H254)","v":""},{"$f":"IF(ISBLANK(Trait_Etrangers!I254),\"\",Trait_Etrangers!I254)","v":""},{"$f":"IF(ISBLANK(Trait_Etrangers!J254),\"\",Trait_Etrangers!J254)","v":""},{"$f":"IF(ISBLANK(Trait_Etrangers!K254),\"\",Trait_Etrangers!K254)","v":""},{"$f":"IF(ISBLANK(Trait_Etrangers!L254),\"\",Trait_Etrangers!L254)","v":""},{"$f":"IF(ISBLANK(Trait_Etrangers!M254),\"\",Trait_Etrangers!M254)","v":""},{"$f":"IF(ISBLANK(Trait_Etrangers!N254),\"\",Trait_Etrangers!N254)","v":""},{"$f":"IF(ISBLANK(Trait_Etrangers!O254),\"\",Trait_Etrangers!O254)","v":""},{"$f":"IF(ISBLANK(Trait_Etrangers!P254),\"\",Trait_Etrangers!P254)","v":""},null,{"$f":"IF(ISBLANK(Trait_Etrangers!R254),\"\",Trait_Etrangers!R254)","v":""},{"$f":"IF(ISBLANK(Trait_Etrangers!S254),\"\",Trait_Etrangers!S254)","v":""},{"$f":"IF(ISBLANK(Trait_Etrangers!T254),\"\",Trait_Etrangers!T254)","v":""},{"$f":"IF(ISBLANK(Trait_Etrangers!U254),\"\",Trait_Etrangers!U254)","v":""},null,null,null,"","",0,0,0,0,0,0,0,0,0,0,0,0,0,0,0,0,0,null,1,null,null,{"$f":"IF(AX254=\"\",\"\",IF(CE254=1,\"[b][color=red]\"&Datas!$D$32&\"[/color][/b]\"&AX254&\"[b][color=red]\"&Datas!$D$33&\"{\"&CD254&\"}[/color][/b]\",AX254))","v":{"$error":"#N/A"}},{"$error":"#N/A"}," ",{"$f":"IF(ISBLANK(Datas!$C$47),\"\",\" - \"&BG254)","v":{"$error":"#N/A"}},{"$f":"IF(ISBLANK(Datas!$C$48),\"\",\" - \"&BH254)","v":" - "},{"$f":"IF(ISBLANK(Datas!$C$49),\"\",\" - \"&BI254)","v":""},{"$f":"IF(ISBLANK(Datas!$C$50),\"\",\" - \"&BJ254)","v":" - Ecus:"},{"$f":"IF(ISBLANK(Datas!$C$51),\"\",\" - \"&BK254)","v":" - Niv: "},null,{"$error":"#N/A"},{"$error":"#N/A"},"","PR:","Ecus:","Niv: ",null,null,null,null,"",{"$f":"VLOOKUP(BP254,LstVillage!$B$8:$C$283,1)","v":{"$error":"#N/A"}},{"$error":"#N/A"},{"$error":"#N/A"},"",{"$f":"VLOOKUP(BT254,Datas!$G$6:$G$17,1)","v":{"$error":"#N/A"}},{"$error":"#N/A"},{"$error":"#N/A"},null,"",0,0,null,{"$f":"VLOOKUP(BP254,Liste_Noire!$B$15:$G$1208,1)","v":{"$error":"#N/A"}},{"$f":"VLOOKUP(BP254,Liste_Noire!$B$15:$G$1208,5)","v":{"$error":"#N/A"}},{"$error":"#N/A"},null,0,0,0,0,0,0,1]
[null,""," ","","","","","",{"$f":"IF(ISBLANK(Trait_Etrangers!H255),\"\",Trait_Etrangers!H255)","v":""},{"$f":"IF(ISBLANK(Trait_Etrangers!I255),\"\",Trait_Etrangers!I255)","v":""},{"$f":"IF(ISBLANK(Trait_Etrangers!J255),\"\",Trait_Etrangers!J255)","v":""},{"$f":"IF(ISBLANK(Trait_Etrangers!K255),\"\",Trait_Etrangers!K255)","v":""},{"$f":"IF(ISBLANK(Trait_Etrangers!L255),\"\",Trait_Etrangers!L255)","v":""},{"$f":"IF(ISBLANK(Trait_Etrangers!M255),\"\",Trait_Etrangers!M255)","v":""},{"$f":"IF(ISBLANK(Trait_Etrangers!N255),\"\",Trait_Etrangers!N255)","v":""},{"$f":"IF(ISBLANK(Trait_Etrangers!O255),\"\",Trait_Etrangers!O255)","v":""},{"$f":"IF(ISBLANK(Trait_Etrangers!P255),\"\",Trait_Etrangers!P255)","v":""},null,{"$f":"IF(ISBLANK(Trait_Etrangers!R255),\"\",Trait_Etrangers!R255)","v":""},{"$f":"IF(ISBLANK(Trait_Etrangers!S255),\"\",Trait_Etrangers!S255)","v":""},{"$f":"IF(ISBLANK(Trait_Etrangers!T255),\"\",Trait_Etrangers!T255)","v":""},{"$f":"IF(ISBLANK(Trait_Etrangers!U255),\"\",Trait_Etrangers!U255)","v":""},null,null,null,"","",0,0,0,0,0,0,0,0,0,0,0,0,0,0,0,0,0,null,1,null,null,{"$f":"IF(AX255=\"\",\"\",IF(CE255=1,\"[b][color=red]\"&Datas!$D$32&\"[/color][/b]\"&AX255&\"[b][color=red]\"&Datas!$D$33&\"{\"&CD255&\"}[/color][/b]\",AX255))","v":{"$error":"#N/A"}},{"$error":"#N/A"}," ",{"$f":"IF(ISBLANK(Datas!$C$47),\"\",\" - \"&BG255)","v":{"$error":"#N/A"}},{"$f":"IF(ISBLANK(Datas!$C$48),\"\",\" - \"&BH255)","v":" - "},{"$f":"IF(ISBLANK(Datas!$C$49),\"\",\" - \"&BI255)","v":""},{"$f":"IF(ISBLANK(Datas!$C$50),\"\",\" - \"&BJ255)","v":" - Ecus:"},{"$f":"IF(ISBLANK(Datas!$C$51),\"\",\" - \"&BK255)","v":" - Niv: "},null,{"$error":"#N/A"},{"$error":"#N/A"},"","PR:","Ecus:","Niv: ",null,null,null,null,"",{"$f":"VLOOKUP(BP255,LstVillage!$B$8:$C$283,1)","v":{"$error":"#N/A"}},{"$error":"#N/A"},{"$error":"#N/A"},"",{"$f":"VLOOKUP(BT255,Datas!$G$6:$G$17,1)","v":{"$error":"#N/A"}},{"$error":"#N/A"},{"$error":"#N/A"},null,"",0,0,null,{"$f":"VLOOKUP(BP255,Liste_Noire!$B$15:$G$1208,1)","v":{"$error":"#N/A"}},{"$f":"VLOOKUP(BP255,Liste_Noire!$B$15:$G$1208,5)","v":{"$error":"#N/A"}},{"$error":"#N/A"},null,0,0,0,0,0,0,1]
[null,""," ","","","","","",{"$f":"IF(ISBLANK(Trait_Etrangers!H256),\"\",Trait_Etrangers!H256)","v":""},{"$f":"IF(ISBLANK(Trait_Etrangers!I256),\"\",Trait_Etrangers!I256)","v":""},{"$f":"IF(ISBLANK(Trait_Etrangers!J256),\"\",Trait_Etrangers!J256)","v":""},{"$f":"IF(ISBLANK(Trait_Etrangers!K256),\"\",Trait_Etrangers!K256)","v":""},{"$f":"IF(ISBLANK(Trait_Etrangers!L256),\"\",Trait_Etrangers!L256)","v":""},{"$f":"IF(ISBLANK(Trait_Etrangers!M256),\"\",Trait_Etrangers!M256)","v":""},{"$f":"IF(ISBLANK(Trait_Etrangers!N256),\"\",Trait_Etrangers!N256)","v":""},{"$f":"IF(ISBLANK(Trait_Etrangers!O256),\"\",Trait_Etrangers!O256)","v":""},{"$f":"IF(ISBLANK(Trait_Etrangers!P256),\"\",Trait_Etrangers!P256)","v":""},null,{"$f":"IF(ISBLANK(Trait_Etrangers!R256),\"\",Trait_Etrangers!R256)","v":""},{"$f":"IF(ISBLANK(Trait_Etrangers!S256),\"\",Trait_Etrangers!S256)","v":""},{"$f":"IF(ISBLANK(Trait_Etrangers!T256),\"\",Trait_Etrangers!T256)","v":""},{"$f":"IF(ISBLANK(Trait_Etrangers!U256),\"\",Trait_Etrangers!U256)","v":""},null,null,null,"","",0,0,0,0,0,0,0,0,0,0,0,0,0,0,0,0,0,null,1,null,null,{"$f":"IF(AX256=\"\",\"\",IF(CE256=1,\"[b][color=red]\"&Datas!$D$32&\"[/color][/b]\"&AX256&\"[b][color=red]\"&Datas!$D$33&\"{\"&CD256&\"}[/color][/b]\",AX256))","v":{"$error":"#N/A"}},{"$error":"#N/A"}," ",{"$f":"IF(ISBLANK(Datas!$C$47),\"\",\" - \"&BG256)","v":{"$error":"#N/A"}},{"$f":"IF(ISBLANK(Datas!$C$48),\"\",\" - \"&BH256)","v":" - "},{"$f":"IF(ISBLANK(Datas!$C$49),\"\",\" - \"&BI256)","v":""},{"$f":"IF(ISBLANK(Datas!$C$50),\"\",\" - \"&BJ256)","v":" - Ecus:"},{"$f":"IF(ISBLANK(Datas!$C$51),\"\",\" - \"&BK256)","v":" - Niv: "},null,{"$error":"#N/A"},{"$error":"#N/A"},"","PR:","Ecus:","Niv: ",null,null,null,null,"",{"$f":"VLOOKUP(BP256,LstVillage!$B$8:$C$283,1)","v":{"$error":"#N/A"}},{"$error":"#N/A"},{"$error":"#N/A"},"",{"$f":"VLOOKUP(BT256,Datas!$G$6:$G$17,1)","v":{"$error":"#N/A"}},{"$error":"#N/A"},{"$error":"#N/A"},null,"",0,0,null,{"$f":"VLOOKUP(BP256,Liste_Noire!$B$15:$G$1208,1)","v":{"$error":"#N/A"}},{"$f":"VLOOKUP(BP256,Liste_Noire!$B$15:$G$1208,5)","v":{"$error":"#N/A"}},{"$error":"#N/A"},null,0,0,0,0,0,0,1]
[null,""," ","","","","","",{"$f":"IF(ISBLANK(Trait_Etrangers!H257),\"\",Trait_Etrangers!H257)","v":""},{"$f":"IF(ISBLANK(Trait_Etrangers!I257),\"\",Trait_Etrangers!I257)","v":""},{"$f":"IF(ISBLANK(Trait_Etrangers!J257),\"\",Trait_Etrangers!J257)","v":""},{"$f":"IF(ISBLANK(Trait_Etrangers!K257),\"\",Trait_Etrangers!K257)","v":""},{"$f":"IF(ISBLANK(Trait_Etrangers!L257),\"\",Trait_Etrangers!L257)","v":""},{"$f":"IF(ISBLANK(Trait_Etrangers!M257),\"\",Trait_Etrangers!M257)","v":""},{"$f":"IF(ISBLANK(Trait_Etrangers!N257),\"\",Trait_Etrangers!N257)","v":""},{"$f":"IF(ISBLANK(Trait_Etrangers!O257),\"\",Trait_Etrangers!O257)","v":""},{"$f":"IF(ISBLANK(Trait_Etrangers!P257),\"\",Trait_Etrangers!P257)","v":""},null,{"$f":"IF(ISBLANK(Trait_Etrangers!R257),\"\",Trait_Etrangers!R257)","v":""},{"$f":"IF(ISBLANK(Trait_Etrangers!S257),\"\",Trait_Etrangers!S257)","v":""},{"$f":"IF(ISBLANK(Trait_Etrangers!T257),\"\",Trait_Etrangers!T257)","v":""},{"$f":"IF(ISBLANK(Trait_Etrangers!U257),\"\",Trait_Etrangers!U257)","v":""},null,null,null,"","",0,0,0,0,0,0,0,0,0,0,0,0,0,0,0,0,0,null,1,null,null,{"$f":"IF(AX257=\"\",\"\",IF(CE257=1,\"[b][color=red]\"&Datas!$D$32&\"[/color][/b]\"&AX257&\"[b][color=red]\"&Datas!$D$33&\"{\"&CD257&\"}[/color][/b]\",AX257))","v":{"$error":"#N/A"}},{"$error":"#N/A"}," ",{"$f":"IF(ISBLANK(Datas!$C$47),\"\",\" - \"&BG257)","v":{"$error":"#N/A"}},{"$f":"IF(ISBLANK(Datas!$C$48),\"\",\" - \"&BH257)","v":" - "},{"$f":"IF(ISBLANK(Datas!$C$49),\"\",\" - \"&BI257)","v":""},{"$f":"IF(ISBLANK(Datas!$C$50),\"\",\" - \"&BJ257)","v":" - Ecus:"},{"$f":"IF(ISBLANK(Datas!$C$51),\"\",\" - \"&BK257)","v":" - Niv: "},null,{"$error":"#N/A"},{"$error":"#N/A"},"","PR:","Ecus:","Niv: ",null,null,null,null,"",{"$f":"VLOOKUP(BP257,LstVillage!$B$8:$C$283,1)","v":{"$error":"#N/A"}},{"$error":"#N/A"},{"$error":"#N/A"},"",{"$f":"VLOOKUP(BT257,Datas!$G$6:$G$17,1)","v":{"$error":"#N/A"}},{"$error":"#N/A"},{"$error":"#N/A"},null,"",0,0,null,{"$f":"VLOOKUP(BP257,Liste_Noire!$B$15:$G$1208,1)","v":{"$error":"#N/A"}},{"$f":"VLOOKUP(BP257,Liste_Noire!$B$15:$G$1208,5)","v":{"$error":"#N/A"}},{"$error":"#N/A"},null,0,0,0,0,0,0,1]
[null,""," ","","","","","",{"$f":"IF(ISBLANK(Trait_Etrangers!H258),\"\",Trait_Etrangers!H258)","v":""},{"$f":"IF(ISBLANK(Trait_Etrangers!I258),\"\",Trait_Etrangers!I258)","v":""},{"$f":"IF(ISBLANK(Trait_Etrangers!J258),\"\",Trait_Etrangers!J258)","v":""},{"$f":"IF(ISBLANK(Trait_Etrangers!K258),\"\",Trait_Etrangers!K258)","v":""},{"$f":"IF(ISBLANK(Trait_Etrangers!L258),\"\",Trait_Etrangers!L258)","v":""},{"$f":"IF(ISBLANK(Trait_Etrangers!M258),\"\",Trait_Etrangers!M258)","v":""},{"$f":"IF(ISBLANK(Trait_Etrangers!N258),\"\",Trait_Etrangers!N258)","v":""},{"$f":"IF(ISBLANK(Trait_Etrangers!O258),\"\",Trait_Etrangers!O258)","v":""},{"$f":"IF(ISBLANK(Trait_Etrangers!P258),\"\",Trait_Etrangers!P258)","v":""},null,{"$f":"IF(ISBLANK(Trait_Etrangers!R258),\"\",Trait_Etrangers!R258)","v":""},{"$f":"IF(ISBLANK(Trait_Etrangers!S258),\"\",Trait_Etrangers!S258)","v":""},{"$f":"IF(ISBLANK(Trait_Etrangers!T258),\"\",Trait_Etrangers!T258)","v":""},{"$f":"IF(ISBLANK(Trait_Etrangers!U258),\"\",Trait_Etrangers!U258)","v":""},null,null,null,"","",0,0,0,0,0,0,0,0,0,0,0,0,0,0,0,0,0,null,1,null,null,{"$f":"IF(AX258=\"\",\"\",IF(CE258=1,\"[b][color=red]\"&Datas!$D$32&\"[/color][/b]\"&AX258&\"[b][color=red]\"&Datas!$D$33&\"{\"&CD258&\"}[/color][/b]\",AX258))","v":{"$error":"#N/A"}},{"$error":"#N/A"}," ",{"$f":"IF(ISBLANK(Datas!$C$47),\"\",\" - \"&BG258)","v":{"$error":"#N/A"}},{"$f":"IF(ISBLANK(Datas!$C$48),\"\",\" - \"&BH258)","v":" - "},{"$f":"IF(ISBLANK(Datas!$C$49),\"\",\" - \"&BI258)","v":""},{"$f":"IF(ISBLANK(Datas!$C$50),\"\",\" - \"&BJ258)","v":" - Ecus:"},{"$f":"IF(ISBLANK(Datas!$C$51),\"\",\" - \"&BK258)","v":" - Niv: "},null,{"$error":"#N/A"},{"$error":"#N/A"},"","PR:","Ecus:","Niv: ",null,null,null,null,"",{"$f":"VLOOKUP(BP258,LstVillage!$B$8:$C$283,1)","v":{"$error":"#N/A"}},{"$error":"#N/A"},{"$error":"#N/A"},"",{"$f":"VLOOKUP(BT258,Datas!$G$6:$G$17,1)","v":{"$error":"#N/A"}},{"$error":"#N/A"},{"$error":"#N/A"},null,"",0,0,null,{"$f":"VLOOKUP(BP258,Liste_Noire!$B$15:$G$1208,1)","v":{"$error":"#N/A"}},{"$f":"VLOOKUP(BP258,Liste_Noire!$B$15:$G$1208,5)","v":{"$error":"#N/A"}},{"$error":"#N/A"},null,0,0,0,0,0,0,1]
[null,""," ","","","","","",{"$f":"IF(ISBLANK(Trait_Etrangers!H259),\"\",Trait_Etrangers!H259)","v":""},{"$f":"IF(ISBLANK(Trait_Etrangers!I259),\"\",Trait_Etrangers!I259)","v":""},{"$f":"IF(ISBLANK(Trait_Etrangers!J259),\"\",Trait_Etrangers!J259)","v":""},{"$f":"IF(ISBLANK(Trait_Etrangers!K259),\"\",Trait_Etrangers!K259)","v":""},{"$f":"IF(ISBLANK(Trait_Etrangers!L259),\"\",Trait_Etrangers!L259)","v":""},{"$f":"IF(ISBLANK(Trait_Etrangers!M259),\"\",Trait_Etrangers!M259)","v":""},{"$f":"IF(ISBLANK(Trait_Etrangers!N259),\"\",Trait_Etrangers!N259)","v":""},{"$f":"IF(ISBLANK(Trait_Etrangers!O259),\"\",Trait_Etrangers!O259)","v":""},{"$f":"IF(ISBLANK(Trait_Etrangers!P259),\"\",Trait_Etrangers!P259)","v":""},null,{"$f":"IF(ISBLANK(Trait_Etrangers!R259),\"\",Trait_Etrangers!R259)","v":""},{"$f":"IF(ISBLANK(Trait_Etrangers!S259),\"\",Trait_Etrangers!S259)","v":""},{"$f":"IF(ISBLANK(Trait_Etrangers!T259),\"\",Trait_Etrangers!T259)","v":""},{"$f":"IF(ISBLANK(Trait_Etrangers!U259),\"\",Trait_Etrangers!U259)","v":""},null,null,null,"","",0,0,0,0,0,0,0,0,0,0,0,0,0,0,0,0,0,null,1,null,null,{"$f":"IF(AX259=\"\",\"\",IF(CE259=1,\"[b][color=red]\"&Datas!$D$32&\"[/color][/b]\"&AX259&\"[b][color=red]\"&Datas!$D$33&\"{\"&CD259&\"}[/color][/b]\",AX259))","v":{"$error":"#N/A"}},{"$error":"#N/A"}," ",{"$f":"IF(ISBLANK(Datas!$C$47),\"\",\" - \"&BG259)","v":{"$error":"#N/A"}},{"$f":"IF(ISBLANK(Datas!$C$48),\"\",\" - \"&BH259)","v":" - "},{"$f":"IF(ISBLANK(Datas!$C$49),\"\",\" - \"&BI259)","v":""},{"$f":"IF(ISBLANK(Datas!$C$50),\"\",\" - \"&BJ259)","v":" - Ecus:"},{"$f":"IF(ISBLANK(Datas!$C$51),\"\",\" - \"&BK259)","v":" - Niv: "},null,{"$error":"#N/A"},{"$error":"#N/A"},"","PR:","Ecus:","Niv: ",null,null,null,null,"",{"$f":"VLOOKUP(BP259,LstVillage!$B$8:$C$283,1)","v":{"$error":"#N/A"}},{"$error":"#N/A"},{"$error":"#N/A"},"",{"$f":"VLOOKUP(BT259,Datas!$G$6:$G$17,1)","v":{"$error":"#N/A"}},{"$error":"#N/A"},{"$error":"#N/A"},null,"",0,0,null,{"$f":"VLOOKUP(BP259,Liste_Noire!$B$15:$G$1208,1)","v":{"$error":"#N/A"}},{"$f":"VLOOKUP(BP259,Liste_Noire!$B$15:$G$1208,5)","v":{"$error":"#N/A"}},{"$error":"#N/A"},null,0,0,0,0,0,0,1]
[null,""," ","","","","","",{"$f":"IF(ISBLANK(Trait_Etrangers!H260),\"\",Trait_Etrangers!H260)","v":""},{"$f":"IF(ISBLANK(Trait_Etrangers!I260),\"\",Trait_Etrangers!I260)","v":""},{"$f":"IF(ISBLANK(Trait_Etrangers!J260),\"\",Trait_Etrangers!J260)","v":""},{"$f":"IF(ISBLANK(Trait_Etrangers!K260),\"\",Trait_Etrangers!K260)","v":""},{"$f":"IF(ISBLANK(Trait_Etrangers!L260),\"\",Trait_Etrangers!L260)","v":""},{"$f":"IF(ISBLANK(Trait_Etrangers!M260),\"\",Trait_Etrangers!M260)","v":""},{"$f":"IF(ISBLANK(Trait_Etrangers!N260),\"\",Trait_Etrangers!N260)","v":""},{"$f":"IF(ISBLANK(Trait_Etrangers!O260),\"\",Trait_Etrangers!O260)","v":""},{"$f":"IF(ISBLANK(Trait_Etrangers!P260),\"\",Trait_Etrangers!P260)","v":""},null,{"$f":"IF(ISBLANK(Trait_Etrangers!R260),\"\",Trait_Etrangers!R260)","v":""},{"$f":"IF(ISBLANK(Trait_Etrangers!S260),\"\",Trait_Etrangers!S260)","v":""},{"$f":"IF(ISBLANK(Trait_Etrangers!T260),\"\",Trait_Etrangers!T260)","v":""},{"$f":"IF(ISBLANK(Trait_Etrangers!U260),\"\",Trait_Etrangers!U260)","v":""},null,null,null,"","",0,0,0,0,0,0,0,0,0,0,0,0,0,0,0,0,0,null,1,null,null,{"$f":"IF(AX260=\"\",\"\",IF(CE260=1,\"[b][color=red]\"&Datas!$D$32&\"[/color][/b]\"&AX260&\"[b][color=red]\"&Datas!$D$33&\"{\"&CD260&\"}[/color][/b]\",AX260))","v":{"$error":"#N/A"}},{"$error":"#N/A"}," ",{"$f":"IF(ISBLANK(Datas!$C$47),\"\",\" - \"&BG260)","v":{"$error":"#N/A"}},{"$f":"IF(ISBLANK(Datas!$C$48),\"\",\" - \"&BH260)","v":" - "},{"$f":"IF(ISBLANK(Datas!$C$49),\"\",\" - \"&BI260)","v":""},{"$f":"IF(ISBLANK(Datas!$C$50),\"\",\" - \"&BJ260)","v":" - Ecus:"},{"$f":"IF(ISBLANK(Datas!$C$51),\"\",\" - \"&BK260)","v":" - Niv: "},null,{"$error":"#N/A"},{"$error":"#N/A"},"","PR:","Ecus:","Niv: ",null,null,null,null,"",{"$f":"VLOOKUP(BP260,LstVillage!$B$8:$C$283,1)","v":{"$error":"#N/A"}},{"$error":"#N/A"},{"$error":"#N/A"},"",{"$f":"VLOOKUP(BT260,Datas!$G$6:$G$17,1)","v":{"$error":"#N/A"}},{"$error":"#N/A"},{"$error":"#N/A"},null,"",0,0,null,{"$f":"VLOOKUP(BP260,Liste_Noire!$B$15:$G$1208,1)","v":{"$error":"#N/A"}},{"$f":"VLOOKUP(BP260,Liste_Noire!$B$15:$G$1208,5)","v":{"$error":"#N/A"}},{"$error":"#N/A"},null,0,0,0,0,0,0,1]
[null,""," ","","","","","",{"$f":"IF(ISBLANK(Trait_Etrangers!H261),\"\",Trait_Etrangers!H261)","v":""},{"$f":"IF(ISBLANK(Trait_Etrangers!I261),\"\",Trait_Etrangers!I261)","v":""},{"$f":"IF(ISBLANK(Trait_Etrangers!J261),\"\",Trait_Etrangers!J261)","v":""},{"$f":"IF(ISBLANK(Trait_Etrangers!K261),\"\",Trait_Etrangers!K261)","v":""},{"$f":"IF(ISBLANK(Trait_Etrangers!L261),\"\",Trait_Etrangers!L261)","v":""},{"$f":"IF(ISBLANK(Trait_Etrangers!M261),\"\",Trait_Etrangers!M261)","v":""},{"$f":"IF(ISBLANK(Trait_Etrangers!N261),\"\",Trait_Etrangers!N261)","v":""},{"$f":"IF(ISBLANK(Trait_Etrangers!O261),\"\",Trait_Etrangers!O261)","v":""},{"$f":"IF(ISBLANK(Trait_Etrangers!P261),\"\",Trait_Etrangers!P261)","v":""},null,{"$f":"IF(ISBLANK(Trait_Etrangers!R261),\"\",Trait_Etrangers!R261)","v":""},{"$f":"IF(ISBLANK(Trait_Etrangers!S261),\"\",Trait_Etrangers!S261)","v":""},{"$f":"IF(ISBLANK(Trait_Etrangers!T261),\"\",Trait_Etrangers!T261)","v":""},{"$f":"IF(ISBLANK(Trait_Etrangers!U261),\"\",Trait_Etrangers!U261)","v":""},null,null,null,"","",0,0,0,0,0,0,0,0,0,0,0,0,0,0,0,0,0,null,1,null,null,{"$f":"IF(AX261=\"\",\"\",IF(CE261=1,\"[b][color=red]\"&Datas!$D$32&\"[/color][/b]\"&AX261&\"[b][color=red]\"&Datas!$D$33&\"{\"&CD261&\"}[/color][/b]\",AX261))","v":{"$error":"#N/A"}},{"$error":"#N/A"}," ",{"$f":"IF(ISBLANK(Datas!$C$47),\"\",\" - \"&BG261)","v":{"$error":"#N/A"}},{"$f":"IF(ISBLANK(Datas!$C$48),\"\",\" - \"&BH261)","v":" - "},{"$f":"IF(ISBLANK(Datas!$C$49),\"\",\" - \"&BI261)","v":""},{"$f":"IF(ISBLANK(Datas!$C$50),\"\",\" - \"&BJ261)","v":" - Ecus:"},{"$f":"IF(ISBLANK(Datas!$C$51),\"\",\" - \"&BK261)","v":" - Niv: "},null,{"$error":"#N/A"},{"$error":"#N/A"},"","PR:","Ecus:","Niv: ",null,null,null,null,"",{"$f":"VLOOKUP(BP261,LstVillage!$B$8:$C$283,1)","v":{"$error":"#N/A"}},{"$error":"#N/A"},{"$error":"#N/A"},"",{"$f":"VLOOKUP(BT261,Datas!$G$6:$G$17,1)","v":{"$error":"#N/A"}},{"$error":"#N/A"},{"$error":"#N/A"},null,"",0,0,null,{"$f":"VLOOKUP(BP261,Liste_Noire!$B$15:$G$1208,1)","v":{"$error":"#N/A"}},{"$f":"VLOOKUP(BP261,Liste_Noire!$B$15:$G$1208,5)","v":{"$error":"#N/A"}},{"$error":"#N/A"},null,0,0,0,0,0,0,1]
[null,""," ","","","","","",{"$f":"IF(ISBLANK(Trait_Etrangers!H262),\"\",Trait_Etrangers!H262)","v":""},{"$f":"IF(ISBLANK(Trait_Etrangers!I262),\"\",Trait_Etrangers!I262)","v":""},{"$f":"IF(ISBLANK(Trait_Etrangers!J262),\"\",Trait_Etrangers!J262)","v":""},{"$f":"IF(ISBLANK(Trait_Etrangers!K262),\"\",Trait_Etrangers!K262)","v":""},{"$f":"IF(ISBLANK(Trait_Etrangers!L262),\"\",Trait_Etrangers!L262)","v":""},{"$f":"IF(ISBLANK(Trait_Etrangers!M262),\"\",Trait_Etrangers!M262)","v":""},{"$f":"IF(ISBLANK(Trait_Etrangers!N262),\"\",Trait_Etrangers!N262)","v":""},{"$f":"IF(ISBLANK(Trait_Etrangers!O262),\"\",Trait_Etrangers!O262)","v":""},{"$f":"IF(ISBLANK(Trait_Etrangers!P262),\"\",Trait_Etrangers!P262)","v":""},null,{"$f":"IF(ISBLANK(Trait_Etrangers!R262),\"\",Trait_Etrangers!R262)","v":""},{"$f":"IF(ISBLANK(Trait_Etrangers!S262),\"\",Trait_Etrangers!S262)","v":""},{"$f":"IF(ISBLANK(Trait_Etrangers!T262),\"\",Trait_Etrangers!T262)","v":""},{"$f":"IF(ISBLANK(Trait_Etrangers!U262),\"\",Trait_Etrangers!U262)","v":""},null,null,null,"","",0,0,0,0,0,0,0,0,0,0,0,0,0,0,0,0,0,null,1,null,null,{"$f":"IF(AX262=\"\",\"\",IF(CE262=1,\"[b][color=red]\"&Datas!$D$32&\"[/color][/b]\"&AX262&\"[b][color=red]\"&Datas!$D$33&\"{\"&CD262&\"}[/color][/b]\",AX262))","v":{"$error":"#N/A"}},{"$error":"#N/A"}," ",{"$f":"IF(ISBLANK(Datas!$C$47),\"\",\" - \"&BG262)","v":{"$error":"#N/A"}},{"$f":"IF(ISBLANK(Datas!$C$48),\"\",\" - \"&BH262)","v":" - "},{"$f":"IF(ISBLANK(Datas!$C$49),\"\",\" - \"&BI262)","v":""},{"$f":"IF(ISBLANK(Datas!$C$50),\"\",\" - \"&BJ262)","v":" - Ecus:"},{"$f":"IF(ISBLANK(Datas!$C$51),\"\",\" - \"&BK262)","v":" - Niv: "},null,{"$error":"#N/A"},{"$error":"#N/A"},"","PR:","Ecus:","Niv: ",null,null,null,null,"",{"$f":"VLOOKUP(BP262,LstVillage!$B$8:$C$283,1)","v":{"$error":"#N/A"}},{"$error":"#N/A"},{"$error":"#N/A"},"",{"$f":"VLOOKUP(BT262,Datas!$G$6:$G$17,1)","v":{"$error":"#N/A"}},{"$error":"#N/A"},{"$error":"#N/A"},null,"",0,0,null,{"$f":"VLOOKUP(BP262,Liste_Noire!$B$15:$G$1208,1)","v":{"$error":"#N/A"}},{"$f":"VLOOKUP(BP262,Liste_Noire!$B$15:$G$1208,5)","v":{"$error":"#N/A"}},{"$error":"#N/A"},null,0,0,0,0,0,0,1]
[null,""," ","","","","","",{"$f":"IF(ISBLANK(Trait_Etrangers!H263),\"\",Trait_Etrangers!H263)","v":""},{"$f":"IF(ISBLANK(Trait_Etrangers!I263),\"\",Trait_Etrangers!I263)","v":""},{"$f":"IF(ISBLANK(Trait_Etrangers!J263),\"\",Trait_Etrangers!J263)","v":""},{"$f":"IF(ISBLANK(Trait_Etrangers!K263),\"\",Trait_Etrangers!K263)","v":""},{"$f":"IF(ISBLANK(Trait_Etrangers!L263),\"\",Trait_Etrangers!L263)","v":""},{"$f":"IF(ISBLANK(Trait_Etrangers!M263),\"\",Trait_Etrangers!M263)","v":""},{"$f":"IF(ISBLANK(Trait_Etrangers!N263),\"\",Trait_Etrangers!N263)","v":""},{"$f":"IF(ISBLANK(Trait_Etrangers!O263),\"\",Trait_Etrangers!O263)","v":""},{"$f":"IF(ISBLANK(Trait_Etrangers!P263),\"\",Trait_Etrangers!P263)","v":""},null,{"$f":"IF(ISBLANK(Trait_Etrangers!R263),\"\",Trait_Etrangers!R263)","v":""},{"$f":"IF(ISBLANK(Trait_Etrangers!S263),\"\",Trait_Etrangers!S263)","v":""},{"$f":"IF(ISBLANK(Trait_Etrangers!T263),\"\",Trait_Etrangers!T263)","v":""},{"$f":"IF(ISBLANK(Trait_Etrangers!U263),\"\",Trait_Etrangers!U263)","v":""},null,null,null,"","",0,0,0,0,0,0,0,0,0,0,0,0,0,0,0,0,0,null,1,null,null,{"$f":"IF(AX263=\"\",\"\",IF(CE263=1,\"[b][color=red]\"&Datas!$D$32&\"[/color][/b]\"&AX263&\"[b][color=red]\"&Datas!$D$33&\"{\"&CD263&\"}[/color][/b]\",AX263))","v":{"$error":"#N/A"}},{"$error":"#N/A"}," ",{"$f":"IF(ISBLANK(Datas!$C$47),\"\",\" - \"&BG263)","v":{"$error":"#N/A"}},{"$f":"IF(ISBLANK(Datas!$C$48),\"\",\" - \"&BH263)","v":" - "},{"$f":"IF(ISBLANK(Datas!$C$49),\"\",\" - \"&BI263)","v":""},{"$f":"IF(ISBLANK(Datas!$C$50),\"\",\" - \"&BJ263)","v":" - Ecus:"},{"$f":"IF(ISBLANK(Datas!$C$51),\"\",\" - \"&BK263)","v":" - Niv: "},null,{"$error":"#N/A"},{"$error":"#N/A"},"","PR:","Ecus:","Niv: ",null,null,null,null,"",{"$f":"VLOOKUP(BP263,LstVillage!$B$8:$C$283,1)","v":{"$error":"#N/A"}},{"$error":"#N/A"},{"$error":"#N/A"},"",{"$f":"VLOOKUP(BT263,Datas!$G$6:$G$17,1)","v":{"$error":"#N/A"}},{"$error":"#N/A"},{"$error":"#N/A"},null,"",0,0,null,{"$f":"VLOOKUP(BP263,Liste_Noire!$B$15:$G$1208,1)","v":{"$error":"#N/A"}},{"$f":"VLOOKUP(BP263,Liste_Noire!$B$15:$G$1208,5)","v":{"$error":"#N/A"}},{"$error":"#N/A"},null,0,0,0,0,0,0,1]
[null,""," ","","","","","",{"$f":"IF(ISBLANK(Trait_Etrangers!H264),\"\",Trait_Etrangers!H264)","v":""},{"$f":"IF(ISBLANK(Trait_Etrangers!I264),\"\",Trait_Etrangers!I264)","v":""},{"$f":"IF(ISBLANK(Trait_Etrangers!J264),\"\",Trait_Etrangers!J264)","v":""},{"$f":"IF(ISBLANK(Trait_Etrangers!K264),\"\",Trait_Etrangers!K264)","v":""},{"$f":"IF(ISBLANK(Trait_Etrangers!L264),\"\",Trait_Etrangers!L264)","v":""},{"$f":"IF(ISBLANK(Trait_Etrangers!M264),\"\",Trait_Etrangers!M264)","v":""},{"$f":"IF(ISBLANK(Trait_Etrangers!N264),\"\",Trait_Etrangers!N264)","v":""},{"$f":"IF(ISBLANK(Trait_Etrangers!O264),\"\",Trait_Etrangers!O264)","v":""},{"$f":"IF(ISBLANK(Trait_Etrangers!P264),\"\",Trait_Etrangers!P264)","v":""},null,{"$f":"IF(ISBLANK(Trait_Etrangers!R264),\"\",Trait_Etrangers!R264)","v":""},{"$f":"IF(ISBLANK(Trait_Etrangers!S264),\"\",Trait_Etrangers!S264)","v":""},{"$f":"IF(ISBLANK(Trait_Etrangers!T264),\"\",Trait_Etrangers!T264)","v":""},{"$f":"IF(ISBLANK(Trait_Etrangers!U264),\"\",Trait_Etrangers!U264)","v":""},null,null,null,"","",0,0,0,0,0,0,0,0,0,0,0,0,0,0,0,0,0,null,1,null,null,{"$f":"IF(AX264=\"\",\"\",IF(CE264=1,\"[b][color=red]\"&Datas!$D$32&\"[/color][/b]\"&AX264&\"[b][color=red]\"&Datas!$D$33&\"{\"&CD264&\"}[/color][/b]\",AX264))","v":{"$error":"#N/A"}},{"$error":"#N/A"}," ",{"$f":"IF(ISBLANK(Datas!$C$47),\"\",\" - \"&BG264)","v":{"$error":"#N/A"}},{"$f":"IF(ISBLANK(Datas!$C$48),\"\",\" - \"&BH264)","v":" - "},{"$f":"IF(ISBLANK(Datas!$C$49),\"\",\" - \"&BI264)","v":""},{"$f":"IF(ISBLANK(Datas!$C$50),\"\",\" - \"&BJ264)","v":" - Ecus:"},{"$f":"IF(ISBLANK(Datas!$C$51),\"\",\" - \"&BK264)","v":" - Niv: "},null,{"$error":"#N/A"},{"$error":"#N/A"},"","PR:","Ecus:","Niv: ",null,null,null,null,"",{"$f":"VLOOKUP(BP264,LstVillage!$B$8:$C$283,1)","v":{"$error":"#N/A"}},{"$error":"#N/A"},{"$error":"#N/A"},"",{"$f":"VLOOKUP(BT264,Datas!$G$6:$G$17,1)","v":{"$error":"#N/A"}},{"$error":"#N/A"},{"$error":"#N/A"},null,"",0,0,null,{"$f":"VLOOKUP(BP264,Liste_Noire!$B$15:$G$1208,1)","v":{"$error":"#N/A"}},{"$f":"VLOOKUP(BP264,Liste_Noire!$B$15:$G$1208,5)","v":{"$error":"#N/A"}},{"$error":"#N/A"},null,0,0,0,0,0,0,1]
[null,""," ","","","","","",{"$f":"IF(ISBLANK(Trait_Etrangers!H265),\"\",Trait_Etrangers!H265)","v":""},{"$f":"IF(ISBLANK(Trait_Etrangers!I265),\"\",Trait_Etrangers!I265)","v":""},{"$f":"IF(ISBLANK(Trait_Etrangers!J265),\"\",Trait_Etrangers!J265)","v":""},{"$f":"IF(ISBLANK(Trait_Etrangers!K265),\"\",Trait_Etrangers!K265)","v":""},{"$f":"IF(ISBLANK(Trait_Etrangers!L265),\"\",Trait_Etrangers!L265)","v":""},{"$f":"IF(ISBLANK(Trait_Etrangers!M265),\"\",Trait_Etrangers!M265)","v":""},{"$f":"IF(ISBLANK(Trait_Etrangers!N265),\"\",Trait_Etrangers!N265)","v":""},{"$f":"IF(ISBLANK(Trait_Etrangers!O265),\"\",Trait_Etrangers!O265)","v":""},{"$f":"IF(ISBLANK(Trait_Etrangers!P265),\"\",Trait_Etrangers!P265)","v":""},null,{"$f":"IF(ISBLANK(Trait_Etrangers!R265),\"\",Trait_Etrangers!R265)","v":""},{"$f":"IF(ISBLANK(Trait_Etrangers!S265),\"\",Trait_Etrangers!S265)","v":""},{"$f":"IF(ISBLANK(Trait_Etrangers!T265),\"\",Trait_Etrangers!T265)","v":""},{"$f":"IF(ISBLANK(Trait_Etrangers!U265),\"\",Trait_Etrangers!U265)","v":""},null,null,null,"","",0,0,0,0,0,0,0,0,0,0,0,0,0,0,0,0,0,null,1,null,null,{"$f":"IF(AX265=\"\",\"\",IF(CE265=1,\"[b][color=red]\"&Datas!$D$32&\"[/color][/b]\"&AX265&\"[b][color=red]\"&Datas!$D$33&\"{\"&CD265&\"}[/color][/b]\",AX265))","v":{"$error":"#N/A"}},{"$error":"#N/A"}," ",{"$f":"IF(ISBLANK(Datas!$C$47),\"\",\" - \"&BG265)","v":{"$error":"#N/A"}},{"$f":"IF(ISBLANK(Datas!$C$48),\"\",\" - \"&BH265)","v":" - "},{"$f":"IF(ISBLANK(Datas!$C$49),\"\",\" - \"&BI265)","v":""},{"$f":"IF(ISBLANK(Datas!$C$50),\"\",\" - \"&BJ265)","v":" - Ecus:"},{"$f":"IF(ISBLANK(Datas!$C$51),\"\",\" - \"&BK265)","v":" - Niv: "},null,{"$error":"#N/A"},{"$error":"#N/A"},"","PR:","Ecus:","Niv: ",null,null,null,null,"",{"$f":"VLOOKUP(BP265,LstVillage!$B$8:$C$283,1)","v":{"$error":"#N/A"}},{"$error":"#N/A"},{"$error":"#N/A"},"",{"$f":"VLOOKUP(BT265,Datas!$G$6:$G$17,1)","v":{"$error":"#N/A"}},{"$error":"#N/A"},{"$error":"#N/A"},null,"",0,0,null,{"$f":"VLOOKUP(BP265,Liste_Noire!$B$15:$G$1208,1)","v":{"$error":"#N/A"}},{"$f":"VLOOKUP(BP265,Liste_Noire!$B$15:$G$1208,5)","v":{"$error":"#N/A"}},{"$error":"#N/A"},null,0,0,0,0,0,0,1]
[null,""," ","","","","","",{"$f":"IF(ISBLANK(Trait_Etrangers!H266),\"\",Trait_Etrangers!H266)","v":""},{"$f":"IF(ISBLANK(Trait_Etrangers!I266),\"\",Trait_Etrangers!I266)","v":""},{"$f":"IF(ISBLANK(Trait_Etrangers!J266),\"\",Trait_Etrangers!J266)","v":""},{"$f":"IF(ISBLANK(Trait_Etrangers!K266),\"\",Trait_Etrangers!K266)","v":""},{"$f":"IF(ISBLANK(Trait_Etrangers!L266),\"\",Trait_Etrangers!L266)","v":""},{"$f":"IF(ISBLANK(Trait_Etrangers!M266),\"\",Trait_Etrangers!M266)","v":""},{"$f":"IF(ISBLANK(Trait_Etrangers!N266),\"\",Trait_Etrangers!N266)","v":""},{"$f":"IF(ISBLANK(Trait_Etrangers!O266),\"\",Trait_Etrangers!O266)","v":""},{"$f":"IF(ISBLANK(Trait_Etrangers!P266),\"\",Trait_Etrangers!P266)","v":""},null,{"$f":"IF(ISBLANK(Trait_Etrangers!R266),\"\",Trait_Etrangers!R266)","v":""},{"$f":"IF(ISBLANK(Trait_Etrangers!S266),\"\",Trait_Etrangers!S266)","v":""},{"$f":"IF(ISBLANK(Trait_Etrangers!T266),\"\",Trait_Etrangers!T266)","v":""},{"$f":"IF(ISBLANK(Trait_Etrangers!U266),\"\",Trait_Etrangers!U266)","v":""},null,null,null,"","",0,0,0,0,0,0,0,0,0,0,0,0,0,0,0,0,0,null,1,null,null,{"$f":"IF(AX266=\"\",\"\",IF(CE266=1,\"[b][color=red]\"&Datas!$D$32&\"[/color][/b]\"&AX266&\"[b][color=red]\"&Datas!$D$33&\"{\"&CD266&\"}[/color][/b]\",AX266))","v":{"$error":"#N/A"}},{"$error":"#N/A"}," ",{"$f":"IF(ISBLANK(Datas!$C$47),\"\",\" - \"&BG266)","v":{"$error":"#N/A"}},{"$f":"IF(ISBLANK(Datas!$C$48),\"\",\" - \"&BH266)","v":" - "},{"$f":"IF(ISBLANK(Datas!$C$49),\"\",\" - \"&BI266)","v":""},{"$f":"IF(ISBLANK(Datas!$C$50),\"\",\" - \"&BJ266)","v":" - Ecus:"},{"$f":"IF(ISBLANK(Datas!$C$51),\"\",\" - \"&BK266)","v":" - Niv: "},null,{"$error":"#N/A"},{"$error":"#N/A"},"","PR:","Ecus:","Niv: ",null,null,null,null,"",{"$f":"VLOOKUP(BP266,LstVillage!$B$8:$C$283,1)","v":{"$error":"#N/A"}},{"$error":"#N/A"},{"$error":"#N/A"},"",{"$f":"VLOOKUP(BT266,Datas!$G$6:$G$17,1)","v":{"$error":"#N/A"}},{"$error":"#N/A"},{"$error":"#N/A"},null,"",0,0,null,{"$f":"VLOOKUP(BP266,Liste_Noire!$B$15:$G$1208,1)","v":{"$error":"#N/A"}},{"$f":"VLOOKUP(BP266,Liste_Noire!$B$15:$G$1208,5)","v":{"$error":"#N/A"}},{"$error":"#N/A"},null,0,0,0,0,0,0,1]
[null,""," ","","","","","",{"$f":"IF(ISBLANK(Trait_Etrangers!H267),\"\",Trait_Etrangers!H267)","v":""},{"$f":"IF(ISBLANK(Trait_Etrangers!I267),\"\",Trait_Etrangers!I267)","v":""},{"$f":"IF(ISBLANK(Trait_Etrangers!J267),\"\",Trait_Etrangers!J267)","v":""},{"$f":"IF(ISBLANK(Trait_Etrangers!K267),\"\",Trait_Etrangers!K267)","v":""},{"$f":"IF(ISBLANK(Trait_Etrangers!L267),\"\",Trait_Etrangers!L267)","v":""},{"$f":"IF(ISBLANK(Trait_Etrangers!M267),\"\",Trait_Etrangers!M267)","v":""},{"$f":"IF(ISBLANK(Trait_Etrangers!N267),\"\",Trait_Etrangers!N267)","v":""},{"$f":"IF(ISBLANK(Trait_Etrangers!O267),\"\",Trait_Etrangers!O267)","v":""},{"$f":"IF(ISBLANK(Trait_Etrangers!P267),\"\",Trait_Etrangers!P267)","v":""},null,{"$f":"IF(ISBLANK(Trait_Etrangers!R267),\"\",Trait_Etrangers!R267)","v":""},{"$f":"IF(ISBLANK(Trait_Etrangers!S267),\"\",Trait_Etrangers!S267)","v":""},{"$f":"IF(ISBLANK(Trait_Etrangers!T267),\"\",Trait_Etrangers!T267)","v":""},{"$f":"IF(ISBLANK(Trait_Etrangers!U267),\"\",Trait_Etrangers!U267)","v":""},null,null,null,"","",0,0,0,0,0,0,0,0,0,0,0,0,0,0,0,0,0,null,1,null,null,{"$f":"IF(AX267=\"\",\"\",IF(CE267=1,\"[b][color=red]\"&Datas!$D$32&\"[/color][/b]\"&AX267&\"[b][color=red]\"&Datas!$D$33&\"{\"&CD267&\"}[/color][/b]\",AX267))","v":{"$error":"#N/A"}},{"$error":"#N/A"}," ",{"$f":"IF(ISBLANK(Datas!$C$47),\"\",\" - \"&BG267)","v":{"$error":"#N/A"}},{"$f":"IF(ISBLANK(Datas!$C$48),\"\",\" - \"&BH267)","v":" - "},{"$f":"IF(ISBLANK(Datas!$C$49),\"\",\" - \"&BI267)","v":""},{"$f":"IF(ISBLANK(Datas!$C$50),\"\",\" - \"&BJ267)","v":" - Ecus:"},{"$f":"IF(ISBLANK(Datas!$C$51),\"\",\" - \"&BK267)","v":" - Niv: "},null,{"$error":"#N/A"},{"$error":"#N/A"},"","PR:","Ecus:","Niv: ",null,null,null,null,"",{"$f":"VLOOKUP(BP267,LstVillage!$B$8:$C$283,1)","v":{"$error":"#N/A"}},{"$error":"#N/A"},{"$error":"#N/A"},"",{"$f":"VLOOKUP(BT267,Datas!$G$6:$G$17,1)","v":{"$error":"#N/A"}},{"$error":"#N/A"},{"$error":"#N/A"},null,"",0,0,null,{"$f":"VLOOKUP(BP267,Liste_Noire!$B$15:$G$1208,1)","v":{"$error":"#N/A"}},{"$f":"VLOOKUP(BP267,Liste_Noire!$B$15:$G$1208,5)","v":{"$error":"#N/A"}},{"$error":"#N/A"},null,0,0,0,0,0,0,1]
[null,""," ","","","","","",{"$f":"IF(ISBLANK(Trait_Etrangers!H268),\"\",Trait_Etrangers!H268)","v":""},{"$f":"IF(ISBLANK(Trait_Etrangers!I268),\"\",Trait_Etrangers!I268)","v":""},{"$f":"IF(ISBLANK(Trait_Etrangers!J268),\"\",Trait_Etrangers!J268)","v":""},{"$f":"IF(ISBLANK(Trait_Etrangers!K268),\"\",Trait_Etrangers!K268)","v":""},{"$f":"IF(ISBLANK(Trait_Etrangers!L268),\"\",Trait_Etrangers!L268)","v":""},{"$f":"IF(ISBLANK(Trait_Etrangers!M268),\"\",Trait_Etrangers!M268)","v":""},{"$f":"IF(ISBLANK(Trait_Etrangers!N268),\"\",Trait_Etrangers!N268)","v":""},{"$f":"IF(ISBLANK(Trait_Etrangers!O268),\"\",Trait_Etrangers!O268)","v":""},{"$f":"IF(ISBLANK(Trait_Etrangers!P268),\"\",Trait_Etrangers!P268)","v":""},null,{"$f":"IF(ISBLANK(Trait_Etrangers!R268),\"\",Trait_Etrangers!R268)","v":""},{"$f":"IF(ISBLANK(Trait_Etrangers!S268),\"\",Trait_Etrangers!S268)","v":""},{"$f":"IF(ISBLANK(Trait_Etrangers!T268),\"\",Trait_Etrangers!T268)","v":""},{"$f":"IF(ISBLANK(Trait_Etrangers!U268),\"\",Trait_Etrangers!U268)","v":""},null,null,null,"","",0,0,0,0,0,0,0,0,0,0,0,0,0,0,0,0,0,null,1,null,null,{"$f":"IF(AX268=\"\",\"\",IF(CE268=1,\"[b][color=red]\"&Datas!$D$32&\"[/color][/b]\"&AX268&\"[b][color=red]\"&Datas!$D$33&\"{\"&CD268&\"}[/color][/b]\",AX268))","v":{"$error":"#N/A"}},{"$error":"#N/A"}," ",{"$f":"IF(ISBLANK(Datas!$C$47),\"\",\" - \"&BG268)","v":{"$error":"#N/A"}},{"$f":"IF(ISBLANK(Datas!$C$48),\"\",\" - \"&BH268)","v":" - "},{"$f":"IF(ISBLANK(Datas!$C$49),\"\",\" - \"&BI268)","v":""},{"$f":"IF(ISBLANK(Datas!$C$50),\"\",\" - \"&BJ268)","v":" - Ecus:"},{"$f":"IF(ISBLANK(Datas!$C$51),\"\",\" - \"&BK268)","v":" - Niv: "},null,{"$error":"#N/A"},{"$error":"#N/A"},"","PR:","Ecus:","Niv: ",null,null,null,null,"",{"$f":"VLOOKUP(BP268,LstVillage!$B$8:$C$283,1)","v":{"$error":"#N/A"}},{"$error":"#N/A"},{"$error":"#N/A"},"",{"$f":"VLOOKUP(BT268,Datas!$G$6:$G$17,1)","v":{"$error":"#N/A"}},{"$error":"#N/A"},{"$error":"#N/A"},null,"",0,0,null,{"$f":"VLOOKUP(BP268,Liste_Noire!$B$15:$G$1208,1)","v":{"$error":"#N/A"}},{"$f":"VLOOKUP(BP268,Liste_Noire!$B$15:$G$1208,5)","v":{"$error":"#N/A"}},{"$error":"#N/A"},null,0,0,0,0,0,0,1]
[null,{"$f":"IF(OR(ISBLANK($J269),$J269=\"\"),\"\",IF(BZ269,\"[strike]\"&AW269&\"[/strike]\",IF(CA269,\"[i]\"&AW269&\"[/i]\",AW269)))","v":""}," ",{"$f":"IF(N269=\"mort\",\"M\",\"\")","v":""},{"$f":"IF(ISERROR(CE269),\"\",IF(CE269=1,\"LN\",\"\"))","v":""},{"$f":"IF(N269=\"retraite\",\"R\",\"\")","v":""},{"$f":"IF(ISBLANK(Z269),\"\",Z269)","v":""},{"$f":"IF(ISBLANK(AA269),\"\",AA269)","v":""},{"$f":"IF(ISBLANK(Trait_Etrangers!H269),\"\",Trait_Etrangers!H269)","v":""},{"$f":"IF(ISBLANK(Trait_Etrangers!I269),\"\",Trait_Etrangers!I269)","v":""},{"$f":"IF(ISBLANK(Trait_Etrangers!J269),\"\",Trait_Etrangers!J269)","v":""},{"$f":"IF(ISBLANK(Trait_Etrangers!K269),\"\",Trait_Etrangers!K269)","v":""},{"$f":"IF(ISBLANK(Trait_Etrangers!L269),\"\",Trait_Etrangers!L269)","v":""},{"$f":"IF(ISBLANK(Trait_Etrangers!M269),\"\",Trait_Etrangers!M269)","v":""},{"$f":"IF(ISBLANK(Trait_Etrangers!N269),\"\",Trait_Etrangers!N269)","v":""},{"$f":"IF(ISBLANK(Trait_Etrangers!O269),\"\",Trait_Etrangers!O269)","v":""},{"$f":"IF(ISBLANK(Trait_Etrangers!P269),\"\",Trait_Etrangers!P269)","v":""},null,{"$f":"IF(ISBLANK(Trait_Etrangers!R269),\"\",Trait_Etrangers!R269)","v":""},{"$f":"IF(ISBLANK(Trait_Etrangers!S269),\"\",Trait_Etrangers!S269)","v":""},{"$f":"IF(ISBLANK(Trait_Etrangers!T269),\"\",Trait_Etrangers!T269)","v":""},{"$f":"IF(ISBLANK(Trait_Etrangers!U269),\"\",Trait_Etrangers!U269)","v":""},null,null,null,"","",{"$f":"IF(OR(ISBLANK($J269),$J269=\"\"),0,IF($L269<>$AB$8,1,0))","v":0},{"$f":"IF(AND(AB269=1,AK269=0,AO269=0,Z269=$Z$11),1,0)","v":0},{"$f":"IF(OR(ISBLANK($J269),$J269=\"\"),0,IF(AND(AC269=1,CE269=1),1,0))","v":0},{"$f":"IF($Z269=AE$11,1,0)","v":0},{"$f":"IF(AND(AE269=1,$E269=AF$11),1,0)","v":0},{"$f":"IF(AE269+AB269=2,1,0)","v":0},{"$f":"IF(AG269+AF269>1,1,0)","v":0},{"$f":"IF($Z269=AI$11,1,0)","v":0},{"$f":"IF(AND(AI269=1,$E269=AJ$11),1,0)","v":0},{"$f":"IF($F269=AK$11,1,0)","v":0},{"$f":"IF(AND(AK269=1,$E269=AL$11),1,0)","v":0},{"$f":"IF(AK269+AB269>1,1,0)","v":0},{"$f":"IF(AL269+AM269>1,1,0)","v":0},{"$f":"IF($D269=AO$11,1,0)","v":0},{"$f":"IF(AND(AO269=1,$E269=AP$11),1,0)","v":0},{"$f":"IF(AND($Z269=AQ$11,(AK269+AO269)=0),1,0)","v":0},{"$f":"IF(AND(AQ269=1,$E269=AR$11),1,0)","v":0},null,{"$f":"IF(AND(ISBLANK(J269),ISBLANK(L269),ISBLANK(M269),ISBLANK(Q269)),0,1)","v":1},null,null,{"$f":"IF(AX269=\"\",\"\",IF(CE269=1,\"[b][color=red]\"&Datas!$D$32&\"[/color][/b]\"&AX269&\"[b][color=red]\"&Datas!$D$33&\"{\"&CD269&\"}[/color][/b]\",AX269))","v":{"$error":"#N/A"}},{"$f":"IF(ISBLANK(N269),\"\",BF269&AZ269&BA269&BB269&BC269&BD269)","v":{"$error":"#N/A"}}," ",{"$f":"IF(ISBLANK(Datas!$C$47),\"\",\" - \"&BG269)","v":{"$error":"#N/A"}},{"$f":"IF(ISBLANK(Datas!$C$48),\"\",\" - \"&BH269)","v":" - "},{"$f":"IF(ISBLANK(Datas!$C$49),\"\",\" - \"&BI269)","v":""},{"$f":"IF(ISBLANK(Datas!$C$50),\"\",\" - \"&BJ269)","v":" - Ecus:"},{"$f":"IF(ISBLANK(Datas!$C$51),\"\",\" - \"&BK269)","v":" - Niv: "},null,{"$f":"\"[b][color=\"&BS269&\"]\"&BP269&\"[/color][/b]\"","v":{"$error":"#N/A"}},{"$f":"\"[b][color=\"&BW269&\"]\"&BT269&\"[/color][/b]\"","v":{"$error":"#N/A"}},{"$f":"BY269","v":""},{"$f":"\"PR:\"&P269","v":"PR:"},{"$f":"\"Ecus:\"&Q269","v":"Ecus:"},{"$f":"\"Niv: \"&O269","v":"Niv: "},null,null,null,null,{"$f":"J269","v":""},{"$f":"VLOOKUP(BP269,LstVillage!$B$8:$C$283,1)","v":{"$error":"#N/A"}},{"$f":"IF(BQ269<>BP269,0,1)","v":{"$error":"#N/A"}},{"$f":"IF(BR269=1,$BG$2,IF(BV269=1,$BG$3,$BG$4))","v":{"$error":"#N/A"}},{"$f":"M269","v":""},{"$f":"VLOOKUP(BT269,Datas!$G$6:$G$17,1)","v":{"$error":"#N/A"}},{"$f":"IF(BU269<>BT269,0,1)","v":{"$error":"#N/A"}},{"$f":"IF(BV269=1,$BJ$2,$BJ$3)","v":{"$error":"#N/A"}},null,{"$f":"L269","v":""},{"$f":"IF(F269=\"M\",1,0)","v":0},{"$f":"IF(F269=\"R\",1,0)","v":0},null,{"$f":"VLOOKUP(BP269,Liste_Noire!$B$15:$G$1208,1)","v":{"$error":"#N/A"}},{"$f":"VLOOKUP(BP269,Liste_Noire!$B$15:$G$1208,5)","v":{"$error":"#N/A"}},{"$f":"IF(ISERR(CC269),0,IF(CC269=BP269,1,0))","v":{"$error":"#N/A"}},null,{"$f":"IF(G269=\"a\",1,0)","v":0},{"$f":"IF(G269=\"d\",1,0)","v":0},{"$f":"IF(F269=\"R\",1,0)","v":0},{"$f":"IF(F269=\"M\",1,0)","v":0},{"$f":"IF(ISERROR(CE269),0,IF(CE269=1,IF(CD269=\"Liste Noire\",1,0),0))","v":0},{"$f":"IF(ISERROR(CE269),0,IF(CE269=1,IF(CD269=\"Surveillance\",1,0),0))","v":0},{"$f":"IF(ISBLANK(J269),0,1)","v":1}]
[null,""," ","","","","","",{"$f":"IF(ISBLANK(Trait_Etrangers!H270),\"\",Trait_Etrangers!H270)","v":""},{"$f":"IF(ISBLANK(Trait_Etrangers!I270),\"\",Trait_Etrangers!I270)","v":""},{"$f":"IF(ISBLANK(Trait_Etrangers!J270),\"\",Trait_Etrangers!J270)","v":""},{"$f":"IF(ISBLANK(Trait_Etrangers!K270),\"\",Trait_Etrangers!K270)","v":""},{"$f":"IF(ISBLANK(Trait_Etrangers!L270),\"\",Trait_Etrangers!L270)","v":""},{"$f":"IF(ISBLANK(Trait_Etrangers!M270),\"\",Trait_Etrangers!M270)","v":""},{"$f":"IF(ISBLANK(Trait_Etrangers!N270),\"\",Trait_Etrangers!N270)","v":""},{"$f":"IF(ISBLANK(Trait_Etrangers!O270),\"\",Trait_Etrangers!O270)","v":""},{"$f":"IF(ISBLANK(Trait_Etrangers!P270),\"\",Trait_Etrangers!P270)","v":""},null,{"$f":"IF(ISBLANK(Trait_Etrangers!R270),\"\",Trait_Etrangers!R270)","v":""},{"$f":"IF(ISBLANK(Trait_Etrangers!S270),\"\",Trait_Etrangers!S270)","v":""},{"$f":"IF(ISBLANK(Trait_Etrangers!T270),\"\",Trait_Etrangers!T270)","v":""},{"$f":"IF(ISBLANK(Trait_Etrangers!U270),\"\",Trait_Etrangers!U270)","v":""},null,null,null,{"$f":"IF(OR(ISBLANK($V270),TRIM($V270)=\"\"),IF(OR(ISBLANK($J270),$J270=\"\"),\"\",$Z$11),IF(OR($F270=$AK$11,$D270=$AO$11),$Z$11,IF($V270=\"a/d\",\"\",$V270)))","v":""},{"$f":"IF(OR(ISBLANK($J270),TRIM($J270)=\"\"),\"\",IF($D270=$AO$11,$AA$10,IF($V270=$AI$11,$AA$10,IF($AB270=1,$AA$11,$AA$10))))","v":""},0,0,0,0,0,0,0,0,0,0,0,0,0,0,0,0,0,null,1,null,null,{"$f":"IF(AX270=\"\",\"\",IF(CE270=1,\"[b][color=red]\"&Datas!$D$32&\"[/color][/b]\"&AX270&\"[b][color=red]\"&Datas!$D$33&\"{\"&CD270&\"}[/color][/b]\",AX270))","v":{"$error":"#N/A"}},{"$error":"#N/A"}," ",{"$f":"IF(ISBLANK(Datas!$C$47),\"\",\" - \"&BG270)","v":{"$error":"#N/A"}},{"$f":"IF(ISBLANK(Datas!$C$48),\"\",\" - \"&BH270)","v":" - "},{"$f":"IF(ISBLANK(Datas!$C$49),\"\",\" - \"&BI270)","v":""},{"$f":"IF(ISBLANK(Datas!$C$50),\"\",\" - \"&BJ270)","v":" - Ecus:"},{"$f":"IF(ISBLANK(Datas!$C$51),\"\",\" - \"&BK270)","v":" - Niv: "},null,{"$error":"#N/A"},{"$error":"#N/A"},"","PR:","Ecus:","Niv: ",null,null,null,null,"",{"$f":"VLOOKUP(BP270,LstVillage!$B$8:$C$283,1)","v":{"$error":"#N/A"}},{"$error":"#N/A"},{"$error":"#N/A"},"",{"$f":"VLOOKUP(BT270,Datas!$G$6:$G$17,1)","v":{"$error":"#N/A"}},{"$error":"#N/A"},{"$error":"#N/A"},null,"",0,0,null,{"$f":"VLOOKUP(BP270,Liste_Noire!$B$15:$G$1208,1)","v":{"$error":"#N/A"}},{"$f":"VLOOKUP(BP270,Liste_Noire!$B$15:$G$1208,5)","v":{"$error":"#N/A"}},{"$error":"#N/A"},null,0,0,0,0,0,0,1]
[null,""," ","","","","","",{"$f":"IF(ISBLANK(Trait_Etrangers!H271),\"\",Trait_Etrangers!H271)","v":""},{"$f":"IF(ISBLANK(Trait_Etrangers!I271),\"\",Trait_Etrangers!I271)","v":""},{"$f":"IF(ISBLANK(Trait_Etrangers!J271),\"\",Trait_Etrangers!J271)","v":""},{"$f":"IF(ISBLANK(Trait_Etrangers!K271),\"\",Trait_Etrangers!K271)","v":""},{"$f":"IF(ISBLANK(Trait_Etrangers!L271),\"\",Trait_Etrangers!L271)","v":""},{"$f":"IF(ISBLANK(Trait_Etrangers!M271),\"\",Trait_Etrangers!M271)","v":""},{"$f":"IF(ISBLANK(Trait_Etrangers!N271),\"\",Trait_Etrangers!N271)","v":""},{"$f":"IF(ISBLANK(Trait_Etrangers!O271),\"\",Trait_Etrangers!O271)","v":""},{"$f":"IF(ISBLANK(Trait_Etrangers!P271),\"\",Trait_Etrangers!P271)","v":""},null,{"$f":"IF(ISBLANK(Trait_Etrangers!R271),\"\",Trait_Etrangers!R271)","v":""},{"$f":"IF(ISBLANK(Trait_Etrangers!S271),\"\",Trait_Etrangers!S271)","v":""},{"$f":"IF(ISBLANK(Trait_Etrangers!T271),\"\",Trait_Etrangers!T271)","v":""},{"$f":"IF(ISBLANK(Trait_Etrangers!U271),\"\",Trait_Etrangers!U271)","v":""},null,null,null,"","",0,0,0,0,0,0,0,0,0,0,0,0,0,0,0,0,0,null,1,null,null,{"$f":"IF(AX271=\"\",\"\",IF(CE271=1,\"[b][color=red]\"&Datas!$D$32&\"[/color][/b]\"&AX271&\"[b][color=red]\"&Datas!$D$33&\"{\"&CD271&\"}[/color][/b]\",AX271))","v":{"$error":"#N/A"}},{"$error":"#N/A"}," ",{"$f":"IF(ISBLANK(Datas!$C$47),\"\",\" - \"&BG271)","v":{"$error":"#N/A"}},{"$f":"IF(ISBLANK(Datas!$C$48),\"\",\" - \"&BH271)","v":" - "},{"$f":"IF(ISBLANK(Datas!$C$49),\"\",\" - \"&BI271)","v":""},{"$f":"IF(ISBLANK(Datas!$C$50),\"\",\" - \"&BJ271)","v":" - Ecus:"},{"$f":"IF(ISBLANK(Datas!$C$51),\"\",\" - \"&BK271)","v":" - Niv: "},null,{"$error":"#N/A"},{"$error":"#N/A"},"","PR:","Ecus:","Niv: ",null,null,null,null,"",{"$f":"VLOOKUP(BP271,LstVillage!$B$8:$C$283,1)","v":{"$error":"#N/A"}},{"$error":"#N/A"},{"$error":"#N/A"},"",{"$f":"VLOOKUP(BT271,Datas!$G$6:$G$17,1)","v":{"$error":"#N/A"}},{"$error":"#N/A"},{"$error":"#N/A"},null,"",0,0,null,{"$f":"VLOOKUP(BP271,Liste_Noire!$B$15:$G$1208,1)","v":{"$error":"#N/A"}},{"$f":"VLOOKUP(BP271,Liste_Noire!$B$15:$G$1208,5)","v":{"$error":"#N/A"}},{"$error":"#N/A"},null,0,0,0,0,0,0,1]
[null,""," ","","","","","",{"$f":"IF(ISBLANK(Trait_Etrangers!H272),\"\",Trait_Etrangers!H272)","v":""},{"$f":"IF(ISBLANK(Trait_Etrangers!I272),\"\",Trait_Etrangers!I272)","v":""},{"$f":"IF(ISBLANK(Trait_Etrangers!J272),\"\",Trait_Etrangers!J272)","v":""},{"$f":"IF(ISBLANK(Trait_Etrangers!K272),\"\",Trait_Etrangers!K272)","v":""},{"$f":"IF(ISBLANK(Trait_Etrangers!L272),\"\",Trait_Etrangers!L272)","v":""},{"$f":"IF(ISBLANK(Trait_Etrangers!M272),\"\",Trait_Etrangers!M272)","v":""},{"$f":"IF(ISBLANK(Trait_Etrangers!N272),\"\",Trait_Etrangers!N272)","v":""},{"$f":"IF(ISBLANK(Trait_Etrangers!O272),\"\",Trait_Etrangers!O272)","v":""},{"$f":"IF(ISBLANK(Trait_Etrangers!P272),\"\",Trait_Etrangers!P272)","v":""},null,{"$f":"IF(ISBLANK(Trait_Etrangers!R272),\"\",Trait_Etrangers!R272)","v":""},{"$f":"IF(ISBLANK(Trait_Etrangers!S272),\"\",Trait_Etrangers!S272)","v":""},{"$f":"IF(ISBLANK(Trait_Etrangers!T272),\"\",Trait_Etrangers!T272)","v":""},{"$f":"IF(ISBLANK(Trait_Etrangers!U272),\"\",Trait_Etrangers!U272)","v":""},null,null,null,"","",0,0,0,0,0,0,0,0,0,0,0,0,0,0,0,0,0,null,1,null,null,{"$f":"IF(AX272=\"\",\"\",IF(CE272=1,\"[b][color=red]\"&Datas!$D$32&\"[/color][/b]\"&AX272&\"[b][color=red]\"&Datas!$D$33&\"{\"&CD272&\"}[/color][/b]\",AX272))","v":{"$error":"#N/A"}},{"$error":"#N/A"}," ",{"$f":"IF(ISBLANK(Datas!$C$47),\"\",\" - \"&BG272)","v":{"$error":"#N/A"}},{"$f":"IF(ISBLANK(Datas!$C$48),\"\",\" - \"&BH272)","v":" - "},{"$f":"IF(ISBLANK(Datas!$C$49),\"\",\" - \"&BI272)","v":""},{"$f":"IF(ISBLANK(Datas!$C$50),\"\",\" - \"&BJ272)","v":" - Ecus:"},{"$f":"IF(ISBLANK(Datas!$C$51),\"\",\" - \"&BK272)","v":" - Niv: "},null,{"$error":"#N/A"},{"$error":"#N/A"},"","PR:","Ecus:","Niv: ",null,null,null,null,"",{"$f":"VLOOKUP(BP272,LstVillage!$B$8:$C$283,1)","v":{"$error":"#N/A"}},{"$error":"#N/A"},{"$error":"#N/A"},"",{"$f":"VLOOKUP(BT272,Datas!$G$6:$G$17,1)","v":{"$error":"#N/A"}},{"$error":"#N/A"},{"$error":"#N/A"},null,"",0,0,null,{"$f":"VLOOKUP(BP272,Liste_Noire!$B$15:$G$1208,1)","v":{"$error":"#N/A"}},{"$f":"VLOOKUP(BP272,Liste_Noire!$B$15:$G$1208,5)","v":{"$error":"#N/A"}},{"$error":"#N/A"},null,0,0,0,0,0,0,1]
[null,""," ","","","","","",{"$f":"IF(ISBLANK(Trait_Etrangers!H273),\"\",Trait_Etrangers!H273)","v":""},{"$f":"IF(ISBLANK(Trait_Etrangers!I273),\"\",Trait_Etrangers!I273)","v":""},{"$f":"IF(ISBLANK(Trait_Etrangers!J273),\"\",Trait_Etrangers!J273)","v":""},{"$f":"IF(ISBLANK(Trait_Etrangers!K273),\"\",Trait_Etrangers!K273)","v":""},{"$f":"IF(ISBLANK(Trait_Etrangers!L273),\"\",Trait_Etrangers!L273)","v":""},{"$f":"IF(ISBLANK(Trait_Etrangers!M273),\"\",Trait_Etrangers!M273)","v":""},{"$f":"IF(ISBLANK(Trait_Etrangers!N273),\"\",Trait_Etrangers!N273)","v":""},{"$f":"IF(ISBLANK(Trait_Etrangers!O273),\"\",Trait_Etrangers!O273)","v":""},{"$f":"IF(ISBLANK(Trait_Etrangers!P273),\"\",Trait_Etrangers!P273)","v":""},null,{"$f":"IF(ISBLANK(Trait_Etrangers!R273),\"\",Trait_Etrangers!R273)","v":""},{"$f":"IF(ISBLANK(Trait_Etrangers!S273),\"\",Trait_Etrangers!S273)","v":""},{"$f":"IF(ISBLANK(Trait_Etrangers!T273),\"\",Trait_Etrangers!T273)","v":""},{"$f":"IF(ISBLANK(Trait_Etrangers!U273),\"\",Trait_Etrangers!U273)","v":""},null,null,null,"","",0,0,0,0,0,0,0,0,0,0,0,0,0,0,0,0,0,null,1,null,null,{"$f":"IF(AX273=\"\",\"\",IF(CE273=1,\"[b][color=red]\"&Datas!$D$32&\"[/color][/b]\"&AX273&\"[b][color=red]\"&Datas!$D$33&\"{\"&CD273&\"}[/color][/b]\",AX273))","v":{"$error":"#N/A"}},{"$error":"#N/A"}," ",{"$f":"IF(ISBLANK(Datas!$C$47),\"\",\" - \"&BG273)","v":{"$error":"#N/A"}},{"$f":"IF(ISBLANK(Datas!$C$48),\"\",\" - \"&BH273)","v":" - "},{"$f":"IF(ISBLANK(Datas!$C$49),\"\",\" - \"&BI273)","v":""},{"$f":"IF(ISBLANK(Datas!$C$50),\"\",\" - \"&BJ273)","v":" - Ecus:"},{"$f":"IF(ISBLANK(Datas!$C$51),\"\",\" - \"&BK273)","v":" - Niv: "},null,{"$error":"#N/A"},{"$error":"#N/A"},"","PR:","Ecus:","Niv: ",null,null,null,null,"",{"$f":"VLOOKUP(BP273,LstVillage!$B$8:$C$283,1)","v":{"$error":"#N/A"}},{"$error":"#N/A"},{"$error":"#N/A"},"",{"$f":"VLOOKUP(BT273,Datas!$G$6:$G$17,1)","v":{"$error":"#N/A"}},{"$error":"#N/A"},{"$error":"#N/A"},null,"",0,0,null,{"$f":"VLOOKUP(BP273,Liste_Noire!$B$15:$G$1208,1)","v":{"$error":"#N/A"}},{"$f":"VLOOKUP(BP273,Liste_Noire!$B$15:$G$1208,5)","v":{"$error":"#N/A"}},{"$error":"#N/A"},null,0,0,0,0,0,0,1]
[null,""," ","","","","","",{"$f":"IF(ISBLANK(Trait_Etrangers!H274),\"\",Trait_Etrangers!H274)","v":""},{"$f":"IF(ISBLANK(Trait_Etrangers!I274),\"\",Trait_Etrangers!I274)","v":""},{"$f":"IF(ISBLANK(Trait_Etrangers!J274),\"\",Trait_Etrangers!J274)","v":""},{"$f":"IF(ISBLANK(Trait_Etrangers!K274),\"\",Trait_Etrangers!K274)","v":""},{"$f":"IF(ISBLANK(Trait_Etrangers!L274),\"\",Trait_Etrangers!L274)","v":""},{"$f":"IF(ISBLANK(Trait_Etrangers!M274),\"\",Trait_Etrangers!M274)","v":""},{"$f":"IF(ISBLANK(Trait_Etrangers!N274),\"\",Trait_Etrangers!N274)","v":""},{"$f":"IF(ISBLANK(Trait_Etrangers!O274),\"\",Trait_Etrangers!O274)","v":""},{"$f":"IF(ISBLANK(Trait_Etrangers!P274),\"\",Trait_Etrangers!P274)","v":""},null,{"$f":"IF(ISBLANK(Trait_Etrangers!R274),\"\",Trait_Etrangers!R274)","v":""},{"$f":"IF(ISBLANK(Trait_Etrangers!S274),\"\",Trait_Etrangers!S274)","v":""},{"$f":"IF(ISBLANK(Trait_Etrangers!T274),\"\",Trait_Etrangers!T274)","v":""},{"$f":"IF(ISBLANK(Trait_Etrangers!U274),\"\",Trait_Etrangers!U274)","v":""},null,null,null,"","",0,0,0,0,0,0,0,0,0,0,0,0,0,0,0,0,0,null,1,null,null,{"$f":"IF(AX274=\"\",\"\",IF(CE274=1,\"[b][color=red]\"&Datas!$D$32&\"[/color][/b]\"&AX274&\"[b][color=red]\"&Datas!$D$33&\"{\"&CD274&\"}[/color][/b]\",AX274))","v":{"$error":"#N/A"}},{"$error":"#N/A"}," ",{"$f":"IF(ISBLANK(Datas!$C$47),\"\",\" - \"&BG274)","v":{"$error":"#N/A"}},{"$f":"IF(ISBLANK(Datas!$C$48),\"\",\" - \"&BH274)","v":" - "},{"$f":"IF(ISBLANK(Datas!$C$49),\"\",\" - \"&BI274)","v":""},{"$f":"IF(ISBLANK(Datas!$C$50),\"\",\" - \"&BJ274)","v":" - Ecus:"},{"$f":"IF(ISBLANK(Datas!$C$51),\"\",\" - \"&BK274)","v":" - Niv: "},null,{"$error":"#N/A"},{"$error":"#N/A"},"","PR:","Ecus:","Niv: ",null,null,null,null,"",{"$f":"VLOOKUP(BP274,LstVillage!$B$8:$C$283,1)","v":{"$error":"#N/A"}},{"$error":"#N/A"},{"$error":"#N/A"},"",{"$f":"VLOOKUP(BT274,Datas!$G$6:$G$17,1)","v":{"$error":"#N/A"}},{"$error":"#N/A"},{"$error":"#N/A"},null,"",0,0,null,{"$f":"VLOOKUP(BP274,Liste_Noire!$B$15:$G$1208,1)","v":{"$error":"#N/A"}},{"$f":"VLOOKUP(BP274,Liste_Noire!$B$15:$G$1208,5)","v":{"$error":"#N/A"}},{"$error":"#N/A"},null,0,0,0,0,0,0,1]
[null,""," ","","","","","",{"$f":"IF(ISBLANK(Trait_Etrangers!H275),\"\",Trait_Etrangers!H275)","v":""},{"$f":"IF(ISBLANK(Trait_Etrangers!I275),\"\",Trait_Etrangers!I275)","v":""},{"$f":"IF(ISBLANK(Trait_Etrangers!J275),\"\",Trait_Etrangers!J275)","v":""},{"$f":"IF(ISBLANK(Trait_Etrangers!K275),\"\",Trait_Etrangers!K275)","v":""},{"$f":"IF(ISBLANK(Trait_Etrangers!L275),\"\",Trait_Etrangers!L275)","v":""},{"$f":"IF(ISBLANK(Trait_Etrangers!M275),\"\",Trait_Etrangers!M275)","v":""},{"$f":"IF(ISBLANK(Trait_Etrangers!N275),\"\",Trait_Etrangers!N275)","v":""},{"$f":"IF(ISBLANK(Trait_Etrangers!O275),\"\",Trait_Etrangers!O275)","v":""},{"$f":"IF(ISBLANK(Trait_Etrangers!P275),\"\",Trait_Etrangers!P275)","v":""},null,{"$f":"IF(ISBLANK(Trait_Etrangers!R275),\"\",Trait_Etrangers!R275)","v":""},{"$f":"IF(ISBLANK(Trait_Etrangers!S275),\"\",Trait_Etrangers!S275)","v":""},{"$f":"IF(ISBLANK(Trait_Etrangers!T275),\"\",Trait_Etrangers!T275)","v":""},{"$f":"IF(ISBLANK(Trait_Etrangers!U275),\"\",Trait_Etrangers!U275)","v":""},null,null,null,"","",0,0,0,0,0,0,0,0,0,0,0,0,0,0,0,0,0,null,1,null,null,{"$f":"IF(AX275=\"\",\"\",IF(CE275=1,\"[b][color=red]\"&Datas!$D$32&\"[/color][/b]\"&AX275&\"[b][color=red]\"&Datas!$D$33&\"{\"&CD275&\"}[/color][/b]\",AX275))","v":{"$error":"#N/A"}},{"$error":"#N/A"}," ",{"$f":"IF(ISBLANK(Datas!$C$47),\"\",\" - \"&BG275)","v":{"$error":"#N/A"}},{"$f":"IF(ISBLANK(Datas!$C$48),\"\",\" - \"&BH275)","v":" - "},{"$f":"IF(ISBLANK(Datas!$C$49),\"\",\" - \"&BI275)","v":""},{"$f":"IF(ISBLANK(Datas!$C$50),\"\",\" - \"&BJ275)","v":" - Ecus:"},{"$f":"IF(ISBLANK(Datas!$C$51),\"\",\" - \"&BK275)","v":" - Niv: "},null,{"$error":"#N/A"},{"$error":"#N/A"},"","PR:","Ecus:","Niv: ",null,null,null,null,"",{"$f":"VLOOKUP(BP275,LstVillage!$B$8:$C$283,1)","v":{"$error":"#N/A"}},{"$error":"#N/A"},{"$error":"#N/A"},"",{"$f":"VLOOKUP(BT275,Datas!$G$6:$G$17,1)","v":{"$error":"#N/A"}},{"$error":"#N/A"},{"$error":"#N/A"},null,"",0,0,null,{"$f":"VLOOKUP(BP275,Liste_Noire!$B$15:$G$1208,1)","v":{"$error":"#N/A"}},{"$f":"VLOOKUP(BP275,Liste_Noire!$B$15:$G$1208,5)","v":{"$error":"#N/A"}},{"$error":"#N/A"},null,0,0,0,0,0,0,1]
[null,""," ","","","","","",{"$f":"IF(ISBLANK(Trait_Etrangers!H276),\"\",Trait_Etrangers!H276)","v":""},{"$f":"IF(ISBLANK(Trait_Etrangers!I276),\"\",Trait_Etrangers!I276)","v":""},{"$f":"IF(ISBLANK(Trait_Etrangers!J276),\"\",Trait_Etrangers!J276)","v":""},{"$f":"IF(ISBLANK(Trait_Etrangers!K276),\"\",Trait_Etrangers!K276)","v":""},{"$f":"IF(ISBLANK(Trait_Etrangers!L276),\"\",Trait_Etrangers!L276)","v":""},{"$f":"IF(ISBLANK(Trait_Etrangers!M276),\"\",Trait_Etrangers!M276)","v":""},{"$f":"IF(ISBLANK(Trait_Etrangers!N276),\"\",Trait_Etrangers!N276)","v":""},{"$f":"IF(ISBLANK(Trait_Etrangers!O276),\"\",Trait_Etrangers!O276)","v":""},{"$f":"IF(ISBLANK(Trait_Etrangers!P276),\"\",Trait_Etrangers!P276)","v":""},null,{"$f":"IF(ISBLANK(Trait_Etrangers!R276),\"\",Trait_Etrangers!R276)","v":""},{"$f":"IF(ISBLANK(Trait_Etrangers!S276),\"\",Trait_Etrangers!S276)","v":""},{"$f":"IF(ISBLANK(Trait_Etrangers!T276),\"\",Trait_Etrangers!T276)","v":""},{"$f":"IF(ISBLANK(Trait_Etrangers!U276),\"\",Trait_Etrangers!U276)","v":""},null,null,null,"","",0,0,0,0,0,0,0,0,0,0,0,0,0,0,0,0,0,null,1,null,null,{"$f":"IF(AX276=\"\",\"\",IF(CE276=1,\"[b][color=red]\"&Datas!$D$32&\"[/color][/b]\"&AX276&\"[b][color=red]\"&Datas!$D$33&\"{\"&CD276&\"}[/color][/b]\",AX276))","v":{"$error":"#N/A"}},{"$error":"#N/A"}," ",{"$f":"IF(ISBLANK(Datas!$C$47),\"\",\" - \"&BG276)","v":{"$error":"#N/A"}},{"$f":"IF(ISBLANK(Datas!$C$48),\"\",\" - \"&BH276)","v":" - "},{"$f":"IF(ISBLANK(Datas!$C$49),\"\",\" - \"&BI276)","v":""},{"$f":"IF(ISBLANK(Datas!$C$50),\"\",\" - \"&BJ276)","v":" - Ecus:"},{"$f":"IF(ISBLANK(Datas!$C$51),\"\",\" - \"&BK276)","v":" - Niv: "},null,{"$error":"#N/A"},{"$error":"#N/A"},"","PR:","Ecus:","Niv: ",null,null,null,null,"",{"$f":"VLOOKUP(BP276,LstVillage!$B$8:$C$283,1)","v":{"$error":"#N/A"}},{"$error":"#N/A"},{"$error":"#N/A"},"",{"$f":"VLOOKUP(BT276,Datas!$G$6:$G$17,1)","v":{"$error":"#N/A"}},{"$error":"#N/A"},{"$error":"#N/A"},null,"",0,0,null,{"$f":"VLOOKUP(BP276,Liste_Noire!$B$15:$G$1208,1)","v":{"$error":"#N/A"}},{"$f":"VLOOKUP(BP276,Liste_Noire!$B$15:$G$1208,5)","v":{"$error":"#N/A"}},{"$error":"#N/A"},null,0,0,0,0,0,0,1]
[null,""," ","","","","","",{"$f":"IF(ISBLANK(Trait_Etrangers!H277),\"\",Trait_Etrangers!H277)","v":""},{"$f":"IF(ISBLANK(Trait_Etrangers!I277),\"\",Trait_Etrangers!I277)","v":""},{"$f":"IF(ISBLANK(Trait_Etrangers!J277),\"\",Trait_Etrangers!J277)","v":""},{"$f":"IF(ISBLANK(Trait_Etrangers!K277),\"\",Trait_Etrangers!K277)","v":""},{"$f":"IF(ISBLANK(Trait_Etrangers!L277),\"\",Trait_Etrangers!L277)","v":""},{"$f":"IF(ISBLANK(Trait_Etrangers!M277),\"\",Trait_Etrangers!M277)","v":""},{"$f":"IF(ISBLANK(Trait_Etrangers!N277),\"\",Trait_Etrangers!N277)","v":""},{"$f":"IF(ISBLANK(Trait_Etrangers!O277),\"\",Trait_Etrangers!O277)","v":""},{"$f":"IF(ISBLANK(Trait_Etrangers!P277),\"\",Trait_Etrangers!P277)","v":""},null,{"$f":"IF(ISBLANK(Trait_Etrangers!R277),\"\",Trait_Etrangers!R277)","v":""},{"$f":"IF(ISBLANK(Trait_Etrangers!S277),\"\",Trait_Etrangers!S277)","v":""},{"$f":"IF(ISBLANK(Trait_Etrangers!T277),\"\",Trait_Etrangers!T277)","v":""},{"$f":"IF(ISBLANK(Trait_Etrangers!U277),\"\",Trait_Etrangers!U277)","v":""},null,null,null,"","",0,0,0,0,0,0,0,0,0,0,0,0,0,0,0,0,0,null,1,null,null,{"$f":"IF(AX277=\"\",\"\",IF(CE277=1,\"[b][color=red]\"&Datas!$D$32&\"[/color][/b]\"&AX277&\"[b][color=red]\"&Datas!$D$33&\"{\"&CD277&\"}[/color][/b]\",AX277))","v":{"$error":"#N/A"}},{"$error":"#N/A"}," ",{"$f":"IF(ISBLANK(Datas!$C$47),\"\",\" - \"&BG277)","v":{"$error":"#N/A"}},{"$f":"IF(ISBLANK(Datas!$C$48),\"\",\" - \"&BH277)","v":" - "},{"$f":"IF(ISBLANK(Datas!$C$49),\"\",\" - \"&BI277)","v":""},{"$f":"IF(ISBLANK(Datas!$C$50),\"\",\" - \"&BJ277)","v":" - Ecus:"},{"$f":"IF(ISBLANK(Datas!$C$51),\"\",\" - \"&BK277)","v":" - Niv: "},null,{"$error":"#N/A"},{"$error":"#N/A"},"","PR:","Ecus:","Niv: ",null,null,null,null,"",{"$f":"VLOOKUP(BP277,LstVillage!$B$8:$C$283,1)","v":{"$error":"#N/A"}},{"$error":"#N/A"},{"$error":"#N/A"},"",{"$f":"VLOOKUP(BT277,Datas!$G$6:$G$17,1)","v":{"$error":"#N/A"}},{"$error":"#N/A"},{"$error":"#N/A"},null,"",0,0,null,{"$f":"VLOOKUP(BP277,Liste_Noire!$B$15:$G$1208,1)","v":{"$error":"#N/A"}},{"$f":"VLOOKUP(BP277,Liste_Noire!$B$15:$G$1208,5)","v":{"$error":"#N/A"}},{"$error":"#N/A"},null,0,0,0,0,0,0,1]
[null,""," ","","","","","",{"$f":"IF(ISBLANK(Trait_Etrangers!H278),\"\",Trait_Etrangers!H278)","v":""},{"$f":"IF(ISBLANK(Trait_Etrangers!I278),\"\",Trait_Etrangers!I278)","v":""},{"$f":"IF(ISBLANK(Trait_Etrangers!J278),\"\",Trait_Etrangers!J278)","v":""},{"$f":"IF(ISBLANK(Trait_Etrangers!K278),\"\",Trait_Etrangers!K278)","v":""},{"$f":"IF(ISBLANK(Trait_Etrangers!L278),\"\",Trait_Etrangers!L278)","v":""},{"$f":"IF(ISBLANK(Trait_Etrangers!M278),\"\",Trait_Etrangers!M278)","v":""},{"$f":"IF(ISBLANK(Trait_Etrangers!N278),\"\",Trait_Etrangers!N278)","v":""},{"$f":"IF(ISBLANK(Trait_Etrangers!O278),\"\",Trait_Etrangers!O278)","v":""},{"$f":"IF(ISBLANK(Trait_Etrangers!P278),\"\",Trait_Etrangers!P278)","v":""},null,{"$f":"IF(ISBLANK(Trait_Etrangers!R278),\"\",Trait_Etrangers!R278)","v":""},{"$f":"IF(ISBLANK(Trait_Etrangers!S278),\"\",Trait_Etrangers!S278)","v":""},{"$f":"IF(ISBLANK(Trait_Etrangers!T278),\"\",Trait_Etrangers!T278)","v":""},{"$f":"IF(ISBLANK(Trait_Etrangers!U278),\"\",Trait_Etrangers!U278)","v":""},null,null,null,"","",0,0,0,0,0,0,0,0,0,0,0,0,0,0,0,0,0,null,1,null,null,{"$f":"IF(AX278=\"\",\"\",IF(CE278=1,\"[b][color=red]\"&Datas!$D$32&\"[/color][/b]\"&AX278&\"[b][color=red]\"&Datas!$D$33&\"{\"&CD278&\"}[/color][/b]\",AX278))","v":{"$error":"#N/A"}},{"$error":"#N/A"}," ",{"$f":"IF(ISBLANK(Datas!$C$47),\"\",\" - \"&BG278)","v":{"$error":"#N/A"}},{"$f":"IF(ISBLANK(Datas!$C$48),\"\",\" - \"&BH278)","v":" - "},{"$f":"IF(ISBLANK(Datas!$C$49),\"\",\" - \"&BI278)","v":""},{"$f":"IF(ISBLANK(Datas!$C$50),\"\",\" - \"&BJ278)","v":" - Ecus:"},{"$f":"IF(ISBLANK(Datas!$C$51),\"\",\" - \"&BK278)","v":" - Niv: "},null,{"$error":"#N/A"},{"$error":"#N/A"},"","PR:","Ecus:","Niv: ",null,null,null,null,"",{"$f":"VLOOKUP(BP278,LstVillage!$B$8:$C$283,1)","v":{"$error":"#N/A"}},{"$error":"#N/A"},{"$error":"#N/A"},"",{"$f":"VLOOKUP(BT278,Datas!$G$6:$G$17,1)","v":{"$error":"#N/A"}},{"$error":"#N/A"},{"$error":"#N/A"},null,"",0,0,null,{"$f":"VLOOKUP(BP278,Liste_Noire!$B$15:$G$1208,1)","v":{"$error":"#N/A"}},{"$f":"VLOOKUP(BP278,Liste_Noire!$B$15:$G$1208,5)","v":{"$error":"#N/A"}},{"$error":"#N/A"},null,0,0,0,0,0,0,1]
[null,""," ","","","","","",{"$f":"IF(ISBLANK(Trait_Etrangers!H279),\"\",Trait_Etrangers!H279)","v":""},{"$f":"IF(ISBLANK(Trait_Etrangers!I279),\"\",Trait_Etrangers!I279)","v":""},{"$f":"IF(ISBLANK(Trait_Etrangers!J279),\"\",Trait_Etrangers!J279)","v":""},{"$f":"IF(ISBLANK(Trait_Etrangers!K279),\"\",Trait_Etrangers!K279)","v":""},{"$f":"IF(ISBLANK(Trait_Etrangers!L279),\"\",Trait_Etrangers!L279)","v":""},{"$f":"IF(ISBLANK(Trait_Etrangers!M279),\"\",Trait_Etrangers!M279)","v":""},{"$f":"IF(ISBLANK(Trait_Etrangers!N279),\"\",Trait_Etrangers!N279)","v":""},{"$f":"IF(ISBLANK(Trait_Etrangers!O279),\"\",Trait_Etrangers!O279)","v":""},{"$f":"IF(ISBLANK(Trait_Etrangers!P279),\"\",Trait_Etrangers!P279)","v":""},null,{"$f":"IF(ISBLANK(Trait_Etrangers!R279),\"\",Trait_Etrangers!R279)","v":""},{"$f":"IF(ISBLANK(Trait_Etrangers!S279),\"\",Trait_Etrangers!S279)","v":""},{"$f":"IF(ISBLANK(Trait_Etrangers!T279),\"\",Trait_Etrangers!T279)","v":""},{"$f":"IF(ISBLANK(Trait_Etrangers!U279),\"\",Trait_Etrangers!U279)","v":""},null,null,null,"","",0,0,0,0,0,0,0,0,0,0,0,0,0,0,0,0,0,null,1,null,null,{"$f":"IF(AX279=\"\",\"\",IF(CE279=1,\"[b][color=red]\"&Datas!$D$32&\"[/color][/b]\"&AX279&\"[b][color=red]\"&Datas!$D$33&\"{\"&CD279&\"}[/color][/b]\",AX279))","v":{"$error":"#N/A"}},{"$error":"#N/A"}," ",{"$f":"IF(ISBLANK(Datas!$C$47),\"\",\" - \"&BG279)","v":{"$error":"#N/A"}},{"$f":"IF(ISBLANK(Datas!$C$48),\"\",\" - \"&BH279)","v":" - "},{"$f":"IF(ISBLANK(Datas!$C$49),\"\",\" - \"&BI279)","v":""},{"$f":"IF(ISBLANK(Datas!$C$50),\"\",\" - \"&BJ279)","v":" - Ecus:"},{"$f":"IF(ISBLANK(Datas!$C$51),\"\",\" - \"&BK279)","v":" - Niv: "},null,{"$error":"#N/A"},{"$error":"#N/A"},"","PR:","Ecus:","Niv: ",null,null,null,null,"",{"$f":"VLOOKUP(BP279,LstVillage!$B$8:$C$283,1)","v":{"$error":"#N/A"}},{"$error":"#N/A"},{"$error":"#N/A"},"",{"$f":"VLOOKUP(BT279,Datas!$G$6:$G$17,1)","v":{"$error":"#N/A"}},{"$error":"#N/A"},{"$error":"#N/A"},null,"",0,0,null,{"$f":"VLOOKUP(BP279,Liste_Noire!$B$15:$G$1208,1)","v":{"$error":"#N/A"}},{"$f":"VLOOKUP(BP279,Liste_Noire!$B$15:$G$1208,5)","v":{"$error":"#N/A"}},{"$error":"#N/A"},null,0,0,0,0,0,0,1]
[null,""," ","","","","","",{"$f":"IF(ISBLANK(Trait_Etrangers!H280),\"\",Trait_Etrangers!H280)","v":""},{"$f":"IF(ISBLANK(Trait_Etrangers!I280),\"\",Trait_Etrangers!I280)","v":""},{"$f":"IF(ISBLANK(Trait_Etrangers!J280),\"\",Trait_Etrangers!J280)","v":""},{"$f":"IF(ISBLANK(Trait_Etrangers!K280),\"\",Trait_Etrangers!K280)","v":""},{"$f":"IF(ISBLANK(Trait_Etrangers!L280),\"\",Trait_Etrangers!L280)","v":""},{"$f":"IF(ISBLANK(Trait_Etrangers!M280),\"\",Trait_Etrangers!M280)","v":""},{"$f":"IF(ISBLANK(Trait_Etrangers!N280),\"\",Trait_Etrangers!N280)","v":""},{"$f":"IF(ISBLANK(Trait_Etrangers!O280),\"\",Trait_Etrangers!O280)","v":""},{"$f":"IF(ISBLANK(Trait_Etrangers!P280),\"\",Trait_Etrangers!P280)","v":""},null,{"$f":"IF(ISBLANK(Trait_Etrangers!R280),\"\",Trait_Etrangers!R280)","v":""},{"$f":"IF(ISBLANK(Trait_Etrangers!S280),\"\",Trait_Etrangers!S280)","v":""},{"$f":"IF(ISBLANK(Trait_Etrangers!T280),\"\",Trait_Etrangers!T280)","v":""},{"$f":"IF(ISBLANK(Trait_Etrangers!U280),\"\",Trait_Etrangers!U280)","v":""},null,null,null,"","",0,0,0,0,0,0,0,0,0,0,0,0,0,0,0,0,0,null,1,null,null,{"$f":"IF(AX280=\"\",\"\",IF(CE280=1,\"[b][color=red]\"&Datas!$D$32&\"[/color][/b]\"&AX280&\"[b][color=red]\"&Datas!$D$33&\"{\"&CD280&\"}[/color][/b]\",AX280))","v":{"$error":"#N/A"}},{"$error":"#N/A"}," ",{"$f":"IF(ISBLANK(Datas!$C$47),\"\",\" - \"&BG280)","v":{"$error":"#N/A"}},{"$f":"IF(ISBLANK(Datas!$C$48),\"\",\" - \"&BH280)","v":" - "},{"$f":"IF(ISBLANK(Datas!$C$49),\"\",\" - \"&BI280)","v":""},{"$f":"IF(ISBLANK(Datas!$C$50),\"\",\" - \"&BJ280)","v":" - Ecus:"},{"$f":"IF(ISBLANK(Datas!$C$51),\"\",\" - \"&BK280)","v":" - Niv: "},null,{"$error":"#N/A"},{"$error":"#N/A"},"","PR:","Ecus:","Niv: ",null,null,null,null,"",{"$f":"VLOOKUP(BP280,LstVillage!$B$8:$C$283,1)","v":{"$error":"#N/A"}},{"$error":"#N/A"},{"$error":"#N/A"},"",{"$f":"VLOOKUP(BT280,Datas!$G$6:$G$17,1)","v":{"$error":"#N/A"}},{"$error":"#N/A"},{"$error":"#N/A"},null,"",0,0,null,{"$f":"VLOOKUP(BP280,Liste_Noire!$B$15:$G$1208,1)","v":{"$error":"#N/A"}},{"$f":"VLOOKUP(BP280,Liste_Noire!$B$15:$G$1208,5)","v":{"$error":"#N/A"}},{"$error":"#N/A"},null,0,0,0,0,0,0,1]
[null,""," ","","","","","",{"$f":"IF(ISBLANK(Trait_Etrangers!H281),\"\",Trait_Etrangers!H281)","v":""},{"$f":"IF(ISBLANK(Trait_Etrangers!I281),\"\",Trait_Etrangers!I281)","v":""},{"$f":"IF(ISBLANK(Trait_Etrangers!J281),\"\",Trait_Etrangers!J281)","v":""},{"$f":"IF(ISBLANK(Trait_Etrangers!K281),\"\",Trait_Etrangers!K281)","v":""},{"$f":"IF(ISBLANK(Trait_Etrangers!L281),\"\",Trait_Etrangers!L281)","v":""},{"$f":"IF(ISBLANK(Trait_Etrangers!M281),\"\",Trait_Etrangers!M281)","v":""},{"$f":"IF(ISBLANK(Trait_Etrangers!N281),\"\",Trait_Etrangers!N281)","v":""},{"$f":"IF(ISBLANK(Trait_Etrangers!O281),\"\",Trait_Etrangers!O281)","v":""},{"$f":"IF(ISBLANK(Trait_Etrangers!P281),\"\",Trait_Etrangers!P281)","v":""},null,{"$f":"IF(ISBLANK(Trait_Etrangers!R281),\"\",Trait_Etrangers!R281)","v":""},{"$f":"IF(ISBLANK(Trait_Etrangers!S281),\"\",Trait_Etrangers!S281)","v":""},{"$f":"IF(ISBLANK(Trait_Etrangers!T281),\"\",Trait_Etrangers!T281)","v":""},{"$f":"IF(ISBLANK(Trait_Etrangers!U281),\"\",Trait_Etrangers!U281)","v":""},null,null,null,"","",0,0,0,0,0,0,0,0,0,0,0,0,0,0,0,0,0,null,1,null,null,{"$f":"IF(AX281=\"\",\"\",IF(CE281=1,\"[b][color=red]\"&Datas!$D$32&\"[/color][/b]\"&AX281&\"[b][color=red]\"&Datas!$D$33&\"{\"&CD281&\"}[/color][/b]\",AX281))","v":{"$error":"#N/A"}},{"$error":"#N/A"}," ",{"$f":"IF(ISBLANK(Datas!$C$47),\"\",\" - \"&BG281)","v":{"$error":"#N/A"}},{"$f":"IF(ISBLANK(Datas!$C$48),\"\",\" - \"&BH281)","v":" - "},{"$f":"IF(ISBLANK(Datas!$C$49),\"\",\" - \"&BI281)","v":""},{"$f":"IF(ISBLANK(Datas!$C$50),\"\",\" - \"&BJ281)","v":" - Ecus:"},{"$f":"IF(ISBLANK(Datas!$C$51),\"\",\" - \"&BK281)","v":" - Niv: "},null,{"$error":"#N/A"},{"$error":"#N/A"},"","PR:","Ecus:","Niv: ",null,null,null,null,"",{"$f":"VLOOKUP(BP281,LstVillage!$B$8:$C$283,1)","v":{"$error":"#N/A"}},{"$error":"#N/A"},{"$error":"#N/A"},"",{"$f":"VLOOKUP(BT281,Datas!$G$6:$G$17,1)","v":{"$error":"#N/A"}},{"$error":"#N/A"},{"$error":"#N/A"},null,"",0,0,null,{"$f":"VLOOKUP(BP281,Liste_Noire!$B$15:$G$1208,1)","v":{"$error":"#N/A"}},{"$f":"VLOOKUP(BP281,Liste_Noire!$B$15:$G$1208,5)","v":{"$error":"#N/A"}},{"$error":"#N/A"},null,0,0,0,0,0,0,1]
[null,""," ","","","","","",{"$f":"IF(ISBLANK(Trait_Etrangers!H282),\"\",Trait_Etrangers!H282)","v":""},{"$f":"IF(ISBLANK(Trait_Etrangers!I282),\"\",Trait_Etrangers!I282)","v":""},{"$f":"IF(ISBLANK(Trait_Etrangers!J282),\"\",Trait_Etrangers!J282)","v":""},{"$f":"IF(ISBLANK(Trait_Etrangers!K282),\"\",Trait_Etrangers!K282)","v":""},{"$f":"IF(ISBLANK(Trait_Etrangers!L282),\"\",Trait_Etrangers!L282)","v":""},{"$f":"IF(ISBLANK(Trait_Etrangers!M282),\"\",Trait_Etrangers!M282)","v":""},{"$f":"IF(ISBLANK(Trait_Etrangers!N282),\"\",Trait_Etrangers!N282)","v":""},{"$f":"IF(ISBLANK(Trait_Etrangers!O282),\"\",Trait_Etrangers!O282)","v":""},{"$f":"IF(ISBLANK(Trait_Etrangers!P282),\"\",Trait_Etrangers!P282)","v":""},null,{"$f":"IF(ISBLANK(Trait_Etrangers!R282),\"\",Trait_Etrangers!R282)","v":""},{"$f":"IF(ISBLANK(Trait_Etrangers!S282),\"\",Trait_Etrangers!S282)","v":""},{"$f":"IF(ISBLANK(Trait_Etrangers!T282),\"\",Trait_Etrangers!T282)","v":""},{"$f":"IF(ISBLANK(Trait_Etrangers!U282),\"\",Trait_Etrangers!U282)","v":""},null,null,null,"","",0,0,0,0,0,0,0,0,0,0,0,0,0,0,0,0,0,null,1,null,null,{"$f":"IF(AX282=\"\",\"\",IF(CE282=1,\"[b][color=red]\"&Datas!$D$32&\"[/color][/b]\"&AX282&\"[b][color=red]\"&Datas!$D$33&\"{\"&CD282&\"}[/color][/b]\",AX282))","v":{"$error":"#N/A"}},{"$error":"#N/A"}," ",{"$f":"IF(ISBLANK(Datas!$C$47),\"\",\" - \"&BG282)","v":{"$error":"#N/A"}},{"$f":"IF(ISBLANK(Datas!$C$48),\"\",\" - \"&BH282)","v":" - "},{"$f":"IF(ISBLANK(Datas!$C$49),\"\",\" - \"&BI282)","v":""},{"$f":"IF(ISBLANK(Datas!$C$50),\"\",\" - \"&BJ282)","v":" - Ecus:"},{"$f":"IF(ISBLANK(Datas!$C$51),\"\",\" - \"&BK282)","v":" - Niv: "},null,{"$error":"#N/A"},{"$error":"#N/A"},"","PR:","Ecus:","Niv: ",null,null,null,null,"",{"$f":"VLOOKUP(BP282,LstVillage!$B$8:$C$283,1)","v":{"$error":"#N/A"}},{"$error":"#N/A"},{"$error":"#N/A"},"",{"$f":"VLOOKUP(BT282,Datas!$G$6:$G$17,1)","v":{"$error":"#N/A"}},{"$error":"#N/A"},{"$error":"#N/A"},null,"",0,0,null,{"$f":"VLOOKUP(BP282,Liste_Noire!$B$15:$G$1208,1)","v":{"$error":"#N/A"}},{"$f":"VLOOKUP(BP282,Liste_Noire!$B$15:$G$1208,5)","v":{"$error":"#N/A"}},{"$error":"#N/A"},null,0,0,0,0,0,0,1]
[null,""," ","","","","","",{"$f":"IF(ISBLANK(Trait_Etrangers!H283),\"\",Trait_Etrangers!H283)","v":""},{"$f":"IF(ISBLANK(Trait_Etrangers!I283),\"\",Trait_Etrangers!I283)","v":""},{"$f":"IF(ISBLANK(Trait_Etrangers!J283),\"\",Trait_Etrangers!J283)","v":""},{"$f":"IF(ISBLANK(Trait_Etrangers!K283),\"\",Trait_Etrangers!K283)","v":""},{"$f":"IF(ISBLANK(Trait_Etrangers!L283),\"\",Trait_Etrangers!L283)","v":""},{"$f":"IF(ISBLANK(Trait_Etrangers!M283),\"\",Trait_Etrangers!M283)","v":""},{"$f":"IF(ISBLANK(Trait_Etrangers!N283),\"\",Trait_Etrangers!N283)","v":""},{"$f":"IF(ISBLANK(Trait_Etrangers!O283),\"\",Trait_Etrangers!O283)","v":""},{"$f":"IF(ISBLANK(Trait_Etrangers!P283),\"\",Trait_Etrangers!P283)","v":""},null,{"$f":"IF(ISBLANK(Trait_Etrangers!R283),\"\",Trait_Etrangers!R283)","v":""},{"$f":"IF(ISBLANK(Trait_Etrangers!S283),\"\",Trait_Etrangers!S283)","v":""},{"$f":"IF(ISBLANK(Trait_Etrangers!T283),\"\",Trait_Etrangers!T283)","v":""},{"$f":"IF(ISBLANK(Trait_Etrangers!U283),\"\",Trait_Etrangers!U283)","v":""},null,null,null,"","",0,0,0,0,0,0,0,0,0,0,0,0,0,0,0,0,0,null,1,null,null,{"$f":"IF(AX283=\"\",\"\",IF(CE283=1,\"[b][color=red]\"&Datas!$D$32&\"[/color][/b]\"&AX283&\"[b][color=red]\"&Datas!$D$33&\"{\"&CD283&\"}[/color][/b]\",AX283))","v":{"$error":"#N/A"}},{"$error":"#N/A"}," ",{"$f":"IF(ISBLANK(Datas!$C$47),\"\",\" - \"&BG283)","v":{"$error":"#N/A"}},{"$f":"IF(ISBLANK(Datas!$C$48),\"\",\" - \"&BH283)","v":" - "},{"$f":"IF(ISBLANK(Datas!$C$49),\"\",\" - \"&BI283)","v":""},{"$f":"IF(ISBLANK(Datas!$C$50),\"\",\" - \"&BJ283)","v":" - Ecus:"},{"$f":"IF(ISBLANK(Datas!$C$51),\"\",\" - \"&BK283)","v":" - Niv: "},null,{"$error":"#N/A"},{"$error":"#N/A"},"","PR:","Ecus:","Niv: ",null,null,null,null,"",{"$f":"VLOOKUP(BP283,LstVillage!$B$8:$C$283,1)","v":{"$error":"#N/A"}},{"$error":"#N/A"},{"$error":"#N/A"},"",{"$f":"VLOOKUP(BT283,Datas!$G$6:$G$17,1)","v":{"$error":"#N/A"}},{"$error":"#N/A"},{"$error":"#N/A"},null,"",0,0,null,{"$f":"VLOOKUP(BP283,Liste_Noire!$B$15:$G$1208,1)","v":{"$error":"#N/A"}},{"$f":"VLOOKUP(BP283,Liste_Noire!$B$15:$G$1208,5)","v":{"$error":"#N/A"}},{"$error":"#N/A"},null,0,0,0,0,0,0,1]
[null,""," ","","","","","",{"$f":"IF(ISBLANK(Trait_Etrangers!H284),\"\",Trait_Etrangers!H284)","v":""},{"$f":"IF(ISBLANK(Trait_Etrangers!I284),\"\",Trait_Etrangers!I284)","v":""},{"$f":"IF(ISBLANK(Trait_Etrangers!J284),\"\",Trait_Etrangers!J284)","v":""},{"$f":"IF(ISBLANK(Trait_Etrangers!K284),\"\",Trait_Etrangers!K284)","v":""},{"$f":"IF(ISBLANK(Trait_Etrangers!L284),\"\",Trait_Etrangers!L284)","v":""},{"$f":"IF(ISBLANK(Trait_Etrangers!M284),\"\",Trait_Etrangers!M284)","v":""},{"$f":"IF(ISBLANK(Trait_Etrangers!N284),\"\",Trait_Etrangers!N284)","v":""},{"$f":"IF(ISBLANK(Trait_Etrangers!O284),\"\",Trait_Etrangers!O284)","v":""},{"$f":"IF(ISBLANK(Trait_Etrangers!P284),\"\",Trait_Etrangers!P284)","v":""},null,{"$f":"IF(ISBLANK(Trait_Etrangers!R284),\"\",Trait_Etrangers!R284)","v":""},{"$f":"IF(ISBLANK(Trait_Etrangers!S284),\"\",Trait_Etrangers!S284)","v":""},{"$f":"IF(ISBLANK(Trait_Etrangers!T284),\"\",Trait_Etrangers!T284)","v":""},{"$f":"IF(ISBLANK(Trait_Etrangers!U284),\"\",Trait_Etrangers!U284)","v":""},null,null,null,"","",0,0,0,0,0,0,0,0,0,0,0,0,0,0,0,0,0,null,1,null,null,{"$f":"IF(AX284=\"\",\"\",IF(CE284=1,\"[b][color=red]\"&Datas!$D$32&\"[/color][/b]\"&AX284&\"[b][color=red]\"&Datas!$D$33&\"{\"&CD284&\"}[/color][/b]\",AX284))","v":{"$error":"#N/A"}},{"$error":"#N/A"}," ",{"$f":"IF(ISBLANK(Datas!$C$47),\"\",\" - \"&BG284)","v":{"$error":"#N/A"}},{"$f":"IF(ISBLANK(Datas!$C$48),\"\",\" - \"&BH284)","v":" - "},{"$f":"IF(ISBLANK(Datas!$C$49),\"\",\" - \"&BI284)","v":""},{"$f":"IF(ISBLANK(Datas!$C$50),\"\",\" - \"&BJ284)","v":" - Ecus:"},{"$f":"IF(ISBLANK(Datas!$C$51),\"\",\" - \"&BK284)","v":" - Niv: "},null,{"$error":"#N/A"},{"$error":"#N/A"},"","PR:","Ecus:","Niv: ",null,null,null,null,"",{"$f":"VLOOKUP(BP284,LstVillage!$B$8:$C$283,1)","v":{"$error":"#N/A"}},{"$error":"#N/A"},{"$error":"#N/A"},"",{"$f":"VLOOKUP(BT284,Datas!$G$6:$G$17,1)","v":{"$error":"#N/A"}},{"$error":"#N/A"},{"$error":"#N/A"},null,"",0,0,null,{"$f":"VLOOKUP(BP284,Liste_Noire!$B$15:$G$1208,1)","v":{"$error":"#N/A"}},{"$f":"VLOOKUP(BP284,Liste_Noire!$B$15:$G$1208,5)","v":{"$error":"#N/A"}},{"$error":"#N/A"},null,0,0,0,0,0,0,1]
[null,""," ","","","","","",{"$f":"IF(ISBLANK(Trait_Etrangers!H285),\"\",Trait_Etrangers!H285)","v":""},{"$f":"IF(ISBLANK(Trait_Etrangers!I285),\"\",Trait_Etrangers!I285)","v":""},{"$f":"IF(ISBLANK(Trait_Etrangers!J285),\"\",Trait_Etrangers!J285)","v":""},{"$f":"IF(ISBLANK(Trait_Etrangers!K285),\"\",Trait_Etrangers!K285)","v":""},{"$f":"IF(ISBLANK(Trait_Etrangers!L285),\"\",Trait_Etrangers!L285)","v":""},{"$f":"IF(ISBLANK(Trait_Etrangers!M285),\"\",Trait_Etrangers!M285)","v":""},{"$f":"IF(ISBLANK(Trait_Etrangers!N285),\"\",Trait_Etrangers!N285)","v":""},{"$f":"IF(ISBLANK(Trait_Etrangers!O285),\"\",Trait_Etrangers!O285)","v":""},{"$f":"IF(ISBLANK(Trait_Etrangers!P285),\"\",Trait_Etrangers!P285)","v":""},null,{"$f":"IF(ISBLANK(Trait_Etrangers!R285),\"\",Trait_Etrangers!R285)","v":""},{"$f":"IF(ISBLANK(Trait_Etrangers!S285),\"\",Trait_Etrangers!S285)","v":""},{"$f":"IF(ISBLANK(Trait_Etrangers!T285),\"\",Trait_Etrangers!T285)","v":""},{"$f":"IF(ISBLANK(Trait_Etrangers!U285),\"\",Trait_Etrangers!U285)","v":""},null,null,null,"","",0,0,0,0,0,0,0,0,0,0,0,0,0,0,0,0,0,null,1,null,null,{"$f":"IF(AX285=\"\",\"\",IF(CE285=1,\"[b][color=red]\"&Datas!$D$32&\"[/color][/b]\"&AX285&\"[b][color=red]\"&Datas!$D$33&\"{\"&CD285&\"}[/color][/b]\",AX285))","v":{"$error":"#N/A"}},{"$error":"#N/A"}," ",{"$f":"IF(ISBLANK(Datas!$C$47),\"\",\" - \"&BG285)","v":{"$error":"#N/A"}},{"$f":"IF(ISBLANK(Datas!$C$48),\"\",\" - \"&BH285)","v":" - "},{"$f":"IF(ISBLANK(Datas!$C$49),\"\",\" - \"&BI285)","v":""},{"$f":"IF(ISBLANK(Datas!$C$50),\"\",\" - \"&BJ285)","v":" - Ecus:"},{"$f":"IF(ISBLANK(Datas!$C$51),\"\",\" - \"&BK285)","v":" - Niv: "},null,{"$error":"#N/A"},{"$error":"#N/A"},"","PR:","Ecus:","Niv: ",null,null,null,null,"",{"$f":"VLOOKUP(BP285,LstVillage!$B$8:$C$283,1)","v":{"$error":"#N/A"}},{"$error":"#N/A"},{"$error":"#N/A"},"",{"$f":"VLOOKUP(BT285,Datas!$G$6:$G$17,1)","v":{"$error":"#N/A"}},{"$error":"#N/A"},{"$error":"#N/A"},null,"",0,0,null,{"$f":"VLOOKUP(BP285,Liste_Noire!$B$15:$G$1208,1)","v":{"$error":"#N/A"}},{"$f":"VLOOKUP(BP285,Liste_Noire!$B$15:$G$1208,5)","v":{"$error":"#N/A"}},{"$error":"#N/A"},null,0,0,0,0,0,0,1]
[null,""," ","","","","","",{"$f":"IF(ISBLANK(Trait_Etrangers!H286),\"\",Trait_Etrangers!H286)","v":""},{"$f":"IF(ISBLANK(Trait_Etrangers!I286),\"\",Trait_Etrangers!I286)","v":""},{"$f":"IF(ISBLANK(Trait_Etrangers!J286),\"\",Trait_Etrangers!J286)","v":""},{"$f":"IF(ISBLANK(Trait_Etrangers!K286),\"\",Trait_Etrangers!K286)","v":""},{"$f":"IF(ISBLANK(Trait_Etrangers!L286),\"\",Trait_Etrangers!L286)","v":""},{"$f":"IF(ISBLANK(Trait_Etrangers!M286),\"\",Trait_Etrangers!M286)","v":""},{"$f":"IF(ISBLANK(Trait_Etrangers!N286),\"\",Trait_Etrangers!N286)","v":""},{"$f":"IF(ISBLANK(Trait_Etrangers!O286),\"\",Trait_Etrangers!O286)","v":""},{"$f":"IF(ISBLANK(Trait_Etrangers!P286),\"\",Trait_Etrangers!P286)","v":""},null,{"$f":"IF(ISBLANK(Trait_Etrangers!R286),\"\",Trait_Etrangers!R286)","v":""},{"$f":"IF(ISBLANK(Trait_Etrangers!S286),\"\",Trait_Etrangers!S286)","v":""},{"$f":"IF(ISBLANK(Trait_Etrangers!T286),\"\",Trait_Etrangers!T286)","v":""},{"$f":"IF(ISBLANK(Trait_Etrangers!U286),\"\",Trait_Etrangers!U286)","v":""},null,null,null,"","",0,0,0,0,0,0,0,0,0,0,0,0,0,0,0,0,0,null,1,null,null,{"$f":"IF(AX286=\"\",\"\",IF(CE286=1,\"[b][color=red]\"&Datas!$D$32&\"[/color][/b]\"&AX286&\"[b][color=red]\"&Datas!$D$33&\"{\"&CD286&\"}[/color][/b]\",AX286))","v":{"$error":"#N/A"}},{"$error":"#N/A"}," ",{"$f":"IF(ISBLANK(Datas!$C$47),\"\",\" - \"&BG286)","v":{"$error":"#N/A"}},{"$f":"IF(ISBLANK(Datas!$C$48),\"\",\" - \"&BH286)","v":" - "},{"$f":"IF(ISBLANK(Datas!$C$49),\"\",\" - \"&BI286)","v":""},{"$f":"IF(ISBLANK(Datas!$C$50),\"\",\" - \"&BJ286)","v":" - Ecus:"},{"$f":"IF(ISBLANK(Datas!$C$51),\"\",\" - \"&BK286)","v":" - Niv: "},null,{"$error":"#N/A"},{"$error":"#N/A"},"","PR:","Ecus:","Niv: ",null,null,null,null,"",{"$f":"VLOOKUP(BP286,LstVillage!$B$8:$C$283,1)","v":{"$error":"#N/A"}},{"$error":"#N/A"},{"$error":"#N/A"},"",{"$f":"VLOOKUP(BT286,Datas!$G$6:$G$17,1)","v":{"$error":"#N/A"}},{"$error":"#N/A"},{"$error":"#N/A"},null,"",0,0,null,{"$f":"VLOOKUP(BP286,Liste_Noire!$B$15:$G$1208,1)","v":{"$error":"#N/A"}},{"$f":"VLOOKUP(BP286,Liste_Noire!$B$15:$G$1208,5)","v":{"$error":"#N/A"}},{"$error":"#N/A"},null,0,0,0,0,0,0,1]
[null,""," ","","","","","",{"$f":"IF(ISBLANK(Trait_Etrangers!H287),\"\",Trait_Etrangers!H287)","v":""},{"$f":"IF(ISBLANK(Trait_Etrangers!I287),\"\",Trait_Etrangers!I287)","v":""},{"$f":"IF(ISBLANK(Trait_Etrangers!J287),\"\",Trait_Etrangers!J287)","v":""},{"$f":"IF(ISBLANK(Trait_Etrangers!K287),\"\",Trait_Etrangers!K287)","v":""},{"$f":"IF(ISBLANK(Trait_Etrangers!L287),\"\",Trait_Etrangers!L287)","v":""},{"$f":"IF(ISBLANK(Trait_Etrangers!M287),\"\",Trait_Etrangers!M287)","v":""},{"$f":"IF(ISBLANK(Trait_Etrangers!N287),\"\",Trait_Etrangers!N287)","v":""},{"$f":"IF(ISBLANK(Trait_Etrangers!O287),\"\",Trait_Etrangers!O287)","v":""},{"$f":"IF(ISBLANK(Trait_Etrangers!P287),\"\",Trait_Etrangers!P287)","v":""},null,{"$f":"IF(ISBLANK(Trait_Etrangers!R287),\"\",Trait_Etrangers!R287)","v":""},{"$f":"IF(ISBLANK(Trait_Etrangers!S287),\"\",Trait_Etrangers!S287)","v":""},{"$f":"IF(ISBLANK(Trait_Etrangers!T287),\"\",Trait_Etrangers!T287)","v":""},{"$f":"IF(ISBLANK(Trait_Etrangers!U287),\"\",Trait_Etrangers!U287)","v":""},null,null,null,"","",0,0,0,0,0,0,0,0,0,0,0,0,0,0,0,0,0,null,1,null,null,{"$f":"IF(AX287=\"\",\"\",IF(CE287=1,\"[b][color=red]\"&Datas!$D$32&\"[/color][/b]\"&AX287&\"[b][color=red]\"&Datas!$D$33&\"{\"&CD287&\"}[/color][/b]\",AX287))","v":{"$error":"#N/A"}},{"$error":"#N/A"}," ",{"$f":"IF(ISBLANK(Datas!$C$47),\"\",\" - \"&BG287)","v":{"$error":"#N/A"}},{"$f":"IF(ISBLANK(Datas!$C$48),\"\",\" - \"&BH287)","v":" - "},{"$f":"IF(ISBLANK(Datas!$C$49),\"\",\" - \"&BI287)","v":""},{"$f":"IF(ISBLANK(Datas!$C$50),\"\",\" - \"&BJ287)","v":" - Ecus:"},{"$f":"IF(ISBLANK(Datas!$C$51),\"\",\" - \"&BK287)","v":" - Niv: "},null,{"$error":"#N/A"},{"$error":"#N/A"},"","PR:","Ecus:","Niv: ",null,null,null,null,"",{"$f":"VLOOKUP(BP287,LstVillage!$B$8:$C$283,1)","v":{"$error":"#N/A"}},{"$error":"#N/A"},{"$error":"#N/A"},"",{"$f":"VLOOKUP(BT287,Datas!$G$6:$G$17,1)","v":{"$error":"#N/A"}},{"$error":"#N/A"},{"$error":"#N/A"},null,"",0,0,null,{"$f":"VLOOKUP(BP287,Liste_Noire!$B$15:$G$1208,1)","v":{"$error":"#N/A"}},{"$f":"VLOOKUP(BP287,Liste_Noire!$B$15:$G$1208,5)","v":{"$error":"#N/A"}},{"$error":"#N/A"},null,0,0,0,0,0,0,1]
[null,""," ","","","","","",{"$f":"IF(ISBLANK(Trait_Etrangers!H288),\"\",Trait_Etrangers!H288)","v":""},{"$f":"IF(ISBLANK(Trait_Etrangers!I288),\"\",Trait_Etrangers!I288)","v":""},{"$f":"IF(ISBLANK(Trait_Etrangers!J288),\"\",Trait_Etrangers!J288)","v":""},{"$f":"IF(ISBLANK(Trait_Etrangers!K288),\"\",Trait_Etrangers!K288)","v":""},{"$f":"IF(ISBLANK(Trait_Etrangers!L288),\"\",Trait_Etrangers!L288)","v":""},{"$f":"IF(ISBLANK(Trait_Etrangers!M288),\"\",Trait_Etrangers!M288)","v":""},{"$f":"IF(ISBLANK(Trait_Etrangers!N288),\"\",Trait_Etrangers!N288)","v":""},{"$f":"IF(ISBLANK(Trait_Etrangers!O288),\"\",Trait_Etrangers!O288)","v":""},{"$f":"IF(ISBLANK(Trait_Etrangers!P288),\"\",Trait_Etrangers!P288)","v":""},null,{"$f":"IF(ISBLANK(Trait_Etrangers!R288),\"\",Trait_Etrangers!R288)","v":""},{"$f":"IF(ISBLANK(Trait_Etrangers!S288),\"\",Trait_Etrangers!S288)","v":""},{"$f":"IF(ISBLANK(Trait_Etrangers!T288),\"\",Trait_Etrangers!T288)","v":""},{"$f":"IF(ISBLANK(Trait_Etrangers!U288),\"\",Trait_Etrangers!U288)","v":""},null,null,null,"","",0,0,0,0,0,0,0,0,0,0,0,0,0,0,0,0,0,null,1,null,null,{"$f":"IF(AX288=\"\",\"\",IF(CE288=1,\"[b][color=red]\"&Datas!$D$32&\"[/color][/b]\"&AX288&\"[b][color=red]\"&Datas!$D$33&\"{\"&CD288&\"}[/color][/b]\",AX288))","v":{"$error":"#N/A"}},{"$error":"#N/A"}," ",{"$f":"IF(ISBLANK(Datas!$C$47),\"\",\" - \"&BG288)","v":{"$error":"#N/A"}},{"$f":"IF(ISBLANK(Datas!$C$48),\"\",\" - \"&BH288)","v":" - "},{"$f":"IF(ISBLANK(Datas!$C$49),\"\",\" - \"&BI288)","v":""},{"$f":"IF(ISBLANK(Datas!$C$50),\"\",\" - \"&BJ288)","v":" - Ecus:"},{"$f":"IF(ISBLANK(Datas!$C$51),\"\",\" - \"&BK288)","v":" - Niv: "},null,{"$error":"#N/A"},{"$error":"#N/A"},"","PR:","Ecus:","Niv: ",null,null,null,null,"",{"$f":"VLOOKUP(BP288,LstVillage!$B$8:$C$283,1)","v":{"$error":"#N/A"}},{"$error":"#N/A"},{"$error":"#N/A"},"",{"$f":"VLOOKUP(BT288,Datas!$G$6:$G$17,1)","v":{"$error":"#N/A"}},{"$error":"#N/A"},{"$error":"#N/A"},null,"",0,0,null,{"$f":"VLOOKUP(BP288,Liste_Noire!$B$15:$G$1208,1)","v":{"$error":"#N/A"}},{"$f":"VLOOKUP(BP288,Liste_Noire!$B$15:$G$1208,5)","v":{"$error":"#N/A"}},{"$error":"#N/A"},null,0,0,0,0,0,0,1]
[null,""," ","","","","","",{"$f":"IF(ISBLANK(Trait_Etrangers!H289),\"\",Trait_Etrangers!H289)","v":""},{"$f":"IF(ISBLANK(Trait_Etrangers!I289),\"\",Trait_Etrangers!I289)","v":""},{"$f":"IF(ISBLANK(Trait_Etrangers!J289),\"\",Trait_Etrangers!J289)","v":""},{"$f":"IF(ISBLANK(Trait_Etrangers!K289),\"\",Trait_Etrangers!K289)","v":""},{"$f":"IF(ISBLANK(Trait_Etrangers!L289),\"\",Trait_Etrangers!L289)","v":""},{"$f":"IF(ISBLANK(Trait_Etrangers!M289),\"\",Trait_Etrangers!M289)","v":""},{"$f":"IF(ISBLANK(Trait_Etrangers!N289),\"\",Trait_Etrangers!N289)","v":""},{"$f":"IF(ISBLANK(Trait_Etrangers!O289),\"\",Trait_Etrangers!O289)","v":""},{"$f":"IF(ISBLANK(Trait_Etrangers!P289),\"\",Trait_Etrangers!P289)","v":""},null,{"$f":"IF(ISBLANK(Trait_Etrangers!R289),\"\",Trait_Etrangers!R289)","v":""},{"$f":"IF(ISBLANK(Trait_Etrangers!S289),\"\",Trait_Etrangers!S289)","v":""},{"$f":"IF(ISBLANK(Trait_Etrangers!T289),\"\",Trait_Etrangers!T289)","v":""},{"$f":"IF(ISBLANK(Trait_Etrangers!U289),\"\",Trait_Etrangers!U289)","v":""},null,null,null,"","",0,0,0,0,0,0,0,0,0,0,0,0,0,0,0,0,0,null,1,null,null,{"$f":"IF(AX289=\"\",\"\",IF(CE289=1,\"[b][color=red]\"&Datas!$D$32&\"[/color][/b]\"&AX289&\"[b][color=red]\"&Datas!$D$33&\"{\"&CD289&\"}[/color][/b]\",AX289))","v":{"$error":"#N/A"}},{"$error":"#N/A"}," ",{"$f":"IF(ISBLANK(Datas!$C$47),\"\",\" - \"&BG289)","v":{"$error":"#N/A"}},{"$f":"IF(ISBLANK(Datas!$C$48),\"\",\" - \"&BH289)","v":" - "},{"$f":"IF(ISBLANK(Datas!$C$49),\"\",\" - \"&BI289)","v":""},{"$f":"IF(ISBLANK(Datas!$C$50),\"\",\" - \"&BJ289)","v":" - Ecus:"},{"$f":"IF(ISBLANK(Datas!$C$51),\"\",\" - \"&BK289)","v":" - Niv: "},null,{"$error":"#N/A"},{"$error":"#N/A"},"","PR:","Ecus:","Niv: ",null,null,null,null,"",{"$f":"VLOOKUP(BP289,LstVillage!$B$8:$C$283,1)","v":{"$error":"#N/A"}},{"$error":"#N/A"},{"$error":"#N/A"},"",{"$f":"VLOOKUP(BT289,Datas!$G$6:$G$17,1)","v":{"$error":"#N/A"}},{"$error":"#N/A"},{"$error":"#N/A"},null,"",0,0,null,{"$f":"VLOOKUP(BP289,Liste_Noire!$B$15:$G$1208,1)","v":{"$error":"#N/A"}},{"$f":"VLOOKUP(BP289,Liste_Noire!$B$15:$G$1208,5)","v":{"$error":"#N/A"}},{"$error":"#N/A"},null,0,0,0,0,0,0,1]
[null,""," ","","","","","",{"$f":"IF(ISBLANK(Trait_Etrangers!H290),\"\",Trait_Etrangers!H290)","v":""},{"$f":"IF(ISBLANK(Trait_Etrangers!I290),\"\",Trait_Etrangers!I290)","v":""},{"$f":"IF(ISBLANK(Trait_Etrangers!J290),\"\",Trait_Etrangers!J290)","v":""},{"$f":"IF(ISBLANK(Trait_Etrangers!K290),\"\",Trait_Etrangers!K290)","v":""},{"$f":"IF(ISBLANK(Trait_Etrangers!L290),\"\",Trait_Etrangers!L290)","v":""},{"$f":"IF(ISBLANK(Trait_Etrangers!M290),\"\",Trait_Etrangers!M290)","v":""},{"$f":"IF(ISBLANK(Trait_Etrangers!N290),\"\",Trait_Etrangers!N290)","v":""},{"$f":"IF(ISBLANK(Trait_Etrangers!O290),\"\",Trait_Etrangers!O290)","v":""},{"$f":"IF(ISBLANK(Trait_Etrangers!P290),\"\",Trait_Etrangers!P290)","v":""},null,{"$f":"IF(ISBLANK(Trait_Etrangers!R290),\"\",Trait_Etrangers!R290)","v":""},{"$f":"IF(ISBLANK(Trait_Etrangers!S290),\"\",Trait_Etrangers!S290)","v":""},{"$f":"IF(ISBLANK(Trait_Etrangers!T290),\"\",Trait_Etrangers!T290)","v":""},{"$f":"IF(ISBLANK(Trait_Etrangers!U290),\"\",Trait_Etrangers!U290)","v":""},null,null,null,"","",0,0,0,0,0,0,0,0,0,0,0,0,0,0,0,0,0,null,1,null,null,{"$f":"IF(AX290=\"\",\"\",IF(CE290=1,\"[b][color=red]\"&Datas!$D$32&\"[/color][/b]\"&AX290&\"[b][color=red]\"&Datas!$D$33&\"{\"&CD290&\"}[/color][/b]\",AX290))","v":{"$error":"#N/A"}},{"$error":"#N/A"}," ",{"$f":"IF(ISBLANK(Datas!$C$47),\"\",\" - \"&BG290)","v":{"$error":"#N/A"}},{"$f":"IF(ISBLANK(Datas!$C$48),\"\",\" - \"&BH290)","v":" - "},{"$f":"IF(ISBLANK(Datas!$C$49),\"\",\" - \"&BI290)","v":""},{"$f":"IF(ISBLANK(Datas!$C$50),\"\",\" - \"&BJ290)","v":" - Ecus:"},{"$f":"IF(ISBLANK(Datas!$C$51),\"\",\" - \"&BK290)","v":" - Niv: "},null,{"$error":"#N/A"},{"$error":"#N/A"},"","PR:","Ecus:","Niv: ",null,null,null,null,"",{"$f":"VLOOKUP(BP290,LstVillage!$B$8:$C$283,1)","v":{"$error":"#N/A"}},{"$error":"#N/A"},{"$error":"#N/A"},"",{"$f":"VLOOKUP(BT290,Datas!$G$6:$G$17,1)","v":{"$error":"#N/A"}},{"$error":"#N/A"},{"$error":"#N/A"},null,"",0,0,null,{"$f":"VLOOKUP(BP290,Liste_Noire!$B$15:$G$1208,1)","v":{"$error":"#N/A"}},{"$f":"VLOOKUP(BP290,Liste_Noire!$B$15:$G$1208,5)","v":{"$error":"#N/A"}},{"$error":"#N/A"},null,0,0,0,0,0,0,1]
[null,""," ","","","","","",{"$f":"IF(ISBLANK(Trait_Etrangers!H291),\"\",Trait_Etrangers!H291)","v":""},{"$f":"IF(ISBLANK(Trait_Etrangers!I291),\"\",Trait_Etrangers!I291)","v":""},{"$f":"IF(ISBLANK(Trait_Etrangers!J291),\"\",Trait_Etrangers!J291)","v":""},{"$f":"IF(ISBLANK(Trait_Etrangers!K291),\"\",Trait_Etrangers!K291)","v":""},{"$f":"IF(ISBLANK(Trait_Etrangers!L291),\"\",Trait_Etrangers!L291)","v":""},{"$f":"IF(ISBLANK(Trait_Etrangers!M291),\"\",Trait_Etrangers!M291)","v":""},{"$f":"IF(ISBLANK(Trait_Etrangers!N291),\"\",Trait_Etrangers!N291)","v":""},{"$f":"IF(ISBLANK(Trait_Etrangers!O291),\"\",Trait_Etrangers!O291)","v":""},{"$f":"IF(ISBLANK(Trait_Etrangers!P291),\"\",Trait_Etrangers!P291)","v":""},null,{"$f":"IF(ISBLANK(Trait_Etrangers!R291),\"\",Trait_Etrangers!R291)","v":""},{"$f":"IF(ISBLANK(Trait_Etrangers!S291),\"\",Trait_Etrangers!S291)","v":""},{"$f":"IF(ISBLANK(Trait_Etrangers!T291),\"\",Trait_Etrangers!T291)","v":""},{"$f":"IF(ISBLANK(Trait_Etrangers!U291),\"\",Trait_Etrangers!U291)","v":""},null,null,null,"","",0,0,0,0,0,0,0,0,0,0,0,0,0,0,0,0,0,null,1,null,null,{"$f":"IF(AX291=\"\",\"\",IF(CE291=1,\"[b][color=red]\"&Datas!$D$32&\"[/color][/b]\"&AX291&\"[b][color=red]\"&Datas!$D$33&\"{\"&CD291&\"}[/color][/b]\",AX291))","v":{"$error":"#N/A"}},{"$error":"#N/A"}," ",{"$f":"IF(ISBLANK(Datas!$C$47),\"\",\" - \"&BG291)","v":{"$error":"#N/A"}},{"$f":"IF(ISBLANK(Datas!$C$48),\"\",\" - \"&BH291)","v":" - "},{"$f":"IF(ISBLANK(Datas!$C$49),\"\",\" - \"&BI291)","v":""},{"$f":"IF(ISBLANK(Datas!$C$50),\"\",\" - \"&BJ291)","v":" - Ecus:"},{"$f":"IF(ISBLANK(Datas!$C$51),\"\",\" - \"&BK291)","v":" - Niv: "},null,{"$error":"#N/A"},{"$error":"#N/A"},"","PR:","Ecus:","Niv: ",null,null,null,null,"",{"$f":"VLOOKUP(BP291,LstVillage!$B$8:$C$283,1)","v":{"$error":"#N/A"}},{"$error":"#N/A"},{"$error":"#N/A"},"",{"$f":"VLOOKUP(BT291,Datas!$G$6:$G$17,1)","v":{"$error":"#N/A"}},{"$error":"#N/A"},{"$error":"#N/A"},null,"",0,0,null,{"$f":"VLOOKUP(BP291,Liste_Noire!$B$15:$G$1208,1)","v":{"$error":"#N/A"}},{"$f":"VLOOKUP(BP291,Liste_Noire!$B$15:$G$1208,5)","v":{"$error":"#N/A"}},{"$error":"#N/A"},null,0,0,0,0,0,0,1]
[null,""," ","","","","","",{"$f":"IF(ISBLANK(Trait_Etrangers!H292),\"\",Trait_Etrangers!H292)","v":""},{"$f":"IF(ISBLANK(Trait_Etrangers!I292),\"\",Trait_Etrangers!I292)","v":""},{"$f":"IF(ISBLANK(Trait_Etrangers!J292),\"\",Trait_Etrangers!J292)","v":""},{"$f":"IF(ISBLANK(Trait_Etrangers!K292),\"\",Trait_Etrangers!K292)","v":""},{"$f":"IF(ISBLANK(Trait_Etrangers!L292),\"\",Trait_Etrangers!L292)","v":""},{"$f":"IF(ISBLANK(Trait_Etrangers!M292),\"\",Trait_Etrangers!M292)","v":""},{"$f":"IF(ISBLANK(Trait_Etrangers!N292),\"\",Trait_Etrangers!N292)","v":""},{"$f":"IF(ISBLANK(Trait_Etrangers!O292),\"\",Trait_Etrangers!O292)","v":""},{"$f":"IF(ISBLANK(Trait_Etrangers!P292),\"\",Trait_Etrangers!P292)","v":""},null,{"$f":"IF(ISBLANK(Trait_Etrangers!R292),\"\",Trait_Etrangers!R292)","v":""},{"$f":"IF(ISBLANK(Trait_Etrangers!S292),\"\",Trait_Etrangers!S292)","v":""},{"$f":"IF(ISBLANK(Trait_Etrangers!T292),\"\",Trait_Etrangers!T292)","v":""},{"$f":"IF(ISBLANK(Trait_Etrangers!U292),\"\",Trait_Etrangers!U292)","v":""},null,null,null,"","",0,0,0,0,0,0,0,0,0,0,0,0,0,0,0,0,0,null,1,null,null,{"$f":"IF(AX292=\"\",\"\",IF(CE292=1,\"[b][color=red]\"&Datas!$D$32&\"[/color][/b]\"&AX292&\"[b][color=red]\"&Datas!$D$33&\"{\"&CD292&\"}[/color][/b]\",AX292))","v":{"$error":"#N/A"}},{"$error":"#N/A"}," ",{"$f":"IF(ISBLANK(Datas!$C$47),\"\",\" - \"&BG292)","v":{"$error":"#N/A"}},{"$f":"IF(ISBLANK(Datas!$C$48),\"\",\" - \"&BH292)","v":" - "},{"$f":"IF(ISBLANK(Datas!$C$49),\"\",\" - \"&BI292)","v":""},{"$f":"IF(ISBLANK(Datas!$C$50),\"\",\" - \"&BJ292)","v":" - Ecus:"},{"$f":"IF(ISBLANK(Datas!$C$51),\"\",\" - \"&BK292)","v":" - Niv: "},null,{"$error":"#N/A"},{"$error":"#N/A"},"","PR:","Ecus:","Niv: ",null,null,null,null,"",{"$f":"VLOOKUP(BP292,LstVillage!$B$8:$C$283,1)","v":{"$error":"#N/A"}},{"$error":"#N/A"},{"$error":"#N/A"},"",{"$f":"VLOOKUP(BT292,Datas!$G$6:$G$17,1)","v":{"$error":"#N/A"}},{"$error":"#N/A"},{"$error":"#N/A"},null,"",0,0,null,{"$f":"VLOOKUP(BP292,Liste_Noire!$B$15:$G$1208,1)","v":{"$error":"#N/A"}},{"$f":"VLOOKUP(BP292,Liste_Noire!$B$15:$G$1208,5)","v":{"$error":"#N/A"}},{"$error":"#N/A"},null,0,0,0,0,0,0,1]
[null,""," ","","","","","",{"$f":"IF(ISBLANK(Trait_Etrangers!H293),\"\",Trait_Etrangers!H293)","v":""},{"$f":"IF(ISBLANK(Trait_Etrangers!I293),\"\",Trait_Etrangers!I293)","v":""},{"$f":"IF(ISBLANK(Trait_Etrangers!J293),\"\",Trait_Etrangers!J293)","v":""},{"$f":"IF(ISBLANK(Trait_Etrangers!K293),\"\",Trait_Etrangers!K293)","v":""},{"$f":"IF(ISBLANK(Trait_Etrangers!L293),\"\",Trait_Etrangers!L293)","v":""},{"$f":"IF(ISBLANK(Trait_Etrangers!M293),\"\",Trait_Etrangers!M293)","v":""},{"$f":"IF(ISBLANK(Trait_Etrangers!N293),\"\",Trait_Etrangers!N293)","v":""},{"$f":"IF(ISBLANK(Trait_Etrangers!O293),\"\",Trait_Etrangers!O293)","v":""},{"$f":"IF(ISBLANK(Trait_Etrangers!P293),\"\",Trait_Etrangers!P293)","v":""},null,{"$f":"IF(ISBLANK(Trait_Etrangers!R293),\"\",Trait_Etrangers!R293)","v":""},{"$f":"IF(ISBLANK(Trait_Etrangers!S293),\"\",Trait_Etrangers!S293)","v":""},{"$f":"IF(ISBLANK(Trait_Etrangers!T293),\"\",Trait_Etrangers!T293)","v":""},{"$f":"IF(ISBLANK(Trait_Etrangers!U293),\"\",Trait_Etrangers!U293)","v":""},null,null,null,"","",0,0,0,0,0,0,0,0,0,0,0,0,0,0,0,0,0,null,1,null,null,{"$f":"IF(AX293=\"\",\"\",IF(CE293=1,\"[b][color=red]\"&Datas!$D$32&\"[/color][/b]\"&AX293&\"[b][color=red]\"&Datas!$D$33&\"{\"&CD293&\"}[/color][/b]\",AX293))","v":{"$error":"#N/A"}},{"$error":"#N/A"}," ",{"$f":"IF(ISBLANK(Datas!$C$47),\"\",\" - \"&BG293)","v":{"$error":"#N/A"}},{"$f":"IF(ISBLANK(Datas!$C$48),\"\",\" - \"&BH293)","v":" - "},{"$f":"IF(ISBLANK(Datas!$C$49),\"\",\" - \"&BI293)","v":""},{"$f":"IF(ISBLANK(Datas!$C$50),\"\",\" - \"&BJ293)","v":" - Ecus:"},{"$f":"IF(ISBLANK(Datas!$C$51),\"\",\" - \"&BK293)","v":" - Niv: "},null,{"$error":"#N/A"},{"$error":"#N/A"},"","PR:","Ecus:","Niv: ",null,null,null,null,"",{"$f":"VLOOKUP(BP293,LstVillage!$B$8:$C$283,1)","v":{"$error":"#N/A"}},{"$error":"#N/A"},{"$error":"#N/A"},"",{"$f":"VLOOKUP(BT293,Datas!$G$6:$G$17,1)","v":{"$error":"#N/A"}},{"$error":"#N/A"},{"$error":"#N/A"},null,"",0,0,null,{"$f":"VLOOKUP(BP293,Liste_Noire!$B$15:$G$1208,1)","v":{"$error":"#N/A"}},{"$f":"VLOOKUP(BP293,Liste_Noire!$B$15:$G$1208,5)","v":{"$error":"#N/A"}},{"$error":"#N/A"},null,0,0,0,0,0,0,1]
[null,""," ","","","","","",{"$f":"IF(ISBLANK(Trait_Etrangers!H294),\"\",Trait_Etrangers!H294)","v":""},{"$f":"IF(ISBLANK(Trait_Etrangers!I294),\"\",Trait_Etrangers!I294)","v":""},{"$f":"IF(ISBLANK(Trait_Etrangers!J294),\"\",Trait_Etrangers!J294)","v":""},{"$f":"IF(ISBLANK(Trait_Etrangers!K294),\"\",Trait_Etrangers!K294)","v":""},{"$f":"IF(ISBLANK(Trait_Etrangers!L294),\"\",Trait_Etrangers!L294)","v":""},{"$f":"IF(ISBLANK(Trait_Etrangers!M294),\"\",Trait_Etrangers!M294)","v":""},{"$f":"IF(ISBLANK(Trait_Etrangers!N294),\"\",Trait_Etrangers!N294)","v":""},{"$f":"IF(ISBLANK(Trait_Etrangers!O294),\"\",Trait_Etrangers!O294)","v":""},{"$f":"IF(ISBLANK(Trait_Etrangers!P294),\"\",Trait_Etrangers!P294)","v":""},null,{"$f":"IF(ISBLANK(Trait_Etrangers!R294),\"\",Trait_Etrangers!R294)","v":""},{"$f":"IF(ISBLANK(Trait_Etrangers!S294),\"\",Trait_Etrangers!S294)","v":""},{"$f":"IF(ISBLANK(Trait_Etrangers!T294),\"\",Trait_Etrangers!T294)","v":""},{"$f":"IF(ISBLANK(Trait_Etrangers!U294),\"\",Trait_Etrangers!U294)","v":""},null,null,null,"","",0,0,0,0,0,0,0,0,0,0,0,0,0,0,0,0,0,null,1,null,null,{"$f":"IF(AX294=\"\",\"\",IF(CE294=1,\"[b][color=red]\"&Datas!$D$32&\"[/color][/b]\"&AX294&\"[b][color=red]\"&Datas!$D$33&\"{\"&CD294&\"}[/color][/b]\",AX294))","v":{"$error":"#N/A"}},{"$error":"#N/A"}," ",{"$f":"IF(ISBLANK(Datas!$C$47),\"\",\" - \"&BG294)","v":{"$error":"#N/A"}},{"$f":"IF(ISBLANK(Datas!$C$48),\"\",\" - \"&BH294)","v":" - "},{"$f":"IF(ISBLANK(Datas!$C$49),\"\",\" - \"&BI294)","v":""},{"$f":"IF(ISBLANK(Datas!$C$50),\"\",\" - \"&BJ294)","v":" - Ecus:"},{"$f":"IF(ISBLANK(Datas!$C$51),\"\",\" - \"&BK294)","v":" - Niv: "},null,{"$error":"#N/A"},{"$error":"#N/A"},"","PR:","Ecus:","Niv: ",null,null,null,null,"",{"$f":"VLOOKUP(BP294,LstVillage!$B$8:$C$283,1)","v":{"$error":"#N/A"}},{"$error":"#N/A"},{"$error":"#N/A"},"",{"$f":"VLOOKUP(BT294,Datas!$G$6:$G$17,1)","v":{"$error":"#N/A"}},{"$error":"#N/A"},{"$error":"#N/A"},null,"",0,0,null,{"$f":"VLOOKUP(BP294,Liste_Noire!$B$15:$G$1208,1)","v":{"$error":"#N/A"}},{"$f":"VLOOKUP(BP294,Liste_Noire!$B$15:$G$1208,5)","v":{"$error":"#N/A"}},{"$error":"#N/A"},null,0,0,0,0,0,0,1]
[null,""," ","","","","","",{"$f":"IF(ISBLANK(Trait_Etrangers!H295),\"\",Trait_Etrangers!H295)","v":""},{"$f":"IF(ISBLANK(Trait_Etrangers!I295),\"\",Trait_Etrangers!I295)","v":""},{"$f":"IF(ISBLANK(Trait_Etrangers!J295),\"\",Trait_Etrangers!J295)","v":""},{"$f":"IF(ISBLANK(Trait_Etrangers!K295),\"\",Trait_Etrangers!K295)","v":""},{"$f":"IF(ISBLANK(Trait_Etrangers!L295),\"\",Trait_Etrangers!L295)","v":""},{"$f":"IF(ISBLANK(Trait_Etrangers!M295),\"\",Trait_Etrangers!M295)","v":""},{"$f":"IF(ISBLANK(Trait_Etrangers!N295),\"\",Trait_Etrangers!N295)","v":""},{"$f":"IF(ISBLANK(Trait_Etrangers!O295),\"\",Trait_Etrangers!O295)","v":""},{"$f":"IF(ISBLANK(Trait_Etrangers!P295),\"\",Trait_Etrangers!P295)","v":""},null,{"$f":"IF(ISBLANK(Trait_Etrangers!R295),\"\",Trait_Etrangers!R295)","v":""},{"$f":"IF(ISBLANK(Trait_Etrangers!S295),\"\",Trait_Etrangers!S295)","v":""},{"$f":"IF(ISBLANK(Trait_Etrangers!T295),\"\",Trait_Etrangers!T295)","v":""},{"$f":"IF(ISBLANK(Trait_Etrangers!U295),\"\",Trait_Etrangers!U295)","v":""},null,null,null,"","",0,0,0,0,0,0,0,0,0,0,0,0,0,0,0,0,0,null,1,null,null,{"$f":"IF(AX295=\"\",\"\",IF(CE295=1,\"[b][color=red]\"&Datas!$D$32&\"[/color][/b]\"&AX295&\"[b][color=red]\"&Datas!$D$33&\"{\"&CD295&\"}[/color][/b]\",AX295))","v":{"$error":"#N/A"}},{"$error":"#N/A"}," ",{"$f":"IF(ISBLANK(Datas!$C$47),\"\",\" - \"&BG295)","v":{"$error":"#N/A"}},{"$f":"IF(ISBLANK(Datas!$C$48),\"\",\" - \"&BH295)","v":" - "},{"$f":"IF(ISBLANK(Datas!$C$49),\"\",\" - \"&BI295)","v":""},{"$f":"IF(ISBLANK(Datas!$C$50),\"\",\" - \"&BJ295)","v":" - Ecus:"},{"$f":"IF(ISBLANK(Datas!$C$51),\"\",\" - \"&BK295)","v":" - Niv: "},null,{"$error":"#N/A"},{"$error":"#N/A"},"","PR:","Ecus:","Niv: ",null,null,null,null,"",{"$f":"VLOOKUP(BP295,LstVillage!$B$8:$C$283,1)","v":{"$error":"#N/A"}},{"$error":"#N/A"},{"$error":"#N/A"},"",{"$f":"VLOOKUP(BT295,Datas!$G$6:$G$17,1)","v":{"$error":"#N/A"}},{"$error":"#N/A"},{"$error":"#N/A"},null,"",0,0,null,{"$f":"VLOOKUP(BP295,Liste_Noire!$B$15:$G$1208,1)","v":{"$error":"#N/A"}},{"$f":"VLOOKUP(BP295,Liste_Noire!$B$15:$G$1208,5)","v":{"$error":"#N/A"}},{"$error":"#N/A"},null,0,0,0,0,0,0,1]
[null,""," ","","","","","",{"$f":"IF(ISBLANK(Trait_Etrangers!H296),\"\",Trait_Etrangers!H296)","v":""},{"$f":"IF(ISBLANK(Trait_Etrangers!I296),\"\",Trait_Etrangers!I296)","v":""},{"$f":"IF(ISBLANK(Trait_Etrangers!J296),\"\",Trait_Etrangers!J296)","v":""},{"$f":"IF(ISBLANK(Trait_Etrangers!K296),\"\",Trait_Etrangers!K296)","v":""},{"$f":"IF(ISBLANK(Trait_Etrangers!L296),\"\",Trait_Etrangers!L296)","v":""},{"$f":"IF(ISBLANK(Trait_Etrangers!M296),\"\",Trait_Etrangers!M296)","v":""},{"$f":"IF(ISBLANK(Trait_Etrangers!N296),\"\",Trait_Etrangers!N296)","v":""},{"$f":"IF(ISBLANK(Trait_Etrangers!O296),\"\",Trait_Etrangers!O296)","v":""},{"$f":"IF(ISBLANK(Trait_Etrangers!P296),\"\",Trait_Etrangers!P296)","v":""},null,{"$f":"IF(ISBLANK(Trait_Etrangers!R296),\"\",Trait_Etrangers!R296)","v":""},{"$f":"IF(ISBLANK(Trait_Etrangers!S296),\"\",Trait_Etrangers!S296)","v":""},{"$f":"IF(ISBLANK(Trait_Etrangers!T296),\"\",Trait_Etrangers!T296)","v":""},{"$f":"IF(ISBLANK(Trait_Etrangers!U296),\"\",Trait_Etrangers!U296)","v":""},null,null,null,"","",0,0,0,0,0,0,0,0,0,0,0,0,0,0,0,0,0,null,1,null,null,{"$f":"IF(AX296=\"\",\"\",IF(CE296=1,\"[b][color=red]\"&Datas!$D$32&\"[/color][/b]\"&AX296&\"[b][color=red]\"&Datas!$D$33&\"{\"&CD296&\"}[/color][/b]\",AX296))","v":{"$error":"#N/A"}},{"$error":"#N/A"}," ",{"$f":"IF(ISBLANK(Datas!$C$47),\"\",\" - \"&BG296)","v":{"$error":"#N/A"}},{"$f":"IF(ISBLANK(Datas!$C$48),\"\",\" - \"&BH296)","v":" - "},{"$f":"IF(ISBLANK(Datas!$C$49),\"\",\" - \"&BI296)","v":""},{"$f":"IF(ISBLANK(Datas!$C$50),\"\",\" - \"&BJ296)","v":" - Ecus:"},{"$f":"IF(ISBLANK(Datas!$C$51),\"\",\" - \"&BK296)","v":" - Niv: "},null,{"$error":"#N/A"},{"$error":"#N/A"},"","PR:","Ecus:","Niv: ",null,null,null,null,"",{"$f":"VLOOKUP(BP296,LstVillage!$B$8:$C$283,1)","v":{"$error":"#N/A"}},{"$error":"#N/A"},{"$error":"#N/A"},"",{"$f":"VLOOKUP(BT296,Datas!$G$6:$G$17,1)","v":{"$error":"#N/A"}},{"$error":"#N/A"},{"$error":"#N/A"},null,"",0,0,null,{"$f":"VLOOKUP(BP296,Liste_Noire!$B$15:$G$1208,1)","v":{"$error":"#N/A"}},{"$f":"VLOOKUP(BP296,Liste_Noire!$B$15:$G$1208,5)","v":{"$error":"#N/A"}},{"$error":"#N/A"},null,0,0,0,0,0,0,1]
[null,""," ","","","","","",{"$f":"IF(ISBLANK(Trait_Etrangers!H297),\"\",Trait_Etrangers!H297)","v":""},{"$f":"IF(ISBLANK(Trait_Etrangers!I297),\"\",Trait_Etrangers!I297)","v":""},{"$f":"IF(ISBLANK(Trait_Etrangers!J297),\"\",Trait_Etrangers!J297)","v":""},{"$f":"IF(ISBLANK(Trait_Etrangers!K297),\"\",Trait_Etrangers!K297)","v":""},{"$f":"IF(ISBLANK(Trait_Etrangers!L297),\"\",Trait_Etrangers!L297)","v":""},{"$f":"IF(ISBLANK(Trait_Etrangers!M297),\"\",Trait_Etrangers!M297)","v":""},{"$f":"IF(ISBLANK(Trait_Etrangers!N297),\"\",Trait_Etrangers!N297)","v":""},{"$f":"IF(ISBLANK(Trait_Etrangers!O297),\"\",Trait_Etrangers!O297)","v":""},{"$f":"IF(ISBLANK(Trait_Etrangers!P297),\"\",Trait_Etrangers!P297)","v":""},null,{"$f":"IF(ISBLANK(Trait_Etrangers!R297),\"\",Trait_Etrangers!R297)","v":""},{"$f":"IF(ISBLANK(Trait_Etrangers!S297),\"\",Trait_Etrangers!S297)","v":""},{"$f":"IF(ISBLANK(Trait_Etrangers!T297),\"\",Trait_Etrangers!T297)","v":""},{"$f":"IF(ISBLANK(Trait_Etrangers!U297),\"\",Trait_Etrangers!U297)","v":""},null,null,null,"","",0,0,0,0,0,0,0,0,0,0,0,0,0,0,0,0,0,null,1,null,null,{"$f":"IF(AX297=\"\",\"\",IF(CE297=1,\"[b][color=red]\"&Datas!$D$32&\"[/color][/b]\"&AX297&\"[b][color=red]\"&Datas!$D$33&\"{\"&CD297&\"}[/color][/b]\",AX297))","v":{"$error":"#N/A"}},{"$error":"#N/A"}," ",{"$f":"IF(ISBLANK(Datas!$C$47),\"\",\" - \"&BG297)","v":{"$error":"#N/A"}},{"$f":"IF(ISBLANK(Datas!$C$48),\"\",\" - \"&BH297)","v":" - "},{"$f":"IF(ISBLANK(Datas!$C$49),\"\",\" - \"&BI297)","v":""},{"$f":"IF(ISBLANK(Datas!$C$50),\"\",\" - \"&BJ297)","v":" - Ecus:"},{"$f":"IF(ISBLANK(Datas!$C$51),\"\",\" - \"&BK297)","v":" - Niv: "},null,{"$error":"#N/A"},{"$error":"#N/A"},"","PR:","Ecus:","Niv: ",null,null,null,null,"",{"$f":"VLOOKUP(BP297,LstVillage!$B$8:$C$283,1)","v":{"$error":"#N/A"}},{"$error":"#N/A"},{"$error":"#N/A"},"",{"$f":"VLOOKUP(BT297,Datas!$G$6:$G$17,1)","v":{"$error":"#N/A"}},{"$error":"#N/A"},{"$error":"#N/A"},null,"",0,0,null,{"$f":"VLOOKUP(BP297,Liste_Noire!$B$15:$G$1208,1)","v":{"$error":"#N/A"}},{"$f":"VLOOKUP(BP297,Liste_Noire!$B$15:$G$1208,5)","v":{"$error":"#N/A"}},{"$error":"#N/A"},null,0,0,0,0,0,0,1]
[null,""," ","","","","","",{"$f":"IF(ISBLANK(Trait_Etrangers!H298),\"\",Trait_Etrangers!H298)","v":""},{"$f":"IF(ISBLANK(Trait_Etrangers!I298),\"\",Trait_Etrangers!I298)","v":""},{"$f":"IF(ISBLANK(Trait_Etrangers!J298),\"\",Trait_Etrangers!J298)","v":""},{"$f":"IF(ISBLANK(Trait_Etrangers!K298),\"\",Trait_Etrangers!K298)","v":""},{"$f":"IF(ISBLANK(Trait_Etrangers!L298),\"\",Trait_Etrangers!L298)","v":""},{"$f":"IF(ISBLANK(Trait_Etrangers!M298),\"\",Trait_Etrangers!M298)","v":""},{"$f":"IF(ISBLANK(Trait_Etrangers!N298),\"\",Trait_Etrangers!N298)","v":""},{"$f":"IF(ISBLANK(Trait_Etrangers!O298),\"\",Trait_Etrangers!O298)","v":""},{"$f":"IF(ISBLANK(Trait_Etrangers!P298),\"\",Trait_Etrangers!P298)","v":""},null,{"$f":"IF(ISBLANK(Trait_Etrangers!R298),\"\",Trait_Etrangers!R298)","v":""},{"$f":"IF(ISBLANK(Trait_Etrangers!S298),\"\",Trait_Etrangers!S298)","v":""},{"$f":"IF(ISBLANK(Trait_Etrangers!T298),\"\",Trait_Etrangers!T298)","v":""},{"$f":"IF(ISBLANK(Trait_Etrangers!U298),\"\",Trait_Etrangers!U298)","v":""},null,null,null,"","",0,0,0,0,0,0,0,0,0,0,0,0,0,0,0,0,0,null,1,null,null,{"$f":"IF(AX298=\"\",\"\",IF(CE298=1,\"[b][color=red]\"&Datas!$D$32&\"[/color][/b]\"&AX298&\"[b][color=red]\"&Datas!$D$33&\"{\"&CD298&\"}[/color][/b]\",AX298))","v":{"$error":"#N/A"}},{"$error":"#N/A"}," ",{"$f":"IF(ISBLANK(Datas!$C$47),\"\",\" - \"&BG298)","v":{"$error":"#N/A"}},{"$f":"IF(ISBLANK(Datas!$C$48),\"\",\" - \"&BH298)","v":" - "},{"$f":"IF(ISBLANK(Datas!$C$49),\"\",\" - \"&BI298)","v":""},{"$f":"IF(ISBLANK(Datas!$C$50),\"\",\" - \"&BJ298)","v":" - Ecus:"},{"$f":"IF(ISBLANK(Datas!$C$51),\"\",\" - \"&BK298)","v":" - Niv: "},null,{"$error":"#N/A"},{"$error":"#N/A"},"","PR:","Ecus:","Niv: ",null,null,null,null,"",{"$f":"VLOOKUP(BP298,LstVillage!$B$8:$C$283,1)","v":{"$error":"#N/A"}},{"$error":"#N/A"},{"$error":"#N/A"},"",{"$f":"VLOOKUP(BT298,Datas!$G$6:$G$17,1)","v":{"$error":"#N/A"}},{"$error":"#N/A"},{"$error":"#N/A"},null,"",0,0,null,{"$f":"VLOOKUP(BP298,Liste_Noire!$B$15:$G$1208,1)","v":{"$error":"#N/A"}},{"$f":"VLOOKUP(BP298,Liste_Noire!$B$15:$G$1208,5)","v":{"$error":"#N/A"}},{"$error":"#N/A"},null,0,0,0,0,0,0,1]
[null,""," ","","","","","",{"$f":"IF(ISBLANK(Trait_Etrangers!H299),\"\",Trait_Etrangers!H299)","v":""},{"$f":"IF(ISBLANK(Trait_Etrangers!I299),\"\",Trait_Etrangers!I299)","v":""},{"$f":"IF(ISBLANK(Trait_Etrangers!J299),\"\",Trait_Etrangers!J299)","v":""},{"$f":"IF(ISBLANK(Trait_Etrangers!K299),\"\",Trait_Etrangers!K299)","v":""},{"$f":"IF(ISBLANK(Trait_Etrangers!L299),\"\",Trait_Etrangers!L299)","v":""},{"$f":"IF(ISBLANK(Trait_Etrangers!M299),\"\",Trait_Etrangers!M299)","v":""},{"$f":"IF(ISBLANK(Trait_Etrangers!N299),\"\",Trait_Etrangers!N299)","v":""},{"$f":"IF(ISBLANK(Trait_Etrangers!O299),\"\",Trait_Etrangers!O299)","v":""},{"$f":"IF(ISBLANK(Trait_Etrangers!P299),\"\",Trait_Etrangers!P299)","v":""},null,{"$f":"IF(ISBLANK(Trait_Etrangers!R299),\"\",Trait_Etrangers!R299)","v":""},{"$f":"IF(ISBLANK(Trait_Etrangers!S299),\"\",Trait_Etrangers!S299)","v":""},{"$f":"IF(ISBLANK(Trait_Etrangers!T299),\"\",Trait_Etrangers!T299)","v":""},{"$f":"IF(ISBLANK(Trait_Etrangers!U299),\"\",Trait_Etrangers!U299)","v":""},null,null,null,"","",0,0,0,0,0,0,0,0,0,0,0,0,0,0,0,0,0,null,1,null,null,{"$f":"IF(AX299=\"\",\"\",IF(CE299=1,\"[b][color=red]\"&Datas!$D$32&\"[/color][/b]\"&AX299&\"[b][color=red]\"&Datas!$D$33&\"{\"&CD299&\"}[/color][/b]\",AX299))","v":{"$error":"#N/A"}},{"$error":"#N/A"}," ",{"$f":"IF(ISBLANK(Datas!$C$47),\"\",\" - \"&BG299)","v":{"$error":"#N/A"}},{"$f":"IF(ISBLANK(Datas!$C$48),\"\",\" - \"&BH299)","v":" - "},{"$f":"IF(ISBLANK(Datas!$C$49),\"\",\" - \"&BI299)","v":""},{"$f":"IF(ISBLANK(Datas!$C$50),\"\",\" - \"&BJ299)","v":" - Ecus:"},{"$f":"IF(ISBLANK(Datas!$C$51),\"\",\" - \"&BK299)","v":" - Niv: "},null,{"$error":"#N/A"},{"$error":"#N/A"},"","PR:","Ecus:","Niv: ",null,null,null,null,"",{"$f":"VLOOKUP(BP299,LstVillage!$B$8:$C$283,1)","v":{"$error":"#N/A"}},{"$error":"#N/A"},{"$error":"#N/A"},"",{"$f":"VLOOKUP(BT299,Datas!$G$6:$G$17,1)","v":{"$error":"#N/A"}},{"$error":"#N/A"},{"$error":"#N/A"},null,"",0,0,null,{"$f":"VLOOKUP(BP299,Liste_Noire!$B$15:$G$1208,1)","v":{"$error":"#N/A"}},{"$f":"VLOOKUP(BP299,Liste_Noire!$B$15:$G$1208,5)","v":{"$error":"#N/A"}},{"$error":"#N/A"},null,0,0,0,0,0,0,1]

{"sheet":"LstVillage","index":6,"n_rows":65,"n_cols":7,"rows_kept":65,"cut":false,"hidden":false,"merged":[[6,1,6,2]]}
[null,"Liste des Villageois",null,null,"Nîmes"]
[]
[null,"1- Copier la liste à l'emplacement prévu (sans entete) Collage spécial – Texte non formatté – Separateur ESPACES"]
[null,"2- Sélectionner toutes les lignes les noms et PR puis Données/Trier/ColonneB Croissant OK"]
[]
[]
[null,"COPIER LA LISTE DES RESIDENTS EN DESSOUS",null,null,{"$f":"IF(B7<>G7,\"<<->>\",\"\")","v":"<<->>"}]
[null,"Aeryaa",null,null,{"$f":"IF(B8<>G8,\"<<->>\",\"\")","v":""},null,"Aeryaa"]
[null,"Amaellya",null,null,{"$f":"IF(B9<>G9,\"<<->>\",\"\")","v":""},null,"Amaellya"]
[null,"Aphelie_anne",null,null,{"$f":"IF(B10<>G10,\"<<->>\",\"\")","v":""},null,"Aphelie_anne"]
[null,"Arthurdecorlouagne",null,null,{"$f":"IF(B11<>G11,\"<<->>\",\"\")","v":""},null,"Arthurdecorlouagne"]
[null,"Asabella",null,null,{"$f":"IF(B12<>G12,\"<<->>\",\"\")","v":""},null,"Asabella"]
[null,"Asshaii",null,null,{"$f":"IF(B13<>G13,\"<<->>\",\"\")","v":""},null,"Asshaii"]
[null,"Aureganedecoetlogan",null,null,{"$f":"IF(B14<>G14,\"<<->>\",\"\")","v":""},null,"Aureganedecoetlogan"]
[null,"Austin_powers",null,null,{"$f":"IF(B15<>G15,\"<<->>\",\"\")","v":""},null,"Austin_powers"]
[null,"Bellakiara",null,null,{"$f":"IF(B16<>G16,\"<<->>\",\"\")","v":""},null,"Bellakiara"]
[null,"Blackbird",null,null,{"$f":"IF(B17<>G17,\"<<->>\",\"\")","v":""},null,"Blackbird"]
[null,"Blaster",null,null,{"$f":"IF(B18<>G18,\"<<->>\",\"\")","v":""},null,"Blaster"]
[null,"Bloodie",null,null,null,null,"Bloodie"]
[null,"Chlodowig",null,null,{"$f":"IF(B20<>G20,\"<<->>\",\"\")","v":""},null,"Chlodowig"]
[null,"Cleo",null,null,null,null,"Cleo"]
[null,"Clitandre",null,null,{"$f":"IF(B22<>G22,\"<<->>\",\"\")","v":""},null,"Clitandre"]
[null,"Dalamyr",null,null,{"$f":"IF(B23<>G23,\"<<->>\",\"\")","v":""},null,"Dalamyr"]
[null,"Dewitt",null,null,{"$f":"IF(B24<>G24,\"<<->>\",\"\")","v":""},null,"Dewitt"]
[null,"Ediulf.mc_conan",null,null,{"$f":"IF(B25<>G25,\"<<->>\",\"\")","v":""},null,"Ediulf.mc_conan"]
[null,"Edwige04",null,null,{"$f":"IF(B26<>G26,\"<<->>\",\"\")","v":""},null,"Edwige04"]
[null,"Eliossz",null,null,{"$f":"IF(B27<>G27,\"<<->>\",\"\")","v":""},null,"Eliossz"]
[null,"Emericbr",null,null,{"$f":"IF(B28<>G28,\"<<->>\",\"\")","v":""},null,"Emericbr"]
[null,"Enogad",null,null,{"$f":"IF(B29<>G29,\"<<->>\",\"\")","v":""},null,"Enogad"]
[null,"Ermelne",null,null,{"$f":"IF(B30<>G30,\"<<->>\",\"\")","v":""},null,"Ermelne"]
[null,"Esmylady",null,null,null,null,"Esmylady"]
[null,"Godefroidebouillon",null,null,{"$f":"IF(B32<>G32,\"<<->>\",\"\")","v":""},null,"Godefroidebouillon"]
[null,"Gwilherm.",null,null,null,null,"Gwilherm."]
[null,"Harpin",null,null,{"$f":"IF(B34<>G34,\"<<->>\",\"\")","v":""},null,"Harpin"]
[null,"Iliah ",null,null,null,null,"Iliah "]
[null,"Imagine",null,null,{"$f":"IF(B36<>G36,\"<<->>\",\"\")","v":""},null,"Imagine"]
[null,"Jangofett",null,null,null,null,"Jangofett"]
[null,"Julie12",null,null,{"$f":"IF(B38<>G38,\"<<->>\",\"\")","v":""},null,"Julie12"]
[null,"Lagunien",null,null,{"$f":"IF(B39<>G39,\"<<->>\",\"\")","v":""},null,"Lagunien"]
[null,"Legaykoala",null,null,null,null,"Legaykoala"]
[null,"Linya",null,null,{"$f":"IF(B41<>G41,\"<<->>\",\"\")","v":""},null,"Linya"]
[null,"Loic.mc.conan",null,null,{"$f":"IF(B42<>G42,\"<<->>\",\"\")","v":""},null,"Loic.mc.conan"]
[null,"Lorddelocksley ",null,null,{"$f":"IF(B43<>G43,\"<<->>\",\"\")","v":""},null,"Lorddelocksley "]
[null,"Lordloyd",null,null,{"$f":"IF(B44<>G44,\"<<->>\",\"\")","v":""},null,"Lordloyd"]
[null,"Mael.de.kerdraon",null,null,{"$f":"IF(B45<>G45,\"<<->>\",\"\")","v":""},null,"Mael.de.kerdraon"]
[null,"Majanette",null,null,{"$f":"IF(B46<>G46,\"<<->>\",\"\")","v":""},null,"Majanette"]
[null,"Manululu",null,null,null,null,"Manululu"]
[null,"Mc_conan ",null,null,null,null,"Mc_conan "]
[null,"Myserie",null,null,{"$f":"IF(B49<>G49,\"<<->>\",\"\")","v":""},null,"Myserie"]
[null,"Nalufka",null,null,{"$f":"IF(B50<>G50,\"<<->>\",\"\")","v":""},null,"Nalufka"]
[null,"Neige…",null,null,{"$f":"IF(B51<>G51,\"<<->>\",\"\")","v":""},null,"Neige…"]
[null,"Nenou",null,null,{"$f":"IF(B52<>G52,\"<<->>\",\"\")","v":""},null,"Nenou"]
[null,"Osmoz",null,null,{"$f":"IF(B53<>G53,\"<<->>\",\"\")","v":""},null,"Osmoz"]
[null,"Patrescator",null,null,{"$f":"IF(B54<>G54,\"<<->>\",\"\")","v":""},null,"Patrescator"]
[null,"Rico3713",null,null,{"$f":"IF(B55<>G55,\"<<->>\",\"\")","v":""},null,"Rico3713"]
[null,"Ritphil",null,null,{"$f":"IF(B56<>G56,\"<<->>\",\"\")","v":""},null,"Ritphil"]
[null,"Robin....",null,null,{"$f":"IF(B57<>G57,\"<<->>\",\"\")","v":""},null,"Robin...."]
[null,"Sedaolfavrel",null,null,null,null,"Sedaolfavrel"]
[null,"Sigisbert",null,null,{"$f":"IF(B59<>G59,\"<<->>\",\"\")","v":""},null,"Sigisbert"]
[null,"Surfer62",null,null,{"$f":"IF(B60<>G60,\"<<->>\",\"\")","v":""},null,"Surfer62"]
[null,"Weilander",null,null,{"$f":"IF(B61<>G61,\"<<->>\",\"\")","v":""},null,"Weilander"]
[null,"Wrestler02",null,null,{"$f":"IF(B62<>G62,\"<<->>\",\"\")","v":""},null,"Wrestler02"]
[null,"Yann_mc_conan",null,null,null,null,"Yann_mc_conan"]
[null,"Zakarine ",null,null,{"$f":"IF(B64<>G64,\"<<->>\",\"\")","v":""},null,"Zakarine "]
[null,"Zioup",null,null,null,null,"Zioup"]

{"sheet":"Liste_Noire","index":7,"n_rows":902,"n_cols":11,"rows_kept":902,"cut":false,"hidden":false,"merged":[[0,1,0,6],[2,1,2,2],[6,4,6,6],[3,4,4,6],[7,1,9,2]]}
[null,"Liste Noire RR"]
[null,null,null,null,null,"Doublons ",{"$f":"SUM(I15:I15693)","v":{"$error":"#REF!"}}]
[null,"Mises à jour"]
[null,null,null,null,"Pour rechercher une personne, veuillez taper son nom dans le champ grisé ci-dessous."]
[null,"Version fichier :","4.32"]
[null,"Indésirables au Duché :","2016-10-19"]
[null,"Mise à jour par :","Zakarine",null,"Formulaire d'interrogation"]
[null,"Attention, afin que l'outil d'interrogation fonctionne correctement, la liste des indésirables devra être classée dans l'ordre alphabétique !!!",null,null,"Aoibhegreine"]
[]
[null,null,null,null,"Connu dans la base ?",null,{"$f":"IF(ISBLANK(E8),\"-Vide-\",IF(VLOOKUP(E8,$B$16:$K$197,1)=E8,\"OUI\",\"NON\"))","v":"OUI"}]
[]
[]
[null,"Nom","Ancienne identité","Groupe","Détails","Date","Type",null,null,null,"Doublons"]
[]
[null,197856,null,null,null,null,null,null,{"$f":"IF(ISBLANK(B15),\"\",IF(B15=B14,1,\"\"))","v":""},null,{"$f":"IF(B15=B14,\"1\",\"\")","v":""}]
[null,"...abygail…",null,null,null,null,null,null,"",null,""]
[null,"_v_per_vendetta_",null,null,null,null,null,null,"",null,""]
[null,"666phoenix666",null,null,null,null,null,null,"",null,""]
[null,"A_nonimo",null,null,null,null,null,null,"",null,""]
[null,"Aanor",null,null,null,null,null,null,"",null,""]
[null,"Aarwen",null,null,null,null,null,null,"",null,""]
[null,"Abraxasbellum",null,null,null,null,null,null,"",null,""]
[null,"Abrielle",null,null,null,null,null,null,"",null,""]
[null,"Abygael.",null,null,null,null,null,null,"",null,""]
[null,"Adele_sara_ ",null,null,null,null,null,null,"",null,""]
[null,"Adelina18",null,null,null,null,null,null,"",null,""]
[null,"Adelinda",null,null,null,null,null,null,"",null,""]
[null,"Aeeris",null,null,null,null,null,null,"",null,""]
[null,"Agafana",null,null,null,null,null,null,"",null,""]
[null,"Agate_la_gazelle",null,null,null,null,null,null,"",null,""]
[null,"Agravain_du_bellay",null,null,null,null,null,null,"",null,""]
[null,"Agreste",null,null,null,null,null,null,"",null,""]
[null,"Ahainepeheux",null,null,null,null,null,null,"",null,""]
[null,"Aileron",null,null,null,null,null,null,"",null,""]
[null,"Aladar",null,null,null,null,null,null,"",null,""]
[null,"Alalix",null,null,null,null,null,null,"",null,""]
[null,"Alatariel",null,null,null,null,null,null,"",null,""]
[null,"Alban",null,null,null,null,null,null,"",null,""]
[null,"Albin",null,null,null,null,null,null,"",null,""]
[null,"Albius",null,null,null,null,null,null,"",null,""]
[null,"Alcyne",null,null,null,null,null,null,"",null,""]
[null,"Aldebaran2",null,null,null,null,null,null,"",null,""]
[null,"Aldhuin",null,null,null,null,null,null,"",null,""]
[null,"Ale_ramones",null,null,null,null,null,null,"",null,""]
[null,"Alebarasu59",null,null,null,null,null,null,{"$f":"IF(ISBLANK(B45),\"\",IF(B45=B43,1,\"\"))","v":""},null,{"$f":"IF(B45=B43,\"1\",\"\")","v":""}]
[null,"Aleida_",null,null,null,null,null,null,{"$f":"IF(ISBLANK(B46),\"\",IF(B46=B45,1,\"\"))","v":""},null,{"$f":"IF(B46=B45,\"1\",\"\")","v":""}]
[null,"Alessandra",null,null,null,null,null,null,"",null,""]
[null,"Alessandro.di.roja",null,null,null,null,null,null,"",null,""]
[null,"Alessio91",null,null,null,null,null,null,"",null,""]
[null,"Alexandre.",null,null,null,null,null,null,"",null,""]
[null,"Alexine",null,null,null,null,null,null,"",null,""]
[null,"Alicina.",null,null,null,null,null,null,"",null,""]
[null,"Alieniore",null,null,null,null,null,null,"",null,""]
[null,"Alister",null,null,null,null,null,null,"",null,""]
[null,"Almodie",null,null,null,null,null,null,"",null,""]
[null,"Alude",null,null,null,null,null,null,"",null,""]
[null,"Alwin..",null,null,null,null,null,null,"",null,""]
[null,"Alysson",null,null,null,null,null,null,"",null,""]
[null,"Amalio",null,null,null,null,null,null,"",null,""]
[null,"Amandine_68",null,null,null,null,null,null,"",null,""]
[null,"Amatojunior",null,null,"Brigandage a eu lieu entre saint pol et Tréguier  le 15 mars 1465."]
[null,"Amelys",null,null,null,null,null,null,{"$f":"IF(ISBLANK(B62),\"\",IF(B62=B61,1,\"\"))","v":""},null,{"$f":"IF(B62=B61,\"1\",\"\")","v":""}]
[null,"Amory",null,null,null,null,null,null,"",null,""]
[null,"Andrea_",null,null,null,null,null,null,"",null,""]
[null,"Andrew.zhao",null,null,null,null,null,null,"",null,""]
[null,"Andrew_largs",null,null,null,null,null,null,"",null,""]
[null,"Ange_noir76",null,null,null,null,null,null,"",null,""]
[null,"Angel45",null,null,null,null,null,null,"",null,""]
[null,"angeldead",null,null,null,null,null,null,"",null,""]
[null,"Angelheart",null,null,null,null,null,null,"",null,""]
[null,"Anghell",null,null,null,null,null,null,"",null,""]
[null,"Ania",null,null,null,null,null,null,"",null,""]
[null,"Animos-",null,null,null,null,null,null,"",null,""]
[null,"Anitha",null,null,null,null,null,null,"",null,""]
[null,"Anna..",null,null,null,null,null,null,"",null,""]
[null,"Anne_sophie",null,null,null,null,null,null,"",null,""]
[null,"Anto_capone",null,null,null,null,null,null,"",null,""]
[null,"Antonino",null,null,null,null,null,null,"",null,""]
[null,"Anwobo",null,null,null,null,null,null,"",null,""]
[null,"Aoibhegreine",null,"Complice de Kat.",null,null,null,null,"",null,""]
[null,"Apolliine",null,null,null,null,null,null,"",null,""]
[null,"Aranel.",null,null,null,null,null,null,"",null,""]
[null,"Arato.",null,null,null,null,null,null,"",null,""]
[null,"Arcani",null,null,null,null,null,null,"",null,""]
[null,"Archimede",null,null,null,null,null,null,"",null,""]
[null,"Argantino",null,null,null,null,null,null,"",null,""]
[null,"Ariadne",null,null,null,null,null,null,"",null,""]
[null,"Arianna",null,null,null,null,null,null,"",null,""]
[null,"Arizona",null,null,null,null,null,null,"",null,""]
[null,"Arkhor",null,null,null,null,null,null,{"$f":"IF(ISBLANK(B90),\"\",IF(B90=#REF!,1,\"\"))","v":{"$error":"#REF!"}},null,{"$f":"IF(B90=#REF!,\"1\",\"\")","v":{"$error":"#REF!"}}]
[null,"Arma_guesdon",null,null,null,null,null,null,{"$f":"IF(ISBLANK(B91),\"\",IF(B91=B90,1,\"\"))","v":""},null,{"$f":"IF(B91=B90,\"1\",\"\")","v":""}]
[null,"Armand_d_aigleret",null,null,null,null,null,null,{"$f":"IF(ISBLANK(B92),\"\",IF(B92=B91,1,\"\"))","v":""},null,{"$f":"IF(B92=B91,\"1\",\"\")","v":""}]
[null,"Arnaudo",null,null,null,null,null,null,{"$f":"IF(ISBLANK(B93),\"\",IF(B93=B92,1,\"\"))","v":""},null,{"$f":"K109","v":{"$error":"#REF!"}}]
[null,"Arnault",null,null,null,null,null,null,{"$f":"IF(ISBLANK(B94),\"\",IF(B94=B93,1,\"\"))","v":""},null,{"$f":"IF(B94=B93,\"1\",\"\")","v":""}]
[null,"Arsene",null,null,null,null,null,null,{"$f":"IF(ISBLANK(B95),\"\",IF(B95=#REF!,1,\"\"))","v":{"$error":"#REF!"}},null,{"$f":"IF(B95=#REF!,\"1\",\"\")","v":{"$error":"#REF!"}}]
[null,"Arshy_bal",null,null,null,null,null,null,{"$f":"IF(ISBLANK(B96),\"\",IF(B96=B95,1,\"\"))","v":""},null,{"$f":"IF(B96=B95,\"1\",\"\")","v":""}]
[null,"Arthemus",null,null,null,null,null,null,{"$f":"IF(ISBLANK(B97),\"\",IF(B97=B96,1,\"\"))","v":""},null,{"$f":"IF(B97=B96,\"1\",\"\")","v":""}]
[null,"Arthor",null,null,null,null,null,null,{"$f":"IF(ISBLANK(B98),\"\",IF(B98=B97,1,\"\"))","v":""},null,{"$f":"IF(B98=B97,\"1\",\"\")","v":""}]
[null,"Arthur.c",null,null,null,null,null,null,{"$f":"IF(ISBLANK(B99),\"\",IF(B99=B98,1,\"\"))","v":""},null,{"$f":"IF(B99=B98,\"1\",\"\")","v":""}]
[null,"Arthur12",null,null,null,null,null,null,{"$f":"IF(ISBLANK(B100),\"\",IF(B100=#REF!,1,\"\"))","v":{"$error":"#REF!"}},null,{"$f":"IF(B100=#REF!,\"1\",\"\")","v":{"$error":"#REF!"}}]
[null,"Arthus."]
[null,"Artos",null,null,null,null,null,null,{"$f":"IF(ISBLANK(B102),\"\",IF(B102=B100,1,\"\"))","v":""},null,{"$f":"IF(B102=B100,\"1\",\"\")","v":""}]
[null,"Asalbert",null,null,null,null,null,null,{"$f":"IF(ISBLANK(B103),\"\",IF(B103=B102,1,\"\"))","v":""},null,{"$f":"IF(B103=B102,\"1\",\"\")","v":""}]
[null,"Ascoli",null,null,null,null,null,null,"",null,""]
[null,"Asdrubal1",null,null,null,null,null,null,"",null,""]
[null,"Astana",null,null,null,null,null,null,"",null,""]
[null,"Astrabald",null,null,null,null,null,null,"",null,""]
[null,"Asuma",null,null,null,null,null,null,"",null,""]
[null,"Atchoumeuh",null,null,null,null,null,null,{"$f":"IF(ISBLANK(B109),\"\",IF(B109=#REF!,1,\"\"))","v":{"$error":"#REF!"}},null,{"$f":"IF(B109=#REF!,\"1\",\"\")","v":{"$error":"#REF!"}}]
[null,"Athena",null,null,null,null,null,null,{"$f":"IF(ISBLANK(B110),\"\",IF(B110=B109,1,\"\"))","v":""},null,{"$f":"IF(B110=B109,\"1\",\"\")","v":""}]
[null,"Atika",null,null,null,null,null,null,"",null,""]
[null,"Atila",null,null,null,null,null,null,"",null,""]
[null,"Attyla",null,null,null,null,null,null,"",null,""]
[null,"Audric",null,null,null,null,null,null,"",null,""]
[null,"Audric_",null,null,null,null,null,null,"",null,""]
[null,"Auranna"]
[null,"Auron",null,null,null,null,null,null,{"$f":"IF(ISBLANK(B117),\"\",IF(B117=B115,1,\"\"))","v":""},null,{"$f":"IF(B117=B115,\"1\",\"\")","v":""}]
[null,"Avalyne"]
[null,"Avyd",null,null,null,null,null,null,{"$f":"IF(ISBLANK(B119),\"\",IF(B119=B117,1,\"\"))","v":""},null,{"$f":"IF(B119=B117,\"1\",\"\")","v":""}]
[null,"Aymeline",null,null,null,null,null,null,{"$f":"IF(ISBLANK(B120),\"\",IF(B120=B119,1,\"\"))","v":""},null,{"$f":"IF(B120=B119,\"1\",\"\")","v":""}]
[null,"Azoura",null,null,null,null,null,null,"",null,""]
[null,"Azurine",null,null,null,null,null,null,"",null,""]
[null,"Baccara",null,null,null,null,null,null,"",null,""]
[null,"Badboy63",null,null,null,null,null,null,"",null,""]
[null,"Balboc",null,null,null,null,null,null,"",null,""]
[null,"Balourd",null,null,null,null,null,null,{"$f":"IF(ISBLANK(B126),\"\",IF(B126=#REF!,1,\"\"))","v":{"$error":"#REF!"}},null,{"$f":"IF(B126=#REF!,\"1\",\"\")","v":{"$error":"#REF!"}}]
[null,"Barabas",null,null,null,null,null,null,{"$f":"IF(ISBLANK(B127),\"\",IF(B127=B126,1,\"\"))","v":""},null,{"$f":"IF(B127=B126,\"1\",\"\")","v":""}]
[null,"Baratheon",null,null,null,null,null,null,"",null,""]
[null,"Barkus",null,null,null,null,null,null,"",null,""]
[null,"Barramine",null,null,null,null,null,null,"",null,""]
[null,"Bartholom",null,null,null,null,null,null,"",null,""]
[null,"Basile-",null,null,null,null,null,null,"",null,""]
[null,"Beewolf",null,null,null,null,null,null,"",null,""]
[null,"Behind_You",null,null,null,null,null,null,"",null,""]
[null,"Belgarath",null,null,null,null,null,null,"",null,""]
[null,"Bella.snow",null,null,null,null,null,null,"",null,""]
[null,"Beppe_di_bedo",null,null,null,null,null,null,{"$f":"IF(ISBLANK(B137),\"\",IF(B137=#REF!,1,\"\"))","v":{"$error":"#REF!"}},null,{"$f":"IF(B137=#REF!,\"1\",\"\")","v":{"$error":"#REF!"}}]
[null,"Berangeredecauderan",null,null,null,null,null,null,{"$f":"IF(ISBLANK(B138),\"\",IF(B138=B137,1,\"\"))","v":""},null,{"$f":"IF(B138=B137,\"1\",\"\")","v":""}]
[null,"Berem",null,null,null,null,null,null,"",null,""]
[null,"Bergzausel",null,null,null,null,null,null,"",null,""]
[null,"Berthe.",null,null,null,null,null,null,"",null,""]
[null,"Bezimienny",null,null,null,null,null,null,"",null,""]
[null,"Bigbear666",null,null,null,null,null,null,"",null,""]
[null,"Bimba18",null,null,null,null,null,null,"",null,""]
[null,"Bjornn",null,null,null,null,null,null,"",null,""]
[null,"Blackjack212",null,null,null,null,null,null,"",null,""]
[null,"Blanche",null,null,null,null,null,null,"",null,""]
[null,"Blasko_black",null,null,null,null,null,null,"",null,""]
[null,"Blaze.",null,null,null,null,null,null,"",null,""]
[null,"Bobbynight",null,null,null,null,null,null,"",null,""]
[null,"Bobdole",null,null,null,null,null,null,"",null,""]
[null,"Bocom",null,null,null,null,null,null,"",null,""]
[null,"Bossuet",null,null,null,null,null,null,"",null,""]
[null,"Bouclette",null,null,null,null,null,null,"",null,""]
[null,"Bouiboui",null,null,null,null,null,null,"",null,""]
[null,"Boulvay",null,null,null,null,null,null,{"$f":"IF(ISBLANK(B156),\"\",IF(B156=#REF!,1,\"\"))","v":{"$error":"#REF!"}},null,{"$f":"IF(B156=#REF!,\"1\",\"\")","v":{"$error":"#REF!"}}]
[null,"Bounty_",null,null,null,null,null,null,{"$f":"IF(ISBLANK(B157),\"\",IF(B157=B156,1,\"\"))","v":""},null,{"$f":"IF(B157=B156,\"1\",\"\")","v":""}]
[null,"Bowie",null,null,null,null,null,null,"",null,""]
[null,"Braandon",null,null,null,null,null,null,"",null,""]
[null,"Brendan",null,null,null,null,null,null,"",null,""]
[null,"Brennus",null,null,null,null,null,null,"",null,""]
[null,"Brennus_de_reikrigen",null,null,null,null,null,null,"",null,""]
[null,"Brionna",null,null,null,null,null,null,"",null,""]
[null,"Bruantfou",null,null,null,null,null,null,"",null,""]
[null,"Brutus.",null,null,null,null,null,null,"",null,""]
[null,"Bugsy_siegel",null,null,null,null,null,null,"",null,""]
[null,"Cadfael91",null,null,null,null,null,null,"",null,""]
[null,"Caedim ",null,null,null,null,null,null,"",null,""]
[null,"Caesar94",null,null,null,null,null,null,"",null,""]
[null,"Caliceo",null,null,null,null,null,null,"",null,""]
[null,"Calixtes",null,null,null,null,null,null,"",null,""]
[null,"Cameliane",null,null,null,null,null,null,"",null,""]
[null,"Candiac1er",null,null,null,null,null,null,"",null,""]
[null,"Caramelle",null,null,null,null,null,null,"",null,""]
[null,"Carausius",null,null,null,null,null,null,"",null,""]
[null,"Carlo_i",null,null,null,null,null,null,"",null,""]
[null,"Caronte",null,null,null,null,null,null,"",null,""]
[null,"Cartye",null,null,null,null,null,null,"",null,""]
[null,"Casone",null,null,null,null,null,null,"",null,""]
[null,"cat.",null,null,null,null,null,null,"",null,""]
[null,"Catharina...",null,null,null,null,null,null,"",null,""]
[null,"Catnys",null,null,null,null,null,null,"",null,""]
[null,"Ceilb",null,null,null,null,null,null,"",null,""]
[null,"Celia",null,null,null,null,null,null,"",null,""]
[null,"Ceraphin",null,null,null,null,null,null,"",null,""]
[null,"Cerisy",null,null,null,null,null,null,{"$f":"IF(ISBLANK(B186),\"\",IF(B186=#REF!,1,\"\"))","v":{"$error":"#REF!"}},null,{"$f":"IF(B186=#REF!,\"1\",\"\")","v":{"$error":"#REF!"}}]
[null,"Chalva",null,null,null,null,null,null,{"$f":"IF(ISBLANK(B187),\"\",IF(B187=B186,1,\"\"))","v":""},null,{"$f":"IF(B187=B186,\"1\",\"\")","v":""}]
[null,"Charlaine",null,null,null,null,null,null,"",null,""]
[null,"Charly",null,null,null,null,null,null,"",null,""]
[null,"Chat_noir",null,null,null,null,null,null,"",null,""]
[null,"Chef_gordon_ramsay",null,null,null,null,null,null,"",null,""]
[null,"Chevron",null,null,null,null,null,null,"",null,""]
[null,"Chibax",null,null,null,null,null,null,"",null,""]
[null,"Childerick"]
[null,"Chipsi",null,null,null,null,null,null,{"$f":"IF(ISBLANK(B195),\"\",IF(B195=B193,1,\"\"))","v":""},null,{"$f":"IF(B195=B193,\"1\",\"\")","v":""}]
[null,"Chocopic",null,null,null,null,null,null,{"$f":"IF(ISBLANK(B196),\"\",IF(B196=B195,1,\"\"))","v":""},null,{"$f":"IF(B196=B195,\"1\",\"\")","v":""}]
[null,"Christina64"]
[null,"Chtakanov"]
[null,"Cixi"]
[null,"Clawes"]
[null,"Cleia"]
[null,"Clesa"]
[null,"Clipper"]
[null,"Clitandre"]
[null,"Clotaire"]
[null,"Coccibea"]
[null,"Coeur"]
[null,"Conrad29"]
[null,"Constant."]
[null,"Coolmaro12"]
[null,"Cooper_kenway"]
[null,"Cordelia58"]
[null,"Cornellia"]
[null,"Corsaro"]
[null,"Costi"]
[null,"Couleurs"]
[null,"Coyote."]
[null,"Crakity"]
[null,"Crispy"]
[null,"Crixus59"]
[null,"Cromdentdur"]
[null,"Cylouan"]
[null,"Cyrinea"]
[null,"Daeneryss"]
[null,"Dagoon"]
[null,"Daisy.0connor"]
[null,"Dalmau"]
[null,"Damiosr"]
[null,"Danaaa"]
[null,"David.c"]
[null,"Davys"]
[null,"Dbruno"]
[null,"Debrinska"]
[null,"Del_sol"]
[null,"Deliriumts"]
[null,"Desaintalbert"]
[null,"Desideratum"]
[null,"Desirade"]
[null,"Diazolie"]
[null,"Dida"]
[null,"Didrik"]
[null,"Diego_corellio"]
[null,"Distan"]
[null,"Ditreisch"]
[null,"Dje_deforetdechaux"]
[null,"Dje_street_bastard"]
[null,"Djedje59"]
[null,"Drack"]
[null,"Drago"]
[null,"Drannoc"]
[null,"Dumas."]
[null,"Duncan_o.callaghan "]
[null,"Durandal"]
[null,"Eadwin_de_nivellus"]
[null,"Ecross"]
[null,"Eddo"]
[null,"Edelweiss_"]
[null,"Eden"]
[null,"Edinson"]
[null,"Eirine"]
[null,"Elcano"]
[null,"Elena"]
[null,"Eleonore."]
[null,"Elezio"]
[null,"Elinnora"]
[null,"Eliox"]
[null,"Elisa"]
[null,"Eliza"]
[null,"Elladrya"]
[null,"Ellana..."]
[null,"Elle66"]
[null,"Elmany"]
[null,"Eluhanne"]
[null,"Elvy_lee"]
[null,"Elwenn"]
[null,"Elyass"]
[null,"Elyz"]
[null,"Elzorro"]
[null,"Emellyne"]
[null,"Emillane"]
[null,"Emma_sdk"]
[null,"Emrik"]
[null,"Enguerrand"]
[null,"Enjoy"]
[null,"Erika007"]
[null,"Erthes"]
[null,"Esmee_"]
[null,"Eurydice_eleusis"]
[null,"Eusebius_"]
[null,"Eustache_le_moine"]
[null,"Eva_nuit"]
[null,"Evanaelle"]
[null,"Evenice06"]
[null,"Evhan"]
[null,"Exodusse "]
[null,"Falco."]
[null,"Faline"]
[null,"Falkenauge"]
[null,"Fallone"]
[null,"Falter"]
[null,"Fatal_terror"]
[null,"Feebleue.."]
[null,"Finam"]
[null,"Finlams"]
[null,"Finn"]
[null,"Fiona_deforetdechaux"]
[null,"Firielle"]
[null,"Fitzwill"]
[null,"Fizz"]
[null,"Flaminia"]
[null,"Fleur_de_songe"]
[null,"Flex"]
[null,"Floralyse"]
[null,"Florian53"]
[null,"Foster"]
[null,"Fra_diavoli"]
[null,"Franco_del_logo"]
[null,"Francois.beaupre"]
[null,"Fredbug"]
[null,"Frodon"]
[null,"Funky_d_herbauge"]
[null,"gabriel_lebeau"]
[null,"Gabriele."]
[null,"Gabrielvanhesling"]
[null,"Gadej"]
[null,"Gadel "]
[null,"Gahelle"]
[null,"Galadrie"]
[null,"Galduin"]
[null,"Galend"]
[null,"Galovert"]
[null,"Gantung"]
[null,"Garatoi"]
[null,"Gauttier"]
[null,"Genepie "]
[null,"Gerscorp"]
[null,"Ghino_di_tacco"]
[null,"Gianni.pole"]
[null,"Gildas"]
[null,"Gildwen"]
[null,"Giovannidemedici"]
[null,"Glandus"]
[null,"Glenmor"]
[null,"Glorfindhel"]
[null,"Glynda"]
[null,"Gmat"]
[null,"Gna"]
[null,"Godefroy_"]
[null,"Gorion"]
[null,"Grahham"]
[null,"Grayne"]
[null,"Grayne"]
[null,"Greg."]
[null,"Gremlims"]
[null,"Grosbill"]
[null,"Guilhain"]
[null,"Guillaume_"]
[null,"Guiyom"]
[null,"Gurwan_maltese"]
[null,"Guylhem"]
[null,"Guymontagnours"]
[null,"Gwen"]
[null,"Hadrien"]
[null,"Hagos"]
[null,"Halberick"]
[null,"Hambre"]
[null,"Hansi"]
[null,"Hansi"]
[null,"Harchette"]
[null,"Harmony_de_monloup"]
[null,"Heavy"]
[null,"Heikki"]
[null,"Helena.."]
[null,"Hell..."]
[null,"Helros"]
[null,"Henora_feiz"]
[null,"Heros2"]
[null,"Hervald06"]
[null,"Hidatsa"]
[null,"Hoddor"]
[null,"Hoffmann"]
[null,"Holly78"]
[null,"Humbre"]
[null,"Hyro"]
[null,"Iberstorf"]
[null,"Icaruss"]
[null,"Iceberg1"]
[null,"Ida"]
[null,"Ignenatura"]
[null,"Illimino"]
[null,"Indifred"]
[null,"Indri"]
[null,"Ines86"]
[null,"Irina"]
[null,"Iris001 "]
[null,"Itchi"]
[null,"Ixya.beaupre"]
[null,"Izaac"]
[null,"Jademance"]
[null,"James_kybrille"]
[null,"Jasinte"]
[null,"Jasmine_dubois"]
[null,"Jax03"]
[null,"Jaymes"]
[null,"Jeangui"]
[null,"Jefferson_morgan"]
[null,"Jehan_"]
[null,"Jemaal"]
[null,"Jenifaelr"]
[null,"Jeremiah"]
[null,"Jerominus"]
[null,"Jess1836"]
[null,"Jessica "]
[null,"Jesvs_more"]
[null,"Jetfaze"]
[null,"Jewak13"]
[null,"Jheane"]
[null,"Johnwilliams"]
[null,"Jollyroger95"]
[null,"Jorel15"]
[null,"Joyeuxdrille"]
[null,"Judemiko"]
[null,"Julian."]
[null,"Julianni"]
[null,"Julien.."]
[null,"Julien1"]
[null,"Juniorfranck"]
[null,"Justinnien"]
[null,"Juxy"]
[null,"Kahhlan"]
[null,"Kama"]
[null,"Kania"]
[null,"Kara_ramones"]
[null,"Karadok"]
[null,"Karloy"]
[null,"Karnifex"]
[null,"Kartouche"]
[null,"Kat."]
[null,"Kayenn"]
[null,"Kayhan"]
[null,"Kaylla"]
[null,"Kekeradoco"]
[null,"Ken_cohiba"]
[null,"Kenchiro"]
[null,"Keriun "]
[null,"Kerwan83"]
[null,"khah"]
[null,"Kheldar "]
[null,"Khonsou"]
[null,"Ki.ka15"]
[null,"Kingarthur"]
[null,"Kingdolm"]
[null,"Konrad.."]
[null,"Korighan"]
[null,"Kowalos"]
[null,"Kykyne"]
[null,"L_eon"]
[null,"Labaiteuh"]
[null,"Labaronne"]
[null,"Lady_eden"]
[null,"Lady_gaga"]
[null,"Ladydewinter"]
[null,"Ladyhawke"]
[null,"Ladyphoenix"]
[null,"Laehen"]
[null,"Laell"]
[null,"Lafayette"]
[null,"Lais29"]
[null,"Lallia"]
[null,"Lanwenn"]
[null,"Larti"]
[null,"Lau059"]
[null,"Laurette"]
[null,"Lazard"]
[null,"Le_bo"]
[null,"Le_corbeau"]
[null,"Le_sauvage_lailoken"]
[null,"Leamance"]
[null,"Leandro"]
[null,"Lecter_"]
[null,"Lediabolo"]
[null,"Lena."]
[null,"Leo..."]
[null,"Leo_dys"]
[null,"Leonin"]
[null,"Lescar"]
[null,"Levince"]
[null,"Lexinias"]
[null,"Libellux"]
[null,"Liette"]
[null,"Lightning."]
[null,"Lilas_rose"]
[null,"Lililith"]
[null,"Lilith"]
[null,"Lillou"]
[null,"Lilou......"]
[null,"Lina49"]
[null,"Linaelle"]
[null,"Lindsay.black."]
[null,"Linkii"]
[null,"Lisabelle"]
[null,"Lisou_black"]
[null,"Littlerosie"]
[null,"Livingstone"]
[null,"Liviu81"]
[null,"Lockke"]
[null,"Logaan"]
[null,"Lolo87"]
[null,"Lonewolf"]
[null,"Lonie"]
[null,"Lorenz"]
[null,"Lorrie."]
[null,"Louve.."]
[null,"Lucifaire"]
[null,"Luciosestio"]
[null,"Lucus"]
[null,"Ludovic59"]
[null,"Luna...libertad"]
[null,"Lunatik"]
[null,"Luneblanche"]
[null,"Lunenoire"]
[null,"Luziferno"]
[null,"Lyana"]
[null,"Lys_charlotte"]
[null,"Lysandero"]
[null,"Lysandre78"]
[null,"M..."]
[null,"Machette"]
[null,"Madamebutterfly"]
[null,"Maden"]
[null,"Madissard"]
[null,"Mael.de.kerdraon"]
[null,"Maeva83"]
[null,"Magda"]
[null,"Magenoir"]
[null,"Mahauld"]
[null,"Makknoh"]
[null,"Malgan"]
[null,"Malo.."]
[null,"Mammylou"]
[null,"Mandrin"]
[null,"Manialis"]
[null,"Manibo"]
[null,"Manur"]
[null,"Marawoued"]
[null,"Marc"]
[null,"Marcella"]
[null,"Marco741boss"]
[null,"Marcus54"]
[null,"Margaud"]
[null,"Marie_psilocybe"]
[null,"Marieladamnee_"]
[null,"Marilou"]
[null,"Marine"]
[null,"Mariposa"]
[null,"Markus21"]
[null,"Marlha"]
[null,"Marlou"]
[null,"Maryah"]
[null,"Maryk031"]
[null,"Marypierre "]
[null,"Marzina"]
[null,"Matcam"]
[null,"Mateu"]
[null,"Mathys"]
[null,"Maximilien_robs"]
[null,"Maya60"]
[null,"Maylissande"]
[null,"Mazet"]
[null,"Meadow"]
[null,"Meliane26"]
[null,"Mellye"]
[null,"Melyna."]
[null,"Mencia"]
[null,"Meridio"]
[null,"Merot"]
[null,"Metaxasv"]
[null,"Meunotte"]
[null,"mickael741"]
[null,"Mietitore"]
[null,"Mikal"]
[null,"Milo"]
[null,"Milouse"]
[null,"Ministere2"]
[null,"Miramaz"]
[null,"Mirani"]
[null,"Missayany"]
[null,"Mistercrow"]
[null,"Mistik."]
[null,"Mistikchipie"]
[null,"Miya"]
[null,"MiyaLes"]
[null,"Modestus"]
[null,"Moea"]
[null,"Moiira"]
[null,"Moineau"]
[null,"Molkor"]
[null,"Montalban"]
[null,"Mordy"]
[null,"Morgan.black."]
[null,"Morghan"]
[null,"Moriase "]
[null,"Mortor"]
[null,"Mortymer"]
[null,"Moumoutt"]
[null,"Mylena"]
[null,"Mylene"]
[null,"Nael05"]
[null,"Namaycush"]
[null,"Nandus"]
[null,"Nath."]
[null,"Nathan"]
[null,"Naudin"]
[null,"Nayadhe"]
[null,"Necram"]
[null,"Neolonie"]
[null,"Nevia59"]
[null,"Nevia59"]
[null,"Nicbur"]
[null,"Nicky_larson"]
[null,"Nicolax"]
[null,"Nik"]
[null,"Nikkita"]
[null,"Ninon_"]
[null,"Nizam"]
[null,"Njut"]
[null,"Nohman"]
[null,"Nolaan"]
[null,"Nox"]
[null,"Nusha"]
[null,"Nuzvael"]
[null,"Oberthur"]
[null,"Ocatherine"]
[null,"Ogier"]
[null,"Ogier"]
[null,"Olivier..levasseur"]
[null,"Ongwhu"]
[null,"Onix"]
[null,"Orchidee"]
[null,"Otellorévolte"]
[null,"Oursaring"]
[null,"Oxania"]
[null,"Pamputt"]
[null,"Pandacool"]
[null,"Papou81640"]
[null,"Parder"]
[null,"Parimpampu"]
[null,"Pasoa"]
[null,"Pasti"]
[null,"Payen"]
[null,"Pedobear"]
[null,"Pelagius"]
[null,"Percey"]
[null,"Perlha"]
[null,"Pestouille."]
[null,"Phaleg"]
[null,"Phall."]
[null,"Phestu"]
[null,"Philipo"]
[null,"Philippe.v.le.brave"]
[null,"Philodendron"]
[null,"Phoenixnoir"]
[null,"Pierrot13"]
[null,"Piloufilou."]
[null,"Pit51"]
[null,"Pithecanthrope"]
[null,"Pithorr"]
[null,"Plue88"]
[null,"Pointbarre"]
[null,"Praseodyme"]
[null,"Prince_Vaillant"]
[null,"Proculus "]
[null,"Protozoaire"]
[null,"Prunn"]
[null,"Queen"]
[null,"Quentin."]
[null,"Quintus"]
[null,"Rachel"]
[null,"Raeubertochter"]
[null,"Ramons"]
[null,"Raoulleglabre"]
[null,"Raphale"]
[null,"Raspoutine"]
[null,"Raulvolfoni"]
[null,"Rayanha"]
[null,"Rayzdinn"]
[null,"Raziel"]
[null,"Rbaty"]
[null,"Redington"]
[null,"Reinemab"]
[null,"Renny"]
[null,"Reshev"]
[null,"Rhana"]
[null,"Ribaute"]
[null,"Ricks"]
[null,"Roman"]
[null,"Roman."]
[null,"Romanne.."]
[null,"Rosabelle"]
[null,"Rose"]
[null,"Rossignol"]
[null,"Rouls"]
[null,"Rowenda"]
[null,"Rubella"]
[null,"Ruga"]
[null,"Ruysandez"]
[null,"Ryya"]
[null,"Saax"]
[null,"Sacha_"]
[null,"Sachatouille"]
[null,"Sakhaline"]
[null,"Samaele"]
[null,"Sambor"]
[null,"Samuell_ramones"]
[null,"Samwell"]
[null,"Sanada"]
[null,"Sancte"]
[null,"Sanctus."]
[null,"Santanario"]
[null,"Santiagoriccardo"]
[null,"Sarah_Callahan"]
[null,"Sarahlise"]
[null,"Saskaa"]
[null,"Sat"]
[null,"Satyne"]
[null,"Saull"]
[null,"Saumon"]
[null,"Sawda"]
[null,"Schecter"]
[null,"Scheherazade"]
[null,"Scrat"]
[null,"Scronch"]
[null,"Seanmaclane"]
[null,"Seblebeau"]
[null,"Selina."]
[null,"Senera"]
[null,"Serrallonga"]
[null,"Seyar21Brigandage"]
[null,"Sgrufolo"]
[null,"Shanaelle"]
[null,"Shanephillips"]
[null,"Shawie"]
[null,"Sheilla"]
[null,"Sherezade"]
[null,"Sherif"]
[null,"Sherynne"]
[null,"Ships"]
[null,"Shirine"]
[null,"Silue"]
[null,"Silverado"]
[null,"Silvinho"]
[null,"silvio007"]
[null,"Simoveli"]
[null,"Sirius.black."]
[null,"Sirjango"]
[null,"Sisi420"]
[null,"Skarfin"]
[null,"Skiid"]
[null,"Skippy_le_grand"]
[null,"Skrool"]
[null,"Slachter"]
[null,"Slatanic"]
[null,"Smatil"]
[null,"smir.."]
[null,"Smir.."]
[null,"Smurf"]
[null,"Snack"]
[null,"Snorri91"]
[null,"Sogeking"]
[null,"Sohane"]
[null,"Sokly"]
[null,"Solid"]
[null,"Solstice"]
[null,"Sordrak"]
[null,"Souvenir.black"]
[null,"Spartacop"]
[null,"Squale"]
[null,"Stan"]
[null,"Stan25 "]
[null,"Statere"]
[null,"Stea"]
[null,"Stea"]
[null,"Steiners "]
[null,"Stellounette"]
[null,"Steph67"]
[null,"Stradivarius."]
[null,"Stronghold"]
[null,"Stuber "]
[null,"Swan"]
[null,"Syagrius"]
[null,"Sybelle"]
[null,"Symba "]
[null,"Sysko"]
[null,"Taalab"]
[null,"Talieslin30"]
[null,"Tamarra"]
[null,"Tanhya"]
[null,"Taros"]
[null,"Tatasuzanne"]
[null,"Tatoo"]
[null,"Tatoumi"]
[null,"Tav"]
[null,"Temary"]
[null,"Tenebrax"]
[null,"Teo_le_balte"]
[null,"Tess_maria"]
[null,"Tetram"]
[null,"Thael"]
[null,"Thaliie"]
[null,"Thea_"]
[null,"Thecorzze"]
[null,"Thelordofeagles"]
[null,"Theo"]
[null,"Theseus77"]
[null,"Thimolin"]
[null,"Thimoty"]
[null,"Thomas_church ",null,"Complice de Kat."]
[null,"Thomass"]
[null,"Thoor"]
[null,"Thylia"]
[null,"Thyxia."]
[null,"Tidusfang"]
[null,"Tinaille"]
[null,"Tit_squaw"]
[null,"Titia."]
[null,"Titoine"]
[null,"Toffsy"]
[null,"Toluen"]
[null,"Tom_kork"]
[null,"Tonic"]
[null,"Tord_fer"]
[null,"Traps"]
[null,"Trez"]
[null,"Tristante"]
[null,"Troubi"]
[null,"Troudebal"]
[null,"Tugaluso"]
[null,"Twuart"]
[null,"Tynop"]
[null,"Tyranertus"]
[null,"Tywin"]
[null,"Ulderic"]
[null,"Ulrichvonliechtenste"]
[null,"Umbrella"]
[null,"Unega"]
[null,"Valara"]
[null,"Valentina."]
[null,"Vauxal"]
[null,"Venusspillage"]
[null,"Victoire1"]
[null,"Victorine"]
[null,"Vidame"]
[null,"Vidocque"]
[null,"Vignolles"]
[null,"Vincentimes"]
[null,"Viny31"]
[null,"Vivaldi."]
[null,"Vivianne"]
[null,"Vivien_duchatel"]
[null,"Vladius"]
[null,"Vladka_"]
[null,"Von_zeppelin"]
[null,"Voncarstein"]
[null,"Vorhonwe"]
[null,"Waldi41."]
[null,"Wallamace"]
[null,"Warrick"]
[null,"Wedge"]
[null,"Weil"]
[null,"Wenek"]
[null,"White_deamon"]
[null,"Whitelady"]
[null,"Wihlelm"]
[null,"Wilhelmus"]
[null,"Will_haine"]
[null,"Willsbelgium"]
[null,"Woland_von_selenios"]
[null,"Wood."]
[null,"Wyn"]
[null,"Xalegion"]
[null,"Xpax"]
[null,"Yalunsioza"]
[null,"Yan"]
[null,"Yanmax"]
[null,"Yann"]
[null,"Yann58390"]
[null,"Yap."]
[null,"Yen_vang"]
[null,"Yeruschalayim"]
[null,"Ysendar"]
[null,"Yseut"]
[null,"Yzar"]
[null,"Zabour "]
[null,"Zaig_mor"]
[null,"Zarakii"]
[null,"Zarathoustra"]
[null,"Zazzera"]
[null,"Zebulon"]
[null,"Zeldaa"]
[null,"Zilofus"]
[null,"Zord"]
[null,"Zwaxx"]

{"sheet":"Datas","index":8,"n_rows":51,"n_cols":20,"rows_kept":51,"cut":false,"hidden":false,"merged":[[35,6,35,7]]}
[null,"Datas utilisées dans les feuilles"]
[]
[]
[null,null,null,null,null,null,null,null,null,null,"Etat des options du Menu",null,null,null,null,null,null,"Type Aff Date"]
[null,"Liste Couleurs :",null,"Liste Duchés",null,null,"Liste villes du duché :",null,"Liste des Grades",null,"OK",null,null,null,null,null,null,{"$f":"IF($F$41=\"C\",3,2)","v":3}]
[null,"black",null,"Comté de Provence","France",null,"A",null,"Recrue",null,"PAS FAIT"]
[null,"blue",null,"Comté de Rouergue ","France",null,"Alais",null,"Soldat",null,"A FAIRE"]
[null,"brown",null,"Comté de Toulouse","France",null,"Béziers",null,"Matelot",null,null,null,null,"INTERMEDIAIRES",null,null,null,"Mois des Dates"]
[null,"cyan",null,"Comté de Béarn","France",null,"Carcassonne",null,"Matelot de 1ere Classe",null,"Etapes du Menu",null,"Récap valeurs",null,null,null,null,1,"JAN","Janvier"]
[null,"darkblue",null,"Comté du Languedoc","France",null,"Lodève",null,"Sergent",null,"Etape 1",{"$f":"IF(ISBLANK(M10),$K$6,IF(M10>0,$K$5,$K$6))","v":"OK"},1,null,null,null,null,2,"FEV","Février"]
[null,"darkred",null,"Comté du Maine (Domaine Royal)","France",null,"Mende",null,"Quartier Maitre",null,"Etape 2","PAS FAIT",{"$f":"IF(SUM(N11:P11)>0,0,1)","v":0},{"$f":"IF(ISBLANK(Menu!#REF!),0,1)","v":1},{"$f":"Trait_Etrangers!$AK$9","v":0},{"$f":"Trait_Villageois!$AH$10","v":0},null,3,"MARS","Mars"]
[null,"green",null,"Ducato di Modena","Espagne",null,"Montpellier",null,"Premier Maitre",null,"Etape 3","PAS FAIT",null,null,null,null,null,4,"AVR","Avril"]
[null,"indigo",null,"Duché d'Alençon (Domaine Royal)","France",null,"Narbonne",null,"Lieutenant",null,"Etape 4","PAS FAIT",null,null,null,null,null,5,"MAI","Mai"]
[null,"olive",null,"Duché de Bourgogne","France",null,"Nîmes",null,"Lieutenant de Vaisseau",null,"Etape 5","OK",1,null,null,null,null,6,"JUIN","Juin"]
[null,"orange",null,"Duché de Gascogne","France",null,"Uzès",null,"Sénéchal",null,"Etape 6","PAS FAIT",null,null,null,null,null,7,"JUIL","Juillet"]
[null,"red",null,"Duché de Guyenne ","France",null,null,null,"Commodore",null,"Etape 7",{"$f":"IF(ISBLANK(M16),$K$6,IF(M16>0,$K$7,$K$6))","v":"PAS FAIT"},null,null,null,null,null,8,"AOUT","Aout"]
[null,"violet",null,"Duché du Bourbonnais-Auvergne","France",null,null,null,"Douanier",null,null,null,null,null,null,null,null,9,"SEPT","Septembre"]
[null,"white",null,"Duché du Lyonnais-Dauphiné","France",null,null,null,"Connétable",null,null,null,null,null,null,null,null,10,"OCT","Octobre"]
[null,"yellow",null,"Duché de Lorraine","France",null,null,null,"Général",null,null,null,null,null,null,null,null,11,"NOV","Novembre"]
[null,null,null,"Duché de Champagne (Domaine Royal)","France",null,null,null,"Capitaine",null,null,null,null,null,null,null,null,12,"DEC","Décembre"]
[null,null,null,"Franche-Comté","France"]
[null,null,null,"Principado de Cataluña","Espagne"]
[null,null,null,"Księstwo mazowieckie"]
[null,null,null,"Reino de Aragón"]
[null,null,null,"Schwerin Eidgenossenschaft"]
[null,null,null,"България "]
[]
[]
[]
[]
[null,"Textes d'alerte :",null,null,null,null,"Traitement des Listes Noires :"]
[null,"Avant",null,">",null,null,null,"Prise de la mairie de "]
[null,"Après",null," << LISTE NOIRE ",null,null,null,"Tentative de révolte à "]
[null,null,null,null,null,null,null,"Pillage de la mairie de "]
[null,"Texte Pasbo",null,"Indésirables",null,null,null,"Brigandage "]
[null,null,null,{"$f":"\"[b][color=red]\"&$D$35&\"[/color][/b]\"","v":"[b][color=red]Indésirables[/color][/b]"},null,null,"Classement :"]
[null,null,null,null,null,null,null,"Feux d'alarme"]
[null,"Version",null,"4.32",null,null,null,"Surveillance"]
[null,null,null,null,null,null,null,"A poutrer"]
[null,"Inclure dans les Rapports",null,null,null,"Afficher les dates avec :"]
[null,"Pour Villageois","x","Ville",null,"C","Mois (C)omplets ou (A)brégés"]
[null,null,null,"Comté"]
[null,null,"x","Points de Réputation"]
[null,null,"x","Ecus"]
[null,null,"x","Niveau"]
[]
[null,"Pour Etrangers","x","Ville"]
[null,null,"x","Comté"]
[null,null,null,"Points de Réputation"]
[null,null,"x","Ecus"]
[null,null,"x","Niveau"]

{"sheet":"Feuil1","index":9,"n_rows":0,"n_cols":0,"rows_kept":0,"cut":false,"hidden":false,"merged":[]}