{"text_format":"1","workbook":"xlsx","n_sheets":18,"sheets":["ENTETE","1","2","3","4","5","6","7","8","9","10","11","12","Feuil18","compteur trimestre","CP","renseignement agent","parametre"],"not_rendered":{"charts":0,"images":1,"macros":1,"external_links":0,"defined_names":4,"comments":0,"pivot_tables":0},"unopened":[],"bounds":{"document_bytes":16777216,"sheet_cells":100000,"rows_first":2000,"rows_last":500,"rows_between":2000,"halvings":0,"cell_chars":16384,"cell_head_chars":4096},"cells_cut":0,"cells_raw":0,"read":"whole","date_system":"1900"}

{"sheet":"ENTETE","index":0,"n_rows":13,"n_cols":11,"rows_kept":13,"cut":false,"hidden":false,"merged":[[0,6,0,7],[0,8,0,9],[0,10,0,11],[1,6,2,7],[1,8,2,9],[1,10,2,11],[13,6,14,7],[13,8,14,9],[13,10,14,11],[4,10,4,11],[5,6,6,7],[5,8,6,9],[5,10,6,11],[8,6,8,7],[8,8,8,9],[8,10,8,11],[4,6,4,7],[4,8,4,9],[9,6,10,7],[9,8,10,9],[12,2,12,3],[12,0,12,1],[9,0,9,3],[9,10,10,11],[12,6,12,7],[12,8,12,9],[12,10,12,11],[10,0,10,1],[10,2,10,3],[11,2,11,3],[11,0,11,1]]}
[null,null,null,null,null,null,{"$f":"'1'!$C$2","v":"janvier"},null,{"$f":"'2'!C2","v":"février"},null,{"$f":"'3'!C2","v":"mars"}]
[]
[]
[]
[null,null,null,null,null,null,{"$f":"'4'!C2","v":"avril"},null,{"$f":"'5'!C2","v":"mai"},null,{"$f":"'6'!C2","v":"juin"}]
[]
[]
[]
[null,null,null,null,null,null,{"$f":"'7'!C2","v":"juillet"},null,{"$f":"'8'!C2","v":"août"},null,{"$f":"'9'!C2","v":"septembre"}]
["RENSEIGNEMENTS"]
["DATE DE DEPART",null,"2018-01-01"]
["SECTEUR CONCERNEE",null,"secteur aubagne"]
["TYPE DE CALCUL ",null,"trimestre",null,null,null,{"$f":"'10'!C2","v":"octobre"},null,{"$f":"'11'!C2","v":"novembre"},null,{"$f":"'12'!C2","v":"décembre"}]

{"sheet":"1","index":1,"n_rows":74,"n_cols":39,"rows_kept":74,"cut":false,"hidden":false,"merged":[[36,34,37,34],[38,34,39,34],[16,1,17,1],[18,1,19,1],[20,1,21,1],[22,1,23,1],[24,1,25,1],[1,27,2,28],[0,30,2,31],[0,1,0,2],[30,34,31,34],[32,34,33,34],[14,34,15,34],[10,34,13,34],[16,34,17,34],[18,34,19,34],[20,34,21,34],[1,0,1,1],[34,34,35,34],[70,34,71,34],[72,34,73,34],[58,34,59,34],[60,34,61,34],[62,34,63,34],[64,34,65,34],[66,34,67,34],[68,34,69,34],[46,34,47,34],[48,34,49,34],[50,34,51,34],[52,34,53,34],[54,34,55,34],[56,34,57,34],[74,3,75,3],[74,4,75,4],[74,5,75,5],[74,6,75,6],[74,7,75,7],[74,8,75,8],[2,0,2,1],[26,0,27,0],[28,0,29,0],[30,0,31,0],[32,0,33,0],[56,0,57,0],[58,0,59,0],[60,0,61,0],[62,0,63,0],[54,0,55,0],[50,1,51,1],[52,1,53,1],[54,1,55,1],[34,0,35,0],[36,0,37,0],[38,0,39,0],[40,0,41,0],[14,1,15,1],[74,17,75,17],[74,18,75,18],[74,19,75,19],[74,20,75,20],[74,9,75,9],[74,10,75,10],[74,11,75,11],[74,12,75,12],[74,13,75,13],[74,14,75,14],[74,33,75,33],[8,0,9,1],[5,8,7,16],[5,17,7,23],[14,0,15,0],[16,0,17,0],[18,0,19,0],[20,0,21,0],[22,0,23,0],[24,0,25,0],[74,27,75,27],[74,28,75,28],[74,29,75,29],[74,30,75,30],[74,31,75,31],[74,32,75,32],[74,21,75,21],[74,22,75,22],[74,23,75,23],[74,24,75,24],[74,25,75,25],[74,26,75,26],[74,15,75,15],[74,16,75,16],[42,0,43,0],[44,0,45,0],[46,0,47,0],[48,0,49,0],[30,1,31,1],[32,1,33,1],[34,1,35,1],[36,1,37,1],[64,0,65,0],[66,0,67,0],[68,0,69,0],[70,0,71,0],[72,0,73,0],[50,0,51,0],[52,0,53,0],[68,1,69,1],[70,1,71,1],[72,1,73,1],[60,1,61,1],[62,1,63,1],[64,1,65,1],[66,1,67,1],[14,35,15,35],[16,35,17,35],[18,35,19,35],[20,35,21,35],[22,35,23,35],[24,35,25,35],[26,35,27,35],[56,1,57,1],[58,1,59,1],[38,1,39,1],[40,1,41,1],[42,1,43,1],[44,1,45,1],[46,1,47,1],[48,1,49,1],[26,1,27,1],[28,1,29,1],[40,34,41,34],[42,34,43,34],[44,34,45,34],[22,34,23,34],[24,34,25,34],[26,34,27,34],[28,34,29,34],[68,35,69,35],[70,35,71,35],[72,35,73,35],[14,36,15,36],[18,36,19,36],[24,36,25,36],[30,36,31,36],[36,36,37,36],[52,35,53,35],[54,35,55,35],[56,35,57,35],[58,35,59,35],[60,35,61,35],[62,35,63,35],[40,35,41,35],[42,35,43,35],[44,35,45,35],[46,35,47,35],[48,35,49,35],[50,35,51,35],[28,35,29,35],[30,35,31,35],[32,35,33,35],[34,35,35,35],[14,37,15,37],[14,38,15,38],[10,36,13,36],[16,36,17,36],[16,37,17,37],[16,38,17,38],[10,37,13,37],[64,35,65,35],[66,35,67,35],[36,35,37,35],[38,35,39,35],[24,37,25,37],[24,38,25,38],[26,36,27,36],[26,37,27,37],[26,38,27,38],[28,36,29,36],[28,37,29,37],[28,38,29,38],[18,37,19,37],[18,38,19,38],[20,36,21,36],[20,37,21,37],[20,38,21,38],[22,36,23,36],[22,37,23,37],[22,38,23,38],[36,37,37,37],[36,38,37,38],[38,36,39,36],[38,37,39,37],[38,38,39,38],[40,36,41,36],[40,37,41,37],[40,38,41,38],[30,37,31,37],[30,38,31,38],[32,36,33,36],[32,37,33,37],[32,38,33,38],[34,36,35,36],[34,37,35,37],[34,38,35,38],[46,36,47,36],[46,37,47,37],[46,38,47,38],[48,36,49,36],[48,37,49,37],[48,38,49,38],[42,36,43,36],[42,37,43,37],[42,38,43,38],[44,36,45,36],[44,37,45,37],[44,38,45,38],[60,38,61,38],[54,36,55,36],[54,37,55,37],[54,38,55,38],[56,36,57,36],[56,37,57,37],[56,38,57,38],[50,36,51,36],[50,37,51,37],[50,38,51,38],[52,36,53,36],[52,37,53,37],[52,38,53,38],[14,39,15,39],[70,36,71,36],[70,37,71,37],[70,38,71,38],[72,36,73,36],[72,37,73,37],[72,38,73,38],[66,36,67,36],[66,37,67,37],[66,38,67,38],[68,36,69,36],[68,37,69,37],[68,38,69,38],[62,36,63,36],[62,37,63,37],[62,38,63,38],[64,36,65,36],[64,37,65,37],[64,38,65,38],[58,36,59,36],[58,37,59,37],[58,38,59,38],[60,36,61,36],[60,37,61,37],[0,17,0,18],[0,19,0,20],[0,21,0,22],[0,23,0,24],[0,25,0,26],[0,27,0,28],[1,17,2,18],[0,5,0,6],[0,7,0,8],[0,9,0,10],[0,11,0,12],[0,13,0,14],[0,15,0,16],[1,5,2,6],[1,7,2,8],[1,9,2,10],[1,11,2,12],[1,13,2,14],[1,15,2,16],[1,19,2,20],[1,21,2,22],[1,23,2,24],[1,25,2,26]]}
[null,{"$f":"ENTETE!C12","v":"secteur aubagne"},null,null,null,null,null,{"$f":"'2'!C2","v":"février"},null,{"$f":"'3'!C2","v":"mars"},null,{"$f":"'4'!C2","v":"avril"},null,{"$f":"'5'!C2","v":"mai"},null,{"$f":"'6'!C2","v":"juin"},null,{"$f":"'7'!C2","v":"juillet"},null,{"$f":"'8'!C2","v":"août"},null,{"$f":"'9'!C2","v":"septembre"},null,{"$f":"'10'!C2","v":"octobre"},null,{"$f":"'11'!C2","v":"novembre"},null,{"$f":"'12'!C2","v":"décembre"}]
["PLANNING MOIS DE :",null,{"$f":"TEXT(B5,\"MMMM\")","v":"janvier"}]
["ANNEE",null,{"$f":"TEXT(B6,\"aaaa\")","v":"2018"}]
[]
["date de debut ",{"$f":"ENTETE!C11","v":"2018-01-01"}]
["date de fin ",{"$f":"EOMONTH(B5,0)","v":"2018-01-31"},null,null,null,null,null,null,{"$f":"C2","v":"janvier"},null,null,null,null,null,null,null,null,{"$f":"C3","v":"2018"}]
[null,{"$f":"TODAY()","v":"2017-11-08"}]
[]
[{"$f":"SUMIF(parametre!$B$4:'parametre'!$B$15,C2,parametre!$C$4:'parametre'!$C$15)","v":31}]
[]
[null,null,null,{"$f":"B5","v":"2018-01-01"},{"$f":"D11+1","v":"2018-01-02"},{"$f":"E11+1","v":"2018-01-03"},"2018-01-04","2018-01-05","2018-01-06","2018-01-07","2018-01-08","2018-01-09","2018-01-10","2018-01-11","2018-01-12","2018-01-13","2018-01-14","2018-01-15","2018-01-16","2018-01-17","2018-01-18","2018-01-19","2018-01-20","2018-01-21","2018-01-22","2018-01-23","2018-01-24","2018-01-25","2018-01-26","2018-01-27","2018-01-28","2018-01-29","2018-01-30",{"$f":"IFERROR(IF(AG11+1>B6,\"\",AG11+1),\"\")","v":"2018-01-31"},null,null,"CP MOIS","CP 1 JOURNEE"]
[null,null,null,{"$f":"IF(D14=\"L\",\"S \"&WEEKNUM(D11),\"\")","v":""},{"$f":"IF(E14=\"L\",\"S \"&WEEKNUM(E11),\"\")","v":""},"","","","","","","","","","","","","","","","","","","","","","","","","","","","",{"$f":"IFERROR(IF(AH14=\"L\",\"S \"&WEEKNUM(AH11),\"\"),\"\")","v":""}]
[null,null,"MOIS",{"$f":"DAY(D11)","v":1},{"$f":"DAY(E11)","v":2},3,4,5,6,7,8,9,10,11,12,13,14,15,16,17,18,19,20,21,22,23,24,25,26,27,28,29,30,{"$f":"IFERROR(DAY(AH11),\"\")","v":31}]
[null,"contrat",{"$f":"ENTETE!C13","v":"trimestre"},{"$f":"WEEKDAY(D11)","v":"1900-01-02"},{"$f":"WEEKDAY(E11)","v":"1900-01-03"},"1900-01-04","1900-01-05","1900-01-06","1900-01-07","1900-01-01","1900-01-02","1900-01-03","1900-01-04","1900-01-05","1900-01-06","1900-01-07","1900-01-01","1900-01-02","1900-01-03","1900-01-04","1900-01-05","1900-01-06","1900-01-07","1900-01-01","1900-01-02","1900-01-03","1900-01-04","1900-01-05","1900-01-06","1900-01-07","1900-01-01","1900-01-02","1900-01-03",{"$f":"IFERROR(WEEKDAY(AH11),\"\")","v":"1900-01-04"}]
[null,{"$f":"SUMIF('compteur trimestre'!$A$10:$A$78,A15,'compteur trimestre'!$AI$10:$AI$78)","v":0},{"$f":"SUM(AI15-B15)","v":0},null,null,null,null,null,null,null,null,null,null,null,null,null,null,null,null,null,null,null,null,null,null,null,null,null,null,null,null,null,null,null,{"$f":"SUM(D16:AH16)","v":0},{"$f":"C16","v":0},{"$f":"SUM(AM15/AL15)","v":{"$error":"#DIV/0!"}},{"$f":"SUMIF('renseignement agent'!$A$8:'renseignement agent'!$A$96,A15,'renseignement agent'!$G$8:'renseignement agent'!$G$96)","v":0},{"$f":"SUMIF(D15:AH15,\"cp\",D16:AH16)","v":0}]
[null,null,{"$f":"C15","v":0}]
[null,{"$f":"SUMIF('compteur trimestre'!$A$10:$A$78,A17,'compteur trimestre'!$AI$10:$AI$78)","v":0},{"$f":"SUM(AI17-B17)","v":0},null,null,null,null,null,null,null,null,null,null,null,null,null,null,null,null,null,null,null,null,null,null,null,null,null,null,null,null,null,null,null,{"$f":"SUM(D18:AH18)","v":0},{"$f":"C18","v":0},{"$f":"SUM(AM17/AL17)","v":{"$error":"#DIV/0!"}},{"$f":"SUMIF('renseignement agent'!$A$8:'renseignement agent'!$A$96,A17,'renseignement agent'!$G$8:'renseignement agent'!$G$96)","v":0},{"$f":"SUMIF(D17:AH17,\"cp\",D18:AH18)","v":0}]
[null,null,{"$f":"C17","v":0}]
[null,{"$f":"SUMIF('compteur trimestre'!$A$10:$A$78,A19,'compteur trimestre'!$AI$10:$AI$78)","v":0},{"$f":"SUM(AI19-B19)","v":0},null,null,null,null,null,null,null,null,null,null,null,null,null,null,null,null,null,null,null,null,null,null,null,null,null,null,null,null,null,null,null,{"$f":"SUM(D20:AH20)","v":0},{"$f":"C20","v":0},{"$f":"SUM(AM19/AL19)","v":{"$error":"#DIV/0!"}},{"$f":"SUMIF('renseignement agent'!$A$8:'renseignement agent'!$A$96,A19,'renseignement agent'!$G$8:'renseignement agent'!$G$96)","v":0},{"$f":"SUMIF(D19:AH19,\"cp\",D20:AH20)","v":0}]
[null,null,{"$f":"C19","v":0}]
[null,{"$f":"SUMIF('compteur trimestre'!$A$10:$A$78,A21,'compteur trimestre'!$AI$10:$AI$78)","v":0},{"$f":"SUM(AI21-B21)","v":0},null,null,null,null,null,null,null,null,null,null,null,null,null,null,null,null,null,null,null,null,null,null,null,null,null,null,null,null,null,null,null,{"$f":"SUM(D22:AH22)","v":0},{"$f":"C22","v":0},{"$f":"SUM(AM21/AL21)","v":{"$error":"#DIV/0!"}},{"$f":"SUMIF('renseignement agent'!$A$8:'renseignement agent'!$A$96,A21,'renseignement agent'!$G$8:'renseignement agent'!$G$96)","v":0},{"$f":"SUMIF(D21:AH21,\"cp\",D22:AH22)","v":0}]
[null,null,{"$f":"C21","v":0}]
[null,{"$f":"SUMIF('compteur trimestre'!$A$10:$A$78,A23,'compteur trimestre'!$AI$10:$AI$78)","v":0},{"$f":"SUM(AI23-B23)","v":0},null,null,null,null,null,null,null,null,null,null,null,null,null,null,null,null,null,null,null,null,null,null,null,null,null,null,null,null,null,null,null,{"$f":"SUM(D24:AH24)","v":0},{"$f":"C24","v":0},{"$f":"SUM(AM23/AL23)","v":{"$error":"#DIV/0!"}},{"$f":"SUMIF('renseignement agent'!$A$8:'renseignement agent'!$A$96,A23,'renseignement agent'!$G$8:'renseignement agent'!$G$96)","v":0},{"$f":"SUMIF(D23:AH23,\"cp\",D24:AH24)","v":0}]
[null,null,{"$f":"C23","v":0}]
[null,{"$f":"SUMIF('compteur trimestre'!$A$10:$A$78,A25,'compteur trimestre'!$AI$10:$AI$78)","v":0},{"$f":"SUM(AI25-B25)","v":0},null,null,null,null,null,null,null,null,null,null,null,null,null,null,null,null,null,null,null,null,null,null,null,null,null,null,null,null,null,null,null,{"$f":"SUM(D26:AH26)","v":0},{"$f":"C26","v":0},{"$f":"SUM(AM25/AL25)","v":{"$error":"#DIV/0!"}},{"$f":"SUMIF('renseignement agent'!$A$8:'renseignement agent'!$A$96,A25,'renseignement agent'!$G$8:'renseignement agent'!$G$96)","v":0},{"$f":"SUMIF(D25:AH25,\"cp\",D26:AH26)","v":0}]
[null,null,{"$f":"C25","v":0}]
[null,{"$f":"SUMIF('compteur trimestre'!$A$10:$A$78,A27,'compteur trimestre'!$AI$10:$AI$78)","v":0},{"$f":"SUM(AI27-B27)","v":0},null,null,null,null,null,null,null,null,null,null,null,null,null,null,null,null,null,null,null,null,null,null,null,null,null,null,null,null,null,null,null,{"$f":"SUM(D28:AH28)","v":0},{"$f":"C28","v":0},{"$f":"SUM(AM27/AL27)","v":{"$error":"#DIV/0!"}},{"$f":"SUMIF('renseignement agent'!$A$8:'renseignement agent'!$A$96,A27,'renseignement agent'!$G$8:'renseignement agent'!$G$96)","v":0},{"$f":"SUMIF(D27:AH27,\"cp\",D28:AH28)","v":0}]
[null,null,{"$f":"C27","v":0}]
[null,{"$f":"SUMIF('compteur trimestre'!$A$10:$A$78,A29,'compteur trimestre'!$AI$10:$AI$78)","v":0},{"$f":"SUM(AI29-B29)","v":0},null,null,null,null,null,null,null,null,null,null,null,null,null,null,null,null,null,null,null,null,null,null,null,null,null,null,null,null,null,null,null,{"$f":"SUM(D30:AH30)","v":0},{"$f":"C30","v":0},{"$f":"SUM(AM29/AL29)","v":{"$error":"#DIV/0!"}},{"$f":"SUMIF('renseignement agent'!$A$8:'renseignement agent'!$A$96,A29,'renseignement agent'!$G$8:'renseignement agent'!$G$96)","v":0},{"$f":"SUMIF(D29:AH29,\"cp\",D30:AH30)","v":0}]
[null,null,{"$f":"C29","v":0}]
[null,{"$f":"SUMIF('compteur trimestre'!$A$10:$A$78,A31,'compteur trimestre'!$AI$10:$AI$78)","v":0},{"$f":"SUM(AI31-B31)","v":0},null,null,null,null,null,null,null,null,null,null,null,null,null,null,null,null,null,null,null,null,null,null,null,null,null,null,null,null,null,null,null,{"$f":"SUM(D32:AH32)","v":0},{"$f":"C32","v":0},{"$f":"SUM(AM31/AL31)","v":{"$error":"#DIV/0!"}},{"$f":"SUMIF('renseignement agent'!$A$8:'renseignement agent'!$A$96,A31,'renseignement agent'!$G$8:'renseignement agent'!$G$96)","v":0},{"$f":"SUMIF(D31:AH31,\"cp\",D32:AH32)","v":0}]
[null,null,{"$f":"C31","v":0}]
[null,{"$f":"SUMIF('compteur trimestre'!$A$10:$A$78,A33,'compteur trimestre'!$AI$10:$AI$78)","v":0},{"$f":"SUM(AI33-B33)","v":0},null,null,null,null,null,null,null,null,null,null,null,null,null,null,null,null,null,null,null,null,null,null,null,null,null,null,null,null,null,null,null,{"$f":"SUM(D34:AH34)","v":0},{"$f":"C34","v":0},{"$f":"SUM(AM33/AL33)","v":{"$error":"#DIV/0!"}},{"$f":"SUMIF('renseignement agent'!$A$8:'renseignement agent'!$A$96,A33,'renseignement agent'!$G$8:'renseignement agent'!$G$96)","v":0},{"$f":"SUMIF(D33:AH33,\"cp\",D34:AH34)","v":0}]
[null,null,{"$f":"C33","v":0}]
[null,{"$f":"SUMIF('compteur trimestre'!$A$10:$A$78,A35,'compteur trimestre'!$AI$10:$AI$78)","v":0},{"$f":"SUM(AI35-B35)","v":0},null,null,null,null,null,null,null,null,null,null,null,null,null,null,null,null,null,null,null,null,null,null,null,null,null,null,null,null,null,null,null,{"$f":"SUM(D36:AH36)","v":0},{"$f":"C36","v":0},{"$f":"SUM(AM35/AL35)","v":{"$error":"#DIV/0!"}},{"$f":"SUMIF('renseignement agent'!$A$8:'renseignement agent'!$A$96,A35,'renseignement agent'!$G$8:'renseignement agent'!$G$96)","v":0},{"$f":"SUMIF(D35:AH35,\"cp\",D36:AH36)","v":0}]
[null,null,{"$f":"C35","v":0}]
[null,{"$f":"SUMIF('compteur trimestre'!$A$10:$A$78,A37,'compteur trimestre'!$AI$10:$AI$78)","v":0},{"$f":"SUM(AI37-B37)","v":0},null,null,null,null,null,null,null,null,null,null,null,null,null,null,null,null,null,null,null,null,null,null,null,null,null,null,null,null,null,null,null,{"$f":"SUM(D38:AH38)","v":0},{"$f":"C38","v":0},{"$f":"SUM(AM37/AL37)","v":{"$error":"#DIV/0!"}},{"$f":"SUMIF('renseignement agent'!$A$8:'renseignement agent'!$A$96,A37,'renseignement agent'!$G$8:'renseignement agent'!$G$96)","v":0},{"$f":"SUMIF(D37:AH37,\"cp\",D38:AH38)","v":0}]
[null,null,{"$f":"C37","v":0}]
[null,{"$f":"SUMIF('compteur trimestre'!$A$10:$A$78,A39,'compteur trimestre'!$AI$10:$AI$78)","v":0},{"$f":"SUM(AI39-B39)","v":0},null,null,null,null,null,null,null,null,null,null,null,null,null,null,null,null,null,null,null,null,null,null,null,null,null,null,null,null,null,null,null,{"$f":"SUM(D40:AH40)","v":0},{"$f":"C40","v":0},{"$f":"SUM(AM39/AL39)","v":{"$error":"#DIV/0!"}},{"$f":"SUMIF('renseignement agent'!$A$8:'renseignement agent'!$A$96,A39,'renseignement agent'!$G$8:'renseignement agent'!$G$96)","v":0},{"$f":"SUMIF(D39:AH39,\"cp\",D40:AH40)","v":0}]
[null,null,{"$f":"C39","v":0}]
[null,{"$f":"SUMIF('compteur trimestre'!$A$10:$A$78,A41,'compteur trimestre'!$AI$10:$AI$78)","v":0},{"$f":"SUM(AI41-B41)","v":0},null,null,null,null,null,null,null,null,null,null,null,null,null,null,null,null,null,null,null,null,null,null,null,null,null,null,null,null,null,null,null,{"$f":"SUM(D42:AH42)","v":0},{"$f":"C42","v":0},{"$f":"SUM(AM41/AL41)","v":{"$error":"#DIV/0!"}},{"$f":"SUMIF('renseignement agent'!$A$8:'renseignement agent'!$A$96,A41,'renseignement agent'!$G$8:'renseignement agent'!$G$96)","v":0},{"$f":"SUMIF(D41:AH41,\"cp\",D42:AH42)","v":0}]
[null,null,{"$f":"C41","v":0}]
[null,{"$f":"SUMIF('compteur trimestre'!$A$10:$A$78,A43,'compteur trimestre'!$AI$10:$AI$78)","v":0},{"$f":"SUM(AI43-B43)","v":0},null,null,null,null,null,null,null,null,null,null,null,null,null,null,null,null,null,null,null,null,null,null,null,null,null,null,null,null,null,null,null,{"$f":"SUM(D44:AH44)","v":0},{"$f":"C44","v":0},{"$f":"SUM(AM43/AL43)","v":{"$error":"#DIV/0!"}},{"$f":"SUMIF('renseignement agent'!$A$8:'renseignement agent'!$A$96,A43,'renseignement agent'!$G$8:'renseignement agent'!$G$96)","v":0},{"$f":"SUMIF(D43:AH43,\"cp\",D44:AH44)","v":0}]
[null,null,{"$f":"C43","v":0}]
[null,{"$f":"SUMIF('compteur trimestre'!$A$10:$A$78,A45,'compteur trimestre'!$AI$10:$AI$78)","v":0},{"$f":"SUM(AI45-B45)","v":0},null,null,null,null,null,null,null,null,null,null,null,null,null,null,null,null,null,null,null,null,null,null,null,null,null,null,null,null,null,null,null,{"$f":"SUM(D46:AH46)","v":0},{"$f":"C46","v":0},{"$f":"SUM(AM45/AL45)","v":{"$error":"#DIV/0!"}},{"$f":"SUMIF('renseignement agent'!$A$8:'renseignement agent'!$A$96,A45,'renseignement agent'!$G$8:'renseignement agent'!$G$96)","v":0},{"$f":"SUMIF(D45:AH45,\"cp\",D46:AH46)","v":0}]
[null,null,{"$f":"C45","v":0}]
[null,{"$f":"SUMIF('compteur trimestre'!$A$10:$A$78,A47,'compteur trimestre'!$AI$10:$AI$78)","v":0},{"$f":"SUM(AI47-B47)","v":0},null,null,null,null,null,null,null,null,null,null,null,null,null,null,null,null,null,null,null,null,null,null,null,null,null,null,null,null,null,null,null,{"$f":"SUM(D48:AH48)","v":0},{"$f":"C48","v":0},{"$f":"SUM(AM47/AL47)","v":{"$error":"#DIV/0!"}},{"$f":"SUMIF('renseignement agent'!$A$8:'renseignement agent'!$A$96,A47,'renseignement agent'!$G$8:'renseignement agent'!$G$96)","v":0},{"$f":"SUMIF(D47:AH47,\"cp\",D48:AH48)","v":0}]
[null,null,{"$f":"C47","v":0}]
[null,{"$f":"SUMIF('compteur trimestre'!$A$10:$A$78,A49,'compteur trimestre'!$AI$10:$AI$78)","v":0},{"$f":"SUM(AI49-B49)","v":0},null,null,null,null,null,null,null,null,null,null,null,null,null,null,null,null,null,null,null,null,null,null,null,null,null,null,null,null,null,null,null,{"$f":"SUM(D50:AH50)","v":0},{"$f":"C50","v":0},{"$f":"SUM(AM49/AL49)","v":{"$error":"#DIV/0!"}},{"$f":"SUMIF('renseignement agent'!$A$8:'renseignement agent'!$A$96,A49,'renseignement agent'!$G$8:'renseignement agent'!$G$96)","v":0},{"$f":"SUMIF(D49:AH49,\"cp\",D50:AH50)","v":0}]
[null,null,{"$f":"C49","v":0}]
[null,{"$f":"SUMIF('compteur trimestre'!$A$10:$A$78,A51,'compteur trimestre'!$AI$10:$AI$78)","v":0},{"$f":"SUM(AI51-B51)","v":0},null,null,null,null,null,null,null,null,null,null,null,null,null,null,null,null,null,null,null,null,null,null,null,null,null,null,null,null,null,null,null,{"$f":"SUM(D52:AH52)","v":0},{"$f":"C52","v":0},{"$f":"SUM(AM51/AL51)","v":{"$error":"#DIV/0!"}},{"$f":"SUMIF('renseignement agent'!$A$8:'renseignement agent'!$A$96,A51,'renseignement agent'!$G$8:'renseignement agent'!$G$96)","v":0},{"$f":"SUMIF(D51:AH51,\"cp\",D52:AH52)","v":0}]
[null,null,{"$f":"C51","v":0}]
[null,{"$f":"SUMIF('compteur trimestre'!$A$10:$A$78,A53,'compteur trimestre'!$AI$10:$AI$78)","v":0},{"$f":"SUM(AI53-B53)","v":0},null,null,null,null,null,null,null,null,null,null,null,null,null,null,null,null,null,null,null,null,null,null,null,null,null,null,null,null,null,null,null,{"$f":"SUM(D54:AH54)","v":0},{"$f":"C54","v":0},{"$f":"SUM(AM53/AL53)","v":{"$error":"#DIV/0!"}},{"$f":"SUMIF('renseignement agent'!$A$8:'renseignement agent'!$A$96,A53,'renseignement agent'!$G$8:'renseignement agent'!$G$96)","v":0},{"$f":"SUMIF(D53:AH53,\"cp\",D54:AH54)","v":0}]
[null,null,{"$f":"C53","v":0}]
[null,{"$f":"SUMIF('compteur trimestre'!$A$10:$A$78,A55,'compteur trimestre'!$AI$10:$AI$78)","v":0},{"$f":"SUM(AI55-B55)","v":0},null,null,null,null,null,null,null,null,null,null,null,null,null,null,null,null,null,null,null,null,null,null,null,null,null,null,null,null,null,null,null,{"$f":"SUM(D56:AH56)","v":0},{"$f":"C56","v":0},{"$f":"SUM(AM55/AL55)","v":{"$error":"#DIV/0!"}},{"$f":"SUMIF('renseignement agent'!$A$8:'renseignement agent'!$A$96,A55,'renseignement agent'!$G$8:'renseignement agent'!$G$96)","v":0},{"$f":"SUMIF(D55:AH55,\"cp\",D56:AH56)","v":0}]
[null,null,{"$f":"C55","v":0}]
[null,{"$f":"SUMIF('compteur trimestre'!$A$10:$A$78,A57,'compteur trimestre'!$AI$10:$AI$78)","v":0},{"$f":"SUM(AI57-B57)","v":0},null,null,null,null,null,null,null,null,null,null,null,null,null,null,null,null,null,null,null,null,null,null,null,null,null,null,null,null,null,null,null,{"$f":"SUM(D58:AH58)","v":0},{"$f":"C58","v":0},{"$f":"SUM(AM57/AL57)","v":{"$error":"#DIV/0!"}},{"$f":"SUMIF('renseignement agent'!$A$8:'renseignement agent'!$A$96,A57,'renseignement agent'!$G$8:'renseignement agent'!$G$96)","v":0},{"$f":"SUMIF(D57:AH57,\"cp\",D58:AH58)","v":0}]
[null,null,{"$f":"C57","v":0}]
[null,{"$f":"SUMIF('compteur trimestre'!$A$10:$A$78,A59,'compteur trimestre'!$AI$10:$AI$78)","v":0},{"$f":"SUM(AI59-B59)","v":0},null,null,null,null,null,null,null,null,null,null,null,null,null,null,null,null,null,null,null,null,null,null,null,null,null,null,null,null,null,null,null,{"$f":"SUM(D60:AH60)","v":0},{"$f":"C60","v":0},{"$f":"SUM(AM59/AL59)","v":{"$error":"#DIV/0!"}},{"$f":"SUMIF('renseignement agent'!$A$8:'renseignement agent'!$A$96,A59,'renseignement agent'!$G$8:'renseignement agent'!$G$96)","v":0},{"$f":"SUMIF(D59:AH59,\"cp\",D60:AH60)","v":0}]
[null,null,{"$f":"C59","v":0}]
[null,{"$f":"SUMIF('compteur trimestre'!$A$10:$A$78,A61,'compteur trimestre'!$AI$10:$AI$78)","v":0},{"$f":"SUM(AI61-B61)","v":0},null,null,null,null,null,null,null,null,null,null,null,null,null,null,null,null,null,null,null,null,null,null,null,null,null,null,null,null,null,null,null,{"$f":"SUM(D62:AH62)","v":0},{"$f":"C62","v":0},{"$f":"SUM(AM61/AL61)","v":{"$error":"#DIV/0!"}},{"$f":"SUMIF('renseignement agent'!$A$8:'renseignement agent'!$A$96,A61,'renseignement agent'!$G$8:'renseignement agent'!$G$96)","v":0},{"$f":"SUMIF(D61:AH61,\"cp\",D62:AH62)","v":0}]
[null,null,{"$f":"C61","v":0}]
[null,{"$f":"SUMIF('compteur trimestre'!$A$10:$A$78,A63,'compteur trimestre'!$AI$10:$AI$78)","v":0},{"$f":"SUM(AI63-B63)","v":0},null,null,null,null,null,null,null,null,null,null,null,null,null,null,null,null,null,null,null,null,null,null,null,null,null,null,null,null,null,null,null,{"$f":"SUM(D64:AH64)","v":0},{"$f":"C64","v":0},{"$f":"SUM(AM63/AL63)","v":{"$error":"#DIV/0!"}},{"$f":"SUMIF('renseignement agent'!$A$8:'renseignement agent'!$A$96,A63,'renseignement agent'!$G$8:'renseignement agent'!$G$96)","v":0},{"$f":"SUMIF(D63:AH63,\"cp\",D64:AH64)","v":0}]
[null,null,{"$f":"C63","v":0}]
[null,{"$f":"SUMIF('compteur trimestre'!$A$10:$A$78,A65,'compteur trimestre'!$AI$10:$AI$78)","v":0},{"$f":"SUM(AI65-B65)","v":0},null,null,null,null,null,null,null,null,null,null,null,null,null,null,null,null,null,null,null,null,null,null,null,null,null,null,null,null,null,null,null,{"$f":"SUM(D66:AH66)","v":0},{"$f":"C66","v":0},{"$f":"SUM(AM65/AL65)","v":{"$error":"#DIV/0!"}},{"$f":"SUMIF('renseignement agent'!$A$8:'renseignement agent'!$A$96,A65,'renseignement agent'!$G$8:'renseignement agent'!$G$96)","v":0},{"$f":"SUMIF(D65:AH65,\"cp\",D66:AH66)","v":0}]
[null,null,{"$f":"C65","v":0}]
[null,{"$f":"SUMIF('compteur trimestre'!$A$10:$A$78,A67,'compteur trimestre'!$AI$10:$AI$78)","v":0},{"$f":"SUM(AI67-B67)","v":0},null,null,null,null,null,null,null,null,null,null,null,null,null,null,null,null,null,null,null,null,null,null,null,null,null,null,null,null,null,null,null,{"$f":"SUM(D68:AH68)","v":0},{"$f":"C68","v":0},{"$f":"SUM(AM67/AL67)","v":{"$error":"#DIV/0!"}},{"$f":"SUMIF('renseignement agent'!$A$8:'renseignement agent'!$A$96,A67,'renseignement agent'!$G$8:'renseignement agent'!$G$96)","v":0},{"$f":"SUMIF(D67:AH67,\"cp\",D68:AH68)","v":0}]
[null,null,{"$f":"C67","v":0}]
[null,{"$f":"SUMIF('compteur trimestre'!$A$10:$A$78,A69,'compteur trimestre'!$AI$10:$AI$78)","v":0},{"$f":"SUM(AI69-B69)","v":0},null,null,null,null,null,null,null,null,null,null,null,null,null,null,null,null,null,null,null,null,null,null,null,null,null,null,null,null,null,null,null,{"$f":"SUM(D70:AH70)","v":0},{"$f":"C70","v":0},{"$f":"SUM(AM69/AL69)","v":{"$error":"#DIV/0!"}},{"$f":"SUMIF('renseignement agent'!$A$8:'renseignement agent'!$A$96,A69,'renseignement agent'!$G$8:'renseignement agent'!$G$96)","v":0},{"$f":"SUMIF(D69:AH69,\"cp\",D70:AH70)","v":0}]
[null,null,{"$f":"C69","v":0}]
[null,{"$f":"SUMIF('compteur trimestre'!$A$10:$A$78,A71,'compteur trimestre'!$AI$10:$AI$78)","v":0},{"$f":"SUM(AI71-B71)","v":0},null,null,null,null,null,null,null,null,null,null,null,null,null,null,null,null,null,null,null,null,null,null,null,null,null,null,null,null,null,null,null,{"$f":"SUM(D72:AH72)","v":0},{"$f":"C72","v":0},{"$f":"SUM(AM71/AL71)","v":{"$error":"#DIV/0!"}},{"$f":"SUMIF('renseignement agent'!$A$8:'renseignement agent'!$A$96,A71,'renseignement agent'!$G$8:'renseignement agent'!$G$96)","v":0},{"$f":"SUMIF(D71:AH71,\"cp\",D72:AH72)","v":0}]
[null,null,{"$f":"C71","v":0}]
[null,{"$f":"SUMIF('compteur trimestre'!$A$10:$A$78,A73,'compteur trimestre'!$AI$10:$AI$78)","v":0},{"$f":"SUM(AI73-B73)","v":0},null,null,null,null,null,null,null,null,null,null,null,null,null,null,null,null,null,null,null,null,null,null,null,null,null,null,null,null,null,null,null,{"$f":"SUM(D74:AH74)","v":0},{"$f":"C74","v":0},{"$f":"SUM(AM73/AL73)","v":{"$error":"#DIV/0!"}},{"$f":"SUMIF('renseignement agent'!$A$8:'renseignement agent'!$A$96,A73,'renseignement agent'!$G$8:'renseignement agent'!$G$96)","v":0},{"$f":"SUMIF(D73:AH73,\"cp\",D74:AH74)","v":0}]
[null,null,{"$f":"C73","v":0}]

{"sheet":"2","index":2,"n_rows":74,"n_cols":39,"rows_kept":74,"cut":false,"hidden":false,"merged":[[1,0,1,1],[2,0,2,1],[8,0,9,1],[10,34,13,34],[20,34,21,34],[22,34,23,34],[24,34,25,34],[20,1,21,1],[22,1,23,1],[24,1,25,1],[14,34,15,34],[16,34,17,34],[18,34,19,34],[14,1,15,1],[16,1,17,1],[18,1,19,1],[5,8,7,16],[5,17,7,23],[14,0,15,0],[16,0,17,0],[18,0,19,0],[20,0,21,0],[22,0,23,0],[24,0,25,0],[32,34,33,34],[34,34,35,34],[36,34,37,34],[32,0,33,0],[34,0,35,0],[36,0,37,0],[26,34,27,34],[28,34,29,34],[30,34,31,34],[28,0,29,0],[30,0,31,0],[26,1,27,1],[28,1,29,1],[26,0,27,0],[44,34,45,34],[46,34,47,34],[48,34,49,34],[44,0,45,0],[46,0,47,0],[48,0,49,0],[44,1,45,1],[38,34,39,34],[40,34,41,34],[42,34,43,34],[38,0,39,0],[40,0,41,0],[42,0,43,0],[42,1,43,1],[56,0,57,0],[58,0,59,0],[60,0,61,0],[58,1,59,1],[50,34,51,34],[52,34,53,34],[54,34,55,34],[50,0,51,0],[52,0,53,0],[54,0,55,0],[68,0,69,0],[70,0,71,0],[72,0,73,0],[72,1,73,1],[62,34,63,34],[64,34,65,34],[66,34,67,34],[62,0,63,0],[64,0,65,0],[66,0,67,0],[74,3,75,3],[74,4,75,4],[74,5,75,5],[74,6,75,6],[74,7,75,7],[74,8,75,8],[68,34,69,34],[70,34,71,34],[72,34,73,34],[74,17,75,17],[74,18,75,18],[74,19,75,19],[74,20,75,20],[74,9,75,9],[74,10,75,10],[74,11,75,11],[74,12,75,12],[74,13,75,13],[74,14,75,14],[74,33,75,33],[74,27,75,27],[74,28,75,28],[74,29,75,29],[74,30,75,30],[74,31,75,31],[74,32,75,32],[74,21,75,21],[74,22,75,22],[74,23,75,23],[74,24,75,24],[74,25,75,25],[74,26,75,26],[74,15,75,15],[74,16,75,16],[20,35,21,35],[22,35,23,35],[24,35,25,35],[60,1,61,1],[62,1,63,1],[64,1,65,1],[66,1,67,1],[68,1,69,1],[70,1,71,1],[46,1,47,1],[48,1,49,1],[50,1,51,1],[52,1,53,1],[54,1,55,1],[56,1,57,1],[30,1,31,1],[32,1,33,1],[34,1,35,1],[36,1,37,1],[38,1,39,1],[40,1,41,1],[56,34,57,34],[58,34,59,34],[60,34,61,34],[64,35,65,35],[66,35,67,35],[68,35,69,35],[70,35,71,35],[72,35,73,35],[50,35,51,35],[52,35,53,35],[54,35,55,35],[56,35,57,35],[58,35,59,35],[60,35,61,35],[10,36,13,36],[10,37,13,37],[14,36,15,36],[14,37,15,37],[14,38,15,38],[16,36,17,36],[16,37,17,37],[16,38,17,38],[62,35,63,35],[38,35,39,35],[40,35,41,35],[42,35,43,35],[44,35,45,35],[46,35,47,35],[48,35,49,35],[26,35,27,35],[28,35,29,35],[30,35,31,35],[32,35,33,35],[34,35,35,35],[36,35,37,35],[14,35,15,35],[16,35,17,35],[18,35,19,35],[22,36,23,36],[22,37,23,37],[22,38,23,38],[24,36,25,36],[24,37,25,37],[24,38,25,38],[18,36,19,36],[18,37,19,37],[18,38,19,38],[20,36,21,36],[20,37,21,37],[20,38,21,38],[30,36,31,36],[30,37,31,37],[30,38,31,38],[32,36,33,36],[32,37,33,37],[32,38,33,38],[26,36,27,36],[26,37,27,37],[26,38,27,38],[28,36,29,36],[28,37,29,37],[28,38,29,38],[38,36,39,36],[38,37,39,37],[38,38,39,38],[40,36,41,36],[40,37,41,37],[40,38,41,38],[34,36,35,36],[34,37,35,37],[34,38,35,38],[36,36,37,36],[36,37,37,37],[36,38,37,38],[46,36,47,36],[46,37,47,37],[46,38,47,38],[48,36,49,36],[48,37,49,37],[48,38,49,38],[42,36,43,36],[42,37,43,37],[42,38,43,38],[44,36,45,36],[44,37,45,37],[44,38,45,38],[60,37,61,37],[60,38,61,38],[54,36,55,36],[54,37,55,37],[54,38,55,38],[56,36,57,36],[56,37,57,37],[56,38,57,38],[50,36,51,36],[50,37,51,37],[50,38,51,38],[52,36,53,36],[52,37,53,37],[52,38,53,38],[0,19,0,20],[0,21,0,22],[70,36,71,36],[70,37,71,37],[70,38,71,38],[72,36,73,36],[72,37,73,37],[72,38,73,38],[66,36,67,36],[66,37,67,37],[66,38,67,38],[68,36,69,36],[68,37,69,37],[68,38,69,38],[62,36,63,36],[62,37,63,37],[62,38,63,38],[64,36,65,36],[64,37,65,37],[64,38,65,38],[58,36,59,36],[58,37,59,37],[58,38,59,38],[60,36,61,36],[0,30,2,31],[0,1,0,2],[0,23,0,24],[0,25,0,26],[0,27,0,28],[1,5,2,6],[1,7,2,8],[1,9,2,10],[1,11,2,12],[1,13,2,14],[1,15,2,16],[1,17,2,18],[1,19,2,20],[1,21,2,22],[1,23,2,24],[1,25,2,26],[1,27,2,28],[0,5,0,6],[0,7,0,8],[0,9,0,10],[0,11,0,12],[0,13,0,14],[0,15,0,16],[0,17,0,18]]}
[null,{"$f":"'1'!B1:C1","v":"secteur aubagne"},null,null,null,{"$f":"'1'!$C$2","v":"janvier"},null,{"$f":"'2'!C2","v":"février"},null,{"$f":"'3'!C2","v":"mars"},null,{"$f":"'4'!C2","v":"avril"},null,{"$f":"'5'!C2","v":"mai"},null,{"$f":"'6'!C2","v":"juin"},null,{"$f":"'7'!C2","v":"juillet"},null,{"$f":"'8'!C2","v":"août"},null,{"$f":"'9'!C2","v":"septembre"},null,{"$f":"'10'!C2","v":"octobre"},null,{"$f":"'11'!C2","v":"novembre"},null,{"$f":"'12'!C2","v":"décembre"}]
["PLANNING MOIS DE :",null,{"$f":"TEXT(B5,\"MMMM\")","v":"février"}]
["ANNEE",null,{"$f":"TEXT(B6,\"aaaa\")","v":"2018"}]
[]
["date de debut ",{"$f":"'1'!B5+'1'!A9","v":"2018-02-01"}]
["date de fin ",{"$f":"EOMONTH(B5,0)","v":"2018-02-28"},null,null,null,null,null,null,{"$f":"C2","v":"février"},null,null,null,null,null,null,null,null,{"$f":"C3","v":"2018"}]
[null,{"$f":"TODAY()","v":"2017-11-08"}]
[]
[{"$f":"SUMIF(parametre!$B$4:'parametre'!$B$15,C2,parametre!$C$4:'parametre'!$C$15)","v":28}]
[]
[null,null,null,{"$f":"B5","v":"2018-02-01"},{"$f":"D11+1","v":"2018-02-02"},{"$f":"E11+1","v":"2018-02-03"},"2018-02-04","2018-02-05","2018-02-06","2018-02-07","2018-02-08","2018-02-09","2018-02-10","2018-02-11","2018-02-12","2018-02-13","2018-02-14","2018-02-15","2018-02-16","2018-02-17","2018-02-18","2018-02-19","2018-02-20","2018-02-21","2018-02-22","2018-02-23","2018-02-24","2018-02-25","2018-02-26","2018-02-27","2018-02-28","2018-03-01","2018-03-02",{"$f":"IFERROR(IF(AG11+1>B6,\"\",AG11+1),\"\")","v":""},null,null,"CP MOIS","CP 1 JOURNEE"]
[null,null,null,{"$f":"IF(D14=\"L\",\"S \"&WEEKNUM(D11),\"\")","v":""},{"$f":"IF(E14=\"L\",\"S \"&WEEKNUM(E11),\"\")","v":""},"","","","","","","","","","","","","","","","","","","","","","","","","","","","",{"$f":"IFERROR(IF(AH14=\"L\",\"S \"&WEEKNUM(AH11),\"\"),\"\")","v":""}]
[null,null,"MOIS",{"$f":"DAY(D11)","v":1},{"$f":"DAY(E11)","v":2},3,4,5,6,7,8,9,10,11,12,13,14,15,16,17,18,19,20,21,22,23,24,25,26,27,28,{"$f":"DAY(AF11)","v":1},2,{"$f":"IFERROR(DAY(AH11),\"\")","v":""}]
[null,"contrat",{"$f":"'1'!C14","v":"trimestre"},{"$f":"WEEKDAY(D11)","v":"1900-01-05"},{"$f":"WEEKDAY(E11)","v":"1900-01-06"},"1900-01-07","1900-01-01","1900-01-02","1900-01-03","1900-01-04","1900-01-05","1900-01-06","1900-01-07","1900-01-01","1900-01-02","1900-01-03","1900-01-04","1900-01-05","1900-01-06","1900-01-07","1900-01-01","1900-01-02","1900-01-03","1900-01-04","1900-01-05","1900-01-06","1900-01-07","1900-01-01","1900-01-02","1900-01-03","1900-01-04",{"$f":"WEEKDAY(AF11)","v":"1900-01-05"},"1900-01-06",{"$f":"IFERROR(WEEKDAY(AH11),\"\")","v":""}]
["patrice",{"$f":"SUMIF('compteur trimestre'!$A$10:$A$78,A15,'compteur trimestre'!$AI$10:$AI$78)","v":0},{"$f":"AI15-B15","v":0},null,null,null,null,null,null,null,null,null,null,null,null,null,null,null,null,null,null,null,null,null,null,null,null,null,null,null,null,null,null,null,{"$f":"SUM(D16:AH16)","v":0},{"$f":"C16","v":0},{"$f":"AM15/AL15","v":{"$error":"#DIV/0!"}},{"$f":"SUMIF('renseignement agent'!$A$8:'renseignement agent'!$A$96,A15,'renseignement agent'!$G$8:'renseignement agent'!$G$96)","v":0},{"$f":"SUMIF(D15:AH15,\"cp\",D16:AH16)","v":0}]
[null,null,{"$f":"SUMIF('1'!$A$15:'1'!$A$73,A15,'1'!$AJ$15:'1'!$AJ$73)+'2'!C15","v":0}]
[null,{"$f":"SUMIF('compteur trimestre'!$A$10:$A$78,A17,'compteur trimestre'!$AI$10:$AI$78)","v":0},{"$f":"AI17-B17","v":0},null,null,null,null,null,null,null,null,null,null,null,null,null,null,null,null,null,null,null,null,null,null,null,null,null,null,null,null,null,null,null,{"$f":"SUM(D18:AH18)","v":0},{"$f":"C18","v":0},{"$error":"#DIV/0!"},{"$f":"SUMIF('renseignement agent'!$A$8:'renseignement agent'!$A$96,A17,'renseignement agent'!$G$8:'renseignement agent'!$G$96)","v":0},{"$f":"SUMIF(D17:AH17,\"cp\",D18:AH18)","v":0}]
[null,null,{"$f":"SUMIF('1'!$A$15:'1'!$A$73,A17,'1'!$AJ$15:'1'!$AJ$73)+'2'!C17","v":0}]
[null,{"$f":"SUMIF('compteur trimestre'!$A$10:$A$78,A19,'compteur trimestre'!$AI$10:$AI$78)","v":0},{"$f":"AI19-B19","v":0},null,null,null,null,null,null,null,null,null,null,null,null,null,null,null,null,null,null,null,null,null,null,null,null,null,null,null,null,null,null,null,{"$f":"SUM(D20:AH20)","v":0},{"$f":"C20","v":0},{"$error":"#DIV/0!"},{"$f":"SUMIF('renseignement agent'!$A$8:'renseignement agent'!$A$96,A19,'renseignement agent'!$G$8:'renseignement agent'!$G$96)","v":0},{"$f":"SUMIF(D19:AH19,\"cp\",D20:AH20)","v":0}]
[null,null,{"$f":"SUMIF('1'!$A$15:'1'!$A$73,A19,'1'!$AJ$15:'1'!$AJ$73)+'2'!C19","v":0}]
[null,{"$f":"SUMIF('compteur trimestre'!$A$10:$A$78,A21,'compteur trimestre'!$AI$10:$AI$78)","v":0},{"$f":"AI21-B21","v":0},null,null,null,null,null,null,null,null,null,null,null,null,null,null,null,null,null,null,null,null,null,null,null,null,null,null,null,null,null,null,null,{"$f":"SUM(D22:AH22)","v":0},{"$f":"C22","v":0},{"$error":"#DIV/0!"},{"$f":"SUMIF('renseignement agent'!$A$8:'renseignement agent'!$A$96,A21,'renseignement agent'!$G$8:'renseignement agent'!$G$96)","v":0},{"$f":"SUMIF(D21:AH21,\"cp\",D22:AH22)","v":0}]
[null,null,{"$f":"SUMIF('1'!$A$15:'1'!$A$73,A21,'1'!$AJ$15:'1'!$AJ$73)+'2'!C21","v":0}]
[null,{"$f":"SUMIF('compteur trimestre'!$A$10:$A$78,A23,'compteur trimestre'!$AI$10:$AI$78)","v":0},{"$f":"AI23-B23","v":0},null,null,null,null,null,null,null,null,null,null,null,null,null,null,null,null,null,null,null,null,null,null,null,null,null,null,null,null,null,null,null,{"$f":"SUM(D24:AH24)","v":0},{"$f":"C24","v":0},{"$error":"#DIV/0!"},{"$f":"SUMIF('renseignement agent'!$A$8:'renseignement agent'!$A$96,A23,'renseignement agent'!$G$8:'renseignement agent'!$G$96)","v":0},{"$f":"SUMIF(D23:AH23,\"cp\",D24:AH24)","v":0}]
[null,null,{"$f":"SUMIF('1'!$A$15:'1'!$A$73,A23,'1'!$AJ$15:'1'!$AJ$73)+'2'!C23","v":0}]
[null,{"$f":"SUMIF('compteur trimestre'!$A$10:$A$78,A25,'compteur trimestre'!$AI$10:$AI$78)","v":0},{"$f":"AI25-B25","v":0},null,null,null,null,null,null,null,null,null,null,null,null,null,null,null,null,null,null,null,null,null,null,null,null,null,null,null,null,null,null,null,{"$f":"SUM(D26:AH26)","v":0},{"$f":"C26","v":0},{"$error":"#DIV/0!"},{"$f":"SUMIF('renseignement agent'!$A$8:'renseignement agent'!$A$96,A25,'renseignement agent'!$G$8:'renseignement agent'!$G$96)","v":0},{"$f":"SUMIF(D25:AH25,\"cp\",D26:AH26)","v":0}]
[null,null,{"$f":"SUMIF('1'!$A$15:'1'!$A$73,A25,'1'!$AJ$15:'1'!$AJ$73)+'2'!C25","v":0}]
[null,{"$f":"SUMIF('compteur trimestre'!$A$10:$A$78,A27,'compteur trimestre'!$AI$10:$AI$78)","v":0},{"$f":"AI27-B27","v":0},null,null,null,null,null,null,null,null,null,null,null,null,null,null,null,null,null,null,null,null,null,null,null,null,null,null,null,null,null,null,null,{"$f":"SUM(D28:AH28)","v":0},{"$f":"C28","v":0},{"$error":"#DIV/0!"},{"$f":"SUMIF('renseignement agent'!$A$8:'renseignement agent'!$A$96,A27,'renseignement agent'!$G$8:'renseignement agent'!$G$96)","v":0},{"$f":"SUMIF(D27:AH27,\"cp\",D28:AH28)","v":0}]
[null,null,{"$f":"SUMIF('1'!$A$15:'1'!$A$73,A27,'1'!$AJ$15:'1'!$AJ$73)+'2'!C27","v":0}]
[null,{"$f":"SUMIF('compteur trimestre'!$A$10:$A$78,A29,'compteur trimestre'!$AI$10:$AI$78)","v":0},{"$f":"AI29-B29","v":0},null,null,null,null,null,null,null,null,null,null,null,null,null,null,null,null,null,null,null,null,null,null,null,null,null,null,null,null,null,null,null,{"$f":"SUM(D30:AH30)","v":0},{"$f":"C30","v":0},{"$error":"#DIV/0!"},{"$f":"SUMIF('renseignement agent'!$A$8:'renseignement agent'!$A$96,A29,'renseignement agent'!$G$8:'renseignement agent'!$G$96)","v":0},{"$f":"SUMIF(D29:AH29,\"cp\",D30:AH30)","v":0}]
[null,null,{"$f":"SUMIF('1'!$A$15:'1'!$A$73,A29,'1'!$AJ$15:'1'!$AJ$73)+'2'!C29","v":0}]
[null,{"$f":"SUMIF('compteur trimestre'!$A$10:$A$78,A31,'compteur trimestre'!$AI$10:$AI$78)","v":0},{"$f":"AI31-B31","v":0},null,null,null,null,null,null,null,null,null,null,null,null,null,null,null,null,null,null,null,null,null,null,null,null,null,null,null,null,null,null,null,{"$f":"SUM(D32:AH32)","v":0},{"$f":"C32","v":0},{"$error":"#DIV/0!"},{"$f":"SUMIF('renseignement agent'!$A$8:'renseignement agent'!$A$96,A31,'renseignement agent'!$G$8:'renseignement agent'!$G$96)","v":0},{"$f":"SUMIF(D31:AH31,\"cp\",D32:AH32)","v":0}]
[null,null,{"$f":"SUMIF('1'!$A$15:'1'!$A$73,A31,'1'!$AJ$15:'1'!$AJ$73)+'2'!C31","v":0}]
[null,{"$f":"SUMIF('compteur trimestre'!$A$10:$A$78,A33,'compteur trimestre'!$AI$10:$AI$78)","v":0},{"$f":"AI33-B33","v":0},null,null,null,null,null,null,null,null,null,null,null,null,null,null,null,null,null,null,null,null,null,null,null,null,null,null,null,null,null,null,null,{"$f":"SUM(D34:AH34)","v":0},{"$f":"C34","v":0},{"$error":"#DIV/0!"},{"$f":"SUMIF('renseignement agent'!$A$8:'renseignement agent'!$A$96,A33,'renseignement agent'!$G$8:'renseignement agent'!$G$96)","v":0},{"$f":"SUMIF(D33:AH33,\"cp\",D34:AH34)","v":0}]
[null,null,{"$f":"SUMIF('1'!$A$15:'1'!$A$73,A33,'1'!$AJ$15:'1'!$AJ$73)+'2'!C33","v":0}]
[null,{"$f":"SUMIF('compteur trimestre'!$A$10:$A$78,A35,'compteur trimestre'!$AI$10:$AI$78)","v":0},{"$f":"AI35-B35","v":0},null,null,null,null,null,null,null,null,null,null,null,null,null,null,null,null,null,null,null,null,null,null,null,null,null,null,null,null,null,null,null,{"$f":"SUM(D36:AH36)","v":0},{"$f":"C36","v":0},{"$error":"#DIV/0!"},{"$f":"SUMIF('renseignement agent'!$A$8:'renseignement agent'!$A$96,A35,'renseignement agent'!$G$8:'renseignement agent'!$G$96)","v":0},{"$f":"SUMIF(D35:AH35,\"cp\",D36:AH36)","v":0}]
[null,null,{"$f":"SUMIF('1'!$A$15:'1'!$A$73,A35,'1'!$AJ$15:'1'!$AJ$73)+'2'!C35","v":0}]
[null,{"$f":"SUMIF('compteur trimestre'!$A$10:$A$78,A37,'compteur trimestre'!$AI$10:$AI$78)","v":0},{"$f":"AI37-B37","v":0},null,null,null,null,null,null,null,null,null,null,null,null,null,null,null,null,null,null,null,null,null,null,null,null,null,null,null,null,null,null,null,{"$f":"SUM(D38:AH38)","v":0},{"$f":"C38","v":0},{"$error":"#DIV/0!"},{"$f":"SUMIF('renseignement agent'!$A$8:'renseignement agent'!$A$96,A37,'renseignement agent'!$G$8:'renseignement agent'!$G$96)","v":0},{"$f":"SUMIF(D37:AH37,\"cp\",D38:AH38)","v":0}]
[null,null,{"$f":"SUMIF('1'!$A$15:'1'!$A$73,A37,'1'!$AJ$15:'1'!$AJ$73)+'2'!C37","v":0}]
[null,{"$f":"SUMIF('compteur trimestre'!$A$10:$A$78,A39,'compteur trimestre'!$AI$10:$AI$78)","v":0},{"$f":"AI39-B39","v":0},null,null,null,null,null,null,null,null,null,null,null,null,null,null,null,null,null,null,null,null,null,null,null,null,null,null,null,null,null,null,null,{"$f":"SUM(D40:AH40)","v":0},{"$f":"C40","v":0},{"$error":"#DIV/0!"},{"$f":"SUMIF('renseignement agent'!$A$8:'renseignement agent'!$A$96,A39,'renseignement agent'!$G$8:'renseignement agent'!$G$96)","v":0},{"$f":"SUMIF(D39:AH39,\"cp\",D40:AH40)","v":0}]
[null,null,{"$f":"SUMIF('1'!$A$15:'1'!$A$73,A39,'1'!$AJ$15:'1'!$AJ$73)+'2'!C39","v":0}]
[null,{"$f":"SUMIF('compteur trimestre'!$A$10:$A$78,A41,'compteur trimestre'!$AI$10:$AI$78)","v":0},{"$f":"AI41-B41","v":0},null,null,null,null,null,null,null,null,null,null,null,null,null,null,null,null,null,null,null,null,null,null,null,null,null,null,null,null,null,null,null,{"$f":"SUM(D42:AH42)","v":0},{"$f":"C42","v":0},{"$error":"#DIV/0!"},{"$f":"SUMIF('renseignement agent'!$A$8:'renseignement agent'!$A$96,A41,'renseignement agent'!$G$8:'renseignement agent'!$G$96)","v":0},{"$f":"SUMIF(D41:AH41,\"cp\",D42:AH42)","v":0}]
[null,null,{"$f":"SUMIF('1'!$A$15:'1'!$A$73,A41,'1'!$AJ$15:'1'!$AJ$73)+'2'!C41","v":0}]
[null,{"$f":"SUMIF('compteur trimestre'!$A$10:$A$78,A43,'compteur trimestre'!$AI$10:$AI$78)","v":0},{"$f":"AI43-B43","v":0},null,null,null,null,null,null,null,null,null,null,null,null,null,null,null,null,null,null,null,null,null,null,null,null,null,null,null,null,null,null,null,{"$f":"SUM(D44:AH44)","v":0},{"$f":"C44","v":0},{"$error":"#DIV/0!"},{"$f":"SUMIF('renseignement agent'!$A$8:'renseignement agent'!$A$96,A43,'renseignement agent'!$G$8:'renseignement agent'!$G$96)","v":0},{"$f":"SUMIF(D43:AH43,\"cp\",D44:AH44)","v":0}]
[null,null,{"$f":"SUMIF('1'!$A$15:'1'!$A$73,A43,'1'!$AJ$15:'1'!$AJ$73)+'2'!C43","v":0}]
[null,{"$f":"SUMIF('compteur trimestre'!$A$10:$A$78,A45,'compteur trimestre'!$AI$10:$AI$78)","v":0},{"$f":"AI45-B45","v":0},null,null,null,null,null,null,null,null,null,null,null,null,null,null,null,null,null,null,null,null,null,null,null,null,null,null,null,null,null,null,null,{"$f":"SUM(D46:AH46)","v":0},{"$f":"C46","v":0},{"$error":"#DIV/0!"},{"$f":"SUMIF('renseignement agent'!$A$8:'renseignement agent'!$A$96,A45,'renseignement agent'!$G$8:'renseignement agent'!$G$96)","v":0},{"$f":"SUMIF(D45:AH45,\"cp\",D46:AH46)","v":0}]
[null,null,{"$f":"SUMIF('1'!$A$15:'1'!$A$73,A45,'1'!$AJ$15:'1'!$AJ$73)+'2'!C45","v":0}]
[null,{"$f":"SUMIF('compteur trimestre'!$A$10:$A$78,A47,'compteur trimestre'!$AI$10:$AI$78)","v":0},{"$f":"AI47-B47","v":0},null,null,null,null,null,null,null,null,null,null,null,null,null,null,null,null,null,null,null,null,null,null,null,null,null,null,null,null,null,null,null,{"$f":"SUM(D48:AH48)","v":0},{"$f":"C48","v":0},{"$error":"#DIV/0!"},{"$f":"SUMIF('renseignement agent'!$A$8:'renseignement agent'!$A$96,A47,'renseignement agent'!$G$8:'renseignement agent'!$G$96)","v":0},{"$f":"SUMIF(D47:AH47,\"cp\",D48:AH48)","v":0}]
[null,null,{"$f":"SUMIF('1'!$A$15:'1'!$A$73,A47,'1'!$AJ$15:'1'!$AJ$73)+'2'!C47","v":0}]
[null,{"$f":"SUMIF('compteur trimestre'!$A$10:$A$78,A49,'compteur trimestre'!$AI$10:$AI$78)","v":0},{"$f":"AI49-B49","v":0},null,null,null,null,null,null,null,null,null,null,null,null,null,null,null,null,null,null,null,null,null,null,null,null,null,null,null,null,null,null,null,{"$f":"SUM(D50:AH50)","v":0},{"$f":"C50","v":0},{"$error":"#DIV/0!"},{"$f":"SUMIF('renseignement agent'!$A$8:'renseignement agent'!$A$96,A49,'renseignement agent'!$G$8:'renseignement agent'!$G$96)","v":0},{"$f":"SUMIF(D49:AH49,\"cp\",D50:AH50)","v":0}]
[null,null,{"$f":"SUMIF('1'!$A$15:'1'!$A$73,A49,'1'!$AJ$15:'1'!$AJ$73)+'2'!C49","v":0}]
[null,{"$f":"SUMIF('compteur trimestre'!$A$10:$A$78,A51,'compteur trimestre'!$AI$10:$AI$78)","v":0},{"$f":"AI51-B51","v":0},null,null,null,null,null,null,null,null,null,null,null,null,null,null,null,null,null,null,null,null,null,null,null,null,null,null,null,null,null,null,null,{"$f":"SUM(D52:AH52)","v":0},{"$f":"C52","v":0},{"$error":"#DIV/0!"},{"$f":"SUMIF('renseignement agent'!$A$8:'renseignement agent'!$A$96,A51,'renseignement agent'!$G$8:'renseignement agent'!$G$96)","v":0},{"$f":"SUMIF(D51:AH51,\"cp\",D52:AH52)","v":0}]
[null,null,{"$f":"SUMIF('1'!$A$15:'1'!$A$73,A51,'1'!$AJ$15:'1'!$AJ$73)+'2'!C51","v":0}]
[null,{"$f":"SUMIF('compteur trimestre'!$A$10:$A$78,A53,'compteur trimestre'!$AI$10:$AI$78)","v":0},{"$f":"AI53-B53","v":0},null,null,null,null,null,null,null,null,null,null,null,null,null,null,null,null,null,null,null,null,null,null,null,null,null,null,null,null,null,null,null,{"$f":"SUM(D54:AH54)","v":0},{"$f":"C54","v":0},{"$error":"#DIV/0!"},{"$f":"SUMIF('renseignement agent'!$A$8:'renseignement agent'!$A$96,A53,'renseignement agent'!$G$8:'renseignement agent'!$G$96)","v":0},{"$f":"SUMIF(D53:AH53,\"cp\",D54:AH54)","v":0}]
[null,null,{"$f":"SUMIF('1'!$A$15:'1'!$A$73,A53,'1'!$AJ$15:'1'!$AJ$73)+'2'!C53","v":0}]
[null,{"$f":"SUMIF('compteur trimestre'!$A$10:$A$78,A55,'compteur trimestre'!$AI$10:$AI$78)","v":0},{"$f":"AI55-B55","v":0},null,null,null,null,null,null,null,null,null,null,null,null,null,null,null,null,null,null,null,null,null,null,null,null,null,null,null,null,null,null,null,{"$f":"SUM(D56:AH56)","v":0},{"$f":"C56","v":0},{"$error":"#DIV/0!"},{"$f":"SUMIF('renseignement agent'!$A$8:'renseignement agent'!$A$96,A55,'renseignement agent'!$G$8:'renseignement agent'!$G$96)","v":0},{"$f":"SUMIF(D55:AH55,\"cp\",D56:AH56)","v":0}]
[null,null,{"$f":"SUMIF('1'!$A$15:'1'!$A$73,A55,'1'!$AJ$15:'1'!$AJ$73)+'2'!C55","v":0}]
[null,{"$f":"SUMIF('compteur trimestre'!$A$10:$A$78,A57,'compteur trimestre'!$AI$10:$AI$78)","v":0},{"$f":"AI57-B57","v":0},null,null,null,null,null,null,null,null,null,null,null,null,null,null,null,null,null,null,null,null,null,null,null,null,null,null,null,null,null,null,null,{"$f":"SUM(D58:AH58)","v":0},{"$f":"C58","v":0},{"$error":"#DIV/0!"},{"$f":"SUMIF('renseignement agent'!$A$8:'renseignement agent'!$A$96,A57,'renseignement agent'!$G$8:'renseignement agent'!$G$96)","v":0},{"$f":"SUMIF(D57:AH57,\"cp\",D58:AH58)","v":0}]
[null,null,{"$f":"SUMIF('1'!$A$15:'1'!$A$73,A57,'1'!$AJ$15:'1'!$AJ$73)+'2'!C57","v":0}]
[null,{"$f":"SUMIF('compteur trimestre'!$A$10:$A$78,A59,'compteur trimestre'!$AI$10:$AI$78)","v":0},{"$f":"AI59-B59","v":0},null,null,null,null,null,null,null,null,null,null,null,null,null,null,null,null,null,null,null,null,null,null,null,null,null,null,null,null,null,null,null,{"$f":"SUM(D60:AH60)","v":0},{"$f":"C60","v":0},{"$error":"#DIV/0!"},{"$f":"SUMIF('renseignement agent'!$A$8:'renseignement agent'!$A$96,A59,'renseignement agent'!$G$8:'renseignement agent'!$G$96)","v":0},{"$f":"SUMIF(D59:AH59,\"cp\",D60:AH60)","v":0}]
[null,null,{"$f":"SUMIF('1'!$A$15:'1'!$A$73,A59,'1'!$AJ$15:'1'!$AJ$73)+'2'!C59","v":0}]
[null,{"$f":"SUMIF('compteur trimestre'!$A$10:$A$78,A61,'compteur trimestre'!$AI$10:$AI$78)","v":0},{"$f":"AI61-B61","v":0},null,null,null,null,null,null,null,null,null,null,null,null,null,null,null,null,null,null,null,null,null,null,null,null,null,null,null,null,null,null,null,{"$f":"SUM(D62:AH62)","v":0},{"$f":"C62","v":0},{"$error":"#DIV/0!"},{"$f":"SUMIF('renseignement agent'!$A$8:'renseignement agent'!$A$96,A61,'renseignement agent'!$G$8:'renseignement agent'!$G$96)","v":0},{"$f":"SUMIF(D61:AH61,\"cp\",D62:AH62)","v":0}]
[null,null,{"$f":"SUMIF('1'!$A$15:'1'!$A$73,A61,'1'!$AJ$15:'1'!$AJ$73)+'2'!C61","v":0}]
[null,{"$f":"SUMIF('compteur trimestre'!$A$10:$A$78,A63,'compteur trimestre'!$AI$10:$AI$78)","v":0},{"$f":"AI63-B63","v":0},null,null,null,null,null,null,null,null,null,null,null,null,null,null,null,null,null,null,null,null,null,null,null,null,null,null,null,null,null,null,null,{"$f":"SUM(D64:AH64)","v":0},{"$f":"C64","v":0},{"$error":"#DIV/0!"},{"$f":"SUMIF('renseignement agent'!$A$8:'renseignement agent'!$A$96,A63,'renseignement agent'!$G$8:'renseignement agent'!$G$96)","v":0},{"$f":"SUMIF(D63:AH63,\"cp\",D64:AH64)","v":0}]
[null,null,{"$f":"SUMIF('1'!$A$15:'1'!$A$73,A63,'1'!$AJ$15:'1'!$AJ$73)+'2'!C63","v":0}]
[null,{"$f":"SUMIF('compteur trimestre'!$A$10:$A$78,A65,'compteur trimestre'!$AI$10:$AI$78)","v":0},{"$f":"AI65-B65","v":0},null,null,null,null,null,null,null,null,null,null,null,null,null,null,null,null,null,null,null,null,null,null,null,null,null,null,null,null,null,null,null,{"$f":"SUM(D66:AH66)","v":0},{"$f":"C66","v":0},{"$error":"#DIV/0!"},{"$f":"SUMIF('renseignement agent'!$A$8:'renseignement agent'!$A$96,A65,'renseignement agent'!$G$8:'renseignement agent'!$G$96)","v":0},{"$f":"SUMIF(D65:AH65,\"cp\",D66:AH66)","v":0}]
[null,null,{"$f":"SUMIF('1'!$A$15:'1'!$A$73,A65,'1'!$AJ$15:'1'!$AJ$73)+'2'!C65","v":0}]
[null,{"$f":"SUMIF('compteur trimestre'!$A$10:$A$78,A67,'compteur trimestre'!$AI$10:$AI$78)","v":0},{"$f":"AI67-B67","v":0},null,null,null,null,null,null,null,null,null,null,null,null,null,null,null,null,null,null,null,null,null,null,null,null,null,null,null,null,null,null,null,{"$f":"SUM(D68:AH68)","v":0},{"$f":"C68","v":0},{"$error":"#DIV/0!"},{"$f":"SUMIF('renseignement agent'!$A$8:'renseignement agent'!$A$96,A67,'renseignement agent'!$G$8:'renseignement agent'!$G$96)","v":0},{"$f":"SUMIF(D67:AH67,\"cp\",D68:AH68)","v":0}]
[null,null,{"$f":"SUMIF('1'!$A$15:'1'!$A$73,A67,'1'!$AJ$15:'1'!$AJ$73)+'2'!C67","v":0}]
[null,{"$f":"SUMIF('compteur trimestre'!$A$10:$A$78,A69,'compteur trimestre'!$AI$10:$AI$78)","v":0},{"$f":"AI69-B69","v":0},null,null,null,null,null,null,null,null,null,null,null,null,null,null,null,null,null,null,null,null,null,null,null,null,null,null,null,null,null,null,null,{"$f":"SUM(D70:AH70)","v":0},{"$f":"C70","v":0},{"$error":"#DIV/0!"},{"$f":"SUMIF('renseignement agent'!$A$8:'renseignement agent'!$A$96,A69,'renseignement agent'!$G$8:'renseignement agent'!$G$96)","v":0},{"$f":"SUMIF(D69:AH69,\"cp\",D70:AH70)","v":0}]
[null,null,{"$f":"SUMIF('1'!$A$15:'1'!$A$73,A69,'1'!$AJ$15:'1'!$AJ$73)+'2'!C69","v":0}]
[null,{"$f":"SUMIF('compteur trimestre'!$A$10:$A$78,A71,'compteur trimestre'!$AI$10:$AI$78)","v":0},{"$f":"AI71-B71","v":0},null,null,null,null,null,null,null,null,null,null,null,null,null,null,null,null,null,null,null,null,null,null,null,null,null,null,null,null,null,null,null,{"$f":"SUM(D72:AH72)","v":0},{"$f":"C72","v":0},{"$error":"#DIV/0!"},{"$f":"SUMIF('renseignement agent'!$A$8:'renseignement agent'!$A$96,A71,'renseignement agent'!$G$8:'renseignement agent'!$G$96)","v":0},{"$f":"SUMIF(D71:AH71,\"cp\",D72:AH72)","v":0}]
[null,null,{"$f":"SUMIF('1'!$A$15:'1'!$A$73,A71,'1'!$AJ$15:'1'!$AJ$73)+'2'!C71","v":0}]
[null,{"$f":"SUMIF('compteur trimestre'!$A$10:$A$78,A73,'compteur trimestre'!$AI$10:$AI$78)","v":0},{"$f":"AI73-B73","v":0},null,null,null,null,null,null,null,null,null,null,null,null,null,null,null,null,null,null,null,null,null,null,null,null,null,null,null,null,null,null,null,{"$f":"SUM(D74:AH74)","v":0},{"$f":"C74","v":0},{"$error":"#DIV/0!"},{"$f":"SUMIF('renseignement agent'!$A$8:'renseignement agent'!$A$96,A73,'renseignement agent'!$G$8:'renseignement agent'!$G$96)","v":0},{"$f":"SUMIF(D73:AH73,\"cp\",D74:AH74)","v":0}]
[null,null,{"$f":"SUMIF('1'!$A$15:'1'!$A$73,A73,'1'!$AJ$15:'1'!$AJ$73)+'2'!C73","v":0}]

{"sheet":"3","index":3,"n_rows":74,"n_cols":39,"rows_kept":74,"cut":false,"hidden":false,"merged":[[1,0,1,1],[2,0,2,1],[8,0,9,1],[10,34,13,34],[20,34,21,34],[22,34,23,34],[24,34,25,34],[20,1,21,1],[22,1,23,1],[24,1,25,1],[14,34,15,34],[16,34,17,34],[18,34,19,34],[14,1,15,1],[16,1,17,1],[18,1,19,1],[5,8,7,16],[5,17,7,23],[14,0,15,0],[16,0,17,0],[18,0,19,0],[20,0,21,0],[22,0,23,0],[24,0,25,0],[32,34,33,34],[34,34,35,34],[36,34,37,34],[32,0,33,0],[34,0,35,0],[36,0,37,0],[26,34,27,34],[28,34,29,34],[30,34,31,34],[28,0,29,0],[30,0,31,0],[26,1,27,1],[28,1,29,1],[26,0,27,0],[44,34,45,34],[46,34,47,34],[48,34,49,34],[44,0,45,0],[46,0,47,0],[48,0,49,0],[44,1,45,1],[38,34,39,34],[40,34,41,34],[42,34,43,34],[38,0,39,0],[40,0,41,0],[42,0,43,0],[42,1,43,1],[56,0,57,0],[58,0,59,0],[60,0,61,0],[58,1,59,1],[50,34,51,34],[52,34,53,34],[54,34,55,34],[50,0,51,0],[52,0,53,0],[54,0,55,0],[68,0,69,0],[70,0,71,0],[72,0,73,0],[72,1,73,1],[62,34,63,34],[64,34,65,34],[66,34,67,34],[62,0,63,0],[64,0,65,0],[66,0,67,0],[74,3,75,3],[74,4,75,4],[74,5,75,5],[74,6,75,6],[74,7,75,7],[74,8,75,8],[68,34,69,34],[70,34,71,34],[72,34,73,34],[74,17,75,17],[74,18,75,18],[74,19,75,19],[74,20,75,20],[74,9,75,9],[74,10,75,10],[74,11,75,11],[74,12,75,12],[74,13,75,13],[74,14,75,14],[74,33,75,33],[74,27,75,27],[74,28,75,28],[74,29,75,29],[74,30,75,30],[74,31,75,31],[74,32,75,32],[74,21,75,21],[74,22,75,22],[74,23,75,23],[74,24,75,24],[74,25,75,25],[74,26,75,26],[74,15,75,15],[74,16,75,16],[20,35,21,35],[22,35,23,35],[24,35,25,35],[60,1,61,1],[62,1,63,1],[64,1,65,1],[66,1,67,1],[68,1,69,1],[70,1,71,1],[46,1,47,1],[48,1,49,1],[50,1,51,1],[52,1,53,1],[54,1,55,1],[56,1,57,1],[30,1,31,1],[32,1,33,1],[34,1,35,1],[36,1,37,1],[38,1,39,1],[40,1,41,1],[56,34,57,34],[58,34,59,34],[60,34,61,34],[64,35,65,35],[66,35,67,35],[68,35,69,35],[70,35,71,35],[72,35,73,35],[50,35,51,35],[52,35,53,35],[54,35,55,35],[56,35,57,35],[58,35,59,35],[60,35,61,35],[10,36,13,36],[10,37,13,37],[14,36,15,36],[14,37,15,37],[14,38,15,38],[16,36,17,36],[16,37,17,37],[16,38,17,38],[62,35,63,35],[38,35,39,35],[40,35,41,35],[42,35,43,35],[44,35,45,35],[46,35,47,35],[48,35,49,35],[26,35,27,35],[28,35,29,35],[30,35,31,35],[32,35,33,35],[34,35,35,35],[36,35,37,35],[14,35,15,35],[16,35,17,35],[18,35,19,35],[22,36,23,36],[22,37,23,37],[22,38,23,38],[24,36,25,36],[24,37,25,37],[24,38,25,38],[18,36,19,36],[18,37,19,37],[18,38,19,38],[20,36,21,36],[20,37,21,37],[20,38,21,38],[30,36,31,36],[30,37,31,37],[30,38,31,38],[32,36,33,36],[32,37,33,37],[32,38,33,38],[26,36,27,36],[26,37,27,37],[26,38,27,38],[28,36,29,36],[28,37,29,37],[28,38,29,38],[38,36,39,36],[38,37,39,37],[38,38,39,38],[40,36,41,36],[40,37,41,37],[40,38,41,38],[34,36,35,36],[34,37,35,37],[34,38,35,38],[36,36,37,36],[36,37,37,37],[36,38,37,38],[46,36,47,36],[46,37,47,37],[46,38,47,38],[48,36,49,36],[48,37,49,37],[48,38,49,38],[42,36,43,36],[42,37,43,37],[42,38,43,38],[44,36,45,36],[44,37,45,37],[44,38,45,38],[60,37,61,37],[60,38,61,38],[54,36,55,36],[54,37,55,37],[54,38,55,38],[56,36,57,36],[56,37,57,37],[56,38,57,38],[50,36,51,36],[50,37,51,37],[50,38,51,38],[52,36,53,36],[52,37,53,37],[52,38,53,38],[0,19,0,20],[0,21,0,22],[70,36,71,36],[70,37,71,37],[70,38,71,38],[72,36,73,36],[72,37,73,37],[72,38,73,38],[66,36,67,36],[66,37,67,37],[66,38,67,38],[68,36,69,36],[68,37,69,37],[68,38,69,38],[62,36,63,36],[62,37,63,37],[62,38,63,38],[64,36,65,36],[64,37,65,37],[64,38,65,38],[58,36,59,36],[58,37,59,37],[58,38,59,38],[60,36,61,36],[0,1,0,2],[0,23,0,24],[0,25,0,26],[0,27,0,28],[0,30,2,31],[1,5,2,6],[1,7,2,8],[1,9,2,10],[1,11,2,12],[1,13,2,14],[1,15,2,16],[1,17,2,18],[1,19,2,20],[1,21,2,22],[1,23,2,24],[1,25,2,26],[1,27,2,28],[0,5,0,6],[0,7,0,8],[0,9,0,10],[0,11,0,12],[0,13,0,14],[0,15,0,16],[0,17,0,18]]}
[null,{"$f":"'1'!B1:C1","v":"secteur aubagne"},null,null,null,{"$f":"'1'!C2","v":"janvier"},null,{"$f":"'2'!C2","v":"février"},null,{"$f":"'3'!C2","v":"mars"},null,{"$f":"'4'!C2","v":"avril"},null,{"$f":"'5'!C2","v":"mai"},null,{"$f":"'6'!C2","v":"juin"},null,{"$f":"'7'!C2","v":"juillet"},null,{"$f":"'8'!C2","v":"août"},null,{"$f":"'9'!C2","v":"septembre"},null,{"$f":"'10'!C2","v":"octobre"},null,{"$f":"'11'!C2","v":"novembre"},null,{"$f":"'12'!C2","v":"décembre"}]
["PLANNING MOIS DE :",null,{"$f":"TEXT(B5,\"MMMM\")","v":"mars"}]
["ANNEE",null,{"$f":"TEXT(B6,\"aaaa\")","v":"2018"}]
[]
["date de debut ",{"$f":"'2'!B5+'2'!A9","v":"2018-03-01"}]
["date de fin ",{"$f":"EOMONTH(B5,0)","v":"2018-03-31"},null,null,null,null,null,null,{"$f":"C2","v":"mars"},null,null,null,null,null,null,null,null,{"$f":"C3","v":"2018"}]
[null,{"$f":"TODAY()","v":"2017-11-08"}]
[]
[{"$f":"SUMIF(parametre!$B$4:'parametre'!$B$15,C2,parametre!$C$4:'parametre'!$C$15)","v":31}]
[]
[null,null,null,{"$f":"B5","v":"2018-03-01"},{"$f":"D11+1","v":"2018-03-02"},{"$f":"E11+1","v":"2018-03-03"},"2018-03-04","2018-03-05","2018-03-06","2018-03-07","2018-03-08","2018-03-09","2018-03-10","2018-03-11","2018-03-12","2018-03-13","2018-03-14","2018-03-15","2018-03-16","2018-03-17","2018-03-18","2018-03-19","2018-03-20","2018-03-21","2018-03-22","2018-03-23","2018-03-24","2018-03-25","2018-03-26","2018-03-27","2018-03-28","2018-03-29","2018-03-30",{"$f":"IFERROR(IF(AG11+1>B6,\"\",AG11+1),\"\")","v":"2018-03-31"},null,null,"CP MOIS","CP 1 JOURNEE"]
[null,null,null,{"$f":"IF(D14=\"L\",\"S \"&WEEKNUM(D11),\"\")","v":""},{"$f":"IF(E14=\"L\",\"S \"&WEEKNUM(E11),\"\")","v":""},"","","","","","","","","","","","","","","","","","","","","","","","","","","","",{"$f":"IFERROR(IF(AH14=\"L\",\"S \"&WEEKNUM(AH11),\"\"),\"\")","v":""}]
[null,null,"MOIS",{"$f":"DAY(D11)","v":1},{"$f":"DAY(E11)","v":2},3,4,5,6,7,8,9,10,11,12,13,14,15,16,17,18,19,20,21,22,23,24,25,26,27,28,29,30,{"$f":"IFERROR(DAY(AH11),\"\")","v":31}]
[null,"contrat",{"$f":"'1'!C14","v":"trimestre"},{"$f":"WEEKDAY(D11)","v":"1900-01-05"},{"$f":"WEEKDAY(E11)","v":"1900-01-06"},"1900-01-07","1900-01-01","1900-01-02","1900-01-03","1900-01-04","1900-01-05","1900-01-06","1900-01-07","1900-01-01","1900-01-02","1900-01-03","1900-01-04","1900-01-05","1900-01-06","1900-01-07","1900-01-01","1900-01-02","1900-01-03","1900-01-04","1900-01-05","1900-01-06","1900-01-07","1900-01-01","1900-01-02","1900-01-03","1900-01-04","1900-01-05","1900-01-06",{"$f":"IFERROR(WEEKDAY(AH11),\"\")","v":"1900-01-07"}]
[null,{"$f":"SUMIF('compteur trimestre'!$A$10:$A$78,A15,'compteur trimestre'!$AI$10:$AI$78)","v":0},{"$f":"AI15-B15","v":0},null,null,null,null,null,null,null,null,null,null,null,null,null,null,null,null,null,null,null,null,null,null,null,null,null,null,null,null,null,null,null,{"$f":"SUM(D16:AH16)","v":0},{"$f":"C16","v":0},{"$f":"SUM(AM15/AL15)","v":{"$error":"#DIV/0!"}},{"$f":"SUMIF('renseignement agent'!$A$8:'renseignement agent'!$A$96,A15,'renseignement agent'!$G$8:'renseignement agent'!$G$96)","v":0},{"$f":"SUMIF(D15:AH15,\"cp\",D16:AH16)","v":0}]
[null,null,{"$f":"SUMIF('2'!$A$15:'2'!$A$73,A15,'2'!$AJ$15:'2'!$AJ$73)+'3'!C15","v":0}]
[null,{"$f":"SUMIF('compteur trimestre'!$A$10:$A$78,A17,'compteur trimestre'!$AI$10:$AI$78)","v":0},{"$f":"AI17-B17","v":0},null,null,null,null,null,null,null,null,null,null,null,null,null,null,null,null,null,null,null,null,null,null,null,null,null,null,null,null,null,null,null,{"$f":"SUM(D18:AH18)","v":0},{"$f":"C18","v":0},{"$f":"SUM(AM17/AL17)","v":{"$error":"#DIV/0!"}},{"$f":"SUMIF('renseignement agent'!$A$8:'renseignement agent'!$A$96,A17,'renseignement agent'!$G$8:'renseignement agent'!$G$96)","v":0},{"$f":"SUMIF(D17:AH17,\"cp\",D18:AH18)","v":0}]
[null,null,{"$f":"SUMIF('2'!$A$15:'2'!$A$73,A17,'2'!$AJ$15:'2'!$AJ$73)+'3'!C17","v":0}]
[null,{"$f":"SUMIF('compteur trimestre'!$A$10:$A$78,A19,'compteur trimestre'!$AI$10:$AI$78)","v":0},{"$f":"AI19-B19","v":0},null,null,null,null,null,null,null,null,null,null,null,null,null,null,null,null,null,null,null,null,null,null,null,null,null,null,null,null,null,null,null,{"$f":"SUM(D20:AH20)","v":0},{"$f":"C20","v":0},{"$f":"SUM(AM19/AL19)","v":{"$error":"#DIV/0!"}},{"$f":"SUMIF('renseignement agent'!$A$8:'renseignement agent'!$A$96,A19,'renseignement agent'!$G$8:'renseignement agent'!$G$96)","v":0},{"$f":"SUMIF(D19:AH19,\"cp\",D20:AH20)","v":0}]
[null,null,{"$f":"SUMIF('2'!$A$15:'2'!$A$73,A19,'2'!$AJ$15:'2'!$AJ$73)+'3'!C19","v":0}]
[null,{"$f":"SUMIF('compteur trimestre'!$A$10:$A$78,A21,'compteur trimestre'!$AI$10:$AI$78)","v":0},{"$f":"AI21-B21","v":0},null,null,null,null,null,null,null,null,null,null,null,null,null,null,null,null,null,null,null,null,null,null,null,null,null,null,null,null,null,null,null,{"$f":"SUM(D22:AH22)","v":0},{"$f":"C22","v":0},{"$f":"SUM(AM21/AL21)","v":{"$error":"#DIV/0!"}},{"$f":"SUMIF('renseignement agent'!$A$8:'renseignement agent'!$A$96,A21,'renseignement agent'!$G$8:'renseignement agent'!$G$96)","v":0},{"$f":"SUMIF(D21:AH21,\"cp\",D22:AH22)","v":0}]
[null,null,{"$f":"SUMIF('2'!$A$15:'2'!$A$73,A21,'2'!$AJ$15:'2'!$AJ$73)+'3'!C21","v":0}]
[null,{"$f":"SUMIF('compteur trimestre'!$A$10:$A$78,A23,'compteur trimestre'!$AI$10:$AI$78)","v":0},{"$f":"AI23-B23","v":0},null,null,null,null,null,null,null,null,null,null,null,null,null,null,null,null,null,null,null,null,null,null,null,null,null,null,null,null,null,null,null,{"$f":"SUM(D24:AH24)","v":0},{"$f":"C24","v":0},{"$f":"SUM(AM23/AL23)","v":{"$error":"#DIV/0!"}},{"$f":"SUMIF('renseignement agent'!$A$8:'renseignement agent'!$A$96,A23,'renseignement agent'!$G$8:'renseignement agent'!$G$96)","v":0},{"$f":"SUMIF(D23:AH23,\"cp\",D24:AH24)","v":0}]
[null,null,{"$f":"SUMIF('2'!$A$15:'2'!$A$73,A23,'2'!$AJ$15:'2'!$AJ$73)+'3'!C23","v":0}]
[null,{"$f":"SUMIF('compteur trimestre'!$A$10:$A$78,A25,'compteur trimestre'!$AI$10:$AI$78)","v":0},{"$f":"AI25-B25","v":0},null,null,null,null,null,null,null,null,null,null,null,null,null,null,null,null,null,null,null,null,null,null,null,null,null,null,null,null,null,null,null,{"$f":"SUM(D26:AH26)","v":0},{"$f":"C26","v":0},{"$f":"SUM(AM25/AL25)","v":{"$error":"#DIV/0!"}},{"$f":"SUMIF('renseignement agent'!$A$8:'renseignement agent'!$A$96,A25,'renseignement agent'!$G$8:'renseignement agent'!$G$96)","v":0},{"$f":"SUMIF(D25:AH25,\"cp\",D26:AH26)","v":0}]
[null,null,{"$f":"SUMIF('2'!$A$15:'2'!$A$73,A25,'2'!$AJ$15:'2'!$AJ$73)+'3'!C25","v":0}]
[null,{"$f":"SUMIF('compteur trimestre'!$A$10:$A$78,A27,'compteur trimestre'!$AI$10:$AI$78)","v":0},{"$f":"AI27-B27","v":0},null,null,null,null,null,null,null,null,null,null,null,null,null,null,null,null,null,null,null,null,null,null,null,null,null,null,null,null,null,null,null,{"$f":"SUM(D28:AH28)","v":0},{"$f":"C28","v":0},{"$f":"SUM(AM27/AL27)","v":{"$error":"#DIV/0!"}},{"$f":"SUMIF('renseignement agent'!$A$8:'renseignement agent'!$A$96,A27,'renseignement agent'!$G$8:'renseignement agent'!$G$96)","v":0},{"$f":"SUMIF(D27:AH27,\"cp\",D28:AH28)","v":0}]
[null,null,{"$f":"SUMIF('2'!$A$15:'2'!$A$73,A27,'2'!$AJ$15:'2'!$AJ$73)+'3'!C27","v":0}]
[null,{"$f":"SUMIF('compteur trimestre'!$A$10:$A$78,A29,'compteur trimestre'!$AI$10:$AI$78)","v":0},{"$f":"AI29-B29","v":0},null,null,null,null,null,null,null,null,null,null,null,null,null,null,null,null,null,null,null,null,null,null,null,null,null,null,null,null,null,null,null,{"$f":"SUM(D30:AH30)","v":0},{"$f":"C30","v":0},{"$f":"SUM(AM29/AL29)","v":{"$error":"#DIV/0!"}},{"$f":"SUMIF('renseignement agent'!$A$8:'renseignement agent'!$A$96,A29,'renseignement agent'!$G$8:'renseignement agent'!$G$96)","v":0},{"$f":"SUMIF(D29:AH29,\"cp\",D30:AH30)","v":0}]
[null,null,{"$f":"SUMIF('2'!$A$15:'2'!$A$73,A29,'2'!$AJ$15:'2'!$AJ$73)+'3'!C29","v":0}]
[null,{"$f":"SUMIF('compteur trimestre'!$A$10:$A$78,A31,'compteur trimestre'!$AI$10:$AI$78)","v":0},{"$f":"AI31-B31","v":0},null,null,null,null,null,null,null,null,null,null,null,null,null,null,null,null,null,null,null,null,null,null,null,null,null,null,null,null,null,null,null,{"$f":"SUM(D32:AH32)","v":0},{"$f":"C32","v":0},{"$f":"SUM(AM31/AL31)","v":{"$error":"#DIV/0!"}},{"$f":"SUMIF('renseignement agent'!$A$8:'renseignement agent'!$A$96,A31,'renseignement agent'!$G$8:'renseignement agent'!$G$96)","v":0},{"$f":"SUMIF(D31:AH31,\"cp\",D32:AH32)","v":0}]
[null,null,{"$f":"SUMIF('2'!$A$15:'2'!$A$73,A31,'2'!$AJ$15:'2'!$AJ$73)+'3'!C31","v":0}]
[null,{"$f":"SUMIF('compteur trimestre'!$A$10:$A$78,A33,'compteur trimestre'!$AI$10:$AI$78)","v":0},{"$f":"AI33-B33","v":0},null,null,null,null,null,null,null,null,null,null,null,null,null,null,null,null,null,null,null,null,null,null,null,null,null,null,null,null,null,null,null,{"$f":"SUM(D34:AH34)","v":0},{"$f":"C34","v":0},{"$f":"SUM(AM33/AL33)","v":{"$error":"#DIV/0!"}},{"$f":"SUMIF('renseignement agent'!$A$8:'renseignement agent'!$A$96,A33,'renseignement agent'!$G$8:'renseignement agent'!$G$96)","v":0},{"$f":"SUMIF(D33:AH33,\"cp\",D34:AH34)","v":0}]
[null,null,{"$f":"SUMIF('2'!$A$15:'2'!$A$73,A33,'2'!$AJ$15:'2'!$AJ$73)+'3'!C33","v":0}]
[null,{"$f":"SUMIF('compteur trimestre'!$A$10:$A$78,A35,'compteur trimestre'!$AI$10:$AI$78)","v":0},{"$f":"AI35-B35","v":0},null,null,null,null,null,null,null,null,null,null,null,null,null,null,null,null,null,null,null,null,null,null,null,null,null,null,null,null,null,null,null,{"$f":"SUM(D36:AH36)","v":0},{"$f":"C36","v":0},{"$f":"SUM(AM35/AL35)","v":{"$error":"#DIV/0!"}},{"$f":"SUMIF('renseignement agent'!$A$8:'renseignement agent'!$A$96,A35,'renseignement agent'!$G$8:'renseignement agent'!$G$96)","v":0},{"$f":"SUMIF(D35:AH35,\"cp\",D36:AH36)","v":0}]
[null,null,{"$f":"SUMIF('2'!$A$15:'2'!$A$73,A35,'2'!$AJ$15:'2'!$AJ$73)+'3'!C35","v":0}]
[null,{"$f":"SUMIF('compteur trimestre'!$A$10:$A$78,A37,'compteur trimestre'!$AI$10:$AI$78)","v":0},{"$f":"AI37-B37","v":0},null,null,null,null,null,null,null,null,null,null,null,null,null,null,null,null,null,null,null,null,null,null,null,null,null,null,null,null,null,null,null,{"$f":"SUM(D38:AH38)","v":0},{"$f":"C38","v":0},{"$f":"SUM(AM37/AL37)","v":{"$error":"#DIV/0!"}},{"$f":"SUMIF('renseignement agent'!$A$8:'renseignement agent'!$A$96,A37,'renseignement agent'!$G$8:'renseignement agent'!$G$96)","v":0},{"$f":"SUMIF(D37:AH37,\"cp\",D38:AH38)","v":0}]
[null,null,{"$f":"SUMIF('2'!$A$15:'2'!$A$73,A37,'2'!$AJ$15:'2'!$AJ$73)+'3'!C37","v":0}]
[null,{"$f":"SUMIF('compteur trimestre'!$A$10:$A$78,A39,'compteur trimestre'!$AI$10:$AI$78)","v":0},{"$f":"AI39-B39","v":0},null,null,null,null,null,null,null,null,null,null,null,null,null,null,null,null,null,null,null,null,null,null,null,null,null,null,null,null,null,null,null,{"$f":"SUM(D40:AH40)","v":0},{"$f":"C40","v":0},{"$f":"SUM(AM39/AL39)","v":{"$error":"#DIV/0!"}},{"$f":"SUMIF('renseignement agent'!$A$8:'renseignement agent'!$A$96,A39,'renseignement agent'!$G$8:'renseignement agent'!$G$96)","v":0},{"$f":"SUMIF(D39:AH39,\"cp\",D40:AH40)","v":0}]
[null,null,{"$f":"SUMIF('2'!$A$15:'2'!$A$73,A39,'2'!$AJ$15:'2'!$AJ$73)+'3'!C39","v":0}]
[null,{"$f":"SUMIF('compteur trimestre'!$A$10:$A$78,A41,'compteur trimestre'!$AI$10:$AI$78)","v":0},{"$f":"AI41-B41","v":0},null,null,null,null,null,null,null,null,null,null,null,null,null,null,null,null,null,null,null,null,null,null,null,null,null,null,null,null,null,null,null,{"$f":"SUM(D42:AH42)","v":0},{"$f":"C42","v":0},{"$f":"SUM(AM41/AL41)","v":{"$error":"#DIV/0!"}},{"$f":"SUMIF('renseignement agent'!$A$8:'renseignement agent'!$A$96,A41,'renseignement agent'!$G$8:'renseignement agent'!$G$96)","v":0},{"$f":"SUMIF(D41:AH41,\"cp\",D42:AH42)","v":0}]
[null,null,{"$f":"SUMIF('2'!$A$15:'2'!$A$73,A41,'2'!$AJ$15:'2'!$AJ$73)+'3'!C41","v":0}]
[null,{"$f":"SUMIF('compteur trimestre'!$A$10:$A$78,A43,'compteur trimestre'!$AI$10:$AI$78)","v":0},{"$f":"AI43-B43","v":0},null,null,null,null,null,null,null,null,null,null,null,null,null,null,null,null,null,null,null,null,null,null,null,null,null,null,null,null,null,null,null,{"$f":"SUM(D44:AH44)","v":0},{"$f":"C44","v":0},{"$f":"SUM(AM43/AL43)","v":{"$error":"#DIV/0!"}},{"$f":"SUMIF('renseignement agent'!$A$8:'renseignement agent'!$A$96,A43,'renseignement agent'!$G$8:'renseignement agent'!$G$96)","v":0},{"$f":"SUMIF(D43:AH43,\"cp\",D44:AH44)","v":0}]
[null,null,{"$f":"SUMIF('2'!$A$15:'2'!$A$73,A43,'2'!$AJ$15:'2'!$AJ$73)+'3'!C43","v":0}]
[null,{"$f":"SUMIF('compteur trimestre'!$A$10:$A$78,A45,'compteur trimestre'!$AI$10:$AI$78)","v":0},{"$f":"AI45-B45","v":0},null,null,null,null,null,null,null,null,null,null,null,null,null,null,null,null,null,null,null,null,null,null,null,null,null,null,null,null,null,null,null,{"$f":"SUM(D46:AH46)","v":0},{"$f":"C46","v":0},{"$f":"SUM(AM45/AL45)","v":{"$error":"#DIV/0!"}},{"$f":"SUMIF('renseignement agent'!$A$8:'renseignement agent'!$A$96,A45,'renseignement agent'!$G$8:'renseignement agent'!$G$96)","v":0},{"$f":"SUMIF(D45:AH45,\"cp\",D46:AH46)","v":0}]
[null,null,{"$f":"SUMIF('2'!$A$15:'2'!$A$73,A45,'2'!$AJ$15:'2'!$AJ$73)+'3'!C45","v":0}]
[null,{"$f":"SUMIF('compteur trimestre'!$A$10:$A$78,A47,'compteur trimestre'!$AI$10:$AI$78)","v":0},{"$f":"AI47-B47","v":0},null,null,null,null,null,null,null,null,null,null,null,null,null,null,null,null,null,null,null,null,null,null,null,null,null,null,null,null,null,null,null,{"$f":"SUM(D48:AH48)","v":0},{"$f":"C48","v":0},{"$f":"SUM(AM47/AL47)","v":{"$error":"#DIV/0!"}},{"$f":"SUMIF('renseignement agent'!$A$8:'renseignement agent'!$A$96,A47,'renseignement agent'!$G$8:'renseignement agent'!$G$96)","v":0},{"$f":"SUMIF(D47:AH47,\"cp\",D48:AH48)","v":0}]
[null,null,{"$f":"SUMIF('2'!$A$15:'2'!$A$73,A47,'2'!$AJ$15:'2'!$AJ$73)+'3'!C47","v":0}]
[null,{"$f":"SUMIF('compteur trimestre'!$A$10:$A$78,A49,'compteur trimestre'!$AI$10:$AI$78)","v":0},{"$f":"AI49-B49","v":0},null,null,null,null,null,null,null,null,null,null,null,null,null,null,null,null,null,null,null,null,null,null,null,null,null,null,null,null,null,null,null,{"$f":"SUM(D50:AH50)","v":0},{"$f":"C50","v":0},{"$f":"SUM(AM49/AL49)","v":{"$error":"#DIV/0!"}},{"$f":"SUMIF('renseignement agent'!$A$8:'renseignement agent'!$A$96,A49,'renseignement agent'!$G$8:'renseignement agent'!$G$96)","v":0},{"$f":"SUMIF(D49:AH49,\"cp\",D50:AH50)","v":0}]
[null,null,{"$f":"SUMIF('2'!$A$15:'2'!$A$73,A49,'2'!$AJ$15:'2'!$AJ$73)+'3'!C49","v":0}]
[null,{"$f":"SUMIF('compteur trimestre'!$A$10:$A$78,A51,'compteur trimestre'!$AI$10:$AI$78)","v":0},{"$f":"AI51-B51","v":0},null,null,null,null,null,null,null,null,null,null,null,null,null,null,null,null,null,null,null,null,null,null,null,null,null,null,null,null,null,null,null,{"$f":"SUM(D52:AH52)","v":0},{"$f":"C52","v":0},{"$f":"SUM(AM51/AL51)","v":{"$error":"#DIV/0!"}},{"$f":"SUMIF('renseignement agent'!$A$8:'renseignement agent'!$A$96,A51,'renseignement agent'!$G$8:'renseignement agent'!$G$96)","v":0},{"$f":"SUMIF(D51:AH51,\"cp\",D52:AH52)","v":0}]
[null,null,{"$f":"SUMIF('2'!$A$15:'2'!$A$73,A51,'2'!$AJ$15:'2'!$AJ$73)+'3'!C51","v":0}]
[null,{"$f":"SUMIF('compteur trimestre'!$A$10:$A$78,A53,'compteur trimestre'!$AI$10:$AI$78)","v":0},{"$f":"AI53-B53","v":0},null,null,null,null,null,null,null,null,null,null,null,null,null,null,null,null,null,null,null,null,null,null,null,null,null,null,null,null,null,null,null,{"$f":"SUM(D54:AH54)","v":0},{"$f":"C54","v":0},{"$f":"SUM(AM53/AL53)","v":{"$error":"#DIV/0!"}},{"$f":"SUMIF('renseignement agent'!$A$8:'renseignement agent'!$A$96,A53,'renseignement agent'!$G$8:'renseignement agent'!$G$96)","v":0},{"$f":"SUMIF(D53:AH53,\"cp\",D54:AH54)","v":0}]
[null,null,{"$f":"SUMIF('2'!$A$15:'2'!$A$73,A53,'2'!$AJ$15:'2'!$AJ$73)+'3'!C53","v":0}]
[null,{"$f":"SUMIF('compteur trimestre'!$A$10:$A$78,A55,'compteur trimestre'!$AI$10:$AI$78)","v":0},{"$f":"AI55-B55","v":0},null,null,null,null,null,null,null,null,null,null,null,null,null,null,null,null,null,null,null,null,null,null,null,null,null,null,null,null,null,null,null,{"$f":"SUM(D56:AH56)","v":0},{"$f":"C56","v":0},{"$f":"SUM(AM55/AL55)","v":{"$error":"#DIV/0!"}},{"$f":"SUMIF('renseignement agent'!$A$8:'renseignement agent'!$A$96,A55,'renseignement agent'!$G$8:'renseignement agent'!$G$96)","v":0},{"$f":"SUMIF(D55:AH55,\"cp\",D56:AH56)","v":0}]
[null,null,{"$f":"SUMIF('2'!$A$15:'2'!$A$73,A55,'2'!$AJ$15:'2'!$AJ$73)+'3'!C55","v":0}]
[null,{"$f":"SUMIF('compteur trimestre'!$A$10:$A$78,A57,'compteur trimestre'!$AI$10:$AI$78)","v":0},{"$f":"AI57-B57","v":0},null,null,null,null,null,null,null,null,null,null,null,null,null,null,null,null,null,null,null,null,null,null,null,null,null,null,null,null,null,null,null,{"$f":"SUM(D58:AH58)","v":0},{"$f":"C58","v":0},{"$f":"SUM(AM57/AL57)","v":{"$error":"#DIV/0!"}},{"$f":"SUMIF('renseignement agent'!$A$8:'renseignement agent'!$A$96,A57,'renseignement agent'!$G$8:'renseignement agent'!$G$96)","v":0},{"$f":"SUMIF(D57:AH57,\"cp\",D58:AH58)","v":0}]
[null,null,{"$f":"SUMIF('2'!$A$15:'2'!$A$73,A57,'2'!$AJ$15:'2'!$AJ$73)+'3'!C57","v":0}]
[null,{"$f":"SUMIF('compteur trimestre'!$A$10:$A$78,A59,'compteur trimestre'!$AI$10:$AI$78)","v":0},{"$f":"AI59-B59","v":0},null,null,null,null,null,null,null,null,null,null,null,null,null,null,null,null,null,null,null,null,null,null,null,null,null,null,null,null,null,null,null,{"$f":"SUM(D60:AH60)","v":0},{"$f":"C60","v":0},{"$f":"SUM(AM59/AL59)","v":{"$error":"#DIV/0!"}},{"$f":"SUMIF('renseignement agent'!$A$8:'renseignement agent'!$A$96,A59,'renseignement agent'!$G$8:'renseignement agent'!$G$96)","v":0},{"$f":"SUMIF(D59:AH59,\"cp\",D60:AH60)","v":0}]
[null,null,{"$f":"SUMIF('2'!$A$15:'2'!$A$73,A59,'2'!$AJ$15:'2'!$AJ$73)+'3'!C59","v":0}]
[null,{"$f":"SUMIF('compteur trimestre'!$A$10:$A$78,A61,'compteur trimestre'!$AI$10:$AI$78)","v":0},{"$f":"AI61-B61","v":0},null,null,null,null,null,null,null,null,null,null,null,null,null,null,null,null,null,null,null,null,null,null,null,null,null,null,null,null,null,null,null,{"$f":"SUM(D62:AH62)","v":0},{"$f":"C62","v":0},{"$f":"SUM(AM61/AL61)","v":{"$error":"#DIV/0!"}},{"$f":"SUMIF('renseignement agent'!$A$8:'renseignement agent'!$A$96,A61,'renseignement agent'!$G$8:'renseignement agent'!$G$96)","v":0},{"$f":"SUMIF(D61:AH61,\"cp\",D62:AH62)","v":0}]
[null,null,{"$f":"SUMIF('2'!$A$15:'2'!$A$73,A61,'2'!$AJ$15:'2'!$AJ$73)+'3'!C61","v":0}]
[null,{"$f":"SUMIF('compteur trimestre'!$A$10:$A$78,A63,'compteur trimestre'!$AI$10:$AI$78)","v":0},{"$f":"AI63-B63","v":0},null,null,null,null,null,null,null,null,null,null,null,null,null,null,null,null,null,null,null,null,null,null,null,null,null,null,null,null,null,null,null,{"$f":"SUM(D64:AH64)","v":0},{"$f":"C64","v":0},{"$f":"SUM(AM63/AL63)","v":{"$error":"#DIV/0!"}},{"$f":"SUMIF('renseignement agent'!$A$8:'renseignement agent'!$A$96,A63,'renseignement agent'!$G$8:'renseignement agent'!$G$96)","v":0},{"$f":"SUMIF(D63:AH63,\"cp\",D64:AH64)","v":0}]
[null,null,{"$f":"SUMIF('2'!$A$15:'2'!$A$73,A63,'2'!$AJ$15:'2'!$AJ$73)+'3'!C63","v":0}]
[null,{"$f":"SUMIF('compteur trimestre'!$A$10:$A$78,A65,'compteur trimestre'!$AI$10:$AI$78)","v":0},{"$f":"AI65-B65","v":0},null,null,null,null,null,null,null,null,null,null,null,null,null,null,null,null,null,null,null,null,null,null,null,null,null,null,null,null,null,null,null,{"$f":"SUM(D66:AH66)","v":0},{"$f":"C66","v":0},{"$f":"SUM(AM65/AL65)","v":{"$error":"#DIV/0!"}},{"$f":"SUMIF('renseignement agent'!$A$8:'renseignement agent'!$A$96,A65,'renseignement agent'!$G$8:'renseignement agent'!$G$96)","v":0},{"$f":"SUMIF(D65:AH65,\"cp\",D66:AH66)","v":0}]
[null,null,{"$f":"SUMIF('2'!$A$15:'2'!$A$73,A65,'2'!$AJ$15:'2'!$AJ$73)+'3'!C65","v":0}]
[null,{"$f":"SUMIF('compteur trimestre'!$A$10:$A$78,A67,'compteur trimestre'!$AI$10:$AI$78)","v":0},{"$f":"AI67-B67","v":0},null,null,null,null,null,null,null,null,null,null,null,null,null,null,null,null,null,null,null,null,null,null,null,null,null,null,null,null,null,null,null,{"$f":"SUM(D68:AH68)","v":0},{"$f":"C68","v":0},{"$f":"SUM(AM67/AL67)","v":{"$error":"#DIV/0!"}},{"$f":"SUMIF('renseignement agent'!$A$8:'renseignement agent'!$A$96,A67,'renseignement agent'!$G$8:'renseignement agent'!$G$96)","v":0},{"$f":"SUMIF(D67:AH67,\"cp\",D68:AH68)","v":0}]
[null,null,{"$f":"SUMIF('2'!$A$15:'2'!$A$73,A67,'2'!$AJ$15:'2'!$AJ$73)+'3'!C67","v":0}]
[null,{"$f":"SUMIF('compteur trimestre'!$A$10:$A$78,A69,'compteur trimestre'!$AI$10:$AI$78)","v":0},{"$f":"AI69-B69","v":0},null,null,null,null,null,null,null,null,null,null,null,null,null,null,null,null,null,null,null,null,null,null,null,null,null,null,null,null,null,null,null,{"$f":"SUM(D70:AH70)","v":0},{"$f":"C70","v":0},{"$f":"SUM(AM69/AL69)","v":{"$error":"#DIV/0!"}},{"$f":"SUMIF('renseignement agent'!$A$8:'renseignement agent'!$A$96,A69,'renseignement agent'!$G$8:'renseignement agent'!$G$96)","v":0},{"$f":"SUMIF(D69:AH69,\"cp\",D70:AH70)","v":0}]
[null,null,{"$f":"SUMIF('2'!$A$15:'2'!$A$73,A69,'2'!$AJ$15:'2'!$AJ$73)+'3'!C69","v":0}]
[null,{"$f":"SUMIF('compteur trimestre'!$A$10:$A$78,A71,'compteur trimestre'!$AI$10:$AI$78)","v":0},{"$f":"AI71-B71","v":0},null,null,null,null,null,null,null,null,null,null,null,null,null,null,null,null,null,null,null,null,null,null,null,null,null,null,null,null,null,null,null,{"$f":"SUM(D72:AH72)","v":0},{"$f":"C72","v":0},{"$f":"SUM(AM71/AL71)","v":{"$error":"#DIV/0!"}},{"$f":"SUMIF('renseignement agent'!$A$8:'renseignement agent'!$A$96,A71,'renseignement agent'!$G$8:'renseignement agent'!$G$96)","v":0},{"$f":"SUMIF(D71:AH71,\"cp\",D72:AH72)","v":0}]
[null,null,{"$f":"SUMIF('2'!$A$15:'2'!$A$73,A71,'2'!$AJ$15:'2'!$AJ$73)+'3'!C71","v":0}]
[null,{"$f":"SUMIF('compteur trimestre'!$A$10:$A$78,A73,'compteur trimestre'!$AI$10:$AI$78)","v":0},{"$f":"AI73-B73","v":0},null,null,null,null,null,null,null,null,null,null,null,null,null,null,null,null,null,null,null,null,null,null,null,null,null,null,null,null,null,null,null,{"$f":"SUM(D74:AH74)","v":0},{"$f":"C74","v":0},{"$f":"SUM(AM73/AL73)","v":{"$error":"#DIV/0!"}},{"$f":"SUMIF('renseignement agent'!$A$8:'renseignement agent'!$A$96,A73,'renseignement agent'!$G$8:'renseignement agent'!$G$96)","v":0},{"$f":"SUMIF(D73:AH73,\"cp\",D74:AH74)","v":0}]
[null,null,{"$f":"SUMIF('2'!$A$15:'2'!$A$73,A73,'2'!$AJ$15:'2'!$AJ$73)+'3'!C73","v":0}]

{"sheet":"4","index":4,"n_rows":74,"n_cols":39,"rows_kept":74,"cut":false,"hidden":false,"merged":[[1,0,1,1],[2,0,2,1],[8,0,9,1],[10,34,13,34],[20,34,21,34],[22,34,23,34],[24,34,25,34],[20,1,21,1],[22,1,23,1],[24,1,25,1],[14,34,15,34],[16,34,17,34],[18,34,19,34],[14,1,15,1],[16,1,17,1],[18,1,19,1],[5,8,7,16],[5,17,7,23],[14,0,15,0],[16,0,17,0],[18,0,19,0],[20,0,21,0],[22,0,23,0],[24,0,25,0],[32,34,33,34],[34,34,35,34],[36,34,37,34],[32,0,33,0],[34,0,35,0],[36,0,37,0],[26,34,27,34],[28,34,29,34],[30,34,31,34],[28,0,29,0],[30,0,31,0],[26,1,27,1],[28,1,29,1],[26,0,27,0],[44,34,45,34],[46,34,47,34],[48,34,49,34],[44,0,45,0],[46,0,47,0],[48,0,49,0],[44,1,45,1],[38,34,39,34],[40,34,41,34],[42,34,43,34],[38,0,39,0],[40,0,41,0],[42,0,43,0],[42,1,43,1],[56,0,57,0],[58,0,59,0],[60,0,61,0],[58,1,59,1],[50,34,51,34],[52,34,53,34],[54,34,55,34],[50,0,51,0],[52,0,53,0],[54,0,55,0],[68,0,69,0],[70,0,71,0],[72,0,73,0],[72,1,73,1],[62,34,63,34],[64,34,65,34],[66,34,67,34],[62,0,63,0],[64,0,65,0],[66,0,67,0],[74,3,75,3],[74,4,75,4],[74,5,75,5],[74,6,75,6],[74,7,75,7],[74,8,75,8],[68,34,69,34],[70,34,71,34],[72,34,73,34],[74,17,75,17],[74,18,75,18],[74,19,75,19],[74,20,75,20],[74,9,75,9],[74,10,75,10],[74,11,75,11],[74,12,75,12],[74,13,75,13],[74,14,75,14],[74,33,75,33],[74,27,75,27],[74,28,75,28],[74,29,75,29],[74,30,75,30],[74,31,75,31],[74,32,75,32],[74,21,75,21],[74,22,75,22],[74,23,75,23],[74,24,75,24],[74,25,75,25],[74,26,75,26],[74,15,75,15],[74,16,75,16],[20,35,21,35],[22,35,23,35],[24,35,25,35],[60,1,61,1],[62,1,63,1],[64,1,65,1],[66,1,67,1],[68,1,69,1],[70,1,71,1],[46,1,47,1],[48,1,49,1],[50,1,51,1],[52,1,53,1],[54,1,55,1],[56,1,57,1],[30,1,31,1],[32,1,33,1],[34,1,35,1],[36,1,37,1],[38,1,39,1],[40,1,41,1],[56,34,57,34],[58,34,59,34],[60,34,61,34],[64,35,65,35],[66,35,67,35],[68,35,69,35],[70,35,71,35],[72,35,73,35],[50,35,51,35],[52,35,53,35],[54,35,55,35],[56,35,57,35],[58,35,59,35],[60,35,61,35],[10,36,13,36],[10,37,13,37],[14,36,15,36],[14,37,15,37],[14,38,15,38],[16,36,17,36],[16,37,17,37],[16,38,17,38],[62,35,63,35],[38,35,39,35],[40,35,41,35],[42,35,43,35],[44,35,45,35],[46,35,47,35],[48,35,49,35],[26,35,27,35],[28,35,29,35],[30,35,31,35],[32,35,33,35],[34,35,35,35],[36,35,37,35],[14,35,15,35],[16,35,17,35],[18,35,19,35],[22,36,23,36],[22,37,23,37],[22,38,23,38],[24,36,25,36],[24,37,25,37],[24,38,25,38],[18,36,19,36],[18,37,19,37],[18,38,19,38],[20,36,21,36],[20,37,21,37],[20,38,21,38],[30,36,31,36],[30,37,31,37],[30,38,31,38],[32,36,33,36],[32,37,33,37],[32,38,33,38],[26,36,27,36],[26,37,27,37],[26,38,27,38],[28,36,29,36],[28,37,29,37],[28,38,29,38],[38,36,39,36],[38,37,39,37],[38,38,39,38],[40,36,41,36],[40,37,41,37],[40,38,41,38],[34,36,35,36],[34,37,35,37],[34,38,35,38],[36,36,37,36],[36,37,37,37],[36,38,37,38],[46,36,47,36],[46,37,47,37],[46,38,47,38],[48,36,49,36],[48,37,49,37],[48,38,49,38],[42,36,43,36],[42,37,43,37],[42,38,43,38],[44,36,45,36],[44,37,45,37],[44,38,45,38],[60,37,61,37],[60,38,61,38],[54,36,55,36],[54,37,55,37],[54,38,55,38],[56,36,57,36],[56,37,57,37],[56,38,57,38],[50,36,51,36],[50,37,51,37],[50,38,51,38],[52,36,53,36],[52,37,53,37],[52,38,53,38],[0,19,0,20],[0,21,0,22],[70,36,71,36],[70,37,71,37],[70,38,71,38],[72,36,73,36],[72,37,73,37],[72,38,73,38],[66,36,67,36],[66,37,67,37],[66,38,67,38],[68,36,69,36],[68,37,69,37],[68,38,69,38],[62,36,63,36],[62,37,63,37],[62,38,63,38],[64,36,65,36],[64,37,65,37],[64,38,65,38],[58,36,59,36],[58,37,59,37],[58,38,59,38],[60,36,61,36],[0,1,0,2],[0,23,0,24],[0,25,0,26],[0,27,0,28],[0,30,2,31],[1,5,2,6],[1,7,2,8],[1,9,2,10],[1,11,2,12],[1,13,2,14],[1,15,2,16],[1,17,2,18],[1,19,2,20],[1,21,2,22],[1,23,2,24],[1,25,2,26],[1,27,2,28],[0,5,0,6],[0,7,0,8],[0,9,0,10],[0,11,0,12],[0,13,0,14],[0,15,0,16],[0,17,0,18]]}
[null,{"$f":"'1'!B1:C1","v":"secteur aubagne"},null,null,null,{"$f":"'1'!C2","v":"janvier"},null,{"$f":"'2'!C2","v":"février"},null,{"$f":"'3'!C2","v":"mars"},null,{"$f":"'4'!C2","v":"avril"},null,{"$f":"'5'!C2","v":"mai"},null,{"$f":"'6'!C2","v":"juin"},null,{"$f":"'7'!C2","v":"juillet"},null,{"$f":"'8'!C2","v":"août"},null,{"$f":"'9'!C2","v":"septembre"},null,{"$f":"'10'!C2","v":"octobre"},null,{"$f":"'11'!C2","v":"novembre"},null,{"$f":"'12'!C2","v":"décembre"}]
["PLANNING MOIS DE :",null,{"$f":"TEXT(B5,\"MMMM\")","v":"avril"}]
["ANNEE",null,{"$f":"TEXT(B6,\"aaaa\")","v":"2018"}]
[]
["date de debut ",{"$f":"'3'!B5+'3'!A9","v":"2018-04-01"}]
["date de fin ",{"$f":"EOMONTH(B5,0)","v":"2018-04-30"},null,null,null,null,null,null,{"$f":"C2","v":"avril"},null,null,null,null,null,null,null,null,{"$f":"C3","v":"2018"}]
[null,{"$f":"TODAY()","v":"2017-11-08"}]
[]
[{"$f":"SUMIF(parametre!$B$4:'parametre'!$B$15,C2,parametre!$C$4:'parametre'!$C$15)","v":30}]
[]
[null,null,null,{"$f":"B5","v":"2018-04-01"},{"$f":"D11+1","v":"2018-04-02"},{"$f":"E11+1","v":"2018-04-03"},"2018-04-04","2018-04-05","2018-04-06","2018-04-07","2018-04-08","2018-04-09","2018-04-10","2018-04-11","2018-04-12","2018-04-13","2018-04-14","2018-04-15","2018-04-16","2018-04-17","2018-04-18","2018-04-19","2018-04-20","2018-04-21","2018-04-22","2018-04-23","2018-04-24","2018-04-25","2018-04-26","2018-04-27","2018-04-28","2018-04-29","2018-04-30",{"$f":"IFERROR(IF(AG11+1>B6,\"\",AG11+1),\"\")","v":""},null,null,"CP MOIS","CP 1 JOURNEE"]
[null,null,null,{"$f":"IF(D14=\"L\",\"S \"&WEEKNUM(D11),\"\")","v":""},{"$f":"IF(E14=\"L\",\"S \"&WEEKNUM(E11),\"\")","v":""},"","","","","","","","","","","","","","","","","","","","","","","","","","","","",{"$f":"IFERROR(IF(AH14=\"L\",\"S \"&WEEKNUM(AH11),\"\"),\"\")","v":""}]
[null,null,"MOIS",{"$f":"DAY(D11)","v":1},{"$f":"DAY(E11)","v":2},3,4,5,6,7,8,9,10,11,12,13,14,15,16,17,18,19,20,21,22,23,24,25,26,27,28,29,30,{"$f":"IFERROR(DAY(AH11),\"\")","v":""}]
[null,"contrat",{"$f":"'1'!C14","v":"trimestre"},{"$f":"WEEKDAY(D11)","v":"1900-01-01"},{"$f":"WEEKDAY(E11)","v":"1900-01-02"},"1900-01-03","1900-01-04","1900-01-05","1900-01-06","1900-01-07","1900-01-01","1900-01-02","1900-01-03","1900-01-04","1900-01-05","1900-01-06","1900-01-07","1900-01-01","1900-01-02","1900-01-03","1900-01-04","1900-01-05","1900-01-06","1900-01-07","1900-01-01","1900-01-02","1900-01-03","1900-01-04","1900-01-05","1900-01-06","1900-01-07","1900-01-01","1900-01-02",{"$f":"IFERROR(WEEKDAY(AH11),\"\")","v":""}]
[null,{"$f":"SUMIF('compteur trimestre'!$A$10:$A$78,A15,'compteur trimestre'!$AI$10:$AI$78)","v":0},{"$f":"SUM(AI15-B15)","v":0},null,null,null,null,null,null,null,null,null,null,null,null,null,null,null,null,null,null,null,null,null,null,null,null,null,null,null,null,null,null,null,{"$f":"SUM(D16:AH16)","v":0},{"$f":"C16","v":0},{"$f":"SUM(AM15/AL15)","v":{"$error":"#DIV/0!"}},{"$f":"SUMIF('renseignement agent'!$A$8:'renseignement agent'!$A$96,A15,'renseignement agent'!$G$8:'renseignement agent'!$G$96)","v":0},{"$f":"SUMIF(D15:AH15,\"cp\",D16:AH16)","v":0}]
[null,null,{"$f":"C15","v":0}]
[null,{"$f":"SUMIF('compteur trimestre'!$A$10:$A$78,A17,'compteur trimestre'!$AI$10:$AI$78)","v":0},{"$f":"SUM(AI17-B17)","v":0},null,null,null,null,null,null,null,null,null,null,null,null,null,null,null,null,null,null,null,null,null,null,null,null,null,null,null,null,null,null,null,{"$f":"SUM(D18:AH18)","v":0},{"$f":"C18","v":0},{"$f":"SUM(AM17/AL17)","v":{"$error":"#DIV/0!"}},{"$f":"SUMIF('renseignement agent'!$A$8:'renseignement agent'!$A$96,A17,'renseignement agent'!$G$8:'renseignement agent'!$G$96)","v":0},{"$f":"SUMIF(D17:AH17,\"cp\",D18:AH18)","v":0}]
[null,null,{"$f":"C17","v":0}]
[null,{"$f":"SUMIF('compteur trimestre'!$A$10:$A$78,A19,'compteur trimestre'!$AI$10:$AI$78)","v":0},{"$f":"SUM(AI19-B19)","v":0},null,null,null,null,null,null,null,null,null,null,null,null,null,null,null,null,null,null,null,null,null,null,null,null,null,null,null,null,null,null,null,{"$f":"SUM(D20:AH20)","v":0},{"$f":"C20","v":0},{"$f":"SUM(AM19/AL19)","v":{"$error":"#DIV/0!"}},{"$f":"SUMIF('renseignement agent'!$A$8:'renseignement agent'!$A$96,A19,'renseignement agent'!$G$8:'renseignement agent'!$G$96)","v":0},{"$f":"SUMIF(D19:AH19,\"cp\",D20:AH20)","v":0}]
[null,null,{"$f":"C19","v":0}]
[null,{"$f":"SUMIF('compteur trimestre'!$A$10:$A$78,A21,'compteur trimestre'!$AI$10:$AI$78)","v":0},{"$f":"SUM(AI21-B21)","v":0},null,null,null,null,null,null,null,null,null,null,null,null,null,null,null,null,null,null,null,null,null,null,null,null,null,null,null,null,null,null,null,{"$f":"SUM(D22:AH22)","v":0},{"$f":"C22","v":0},{"$f":"SUM(AM21/AL21)","v":{"$error":"#DIV/0!"}},{"$f":"SUMIF('renseignement agent'!$A$8:'renseignement agent'!$A$96,A21,'renseignement agent'!$G$8:'renseignement agent'!$G$96)","v":0},{"$f":"SUMIF(D21:AH21,\"cp\",D22:AH22)","v":0}]
[null,null,{"$f":"C21","v":0}]
[null,{"$f":"SUMIF('compteur trimestre'!$A$10:$A$78,A23,'compteur trimestre'!$AI$10:$AI$78)","v":0},{"$f":"SUM(AI23-B23)","v":0},null,null,null,null,null,null,null,null,null,null,null,null,null,null,null,null,null,null,null,null,null,null,null,null,null,null,null,null,null,null,null,{"$f":"SUM(D24:AH24)","v":0},{"$f":"C24","v":0},{"$f":"SUM(AM23/AL23)","v":{"$error":"#DIV/0!"}},{"$f":"SUMIF('renseignement agent'!$A$8:'renseignement agent'!$A$96,A23,'renseignement agent'!$G$8:'renseignement agent'!$G$96)","v":0},{"$f":"SUMIF(D23:AH23,\"cp\",D24:AH24)","v":0}]
[null,null,{"$f":"C23","v":0}]
[null,{"$f":"SUMIF('compteur trimestre'!$A$10:$A$78,A25,'compteur trimestre'!$AI$10:$AI$78)","v":0},{"$f":"SUM(AI25-B25)","v":0},null,null,null,null,null,null,null,null,null,null,null,null,null,null,null,null,null,null,null,null,null,null,null,null,null,null,null,null,null,null,null,{"$f":"SUM(D26:AH26)","v":0},{"$f":"C26","v":0},{"$f":"SUM(AM25/AL25)","v":{"$error":"#DIV/0!"}},{"$f":"SUMIF('renseignement agent'!$A$8:'renseignement agent'!$A$96,A25,'renseignement agent'!$G$8:'renseignement agent'!$G$96)","v":0},{"$f":"SUMIF(D25:AH25,\"cp\",D26:AH26)","v":0}]
[null,null,{"$f":"C25","v":0}]
[null,{"$f":"SUMIF('compteur trimestre'!$A$10:$A$78,A27,'compteur trimestre'!$AI$10:$AI$78)","v":0},{"$f":"SUM(AI27-B27)","v":0},null,null,null,null,null,null,null,null,null,null,null,null,null,null,null,null,null,null,null,null,null,null,null,null,null,null,null,null,null,null,null,{"$f":"SUM(D28:AH28)","v":0},{"$f":"C28","v":0},{"$f":"SUM(AM27/AL27)","v":{"$error":"#DIV/0!"}},{"$f":"SUMIF('renseignement agent'!$A$8:'renseignement agent'!$A$96,A27,'renseignement agent'!$G$8:'renseignement agent'!$G$96)","v":0},{"$f":"SUMIF(D27:AH27,\"cp\",D28:AH28)","v":0}]
[null,null,{"$f":"C27","v":0}]
[null,{"$f":"SUMIF('compteur trimestre'!$A$10:$A$78,A29,'compteur trimestre'!$AI$10:$AI$78)","v":0},{"$f":"SUM(AI29-B29)","v":0},null,null,null,null,null,null,null,null,null,null,null,null,null,null,null,null,null,null,null,null,null,null,null,null,null,null,null,null,null,null,null,{"$f":"SUM(D30:AH30)","v":0},{"$f":"C30","v":0},{"$f":"SUM(AM29/AL29)","v":{"$error":"#DIV/0!"}},{"$f":"SUMIF('renseignement agent'!$A$8:'renseignement agent'!$A$96,A29,'renseignement agent'!$G$8:'renseignement agent'!$G$96)","v":0},{"$f":"SUMIF(D29:AH29,\"cp\",D30:AH30)","v":0}]
[null,null,{"$f":"C29","v":0}]
[null,{"$f":"SUMIF('compteur trimestre'!$A$10:$A$78,A31,'compteur trimestre'!$AI$10:$AI$78)","v":0},{"$f":"SUM(AI31-B31)","v":0},null,null,null,null,null,null,null,null,null,null,null,null,null,null,null,null,null,null,null,null,null,null,null,null,null,null,null,null,null,null,null,{"$f":"SUM(D32:AH32)","v":0},{"$f":"C32","v":0},{"$f":"SUM(AM31/AL31)","v":{"$error":"#DIV/0!"}},{"$f":"SUMIF('renseignement agent'!$A$8:'renseignement agent'!$A$96,A31,'renseignement agent'!$G$8:'renseignement agent'!$G$96)","v":0},{"$f":"SUMIF(D31:AH31,\"cp\",D32:AH32)","v":0}]
[null,null,{"$f":"C31","v":0}]
[null,{"$f":"SUMIF('compteur trimestre'!$A$10:$A$78,A33,'compteur trimestre'!$AI$10:$AI$78)","v":0},{"$f":"SUM(AI33-B33)","v":0},null,null,null,null,null,null,null,null,null,null,null,null,null,null,null,null,null,null,null,null,null,null,null,null,null,null,null,null,null,null,null,{"$f":"SUM(D34:AH34)","v":0},{"$f":"C34","v":0},{"$f":"SUM(AM33/AL33)","v":{"$error":"#DIV/0!"}},{"$f":"SUMIF('renseignement agent'!$A$8:'renseignement agent'!$A$96,A33,'renseignement agent'!$G$8:'renseignement agent'!$G$96)","v":0},{"$f":"SUMIF(D33:AH33,\"cp\",D34:AH34)","v":0}]
[null,null,{"$f":"C33","v":0}]
[null,{"$f":"SUMIF('compteur trimestre'!$A$10:$A$78,A35,'compteur trimestre'!$AI$10:$AI$78)","v":0},{"$f":"SUM(AI35-B35)","v":0},null,null,null,null,null,null,null,null,null,null,null,null,null,null,null,null,null,null,null,null,null,null,null,null,null,null,null,null,null,null,null,{"$f":"SUM(D36:AH36)","v":0},{"$f":"C36","v":0},{"$f":"SUM(AM35/AL35)","v":{"$error":"#DIV/0!"}},{"$f":"SUMIF('renseignement agent'!$A$8:'renseignement agent'!$A$96,A35,'renseignement agent'!$G$8:'renseignement agent'!$G$96)","v":0},{"$f":"SUMIF(D35:AH35,\"cp\",D36:AH36)","v":0}]
[null,null,{"$f":"C35","v":0}]
[null,{"$f":"SUMIF('compteur trimestre'!$A$10:$A$78,A37,'compteur trimestre'!$AI$10:$AI$78)","v":0},{"$f":"SUM(AI37-B37)","v":0},null,null,null,null,null,null,null,null,null,null,null,null,null,null,null,null,null,null,null,null,null,null,null,null,null,null,null,null,null,null,null,{"$f":"SUM(D38:AH38)","v":0},{"$f":"C38","v":0},{"$f":"SUM(AM37/AL37)","v":{"$error":"#DIV/0!"}},{"$f":"SUMIF('renseignement agent'!$A$8:'renseignement agent'!$A$96,A37,'renseignement agent'!$G$8:'renseignement agent'!$G$96)","v":0},{"$f":"SUMIF(D37:AH37,\"cp\",D38:AH38)","v":0}]
[null,null,{"$f":"C37","v":0}]
[null,{"$f":"SUMIF('compteur trimestre'!$A$10:$A$78,A39,'compteur trimestre'!$AI$10:$AI$78)","v":0},{"$f":"SUM(AI39-B39)","v":0},null,null,null,null,null,null,null,null,null,null,null,null,null,null,null,null,null,null,null,null,null,null,null,null,null,null,null,null,null,null,null,{"$f":"SUM(D40:AH40)","v":0},{"$f":"C40","v":0},{"$f":"SUM(AM39/AL39)","v":{"$error":"#DIV/0!"}},{"$f":"SUMIF('renseignement agent'!$A$8:'renseignement agent'!$A$96,A39,'renseignement agent'!$G$8:'renseignement agent'!$G$96)","v":0},{"$f":"SUMIF(D39:AH39,\"cp\",D40:AH40)","v":0}]
[null,null,{"$f":"C39","v":0}]
[null,{"$f":"SUMIF('compteur trimestre'!$A$10:$A$78,A41,'compteur trimestre'!$AI$10:$AI$78)","v":0},{"$f":"SUM(AI41-B41)","v":0},null,null,null,null,null,null,null,null,null,null,null,null,null,null,null,null,null,null,null,null,null,null,null,null,null,null,null,null,null,null,null,{"$f":"SUM(D42:AH42)","v":0},{"$f":"C42","v":0},{"$f":"SUM(AM41/AL41)","v":{"$error":"#DIV/0!"}},{"$f":"SUMIF('renseignement agent'!$A$8:'renseignement agent'!$A$96,A41,'renseignement agent'!$G$8:'renseignement agent'!$G$96)","v":0},{"$f":"SUMIF(D41:AH41,\"cp\",D42:AH42)","v":0}]
[null,null,{"$f":"C41","v":0}]
[null,{"$f":"SUMIF('compteur trimestre'!$A$10:$A$78,A43,'compteur trimestre'!$AI$10:$AI$78)","v":0},{"$f":"SUM(AI43-B43)","v":0},null,null,null,null,null,null,null,null,null,null,null,null,null,null,null,null,null,null,null,null,null,null,null,null,null,null,null,null,null,null,null,{"$f":"SUM(D44:AH44)","v":0},{"$f":"C44","v":0},{"$f":"SUM(AM43/AL43)","v":{"$error":"#DIV/0!"}},{"$f":"SUMIF('renseignement agent'!$A$8:'renseignement agent'!$A$96,A43,'renseignement agent'!$G$8:'renseignement agent'!$G$96)","v":0},{"$f":"SUMIF(D43:AH43,\"cp\",D44:AH44)","v":0}]
[null,null,{"$f":"C43","v":0}]
[null,{"$f":"SUMIF('compteur trimestre'!$A$10:$A$78,A45,'compteur trimestre'!$AI$10:$AI$78)","v":0},{"$f":"SUM(AI45-B45)","v":0},null,null,null,null,null,null,null,null,null,null,null,null,null,null,null,null,null,null,null,null,null,null,null,null,null,null,null,null,null,null,null,{"$f":"SUM(D46:AH46)","v":0},{"$f":"C46","v":0},{"$f":"SUM(AM45/AL45)","v":{"$error":"#DIV/0!"}},{"$f":"SUMIF('renseignement agent'!$A$8:'renseignement agent'!$A$96,A45,'renseignement agent'!$G$8:'renseignement agent'!$G$96)","v":0},{"$f":"SUMIF(D45:AH45,\"cp\",D46:AH46)","v":0}]
[null,null,{"$f":"C45","v":0}]
[null,{"$f":"SUMIF('compteur trimestre'!$A$10:$A$78,A47,'compteur trimestre'!$AI$10:$AI$78)","v":0},{"$f":"SUM(AI47-B47)","v":0},null,null,null,null,null,null,null,null,null,null,null,null,null,null,null,null,null,null,null,null,null,null,null,null,null,null,null,null,null,null,null,{"$f":"SUM(D48:AH48)","v":0},{"$f":"C48","v":0},{"$f":"SUM(AM47/AL47)","v":{"$error":"#DIV/0!"}},{"$f":"SUMIF('renseignement agent'!$A$8:'renseignement agent'!$A$96,A47,'renseignement agent'!$G$8:'renseignement agent'!$G$96)","v":0},{"$f":"SUMIF(D47:AH47,\"cp\",D48:AH48)","v":0}]
[null,null,{"$f":"C47","v":0}]
[null,{"$f":"SUMIF('compteur trimestre'!$A$10:$A$78,A49,'compteur trimestre'!$AI$10:$AI$78)","v":0},{"$f":"SUM(AI49-B49)","v":0},null,null,null,null,null,null,null,null,null,null,null,null,null,null,null,null,null,null,null,null,null,null,null,null,null,null,null,null,null,null,null,{"$f":"SUM(D50:AH50)","v":0},{"$f":"C50","v":0},{"$f":"SUM(AM49/AL49)","v":{"$error":"#DIV/0!"}},{"$f":"SUMIF('renseignement agent'!$A$8:'renseignement agent'!$A$96,A49,'renseignement agent'!$G$8:'renseignement agent'!$G$96)","v":0},{"$f":"SUMIF(D49:AH49,\"cp\",D50:AH50)","v":0}]
[null,null,{"$f":"C49","v":0}]
[null,{"$f":"SUMIF('compteur trimestre'!$A$10:$A$78,A51,'compteur trimestre'!$AI$10:$AI$78)","v":0},{"$f":"SUM(AI51-B51)","v":0},null,null,null,null,null,null,null,null,null,null,null,null,null,null,null,null,null,null,null,null,null,null,null,null,null,null,null,null,null,null,null,{"$f":"SUM(D52:AH52)","v":0},{"$f":"C52","v":0},{"$f":"SUM(AM51/AL51)","v":{"$error":"#DIV/0!"}},{"$f":"SUMIF('renseignement agent'!$A$8:'renseignement agent'!$A$96,A51,'renseignement agent'!$G$8:'renseignement agent'!$G$96)","v":0},{"$f":"SUMIF(D51:AH51,\"cp\",D52:AH52)","v":0}]
[null,null,{"$f":"C51","v":0}]
[null,{"$f":"SUMIF('compteur trimestre'!$A$10:$A$78,A53,'compteur trimestre'!$AI$10:$AI$78)","v":0},{"$f":"SUM(AI53-B53)","v":0},null,null,null,null,null,null,null,null,null,null,null,null,null,null,null,null,null,null,null,null,null,null,null,null,null,null,null,null,null,null,null,{"$f":"SUM(D54:AH54)","v":0},{"$f":"C54","v":0},{"$f":"SUM(AM53/AL53)","v":{"$error":"#DIV/0!"}},{"$f":"SUMIF('renseignement agent'!$A$8:'renseignement agent'!$A$96,A53,'renseignement agent'!$G$8:'renseignement agent'!$G$96)","v":0},{"$f":"SUMIF(D53:AH53,\"cp\",D54:AH54)","v":0}]
[null,null,{"$f":"C53","v":0}]
[null,{"$f":"SUMIF('compteur trimestre'!$A$10:$A$78,A55,'compteur trimestre'!$AI$10:$AI$78)","v":0},{"$f":"SUM(AI55-B55)","v":0},null,null,null,null,null,null,null,null,null,null,null,null,null,null,null,null,null,null,null,null,null,null,null,null,null,null,null,null,null,null,null,{"$f":"SUM(D56:AH56)","v":0},{"$f":"C56","v":0},{"$f":"SUM(AM55/AL55)","v":{"$error":"#DIV/0!"}},{"$f":"SUMIF('renseignement agent'!$A$8:'renseignement agent'!$A$96,A55,'renseignement agent'!$G$8:'renseignement agent'!$G$96)","v":0},{"$f":"SUMIF(D55:AH55,\"cp\",D56:AH56)","v":0}]
[null,null,{"$f":"C55","v":0}]
[null,{"$f":"SUMIF('compteur trimestre'!$A$10:$A$78,A57,'compteur trimestre'!$AI$10:$AI$78)","v":0},{"$f":"SUM(AI57-B57)","v":0},null,null,null,null,null,null,null,null,null,null,null,null,null,null,null,null,null,null,null,null,null,null,null,null,null,null,null,null,null,null,null,{"$f":"SUM(D58:AH58)","v":0},{"$f":"C58","v":0},{"$f":"SUM(AM57/AL57)","v":{"$error":"#DIV/0!"}},{"$f":"SUMIF('renseignement agent'!$A$8:'renseignement agent'!$A$96,A57,'renseignement agent'!$G$8:'renseignement agent'!$G$96)","v":0},{"$f":"SUMIF(D57:AH57,\"cp\",D58:AH58)","v":0}]
[null,null,{"$f":"C57","v":0}]
[null,{"$f":"SUMIF('compteur trimestre'!$A$10:$A$78,A59,'compteur trimestre'!$AI$10:$AI$78)","v":0},{"$f":"SUM(AI59-B59)","v":0},null,null,null,null,null,null,null,null,null,null,null,null,null,null,null,null,null,null,null,null,null,null,null,null,null,null,null,null,null,null,null,{"$f":"SUM(D60:AH60)","v":0},{"$f":"C60","v":0},{"$f":"SUM(AM59/AL59)","v":{"$error":"#DIV/0!"}},{"$f":"SUMIF('renseignement agent'!$A$8:'renseignement agent'!$A$96,A59,'renseignement agent'!$G$8:'renseignement agent'!$G$96)","v":0},{"$f":"SUMIF(D59:AH59,\"cp\",D60:AH60)","v":0}]
[null,null,{"$f":"C59","v":0}]
[null,{"$f":"SUMIF('compteur trimestre'!$A$10:$A$78,A61,'compteur trimestre'!$AI$10:$AI$78)","v":0},{"$f":"SUM(AI61-B61)","v":0},null,null,null,null,null,null,null,null,null,null,null,null,null,null,null,null,null,null,null,null,null,null,null,null,null,null,null,null,null,null,null,{"$f":"SUM(D62:AH62)","v":0},{"$f":"C62","v":0},{"$f":"SUM(AM61/AL61)","v":{"$error":"#DIV/0!"}},{"$f":"SUMIF('renseignement agent'!$A$8:'renseignement agent'!$A$96,A61,'renseignement agent'!$G$8:'renseignement agent'!$G$96)","v":0},{"$f":"SUMIF(D61:AH61,\"cp\",D62:AH62)","v":0}]
[null,null,{"$f":"C61","v":0}]
[null,{"$f":"SUMIF('compteur trimestre'!$A$10:$A$78,A63,'compteur trimestre'!$AI$10:$AI$78)","v":0},{"$f":"SUM(AI63-B63)","v":0},null,null,null,null,null,null,null,null,null,null,null,null,null,null,null,null,null,null,null,null,null,null,null,null,null,null,null,null,null,null,null,{"$f":"SUM(D64:AH64)","v":0},{"$f":"C64","v":0},{"$f":"SUM(AM63/AL63)","v":{"$error":"#DIV/0!"}},{"$f":"SUMIF('renseignement agent'!$A$8:'renseignement agent'!$A$96,A63,'renseignement agent'!$G$8:'renseignement agent'!$G$96)","v":0},{"$f":"SUMIF(D63:AH63,\"cp\",D64:AH64)","v":0}]
[null,null,{"$f":"C63","v":0}]
[null,{"$f":"SUMIF('compteur trimestre'!$A$10:$A$78,A65,'compteur trimestre'!$AI$10:$AI$78)","v":0},{"$f":"SUM(AI65-B65)","v":0},null,null,null,null,null,null,null,null,null,null,null,null,null,null,null,null,null,null,null,null,null,null,null,null,null,null,null,null,null,null,null,{"$f":"SUM(D66:AH66)","v":0},{"$f":"C66","v":0},{"$f":"SUM(AM65/AL65)","v":{"$error":"#DIV/0!"}},{"$f":"SUMIF('renseignement agent'!$A$8:'renseignement agent'!$A$96,A65,'renseignement agent'!$G$8:'renseignement agent'!$G$96)","v":0},{"$f":"SUMIF(D65:AH65,\"cp\",D66:AH66)","v":0}]
[null,null,{"$f":"C65","v":0}]
[null,{"$f":"SUMIF('compteur trimestre'!$A$10:$A$78,A67,'compteur trimestre'!$AI$10:$AI$78)","v":0},{"$f":"SUM(AI67-B67)","v":0},null,null,null,null,null,null,null,null,null,null,null,null,null,null,null,null,null,null,null,null,null,null,null,null,null,null,null,null,null,null,null,{"$f":"SUM(D68:AH68)","v":0},{"$f":"C68","v":0},{"$f":"SUM(AM67/AL67)","v":{"$error":"#DIV/0!"}},{"$f":"SUMIF('renseignement agent'!$A$8:'renseignement agent'!$A$96,A67,'renseignement agent'!$G$8:'renseignement agent'!$G$96)","v":0},{"$f":"SUMIF(D67:AH67,\"cp\",D68:AH68)","v":0}]
[null,null,{"$f":"C67","v":0}]
[null,{"$f":"SUMIF('compteur trimestre'!$A$10:$A$78,A69,'compteur trimestre'!$AI$10:$AI$78)","v":0},{"$f":"SUM(AI69-B69)","v":0},null,null,null,null,null,null,null,null,null,null,null,null,null,null,null,null,null,null,null,null,null,null,null,null,null,null,null,null,null,null,null,{"$f":"SUM(D70:AH70)","v":0},{"$f":"C70","v":0},{"$f":"SUM(AM69/AL69)","v":{"$error":"#DIV/0!"}},{"$f":"SUMIF('renseignement agent'!$A$8:'renseignement agent'!$A$96,A69,'renseignement agent'!$G$8:'renseignement agent'!$G$96)","v":0},{"$f":"SUMIF(D69:AH69,\"cp\",D70:AH70)","v":0}]
[null,null,{"$f":"C69","v":0}]
[null,{"$f":"SUMIF('compteur trimestre'!$A$10:$A$78,A71,'compteur trimestre'!$AI$10:$AI$78)","v":0},{"$f":"SUM(AI71-B71)","v":0},null,null,null,null,null,null,null,null,null,null,null,null,null,null,null,null,null,null,null,null,null,null,null,null,null,null,null,null,null,null,null,{"$f":"SUM(D72:AH72)","v":0},{"$f":"C72","v":0},{"$f":"SUM(AM71/AL71)","v":{"$error":"#DIV/0!"}},{"$f":"SUMIF('renseignement agent'!$A$8:'renseignement agent'!$A$96,A71,'renseignement agent'!$G$8:'renseignement agent'!$G$96)","v":0},{"$f":"SUMIF(D71:AH71,\"cp\",D72:AH72)","v":0}]
[null,null,{"$f":"C71","v":0}]
[null,{"$f":"SUMIF('compteur trimestre'!$A$10:$A$78,A73,'compteur trimestre'!$AI$10:$AI$78)","v":0},{"$f":"SUM(AI73-B73)","v":0},null,null,null,null,null,null,null,null,null,null,null,null,null,null,null,null,null,null,null,null,null,null,null,null,null,null,null,null,null,null,null,{"$f":"SUM(D74:AH74)","v":0},{"$f":"C74","v":0},{"$f":"SUM(AM73/AL73)","v":{"$error":"#DIV/0!"}},{"$f":"SUMIF('renseignement agent'!$A$8:'renseignement agent'!$A$96,A73,'renseignement agent'!$G$8:'renseignement agent'!$G$96)","v":0},{"$f":"SUMIF(D73:AH73,\"cp\",D74:AH74)","v":0}]
[null,null,{"$f":"C73","v":0}]

{"sheet":"5","index":5,"n_rows":73,"n_cols":39,"rows_kept":73,"cut":false,"hidden":false,"merged":[[1,0,1,1],[2,0,2,1],[8,0,9,1],[10,34,13,34],[20,34,21,34],[22,34,23,34],[24,34,25,34],[20,1,21,1],[22,1,23,1],[24,1,25,1],[14,34,15,34],[16,34,17,34],[18,34,19,34],[14,1,15,1],[16,1,17,1],[18,1,19,1],[5,8,7,16],[5,17,7,23],[14,0,15,0],[16,0,17,0],[18,0,19,0],[20,0,21,0],[22,0,23,0],[24,0,25,0],[32,34,33,34],[34,34,35,34],[36,34,37,34],[32,0,33,0],[34,0,35,0],[36,0,37,0],[26,34,27,34],[28,34,29,34],[30,34,31,34],[28,0,29,0],[30,0,31,0],[26,1,27,1],[28,1,29,1],[26,0,27,0],[44,34,45,34],[46,34,47,34],[48,34,49,34],[44,0,45,0],[46,0,47,0],[48,0,49,0],[44,1,45,1],[38,34,39,34],[40,34,41,34],[42,34,43,34],[38,0,39,0],[40,0,41,0],[42,0,43,0],[42,1,43,1],[56,0,57,0],[58,0,59,0],[60,0,61,0],[58,1,59,1],[50,34,51,34],[52,34,53,34],[54,34,55,34],[50,0,51,0],[52,0,53,0],[54,0,55,0],[68,0,69,0],[70,0,71,0],[72,0,73,0],[72,1,73,1],[62,34,63,34],[64,34,65,34],[66,34,67,34],[62,0,63,0],[64,0,65,0],[66,0,67,0],[74,3,75,3],[74,4,75,4],[74,5,75,5],[74,6,75,6],[74,7,75,7],[74,8,75,8],[68,34,69,34],[70,34,71,34],[72,34,73,34],[74,17,75,17],[74,18,75,18],[74,19,75,19],[74,20,75,20],[74,9,75,9],[74,10,75,10],[74,11,75,11],[74,12,75,12],[74,13,75,13],[74,14,75,14],[74,33,75,33],[74,27,75,27],[74,28,75,28],[74,29,75,29],[74,30,75,30],[74,31,75,31],[74,32,75,32],[74,21,75,21],[74,22,75,22],[74,23,75,23],[74,24,75,24],[74,25,75,25],[74,26,75,26],[74,15,75,15],[74,16,75,16],[20,35,21,35],[22,35,23,35],[24,35,25,35],[60,1,61,1],[62,1,63,1],[64,1,65,1],[66,1,67,1],[68,1,69,1],[70,1,71,1],[46,1,47,1],[48,1,49,1],[50,1,51,1],[52,1,53,1],[54,1,55,1],[56,1,57,1],[30,1,31,1],[32,1,33,1],[34,1,35,1],[36,1,37,1],[38,1,39,1],[40,1,41,1],[56,34,57,34],[58,34,59,34],[60,34,61,34],[64,35,65,35],[66,35,67,35],[68,35,69,35],[70,35,71,35],[72,35,73,35],[50,35,51,35],[52,35,53,35],[54,35,55,35],[56,35,57,35],[58,35,59,35],[60,35,61,35],[10,36,13,36],[10,37,13,37],[14,36,15,36],[14,37,15,37],[14,38,15,38],[16,36,17,36],[16,37,17,37],[16,38,17,38],[62,35,63,35],[38,35,39,35],[40,35,41,35],[42,35,43,35],[44,35,45,35],[46,35,47,35],[48,35,49,35],[26,35,27,35],[28,35,29,35],[30,35,31,35],[32,35,33,35],[34,35,35,35],[36,35,37,35],[14,35,15,35],[16,35,17,35],[18,35,19,35],[22,36,23,36],[22,37,23,37],[22,38,23,38],[24,36,25,36],[24,37,25,37],[24,38,25,38],[18,36,19,36],[18,37,19,37],[18,38,19,38],[20,36,21,36],[20,37,21,37],[20,38,21,38],[30,36,31,36],[30,37,31,37],[30,38,31,38],[32,36,33,36],[32,37,33,37],[32,38,33,38],[26,36,27,36],[26,37,27,37],[26,38,27,38],[28,36,29,36],[28,37,29,37],[28,38,29,38],[38,36,39,36],[38,37,39,37],[38,38,39,38],[40,36,41,36],[40,37,41,37],[40,38,41,38],[34,36,35,36],[34,37,35,37],[34,38,35,38],[36,36,37,36],[36,37,37,37],[36,38,37,38],[46,36,47,36],[46,37,47,37],[46,38,47,38],[48,36,49,36],[48,37,49,37],[48,38,49,38],[42,36,43,36],[42,37,43,37],[42,38,43,38],[44,36,45,36],[44,37,45,37],[44,38,45,38],[60,37,61,37],[60,38,61,38],[54,36,55,36],[54,37,55,37],[54,38,55,38],[56,36,57,36],[56,37,57,37],[56,38,57,38],[50,36,51,36],[50,37,51,37],[50,38,51,38],[52,36,53,36],[52,37,53,37],[52,38,53,38],[0,19,0,20],[0,21,0,22],[70,36,71,36],[70,37,71,37],[70,38,71,38],[72,36,73,36],[72,37,73,37],[72,38,73,38],[66,36,67,36],[66,37,67,37],[66,38,67,38],[68,36,69,36],[68,37,69,37],[68,38,69,38],[62,36,63,36],[62,37,63,37],[62,38,63,38],[64,36,65,36],[64,37,65,37],[64,38,65,38],[58,36,59,36],[58,37,59,37],[58,38,59,38],[60,36,61,36],[0,1,0,2],[0,23,0,24],[0,25,0,26],[0,27,0,28],[0,30,2,31],[1,5,2,6],[1,7,2,8],[1,9,2,10],[1,11,2,12],[1,13,2,14],[1,15,2,16],[1,17,2,18],[1,19,2,20],[1,21,2,22],[1,23,2,24],[1,25,2,26],[1,27,2,28],[0,5,0,6],[0,7,0,8],[0,9,0,10],[0,11,0,12],[0,13,0,14],[0,15,0,16],[0,17,0,18]]}
[null,{"$f":"'1'!B1:C1","v":"secteur aubagne"},null,null,null,{"$f":"'1'!C2","v":"janvier"},null,{"$f":"'2'!C2","v":"février"},null,{"$f":"'3'!C2","v":"mars"},null,{"$f":"'4'!C2","v":"avril"},null,{"$f":"'5'!C2","v":"mai"},null,{"$f":"'6'!C2","v":"juin"},null,{"$f":"'7'!C2","v":"juillet"},null,{"$f":"'8'!C2","v":"août"},null,{"$f":"'9'!C2","v":"septembre"},null,{"$f":"'10'!C2","v":"octobre"},null,{"$f":"'11'!C2","v":"novembre"},null,{"$f":"'12'!C2","v":"décembre"}]
["PLANNING MOIS DE :",null,{"$f":"TEXT(B5,\"MMMM\")","v":"mai"}]
["ANNEE",null,{"$f":"TEXT(B6,\"aaaa\")","v":"2018"}]
[]
["date de debut ",{"$f":"'4'!B5+'4'!A9","v":"2018-05-01"}]
["date de fin ",{"$f":"EOMONTH(B5,0)","v":"2018-05-31"},null,null,null,null,null,null,{"$f":"C2","v":"mai"},null,null,null,null,null,null,null,null,{"$f":"C3","v":"2018"}]
[null,{"$f":"TODAY()","v":"2017-11-08"}]
[]
[{"$f":"SUMIF(parametre!$B$4:'parametre'!$B$15,C2,parametre!$C$4:'parametre'!$C$15)","v":31}]
[]
[null,null,null,{"$f":"B5","v":"2018-05-01"},{"$f":"D11+1","v":"2018-05-02"},{"$f":"E11+1","v":"2018-05-03"},"2018-05-04","2018-05-05","2018-05-06","2018-05-07","2018-05-08","2018-05-09","2018-05-10","2018-05-11","2018-05-12","2018-05-13","2018-05-14","2018-05-15","2018-05-16","2018-05-17","2018-05-18","2018-05-19","2018-05-20","2018-05-21","2018-05-22","2018-05-23","2018-05-24","2018-05-25","2018-05-26","2018-05-27","2018-05-28","2018-05-29","2018-05-30",{"$f":"IFERROR(IF(AG11+1>B6,\"\",AG11+1),\"\")","v":"2018-05-31"},null,null,"CP MOIS","CP 1 JOURNEE"]
[null,null,null,{"$f":"IF(D14=\"L\",\"S \"&WEEKNUM(D11),\"\")","v":""},{"$f":"IF(E14=\"L\",\"S \"&WEEKNUM(E11),\"\")","v":""},"","","","","","","","","","","","","","","","","","","","","","","","","","","","",{"$f":"IFERROR(IF(AH14=\"L\",\"S \"&WEEKNUM(AH11),\"\"),\"\")","v":""}]
[null,null,"MOIS",{"$f":"DAY(D11)","v":1},{"$f":"DAY(E11)","v":2},3,4,5,6,7,8,9,10,11,12,13,14,15,16,17,18,19,20,21,22,23,24,25,26,27,28,29,30,{"$f":"IFERROR(DAY(AH11),\"\")","v":31}]
[null,"contrat",{"$f":"'1'!C14","v":"trimestre"},{"$f":"WEEKDAY(D11)","v":"1900-01-03"},{"$f":"WEEKDAY(E11)","v":"1900-01-04"},"1900-01-05","1900-01-06","1900-01-07","1900-01-01","1900-01-02","1900-01-03","1900-01-04","1900-01-05","1900-01-06","1900-01-07","1900-01-01","1900-01-02","1900-01-03","1900-01-04","1900-01-05","1900-01-06","1900-01-07","1900-01-01","1900-01-02","1900-01-03","1900-01-04","1900-01-05","1900-01-06","1900-01-07","1900-01-01","1900-01-02","1900-01-03","1900-01-04",{"$f":"IFERROR(WEEKDAY(AH11),\"\")","v":"1900-01-05"}]
[null,{"$f":"SUMIF('compteur trimestre'!$A$10:$A$78,A15,'compteur trimestre'!$AI$10:$AI$78)","v":0},{"$f":"AI15-B15","v":0},null,null,null,null,null,null,null,null,null,null,null,null,null,null,null,null,null,null,null,null,null,null,null,null,null,null,null,null,null,null,null,{"$f":"SUM(D16:AH16)","v":0},{"$f":"C16","v":0},{"$f":"SUM(AM15/AL15)","v":{"$error":"#DIV/0!"}},{"$f":"SUMIF('renseignement agent'!$A$8:'renseignement agent'!$A$96,A15,'renseignement agent'!$G$8:'renseignement agent'!$G$96)","v":0},{"$f":"SUMIF(D15:AH15,\"cp\",D16:AH16)","v":0}]
[null,null,{"$f":"SUMIF('4'!$A$15:'4'!$A$73,A15,'4'!$AJ$15:'4'!$AJ$73)+C15","v":0}]
[null,{"$f":"SUMIF('compteur trimestre'!$A$10:$A$78,A17,'compteur trimestre'!$AI$10:$AI$78)","v":0},null,null,null,null,null,null,null,null,null,null,null,null,null,null,null,null,null,null,null,null,null,null,null,null,null,null,null,null,null,null,null,null,{"$f":"SUM(D18:AH18)","v":0},{"$f":"C18","v":0},{"$f":"SUM(AM17/AL17)","v":{"$error":"#DIV/0!"}},{"$f":"SUMIF('renseignement agent'!$A$8:'renseignement agent'!$A$96,A17,'renseignement agent'!$G$8:'renseignement agent'!$G$96)","v":0},{"$f":"SUMIF(D17:AH17,\"cp\",D18:AH18)","v":0}]
[]
[null,{"$f":"SUMIF('compteur trimestre'!$A$10:$A$78,A19,'compteur trimestre'!$AI$10:$AI$78)","v":0},null,null,null,null,null,null,null,null,null,null,null,null,null,null,null,null,null,null,null,null,null,null,null,null,null,null,null,null,null,null,null,null,{"$f":"SUM(D20:AH20)","v":0},{"$f":"C20","v":0},{"$f":"SUM(AM19/AL19)","v":{"$error":"#DIV/0!"}},{"$f":"SUMIF('renseignement agent'!$A$8:'renseignement agent'!$A$96,A19,'renseignement agent'!$G$8:'renseignement agent'!$G$96)","v":0},{"$f":"SUMIF(D19:AH19,\"cp\",D20:AH20)","v":0}]
[]
[null,{"$f":"SUMIF('compteur trimestre'!$A$10:$A$78,A21,'compteur trimestre'!$AI$10:$AI$78)","v":0},null,null,null,null,null,null,null,null,null,null,null,null,null,null,null,null,null,null,null,null,null,null,null,null,null,null,null,null,null,null,null,null,{"$f":"SUM(D22:AH22)","v":0},{"$f":"C22","v":0},{"$f":"SUM(AM21/AL21)","v":{"$error":"#DIV/0!"}},{"$f":"SUMIF('renseignement agent'!$A$8:'renseignement agent'!$A$96,A21,'renseignement agent'!$G$8:'renseignement agent'!$G$96)","v":0},{"$f":"SUMIF(D21:AH21,\"cp\",D22:AH22)","v":0}]
[]
[null,{"$f":"SUMIF('compteur trimestre'!$A$10:$A$78,A23,'compteur trimestre'!$AI$10:$AI$78)","v":0},null,null,null,null,null,null,null,null,null,null,null,null,null,null,null,null,null,null,null,null,null,null,null,null,null,null,null,null,null,null,null,null,{"$f":"SUM(D24:AH24)","v":0},{"$f":"C24","v":0},{"$f":"SUM(AM23/AL23)","v":{"$error":"#DIV/0!"}},{"$f":"SUMIF('renseignement agent'!$A$8:'renseignement agent'!$A$96,A23,'renseignement agent'!$G$8:'renseignement agent'!$G$96)","v":0},{"$f":"SUMIF(D23:AH23,\"cp\",D24:AH24)","v":0}]
[]
[null,{"$f":"SUMIF('compteur trimestre'!$A$10:$A$78,A25,'compteur trimestre'!$AI$10:$AI$78)","v":0},null,null,null,null,null,null,null,null,null,null,null,null,null,null,null,null,null,null,null,null,null,null,null,null,null,null,null,null,null,null,null,null,{"$f":"SUM(D26:AH26)","v":0},{"$f":"C26","v":0},{"$f":"SUM(AM25/AL25)","v":{"$error":"#DIV/0!"}},{"$f":"SUMIF('renseignement agent'!$A$8:'renseignement agent'!$A$96,A25,'renseignement agent'!$G$8:'renseignement agent'!$G$96)","v":0},{"$f":"SUMIF(D25:AH25,\"cp\",D26:AH26)","v":0}]
[]
[null,{"$f":"SUMIF('compteur trimestre'!$A$10:$A$78,A27,'compteur trimestre'!$AI$10:$AI$78)","v":0},null,null,null,null,null,null,null,null,null,null,null,null,null,null,null,null,null,null,null,null,null,null,null,null,null,null,null,null,null,null,null,null,{"$f":"SUM(D28:AH28)","v":0},{"$f":"C28","v":0},{"$f":"SUM(AM27/AL27)","v":{"$error":"#DIV/0!"}},{"$f":"SUMIF('renseignement agent'!$A$8:'renseignement agent'!$A$96,A27,'renseignement agent'!$G$8:'renseignement agent'!$G$96)","v":0},{"$f":"SUMIF(D27:AH27,\"cp\",D28:AH28)","v":0}]
[]
[null,{"$f":"SUMIF('compteur trimestre'!$A$10:$A$78,A29,'compteur trimestre'!$AI$10:$AI$78)","v":0},null,null,null,null,null,null,null,null,null,null,null,null,null,null,null,null,null,null,null,null,null,null,null,null,null,null,null,null,null,null,null,null,{"$f":"SUM(D30:AH30)","v":0},{"$f":"C30","v":0},{"$f":"SUM(AM29/AL29)","v":{"$error":"#DIV/0!"}},{"$f":"SUMIF('renseignement agent'!$A$8:'renseignement agent'!$A$96,A29,'renseignement agent'!$G$8:'renseignement agent'!$G$96)","v":0},{"$f":"SUMIF(D29:AH29,\"cp\",D30:AH30)","v":0}]
[]
[null,{"$f":"SUMIF('compteur trimestre'!$A$10:$A$78,A31,'compteur trimestre'!$AI$10:$AI$78)","v":0},null,null,null,null,null,null,null,null,null,null,null,null,null,null,null,null,null,null,null,null,null,null,null,null,null,null,null,null,null,null,null,null,{"$f":"SUM(D32:AH32)","v":0},{"$f":"C32","v":0},{"$f":"SUM(AM31/AL31)","v":{"$error":"#DIV/0!"}},{"$f":"SUMIF('renseignement agent'!$A$8:'renseignement agent'!$A$96,A31,'renseignement agent'!$G$8:'renseignement agent'!$G$96)","v":0},{"$f":"SUMIF(D31:AH31,\"cp\",D32:AH32)","v":0}]
[]
[null,{"$f":"SUMIF('compteur trimestre'!$A$10:$A$78,A33,'compteur trimestre'!$AI$10:$AI$78)","v":0},null,null,null,null,null,null,null,null,null,null,null,null,null,null,null,null,null,null,null,null,null,null,null,null,null,null,null,null,null,null,null,null,{"$f":"SUM(D34:AH34)","v":0},{"$f":"C34","v":0},{"$f":"SUM(AM33/AL33)","v":{"$error":"#DIV/0!"}},{"$f":"SUMIF('renseignement agent'!$A$8:'renseignement agent'!$A$96,A33,'renseignement agent'!$G$8:'renseignement agent'!$G$96)","v":0},{"$f":"SUMIF(D33:AH33,\"cp\",D34:AH34)","v":0}]
[]
[null,{"$f":"SUMIF('compteur trimestre'!$A$10:$A$78,A35,'compteur trimestre'!$AI$10:$AI$78)","v":0},null,null,null,null,null,null,null,null,null,null,null,null,null,null,null,null,null,null,null,null,null,null,null,null,null,null,null,null,null,null,null,null,{"$f":"SUM(D36:AH36)","v":0},{"$f":"C36","v":0},{"$f":"SUM(AM35/AL35)","v":{"$error":"#DIV/0!"}},{"$f":"SUMIF('renseignement agent'!$A$8:'renseignement agent'!$A$96,A35,'renseignement agent'!$G$8:'renseignement agent'!$G$96)","v":0},{"$f":"SUMIF(D35:AH35,\"cp\",D36:AH36)","v":0}]
[]
[null,{"$f":"SUMIF('compteur trimestre'!$A$10:$A$78,A37,'compteur trimestre'!$AI$10:$AI$78)","v":0},null,null,null,null,null,null,null,null,null,null,null,null,null,null,null,null,null,null,null,null,null,null,null,null,null,null,null,null,null,null,null,null,{"$f":"SUM(D38:AH38)","v":0},{"$f":"C38","v":0},{"$f":"SUM(AM37/AL37)","v":{"$error":"#DIV/0!"}},{"$f":"SUMIF('renseignement agent'!$A$8:'renseignement agent'!$A$96,A37,'renseignement agent'!$G$8:'renseignement agent'!$G$96)","v":0},{"$f":"SUMIF(D37:AH37,\"cp\",D38:AH38)","v":0}]
[]
[null,{"$f":"SUMIF('compteur trimestre'!$A$10:$A$78,A39,'compteur trimestre'!$AI$10:$AI$78)","v":0},null,null,null,null,null,null,null,null,null,null,null,null,null,null,null,null,null,null,null,null,null,null,null,null,null,null,null,null,null,null,null,null,{"$f":"SUM(D40:AH40)","v":0},{"$f":"C40","v":0},{"$f":"SUM(AM39/AL39)","v":{"$error":"#DIV/0!"}},{"$f":"SUMIF('renseignement agent'!$A$8:'renseignement agent'!$A$96,A39,'renseignement agent'!$G$8:'renseignement agent'!$G$96)","v":0},{"$f":"SUMIF(D39:AH39,\"cp\",D40:AH40)","v":0}]
[]
[null,{"$f":"SUMIF('compteur trimestre'!$A$10:$A$78,A41,'compteur trimestre'!$AI$10:$AI$78)","v":0},null,null,null,null,null,null,null,null,null,null,null,null,null,null,null,null,null,null,null,null,null,null,null,null,null,null,null,null,null,null,null,null,{"$f":"SUM(D42:AH42)","v":0},{"$f":"C42","v":0},{"$f":"SUM(AM41/AL41)","v":{"$error":"#DIV/0!"}},{"$f":"SUMIF('renseignement agent'!$A$8:'renseignement agent'!$A$96,A41,'renseignement agent'!$G$8:'renseignement agent'!$G$96)","v":0},{"$f":"SUMIF(D41:AH41,\"cp\",D42:AH42)","v":0}]
[]
[null,{"$f":"SUMIF('compteur trimestre'!$A$10:$A$78,A43,'compteur trimestre'!$AI$10:$AI$78)","v":0},null,null,null,null,null,null,null,null,null,null,null,null,null,null,null,null,null,null,null,null,null,null,null,null,null,null,null,null,null,null,null,null,{"$f":"SUM(D44:AH44)","v":0},{"$f":"C44","v":0},{"$f":"SUM(AM43/AL43)","v":{"$error":"#DIV/0!"}},{"$f":"SUMIF('renseignement agent'!$A$8:'renseignement agent'!$A$96,A43,'renseignement agent'!$G$8:'renseignement agent'!$G$96)","v":0},{"$f":"SUMIF(D43:AH43,\"cp\",D44:AH44)","v":0}]
[]
[null,{"$f":"SUMIF('compteur trimestre'!$A$10:$A$78,A45,'compteur trimestre'!$AI$10:$AI$78)","v":0},null,null,null,null,null,null,null,null,null,null,null,null,null,null,null,null,null,null,null,null,null,null,null,null,null,null,null,null,null,null,null,null,{"$f":"SUM(D46:AH46)","v":0},{"$f":"C46","v":0},{"$f":"SUM(AM45/AL45)","v":{"$error":"#DIV/0!"}},{"$f":"SUMIF('renseignement agent'!$A$8:'renseignement agent'!$A$96,A45,'renseignement agent'!$G$8:'renseignement agent'!$G$96)","v":0},{"$f":"SUMIF(D45:AH45,\"cp\",D46:AH46)","v":0}]
[]
[null,{"$f":"SUMIF('compteur trimestre'!$A$10:$A$78,A47,'compteur trimestre'!$AI$10:$AI$78)","v":0},null,null,null,null,null,null,null,null,null,null,null,null,null,null,null,null,null,null,null,null,null,null,null,null,null,null,null,null,null,null,null,null,{"$f":"SUM(D48:AH48)","v":0},{"$f":"C48","v":0},{"$f":"SUM(AM47/AL47)","v":{"$error":"#DIV/0!"}},{"$f":"SUMIF('renseignement agent'!$A$8:'renseignement agent'!$A$96,A47,'renseignement agent'!$G$8:'renseignement agent'!$G$96)","v":0},{"$f":"SUMIF(D47:AH47,\"cp\",D48:AH48)","v":0}]
[]
[null,{"$f":"SUMIF('compteur trimestre'!$A$10:$A$78,A49,'compteur trimestre'!$AI$10:$AI$78)","v":0},null,null,null,null,null,null,null,null,null,null,null,null,null,null,null,null,null,null,null,null,null,null,null,null,null,null,null,null,null,null,null,null,{"$f":"SUM(D50:AH50)","v":0},{"$f":"C50","v":0},{"$f":"SUM(AM49/AL49)","v":{"$error":"#DIV/0!"}},{"$f":"SUMIF('renseignement agent'!$A$8:'renseignement agent'!$A$96,A49,'renseignement agent'!$G$8:'renseignement agent'!$G$96)","v":0},{"$f":"SUMIF(D49:AH49,\"cp\",D50:AH50)","v":0}]
[]
[null,{"$f":"SUMIF('compteur trimestre'!$A$10:$A$78,A51,'compteur trimestre'!$AI$10:$AI$78)","v":0},null,null,null,null,null,null,null,null,null,null,null,null,null,null,null,null,null,null,null,null,null,null,null,null,null,null,null,null,null,null,null,null,{"$f":"SUM(D52:AH52)","v":0},{"$f":"C52","v":0},{"$f":"SUM(AM51/AL51)","v":{"$error":"#DIV/0!"}},{"$f":"SUMIF('renseignement agent'!$A$8:'renseignement agent'!$A$96,A51,'renseignement agent'!$G$8:'renseignement agent'!$G$96)","v":0},{"$f":"SUMIF(D51:AH51,\"cp\",D52:AH52)","v":0}]
[]
[null,{"$f":"SUMIF('compteur trimestre'!$A$10:$A$78,A53,'compteur trimestre'!$AI$10:$AI$78)","v":0},null,null,null,null,null,null,null,null,null,null,null,null,null,null,null,null,null,null,null,null,null,null,null,null,null,null,null,null,null,null,null,null,{"$f":"SUM(D54:AH54)","v":0},{"$f":"C54","v":0},{"$f":"SUM(AM53/AL53)","v":{"$error":"#DIV/0!"}},{"$f":"SUMIF('renseignement agent'!$A$8:'renseignement agent'!$A$96,A53,'renseignement agent'!$G$8:'renseignement agent'!$G$96)","v":0},{"$f":"SUMIF(D53:AH53,\"cp\",D54:AH54)","v":0}]
[]
[null,{"$f":"SUMIF('compteur trimestre'!$A$10:$A$78,A55,'compteur trimestre'!$AI$10:$AI$78)","v":0},null,null,null,null,null,null,null,null,null,null,null,null,null,null,null,null,null,null,null,null,null,null,null,null,null,null,null,null,null,null,null,null,{"$f":"SUM(D56:AH56)","v":0},{"$f":"C56","v":0},{"$f":"SUM(AM55/AL55)","v":{"$error":"#DIV/0!"}},{"$f":"SUMIF('renseignement agent'!$A$8:'renseignement agent'!$A$96,A55,'renseignement agent'!$G$8:'renseignement agent'!$G$96)","v":0},{"$f":"SUMIF(D55:AH55,\"cp\",D56:AH56)","v":0}]
[]
[null,{"$f":"SUMIF('compteur trimestre'!$A$10:$A$78,A57,'compteur trimestre'!$AI$10:$AI$78)","v":0},null,null,null,null,null,null,null,null,null,null,null,null,null,null,null,null,null,null,null,null,null,null,null,null,null,null,null,null,null,null,null,null,{"$f":"SUM(D58:AH58)","v":0},{"$f":"C58","v":0},{"$f":"SUM(AM57/AL57)","v":{"$error":"#DIV/0!"}},{"$f":"SUMIF('renseignement agent'!$A$8:'renseignement agent'!$A$96,A57,'renseignement agent'!$G$8:'renseignement agent'!$G$96)","v":0},{"$f":"SUMIF(D57:AH57,\"cp\",D58:AH58)","v":0}]
[]
[null,{"$f":"SUMIF('compteur trimestre'!$A$10:$A$78,A59,'compteur trimestre'!$AI$10:$AI$78)","v":0},null,null,null,null,null,null,null,null,null,null,null,null,null,null,null,null,null,null,null,null,null,null,null,null,null,null,null,null,null,null,null,null,{"$f":"SUM(D60:AH60)","v":0},{"$f":"C60","v":0},{"$f":"SUM(AM59/AL59)","v":{"$error":"#DIV/0!"}},{"$f":"SUMIF('renseignement agent'!$A$8:'renseignement agent'!$A$96,A59,'renseignement agent'!$G$8:'renseignement agent'!$G$96)","v":0},{"$f":"SUMIF(D59:AH59,\"cp\",D60:AH60)","v":0}]
[]
[null,{"$f":"SUMIF('compteur trimestre'!$A$10:$A$78,A61,'compteur trimestre'!$AI$10:$AI$78)","v":0},null,null,null,null,null,null,null,null,null,null,null,null,null,null,null,null,null,null,null,null,null,null,null,null,null,null,null,null,null,null,null,null,{"$f":"SUM(D62:AH62)","v":0},{"$f":"C62","v":0},{"$f":"SUM(AM61/AL61)","v":{"$error":"#DIV/0!"}},{"$f":"SUMIF('renseignement agent'!$A$8:'renseignement agent'!$A$96,A61,'renseignement agent'!$G$8:'renseignement agent'!$G$96)","v":0},{"$f":"SUMIF(D61:AH61,\"cp\",D62:AH62)","v":0}]
[]
[null,{"$f":"SUMIF('compteur trimestre'!$A$10:$A$78,A63,'compteur trimestre'!$AI$10:$AI$78)","v":0},null,null,null,null,null,null,null,null,null,null,null,null,null,null,null,null,null,null,null,null,null,null,null,null,null,null,null,null,null,null,null,null,{"$f":"SUM(D64:AH64)","v":0},{"$f":"C64","v":0},{"$f":"SUM(AM63/AL63)","v":{"$error":"#DIV/0!"}},{"$f":"SUMIF('renseignement agent'!$A$8:'renseignement agent'!$A$96,A63,'renseignement agent'!$G$8:'renseignement agent'!$G$96)","v":0},{"$f":"SUMIF(D63:AH63,\"cp\",D64:AH64)","v":0}]
[]
[null,{"$f":"SUMIF('compteur trimestre'!$A$10:$A$78,A65,'compteur trimestre'!$AI$10:$AI$78)","v":0},null,null,null,null,null,null,null,null,null,null,null,null,null,null,null,null,null,null,null,null,null,null,null,null,null,null,null,null,null,null,null,null,{"$f":"SUM(D66:AH66)","v":0},{"$f":"C66","v":0},{"$f":"SUM(AM65/AL65)","v":{"$error":"#DIV/0!"}},{"$f":"SUMIF('renseignement agent'!$A$8:'renseignement agent'!$A$96,A65,'renseignement agent'!$G$8:'renseignement agent'!$G$96)","v":0},{"$f":"SUMIF(D65:AH65,\"cp\",D66:AH66)","v":0}]
[]
[null,{"$f":"SUMIF('compteur trimestre'!$A$10:$A$78,A67,'compteur trimestre'!$AI$10:$AI$78)","v":0},null,null,null,null,null,null,null,null,null,null,null,null,null,null,null,null,null,null,null,null,null,null,null,null,null,null,null,null,null,null,null,null,{"$f":"SUM(D68:AH68)","v":0},{"$f":"C68","v":0},{"$f":"SUM(AM67/AL67)","v":{"$error":"#DIV/0!"}},{"$f":"SUMIF('renseignement agent'!$A$8:'renseignement agent'!$A$96,A67,'renseignement agent'!$G$8:'renseignement agent'!$G$96)","v":0},{"$f":"SUMIF(D67:AH67,\"cp\",D68:AH68)","v":0}]
[]
[null,{"$f":"SUMIF('compteur trimestre'!$A$10:$A$78,A69,'compteur trimestre'!$AI$10:$AI$78)","v":0},null,null,null,null,null,null,null,null,null,null,null,null,null,null,null,null,null,null,null,null,null,null,null,null,null,null,null,null,null,null,null,null,{"$f":"SUM(D70:AH70)","v":0},{"$f":"C70","v":0},{"$f":"SUM(AM69/AL69)","v":{"$error":"#DIV/0!"}},{"$f":"SUMIF('renseignement agent'!$A$8:'renseignement agent'!$A$96,A69,'renseignement agent'!$G$8:'renseignement agent'!$G$96)","v":0},{"$f":"SUMIF(D69:AH69,\"cp\",D70:AH70)","v":0}]
[]
[null,{"$f":"SUMIF('compteur trimestre'!$A$10:$A$78,A71,'compteur trimestre'!$AI$10:$AI$78)","v":0},null,null,null,null,null,null,null,null,null,null,null,null,null,null,null,null,null,null,null,null,null,null,null,null,null,null,null,null,null,null,null,null,{"$f":"SUM(D72:AH72)","v":0},{"$f":"C72","v":0},{"$f":"SUM(AM71/AL71)","v":{"$error":"#DIV/0!"}},{"$f":"SUMIF('renseignement agent'!$A$8:'renseignement agent'!$A$96,A71,'renseignement agent'!$G$8:'renseignement agent'!$G$96)","v":0},{"$f":"SUMIF(D71:AH71,\"cp\",D72:AH72)","v":0}]
[]
[null,{"$f":"SUMIF('compteur trimestre'!$A$10:$A$78,A73,'compteur trimestre'!$AI$10:$AI$78)","v":0},null,null,null,null,null,null,null,null,null,null,null,null,null,null,null,null,null,null,null,null,null,null,null,null,null,null,null,null,null,null,null,null,{"$f":"SUM(D74:AH74)","v":0},{"$f":"C74","v":0},{"$f":"SUM(AM73/AL73)","v":{"$error":"#DIV/0!"}},{"$f":"SUMIF('renseignement agent'!$A$8:'renseignement agent'!$A$96,A73,'renseignement agent'!$G$8:'renseignement agent'!$G$96)","v":0},{"$f":"SUMIF(D73:AH73,\"cp\",D74:AH74)","v":0}]

{"sheet":"6","index":6,"n_rows":74,"n_cols":39,"rows_kept":74,"cut":false,"hidden":false,"merged":[[1,0,1,1],[2,0,2,1],[8,0,9,1],[10,34,13,34],[20,34,21,34],[22,34,23,34],[24,34,25,34],[20,1,21,1],[22,1,23,1],[24,1,25,1],[14,34,15,34],[16,34,17,34],[18,34,19,34],[14,1,15,1],[16,1,17,1],[18,1,19,1],[5,8,7,16],[5,17,7,23],[14,0,15,0],[16,0,17,0],[18,0,19,0],[20,0,21,0],[22,0,23,0],[24,0,25,0],[32,34,33,34],[34,34,35,34],[36,34,37,34],[32,0,33,0],[34,0,35,0],[36,0,37,0],[26,34,27,34],[28,34,29,34],[30,34,31,34],[28,0,29,0],[30,0,31,0],[26,1,27,1],[28,1,29,1],[26,0,27,0],[44,34,45,34],[46,34,47,34],[48,34,49,34],[44,0,45,0],[46,0,47,0],[48,0,49,0],[44,1,45,1],[38,34,39,34],[40,34,41,34],[42,34,43,34],[38,0,39,0],[40,0,41,0],[42,0,43,0],[42,1,43,1],[56,0,57,0],[58,0,59,0],[60,0,61,0],[58,1,59,1],[50,34,51,34],[52,34,53,34],[54,34,55,34],[50,0,51,0],[52,0,53,0],[54,0,55,0],[68,0,69,0],[70,0,71,0],[72,0,73,0],[72,1,73,1],[62,34,63,34],[64,34,65,34],[66,34,67,34],[62,0,63,0],[64,0,65,0],[66,0,67,0],[74,3,75,3],[74,4,75,4],[74,5,75,5],[74,6,75,6],[74,7,75,7],[74,8,75,8],[68,34,69,34],[70,34,71,34],[72,34,73,34],[74,17,75,17],[74,18,75,18],[74,19,75,19],[74,20,75,20],[74,9,75,9],[74,10,75,10],[74,11,75,11],[74,12,75,12],[74,13,75,13],[74,14,75,14],[74,33,75,33],[74,27,75,27],[74,28,75,28],[74,29,75,29],[74,30,75,30],[74,31,75,31],[74,32,75,32],[74,21,75,21],[74,22,75,22],[74,23,75,23],[74,24,75,24],[74,25,75,25],[74,26,75,26],[74,15,75,15],[74,16,75,16],[20,35,21,35],[22,35,23,35],[24,35,25,35],[60,1,61,1],[62,1,63,1],[64,1,65,1],[66,1,67,1],[68,1,69,1],[70,1,71,1],[46,1,47,1],[48,1,49,1],[50,1,51,1],[52,1,53,1],[54,1,55,1],[56,1,57,1],[30,1,31,1],[32,1,33,1],[34,1,35,1],[36,1,37,1],[38,1,39,1],[40,1,41,1],[56,34,57,34],[58,34,59,34],[60,34,61,34],[64,35,65,35],[66,35,67,35],[68,35,69,35],[70,35,71,35],[72,35,73,35],[50,35,51,35],[52,35,53,35],[54,35,55,35],[56,35,57,35],[58,35,59,35],[60,35,61,35],[10,36,13,36],[10,37,13,37],[14,36,15,36],[14,37,15,37],[14,38,15,38],[16,36,17,36],[16,37,17,37],[16,38,17,38],[62,35,63,35],[38,35,39,35],[40,35,41,35],[42,35,43,35],[44,35,45,35],[46,35,47,35],[48,35,49,35],[26,35,27,35],[28,35,29,35],[30,35,31,35],[32,35,33,35],[34,35,35,35],[36,35,37,35],[14,35,15,35],[16,35,17,35],[18,35,19,35],[22,36,23,36],[22,37,23,37],[22,38,23,38],[24,36,25,36],[24,37,25,37],[24,38,25,38],[18,36,19,36],[18,37,19,37],[18,38,19,38],[20,36,21,36],[20,37,21,37],[20,38,21,38],[30,36,31,36],[30,37,31,37],[30,38,31,38],[32,36,33,36],[32,37,33,37],[32,38,33,38],[26,36,27,36],[26,37,27,37],[26,38,27,38],[28,36,29,36],[28,37,29,37],[28,38,29,38],[38,36,39,36],[38,37,39,37],[38,38,39,38],[40,36,41,36],[40,37,41,37],[40,38,41,38],[34,36,35,36],[34,37,35,37],[34,38,35,38],[36,36,37,36],[36,37,37,37],[36,38,37,38],[46,36,47,36],[46,37,47,37],[46,38,47,38],[48,36,49,36],[48,37,49,37],[48,38,49,38],[42,36,43,36],[42,37,43,37],[42,38,43,38],[44,36,45,36],[44,37,45,37],[44,38,45,38],[60,37,61,37],[60,38,61,38],[54,36,55,36],[54,37,55,37],[54,38,55,38],[56,36,57,36],[56,37,57,37],[56,38,57,38],[50,36,51,36],[50,37,51,37],[50,38,51,38],[52,36,53,36],[52,37,53,37],[52,38,53,38],[0,19,0,20],[0,21,0,22],[70,36,71,36],[70,37,71,37],[70,38,71,38],[72,36,73,36],[72,37,73,37],[72,38,73,38],[66,36,67,36],[66,37,67,37],[66,38,67,38],[68,36,69,36],[68,37,69,37],[68,38,69,38],[62,36,63,36],[62,37,63,37],[62,38,63,38],[64,36,65,36],[64,37,65,37],[64,38,65,38],[58,36,59,36],[58,37,59,37],[58,38,59,38],[60,36,61,36],[0,1,0,2],[0,23,0,24],[0,25,0,26],[0,27,0,28],[0,30,2,31],[1,5,2,6],[1,7,2,8],[1,9,2,10],[1,11,2,12],[1,13,2,14],[1,15,2,16],[1,17,2,18],[1,19,2,20],[1,21,2,22],[1,23,2,24],[1,25,2,26],[1,27,2,28],[0,5,0,6],[0,7,0,8],[0,9,0,10],[0,11,0,12],[0,13,0,14],[0,15,0,16],[0,17,0,18]]}
[null,{"$f":"'1'!B1:C1","v":"secteur aubagne"},null,null,null,{"$f":"'1'!C2","v":"janvier"},null,{"$f":"'2'!C2","v":"février"},null,{"$f":"'3'!C2","v":"mars"},null,{"$f":"'4'!C2","v":"avril"},null,{"$f":"'5'!C2","v":"mai"},null,{"$f":"'6'!C2","v":"juin"},null,{"$f":"'7'!C2","v":"juillet"},null,{"$f":"'8'!C2","v":"août"},null,{"$f":"'9'!C2","v":"septembre"},null,{"$f":"'10'!C2","v":"octobre"},null,{"$f":"'11'!C2","v":"novembre"},null,{"$f":"'12'!C2","v":"décembre"}]
["PLANNING MOIS DE :",null,{"$f":"TEXT(B5,\"MMMM\")","v":"juin"}]
["ANNEE",null,{"$f":"TEXT(B6,\"aaaa\")","v":"2018"}]
[]
["date de debut ",{"$f":"'5'!B5+'5'!A9","v":"2018-06-01"}]
["date de fin ",{"$f":"EOMONTH(B5,0)","v":"2018-06-30"},null,null,null,null,null,null,{"$f":"C2","v":"juin"},null,null,null,null,null,null,null,null,{"$f":"C3","v":"2018"}]
[null,{"$f":"TODAY()","v":"2017-11-08"}]
[]
[{"$f":"SUMIF(parametre!$B$4:'parametre'!$B$15,C2,parametre!$C$4:'parametre'!$C$15)","v":30}]
[]
[null,null,null,{"$f":"B5","v":"2018-06-01"},{"$f":"D11+1","v":"2018-06-02"},{"$f":"E11+1","v":"2018-06-03"},"2018-06-04","2018-06-05","2018-06-06","2018-06-07","2018-06-08","2018-06-09","2018-06-10","2018-06-11","2018-06-12","2018-06-13","2018-06-14","2018-06-15","2018-06-16","2018-06-17","2018-06-18","2018-06-19","2018-06-20","2018-06-21","2018-06-22","2018-06-23","2018-06-24","2018-06-25","2018-06-26","2018-06-27","2018-06-28","2018-06-29","2018-06-30",{"$f":"IFERROR(IF(AG11+1>B6,\"\",AG11+1),\"\")","v":""},null,null,"CP MOIS","CP 1 JOURNEE"]
[null,null,null,{"$f":"IF(D14=\"L\",\"S \"&WEEKNUM(D11),\"\")","v":""},{"$f":"IF(E14=\"L\",\"S \"&WEEKNUM(E11),\"\")","v":""},"","","","","","","","","","","","","","","","","","","","","","","","","","","","",{"$f":"IFERROR(IF(AH14=\"L\",\"S \"&WEEKNUM(AH11),\"\"),\"\")","v":""}]
[null,null,"MOIS",{"$f":"DAY(D11)","v":1},{"$f":"DAY(E11)","v":2},3,4,5,6,7,8,9,10,11,12,13,14,15,16,17,18,19,20,21,22,23,24,25,26,27,28,29,30,{"$f":"IFERROR(DAY(AH11),\"\")","v":""}]
[null,"contrat",{"$f":"'1'!C14","v":"trimestre"},{"$f":"WEEKDAY(D11)","v":"1900-01-06"},{"$f":"WEEKDAY(E11)","v":"1900-01-07"},"1900-01-01","1900-01-02","1900-01-03","1900-01-04","1900-01-05","1900-01-06","1900-01-07","1900-01-01","1900-01-02","1900-01-03","1900-01-04","1900-01-05","1900-01-06","1900-01-07","1900-01-01","1900-01-02","1900-01-03","1900-01-04","1900-01-05","1900-01-06","1900-01-07","1900-01-01","1900-01-02","1900-01-03","1900-01-04","1900-01-05","1900-01-06","1900-01-07",{"$f":"IFERROR(WEEKDAY(AH11),\"\")","v":""}]
[null,{"$f":"SUMIF('compteur trimestre'!$A$10:$A$78,A15,'compteur trimestre'!$AI$10:$AI$78)","v":0},{"$f":"AI15-B15","v":0},null,null,null,null,null,null,null,null,null,null,null,null,null,null,null,null,null,null,null,null,null,null,null,null,null,null,null,null,null,null,null,{"$f":"SUM(D16:AH16)","v":0},{"$f":"C16","v":0},{"$f":"SUM(AM15/AL15)","v":{"$error":"#DIV/0!"}},{"$f":"SUMIF('renseignement agent'!$A$8:'renseignement agent'!$A$96,A15,'renseignement agent'!$G$8:'renseignement agent'!$G$96)","v":0},{"$f":"SUMIF(D15:AH15,\"cp\",D16:AH16)","v":0}]
[null,null,{"$f":"SUMIF('5'!$A$15:'5'!$A$73,A15,'5'!$AJ$15:'5'!$AJ$73)+C15","v":0}]
[null,{"$f":"SUMIF('compteur trimestre'!$A$10:$A$78,A17,'compteur trimestre'!$AI$10:$AI$78)","v":0},{"$f":"AI17-B17","v":0},null,null,null,null,null,null,null,null,null,null,null,null,null,null,null,null,null,null,null,null,null,null,null,null,null,null,null,null,null,null,null,{"$f":"SUM(D18:AH18)","v":0},{"$f":"C18","v":0},{"$f":"SUM(AM17/AL17)","v":{"$error":"#DIV/0!"}},{"$f":"SUMIF('renseignement agent'!$A$8:'renseignement agent'!$A$96,A17,'renseignement agent'!$G$8:'renseignement agent'!$G$96)","v":0},{"$f":"SUMIF(D17:AH17,\"cp\",D18:AH18)","v":0}]
[null,null,{"$f":"SUMIF('5'!$A$15:'5'!$A$73,A17,'5'!$AJ$15:'5'!$AJ$73)+C17","v":0}]
[null,{"$f":"SUMIF('compteur trimestre'!$A$10:$A$78,A19,'compteur trimestre'!$AI$10:$AI$78)","v":0},{"$f":"AI19-B19","v":0},null,null,null,null,null,null,null,null,null,null,null,null,null,null,null,null,null,null,null,null,null,null,null,null,null,null,null,null,null,null,null,{"$f":"SUM(D20:AH20)","v":0},{"$f":"C20","v":0},{"$f":"SUM(AM19/AL19)","v":{"$error":"#DIV/0!"}},{"$f":"SUMIF('renseignement agent'!$A$8:'renseignement agent'!$A$96,A19,'renseignement agent'!$G$8:'renseignement agent'!$G$96)","v":0},{"$f":"SUMIF(D19:AH19,\"cp\",D20:AH20)","v":0}]
[null,null,{"$f":"SUMIF('5'!$A$15:'5'!$A$73,A19,'5'!$AJ$15:'5'!$AJ$73)+C19","v":0}]
[null,{"$f":"SUMIF('compteur trimestre'!$A$10:$A$78,A21,'compteur trimestre'!$AI$10:$AI$78)","v":0},{"$f":"AI21-B21","v":0},null,null,null,null,null,null,null,null,null,null,null,null,null,null,null,null,null,null,null,null,null,null,null,null,null,null,null,null,null,null,null,{"$f":"SUM(D22:AH22)","v":0},{"$f":"C22","v":0},{"$f":"SUM(AM21/AL21)","v":{"$error":"#DIV/0!"}},{"$f":"SUMIF('renseignement agent'!$A$8:'renseignement agent'!$A$96,A21,'renseignement agent'!$G$8:'renseignement agent'!$G$96)","v":0},{"$f":"SUMIF(D21:AH21,\"cp\",D22:AH22)","v":0}]
[null,null,{"$f":"SUMIF('5'!$A$15:'5'!$A$73,A21,'5'!$AJ$15:'5'!$AJ$73)+C21","v":0}]
[null,{"$f":"SUMIF('compteur trimestre'!$A$10:$A$78,A23,'compteur trimestre'!$AI$10:$AI$78)","v":0},{"$f":"AI23-B23","v":0},null,null,null,null,null,null,null,null,null,null,null,null,null,null,null,null,null,null,null,null,null,null,null,null,null,null,null,null,null,null,null,{"$f":"SUM(D24:AH24)","v":0},{"$f":"C24","v":0},{"$f":"SUM(AM23/AL23)","v":{"$error":"#DIV/0!"}},{"$f":"SUMIF('renseignement agent'!$A$8:'renseignement agent'!$A$96,A23,'renseignement agent'!$G$8:'renseignement agent'!$G$96)","v":0},{"$f":"SUMIF(D23:AH23,\"cp\",D24:AH24)","v":0}]
[null,null,{"$f":"SUMIF('5'!$A$15:'5'!$A$73,A23,'5'!$AJ$15:'5'!$AJ$73)+C23","v":0}]
[null,{"$f":"SUMIF('compteur trimestre'!$A$10:$A$78,A25,'compteur trimestre'!$AI$10:$AI$78)","v":0},{"$f":"AI25-B25","v":0},null,null,null,null,null,null,null,null,null,null,null,null,null,null,null,null,null,null,null,null,null,null,null,null,null,null,null,null,null,null,null,{"$f":"SUM(D26:AH26)","v":0},{"$f":"C26","v":0},{"$f":"SUM(AM25/AL25)","v":{"$error":"#DIV/0!"}},{"$f":"SUMIF('renseignement agent'!$A$8:'renseignement agent'!$A$96,A25,'renseignement agent'!$G$8:'renseignement agent'!$G$96)","v":0},{"$f":"SUMIF(D25:AH25,\"cp\",D26:AH26)","v":0}]
[null,null,{"$f":"SUMIF('5'!$A$15:'5'!$A$73,A25,'5'!$AJ$15:'5'!$AJ$73)+C25","v":0}]
[null,{"$f":"SUMIF('compteur trimestre'!$A$10:$A$78,A27,'compteur trimestre'!$AI$10:$AI$78)","v":0},{"$f":"AI27-B27","v":0},null,null,null,null,null,null,null,null,null,null,null,null,null,null,null,null,null,null,null,null,null,null,null,null,null,null,null,null,null,null,null,{"$f":"SUM(D28:AH28)","v":0},{"$f":"C28","v":0},{"$f":"SUM(AM27/AL27)","v":{"$error":"#DIV/0!"}},{"$f":"SUMIF('renseignement agent'!$A$8:'renseignement agent'!$A$96,A27,'renseignement agent'!$G$8:'renseignement agent'!$G$96)","v":0},{"$f":"SUMIF(D27:AH27,\"cp\",D28:AH28)","v":0}]
[null,null,{"$f":"SUMIF('5'!$A$15:'5'!$A$73,A27,'5'!$AJ$15:'5'!$AJ$73)+C27","v":0}]
[null,{"$f":"SUMIF('compteur trimestre'!$A$10:$A$78,A29,'compteur trimestre'!$AI$10:$AI$78)","v":0},{"$f":"AI29-B29","v":0},null,null,null,null,null,null,null,null,null,null,null,null,null,null,null,null,null,null,null,null,null,null,null,null,null,null,null,null,null,null,null,{"$f":"SUM(D30:AH30)","v":0},{"$f":"C30","v":0},{"$f":"SUM(AM29/AL29)","v":{"$error":"#DIV/0!"}},{"$f":"SUMIF('renseignement agent'!$A$8:'renseignement agent'!$A$96,A29,'renseignement agent'!$G$8:'renseignement agent'!$G$96)","v":0},{"$f":"SUMIF(D29:AH29,\"cp\",D30:AH30)","v":0}]
[null,null,{"$f":"SUMIF('5'!$A$15:'5'!$A$73,A29,'5'!$AJ$15:'5'!$AJ$73)+C29","v":0}]
[null,{"$f":"SUMIF('compteur trimestre'!$A$10:$A$78,A31,'compteur trimestre'!$AI$10:$AI$78)","v":0},{"$f":"AI31-B31","v":0},null,null,null,null,null,null,null,null,null,null,null,null,null,null,null,null,null,null,null,null,null,null,null,null,null,null,null,null,null,null,null,{"$f":"SUM(D32:AH32)","v":0},{"$f":"C32","v":0},{"$f":"SUM(AM31/AL31)","v":{"$error":"#DIV/0!"}},{"$f":"SUMIF('renseignement agent'!$A$8:'renseignement agent'!$A$96,A31,'renseignement agent'!$G$8:'renseignement agent'!$G$96)","v":0},{"$f":"SUMIF(D31:AH31,\"cp\",D32:AH32)","v":0}]
[null,null,{"$f":"SUMIF('5'!$A$15:'5'!$A$73,A31,'5'!$AJ$15:'5'!$AJ$73)+C31","v":0}]
[null,{"$f":"SUMIF('compteur trimestre'!$A$10:$A$78,A33,'compteur trimestre'!$AI$10:$AI$78)","v":0},{"$f":"AI33-B33","v":0},null,null,null,null,null,null,null,null,null,null,null,null,null,null,null,null,null,null,null,null,null,null,null,null,null,null,null,null,null,null,null,{"$f":"SUM(D34:AH34)","v":0},{"$f":"C34","v":0},{"$f":"SUM(AM33/AL33)","v":{"$error":"#DIV/0!"}},{"$f":"SUMIF('renseignement agent'!$A$8:'renseignement agent'!$A$96,A33,'renseignement agent'!$G$8:'renseignement agent'!$G$96)","v":0},{"$f":"SUMIF(D33:AH33,\"cp\",D34:AH34)","v":0}]
[null,null,{"$f":"SUMIF('5'!$A$15:'5'!$A$73,A33,'5'!$AJ$15:'5'!$AJ$73)+C33","v":0}]
[null,{"$f":"SUMIF('compteur trimestre'!$A$10:$A$78,A35,'compteur trimestre'!$AI$10:$AI$78)","v":0},{"$f":"AI35-B35","v":0},null,null,null,null,null,null,null,null,null,null,null,null,null,null,null,null,null,null,null,null,null,null,null,null,null,null,null,null,null,null,null,{"$f":"SUM(D36:AH36)","v":0},{"$f":"C36","v":0},{"$f":"SUM(AM35/AL35)","v":{"$error":"#DIV/0!"}},{"$f":"SUMIF('renseignement agent'!$A$8:'renseignement agent'!$A$96,A35,'renseignement agent'!$G$8:'renseignement agent'!$G$96)","v":0},{"$f":"SUMIF(D35:AH35,\"cp\",D36:AH36)","v":0}]
[null,null,{"$f":"SUMIF('5'!$A$15:'5'!$A$73,A35,'5'!$AJ$15:'5'!$AJ$73)+C35","v":0}]
[null,{"$f":"SUMIF('compteur trimestre'!$A$10:$A$78,A37,'compteur trimestre'!$AI$10:$AI$78)","v":0},{"$f":"AI37-B37","v":0},null,null,null,null,null,null,null,null,null,null,null,null,null,null,null,null,null,null,null,null,null,null,null,null,null,null,null,null,null,null,null,{"$f":"SUM(D38:AH38)","v":0},{"$f":"C38","v":0},{"$f":"SUM(AM37/AL37)","v":{"$error":"#DIV/0!"}},{"$f":"SUMIF('renseignement agent'!$A$8:'renseignement agent'!$A$96,A37,'renseignement agent'!$G$8:'renseignement agent'!$G$96)","v":0},{"$f":"SUMIF(D37:AH37,\"cp\",D38:AH38)","v":0}]
[null,null,{"$f":"SUMIF('5'!$A$15:'5'!$A$73,A37,'5'!$AJ$15:'5'!$AJ$73)+C37","v":0}]
[null,{"$f":"SUMIF('compteur trimestre'!$A$10:$A$78,A39,'compteur trimestre'!$AI$10:$AI$78)","v":0},{"$f":"AI39-B39","v":0},null,null,null,null,null,null,null,null,null,null,null,null,null,null,null,null,null,null,null,null,null,null,null,null,null,null,null,null,null,null,null,{"$f":"SUM(D40:AH40)","v":0},{"$f":"C40","v":0},{"$f":"SUM(AM39/AL39)","v":{"$error":"#DIV/0!"}},{"$f":"SUMIF('renseignement agent'!$A$8:'renseignement agent'!$A$96,A39,'renseignement agent'!$G$8:'renseignement agent'!$G$96)","v":0},{"$f":"SUMIF(D39:AH39,\"cp\",D40:AH40)","v":0}]
[null,null,{"$f":"SUMIF('5'!$A$15:'5'!$A$73,A39,'5'!$AJ$15:'5'!$AJ$73)+C39","v":0}]
[null,{"$f":"SUMIF('compteur trimestre'!$A$10:$A$78,A41,'compteur trimestre'!$AI$10:$AI$78)","v":0},{"$f":"AI41-B41","v":0},null,null,null,null,null,null,null,null,null,null,null,null,null,null,null,null,null,null,null,null,null,null,null,null,null,null,null,null,null,null,null,{"$f":"SUM(D42:AH42)","v":0},{"$f":"C42","v":0},{"$f":"SUM(AM41/AL41)","v":{"$error":"#DIV/0!"}},{"$f":"SUMIF('renseignement agent'!$A$8:'renseignement agent'!$A$96,A41,'renseignement agent'!$G$8:'renseignement agent'!$G$96)","v":0},{"$f":"SUMIF(D41:AH41,\"cp\",D42:AH42)","v":0}]
[null,null,{"$f":"SUMIF('5'!$A$15:'5'!$A$73,A41,'5'!$AJ$15:'5'!$AJ$73)+C41","v":0}]
[null,{"$f":"SUMIF('compteur trimestre'!$A$10:$A$78,A43,'compteur trimestre'!$AI$10:$AI$78)","v":0},{"$f":"AI43-B43","v":0},null,null,null,null,null,null,null,null,null,null,null,null,null,null,null,null,null,null,null,null,null,null,null,null,null,null,null,null,null,null,null,{"$f":"SUM(D44:AH44)","v":0},{"$f":"C44","v":0},{"$f":"SUM(AM43/AL43)","v":{"$error":"#DIV/0!"}},{"$f":"SUMIF('renseignement agent'!$A$8:'renseignement agent'!$A$96,A43,'renseignement agent'!$G$8:'renseignement agent'!$G$96)","v":0},{"$f":"SUMIF(D43:AH43,\"cp\",D44:AH44)","v":0}]
[null,null,{"$f":"SUMIF('5'!$A$15:'5'!$A$73,A43,'5'!$AJ$15:'5'!$AJ$73)+C43","v":0}]
[null,{"$f":"SUMIF('compteur trimestre'!$A$10:$A$78,A45,'compteur trimestre'!$AI$10:$AI$78)","v":0},{"$f":"AI45-B45","v":0},null,null,null,null,null,null,null,null,null,null,null,null,null,null,null,null,null,null,null,null,null,null,null,null,null,null,null,null,null,null,null,{"$f":"SUM(D46:AH46)","v":0},{"$f":"C46","v":0},{"$f":"SUM(AM45/AL45)","v":{"$error":"#DIV/0!"}},{"$f":"SUMIF('renseignement agent'!$A$8:'renseignement agent'!$A$96,A45,'renseignement agent'!$G$8:'renseignement agent'!$G$96)","v":0},{"$f":"SUMIF(D45:AH45,\"cp\",D46:AH46)","v":0}]
[null,null,{"$f":"SUMIF('5'!$A$15:'5'!$A$73,A45,'5'!$AJ$15:'5'!$AJ$73)+C45","v":0}]
[null,{"$f":"SUMIF('compteur trimestre'!$A$10:$A$78,A47,'compteur trimestre'!$AI$10:$AI$78)","v":0},{"$f":"AI47-B47","v":0},null,null,null,null,null,null,null,null,null,null,null,null,null,null,null,null,null,null,null,null,null,null,null,null,null,null,null,null,null,null,null,{"$f":"SUM(D48:AH48)","v":0},{"$f":"C48","v":0},{"$f":"SUM(AM47/AL47)","v":{"$error":"#DIV/0!"}},{"$f":"SUMIF('renseignement agent'!$A$8:'renseignement agent'!$A$96,A47,'renseignement agent'!$G$8:'renseignement agent'!$G$96)","v":0},{"$f":"SUMIF(D47:AH47,\"cp\",D48:AH48)","v":0}]
[null,null,{"$f":"SUMIF('5'!$A$15:'5'!$A$73,A47,'5'!$AJ$15:'5'!$AJ$73)+C47","v":0}]
[null,{"$f":"SUMIF('compteur trimestre'!$A$10:$A$78,A49,'compteur trimestre'!$AI$10:$AI$78)","v":0},{"$f":"AI49-B49","v":0},null,null,null,null,null,null,null,null,null,null,null,null,null,null,null,null,null,null,null,null,null,null,null,null,null,null,null,null,null,null,null,{"$f":"SUM(D50:AH50)","v":0},{"$f":"C50","v":0},{"$f":"SUM(AM49/AL49)","v":{"$error":"#DIV/0!"}},{"$f":"SUMIF('renseignement agent'!$A$8:'renseignement agent'!$A$96,A49,'renseignement agent'!$G$8:'renseignement agent'!$G$96)","v":0},{"$f":"SUMIF(D49:AH49,\"cp\",D50:AH50)","v":0}]
[null,null,{"$f":"SUMIF('5'!$A$15:'5'!$A$73,A49,'5'!$AJ$15:'5'!$AJ$73)+C49","v":0}]
[null,{"$f":"SUMIF('compteur trimestre'!$A$10:$A$78,A51,'compteur trimestre'!$AI$10:$AI$78)","v":0},{"$f":"AI51-B51","v":0},null,null,null,null,null,null,null,null,null,null,null,null,null,null,null,null,null,null,null,null,null,null,null,null,null,null,null,null,null,null,null,{"$f":"SUM(D52:AH52)","v":0},{"$f":"C52","v":0},{"$f":"SUM(AM51/AL51)","v":{"$error":"#DIV/0!"}},{"$f":"SUMIF('renseignement agent'!$A$8:'renseignement agent'!$A$96,A51,'renseignement agent'!$G$8:'renseignement agent'!$G$96)","v":0},{"$f":"SUMIF(D51:AH51,\"cp\",D52:AH52)","v":0}]
[null,null,{"$f":"SUMIF('5'!$A$15:'5'!$A$73,A51,'5'!$AJ$15:'5'!$AJ$73)+C51","v":0}]
[null,{"$f":"SUMIF('compteur trimestre'!$A$10:$A$78,A53,'compteur trimestre'!$AI$10:$AI$78)","v":0},{"$f":"AI53-B53","v":0},null,null,null,null,null,null,null,null,null,null,null,null,null,null,null,null,null,null,null,null,null,null,null,null,null,null,null,null,null,null,null,{"$f":"SUM(D54:AH54)","v":0},{"$f":"C54","v":0},{"$f":"SUM(AM53/AL53)","v":{"$error":"#DIV/0!"}},{"$f":"SUMIF('renseignement agent'!$A$8:'renseignement agent'!$A$96,A53,'renseignement agent'!$G$8:'renseignement agent'!$G$96)","v":0},{"$f":"SUMIF(D53:AH53,\"cp\",D54:AH54)","v":0}]
[null,null,{"$f":"SUMIF('5'!$A$15:'5'!$A$73,A53,'5'!$AJ$15:'5'!$AJ$73)+C53","v":0}]
[null,{"$f":"SUMIF('compteur trimestre'!$A$10:$A$78,A55,'compteur trimestre'!$AI$10:$AI$78)","v":0},{"$f":"AI55-B55","v":0},null,null,null,null,null,null,null,null,null,null,null,null,null,null,null,null,null,null,null,null,null,null,null,null,null,null,null,null,null,null,null,{"$f":"SUM(D56:AH56)","v":0},{"$f":"C56","v":0},{"$f":"SUM(AM55/AL55)","v":{"$error":"#DIV/0!"}},{"$f":"SUMIF('renseignement agent'!$A$8:'renseignement agent'!$A$96,A55,'renseignement agent'!$G$8:'renseignement agent'!$G$96)","v":0},{"$f":"SUMIF(D55:AH55,\"cp\",D56:AH56)","v":0}]
[null,null,{"$f":"SUMIF('5'!$A$15:'5'!$A$73,A55,'5'!$AJ$15:'5'!$AJ$73)+C55","v":0}]
[null,{"$f":"SUMIF('compteur trimestre'!$A$10:$A$78,A57,'compteur trimestre'!$AI$10:$AI$78)","v":0},{"$f":"AI57-B57","v":0},null,null,null,null,null,null,null,null,null,null,null,null,null,null,null,null,null,null,null,null,null,null,null,null,null,null,null,null,null,null,null,{"$f":"SUM(D58:AH58)","v":0},{"$f":"C58","v":0},{"$f":"SUM(AM57/AL57)","v":{"$error":"#DIV/0!"}},{"$f":"SUMIF('renseignement agent'!$A$8:'renseignement agent'!$A$96,A57,'renseignement agent'!$G$8:'renseignement agent'!$G$96)","v":0},{"$f":"SUMIF(D57:AH57,\"cp\",D58:AH58)","v":0}]
[null,null,{"$f":"SUMIF('5'!$A$15:'5'!$A$73,A57,'5'!$AJ$15:'5'!$AJ$73)+C57","v":0}]
[null,{"$f":"SUMIF('compteur trimestre'!$A$10:$A$78,A59,'compteur trimestre'!$AI$10:$AI$78)","v":0},{"$f":"AI59-B59","v":0},null,null,null,null,null,null,null,null,null,null,null,null,null,null,null,null,null,null,null,null,null,null,null,null,null,null,null,null,null,null,null,{"$f":"SUM(D60:AH60)","v":0},{"$f":"C60","v":0},{"$f":"SUM(AM59/AL59)","v":{"$error":"#DIV/0!"}},{"$f":"SUMIF('renseignement agent'!$A$8:'renseignement agent'!$A$96,A59,'renseignement agent'!$G$8:'renseignement agent'!$G$96)","v":0},{"$f":"SUMIF(D59:AH59,\"cp\",D60:AH60)","v":0}]
[null,null,{"$f":"SUMIF('5'!$A$15:'5'!$A$73,A59,'5'!$AJ$15:'5'!$AJ$73)+C59","v":0}]
[null,{"$f":"SUMIF('compteur trimestre'!$A$10:$A$78,A61,'compteur trimestre'!$AI$10:$AI$78)","v":0},{"$f":"AI61-B61","v":0},null,null,null,null,null,null,null,null,null,null,null,null,null,null,null,null,null,null,null,null,null,null,null,null,null,null,null,null,null,null,null,{"$f":"SUM(D62:AH62)","v":0},{"$f":"C62","v":0},{"$f":"SUM(AM61/AL61)","v":{"$error":"#DIV/0!"}},{"$f":"SUMIF('renseignement agent'!$A$8:'renseignement agent'!$A$96,A61,'renseignement agent'!$G$8:'renseignement agent'!$G$96)","v":0},{"$f":"SUMIF(D61:AH61,\"cp\",D62:AH62)","v":0}]
[null,null,{"$f":"SUMIF('5'!$A$15:'5'!$A$73,A61,'5'!$AJ$15:'5'!$AJ$73)+C61","v":0}]
[null,{"$f":"SUMIF('compteur trimestre'!$A$10:$A$78,A63,'compteur trimestre'!$AI$10:$AI$78)","v":0},{"$f":"AI63-B63","v":0},null,null,null,null,null,null,null,null,null,null,null,null,null,null,null,null,null,null,null,null,null,null,null,null,null,null,null,null,null,null,null,{"$f":"SUM(D64:AH64)","v":0},{"$f":"C64","v":0},{"$f":"SUM(AM63/AL63)","v":{"$error":"#DIV/0!"}},{"$f":"SUMIF('renseignement agent'!$A$8:'renseignement agent'!$A$96,A63,'renseignement agent'!$G$8:'renseignement agent'!$G$96)","v":0},{"$f":"SUMIF(D63:AH63,\"cp\",D64:AH64)","v":0}]
[null,null,{"$f":"SUMIF('5'!$A$15:'5'!$A$73,A63,'5'!$AJ$15:'5'!$AJ$73)+C63","v":0}]
[null,{"$f":"SUMIF('compteur trimestre'!$A$10:$A$78,A65,'compteur trimestre'!$AI$10:$AI$78)","v":0},{"$f":"AI65-B65","v":0},null,null,null,null,null,null,null,null,null,null,null,null,null,null,null,null,null,null,null,null,null,null,null,null,null,null,null,null,null,null,null,{"$f":"SUM(D66:AH66)","v":0},{"$f":"C66","v":0},{"$f":"SUM(AM65/AL65)","v":{"$error":"#DIV/0!"}},{"$f":"SUMIF('renseignement agent'!$A$8:'renseignement agent'!$A$96,A65,'renseignement agent'!$G$8:'renseignement agent'!$G$96)","v":0},{"$f":"SUMIF(D65:AH65,\"cp\",D66:AH66)","v":0}]
[null,null,{"$f":"SUMIF('5'!$A$15:'5'!$A$73,A65,'5'!$AJ$15:'5'!$AJ$73)+C65","v":0}]
[null,{"$f":"SUMIF('compteur trimestre'!$A$10:$A$78,A67,'compteur trimestre'!$AI$10:$AI$78)","v":0},{"$f":"AI67-B67","v":0},null,null,null,null,null,null,null,null,null,null,null,null,null,null,null,null,null,null,null,null,null,null,null,null,null,null,null,null,null,null,null,{"$f":"SUM(D68:AH68)","v":0},{"$f":"C68","v":0},{"$f":"SUM(AM67/AL67)","v":{"$error":"#DIV/0!"}},{"$f":"SUMIF('renseignement agent'!$A$8:'renseignement agent'!$A$96,A67,'renseignement agent'!$G$8:'renseignement agent'!$G$96)","v":0},{"$f":"SUMIF(D67:AH67,\"cp\",D68:AH68)","v":0}]
[null,null,{"$f":"SUMIF('5'!$A$15:'5'!$A$73,A67,'5'!$AJ$15:'5'!$AJ$73)+C67","v":0}]
[null,{"$f":"SUMIF('compteur trimestre'!$A$10:$A$78,A69,'compteur trimestre'!$AI$10:$AI$78)","v":0},{"$f":"AI69-B69","v":0},null,null,null,null,null,null,null,null,null,null,null,null,null,null,null,null,null,null,null,null,null,null,null,null,null,null,null,null,null,null,null,{"$f":"SUM(D70:AH70)","v":0},{"$f":"C70","v":0},{"$f":"SUM(AM69/AL69)","v":{"$error":"#DIV/0!"}},{"$f":"SUMIF('renseignement agent'!$A$8:'renseignement agent'!$A$96,A69,'renseignement agent'!$G$8:'renseignement agent'!$G$96)","v":0},{"$f":"SUMIF(D69:AH69,\"cp\",D70:AH70)","v":0}]
[null,null,{"$f":"SUMIF('5'!$A$15:'5'!$A$73,A69,'5'!$AJ$15:'5'!$AJ$73)+C69","v":0}]
[null,{"$f":"SUMIF('compteur trimestre'!$A$10:$A$78,A71,'compteur trimestre'!$AI$10:$AI$78)","v":0},{"$f":"AI71-B71","v":0},null,null,null,null,null,null,null,null,null,null,null,null,null,null,null,null,null,null,null,null,null,null,null,null,null,null,null,null,null,null,null,{"$f":"SUM(D72:AH72)","v":0},{"$f":"C72","v":0},{"$f":"SUM(AM71/AL71)","v":{"$error":"#DIV/0!"}},{"$f":"SUMIF('renseignement agent'!$A$8:'renseignement agent'!$A$96,A71,'renseignement agent'!$G$8:'renseignement agent'!$G$96)","v":0},{"$f":"SUMIF(D71:AH71,\"cp\",D72:AH72)","v":0}]
[null,null,{"$f":"SUMIF('5'!$A$15:'5'!$A$73,A71,'5'!$AJ$15:'5'!$AJ$73)+C71","v":0}]
[null,{"$f":"SUMIF('compteur trimestre'!$A$10:$A$78,A73,'compteur trimestre'!$AI$10:$AI$78)","v":0},{"$f":"AI73-B73","v":0},null,null,null,null,null,null,null,null,null,null,null,null,null,null,null,null,null,null,null,null,null,null,null,null,null,null,null,null,null,null,null,{"$f":"SUM(D74:AH74)","v":0},{"$f":"C74","v":0},{"$f":"SUM(AM73/AL73)","v":{"$error":"#DIV/0!"}},{"$f":"SUMIF('renseignement agent'!$A$8:'renseignement agent'!$A$96,A73,'renseignement agent'!$G$8:'renseignement agent'!$G$96)","v":0},{"$f":"SUMIF(D73:AH73,\"cp\",D74:AH74)","v":0}]
[null,null,{"$f":"SUMIF('5'!$A$15:'5'!$A$73,A73,'5'!$AJ$15:'5'!$AJ$73)+C73","v":0}]

{"sheet":"7","index":7,"n_rows":74,"n_cols":39,"rows_kept":74,"cut":false,"hidden":false,"merged":[[1,0,1,1],[2,0,2,1],[8,0,9,1],[10,34,13,34],[20,34,21,34],[22,34,23,34],[24,34,25,34],[20,1,21,1],[22,1,23,1],[24,1,25,1],[14,34,15,34],[16,34,17,34],[18,34,19,34],[14,1,15,1],[16,1,17,1],[18,1,19,1],[5,8,7,16],[5,17,7,23],[14,0,15,0],[16,0,17,0],[18,0,19,0],[20,0,21,0],[22,0,23,0],[24,0,25,0],[32,34,33,34],[34,34,35,34],[36,34,37,34],[32,0,33,0],[34,0,35,0],[36,0,37,0],[26,34,27,34],[28,34,29,34],[30,34,31,34],[28,0,29,0],[30,0,31,0],[26,1,27,1],[28,1,29,1],[26,0,27,0],[44,34,45,34],[46,34,47,34],[48,34,49,34],[44,0,45,0],[46,0,47,0],[48,0,49,0],[44,1,45,1],[38,34,39,34],[40,34,41,34],[42,34,43,34],[38,0,39,0],[40,0,41,0],[42,0,43,0],[42,1,43,1],[56,0,57,0],[58,0,59,0],[60,0,61,0],[58,1,59,1],[50,34,51,34],[52,34,53,34],[54,34,55,34],[50,0,51,0],[52,0,53,0],[54,0,55,0],[68,0,69,0],[70,0,71,0],[72,0,73,0],[72,1,73,1],[62,34,63,34],[64,34,65,34],[66,34,67,34],[62,0,63,0],[64,0,65,0],[66,0,67,0],[74,3,75,3],[74,4,75,4],[74,5,75,5],[74,6,75,6],[74,7,75,7],[74,8,75,8],[68,34,69,34],[70,34,71,34],[72,34,73,34],[74,17,75,17],[74,18,75,18],[74,19,75,19],[74,20,75,20],[74,9,75,9],[74,10,75,10],[74,11,75,11],[74,12,75,12],[74,13,75,13],[74,14,75,14],[74,33,75,33],[74,27,75,27],[74,28,75,28],[74,29,75,29],[74,30,75,30],[74,31,75,31],[74,32,75,32],[74,21,75,21],[74,22,75,22],[74,23,75,23],[74,24,75,24],[74,25,75,25],[74,26,75,26],[74,15,75,15],[74,16,75,16],[20,35,21,35],[22,35,23,35],[24,35,25,35],[60,1,61,1],[62,1,63,1],[64,1,65,1],[66,1,67,1],[68,1,69,1],[70,1,71,1],[46,1,47,1],[48,1,49,1],[50,1,51,1],[52,1,53,1],[54,1,55,1],[56,1,57,1],[30,1,31,1],[32,1,33,1],[34,1,35,1],[36,1,37,1],[38,1,39,1],[40,1,41,1],[56,34,57,34],[58,34,59,34],[60,34,61,34],[64,35,65,35],[66,35,67,35],[68,35,69,35],[70,35,71,35],[72,35,73,35],[50,35,51,35],[52,35,53,35],[54,35,55,35],[56,35,57,35],[58,35,59,35],[60,35,61,35],[10,36,13,36],[10,37,13,37],[14,36,15,36],[14,37,15,37],[14,38,15,38],[16,36,17,36],[16,37,17,37],[16,38,17,38],[62,35,63,35],[38,35,39,35],[40,35,41,35],[42,35,43,35],[44,35,45,35],[46,35,47,35],[48,35,49,35],[26,35,27,35],[28,35,29,35],[30,35,31,35],[32,35,33,35],[34,35,35,35],[36,35,37,35],[14,35,15,35],[16,35,17,35],[18,35,19,35],[22,36,23,36],[22,37,23,37],[22,38,23,38],[24,36,25,36],[24,37,25,37],[24,38,25,38],[18,36,19,36],[18,37,19,37],[18,38,19,38],[20,36,21,36],[20,37,21,37],[20,38,21,38],[30,36,31,36],[30,37,31,37],[30,38,31,38],[32,36,33,36],[32,37,33,37],[32,38,33,38],[26,36,27,36],[26,37,27,37],[26,38,27,38],[28,36,29,36],[28,37,29,37],[28,38,29,38],[38,36,39,36],[38,37,39,37],[38,38,39,38],[40,36,41,36],[40,37,41,37],[40,38,41,38],[34,36,35,36],[34,37,35,37],[34,38,35,38],[36,36,37,36],[36,37,37,37],[36,38,37,38],[46,36,47,36],[46,37,47,37],[46,38,47,38],[48,36,49,36],[48,37,49,37],[48,38,49,38],[42,36,43,36],[42,37,43,37],[42,38,43,38],[44,36,45,36],[44,37,45,37],[44,38,45,38],[60,37,61,37],[60,38,61,38],[54,36,55,36],[54,37,55,37],[54,38,55,38],[56,36,57,36],[56,37,57,37],[56,38,57,38],[50,36,51,36],[50,37,51,37],[50,38,51,38],[52,36,53,36],[52,37,53,37],[52,38,53,38],[0,19,0,20],[0,21,0,22],[70,36,71,36],[70,37,71,37],[70,38,71,38],[72,36,73,36],[72,37,73,37],[72,38,73,38],[66,36,67,36],[66,37,67,37],[66,38,67,38],[68,36,69,36],[68,37,69,37],[68,38,69,38],[62,36,63,36],[62,37,63,37],[62,38,63,38],[64,36,65,36],[64,37,65,37],[64,38,65,38],[58,36,59,36],[58,37,59,37],[58,38,59,38],[60,36,61,36],[0,1,0,2],[0,23,0,24],[0,25,0,26],[0,27,0,28],[0,30,2,31],[1,5,2,6],[1,7,2,8],[1,9,2,10],[1,11,2,12],[1,13,2,14],[1,15,2,16],[1,17,2,18],[1,19,2,20],[1,21,2,22],[1,23,2,24],[1,25,2,26],[1,27,2,28],[0,5,0,6],[0,7,0,8],[0,9,0,10],[0,11,0,12],[0,13,0,14],[0,15,0,16],[0,17,0,18]]}
[null,{"$f":"'1'!B1:C1","v":"secteur aubagne"},null,null,null,{"$f":"'1'!C2","v":"janvier"},null,{"$f":"'2'!C2","v":"février"},null,{"$f":"'3'!C2","v":"mars"},null,{"$f":"'4'!C2","v":"avril"},null,{"$f":"'5'!C2","v":"mai"},null,{"$f":"'6'!C2","v":"juin"},null,{"$f":"'7'!C2","v":"juillet"},null,{"$f":"'8'!C2","v":"août"},null,{"$f":"'9'!C2","v":"septembre"},null,{"$f":"'10'!C2","v":"octobre"},null,{"$f":"'11'!C2","v":"novembre"},null,{"$f":"'12'!C2","v":"décembre"}]
["PLANNING MOIS DE :",null,{"$f":"TEXT(B5,\"MMMM\")","v":"juillet"}]
["ANNEE",null,{"$f":"TEXT(B6,\"aaaa\")","v":"2018"}]
[]
["date de debut ",{"$f":"'6'!B5+'6'!A9","v":"2018-07-01"}]
["date de fin ",{"$f":"EOMONTH(B5,0)","v":"2018-07-31"},null,null,null,null,null,null,{"$f":"C2","v":"juillet"},null,null,null,null,null,null,null,null,{"$f":"C3","v":"2018"}]
[null,{"$f":"TODAY()","v":"2017-11-08"}]
[]
[{"$f":"IF('1'!A9<31,\"31\")+IF('1'!A9>30,\"31\")","v":31}]
[]
[null,null,null,{"$f":"B5","v":"2018-07-01"},{"$f":"D11+1","v":"2018-07-02"},{"$f":"E11+1","v":"2018-07-03"},"2018-07-04","2018-07-05","2018-07-06","2018-07-07","2018-07-08","2018-07-09","2018-07-10","2018-07-11","2018-07-12","2018-07-13","2018-07-14","2018-07-15","2018-07-16","2018-07-17","2018-07-18","2018-07-19","2018-07-20","2018-07-21","2018-07-22","2018-07-23","2018-07-24","2018-07-25","2018-07-26","2018-07-27","2018-07-28","2018-07-29","2018-07-30",{"$f":"IFERROR(IF(AG11+1>B6,\"\",AG11+1),\"\")","v":"2018-07-31"},null,null,"CP MOIS","CP 1 JOURNEE"]
[null,null,null,{"$f":"IF(D14=\"L\",\"S \"&WEEKNUM(D11),\"\")","v":""},{"$f":"IF(E14=\"L\",\"S \"&WEEKNUM(E11),\"\")","v":""},"","","","","","","","","","","","","","","","","","","","","","","","","","","","",{"$f":"IFERROR(IF(AH14=\"L\",\"S \"&WEEKNUM(AH11),\"\"),\"\")","v":""}]
[null,null,"MOIS",{"$f":"DAY(D11)","v":1},{"$f":"DAY(E11)","v":2},3,4,5,6,7,8,9,10,11,12,13,14,15,16,17,18,19,20,21,22,23,24,25,26,27,28,29,30,{"$f":"IFERROR(DAY(AH11),\"\")","v":31}]
[null,"contrat",{"$f":"'1'!C14","v":"trimestre"},{"$f":"WEEKDAY(D11)","v":"1900-01-01"},{"$f":"WEEKDAY(E11)","v":"1900-01-02"},"1900-01-03","1900-01-04","1900-01-05","1900-01-06","1900-01-07","1900-01-01","1900-01-02","1900-01-03","1900-01-04","1900-01-05","1900-01-06","1900-01-07","1900-01-01","1900-01-02","1900-01-03","1900-01-04","1900-01-05","1900-01-06","1900-01-07","1900-01-01","1900-01-02","1900-01-03","1900-01-04","1900-01-05","1900-01-06","1900-01-07","1900-01-01","1900-01-02",{"$f":"IFERROR(WEEKDAY(AH11),\"\")","v":"1900-01-03"}]
[null,{"$f":"SUMIF('compteur trimestre'!$A$10:$A$78,A15,'compteur trimestre'!$AI$10:$AI$78)","v":0},{"$f":"AI15-B15","v":0},null,null,null,null,null,null,null,null,null,null,null,null,null,null,null,null,null,null,null,null,null,null,null,null,null,null,null,null,null,null,null,{"$f":"SUM(D16:AH16)","v":0},{"$f":"C16","v":0},{"$f":"SUM(AM15/AL15)","v":{"$error":"#DIV/0!"}},{"$f":"SUMIF('renseignement agent'!$A$8:'renseignement agent'!$A$96,A15,'renseignement agent'!$G$8:'renseignement agent'!$G$96)","v":0},{"$f":"SUMIF(D15:AH15,\"cp\",D16:AH16)","v":0}]
[null,null,{"$f":"C15","v":0}]
[null,{"$f":"SUMIF('compteur trimestre'!$A$10:$A$78,A17,'compteur trimestre'!$AI$10:$AI$78)","v":0},{"$f":"AI17-B17","v":0},null,null,null,null,null,null,null,null,null,null,null,null,null,null,null,null,null,null,null,null,null,null,null,null,null,null,null,null,null,null,null,{"$f":"SUM(D18:AH18)","v":0},{"$f":"C18","v":0},{"$f":"SUM(AM17/AL17)","v":{"$error":"#DIV/0!"}},{"$f":"SUMIF('renseignement agent'!$A$8:'renseignement agent'!$A$96,A17,'renseignement agent'!$G$8:'renseignement agent'!$G$96)","v":0},{"$f":"SUMIF(D17:AH17,\"cp\",D18:AH18)","v":0}]
[null,null,{"$f":"C17","v":0}]
[null,{"$f":"SUMIF('compteur trimestre'!$A$10:$A$78,A19,'compteur trimestre'!$AI$10:$AI$78)","v":0},{"$f":"AI19-B19","v":0},null,null,null,null,null,null,null,null,null,null,null,null,null,null,null,null,null,null,null,null,null,null,null,null,null,null,null,null,null,null,null,{"$f":"SUM(D20:AH20)","v":0},{"$f":"C20","v":0},{"$f":"SUM(AM19/AL19)","v":{"$error":"#DIV/0!"}},{"$f":"SUMIF('renseignement agent'!$A$8:'renseignement agent'!$A$96,A19,'renseignement agent'!$G$8:'renseignement agent'!$G$96)","v":0},{"$f":"SUMIF(D19:AH19,\"cp\",D20:AH20)","v":0}]
[null,null,{"$f":"C19","v":0}]
[null,{"$f":"SUMIF('compteur trimestre'!$A$10:$A$78,A21,'compteur trimestre'!$AI$10:$AI$78)","v":0},{"$f":"AI21-B21","v":0},null,null,null,null,null,null,null,null,null,null,null,null,null,null,null,null,null,null,null,null,null,null,null,null,null,null,null,null,null,null,null,{"$f":"SUM(D22:AH22)","v":0},{"$f":"C22","v":0},{"$f":"SUM(AM21/AL21)","v":{"$error":"#DIV/0!"}},{"$f":"SUMIF('renseignement agent'!$A$8:'renseignement agent'!$A$96,A21,'renseignement agent'!$G$8:'renseignement agent'!$G$96)","v":0},{"$f":"SUMIF(D21:AH21,\"cp\",D22:AH22)","v":0}]
[null,null,{"$f":"C21","v":0}]
[null,{"$f":"SUMIF('compteur trimestre'!$A$10:$A$78,A23,'compteur trimestre'!$AI$10:$AI$78)","v":0},{"$f":"AI23-B23","v":0},null,null,null,null,null,null,null,null,null,null,null,null,null,null,null,null,null,null,null,null,null,null,null,null,null,null,null,null,null,null,null,{"$f":"SUM(D24:AH24)","v":0},{"$f":"C24","v":0},{"$f":"SUM(AM23/AL23)","v":{"$error":"#DIV/0!"}},{"$f":"SUMIF('renseignement agent'!$A$8:'renseignement agent'!$A$96,A23,'renseignement agent'!$G$8:'renseignement agent'!$G$96)","v":0},{"$f":"SUMIF(D23:AH23,\"cp\",D24:AH24)","v":0}]
[null,null,{"$f":"C23","v":0}]
[null,{"$f":"SUMIF('compteur trimestre'!$A$10:$A$78,A25,'compteur trimestre'!$AI$10:$AI$78)","v":0},{"$f":"AI25-B25","v":0},null,null,null,null,null,null,null,null,null,null,null,null,null,null,null,null,null,null,null,null,null,null,null,null,null,null,null,null,null,null,null,{"$f":"SUM(D26:AH26)","v":0},{"$f":"C26","v":0},{"$f":"SUM(AM25/AL25)","v":{"$error":"#DIV/0!"}},{"$f":"SUMIF('renseignement agent'!$A$8:'renseignement agent'!$A$96,A25,'renseignement agent'!$G$8:'renseignement agent'!$G$96)","v":0},{"$f":"SUMIF(D25:AH25,\"cp\",D26:AH26)","v":0}]
[null,null,{"$f":"C25","v":0}]
[null,{"$f":"SUMIF('compteur trimestre'!$A$10:$A$78,A27,'compteur trimestre'!$AI$10:$AI$78)","v":0},{"$f":"AI27-B27","v":0},null,null,null,null,null,null,null,null,null,null,null,null,null,null,null,null,null,null,null,null,null,null,null,null,null,null,null,null,null,null,null,{"$f":"SUM(D28:AH28)","v":0},{"$f":"C28","v":0},{"$f":"SUM(AM27/AL27)","v":{"$error":"#DIV/0!"}},{"$f":"SUMIF('renseignement agent'!$A$8:'renseignement agent'!$A$96,A27,'renseignement agent'!$G$8:'renseignement agent'!$G$96)","v":0},{"$f":"SUMIF(D27:AH27,\"cp\",D28:AH28)","v":0}]
[null,null,{"$f":"C27","v":0}]
[null,{"$f":"SUMIF('compteur trimestre'!$A$10:$A$78,A29,'compteur trimestre'!$AI$10:$AI$78)","v":0},{"$f":"AI29-B29","v":0},null,null,null,null,null,null,null,null,null,null,null,null,null,null,null,null,null,null,null,null,null,null,null,null,null,null,null,null,null,null,null,{"$f":"SUM(D30:AH30)","v":0},{"$f":"C30","v":0},{"$f":"SUM(AM29/AL29)","v":{"$error":"#DIV/0!"}},{"$f":"SUMIF('renseignement agent'!$A$8:'renseignement agent'!$A$96,A29,'renseignement agent'!$G$8:'renseignement agent'!$G$96)","v":0},{"$f":"SUMIF(D29:AH29,\"cp\",D30:AH30)","v":0}]
[null,null,{"$f":"C29","v":0}]
[null,{"$f":"SUMIF('compteur trimestre'!$A$10:$A$78,A31,'compteur trimestre'!$AI$10:$AI$78)","v":0},{"$f":"AI31-B31","v":0},null,null,null,null,null,null,null,null,null,null,null,null,null,null,null,null,null,null,null,null,null,null,null,null,null,null,null,null,null,null,null,{"$f":"SUM(D32:AH32)","v":0},{"$f":"C32","v":0},{"$f":"SUM(AM31/AL31)","v":{"$error":"#DIV/0!"}},{"$f":"SUMIF('renseignement agent'!$A$8:'renseignement agent'!$A$96,A31,'renseignement agent'!$G$8:'renseignement agent'!$G$96)","v":0},{"$f":"SUMIF(D31:AH31,\"cp\",D32:AH32)","v":0}]
[null,null,{"$f":"C31","v":0}]
[null,{"$f":"SUMIF('compteur trimestre'!$A$10:$A$78,A33,'compteur trimestre'!$AI$10:$AI$78)","v":0},{"$f":"AI33-B33","v":0},null,null,null,null,null,null,null,null,null,null,null,null,null,null,null,null,null,null,null,null,null,null,null,null,null,null,null,null,null,null,null,{"$f":"SUM(D34:AH34)","v":0},{"$f":"C34","v":0},{"$f":"SUM(AM33/AL33)","v":{"$error":"#DIV/0!"}},{"$f":"SUMIF('renseignement agent'!$A$8:'renseignement agent'!$A$96,A33,'renseignement agent'!$G$8:'renseignement agent'!$G$96)","v":0},{"$f":"SUMIF(D33:AH33,\"cp\",D34:AH34)","v":0}]
[null,null,{"$f":"C33","v":0}]
[null,{"$f":"SUMIF('compteur trimestre'!$A$10:$A$78,A35,'compteur trimestre'!$AI$10:$AI$78)","v":0},{"$f":"AI35-B35","v":0},null,null,null,null,null,null,null,null,null,null,null,null,null,null,null,null,null,null,null,null,null,null,null,null,null,null,null,null,null,null,null,{"$f":"SUM(D36:AH36)","v":0},{"$f":"C36","v":0},{"$f":"SUM(AM35/AL35)","v":{"$error":"#DIV/0!"}},{"$f":"SUMIF('renseignement agent'!$A$8:'renseignement agent'!$A$96,A35,'renseignement agent'!$G$8:'renseignement agent'!$G$96)","v":0},{"$f":"SUMIF(D35:AH35,\"cp\",D36:AH36)","v":0}]
[null,null,{"$f":"C35","v":0}]
[null,{"$f":"SUMIF('compteur trimestre'!$A$10:$A$78,A37,'compteur trimestre'!$AI$10:$AI$78)","v":0},{"$f":"AI37-B37","v":0},null,null,null,null,null,null,null,null,null,null,null,null,null,null,null,null,null,null,null,null,null,null,null,null,null,null,null,null,null,null,null,{"$f":"SUM(D38:AH38)","v":0},{"$f":"C38","v":0},{"$f":"SUM(AM37/AL37)","v":{"$error":"#DIV/0!"}},{"$f":"SUMIF('renseignement agent'!$A$8:'renseignement agent'!$A$96,A37,'renseignement agent'!$G$8:'renseignement agent'!$G$96)","v":0},{"$f":"SUMIF(D37:AH37,\"cp\",D38:AH38)","v":0}]
[null,null,{"$f":"C37","v":0}]
[null,{"$f":"SUMIF('compteur trimestre'!$A$10:$A$78,A39,'compteur trimestre'!$AI$10:$AI$78)","v":0},{"$f":"AI39-B39","v":0},null,null,null,null,null,null,null,null,null,null,null,null,null,null,null,null,null,null,null,null,null,null,null,null,null,null,null,null,null,null,null,{"$f":"SUM(D40:AH40)","v":0},{"$f":"C40","v":0},{"$f":"SUM(AM39/AL39)","v":{"$error":"#DIV/0!"}},{"$f":"SUMIF('renseignement agent'!$A$8:'renseignement agent'!$A$96,A39,'renseignement agent'!$G$8:'renseignement agent'!$G$96)","v":0},{"$f":"SUMIF(D39:AH39,\"cp\",D40:AH40)","v":0}]
[null,null,{"$f":"C39","v":0}]
[null,{"$f":"SUMIF('compteur trimestre'!$A$10:$A$78,A41,'compteur trimestre'!$AI$10:$AI$78)","v":0},{"$f":"AI41-B41","v":0},null,null,null,null,null,null,null,null,null,null,null,null,null,null,null,null,null,null,null,null,null,null,null,null,null,null,null,null,null,null,null,{"$f":"SUM(D42:AH42)","v":0},{"$f":"C42","v":0},{"$f":"SUM(AM41/AL41)","v":{"$error":"#DIV/0!"}},{"$f":"SUMIF('renseignement agent'!$A$8:'renseignement agent'!$A$96,A41,'renseignement agent'!$G$8:'renseignement agent'!$G$96)","v":0},{"$f":"SUMIF(D41:AH41,\"cp\",D42:AH42)","v":0}]
[null,null,{"$f":"C41","v":0}]
[null,{"$f":"SUMIF('compteur trimestre'!$A$10:$A$78,A43,'compteur trimestre'!$AI$10:$AI$78)","v":0},{"$f":"AI43-B43","v":0},null,null,null,null,null,null,null,null,null,null,null,null,null,null,null,null,null,null,null,null,null,null,null,null,null,null,null,null,null,null,null,{"$f":"SUM(D44:AH44)","v":0},{"$f":"C44","v":0},{"$f":"SUM(AM43/AL43)","v":{"$error":"#DIV/0!"}},{"$f":"SUMIF('renseignement agent'!$A$8:'renseignement agent'!$A$96,A43,'renseignement agent'!$G$8:'renseignement agent'!$G$96)","v":0},{"$f":"SUMIF(D43:AH43,\"cp\",D44:AH44)","v":0}]
[null,null,{"$f":"C43","v":0}]
[null,{"$f":"SUMIF('compteur trimestre'!$A$10:$A$78,A45,'compteur trimestre'!$AI$10:$AI$78)","v":0},{"$f":"AI45-B45","v":0},null,null,null,null,null,null,null,null,null,null,null,null,null,null,null,null,null,null,null,null,null,null,null,null,null,null,null,null,null,null,null,{"$f":"SUM(D46:AH46)","v":0},{"$f":"C46","v":0},{"$f":"SUM(AM45/AL45)","v":{"$error":"#DIV/0!"}},{"$f":"SUMIF('renseignement agent'!$A$8:'renseignement agent'!$A$96,A45,'renseignement agent'!$G$8:'renseignement agent'!$G$96)","v":0},{"$f":"SUMIF(D45:AH45,\"cp\",D46:AH46)","v":0}]
[null,null,{"$f":"C45","v":0}]
[null,{"$f":"SUMIF('compteur trimestre'!$A$10:$A$78,A47,'compteur trimestre'!$AI$10:$AI$78)","v":0},{"$f":"AI47-B47","v":0},null,null,null,null,null,null,null,null,null,null,null,null,null,null,null,null,null,null,null,null,null,null,null,null,null,null,null,null,null,null,null,{"$f":"SUM(D48:AH48)","v":0},{"$f":"C48","v":0},{"$f":"SUM(AM47/AL47)","v":{"$error":"#DIV/0!"}},{"$f":"SUMIF('renseignement agent'!$A$8:'renseignement agent'!$A$96,A47,'renseignement agent'!$G$8:'renseignement agent'!$G$96)","v":0},{"$f":"SUMIF(D47:AH47,\"cp\",D48:AH48)","v":0}]
[null,null,{"$f":"C47","v":0}]
[null,{"$f":"SUMIF('compteur trimestre'!$A$10:$A$78,A49,'compteur trimestre'!$AI$10:$AI$78)","v":0},{"$f":"AI49-B49","v":0},null,null,null,null,null,null,null,null,null,null,null,null,null,null,null,null,null,null,null,null,null,null,null,null,null,null,null,null,null,null,null,{"$f":"SUM(D50:AH50)","v":0},{"$f":"C50","v":0},{"$f":"SUM(AM49/AL49)","v":{"$error":"#DIV/0!"}},{"$f":"SUMIF('renseignement agent'!$A$8:'renseignement agent'!$A$96,A49,'renseignement agent'!$G$8:'renseignement agent'!$G$96)","v":0},{"$f":"SUMIF(D49:AH49,\"cp\",D50:AH50)","v":0}]
[null,null,{"$f":"C49","v":0}]
[null,{"$f":"SUMIF('compteur trimestre'!$A$10:$A$78,A51,'compteur trimestre'!$AI$10:$AI$78)","v":0},{"$f":"AI51-B51","v":0},null,null,null,null,null,null,null,null,null,null,null,null,null,null,null,null,null,null,null,null,null,null,null,null,null,null,null,null,null,null,null,{"$f":"SUM(D52:AH52)","v":0},{"$f":"C52","v":0},{"$f":"SUM(AM51/AL51)","v":{"$error":"#DIV/0!"}},{"$f":"SUMIF('renseignement agent'!$A$8:'renseignement agent'!$A$96,A51,'renseignement agent'!$G$8:'renseignement agent'!$G$96)","v":0},{"$f":"SUMIF(D51:AH51,\"cp\",D52:AH52)","v":0}]
[null,null,{"$f":"C51","v":0}]
[null,{"$f":"SUMIF('compteur trimestre'!$A$10:$A$78,A53,'compteur trimestre'!$AI$10:$AI$78)","v":0},{"$f":"AI53-B53","v":0},null,null,null,null,null,null,null,null,null,null,null,null,null,null,null,null,null,null,null,null,null,null,null,null,null,null,null,null,null,null,null,{"$f":"SUM(D54:AH54)","v":0},{"$f":"C54","v":0},{"$f":"SUM(AM53/AL53)","v":{"$error":"#DIV/0!"}},{"$f":"SUMIF('renseignement agent'!$A$8:'renseignement agent'!$A$96,A53,'renseignement agent'!$G$8:'renseignement agent'!$G$96)","v":0},{"$f":"SUMIF(D53:AH53,\"cp\",D54:AH54)","v":0}]
[null,null,{"$f":"C53","v":0}]
[null,{"$f":"SUMIF('compteur trimestre'!$A$10:$A$78,A55,'compteur trimestre'!$AI$10:$AI$78)","v":0},{"$f":"AI55-B55","v":0},null,null,null,null,null,null,null,null,null,null,null,null,null,null,null,null,null,null,null,null,null,null,null,null,null,null,null,null,null,null,null,{"$f":"SUM(D56:AH56)","v":0},{"$f":"C56","v":0},{"$f":"SUM(AM55/AL55)","v":{"$error":"#DIV/0!"}},{"$f":"SUMIF('renseignement agent'!$A$8:'renseignement agent'!$A$96,A55,'renseignement agent'!$G$8:'renseignement agent'!$G$96)","v":0},{"$f":"SUMIF(D55:AH55,\"cp\",D56:AH56)","v":0}]
[null,null,{"$f":"C55","v":0}]
[null,{"$f":"SUMIF('compteur trimestre'!$A$10:$A$78,A57,'compteur trimestre'!$AI$10:$AI$78)","v":0},{"$f":"AI57-B57","v":0},null,null,null,null,null,null,null,null,null,null,null,null,null,null,null,null,null,null,null,null,null,null,null,null,null,null,null,null,null,null,null,{"$f":"SUM(D58:AH58)","v":0},{"$f":"C58","v":0},{"$f":"SUM(AM57/AL57)","v":{"$error":"#DIV/0!"}},{"$f":"SUMIF('renseignement agent'!$A$8:'renseignement agent'!$A$96,A57,'renseignement agent'!$G$8:'renseignement agent'!$G$96)","v":0},{"$f":"SUMIF(D57:AH57,\"cp\",D58:AH58)","v":0}]
[null,null,{"$f":"C57","v":0}]
[null,{"$f":"SUMIF('compteur trimestre'!$A$10:$A$78,A59,'compteur trimestre'!$AI$10:$AI$78)","v":0},{"$f":"AI59-B59","v":0},null,null,null,null,null,null,null,null,null,null,null,null,null,null,null,null,null,null,null,null,null,null,null,null,null,null,null,null,null,null,null,{"$f":"SUM(D60:AH60)","v":0},{"$f":"C60","v":0},{"$f":"SUM(AM59/AL59)","v":{"$error":"#DIV/0!"}},{"$f":"SUMIF('renseignement agent'!$A$8:'renseignement agent'!$A$96,A59,'renseignement agent'!$G$8:'renseignement agent'!$G$96)","v":0},{"$f":"SUMIF(D59:AH59,\"cp\",D60:AH60)","v":0}]
[null,null,{"$f":"C59","v":0}]
[null,{"$f":"SUMIF('compteur trimestre'!$A$10:$A$78,A61,'compteur trimestre'!$AI$10:$AI$78)","v":0},{"$f":"AI61-B61","v":0},null,null,null,null,null,null,null,null,null,null,null,null,null,null,null,null,null,null,null,null,null,null,null,null,null,null,null,null,null,null,null,{"$f":"SUM(D62:AH62)","v":0},{"$f":"C62","v":0},{"$f":"SUM(AM61/AL61)","v":{"$error":"#DIV/0!"}},{"$f":"SUMIF('renseignement agent'!$A$8:'renseignement agent'!$A$96,A61,'renseignement agent'!$G$8:'renseignement agent'!$G$96)","v":0},{"$f":"SUMIF(D61:AH61,\"cp\",D62:AH62)","v":0}]
[null,null,{"$f":"C61","v":0}]
[null,{"$f":"SUMIF('compteur trimestre'!$A$10:$A$78,A63,'compteur trimestre'!$AI$10:$AI$78)","v":0},{"$f":"AI63-B63","v":0},null,null,null,null,null,null,null,null,null,null,null,null,null,null,null,null,null,null,null,null,null,null,null,null,null,null,null,null,null,null,null,{"$f":"SUM(D64:AH64)","v":0},{"$f":"C64","v":0},{"$f":"SUM(AM63/AL63)","v":{"$error":"#DIV/0!"}},{"$f":"SUMIF('renseignement agent'!$A$8:'renseignement agent'!$A$96,A63,'renseignement agent'!$G$8:'renseignement agent'!$G$96)","v":0},{"$f":"SUMIF(D63:AH63,\"cp\",D64:AH64)","v":0}]
[null,null,{"$f":"C63","v":0}]
[null,{"$f":"SUMIF('compteur trimestre'!$A$10:$A$78,A65,'compteur trimestre'!$AI$10:$AI$78)","v":0},{"$f":"AI65-B65","v":0},null,null,null,null,null,null,null,null,null,null,null,null,null,null,null,null,null,null,null,null,null,null,null,null,null,null,null,null,null,null,null,{"$f":"SUM(D66:AH66)","v":0},{"$f":"C66","v":0},{"$f":"SUM(AM65/AL65)","v":{"$error":"#DIV/0!"}},{"$f":"SUMIF('renseignement agent'!$A$8:'renseignement agent'!$A$96,A65,'renseignement agent'!$G$8:'renseignement agent'!$G$96)","v":0},{"$f":"SUMIF(D65:AH65,\"cp\",D66:AH66)","v":0}]
[null,null,{"$f":"C65","v":0}]
[null,{"$f":"SUMIF('compteur trimestre'!$A$10:$A$78,A67,'compteur trimestre'!$AI$10:$AI$78)","v":0},{"$f":"AI67-B67","v":0},null,null,null,null,null,null,null,null,null,null,null,null,null,null,null,null,null,null,null,null,null,null,null,null,null,null,null,null,null,null,null,{"$f":"SUM(D68:AH68)","v":0},{"$f":"C68","v":0},{"$f":"SUM(AM67/AL67)","v":{"$error":"#DIV/0!"}},{"$f":"SUMIF('renseignement agent'!$A$8:'renseignement agent'!$A$96,A67,'renseignement agent'!$G$8:'renseignement agent'!$G$96)","v":0},{"$f":"SUMIF(D67:AH67,\"cp\",D68:AH68)","v":0}]
[null,null,{"$f":"C67","v":0}]
[null,{"$f":"SUMIF('compteur trimestre'!$A$10:$A$78,A69,'compteur trimestre'!$AI$10:$AI$78)","v":0},{"$f":"AI69-B69","v":0},null,null,null,null,null,null,null,null,null,null,null,null,null,null,null,null,null,null,null,null,null,null,null,null,null,null,null,null,null,null,null,{"$f":"SUM(D70:AH70)","v":0},{"$f":"C70","v":0},{"$f":"SUM(AM69/AL69)","v":{"$error":"#DIV/0!"}},{"$f":"SUMIF('renseignement agent'!$A$8:'renseignement agent'!$A$96,A69,'renseignement agent'!$G$8:'renseignement agent'!$G$96)","v":0},{"$f":"SUMIF(D69:AH69,\"cp\",D70:AH70)","v":0}]
[null,null,{"$f":"C69","v":0}]
[null,{"$f":"SUMIF('compteur trimestre'!$A$10:$A$78,A71,'compteur trimestre'!$AI$10:$AI$78)","v":0},{"$f":"AI71-B71","v":0},null,null,null,null,null,null,null,null,null,null,null,null,null,null,null,null,null,null,null,null,null,null,null,null,null,null,null,null,null,null,null,{"$f":"SUM(D72:AH72)","v":0},{"$f":"C72","v":0},{"$f":"SUM(AM71/AL71)","v":{"$error":"#DIV/0!"}},{"$f":"SUMIF('renseignement agent'!$A$8:'renseignement agent'!$A$96,A71,'renseignement agent'!$G$8:'renseignement agent'!$G$96)","v":0},{"$f":"SUMIF(D71:AH71,\"cp\",D72:AH72)","v":0}]
[null,null,{"$f":"C71","v":0}]
[null,{"$f":"SUMIF('compteur trimestre'!$A$10:$A$78,A73,'compteur trimestre'!$AI$10:$AI$78)","v":0},{"$f":"AI73-B73","v":0},null,null,null,null,null,null,null,null,null,null,null,null,null,null,null,null,null,null,null,null,null,null,null,null,null,null,null,null,null,null,null,{"$f":"SUM(D74:AH74)","v":0},{"$f":"C74","v":0},{"$f":"SUM(AM73/AL73)","v":{"$error":"#DIV/0!"}},{"$f":"SUMIF('renseignement agent'!$A$8:'renseignement agent'!$A$96,A73,'renseignement agent'!$G$8:'renseignement agent'!$G$96)","v":0},{"$f":"SUMIF(D73:AH73,\"cp\",D74:AH74)","v":0}]
[null,null,{"$f":"C73","v":0}]

{"sheet":"8","index":8,"n_rows":74,"n_cols":39,"rows_kept":74,"cut":false,"hidden":false,"merged":[[1,0,1,1],[2,0,2,1],[8,0,9,1],[10,34,13,34],[20,34,21,34],[22,34,23,34],[24,34,25,34],[20,1,21,1],[22,1,23,1],[24,1,25,1],[14,34,15,34],[16,34,17,34],[18,34,19,34],[14,1,15,1],[16,1,17,1],[18,1,19,1],[5,8,7,16],[5,17,7,23],[14,0,15,0],[16,0,17,0],[18,0,19,0],[20,0,21,0],[22,0,23,0],[24,0,25,0],[32,34,33,34],[34,34,35,34],[36,34,37,34],[32,0,33,0],[34,0,35,0],[36,0,37,0],[26,34,27,34],[28,34,29,34],[30,34,31,34],[28,0,29,0],[30,0,31,0],[26,1,27,1],[28,1,29,1],[26,0,27,0],[44,34,45,34],[46,34,47,34],[48,34,49,34],[44,0,45,0],[46,0,47,0],[48,0,49,0],[44,1,45,1],[38,34,39,34],[40,34,41,34],[42,34,43,34],[38,0,39,0],[40,0,41,0],[42,0,43,0],[42,1,43,1],[56,0,57,0],[58,0,59,0],[60,0,61,0],[58,1,59,1],[50,34,51,34],[52,34,53,34],[54,34,55,34],[50,0,51,0],[52,0,53,0],[54,0,55,0],[68,0,69,0],[70,0,71,0],[72,0,73,0],[72,1,73,1],[62,34,63,34],[64,34,65,34],[66,34,67,34],[62,0,63,0],[64,0,65,0],[66,0,67,0],[74,3,75,3],[74,4,75,4],[74,5,75,5],[74,6,75,6],[74,7,75,7],[74,8,75,8],[68,34,69,34],[70,34,71,34],[72,34,73,34],[74,17,75,17],[74,18,75,18],[74,19,75,19],[74,20,75,20],[74,9,75,9],[74,10,75,10],[74,11,75,11],[74,12,75,12],[74,13,75,13],[74,14,75,14],[74,33,75,33],[74,27,75,27],[74,28,75,28],[74,29,75,29],[74,30,75,30],[74,31,75,31],[74,32,75,32],[74,21,75,21],[74,22,75,22],[74,23,75,23],[74,24,75,24],[74,25,75,25],[74,26,75,26],[74,15,75,15],[74,16,75,16],[20,35,21,35],[22,35,23,35],[24,35,25,35],[60,1,61,1],[62,1,63,1],[64,1,65,1],[66,1,67,1],[68,1,69,1],[70,1,71,1],[46,1,47,1],[48,1,49,1],[50,1,51,1],[52,1,53,1],[54,1,55,1],[56,1,57,1],[30,1,31,1],[32,1,33,1],[34,1,35,1],[36,1,37,1],[38,1,39,1],[40,1,41,1],[56,34,57,34],[58,34,59,34],[60,34,61,34],[64,35,65,35],[66,35,67,35],[68,35,69,35],[70,35,71,35],[72,35,73,35],[50,35,51,35],[52,35,53,35],[54,35,55,35],[56,35,57,35],[58,35,59,35],[60,35,61,35],[10,36,13,36],[10,37,13,37],[14,36,15,36],[14,37,15,37],[14,38,15,38],[16,36,17,36],[16,37,17,37],[16,38,17,38],[62,35,63,35],[38,35,39,35],[40,35,41,35],[42,35,43,35],[44,35,45,35],[46,35,47,35],[48,35,49,35],[26,35,27,35],[28,35,29,35],[30,35,31,35],[32,35,33,35],[34,35,35,35],[36,35,37,35],[14,35,15,35],[16,35,17,35],[18,35,19,35],[22,36,23,36],[22,37,23,37],[22,38,23,38],[24,36,25,36],[24,37,25,37],[24,38,25,38],[18,36,19,36],[18,37,19,37],[18,38,19,38],[20,36,21,36],[20,37,21,37],[20,38,21,38],[30,36,31,36],[30,37,31,37],[30,38,31,38],[32,36,33,36],[32,37,33,37],[32,38,33,38],[26,36,27,36],[26,37,27,37],[26,38,27,38],[28,36,29,36],[28,37,29,37],[28,38,29,38],[38,36,39,36],[38,37,39,37],[38,38,39,38],[40,36,41,36],[40,37,41,37],[40,38,41,38],[34,36,35,36],[34,37,35,37],[34,38,35,38],[36,36,37,36],[36,37,37,37],[36,38,37,38],[46,36,47,36],[46,37,47,37],[46,38,47,38],[48,36,49,36],[48,37,49,37],[48,38,49,38],[42,36,43,36],[42,37,43,37],[42,38,43,38],[44,36,45,36],[44,37,45,37],[44,38,45,38],[60,37,61,37],[60,38,61,38],[54,36,55,36],[54,37,55,37],[54,38,55,38],[56,36,57,36],[56,37,57,37],[56,38,57,38],[50,36,51,36],[50,37,51,37],[50,38,51,38],[52,36,53,36],[52,37,53,37],[52,38,53,38],[0,19,0,20],[0,21,0,22],[70,36,71,36],[70,37,71,37],[70,38,71,38],[72,36,73,36],[72,37,73,37],[72,38,73,38],[66,36,67,36],[66,37,67,37],[66,38,67,38],[68,36,69,36],[68,37,69,37],[68,38,69,38],[62,36,63,36],[62,37,63,37],[62,38,63,38],[64,36,65,36],[64,37,65,37],[64,38,65,38],[58,36,59,36],[58,37,59,37],[58,38,59,38],[60,36,61,36],[0,1,0,2],[0,23,0,24],[0,25,0,26],[0,27,0,28],[0,30,2,31],[1,5,2,6],[1,7,2,8],[1,9,2,10],[1,11,2,12],[1,13,2,14],[1,15,2,16],[1,17,2,18],[1,19,2,20],[1,21,2,22],[1,23,2,24],[1,25,2,26],[1,27,2,28],[0,5,0,6],[0,7,0,8],[0,9,0,10],[0,11,0,12],[0,13,0,14],[0,15,0,16],[0,17,0,18]]}
[null,{"$f":"'1'!B1:C1","v":"secteur aubagne"},null,null,null,{"$f":"'1'!C2","v":"janvier"},null,{"$f":"'2'!C2","v":"février"},null,{"$f":"'3'!C2","v":"mars"},null,{"$f":"'4'!C2","v":"avril"},null,{"$f":"'5'!C2","v":"mai"},null,{"$f":"'6'!C2","v":"juin"},null,{"$f":"'7'!C2","v":"juillet"},null,{"$f":"'8'!C2","v":"août"},null,{"$f":"'9'!C2","v":"septembre"},null,{"$f":"'10'!C2","v":"octobre"},null,{"$f":"'11'!C2","v":"novembre"},null,{"$f":"'12'!C2","v":"décembre"}]
["PLANNING MOIS DE :",null,{"$f":"TEXT(B5,\"MMMM\")","v":"août"}]
["ANNEE",null,{"$f":"TEXT(B6,\"aaaa\")","v":"2018"}]
[]
["date de debut ",{"$f":"'7'!B5+'7'!A9","v":"2018-08-01"}]
["date de fin ",{"$f":"EOMONTH(B5,0)","v":"2018-08-31"},null,null,null,null,null,null,{"$f":"C2","v":"août"},null,null,null,null,null,null,null,null,{"$f":"C3","v":"2018"}]
[null,{"$f":"TODAY()","v":"2017-11-08"}]
[]
[{"$f":"SUMIF(parametre!$B$4:'parametre'!$B$15,C2,parametre!$C$4:'parametre'!$C$15)","v":31}]
[]
[null,null,null,{"$f":"B5","v":"2018-08-01"},{"$f":"D11+1","v":"2018-08-02"},{"$f":"E11+1","v":"2018-08-03"},"2018-08-04","2018-08-05","2018-08-06","2018-08-07","2018-08-08","2018-08-09","2018-08-10","2018-08-11","2018-08-12","2018-08-13","2018-08-14","2018-08-15","2018-08-16","2018-08-17","2018-08-18","2018-08-19","2018-08-20","2018-08-21","2018-08-22","2018-08-23","2018-08-24","2018-08-25","2018-08-26","2018-08-27","2018-08-28","2018-08-29","2018-08-30",{"$f":"IFERROR(IF(AG11+1>B6,\"\",AG11+1),\"\")","v":"2018-08-31"},null,null,"CP MOIS","CP 1 JOURNEE"]
[null,null,null,{"$f":"IF(D14=\"L\",\"S \"&WEEKNUM(D11),\"\")","v":""},{"$f":"IF(E14=\"L\",\"S \"&WEEKNUM(E11),\"\")","v":""},"","","","","","","","","","","","","","","","","","","","","","","","","","","","",{"$f":"IFERROR(IF(AH14=\"L\",\"S \"&WEEKNUM(AH11),\"\"),\"\")","v":""}]
[null,null,"MOIS",{"$f":"DAY(D11)","v":1},{"$f":"DAY(E11)","v":2},3,4,5,6,7,8,9,10,11,12,13,14,15,16,17,18,19,20,21,22,23,24,25,26,27,28,29,30,{"$f":"IFERROR(DAY(AH11),\"\")","v":31}]
[null,"contrat",{"$f":"'1'!C14","v":"trimestre"},{"$f":"WEEKDAY(D11)","v":"1900-01-04"},{"$f":"WEEKDAY(E11)","v":"1900-01-05"},"1900-01-06","1900-01-07","1900-01-01","1900-01-02","1900-01-03","1900-01-04","1900-01-05","1900-01-06","1900-01-07","1900-01-01","1900-01-02","1900-01-03","1900-01-04","1900-01-05","1900-01-06","1900-01-07","1900-01-01","1900-01-02","1900-01-03","1900-01-04","1900-01-05","1900-01-06","1900-01-07","1900-01-01","1900-01-02","1900-01-03","1900-01-04","1900-01-05",{"$f":"IFERROR(WEEKDAY(AH11),\"\")","v":"1900-01-06"}]
[null,{"$f":"SUMIF('compteur trimestre'!$A$10:$A$78,A15,'compteur trimestre'!$AI$10:$AI$78)","v":0},{"$f":"AI15-B15","v":0},null,null,null,null,null,null,null,null,null,null,null,null,null,null,null,null,null,null,null,null,null,null,null,null,null,null,null,null,null,null,null,{"$f":"SUM(D16:AH16)","v":0},{"$f":"C16","v":0},{"$f":"SUM(AM15/AL15)","v":{"$error":"#DIV/0!"}},{"$f":"SUMIF('renseignement agent'!$A$8:'renseignement agent'!$A$96,A15,'renseignement agent'!$G$8:'renseignement agent'!$G$96)","v":0},{"$f":"SUMIF(D15:AH15,\"cp\",D16:AH16)","v":0}]
[null,null,{"$f":"SUMIF('7'!$A$15:'7'!$A$73,A15,'7'!$AJ$15:'7'!$AJ$73)+C15","v":0}]
[null,{"$f":"SUMIF('compteur trimestre'!$A$10:$A$78,A17,'compteur trimestre'!$AI$10:$AI$78)","v":0},{"$f":"AI17-B17","v":0},null,null,null,null,null,null,null,null,null,null,null,null,null,null,null,null,null,null,null,null,null,null,null,null,null,null,null,null,null,null,null,{"$f":"SUM(D18:AH18)","v":0},{"$f":"C18","v":0},{"$f":"SUM(AM17/AL17)","v":{"$error":"#DIV/0!"}},{"$f":"SUMIF('renseignement agent'!$A$8:'renseignement agent'!$A$96,A17,'renseignement agent'!$G$8:'renseignement agent'!$G$96)","v":0},{"$f":"SUMIF(D17:AH17,\"cp\",D18:AH18)","v":0}]
[null,null,{"$f":"SUMIF('7'!$A$15:'7'!$A$73,A17,'7'!$AJ$15:'7'!$AJ$73)+C17","v":0}]
[null,{"$f":"SUMIF('compteur trimestre'!$A$10:$A$78,A19,'compteur trimestre'!$AI$10:$AI$78)","v":0},{"$f":"AI19-B19","v":0},null,null,null,null,null,null,null,null,null,null,null,null,null,null,null,null,null,null,null,null,null,null,null,null,null,null,null,null,null,null,null,{"$f":"SUM(D20:AH20)","v":0},{"$f":"C20","v":0},{"$f":"SUM(AM19/AL19)","v":{"$error":"#DIV/0!"}},{"$f":"SUMIF('renseignement agent'!$A$8:'renseignement agent'!$A$96,A19,'renseignement agent'!$G$8:'renseignement agent'!$G$96)","v":0},{"$f":"SUMIF(D19:AH19,\"cp\",D20:AH20)","v":0}]
[null,null,{"$f":"SUMIF('7'!$A$15:'7'!$A$73,A19,'7'!$AJ$15:'7'!$AJ$73)+C19","v":0}]
[null,{"$f":"SUMIF('compteur trimestre'!$A$10:$A$78,A21,'compteur trimestre'!$AI$10:$AI$78)","v":0},{"$f":"AI21-B21","v":0},null,null,null,null,null,null,null,null,null,null,null,null,null,null,null,null,null,null,null,null,null,null,null,null,null,null,null,null,null,null,null,{"$f":"SUM(D22:AH22)","v":0},{"$f":"C22","v":0},{"$f":"SUM(AM21/AL21)","v":{"$error":"#DIV/0!"}},{"$f":"SUMIF('renseignement agent'!$A$8:'renseignement agent'!$A$96,A21,'renseignement agent'!$G$8:'renseignement agent'!$G$96)","v":0},{"$f":"SUMIF(D21:AH21,\"cp\",D22:AH22)","v":0}]
[null,null,{"$f":"SUMIF('7'!$A$15:'7'!$A$73,A21,'7'!$AJ$15:'7'!$AJ$73)+C21","v":0}]
[null,{"$f":"SUMIF('compteur trimestre'!$A$10:$A$78,A23,'compteur trimestre'!$AI$10:$AI$78)","v":0},{"$f":"AI23-B23","v":0},null,null,null,null,null,null,null,null,null,null,null,null,null,null,null,null,null,null,null,null,null,null,null,null,null,null,null,null,null,null,null,{"$f":"SUM(D24:AH24)","v":0},{"$f":"C24","v":0},{"$f":"SUM(AM23/AL23)","v":{"$error":"#DIV/0!"}},{"$f":"SUMIF('renseignement agent'!$A$8:'renseignement agent'!$A$96,A23,'renseignement agent'!$G$8:'renseignement agent'!$G$96)","v":0},{"$f":"SUMIF(D23:AH23,\"cp\",D24:AH24)","v":0}]
[null,null,{"$f":"SUMIF('7'!$A$15:'7'!$A$73,A23,'7'!$AJ$15:'7'!$AJ$73)+C23","v":0}]
[null,{"$f":"SUMIF('compteur trimestre'!$A$10:$A$78,A25,'compteur trimestre'!$AI$10:$AI$78)","v":0},{"$f":"AI25-B25","v":0},null,null,null,null,null,null,null,null,null,null,null,null,null,null,null,null,null,null,null,null,null,null,null,null,null,null,null,null,null,null,null,{"$f":"SUM(D26:AH26)","v":0},{"$f":"C26","v":0},{"$f":"SUM(AM25/AL25)","v":{"$error":"#DIV/0!"}},{"$f":"SUMIF('renseignement agent'!$A$8:'renseignement agent'!$A$96,A25,'renseignement agent'!$G$8:'renseignement agent'!$G$96)","v":0},{"$f":"SUMIF(D25:AH25,\"cp\",D26:AH26)","v":0}]
[null,null,{"$f":"SUMIF('7'!$A$15:'7'!$A$73,A25,'7'!$AJ$15:'7'!$AJ$73)+C25","v":0}]
[null,{"$f":"SUMIF('compteur trimestre'!$A$10:$A$78,A27,'compteur trimestre'!$AI$10:$AI$78)","v":0},{"$f":"AI27-B27","v":0},null,null,null,null,null,null,null,null,null,null,null,null,null,null,null,null,null,null,null,null,null,null,null,null,null,null,null,null,null,null,null,{"$f":"SUM(D28:AH28)","v":0},{"$f":"C28","v":0},{"$f":"SUM(AM27/AL27)","v":{"$error":"#DIV/0!"}},{"$f":"SUMIF('renseignement agent'!$A$8:'renseignement agent'!$A$96,A27,'renseignement agent'!$G$8:'renseignement agent'!$G$96)","v":0},{"$f":"SUMIF(D27:AH27,\"cp\",D28:AH28)","v":0}]
[null,null,{"$f":"SUMIF('7'!$A$15:'7'!$A$73,A27,'7'!$AJ$15:'7'!$AJ$73)+C27","v":0}]
[null,{"$f":"SUMIF('compteur trimestre'!$A$10:$A$78,A29,'compteur trimestre'!$AI$10:$AI$78)","v":0},{"$f":"AI29-B29","v":0},null,null,null,null,null,null,null,null,null,null,null,null,null,null,null,null,null,null,null,null,null,null,null,null,null,null,null,null,null,null,null,{"$f":"SUM(D30:AH30)","v":0},{"$f":"C30","v":0},{"$f":"SUM(AM29/AL29)","v":{"$error":"#DIV/0!"}},{"$f":"SUMIF('renseignement agent'!$A$8:'renseignement agent'!$A$96,A29,'renseignement agent'!$G$8:'renseignement agent'!$G$96)","v":0},{"$f":"SUMIF(D29:AH29,\"cp\",D30:AH30)","v":0}]
[null,null,{"$f":"SUMIF('7'!$A$15:'7'!$A$73,A29,'7'!$AJ$15:'7'!$AJ$73)+C29","v":0}]
[null,{"$f":"SUMIF('compteur trimestre'!$A$10:$A$78,A31,'compteur trimestre'!$AI$10:$AI$78)","v":0},{"$f":"AI31-B31","v":0},null,null,null,null,null,null,null,null,null,null,null,null,null,null,null,null,null,null,null,null,null,null,null,null,null,null,null,null,null,null,null,{"$f":"SUM(D32:AH32)","v":0},{"$f":"C32","v":0},{"$f":"SUM(AM31/AL31)","v":{"$error":"#DIV/0!"}},{"$f":"SUMIF('renseignement agent'!$A$8:'renseignement agent'!$A$96,A31,'renseignement agent'!$G$8:'renseignement agent'!$G$96)","v":0},{"$f":"SUMIF(D31:AH31,\"cp\",D32:AH32)","v":0}]
[null,null,{"$f":"SUMIF('7'!$A$15:'7'!$A$73,A31,'7'!$AJ$15:'7'!$AJ$73)+C31","v":0}]
[null,{"$f":"SUMIF('compteur trimestre'!$A$10:$A$78,A33,'compteur trimestre'!$AI$10:$AI$78)","v":0},{"$f":"AI33-B33","v":0},null,null,null,null,null,null,null,null,null,null,null,null,null,null,null,null,null,null,null,null,null,null,null,null,null,null,null,null,null,null,null,{"$f":"SUM(D34:AH34)","v":0},{"$f":"C34","v":0},{"$f":"SUM(AM33/AL33)","v":{"$error":"#DIV/0!"}},{"$f":"SUMIF('renseignement agent'!$A$8:'renseignement agent'!$A$96,A33,'renseignement agent'!$G$8:'renseignement agent'!$G$96)","v":0},{"$f":"SUMIF(D33:AH33,\"cp\",D34:AH34)","v":0}]
[null,null,{"$f":"SUMIF('7'!$A$15:'7'!$A$73,A33,'7'!$AJ$15:'7'!$AJ$73)+C33","v":0}]
[null,{"$f":"SUMIF('compteur trimestre'!$A$10:$A$78,A35,'compteur trimestre'!$AI$10:$AI$78)","v":0},{"$f":"AI35-B35","v":0},null,null,null,null,null,null,null,null,null,null,null,null,null,null,null,null,null,null,null,null,null,null,null,null,null,null,null,null,null,null,null,{"$f":"SUM(D36:AH36)","v":0},{"$f":"C36","v":0},{"$f":"SUM(AM35/AL35)","v":{"$error":"#DIV/0!"}},{"$f":"SUMIF('renseignement agent'!$A$8:'renseignement agent'!$A$96,A35,'renseignement agent'!$G$8:'renseignement agent'!$G$96)","v":0},{"$f":"SUMIF(D35:AH35,\"cp\",D36:AH36)","v":0}]
[null,null,{"$f":"SUMIF('7'!$A$15:'7'!$A$73,A35,'7'!$AJ$15:'7'!$AJ$73)+C35","v":0}]
[null,{"$f":"SUMIF('compteur trimestre'!$A$10:$A$78,A37,'compteur trimestre'!$AI$10:$AI$78)","v":0},{"$f":"AI37-B37","v":0},null,null,null,null,null,null,null,null,null,null,null,null,null,null,null,null,null,null,null,null,null,null,null,null,null,null,null,null,null,null,null,{"$f":"SUM(D38:AH38)","v":0},{"$f":"C38","v":0},{"$f":"SUM(AM37/AL37)","v":{"$error":"#DIV/0!"}},{"$f":"SUMIF('renseignement agent'!$A$8:'renseignement agent'!$A$96,A37,'renseignement agent'!$G$8:'renseignement agent'!$G$96)","v":0},{"$f":"SUMIF(D37:AH37,\"cp\",D38:AH38)","v":0}]
[null,null,{"$f":"SUMIF('7'!$A$15:'7'!$A$73,A37,'7'!$AJ$15:'7'!$AJ$73)+C37","v":0}]
[null,{"$f":"SUMIF('compteur trimestre'!$A$10:$A$78,A39,'compteur trimestre'!$AI$10:$AI$78)","v":0},{"$f":"AI39-B39","v":0},null,null,null,null,null,null,null,null,null,null,null,null,null,null,null,null,null,null,null,null,null,null,null,null,null,null,null,null,null,null,null,{"$f":"SUM(D40:AH40)","v":0},{"$f":"C40","v":0},{"$f":"SUM(AM39/AL39)","v":{"$error":"#DIV/0!"}},{"$f":"SUMIF('renseignement agent'!$A$8:'renseignement agent'!$A$96,A39,'renseignement agent'!$G$8:'renseignement agent'!$G$96)","v":0},{"$f":"SUMIF(D39:AH39,\"cp\",D40:AH40)","v":0}]
[null,null,{"$f":"SUMIF('7'!$A$15:'7'!$A$73,A39,'7'!$AJ$15:'7'!$AJ$73)+C39","v":0}]
[null,{"$f":"SUMIF('compteur trimestre'!$A$10:$A$78,A41,'compteur trimestre'!$AI$10:$AI$78)","v":0},{"$f":"AI41-B41","v":0},null,null,null,null,null,null,null,null,null,null,null,null,null,null,null,null,null,null,null,null,null,null,null,null,null,null,null,null,null,null,null,{"$f":"SUM(D42:AH42)","v":0},{"$f":"C42","v":0},{"$f":"SUM(AM41/AL41)","v":{"$error":"#DIV/0!"}},{"$f":"SUMIF('renseignement agent'!$A$8:'renseignement agent'!$A$96,A41,'renseignement agent'!$G$8:'renseignement agent'!$G$96)","v":0},{"$f":"SUMIF(D41:AH41,\"cp\",D42:AH42)","v":0}]
[null,null,{"$f":"SUMIF('7'!$A$15:'7'!$A$73,A41,'7'!$AJ$15:'7'!$AJ$73)+C41","v":0}]
[null,{"$f":"SUMIF('compteur trimestre'!$A$10:$A$78,A43,'compteur trimestre'!$AI$10:$AI$78)","v":0},{"$f":"AI43-B43","v":0},null,null,null,null,null,null,null,null,null,null,null,null,null,null,null,null,null,null,null,null,null,null,null,null,null,null,null,null,null,null,null,{"$f":"SUM(D44:AH44)","v":0},{"$f":"C44","v":0},{"$f":"SUM(AM43/AL43)","v":{"$error":"#DIV/0!"}},{"$f":"SUMIF('renseignement agent'!$A$8:'renseignement agent'!$A$96,A43,'renseignement agent'!$G$8:'renseignement agent'!$G$96)","v":0},{"$f":"SUMIF(D43:AH43,\"cp\",D44:AH44)","v":0}]
[null,null,{"$f":"SUMIF('7'!$A$15:'7'!$A$73,A43,'7'!$AJ$15:'7'!$AJ$73)+C43","v":0}]
[null,{"$f":"SUMIF('compteur trimestre'!$A$10:$A$78,A45,'compteur trimestre'!$AI$10:$AI$78)","v":0},{"$f":"AI45-B45","v":0},null,null,null,null,null,null,null,null,null,null,null,null,null,null,null,null,null,null,null,null,null,null,null,null,null,null,null,null,null,null,null,{"$f":"SUM(D46:AH46)","v":0},{"$f":"C46","v":0},{"$f":"SUM(AM45/AL45)","v":{"$error":"#DIV/0!"}},{"$f":"SUMIF('renseignement agent'!$A$8:'renseignement agent'!$A$96,A45,'renseignement agent'!$G$8:'renseignement agent'!$G$96)","v":0},{"$f":"SUMIF(D45:AH45,\"cp\",D46:AH46)","v":0}]
[null,null,{"$f":"SUMIF('7'!$A$15:'7'!$A$73,A45,'7'!$AJ$15:'7'!$AJ$73)+C45","v":0}]
[null,{"$f":"SUMIF('compteur trimestre'!$A$10:$A$78,A47,'compteur trimestre'!$AI$10:$AI$78)","v":0},{"$f":"AI47-B47","v":0},null,null,null,null,null,null,null,null,null,null,null,null,null,null,null,null,null,null,null,null,null,null,null,null,null,null,null,null,null,null,null,{"$f":"SUM(D48:AH48)","v":0},{"$f":"C48","v":0},{"$f":"SUM(AM47/AL47)","v":{"$error":"#DIV/0!"}},{"$f":"SUMIF('renseignement agent'!$A$8:'renseignement agent'!$A$96,A47,'renseignement agent'!$G$8:'renseignement agent'!$G$96)","v":0},{"$f":"SUMIF(D47:AH47,\"cp\",D48:AH48)","v":0}]
[null,null,{"$f":"SUMIF('7'!$A$15:'7'!$A$73,A47,'7'!$AJ$15:'7'!$AJ$73)+C47","v":0}]
[null,{"$f":"SUMIF('compteur trimestre'!$A$10:$A$78,A49,'compteur trimestre'!$AI$10:$AI$78)","v":0},{"$f":"AI49-B49","v":0},null,null,null,null,null,null,null,null,null,null,null,null,null,null,null,null,null,null,null,null,null,null,null,null,null,null,null,null,null,null,null,{"$f":"SUM(D50:AH50)","v":0},{"$f":"C50","v":0},{"$f":"SUM(AM49/AL49)","v":{"$error":"#DIV/0!"}},{"$f":"SUMIF('renseignement agent'!$A$8:'renseignement agent'!$A$96,A49,'renseignement agent'!$G$8:'renseignement agent'!$G$96)","v":0},{"$f":"SUMIF(D49:AH49,\"cp\",D50:AH50)","v":0}]
[null,null,{"$f":"SUMIF('7'!$A$15:'7'!$A$73,A49,'7'!$AJ$15:'7'!$AJ$73)+C49","v":0}]
[null,{"$f":"SUMIF('compteur trimestre'!$A$10:$A$78,A51,'compteur trimestre'!$AI$10:$AI$78)","v":0},{"$f":"AI51-B51","v":0},null,null,null,null,null,null,null,null,null,null,null,null,null,null,null,null,null,null,null,null,null,null,null,null,null,null,null,null,null,null,null,{"$f":"SUM(D52:AH52)","v":0},{"$f":"C52","v":0},{"$f":"SUM(AM51/AL51)","v":{"$error":"#DIV/0!"}},{"$f":"SUMIF('renseignement agent'!$A$8:'renseignement agent'!$A$96,A51,'renseignement agent'!$G$8:'renseignement agent'!$G$96)","v":0},{"$f":"SUMIF(D51:AH51,\"cp\",D52:AH52)","v":0}]
[null,null,{"$f":"SUMIF('7'!$A$15:'7'!$A$73,A51,'7'!$AJ$15:'7'!$AJ$73)+C51","v":0}]
[null,{"$f":"SUMIF('compteur trimestre'!$A$10:$A$78,A53,'compteur trimestre'!$AI$10:$AI$78)","v":0},{"$f":"AI53-B53","v":0},null,null,null,null,null,null,null,null,null,null,null,null,null,null,null,null,null,null,null,null,null,null,null,null,null,null,null,null,null,null,null,{"$f":"SUM(D54:AH54)","v":0},{"$f":"C54","v":0},{"$f":"SUM(AM53/AL53)","v":{"$error":"#DIV/0!"}},{"$f":"SUMIF('renseignement agent'!$A$8:'renseignement agent'!$A$96,A53,'renseignement agent'!$G$8:'renseignement agent'!$G$96)","v":0},{"$f":"SUMIF(D53:AH53,\"cp\",D54:AH54)","v":0}]
[null,null,{"$f":"SUMIF('7'!$A$15:'7'!$A$73,A53,'7'!$AJ$15:'7'!$AJ$73)+C53","v":0}]
[null,{"$f":"SUMIF('compteur trimestre'!$A$10:$A$78,A55,'compteur trimestre'!$AI$10:$AI$78)","v":0},{"$f":"AI55-B55","v":0},null,null,null,null,null,null,null,null,null,null,null,null,null,null,null,null,null,null,null,null,null,null,null,null,null,null,null,null,null,null,null,{"$f":"SUM(D56:AH56)","v":0},{"$f":"C56","v":0},{"$f":"SUM(AM55/AL55)","v":{"$error":"#DIV/0!"}},{"$f":"SUMIF('renseignement agent'!$A$8:'renseignement agent'!$A$96,A55,'renseignement agent'!$G$8:'renseignement agent'!$G$96)","v":0},{"$f":"SUMIF(D55:AH55,\"cp\",D56:AH56)","v":0}]
[null,null,{"$f":"SUMIF('7'!$A$15:'7'!$A$73,A55,'7'!$AJ$15:'7'!$AJ$73)+C55","v":0}]
[null,{"$f":"SUMIF('compteur trimestre'!$A$10:$A$78,A57,'compteur trimestre'!$AI$10:$AI$78)","v":0},{"$f":"AI57-B57","v":0},null,null,null,null,null,null,null,null,null,null,null,null,null,null,null,null,null,null,null,null,null,null,null,null,null,null,null,null,null,null,null,{"$f":"SUM(D58:AH58)","v":0},{"$f":"C58","v":0},{"$f":"SUM(AM57/AL57)","v":{"$error":"#DIV/0!"}},{"$f":"SUMIF('renseignement agent'!$A$8:'renseignement agent'!$A$96,A57,'renseignement agent'!$G$8:'renseignement agent'!$G$96)","v":0},{"$f":"SUMIF(D57:AH57,\"cp\",D58:AH58)","v":0}]
[null,null,{"$f":"SUMIF('7'!$A$15:'7'!$A$73,A57,'7'!$AJ$15:'7'!$AJ$73)+C57","v":0}]
[null,{"$f":"SUMIF('compteur trimestre'!$A$10:$A$78,A59,'compteur trimestre'!$AI$10:$AI$78)","v":0},{"$f":"AI59-B59","v":0},null,null,null,null,null,null,null,null,null,null,null,null,null,null,null,null,null,null,null,null,null,null,null,null,null,null,null,null,null,null,null,{"$f":"SUM(D60:AH60)","v":0},{"$f":"C60","v":0},{"$f":"SUM(AM59/AL59)","v":{"$error":"#DIV/0!"}},{"$f":"SUMIF('renseignement agent'!$A$8:'renseignement agent'!$A$96,A59,'renseignement agent'!$G$8:'renseignement agent'!$G$96)","v":0},{"$f":"SUMIF(D59:AH59,\"cp\",D60:AH60)","v":0}]
[null,null,{"$f":"SUMIF('7'!$A$15:'7'!$A$73,A59,'7'!$AJ$15:'7'!$AJ$73)+C59","v":0}]
[null,{"$f":"SUMIF('compteur trimestre'!$A$10:$A$78,A61,'compteur trimestre'!$AI$10:$AI$78)","v":0},{"$f":"AI61-B61","v":0},null,null,null,null,null,null,null,null,null,null,null,null,null,null,null,null,null,null,null,null,null,null,null,null,null,null,null,null,null,null,null,{"$f":"SUM(D62:AH62)","v":0},{"$f":"C62","v":0},{"$f":"SUM(AM61/AL61)","v":{"$error":"#DIV/0!"}},{"$f":"SUMIF('renseignement agent'!$A$8:'renseignement agent'!$A$96,A61,'renseignement agent'!$G$8:'renseignement agent'!$G$96)","v":0},{"$f":"SUMIF(D61:AH61,\"cp\",D62:AH62)","v":0}]
[null,null,{"$f":"SUMIF('7'!$A$15:'7'!$A$73,A61,'7'!$AJ$15:'7'!$AJ$73)+C61","v":0}]
[null,{"$f":"SUMIF('compteur trimestre'!$A$10:$A$78,A63,'compteur trimestre'!$AI$10:$AI$78)","v":0},{"$f":"AI63-B63","v":0},null,null,null,null,null,null,null,null,null,null,null,null,null,null,null,null,null,null,null,null,null,null,null,null,null,null,null,null,null,null,null,{"$f":"SUM(D64:AH64)","v":0},{"$f":"C64","v":0},{"$f":"SUM(AM63/AL63)","v":{"$error":"#DIV/0!"}},{"$f":"SUMIF('renseignement agent'!$A$8:'renseignement agent'!$A$96,A63,'renseignement agent'!$G$8:'renseignement agent'!$G$96)","v":0},{"$f":"SUMIF(D63:AH63,\"cp\",D64:AH64)","v":0}]
[null,null,{"$f":"SUMIF('7'!$A$15:'7'!$A$73,A63,'7'!$AJ$15:'7'!$AJ$73)+C63","v":0}]
[null,{"$f":"SUMIF('compteur trimestre'!$A$10:$A$78,A65,'compteur trimestre'!$AI$10:$AI$78)","v":0},{"$f":"AI65-B65","v":0},null,null,null,null,null,null,null,null,null,null,null,null,null,null,null,null,null,null,null,null,null,null,null,null,null,null,null,null,null,null,null,{"$f":"SUM(D66:AH66)","v":0},{"$f":"C66","v":0},{"$f":"SUM(AM65/AL65)","v":{"$error":"#DIV/0!"}},{"$f":"SUMIF('renseignement agent'!$A$8:'renseignement agent'!$A$96,A65,'renseignement agent'!$G$8:'renseignement agent'!$G$96)","v":0},{"$f":"SUMIF(D65:AH65,\"cp\",D66:AH66)","v":0}]
[null,null,{"$f":"SUMIF('7'!$A$15:'7'!$A$73,A65,'7'!$AJ$15:'7'!$AJ$73)+C65","v":0}]
[null,{"$f":"SUMIF('compteur trimestre'!$A$10:$A$78,A67,'compteur trimestre'!$AI$10:$AI$78)","v":0},{"$f":"AI67-B67","v":0},null,null,null,null,null,null,null,null,null,null,null,null,null,null,null,null,null,null,null,null,null,null,null,null,null,null,null,null,null,null,null,{"$f":"SUM(D68:AH68)","v":0},{"$f":"C68","v":0},{"$f":"SUM(AM67/AL67)","v":{"$error":"#DIV/0!"}},{"$f":"SUMIF('renseignement agent'!$A$8:'renseignement agent'!$A$96,A67,'renseignement agent'!$G$8:'renseignement agent'!$G$96)","v":0},{"$f":"SUMIF(D67:AH67,\"cp\",D68:AH68)","v":0}]
[null,null,{"$f":"SUMIF('7'!$A$15:'7'!$A$73,A67,'7'!$AJ$15:'7'!$AJ$73)+C67","v":0}]
[null,{"$f":"SUMIF('compteur trimestre'!$A$10:$A$78,A69,'compteur trimestre'!$AI$10:$AI$78)","v":0},{"$f":"AI69-B69","v":0},null,null,null,null,null,null,null,null,null,null,null,null,null,null,null,null,null,null,null,null,null,null,null,null,null,null,null,null,null,null,null,{"$f":"SUM(D70:AH70)","v":0},{"$f":"C70","v":0},{"$f":"SUM(AM69/AL69)","v":{"$error":"#DIV/0!"}},{"$f":"SUMIF('renseignement agent'!$A$8:'renseignement agent'!$A$96,A69,'renseignement agent'!$G$8:'renseignement agent'!$G$96)","v":0},{"$f":"SUMIF(D69:AH69,\"cp\",D70:AH70)","v":0}]
[null,null,{"$f":"SUMIF('7'!$A$15:'7'!$A$73,A69,'7'!$AJ$15:'7'!$AJ$73)+C69","v":0}]
[null,{"$f":"SUMIF('compteur trimestre'!$A$10:$A$78,A71,'compteur trimestre'!$AI$10:$AI$78)","v":0},{"$f":"AI71-B71","v":0},null,null,null,null,null,null,null,null,null,null,null,null,null,null,null,null,null,null,null,null,null,null,null,null,null,null,null,null,null,null,null,{"$f":"SUM(D72:AH72)","v":0},{"$f":"C72","v":0},{"$f":"SUM(AM71/AL71)","v":{"$error":"#DIV/0!"}},{"$f":"SUMIF('renseignement agent'!$A$8:'renseignement agent'!$A$96,A71,'renseignement agent'!$G$8:'renseignement agent'!$G$96)","v":0},{"$f":"SUMIF(D71:AH71,\"cp\",D72:AH72)","v":0}]
[null,null,{"$f":"SUMIF('7'!$A$15:'7'!$A$73,A71,'7'!$AJ$15:'7'!$AJ$73)+C71","v":0}]
[null,{"$f":"SUMIF('compteur trimestre'!$A$10:$A$78,A73,'compteur trimestre'!$AI$10:$AI$78)","v":0},{"$f":"AI73-B73","v":0},null,null,null,null,null,null,null,null,null,null,null,null,null,null,null,null,null,null,null,null,null,null,null,null,null,null,null,null,null,null,null,{"$f":"SUM(D74:AH74)","v":0},{"$f":"C74","v":0},{"$f":"SUM(AM73/AL73)","v":{"$error":"#DIV/0!"}},{"$f":"SUMIF('renseignement agent'!$A$8:'renseignement agent'!$A$96,A73,'renseignement agent'!$G$8:'renseignement agent'!$G$96)","v":0},{"$f":"SUMIF(D73:AH73,\"cp\",D74:AH74)","v":0}]
[null,null,{"$f":"SUMIF('7'!$A$15:'7'!$A$73,A73,'7'!$AJ$15:'7'!$AJ$73)+C73","v":0}]

{"sheet":"9","index":9,"n_rows":74,"n_cols":39,"rows_kept":74,"cut":false,"hidden":false,"merged":[[1,0,1,1],[2,0,2,1],[8,0,9,1],[10,34,13,34],[20,34,21,34],[22,34,23,34],[24,34,25,34],[20,1,21,1],[22,1,23,1],[24,1,25,1],[14,34,15,34],[16,34,17,34],[18,34,19,34],[14,1,15,1],[16,1,17,1],[18,1,19,1],[5,8,7,16],[5,17,7,23],[14,0,15,0],[16,0,17,0],[18,0,19,0],[20,0,21,0],[22,0,23,0],[24,0,25,0],[32,34,33,34],[34,34,35,34],[36,34,37,34],[32,0,33,0],[34,0,35,0],[36,0,37,0],[26,34,27,34],[28,34,29,34],[30,34,31,34],[28,0,29,0],[30,0,31,0],[26,1,27,1],[28,1,29,1],[26,0,27,0],[44,34,45,34],[46,34,47,34],[48,34,49,34],[44,0,45,0],[46,0,47,0],[48,0,49,0],[44,1,45,1],[38,34,39,34],[40,34,41,34],[42,34,43,34],[38,0,39,0],[40,0,41,0],[42,0,43,0],[42,1,43,1],[56,0,57,0],[58,0,59,0],[60,0,61,0],[58,1,59,1],[50,34,51,34],[52,34,53,34],[54,34,55,34],[50,0,51,0],[52,0,53,0],[54,0,55,0],[68,0,69,0],[70,0,71,0],[72,0,73,0],[72,1,73,1],[62,34,63,34],[64,34,65,34],[66,34,67,34],[62,0,63,0],[64,0,65,0],[66,0,67,0],[74,3,75,3],[74,4,75,4],[74,5,75,5],[74,6,75,6],[74,7,75,7],[74,8,75,8],[68,34,69,34],[70,34,71,34],[72,34,73,34],[74,17,75,17],[74,18,75,18],[74,19,75,19],[74,20,75,20],[74,9,75,9],[74,10,75,10],[74,11,75,11],[74,12,75,12],[74,13,75,13],[74,14,75,14],[74,33,75,33],[74,27,75,27],[74,28,75,28],[74,29,75,29],[74,30,75,30],[74,31,75,31],[74,32,75,32],[74,21,75,21],[74,22,75,22],[74,23,75,23],[74,24,75,24],[74,25,75,25],[74,26,75,26],[74,15,75,15],[74,16,75,16],[20,35,21,35],[22,35,23,35],[24,35,25,35],[60,1,61,1],[62,1,63,1],[64,1,65,1],[66,1,67,1],[68,1,69,1],[70,1,71,1],[46,1,47,1],[48,1,49,1],[50,1,51,1],[52,1,53,1],[54,1,55,1],[56,1,57,1],[30,1,31,1],[32,1,33,1],[34,1,35,1],[36,1,37,1],[38,1,39,1],[40,1,41,1],[56,34,57,34],[58,34,59,34],[60,34,61,34],[64,35,65,35],[66,35,67,35],[68,35,69,35],[70,35,71,35],[72,35,73,35],[50,35,51,35],[52,35,53,35],[54,35,55,35],[56,35,57,35],[58,35,59,35],[60,35,61,35],[10,36,13,36],[10,37,13,37],[14,36,15,36],[14,37,15,37],[14,38,15,38],[16,36,17,36],[16,37,17,37],[16,38,17,38],[62,35,63,35],[38,35,39,35],[40,35,41,35],[42,35,43,35],[44,35,45,35],[46,35,47,35],[48,35,49,35],[26,35,27,35],[28,35,29,35],[30,35,31,35],[32,35,33,35],[34,35,35,35],[36,35,37,35],[14,35,15,35],[16,35,17,35],[18,35,19,35],[22,36,23,36],[22,37,23,37],[22,38,23,38],[24,36,25,36],[24,37,25,37],[24,38,25,38],[18,36,19,36],[18,37,19,37],[18,38,19,38],[20,36,21,36],[20,37,21,37],[20,38,21,38],[30,36,31,36],[30,37,31,37],[30,38,31,38],[32,36,33,36],[32,37,33,37],[32,38,33,38],[26,36,27,36],[26,37,27,37],[26,38,27,38],[28,36,29,36],[28,37,29,37],[28,38,29,38],[38,36,39,36],[38,37,39,37],[38,38,39,38],[40,36,41,36],[40,37,41,37],[40,38,41,38],[34,36,35,36],[34,37,35,37],[34,38,35,38],[36,36,37,36],[36,37,37,37],[36,38,37,38],[46,36,47,36],[46,37,47,37],[46,38,47,38],[48,36,49,36],[48,37,49,37],[48,38,49,38],[42,36,43,36],[42,37,43,37],[42,38,43,38],[44,36,45,36],[44,37,45,37],[44,38,45,38],[60,37,61,37],[60,38,61,38],[54,36,55,36],[54,37,55,37],[54,38,55,38],[56,36,57,36],[56,37,57,37],[56,38,57,38],[50,36,51,36],[50,37,51,37],[50,38,51,38],[52,36,53,36],[52,37,53,37],[52,38,53,38],[0,19,0,20],[0,21,0,22],[70,36,71,36],[70,37,71,37],[70,38,71,38],[72,36,73,36],[72,37,73,37],[72,38,73,38],[66,36,67,36],[66,37,67,37],[66,38,67,38],[68,36,69,36],[68,37,69,37],[68,38,69,38],[62,36,63,36],[62,37,63,37],[62,38,63,38],[64,36,65,36],[64,37,65,37],[64,38,65,38],[58,36,59,36],[58,37,59,37],[58,38,59,38],[60,36,61,36],[0,1,0,2],[0,23,0,24],[0,25,0,26],[0,27,0,28],[0,30,2,31],[1,5,2,6],[1,7,2,8],[1,9,2,10],[1,11,2,12],[1,13,2,14],[1,15,2,16],[1,17,2,18],[1,19,2,20],[1,21,2,22],[1,23,2,24],[1,25,2,26],[1,27,2,28],[0,5,0,6],[0,7,0,8],[0,9,0,10],[0,11,0,12],[0,13,0,14],[0,15,0,16],[0,17,0,18]]}
[null,{"$f":"'1'!B1:C1","v":"secteur aubagne"},null,null,null,{"$f":"'1'!C2","v":"janvier"},null,{"$f":"'2'!C2","v":"février"},null,{"$f":"'3'!C2","v":"mars"},null,{"$f":"'4'!C2","v":"avril"},null,{"$f":"'5'!C2","v":"mai"},null,{"$f":"'6'!C2","v":"juin"},null,{"$f":"'7'!C2","v":"juillet"},null,{"$f":"'8'!C2","v":"août"},null,{"$f":"'9'!C2","v":"septembre"},null,{"$f":"'10'!C2","v":"octobre"},null,{"$f":"'11'!C2","v":"novembre"},null,{"$f":"'12'!C2","v":"décembre"}]
["PLANNING MOIS DE :",null,{"$f":"TEXT(B5,\"MMMM\")","v":"septembre"}]
["ANNEE",null,{"$f":"TEXT(B6,\"aaaa\")","v":"2018"}]
[]
["date de debut ",{"$f":"'8'!B5+'8'!A9","v":"2018-09-01"}]
["date de fin ",{"$f":"EOMONTH(B5,0)","v":"2018-09-30"},null,null,null,null,null,null,{"$f":"C2","v":"septembre"},null,null,null,null,null,null,null,null,{"$f":"C3","v":"2018"}]
[null,{"$f":"TODAY()","v":"2017-11-08"}]
[]
[{"$f":"SUMIF(parametre!$B$4:'parametre'!$B$15,C2,parametre!$C$4:'parametre'!$C$15)","v":30}]
[]
[null,null,null,{"$f":"B5","v":"2018-09-01"},{"$f":"D11+1","v":"2018-09-02"},{"$f":"E11+1","v":"2018-09-03"},"2018-09-04","2018-09-05","2018-09-06","2018-09-07","2018-09-08","2018-09-09","2018-09-10","2018-09-11","2018-09-12","2018-09-13","2018-09-14","2018-09-15","2018-09-16","2018-09-17","2018-09-18","2018-09-19","2018-09-20","2018-09-21","2018-09-22","2018-09-23","2018-09-24","2018-09-25","2018-09-26","2018-09-27","2018-09-28","2018-09-29","2018-09-30",{"$f":"IFERROR(IF(AG11+1>B6,\"\",AG11+1),\"\")","v":""},null,null,"CP MOIS","CP 1 JOURNEE"]
[null,null,null,{"$f":"IF(D14=\"L\",\"S \"&WEEKNUM(D11),\"\")","v":""},{"$f":"IF(E14=\"L\",\"S \"&WEEKNUM(E11),\"\")","v":""},"","","","","","","","","","","","","","","","","","","","","","","","","","","","",{"$f":"IFERROR(IF(AH14=\"L\",\"S \"&WEEKNUM(AH11),\"\"),\"\")","v":""}]
[null,null,"MOIS",{"$f":"DAY(D11)","v":1},{"$f":"DAY(E11)","v":2},3,4,5,6,7,8,9,10,11,12,13,14,15,16,17,18,19,20,21,22,23,24,25,26,27,28,29,30,{"$f":"IFERROR(DAY(AH11),\"\")","v":""}]
[null,"contrat",{"$f":"'1'!C14","v":"trimestre"},{"$f":"WEEKDAY(D11)","v":"1900-01-07"},{"$f":"WEEKDAY(E11)","v":"1900-01-01"},"1900-01-02","1900-01-03","1900-01-04","1900-01-05","1900-01-06","1900-01-07","1900-01-01","1900-01-02","1900-01-03","1900-01-04","1900-01-05","1900-01-06","1900-01-07","1900-01-01","1900-01-02","1900-01-03","1900-01-04","1900-01-05","1900-01-06","1900-01-07","1900-01-01","1900-01-02","1900-01-03","1900-01-04","1900-01-05","1900-01-06","1900-01-07","1900-01-01",{"$f":"IFERROR(WEEKDAY(AH11),\"\")","v":""}]
[null,{"$f":"SUMIF('compteur trimestre'!$A$10:$A$78,A15,'compteur trimestre'!$AI$10:$AI$78)","v":0},{"$f":"AI15-B15","v":0},null,null,null,null,null,null,null,null,null,null,null,null,null,null,null,null,null,null,null,null,null,null,null,null,null,null,null,null,null,null,null,{"$f":"SUM(D16:AH16)","v":0},{"$f":"C16","v":0},{"$f":"SUM(AM15/AL15)","v":{"$error":"#DIV/0!"}},{"$f":"SUMIF('renseignement agent'!$A$8:'renseignement agent'!$A$96,A15,'renseignement agent'!$G$8:'renseignement agent'!$G$96)","v":0},{"$f":"SUMIF(D15:AH15,\"cp\",D16:AH16)","v":0}]
[null,null,{"$f":"SUMIF('8'!$A$15:'8'!$A$73,A15,'8'!$AJ$15:'8'!$AJ$73)+C15","v":0}]
[null,{"$f":"SUMIF('compteur trimestre'!$A$10:$A$78,A17,'compteur trimestre'!$AI$10:$AI$78)","v":0},{"$f":"AI17-B17","v":0},null,null,null,null,null,null,null,null,null,null,null,null,null,null,null,null,null,null,null,null,null,null,null,null,null,null,null,null,null,null,null,{"$f":"SUM(D18:AH18)","v":0},{"$f":"C18","v":0},{"$f":"SUM(AM17/AL17)","v":{"$error":"#DIV/0!"}},{"$f":"SUMIF('renseignement agent'!$A$8:'renseignement agent'!$A$96,A17,'renseignement agent'!$G$8:'renseignement agent'!$G$96)","v":0},{"$f":"SUMIF(D17:AH17,\"cp\",D18:AH18)","v":0}]
[null,null,{"$f":"SUMIF('8'!$A$15:'8'!$A$73,A17,'8'!$AJ$15:'8'!$AJ$73)+C17","v":0}]
[null,{"$f":"SUMIF('compteur trimestre'!$A$10:$A$78,A19,'compteur trimestre'!$AI$10:$AI$78)","v":0},{"$f":"AI19-B19","v":0},null,null,null,null,null,null,null,null,null,null,null,null,null,null,null,null,null,null,null,null,null,null,null,null,null,null,null,null,null,null,null,{"$f":"SUM(D20:AH20)","v":0},{"$f":"C20","v":0},{"$f":"SUM(AM19/AL19)","v":{"$error":"#DIV/0!"}},{"$f":"SUMIF('renseignement agent'!$A$8:'renseignement agent'!$A$96,A19,'renseignement agent'!$G$8:'renseignement agent'!$G$96)","v":0},{"$f":"SUMIF(D19:AH19,\"cp\",D20:AH20)","v":0}]
[null,null,{"$f":"SUMIF('8'!$A$15:'8'!$A$73,A19,'8'!$AJ$15:'8'!$AJ$73)+C19","v":0}]
[null,{"$f":"SUMIF('compteur trimestre'!$A$10:$A$78,A21,'compteur trimestre'!$AI$10:$AI$78)","v":0},{"$f":"AI21-B21","v":0},null,null,null,null,null,null,null,null,null,null,null,null,null,null,null,null,null,null,null,null,null,null,null,null,null,null,null,null,null,null,null,{"$f":"SUM(D22:AH22)","v":0},{"$f":"C22","v":0},{"$f":"SUM(AM21/AL21)","v":{"$error":"#DIV/0!"}},{"$f":"SUMIF('renseignement agent'!$A$8:'renseignement agent'!$A$96,A21,'renseignement agent'!$G$8:'renseignement agent'!$G$96)","v":0},{"$f":"SUMIF(D21:AH21,\"cp\",D22:AH22)","v":0}]
[null,null,{"$f":"SUMIF('8'!$A$15:'8'!$A$73,A21,'8'!$AJ$15:'8'!$AJ$73)+C21","v":0}]
[null,{"$f":"SUMIF('compteur trimestre'!$A$10:$A$78,A23,'compteur trimestre'!$AI$10:$AI$78)","v":0},{"$f":"AI23-B23","v":0},null,null,null,null,null,null,null,null,null,null,null,null,null,null,null,null,null,null,null,null,null,null,null,null,null,null,null,null,null,null,null,{"$f":"SUM(D24:AH24)","v":0},{"$f":"C24","v":0},{"$f":"SUM(AM23/AL23)","v":{"$error":"#DIV/0!"}},{"$f":"SUMIF('renseignement agent'!$A$8:'renseignement agent'!$A$96,A23,'renseignement agent'!$G$8:'renseignement agent'!$G$96)","v":0},{"$f":"SUMIF(D23:AH23,\"cp\",D24:AH24)","v":0}]
[null,null,{"$f":"SUMIF('8'!$A$15:'8'!$A$73,A23,'8'!$AJ$15:'8'!$AJ$73)+C23","v":0}]
[null,{"$f":"SUMIF('compteur trimestre'!$A$10:$A$78,A25,'compteur trimestre'!$AI$10:$AI$78)","v":0},{"$f":"AI25-B25","v":0},null,null,null,null,null,null,null,null,null,null,null,null,null,null,null,null,null,null,null,null,null,null,null,null,null,null,null,null,null,null,null,{"$f":"SUM(D26:AH26)","v":0},{"$f":"C26","v":0},{"$f":"SUM(AM25/AL25)","v":{"$error":"#DIV/0!"}},{"$f":"SUMIF('renseignement agent'!$A$8:'renseignement agent'!$A$96,A25,'renseignement agent'!$G$8:'renseignement agent'!$G$96)","v":0},{"$f":"SUMIF(D25:AH25,\"cp\",D26:AH26)","v":0}]
[null,null,{"$f":"SUMIF('8'!$A$15:'8'!$A$73,A25,'8'!$AJ$15:'8'!$AJ$73)+C25","v":0}]
[null,{"$f":"SUMIF('compteur trimestre'!$A$10:$A$78,A27,'compteur trimestre'!$AI$10:$AI$78)","v":0},{"$f":"AI27-B27","v":0},null,null,null,null,null,null,null,null,null,null,null,null,null,null,null,null,null,null,null,null,null,null,null,null,null,null,null,null,null,null,null,{"$f":"SUM(D28:AH28)","v":0},{"$f":"C28","v":0},{"$f":"SUM(AM27/AL27)","v":{"$error":"#DIV/0!"}},{"$f":"SUMIF('renseignement agent'!$A$8:'renseignement agent'!$A$96,A27,'renseignement agent'!$G$8:'renseignement agent'!$G$96)","v":0},{"$f":"SUMIF(D27:AH27,\"cp\",D28:AH28)","v":0}]
[null,null,{"$f":"SUMIF('8'!$A$15:'8'!$A$73,A27,'8'!$AJ$15:'8'!$AJ$73)+C27","v":0}]
[null,{"$f":"SUMIF('compteur trimestre'!$A$10:$A$78,A29,'compteur trimestre'!$AI$10:$AI$78)","v":0},{"$f":"AI29-B29","v":0},null,null,null,null,null,null,null,null,null,null,null,null,null,null,null,null,null,null,null,null,null,null,null,null,null,null,null,null,null,null,null,{"$f":"SUM(D30:AH30)","v":0},{"$f":"C30","v":0},{"$f":"SUM(AM29/AL29)","v":{"$error":"#DIV/0!"}},{"$f":"SUMIF('renseignement agent'!$A$8:'renseignement agent'!$A$96,A29,'renseignement agent'!$G$8:'renseignement agent'!$G$96)","v":0},{"$f":"SUMIF(D29:AH29,\"cp\",D30:AH30)","v":0}]
[null,null,{"$f":"SUMIF('8'!$A$15:'8'!$A$73,A29,'8'!$AJ$15:'8'!$AJ$73)+C29","v":0}]
[null,{"$f":"SUMIF('compteur trimestre'!$A$10:$A$78,A31,'compteur trimestre'!$AI$10:$AI$78)","v":0},{"$f":"AI31-B31","v":0},null,null,null,null,null,null,null,null,null,null,null,null,null,null,null,null,null,null,null,null,null,null,null,null,null,null,null,null,null,null,null,{"$f":"SUM(D32:AH32)","v":0},{"$f":"C32","v":0},{"$f":"SUM(AM31/AL31)","v":{"$error":"#DIV/0!"}},{"$f":"SUMIF('renseignement agent'!$A$8:'renseignement agent'!$A$96,A31,'renseignement agent'!$G$8:'renseignement agent'!$G$96)","v":0},{"$f":"SUMIF(D31:AH31,\"cp\",D32:AH32)","v":0}]
[null,null,{"$f":"SUMIF('8'!$A$15:'8'!$A$73,A31,'8'!$AJ$15:'8'!$AJ$73)+C31","v":0}]
[null,{"$f":"SUMIF('compteur trimestre'!$A$10:$A$78,A33,'compteur trimestre'!$AI$10:$AI$78)","v":0},{"$f":"AI33-B33","v":0},null,null,null,null,null,null,null,null,null,null,null,null,null,null,null,null,null,null,null,null,null,null,null,null,null,null,null,null,null,null,null,{"$f":"SUM(D34:AH34)","v":0},{"$f":"C34","v":0},{"$f":"SUM(AM33/AL33)","v":{"$error":"#DIV/0!"}},{"$f":"SUMIF('renseignement agent'!$A$8:'renseignement agent'!$A$96,A33,'renseignement agent'!$G$8:'renseignement agent'!$G$96)","v":0},{"$f":"SUMIF(D33:AH33,\"cp\",D34:AH34)","v":0}]
[null,null,{"$f":"SUMIF('8'!$A$15:'8'!$A$73,A33,'8'!$AJ$15:'8'!$AJ$73)+C33","v":0}]
[null,{"$f":"SUMIF('compteur trimestre'!$A$10:$A$78,A35,'compteur trimestre'!$AI$10:$AI$78)","v":0},{"$f":"AI35-B35","v":0},null,null,null,null,null,null,null,null,null,null,null,null,null,null,null,null,null,null,null,null,null,null,null,null,null,null,null,null,null,null,null,{"$f":"SUM(D36:AH36)","v":0},{"$f":"C36","v":0},{"$f":"SUM(AM35/AL35)","v":{"$error":"#DIV/0!"}},{"$f":"SUMIF('renseignement agent'!$A$8:'renseignement agent'!$A$96,A35,'renseignement agent'!$G$8:'renseignement agent'!$G$96)","v":0},{"$f":"SUMIF(D35:AH35,\"cp\",D36:AH36)","v":0}]
[null,null,{"$f":"SUMIF('8'!$A$15:'8'!$A$73,A35,'8'!$AJ$15:'8'!$AJ$73)+C35","v":0}]
[null,{"$f":"SUMIF('compteur trimestre'!$A$10:$A$78,A37,'compteur trimestre'!$AI$10:$AI$78)","v":0},{"$f":"AI37-B37","v":0},null,null,null,null,null,null,null,null,null,null,null,null,null,null,null,null,null,null,null,null,null,null,null,null,null,null,null,null,null,null,null,{"$f":"SUM(D38:AH38)","v":0},{"$f":"C38","v":0},{"$f":"SUM(AM37/AL37)","v":{"$error":"#DIV/0!"}},{"$f":"SUMIF('renseignement agent'!$A$8:'renseignement agent'!$A$96,A37,'renseignement agent'!$G$8:'renseignement agent'!$G$96)","v":0},{"$f":"SUMIF(D37:AH37,\"cp\",D38:AH38)","v":0}]
[null,null,{"$f":"SUMIF('8'!$A$15:'8'!$A$73,A37,'8'!$AJ$15:'8'!$AJ$73)+C37","v":0}]
[null,{"$f":"SUMIF('compteur trimestre'!$A$10:$A$78,A39,'compteur trimestre'!$AI$10:$AI$78)","v":0},{"$f":"AI39-B39","v":0},null,null,null,null,null,null,null,null,null,null,null,null,null,null,null,null,null,null,null,null,null,null,null,null,null,null,null,null,null,null,null,{"$f":"SUM(D40:AH40)","v":0},{"$f":"C40","v":0},{"$f":"SUM(AM39/AL39)","v":{"$error":"#DIV/0!"}},{"$f":"SUMIF('renseignement agent'!$A$8:'renseignement agent'!$A$96,A39,'renseignement agent'!$G$8:'renseignement agent'!$G$96)","v":0},{"$f":"SUMIF(D39:AH39,\"cp\",D40:AH40)","v":0}]
[null,null,{"$f":"SUMIF('8'!$A$15:'8'!$A$73,A39,'8'!$AJ$15:'8'!$AJ$73)+C39","v":0}]
[null,{"$f":"SUMIF('compteur trimestre'!$A$10:$A$78,A41,'compteur trimestre'!$AI$10:$AI$78)","v":0},{"$f":"AI41-B41","v":0},null,null,null,null,null,null,null,null,null,null,null,null,null,null,null,null,null,null,null,null,null,null,null,null,null,null,null,null,null,null,null,{"$f":"SUM(D42:AH42)","v":0},{"$f":"C42","v":0},{"$f":"SUM(AM41/AL41)","v":{"$error":"#DIV/0!"}},{"$f":"SUMIF('renseignement agent'!$A$8:'renseignement agent'!$A$96,A41,'renseignement agent'!$G$8:'renseignement agent'!$G$96)","v":0},{"$f":"SUMIF(D41:AH41,\"cp\",D42:AH42)","v":0}]
[null,null,{"$f":"SUMIF('8'!$A$15:'8'!$A$73,A41,'8'!$AJ$15:'8'!$AJ$73)+C41","v":0}]
[null,{"$f":"SUMIF('compteur trimestre'!$A$10:$A$78,A43,'compteur trimestre'!$AI$10:$AI$78)","v":0},{"$f":"AI43-B43","v":0},null,null,null,null,null,null,null,null,null,null,null,null,null,null,null,null,null,null,null,null,null,null,null,null,null,null,null,null,null,null,null,{"$f":"SUM(D44:AH44)","v":0},{"$f":"C44","v":0},{"$f":"SUM(AM43/AL43)","v":{"$error":"#DIV/0!"}},{"$f":"SUMIF('renseignement agent'!$A$8:'renseignement agent'!$A$96,A43,'renseignement agent'!$G$8:'renseignement agent'!$G$96)","v":0},{"$f":"SUMIF(D43:AH43,\"cp\",D44:AH44)","v":0}]
[null,null,{"$f":"SUMIF('8'!$A$15:'8'!$A$73,A43,'8'!$AJ$15:'8'!$AJ$73)+C43","v":0}]
[null,{"$f":"SUMIF('compteur trimestre'!$A$10:$A$78,A45,'compteur trimestre'!$AI$10:$AI$78)","v":0},{"$f":"AI45-B45","v":0},null,null,null,null,null,null,null,null,null,null,null,null,null,null,null,null,null,null,null,null,null,null,null,null,null,null,null,null,null,null,null,{"$f":"SUM(D46:AH46)","v":0},{"$f":"C46","v":0},{"$f":"SUM(AM45/AL45)","v":{"$error":"#DIV/0!"}},{"$f":"SUMIF('renseignement agent'!$A$8:'renseignement agent'!$A$96,A45,'renseignement agent'!$G$8:'renseignement agent'!$G$96)","v":0},{"$f":"SUMIF(D45:AH45,\"cp\",D46:AH46)","v":0}]
[null,null,{"$f":"SUMIF('8'!$A$15:'8'!$A$73,A45,'8'!$AJ$15:'8'!$AJ$73)+C45","v":0}]
[null,{"$f":"SUMIF('compteur trimestre'!$A$10:$A$78,A47,'compteur trimestre'!$AI$10:$AI$78)","v":0},{"$f":"AI47-B47","v":0},null,null,null,null,null,null,null,null,null,null,null,null,null,null,null,null,null,null,null,null,null,null,null,null,null,null,null,null,null,null,null,{"$f":"SUM(D48:AH48)","v":0},{"$f":"C48","v":0},{"$f":"SUM(AM47/AL47)","v":{"$error":"#DIV/0!"}},{"$f":"SUMIF('renseignement agent'!$A$8:'renseignement agent'!$A$96,A47,'renseignement agent'!$G$8:'renseignement agent'!$G$96)","v":0},{"$f":"SUMIF(D47:AH47,\"cp\",D48:AH48)","v":0}]
[null,null,{"$f":"SUMIF('8'!$A$15:'8'!$A$73,A47,'8'!$AJ$15:'8'!$AJ$73)+C47","v":0}]
[null,{"$f":"SUMIF('compteur trimestre'!$A$10:$A$78,A49,'compteur trimestre'!$AI$10:$AI$78)","v":0},{"$f":"AI49-B49","v":0},null,null,null,null,null,null,null,null,null,null,null,null,null,null,null,null,null,null,null,null,null,null,null,null,null,null,null,null,null,null,null,{"$f":"SUM(D50:AH50)","v":0},{"$f":"C50","v":0},{"$f":"SUM(AM49/AL49)","v":{"$error":"#DIV/0!"}},{"$f":"SUMIF('renseignement agent'!$A$8:'renseignement agent'!$A$96,A49,'renseignement agent'!$G$8:'renseignement agent'!$G$96)","v":0},{"$f":"SUMIF(D49:AH49,\"cp\",D50:AH50)","v":0}]
[null,null,{"$f":"SUMIF('8'!$A$15:'8'!$A$73,A49,'8'!$AJ$15:'8'!$AJ$73)+C49","v":0}]
[null,{"$f":"SUMIF('compteur trimestre'!$A$10:$A$78,A51,'compteur trimestre'!$AI$10:$AI$78)","v":0},{"$f":"AI51-B51","v":0},null,null,null,null,null,null,null,null,null,null,null,null,null,null,null,null,null,null,null,null,null,null,null,null,null,null,null,null,null,null,null,{"$f":"SUM(D52:AH52)","v":0},{"$f":"C52","v":0},{"$f":"SUM(AM51/AL51)","v":{"$error":"#DIV/0!"}},{"$f":"SUMIF('renseignement agent'!$A$8:'renseignement agent'!$A$96,A51,'renseignement agent'!$G$8:'renseignement agent'!$G$96)","v":0},{"$f":"SUMIF(D51:AH51,\"cp\",D52:AH52)","v":0}]
[null,null,{"$f":"SUMIF('8'!$A$15:'8'!$A$73,A51,'8'!$AJ$15:'8'!$AJ$73)+C51","v":0}]
[null,{"$f":"SUMIF('compteur trimestre'!$A$10:$A$78,A53,'compteur trimestre'!$AI$10:$AI$78)","v":0},{"$f":"AI53-B53","v":0},null,null,null,null,null,null,null,null,null,null,null,null,null,null,null,null,null,null,null,null,null,null,null,null,null,null,null,null,null,null,null,{"$f":"SUM(D54:AH54)","v":0},{"$f":"C54","v":0},{"$f":"SUM(AM53/AL53)","v":{"$error":"#DIV/0!"}},{"$f":"SUMIF('renseignement agent'!$A$8:'renseignement agent'!$A$96,A53,'renseignement agent'!$G$8:'renseignement agent'!$G$96)","v":0},{"$f":"SUMIF(D53:AH53,\"cp\",D54:AH54)","v":0}]
[null,null,{"$f":"SUMIF('8'!$A$15:'8'!$A$73,A53,'8'!$AJ$15:'8'!$AJ$73)+C53","v":0}]
[null,{"$f":"SUMIF('compteur trimestre'!$A$10:$A$78,A55,'compteur trimestre'!$AI$10:$AI$78)","v":0},{"$f":"AI55-B55","v":0},null,null,null,null,null,null,null,null,null,null,null,null,null,null,null,null,null,null,null,null,null,null,null,null,null,null,null,null,null,null,null,{"$f":"SUM(D56:AH56)","v":0},{"$f":"C56","v":0},{"$f":"SUM(AM55/AL55)","v":{"$error":"#DIV/0!"}},{"$f":"SUMIF('renseignement agent'!$A$8:'renseignement agent'!$A$96,A55,'renseignement agent'!$G$8:'renseignement agent'!$G$96)","v":0},{"$f":"SUMIF(D55:AH55,\"cp\",D56:AH56)","v":0}]
[null,null,{"$f":"SUMIF('8'!$A$15:'8'!$A$73,A55,'8'!$AJ$15:'8'!$AJ$73)+C55","v":0}]
[null,{"$f":"SUMIF('compteur trimestre'!$A$10:$A$78,A57,'compteur trimestre'!$AI$10:$AI$78)","v":0},{"$f":"AI57-B57","v":0},null,null,null,null,null,null,null,null,null,null,null,null,null,null,null,null,null,null,null,null,null,null,null,null,null,null,null,null,null,null,null,{"$f":"SUM(D58:AH58)","v":0},{"$f":"C58","v":0},{"$f":"SUM(AM57/AL57)","v":{"$error":"#DIV/0!"}},{"$f":"SUMIF('renseignement agent'!$A$8:'renseignement agent'!$A$96,A57,'renseignement agent'!$G$8:'renseignement agent'!$G$96)","v":0},{"$f":"SUMIF(D57:AH57,\"cp\",D58:AH58)","v":0}]
[null,null,{"$f":"SUMIF('8'!$A$15:'8'!$A$73,A57,'8'!$AJ$15:'8'!$AJ$73)+C57","v":0}]
[null,{"$f":"SUMIF('compteur trimestre'!$A$10:$A$78,A59,'compteur trimestre'!$AI$10:$AI$78)","v":0},{"$f":"AI59-B59","v":0},null,null,null,null,null,null,null,null,null,null,null,null,null,null,null,null,null,null,null,null,null,null,null,null,null,null,null,null,null,null,null,{"$f":"SUM(D60:AH60)","v":0},{"$f":"C60","v":0},{"$f":"SUM(AM59/AL59)","v":{"$error":"#DIV/0!"}},{"$f":"SUMIF('renseignement agent'!$A$8:'renseignement agent'!$A$96,A59,'renseignement agent'!$G$8:'renseignement agent'!$G$96)","v":0},{"$f":"SUMIF(D59:AH59,\"cp\",D60:AH60)","v":0}]
[null,null,{"$f":"SUMIF('8'!$A$15:'8'!$A$73,A59,'8'!$AJ$15:'8'!$AJ$73)+C59","v":0}]
[null,{"$f":"SUMIF('compteur trimestre'!$A$10:$A$78,A61,'compteur trimestre'!$AI$10:$AI$78)","v":0},{"$f":"AI61-B61","v":0},null,null,null,null,null,null,null,null,null,null,null,null,null,null,null,null,null,null,null,null,null,null,null,null,null,null,null,null,null,null,null,{"$f":"SUM(D62:AH62)","v":0},{"$f":"C62","v":0},{"$f":"SUM(AM61/AL61)","v":{"$error":"#DIV/0!"}},{"$f":"SUMIF('renseignement agent'!$A$8:'renseignement agent'!$A$96,A61,'renseignement agent'!$G$8:'renseignement agent'!$G$96)","v":0},{"$f":"SUMIF(D61:AH61,\"cp\",D62:AH62)","v":0}]
[null,null,{"$f":"SUMIF('8'!$A$15:'8'!$A$73,A61,'8'!$AJ$15:'8'!$AJ$73)+C61","v":0}]
[null,{"$f":"SUMIF('compteur trimestre'!$A$10:$A$78,A63,'compteur trimestre'!$AI$10:$AI$78)","v":0},{"$f":"AI63-B63","v":0},null,null,null,null,null,null,null,null,null,null,null,null,null,null,null,null,null,null,null,null,null,null,null,null,null,null,null,null,null,null,null,{"$f":"SUM(D64:AH64)","v":0},{"$f":"C64","v":0},{"$f":"SUM(AM63/AL63)","v":{"$error":"#DIV/0!"}},{"$f":"SUMIF('renseignement agent'!$A$8:'renseignement agent'!$A$96,A63,'renseignement agent'!$G$8:'renseignement agent'!$G$96)","v":0},{"$f":"SUMIF(D63:AH63,\"cp\",D64:AH64)","v":0}]
[null,null,{"$f":"SUMIF('8'!$A$15:'8'!$A$73,A63,'8'!$AJ$15:'8'!$AJ$73)+C63","v":0}]
[null,{"$f":"SUMIF('compteur trimestre'!$A$10:$A$78,A65,'compteur trimestre'!$AI$10:$AI$78)","v":0},{"$f":"AI65-B65","v":0},null,null,null,null,null,null,null,null,null,null,null,null,null,null,null,null,null,null,null,null,null,null,null,null,null,null,null,null,null,null,null,{"$f":"SUM(D66:AH66)","v":0},{"$f":"C66","v":0},{"$f":"SUM(AM65/AL65)","v":{"$error":"#DIV/0!"}},{"$f":"SUMIF('renseignement agent'!$A$8:'renseignement agent'!$A$96,A65,'renseignement agent'!$G$8:'renseignement agent'!$G$96)","v":0},{"$f":"SUMIF(D65:AH65,\"cp\",D66:AH66)","v":0}]
[null,null,{"$f":"SUMIF('8'!$A$15:'8'!$A$73,A65,'8'!$AJ$15:'8'!$AJ$73)+C65","v":0}]
[null,{"$f":"SUMIF('compteur trimestre'!$A$10:$A$78,A67,'compteur trimestre'!$AI$10:$AI$78)","v":0},{"$f":"AI67-B67","v":0},null,null,null,null,null,null,null,null,null,null,null,null,null,null,null,null,null,null,null,null,null,null,null,null,null,null,null,null,null,null,null,{"$f":"SUM(D68:AH68)","v":0},{"$f":"C68","v":0},{"$f":"SUM(AM67/AL67)","v":{"$error":"#DIV/0!"}},{"$f":"SUMIF('renseignement agent'!$A$8:'renseignement agent'!$A$96,A67,'renseignement agent'!$G$8:'renseignement agent'!$G$96)","v":0},{"$f":"SUMIF(D67:AH67,\"cp\",D68:AH68)","v":0}]
[null,null,{"$f":"SUMIF('8'!$A$15:'8'!$A$73,A67,'8'!$AJ$15:'8'!$AJ$73)+C67","v":0}]
[null,{"$f":"SUMIF('compteur trimestre'!$A$10:$A$78,A69,'compteur trimestre'!$AI$10:$AI$78)","v":0},{"$f":"AI69-B69","v":0},null,null,null,null,null,null,null,null,null,null,null,null,null,null,null,null,null,null,null,null,null,null,null,null,null,null,null,null,null,null,null,{"$f":"SUM(D70:AH70)","v":0},{"$f":"C70","v":0},{"$f":"SUM(AM69/AL69)","v":{"$error":"#DIV/0!"}},{"$f":"SUMIF('renseignement agent'!$A$8:'renseignement agent'!$A$96,A69,'renseignement agent'!$G$8:'renseignement agent'!$G$96)","v":0},{"$f":"SUMIF(D69:AH69,\"cp\",D70:AH70)","v":0}]
[null,null,{"$f":"SUMIF('8'!$A$15:'8'!$A$73,A69,'8'!$AJ$15:'8'!$AJ$73)+C69","v":0}]
[null,{"$f":"SUMIF('compteur trimestre'!$A$10:$A$78,A71,'compteur trimestre'!$AI$10:$AI$78)","v":0},{"$f":"AI71-B71","v":0},null,null,null,null,null,null,null,null,null,null,null,null,null,null,null,null,null,null,null,null,null,null,null,null,null,null,null,null,null,null,null,{"$f":"SUM(D72:AH72)","v":0},{"$f":"C72","v":0},{"$f":"SUM(AM71/AL71)","v":{"$error":"#DIV/0!"}},{"$f":"SUMIF('renseignement agent'!$A$8:'renseignement agent'!$A$96,A71,'renseignement agent'!$G$8:'renseignement agent'!$G$96)","v":0},{"$f":"SUMIF(D71:AH71,\"cp\",D72:AH72)","v":0}]
[null,null,{"$f":"SUMIF('8'!$A$15:'8'!$A$73,A71,'8'!$AJ$15:'8'!$AJ$73)+C71","v":0}]
[null,{"$f":"SUMIF('compteur trimestre'!$A$10:$A$78,A73,'compteur trimestre'!$AI$10:$AI$78)","v":0},{"$f":"AI73-B73","v":0},null,null,null,null,null,null,null,null,null,null,null,null,null,null,null,null,null,null,null,null,null,null,null,null,null,null,null,null,null,null,null,{"$f":"SUM(D74:AH74)","v":0},{"$f":"C74","v":0},{"$f":"SUM(AM73/AL73)","v":{"$error":"#DIV/0!"}},{"$f":"SUMIF('renseignement agent'!$A$8:'renseignement agent'!$A$96,A73,'renseignement agent'!$G$8:'renseignement agent'!$G$96)","v":0},{"$f":"SUMIF(D73:AH73,\"cp\",D74:AH74)","v":0}]
[null,null,{"$f":"SUMIF('8'!$A$15:'8'!$A$73,A73,'8'!$AJ$15:'8'!$AJ$73)+C73","v":0}]

{"sheet":"10","index":10,"n_rows":74,"n_cols":39,"rows_kept":74,"cut":false,"hidden":false,"merged":[[1,0,1,1],[2,0,2,1],[8,0,9,1],[10,34,13,34],[20,34,21,34],[22,34,23,34],[24,34,25,34],[20,1,21,1],[22,1,23,1],[24,1,25,1],[14,34,15,34],[16,34,17,34],[18,34,19,34],[14,1,15,1],[16,1,17,1],[18,1,19,1],[5,8,7,16],[5,17,7,23],[14,0,15,0],[16,0,17,0],[18,0,19,0],[20,0,21,0],[22,0,23,0],[24,0,25,0],[32,34,33,34],[34,34,35,34],[36,34,37,34],[32,0,33,0],[34,0,35,0],[36,0,37,0],[26,34,27,34],[28,34,29,34],[30,34,31,34],[28,0,29,0],[30,0,31,0],[26,1,27,1],[28,1,29,1],[26,0,27,0],[44,34,45,34],[46,34,47,34],[48,34,49,34],[44,0,45,0],[46,0,47,0],[48,0,49,0],[44,1,45,1],[38,34,39,34],[40,34,41,34],[42,34,43,34],[38,0,39,0],[40,0,41,0],[42,0,43,0],[42,1,43,1],[56,0,57,0],[58,0,59,0],[60,0,61,0],[58,1,59,1],[50,34,51,34],[52,34,53,34],[54,34,55,34],[50,0,51,0],[52,0,53,0],[54,0,55,0],[68,0,69,0],[70,0,71,0],[72,0,73,0],[72,1,73,1],[62,34,63,34],[64,34,65,34],[66,34,67,34],[62,0,63,0],[64,0,65,0],[66,0,67,0],[74,3,75,3],[74,4,75,4],[74,5,75,5],[74,6,75,6],[74,7,75,7],[74,8,75,8],[68,34,69,34],[70,34,71,34],[72,34,73,34],[74,17,75,17],[74,18,75,18],[74,19,75,19],[74,20,75,20],[74,9,75,9],[74,10,75,10],[74,11,75,11],[74,12,75,12],[74,13,75,13],[74,14,75,14],[74,33,75,33],[74,27,75,27],[74,28,75,28],[74,29,75,29],[74,30,75,30],[74,31,75,31],[74,32,75,32],[74,21,75,21],[74,22,75,22],[74,23,75,23],[74,24,75,24],[74,25,75,25],[74,26,75,26],[74,15,75,15],[74,16,75,16],[20,35,21,35],[22,35,23,35],[24,35,25,35],[60,1,61,1],[62,1,63,1],[64,1,65,1],[66,1,67,1],[68,1,69,1],[70,1,71,1],[46,1,47,1],[48,1,49,1],[50,1,51,1],[52,1,53,1],[54,1,55,1],[56,1,57,1],[30,1,31,1],[32,1,33,1],[34,1,35,1],[36,1,37,1],[38,1,39,1],[40,1,41,1],[56,34,57,34],[58,34,59,34],[60,34,61,34],[64,35,65,35],[66,35,67,35],[68,35,69,35],[70,35,71,35],[72,35,73,35],[50,35,51,35],[52,35,53,35],[54,35,55,35],[56,35,57,35],[58,35,59,35],[60,35,61,35],[10,36,13,36],[10,37,13,37],[14,36,15,36],[14,37,15,37],[14,38,15,38],[16,36,17,36],[16,37,17,37],[16,38,17,38],[62,35,63,35],[38,35,39,35],[40,35,41,35],[42,35,43,35],[44,35,45,35],[46,35,47,35],[48,35,49,35],[26,35,27,35],[28,35,29,35],[30,35,31,35],[32,35,33,35],[34,35,35,35],[36,35,37,35],[14,35,15,35],[16,35,17,35],[18,35,19,35],[22,36,23,36],[22,37,23,37],[22,38,23,38],[24,36,25,36],[24,37,25,37],[24,38,25,38],[18,36,19,36],[18,37,19,37],[18,38,19,38],[20,36,21,36],[20,37,21,37],[20,38,21,38],[30,36,31,36],[30,37,31,37],[30,38,31,38],[32,36,33,36],[32,37,33,37],[32,38,33,38],[26,36,27,36],[26,37,27,37],[26,38,27,38],[28,36,29,36],[28,37,29,37],[28,38,29,38],[38,36,39,36],[38,37,39,37],[38,38,39,38],[40,36,41,36],[40,37,41,37],[40,38,41,38],[34,36,35,36],[34,37,35,37],[34,38,35,38],[36,36,37,36],[36,37,37,37],[36,38,37,38],[46,36,47,36],[46,37,47,37],[46,38,47,38],[48,36,49,36],[48,37,49,37],[48,38,49,38],[42,36,43,36],[42,37,43,37],[42,38,43,38],[44,36,45,36],[44,37,45,37],[44,38,45,38],[60,37,61,37],[60,38,61,38],[54,36,55,36],[54,37,55,37],[54,38,55,38],[56,36,57,36],[56,37,57,37],[56,38,57,38],[50,36,51,36],[50,37,51,37],[50,38,51,38],[52,36,53,36],[52,37,53,37],[52,38,53,38],[0,19,0,20],[0,21,0,22],[70,36,71,36],[70,37,71,37],[70,38,71,38],[72,36,73,36],[72,37,73,37],[72,38,73,38],[66,36,67,36],[66,37,67,37],[66,38,67,38],[68,36,69,36],[68,37,69,37],[68,38,69,38],[62,36,63,36],[62,37,63,37],[62,38,63,38],[64,36,65,36],[64,37,65,37],[64,38,65,38],[58,36,59,36],[58,37,59,37],[58,38,59,38],[60,36,61,36],[0,1,0,2],[0,23,0,24],[0,25,0,26],[0,27,0,28],[0,30,2,31],[1,5,2,6],[1,7,2,8],[1,9,2,10],[1,11,2,12],[1,13,2,14],[1,15,2,16],[1,17,2,18],[1,19,2,20],[1,21,2,22],[1,23,2,24],[1,25,2,26],[1,27,2,28],[0,5,0,6],[0,7,0,8],[0,9,0,10],[0,11,0,12],[0,13,0,14],[0,15,0,16],[0,17,0,18]]}
[null,{"$f":"'1'!B1:C1","v":"secteur aubagne"},null,null,null,{"$f":"'1'!C2","v":"janvier"},null,{"$f":"'2'!C2","v":"février"},null,{"$f":"'3'!C2","v":"mars"},null,{"$f":"'4'!C2","v":"avril"},null,{"$f":"'5'!C2","v":"mai"},null,{"$f":"'6'!C2","v":"juin"},null,{"$f":"'7'!C2","v":"juillet"},null,{"$f":"'8'!C2","v":"août"},null,{"$f":"'9'!C2","v":"septembre"},null,{"$f":"'10'!C2","v":"octobre"},null,{"$f":"'11'!C2","v":"novembre"},null,{"$f":"'12'!C2","v":"décembre"}]
["PLANNING MOIS DE :",null,{"$f":"TEXT(B5,\"MMMM\")","v":"octobre"}]
["ANNEE",null,{"$f":"TEXT(B6,\"aaaa\")","v":"2018"}]
[]
["date de debut ",{"$f":"'9'!B5+'9'!A9","v":"2018-10-01"}]
["date de fin ",{"$f":"EOMONTH(B5,0)","v":"2018-10-31"},null,null,null,null,null,null,{"$f":"C2","v":"octobre"},null,null,null,null,null,null,null,null,{"$f":"C3","v":"2018"}]
[null,{"$f":"TODAY()","v":"2017-11-08"}]
[]
[{"$f":"SUMIF(parametre!$B$4:'parametre'!$B$15,C2,parametre!$C$4:'parametre'!$C$15)","v":31}]
[]
[null,null,null,{"$f":"B5","v":"2018-10-01"},{"$f":"D11+1","v":"2018-10-02"},{"$f":"E11+1","v":"2018-10-03"},"2018-10-04","2018-10-05","2018-10-06","2018-10-07","2018-10-08","2018-10-09","2018-10-10","2018-10-11","2018-10-12","2018-10-13","2018-10-14","2018-10-15","2018-10-16","2018-10-17","2018-10-18","2018-10-19","2018-10-20","2018-10-21","2018-10-22","2018-10-23","2018-10-24","2018-10-25","2018-10-26","2018-10-27","2018-10-28","2018-10-29","2018-10-30",{"$f":"IFERROR(IF(AG11+1>B6,\"\",AG11+1),\"\")","v":"2018-10-31"},null,null,"CP MOIS","CP 1 JOURNEE"]
[null,null,null,{"$f":"IF(D14=\"L\",\"S \"&WEEKNUM(D11),\"\")","v":""},{"$f":"IF(E14=\"L\",\"S \"&WEEKNUM(E11),\"\")","v":""},"","","","","","","","","","","","","","","","","","","","","","","","","","","","",{"$f":"IFERROR(IF(AH14=\"L\",\"S \"&WEEKNUM(AH11),\"\"),\"\")","v":""}]
[null,null,"MOIS",{"$f":"DAY(D11)","v":1},{"$f":"DAY(E11)","v":2},3,4,5,6,7,8,9,10,11,12,13,14,15,16,17,18,19,20,21,22,23,24,25,26,27,28,29,30,{"$f":"IFERROR(DAY(AH11),\"\")","v":31}]
[null,"contrat",{"$f":"'1'!C14","v":"trimestre"},{"$f":"WEEKDAY(D11)","v":"1900-01-02"},{"$f":"WEEKDAY(E11)","v":"1900-01-03"},"1900-01-04","1900-01-05","1900-01-06","1900-01-07","1900-01-01","1900-01-02","1900-01-03","1900-01-04","1900-01-05","1900-01-06","1900-01-07","1900-01-01","1900-01-02","1900-01-03","1900-01-04","1900-01-05","1900-01-06","1900-01-07","1900-01-01","1900-01-02","1900-01-03","1900-01-04","1900-01-05","1900-01-06","1900-01-07","1900-01-01","1900-01-02","1900-01-03",{"$f":"IFERROR(WEEKDAY(AH11),\"\")","v":"1900-01-04"}]
[null,{"$f":"SUMIF('compteur trimestre'!$A$10:$A$78,A15,'compteur trimestre'!$AI$10:$AI$78)","v":0},{"$f":"AI15-B15","v":0},null,null,null,null,null,null,null,null,null,null,null,null,null,null,null,null,null,null,null,null,null,null,null,null,null,null,null,null,null,null,null,{"$f":"SUM(D16:AH16)","v":0},{"$f":"C16","v":0},{"$f":"SUM(AM15/AL15)","v":{"$error":"#DIV/0!"}},{"$f":"SUMIF('renseignement agent'!$A$8:'renseignement agent'!$A$96,A15,'renseignement agent'!$G$8:'renseignement agent'!$G$96)","v":0},{"$f":"SUMIF(D15:AH15,\"cp\",D16:AH16)","v":0}]
[null,null,{"$f":"C15","v":0}]
[null,{"$f":"SUMIF('compteur trimestre'!$A$10:$A$78,A17,'compteur trimestre'!$AI$10:$AI$78)","v":0},{"$f":"AI17-B17","v":0},null,null,null,null,null,null,null,null,null,null,null,null,null,null,null,null,null,null,null,null,null,null,null,null,null,null,null,null,null,null,null,{"$f":"SUM(D18:AH18)","v":0},{"$f":"C18","v":0},{"$f":"SUM(AM17/AL17)","v":{"$error":"#DIV/0!"}},{"$f":"SUMIF('renseignement agent'!$A$8:'renseignement agent'!$A$96,A17,'renseignement agent'!$G$8:'renseignement agent'!$G$96)","v":0},{"$f":"SUMIF(D17:AH17,\"cp\",D18:AH18)","v":0}]
[null,null,{"$f":"C17","v":0}]
[null,{"$f":"SUMIF('compteur trimestre'!$A$10:$A$78,A19,'compteur trimestre'!$AI$10:$AI$78)","v":0},{"$f":"AI19-B19","v":0},null,null,null,null,null,null,null,null,null,null,null,null,null,null,null,null,null,null,null,null,null,null,null,null,null,null,null,null,null,null,null,{"$f":"SUM(D20:AH20)","v":0},{"$f":"C20","v":0},{"$f":"SUM(AM19/AL19)","v":{"$error":"#DIV/0!"}},{"$f":"SUMIF('renseignement agent'!$A$8:'renseignement agent'!$A$96,A19,'renseignement agent'!$G$8:'renseignement agent'!$G$96)","v":0},{"$f":"SUMIF(D19:AH19,\"cp\",D20:AH20)","v":0}]
[null,null,{"$f":"C19","v":0}]
[null,{"$f":"SUMIF('compteur trimestre'!$A$10:$A$78,A21,'compteur trimestre'!$AI$10:$AI$78)","v":0},{"$f":"AI21-B21","v":0},null,null,null,null,null,null,null,null,null,null,null,null,null,null,null,null,null,null,null,null,null,null,null,null,null,null,null,null,null,null,null,{"$f":"SUM(D22:AH22)","v":0},{"$f":"C22","v":0},{"$f":"SUM(AM21/AL21)","v":{"$error":"#DIV/0!"}},{"$f":"SUMIF('renseignement agent'!$A$8:'renseignement agent'!$A$96,A21,'renseignement agent'!$G$8:'renseignement agent'!$G$96)","v":0},{"$f":"SUMIF(D21:AH21,\"cp\",D22:AH22)","v":0}]
[null,null,{"$f":"C21","v":0}]
[null,{"$f":"SUMIF('compteur trimestre'!$A$10:$A$78,A23,'compteur trimestre'!$AI$10:$AI$78)","v":0},{"$f":"AI23-B23","v":0},null,null,null,null,null,null,null,null,null,null,null,null,null,null,null,null,null,null,null,null,null,null,null,null,null,null,null,null,null,null,null,{"$f":"SUM(D24:AH24)","v":0},{"$f":"C24","v":0},{"$f":"SUM(AM23/AL23)","v":{"$error":"#DIV/0!"}},{"$f":"SUMIF('renseignement agent'!$A$8:'renseignement agent'!$A$96,A23,'renseignement agent'!$G$8:'renseignement agent'!$G$96)","v":0},{"$f":"SUMIF(D23:AH23,\"cp\",D24:AH24)","v":0}]
[null,null,{"$f":"C23","v":0}]
[null,{"$f":"SUMIF('compteur trimestre'!$A$10:$A$78,A25,'compteur trimestre'!$AI$10:$AI$78)","v":0},{"$f":"AI25-B25","v":0},null,null,null,null,null,null,null,null,null,null,null,null,null,null,null,null,null,null,null,null,null,null,null,null,null,null,null,null,null,null,null,{"$f":"SUM(D26:AH26)","v":0},{"$f":"C26","v":0},{"$f":"SUM(AM25/AL25)","v":{"$error":"#DIV/0!"}},{"$f":"SUMIF('renseignement agent'!$A$8:'renseignement agent'!$A$96,A25,'renseignement agent'!$G$8:'renseignement agent'!$G$96)","v":0},{"$f":"SUMIF(D25:AH25,\"cp\",D26:AH26)","v":0}]
[null,null,{"$f":"C25","v":0}]
[null,{"$f":"SUMIF('compteur trimestre'!$A$10:$A$78,A27,'compteur trimestre'!$AI$10:$AI$78)","v":0},{"$f":"AI27-B27","v":0},null,null,null,null,null,null,null,null,null,null,null,null,null,null,null,null,null,null,null,null,null,null,null,null,null,null,null,null,null,null,null,{"$f":"SUM(D28:AH28)","v":0},{"$f":"C28","v":0},{"$f":"SUM(AM27/AL27)","v":{"$error":"#DIV/0!"}},{"$f":"SUMIF('renseignement agent'!$A$8:'renseignement agent'!$A$96,A27,'renseignement agent'!$G$8:'renseignement agent'!$G$96)","v":0},{"$f":"SUMIF(D27:AH27,\"cp\",D28:AH28)","v":0}]
[null,null,{"$f":"C27","v":0}]
[null,{"$f":"SUMIF('compteur trimestre'!$A$10:$A$78,A29,'compteur trimestre'!$AI$10:$AI$78)","v":0},{"$f":"AI29-B29","v":0},null,null,null,null,null,null,null,null,null,null,null,null,null,null,null,null,null,null,null,null,null,null,null,null,null,null,null,null,null,null,null,{"$f":"SUM(D30:AH30)","v":0},{"$f":"C30","v":0},{"$f":"SUM(AM29/AL29)","v":{"$error":"#DIV/0!"}},{"$f":"SUMIF('renseignement agent'!$A$8:'renseignement agent'!$A$96,A29,'renseignement agent'!$G$8:'renseignement agent'!$G$96)","v":0},{"$f":"SUMIF(D29:AH29,\"cp\",D30:AH30)","v":0}]
[null,null,{"$f":"C29","v":0}]
[null,{"$f":"SUMIF('compteur trimestre'!$A$10:$A$78,A31,'compteur trimestre'!$AI$10:$AI$78)","v":0},{"$f":"AI31-B31","v":0},null,null,null,null,null,null,null,null,null,null,null,null,null,null,null,null,null,null,null,null,null,null,null,null,null,null,null,null,null,null,null,{"$f":"SUM(D32:AH32)","v":0},{"$f":"C32","v":0},{"$f":"SUM(AM31/AL31)","v":{"$error":"#DIV/0!"}},{"$f":"SUMIF('renseignement agent'!$A$8:'renseignement agent'!$A$96,A31,'renseignement agent'!$G$8:'renseignement agent'!$G$96)","v":0},{"$f":"SUMIF(D31:AH31,\"cp\",D32:AH32)","v":0}]
[null,null,{"$f":"C31","v":0}]
[null,{"$f":"SUMIF('compteur trimestre'!$A$10:$A$78,A33,'compteur trimestre'!$AI$10:$AI$78)","v":0},{"$f":"AI33-B33","v":0},null,null,null,null,null,null,null,null,null,null,null,null,null,null,null,null,null,null,null,null,null,null,null,null,null,null,null,null,null,null,null,{"$f":"SUM(D34:AH34)","v":0},{"$f":"C34","v":0},{"$f":"SUM(AM33/AL33)","v":{"$error":"#DIV/0!"}},{"$f":"SUMIF('renseignement agent'!$A$8:'renseignement agent'!$A$96,A33,'renseignement agent'!$G$8:'renseignement agent'!$G$96)","v":0},{"$f":"SUMIF(D33:AH33,\"cp\",D34:AH34)","v":0}]
[null,null,{"$f":"C33","v":0}]
[null,{"$f":"SUMIF('compteur trimestre'!$A$10:$A$78,A35,'compteur trimestre'!$AI$10:$AI$78)","v":0},{"$f":"AI35-B35","v":0},null,null,null,null,null,null,null,null,null,null,null,null,null,null,null,null,null,null,null,null,null,null,null,null,null,null,null,null,null,null,null,{"$f":"SUM(D36:AH36)","v":0},{"$f":"C36","v":0},{"$f":"SUM(AM35/AL35)","v":{"$error":"#DIV/0!"}},{"$f":"SUMIF('renseignement agent'!$A$8:'renseignement agent'!$A$96,A35,'renseignement agent'!$G$8:'renseignement agent'!$G$96)","v":0},{"$f":"SUMIF(D35:AH35,\"cp\",D36:AH36)","v":0}]
[null,null,{"$f":"C35","v":0}]
[null,{"$f":"SUMIF('compteur trimestre'!$A$10:$A$78,A37,'compteur trimestre'!$AI$10:$AI$78)","v":0},{"$f":"AI37-B37","v":0},null,null,null,null,null,null,null,null,null,null,null,null,null,null,null,null,null,null,null,null,null,null,null,null,null,null,null,null,null,null,null,{"$f":"SUM(D38:AH38)","v":0},{"$f":"C38","v":0},{"$f":"SUM(AM37/AL37)","v":{"$error":"#DIV/0!"}},{"$f":"SUMIF('renseignement agent'!$A$8:'renseignement agent'!$A$96,A37,'renseignement agent'!$G$8:'renseignement agent'!$G$96)","v":0},{"$f":"SUMIF(D37:AH37,\"cp\",D38:AH38)","v":0}]
[null,null,{"$f":"C37","v":0}]
[null,{"$f":"SUMIF('compteur trimestre'!$A$10:$A$78,A39,'compteur trimestre'!$AI$10:$AI$78)","v":0},{"$f":"AI39-B39","v":0},null,null,null,null,null,null,null,null,null,null,null,null,null,null,null,null,null,null,null,null,null,null,null,null,null,null,null,null,null,null,null,{"$f":"SUM(D40:AH40)","v":0},{"$f":"C40","v":0},{"$f":"SUM(AM39/AL39)","v":{"$error":"#DIV/0!"}},{"$f":"SUMIF('renseignement agent'!$A$8:'renseignement agent'!$A$96,A39,'renseignement agent'!$G$8:'renseignement agent'!$G$96)","v":0},{"$f":"SUMIF(D39:AH39,\"cp\",D40:AH40)","v":0}]
[null,null,{"$f":"C39","v":0}]
[null,{"$f":"SUMIF('compteur trimestre'!$A$10:$A$78,A41,'compteur trimestre'!$AI$10:$AI$78)","v":0},{"$f":"AI41-B41","v":0},null,null,null,null,null,null,null,null,null,null,null,null,null,null,null,null,null,null,null,null,null,null,null,null,null,null,null,null,null,null,null,{"$f":"SUM(D42:AH42)","v":0},{"$f":"C42","v":0},{"$f":"SUM(AM41/AL41)","v":{"$error":"#DIV/0!"}},{"$f":"SUMIF('renseignement agent'!$A$8:'renseignement agent'!$A$96,A41,'renseignement agent'!$G$8:'renseignement agent'!$G$96)","v":0},{"$f":"SUMIF(D41:AH41,\"cp\",D42:AH42)","v":0}]
[null,null,{"$f":"C41","v":0}]
[null,{"$f":"SUMIF('compteur trimestre'!$A$10:$A$78,A43,'compteur trimestre'!$AI$10:$AI$78)","v":0},{"$f":"AI43-B43","v":0},null,null,null,null,null,null,null,null,null,null,null,null,null,null,null,null,null,null,null,null,null,null,null,null,null,null,null,null,null,null,null,{"$f":"SUM(D44:AH44)","v":0},{"$f":"C44","v":0},{"$f":"SUM(AM43/AL43)","v":{"$error":"#DIV/0!"}},{"$f":"SUMIF('renseignement agent'!$A$8:'renseignement agent'!$A$96,A43,'renseignement agent'!$G$8:'renseignement agent'!$G$96)","v":0},{"$f":"SUMIF(D43:AH43,\"cp\",D44:AH44)","v":0}]
[null,null,{"$f":"C43","v":0}]
[null,{"$f":"SUMIF('compteur trimestre'!$A$10:$A$78,A45,'compteur trimestre'!$AI$10:$AI$78)","v":0},{"$f":"AI45-B45","v":0},null,null,null,null,null,null,null,null,null,null,null,null,null,null,null,null,null,null,null,null,null,null,null,null,null,null,null,null,null,null,null,{"$f":"SUM(D46:AH46)","v":0},{"$f":"C46","v":0},{"$f":"SUM(AM45/AL45)","v":{"$error":"#DIV/0!"}},{"$f":"SUMIF('renseignement agent'!$A$8:'renseignement agent'!$A$96,A45,'renseignement agent'!$G$8:'renseignement agent'!$G$96)","v":0},{"$f":"SUMIF(D45:AH45,\"cp\",D46:AH46)","v":0}]
[null,null,{"$f":"C45","v":0}]
[null,{"$f":"SUMIF('compteur trimestre'!$A$10:$A$78,A47,'compteur trimestre'!$AI$10:$AI$78)","v":0},{"$f":"AI47-B47","v":0},null,null,null,null,null,null,null,null,null,null,null,null,null,null,null,null,null,null,null,null,null,null,null,null,null,null,null,null,null,null,null,{"$f":"SUM(D48:AH48)","v":0},{"$f":"C48","v":0},{"$f":"SUM(AM47/AL47)","v":{"$error":"#DIV/0!"}},{"$f":"SUMIF('renseignement agent'!$A$8:'renseignement agent'!$A$96,A47,'renseignement agent'!$G$8:'renseignement agent'!$G$96)","v":0},{"$f":"SUMIF(D47:AH47,\"cp\",D48:AH48)","v":0}]
[null,null,{"$f":"C47","v":0}]
[null,{"$f":"SUMIF('compteur trimestre'!$A$10:$A$78,A49,'compteur trimestre'!$AI$10:$AI$78)","v":0},{"$f":"AI49-B49","v":0},null,null,null,null,null,null,null,null,null,null,null,null,null,null,null,null,null,null,null,null,null,null,null,null,null,null,null,null,null,null,null,{"$f":"SUM(D50:AH50)","v":0},{"$f":"C50","v":0},{"$f":"SUM(AM49/AL49)","v":{"$error":"#DIV/0!"}},{"$f":"SUMIF('renseignement agent'!$A$8:'renseignement agent'!$A$96,A49,'renseignement agent'!$G$8:'renseignement agent'!$G$96)","v":0},{"$f":"SUMIF(D49:AH49,\"cp\",D50:AH50)","v":0}]
[null,null,{"$f":"C49","v":0}]
[null,{"$f":"SUMIF('compteur trimestre'!$A$10:$A$78,A51,'compteur trimestre'!$AI$10:$AI$78)","v":0},{"$f":"AI51-B51","v":0},null,null,null,null,null,null,null,null,null,null,null,null,null,null,null,null,null,null,null,null,null,null,null,null,null,null,null,null,null,null,null,{"$f":"SUM(D52:AH52)","v":0},{"$f":"C52","v":0},{"$f":"SUM(AM51/AL51)","v":{"$error":"#DIV/0!"}},{"$f":"SUMIF('renseignement agent'!$A$8:'renseignement agent'!$A$96,A51,'renseignement agent'!$G$8:'renseignement agent'!$G$96)","v":0},{"$f":"SUMIF(D51:AH51,\"cp\",D52:AH52)","v":0}]
[null,null,{"$f":"C51","v":0}]
[null,{"$f":"SUMIF('compteur trimestre'!$A$10:$A$78,A53,'compteur trimestre'!$AI$10:$AI$78)","v":0},{"$f":"AI53-B53","v":0},null,null,null,null,null,null,null,null,null,null,null,null,null,null,null,null,null,null,null,null,null,null,null,null,null,null,null,null,null,null,null,{"$f":"SUM(D54:AH54)","v":0},{"$f":"C54","v":0},{"$f":"SUM(AM53/AL53)","v":{"$error":"#DIV/0!"}},{"$f":"SUMIF('renseignement agent'!$A$8:'renseignement agent'!$A$96,A53,'renseignement agent'!$G$8:'renseignement agent'!$G$96)","v":0},{"$f":"SUMIF(D53:AH53,\"cp\",D54:AH54)","v":0}]
[null,null,{"$f":"C53","v":0}]
[null,{"$f":"SUMIF('compteur trimestre'!$A$10:$A$78,A55,'compteur trimestre'!$AI$10:$AI$78)","v":0},{"$f":"AI55-B55","v":0},null,null,null,null,null,null,null,null,null,null,null,null,null,null,null,null,null,null,null,null,null,null,null,null,null,null,null,null,null,null,null,{"$f":"SUM(D56:AH56)","v":0},{"$f":"C56","v":0},{"$f":"SUM(AM55/AL55)","v":{"$error":"#DIV/0!"}},{"$f":"SUMIF('renseignement agent'!$A$8:'renseignement agent'!$A$96,A55,'renseignement agent'!$G$8:'renseignement agent'!$G$96)","v":0},{"$f":"SUMIF(D55:AH55,\"cp\",D56:AH56)","v":0}]
[null,null,{"$f":"C55","v":0}]
[null,{"$f":"SUMIF('compteur trimestre'!$A$10:$A$78,A57,'compteur trimestre'!$AI$10:$AI$78)","v":0},{"$f":"AI57-B57","v":0},null,null,null,null,null,null,null,null,null,null,null,null,null,null,null,null,null,null,null,null,null,null,null,null,null,null,null,null,null,null,null,{"$f":"SUM(D58:AH58)","v":0},{"$f":"C58","v":0},{"$f":"SUM(AM57/AL57)","v":{"$error":"#DIV/0!"}},{"$f":"SUMIF('renseignement agent'!$A$8:'renseignement agent'!$A$96,A57,'renseignement agent'!$G$8:'renseignement agent'!$G$96)","v":0},{"$f":"SUMIF(D57:AH57,\"cp\",D58:AH58)","v":0}]
[null,null,{"$f":"C57","v":0}]
[null,{"$f":"SUMIF('compteur trimestre'!$A$10:$A$78,A59,'compteur trimestre'!$AI$10:$AI$78)","v":0},{"$f":"AI59-B59","v":0},null,null,null,null,null,null,null,null,null,null,null,null,null,null,null,null,null,null,null,null,null,null,null,null,null,null,null,null,null,null,null,{"$f":"SUM(D60:AH60)","v":0},{"$f":"C60","v":0},{"$f":"SUM(AM59/AL59)","v":{"$error":"#DIV/0!"}},{"$f":"SUMIF('renseignement agent'!$A$8:'renseignement agent'!$A$96,A59,'renseignement agent'!$G$8:'renseignement agent'!$G$96)","v":0},{"$f":"SUMIF(D59:AH59,\"cp\",D60:AH60)","v":0}]
[null,null,{"$f":"C59","v":0}]
[null,{"$f":"SUMIF('compteur trimestre'!$A$10:$A$78,A61,'compteur trimestre'!$AI$10:$AI$78)","v":0},{"$f":"AI61-B61","v":0},null,null,null,null,null,null,null,null,null,null,null,null,null,null,null,null,null,null,null,null,null,null,null,null,null,null,null,null,null,null,null,{"$f":"SUM(D62:AH62)","v":0},{"$f":"C62","v":0},{"$f":"SUM(AM61/AL61)","v":{"$error":"#DIV/0!"}},{"$f":"SUMIF('renseignement agent'!$A$8:'renseignement agent'!$A$96,A61,'renseignement agent'!$G$8:'renseignement agent'!$G$96)","v":0},{"$f":"SUMIF(D61:AH61,\"cp\",D62:AH62)","v":0}]
[null,null,{"$f":"C61","v":0}]
[null,{"$f":"SUMIF('compteur trimestre'!$A$10:$A$78,A63,'compteur trimestre'!$AI$10:$AI$78)","v":0},{"$f":"AI63-B63","v":0},null,null,null,null,null,null,null,null,null,null,null,null,null,null,null,null,null,null,null,null,null,null,null,null,null,null,null,null,null,null,null,{"$f":"SUM(D64:AH64)","v":0},{"$f":"C64","v":0},{"$f":"SUM(AM63/AL63)","v":{"$error":"#DIV/0!"}},{"$f":"SUMIF('renseignement agent'!$A$8:'renseignement agent'!$A$96,A63,'renseignement agent'!$G$8:'renseignement agent'!$G$96)","v":0},{"$f":"SUMIF(D63:AH63,\"cp\",D64:AH64)","v":0}]
[null,null,{"$f":"C63","v":0}]
[null,{"$f":"SUMIF('compteur trimestre'!$A$10:$A$78,A65,'compteur trimestre'!$AI$10:$AI$78)","v":0},{"$f":"AI65-B65","v":0},null,null,null,null,null,null,null,null,null,null,null,null,null,null,null,null,null,null,null,null,null,null,null,null,null,null,null,null,null,null,null,{"$f":"SUM(D66:AH66)","v":0},{"$f":"C66","v":0},{"$f":"SUM(AM65/AL65)","v":{"$error":"#DIV/0!"}},{"$f":"SUMIF('renseignement agent'!$A$8:'renseignement agent'!$A$96,A65,'renseignement agent'!$G$8:'renseignement agent'!$G$96)","v":0},{"$f":"SUMIF(D65:AH65,\"cp\",D66:AH66)","v":0}]
[null,null,{"$f":"C65","v":0}]
[null,{"$f":"SUMIF('compteur trimestre'!$A$10:$A$78,A67,'compteur trimestre'!$AI$10:$AI$78)","v":0},{"$f":"AI67-B67","v":0},null,null,null,null,null,null,null,null,null,null,null,null,null,null,null,null,null,null,null,null,null,null,null,null,null,null,null,null,null,null,null,{"$f":"SUM(D68:AH68)","v":0},{"$f":"C68","v":0},{"$f":"SUM(AM67/AL67)","v":{"$error":"#DIV/0!"}},{"$f":"SUMIF('renseignement agent'!$A$8:'renseignement agent'!$A$96,A67,'renseignement agent'!$G$8:'renseignement agent'!$G$96)","v":0},{"$f":"SUMIF(D67:AH67,\"cp\",D68:AH68)","v":0}]
[null,null,{"$f":"C67","v":0}]
[null,{"$f":"SUMIF('compteur trimestre'!$A$10:$A$78,A69,'compteur trimestre'!$AI$10:$AI$78)","v":0},{"$f":"AI69-B69","v":0},null,null,null,null,null,null,null,null,null,null,null,null,null,null,null,null,null,null,null,null,null,null,null,null,null,null,null,null,null,null,null,{"$f":"SUM(D70:AH70)","v":0},{"$f":"C70","v":0},{"$f":"SUM(AM69/AL69)","v":{"$error":"#DIV/0!"}},{"$f":"SUMIF('renseignement agent'!$A$8:'renseignement agent'!$A$96,A69,'renseignement agent'!$G$8:'renseignement agent'!$G$96)","v":0},{"$f":"SUMIF(D69:AH69,\"cp\",D70:AH70)","v":0}]
[null,null,{"$f":"C69","v":0}]
[null,{"$f":"SUMIF('compteur trimestre'!$A$10:$A$78,A71,'compteur trimestre'!$AI$10:$AI$78)","v":0},{"$f":"AI71-B71","v":0},null,null,null,null,null,null,null,null,null,null,null,null,null,null,null,null,null,null,null,null,null,null,null,null,null,null,null,null,null,null,null,{"$f":"SUM(D72:AH72)","v":0},{"$f":"C72","v":0},{"$f":"SUM(AM71/AL71)","v":{"$error":"#DIV/0!"}},{"$f":"SUMIF('renseignement agent'!$A$8:'renseignement agent'!$A$96,A71,'renseignement agent'!$G$8:'renseignement agent'!$G$96)","v":0},{"$f":"SUMIF(D71:AH71,\"cp\",D72:AH72)","v":0}]
[null,null,{"$f":"C71","v":0}]
[null,{"$f":"SUMIF('compteur trimestre'!$A$10:$A$78,A73,'compteur trimestre'!$AI$10:$AI$78)","v":0},{"$f":"AI73-B73","v":0},null,null,null,null,null,null,null,null,null,null,null,null,null,null,null,null,null,null,null,null,null,null,null,null,null,null,null,null,null,null,null,{"$f":"SUM(D74:AH74)","v":0},{"$f":"C74","v":0},{"$f":"SUM(AM73/AL73)","v":{"$error":"#DIV/0!"}},{"$f":"SUMIF('renseignement agent'!$A$8:'renseignement agent'!$A$96,A73,'renseignement agent'!$G$8:'renseignement agent'!$G$96)","v":0},{"$f":"SUMIF(D73:AH73,\"cp\",D74:AH74)","v":0}]
[null,null,{"$f":"C73","v":0}]

{"sheet":"11","index":11,"n_rows":74,"n_cols":39,"rows_kept":74,"cut":false,"hidden":false,"merged":[[1,0,1,1],[2,0,2,1],[8,0,9,1],[10,34,13,34],[20,34,21,34],[22,34,23,34],[24,34,25,34],[20,1,21,1],[22,1,23,1],[24,1,25,1],[14,34,15,34],[16,34,17,34],[18,34,19,34],[14,1,15,1],[16,1,17,1],[18,1,19,1],[5,8,7,16],[5,17,7,23],[14,0,15,0],[16,0,17,0],[18,0,19,0],[20,0,21,0],[22,0,23,0],[24,0,25,0],[32,34,33,34],[34,34,35,34],[36,34,37,34],[32,0,33,0],[34,0,35,0],[36,0,37,0],[26,34,27,34],[28,34,29,34],[30,34,31,34],[28,0,29,0],[30,0,31,0],[26,1,27,1],[28,1,29,1],[26,0,27,0],[44,34,45,34],[46,34,47,34],[48,34,49,34],[44,0,45,0],[46,0,47,0],[48,0,49,0],[44,1,45,1],[38,34,39,34],[40,34,41,34],[42,34,43,34],[38,0,39,0],[40,0,41,0],[42,0,43,0],[42,1,43,1],[56,0,57,0],[58,0,59,0],[60,0,61,0],[58,1,59,1],[50,34,51,34],[52,34,53,34],[54,34,55,34],[50,0,51,0],[52,0,53,0],[54,0,55,0],[68,0,69,0],[70,0,71,0],[72,0,73,0],[72,1,73,1],[62,34,63,34],[64,34,65,34],[66,34,67,34],[62,0,63,0],[64,0,65,0],[66,0,67,0],[74,3,75,3],[74,4,75,4],[74,5,75,5],[74,6,75,6],[74,7,75,7],[74,8,75,8],[68,34,69,34],[70,34,71,34],[72,34,73,34],[74,17,75,17],[74,18,75,18],[74,19,75,19],[74,20,75,20],[74,9,75,9],[74,10,75,10],[74,11,75,11],[74,12,75,12],[74,13,75,13],[74,14,75,14],[74,33,75,33],[74,27,75,27],[74,28,75,28],[74,29,75,29],[74,30,75,30],[74,31,75,31],[74,32,75,32],[74,21,75,21],[74,22,75,22],[74,23,75,23],[74,24,75,24],[74,25,75,25],[74,26,75,26],[74,15,75,15],[74,16,75,16],[20,35,21,35],[22,35,23,35],[24,35,25,35],[60,1,61,1],[62,1,63,1],[64,1,65,1],[66,1,67,1],[68,1,69,1],[70,1,71,1],[46,1,47,1],[48,1,49,1],[50,1,51,1],[52,1,53,1],[54,1,55,1],[56,1,57,1],[30,1,31,1],[32,1,33,1],[34,1,35,1],[36,1,37,1],[38,1,39,1],[40,1,41,1],[56,34,57,34],[58,34,59,34],[60,34,61,34],[64,35,65,35],[66,35,67,35],[68,35,69,35],[70,35,71,35],[72,35,73,35],[50,35,51,35],[52,35,53,35],[54,35,55,35],[56,35,57,35],[58,35,59,35],[60,35,61,35],[10,36,13,36],[10,37,13,37],[14,36,15,36],[14,37,15,37],[14,38,15,38],[16,36,17,36],[16,37,17,37],[16,38,17,38],[62,35,63,35],[38,35,39,35],[40,35,41,35],[42,35,43,35],[44,35,45,35],[46,35,47,35],[48,35,49,35],[26,35,27,35],[28,35,29,35],[30,35,31,35],[32,35,33,35],[34,35,35,35],[36,35,37,35],[14,35,15,35],[16,35,17,35],[18,35,19,35],[22,36,23,36],[22,37,23,37],[22,38,23,38],[24,36,25,36],[24,37,25,37],[24,38,25,38],[18,36,19,36],[18,37,19,37],[18,38,19,38],[20,36,21,36],[20,37,21,37],[20,38,21,38],[30,36,31,36],[30,37,31,37],[30,38,31,38],[32,36,33,36],[32,37,33,37],[32,38,33,38],[26,36,27,36],[26,37,27,37],[26,38,27,38],[28,36,29,36],[28,37,29,37],[28,38,29,38],[38,36,39,36],[38,37,39,37],[38,38,39,38],[40,36,41,36],[40,37,41,37],[40,38,41,38],[34,36,35,36],[34,37,35,37],[34,38,35,38],[36,36,37,36],[36,37,37,37],[36,38,37,38],[46,36,47,36],[46,37,47,37],[46,38,47,38],[48,36,49,36],[48,37,49,37],[48,38,49,38],[42,36,43,36],[42,37,43,37],[42,38,43,38],[44,36,45,36],[44,37,45,37],[44,38,45,38],[60,37,61,37],[60,38,61,38],[54,36,55,36],[54,37,55,37],[54,38,55,38],[56,36,57,36],[56,37,57,37],[56,38,57,38],[50,36,51,36],[50,37,51,37],[50,38,51,38],[52,36,53,36],[52,37,53,37],[52,38,53,38],[0,19,0,20],[0,21,0,22],[70,36,71,36],[70,37,71,37],[70,38,71,38],[72,36,73,36],[72,37,73,37],[72,38,73,38],[66,36,67,36],[66,37,67,37],[66,38,67,38],[68,36,69,36],[68,37,69,37],[68,38,69,38],[62,36,63,36],[62,37,63,37],[62,38,63,38],[64,36,65,36],[64,37,65,37],[64,38,65,38],[58,36,59,36],[58,37,59,37],[58,38,59,38],[60,36,61,36],[0,1,0,2],[0,23,0,24],[0,25,0,26],[0,27,0,28],[0,30,2,31],[1,5,2,6],[1,7,2,8],[1,9,2,10],[1,11,2,12],[1,13,2,14],[1,15,2,16],[1,17,2,18],[1,19,2,20],[1,21,2,22],[1,23,2,24],[1,25,2,26],[1,27,2,28],[0,5,0,6],[0,7,0,8],[0,9,0,10],[0,11,0,12],[0,13,0,14],[0,15,0,16],[0,17,0,18]]}
[null,{"$f":"'1'!B1:C1","v":"secteur aubagne"},null,null,null,{"$f":"'1'!C2","v":"janvier"},null,{"$f":"'2'!C2","v":"février"},null,{"$f":"'3'!C2","v":"mars"},null,{"$f":"'4'!C2","v":"avril"},null,{"$f":"'5'!C2","v":"mai"},null,{"$f":"'6'!C2","v":"juin"},null,{"$f":"'7'!C2","v":"juillet"},null,{"$f":"'8'!C2","v":"août"},null,{"$f":"'9'!C2","v":"septembre"},null,{"$f":"'10'!C2","v":"octobre"},null,{"$f":"'11'!C2","v":"novembre"},null,{"$f":"'12'!C2","v":"décembre"}]
["PLANNING MOIS DE :",null,{"$f":"TEXT(B5,\"MMMM\")","v":"novembre"}]
["ANNEE",null,{"$f":"TEXT(B6,\"aaaa\")","v":"2018"}]
[]
["date de debut ",{"$f":"'10'!B5+'10'!A9","v":"2018-11-01"}]
["date de fin ",{"$f":"EOMONTH(B5,0)","v":"2018-11-30"},null,null,null,null,null,null,{"$f":"C2","v":"novembre"},null,null,null,null,null,null,null,null,{"$f":"C3","v":"2018"}]
[null,{"$f":"TODAY()","v":"2017-11-08"}]
[]
[{"$f":"SUMIF(parametre!$B$4:'parametre'!$B$15,C2,parametre!$C$4:'parametre'!$C$15)","v":30}]
[]
[null,null,null,{"$f":"B5","v":"2018-11-01"},{"$f":"D11+1","v":"2018-11-02"},{"$f":"E11+1","v":"2018-11-03"},"2018-11-04","2018-11-05","2018-11-06","2018-11-07","2018-11-08","2018-11-09","2018-11-10","2018-11-11","2018-11-12","2018-11-13","2018-11-14","2018-11-15","2018-11-16","2018-11-17","2018-11-18","2018-11-19","2018-11-20","2018-11-21","2018-11-22","2018-11-23","2018-11-24","2018-11-25","2018-11-26","2018-11-27","2018-11-28","2018-11-29","2018-11-30",{"$f":"IFERROR(IF(AG11+1>B6,\"\",AG11+1),\"\")","v":""},null,null,"CP MOIS","CP 1 JOURNEE"]
[null,null,null,{"$f":"IF(D14=\"L\",\"S \"&WEEKNUM(D11),\"\")","v":""},{"$f":"IF(E14=\"L\",\"S \"&WEEKNUM(E11),\"\")","v":""},"","","","","","","","","","","","","","","","","","","","","","","","","","","","",{"$f":"IFERROR(IF(AH14=\"L\",\"S \"&WEEKNUM(AH11),\"\"),\"\")","v":""}]
[null,null,"MOIS",{"$f":"DAY(D11)","v":1},{"$f":"DAY(E11)","v":2},3,4,5,6,7,8,9,10,11,12,13,14,15,16,17,18,19,20,21,22,23,24,25,26,27,28,29,30,{"$f":"IFERROR(DAY(AH11),\"\")","v":""}]
[null,"contrat",{"$f":"'1'!C14","v":"trimestre"},{"$f":"WEEKDAY(D11)","v":"1900-01-05"},{"$f":"WEEKDAY(E11)","v":"1900-01-06"},"1900-01-07","1900-01-01","1900-01-02","1900-01-03","1900-01-04","1900-01-05","1900-01-06","1900-01-07","1900-01-01","1900-01-02","1900-01-03","1900-01-04","1900-01-05","1900-01-06","1900-01-07","1900-01-01","1900-01-02","1900-01-03","1900-01-04","1900-01-05","1900-01-06","1900-01-07","1900-01-01","1900-01-02","1900-01-03","1900-01-04","1900-01-05","1900-01-06",{"$f":"IFERROR(WEEKDAY(AH11),\"\")","v":""}]
[null,{"$f":"SUMIF('compteur trimestre'!$A$10:$A$78,A15,'compteur trimestre'!$AI$10:$AI$78)","v":0},{"$f":"AI15-B15","v":0},null,null,null,null,null,null,null,null,null,null,null,null,null,null,null,null,null,null,null,null,null,null,null,null,null,null,null,null,null,null,null,{"$f":"SUM(D16:AH16)","v":0},{"$f":"C16","v":0},{"$f":"SUM(AM15/AL15)","v":{"$error":"#DIV/0!"}},{"$f":"SUMIF('renseignement agent'!$A$8:'renseignement agent'!$A$96,A15,'renseignement agent'!$G$8:'renseignement agent'!$G$96)","v":0},{"$f":"SUMIF(D15:AH15,\"cp\",D16:AH16)","v":0}]
[null,null,{"$f":"SUMIF('10'!$A$15:'10'!$A$73,A15,'10'!$AJ$15:'10'!$AJ$73)+C15","v":0}]
[null,{"$f":"SUMIF('compteur trimestre'!$A$10:$A$78,A17,'compteur trimestre'!$AI$10:$AI$78)","v":0},{"$f":"AI17-B17","v":0},null,null,null,null,null,null,null,null,null,null,null,null,null,null,null,null,null,null,null,null,null,null,null,null,null,null,null,null,null,null,null,{"$f":"SUM(D18:AH18)","v":0},{"$f":"C18","v":0},{"$f":"SUM(AM17/AL17)","v":{"$error":"#DIV/0!"}},{"$f":"SUMIF('renseignement agent'!$A$8:'renseignement agent'!$A$96,A17,'renseignement agent'!$G$8:'renseignement agent'!$G$96)","v":0},{"$f":"SUMIF(D17:AH17,\"cp\",D18:AH18)","v":0}]
[null,null,{"$f":"SUMIF('10'!$A$15:'10'!$A$73,A17,'10'!$AJ$15:'10'!$AJ$73)+C17","v":0}]
[null,{"$f":"SUMIF('compteur trimestre'!$A$10:$A$78,A19,'compteur trimestre'!$AI$10:$AI$78)","v":0},{"$f":"AI19-B19","v":0},null,null,null,null,null,null,null,null,null,null,null,null,null,null,null,null,null,null,null,null,null,null,null,null,null,null,null,null,null,null,null,{"$f":"SUM(D20:AH20)","v":0},{"$f":"C20","v":0},{"$f":"SUM(AM19/AL19)","v":{"$error":"#DIV/0!"}},{"$f":"SUMIF('renseignement agent'!$A$8:'renseignement agent'!$A$96,A19,'renseignement agent'!$G$8:'renseignement agent'!$G$96)","v":0},{"$f":"SUMIF(D19:AH19,\"cp\",D20:AH20)","v":0}]
[null,null,{"$f":"SUMIF('10'!$A$15:'10'!$A$73,A19,'10'!$AJ$15:'10'!$AJ$73)+C19","v":0}]
[null,{"$f":"SUMIF('compteur trimestre'!$A$10:$A$78,A21,'compteur trimestre'!$AI$10:$AI$78)","v":0},{"$f":"AI21-B21","v":0},null,null,null,null,null,null,null,null,null,null,null,null,null,null,null,null,null,null,null,null,null,null,null,null,null,null,null,null,null,null,null,{"$f":"SUM(D22:AH22)","v":0},{"$f":"C22","v":0},{"$f":"SUM(AM21/AL21)","v":{"$error":"#DIV/0!"}},{"$f":"SUMIF('renseignement agent'!$A$8:'renseignement agent'!$A$96,A21,'renseignement agent'!$G$8:'renseignement agent'!$G$96)","v":0},{"$f":"SUMIF(D21:AH21,\"cp\",D22:AH22)","v":0}]
[null,null,{"$f":"SUMIF('10'!$A$15:'10'!$A$73,A21,'10'!$AJ$15:'10'!$AJ$73)+C21","v":0}]
[null,{"$f":"SUMIF('compteur trimestre'!$A$10:$A$78,A23,'compteur trimestre'!$AI$10:$AI$78)","v":0},{"$f":"AI23-B23","v":0},null,null,null,null,null,null,null,null,null,null,null,null,null,null,null,null,null,null,null,null,null,null,null,null,null,null,null,null,null,null,null,{"$f":"SUM(D24:AH24)","v":0},{"$f":"C24","v":0},{"$f":"SUM(AM23/AL23)","v":{"$error":"#DIV/0!"}},{"$f":"SUMIF('renseignement agent'!$A$8:'renseignement agent'!$A$96,A23,'renseignement agent'!$G$8:'renseignement agent'!$G$96)","v":0},{"$f":"SUMIF(D23:AH23,\"cp\",D24:AH24)","v":0}]
[null,null,{"$f":"SUMIF('10'!$A$15:'10'!$A$73,A23,'10'!$AJ$15:'10'!$AJ$73)+C23","v":0}]
["pompey",{"$f":"SUMIF('compteur trimestre'!$A$10:$A$78,A25,'compteur trimestre'!$AI$10:$AI$78)","v":0},{"$f":"AI25-B25","v":12},null,null,null,null,null,null,null,null,null,null,null,null,null,null,null,null,null,null,null,null,null,null,null,null,null,null,null,null,null,null,null,{"$f":"SUM(D26:AH26)","v":12},{"$f":"C26","v":12},{"$f":"SUM(AM25/AL25)","v":{"$error":"#DIV/0!"}},{"$f":"SUMIF('renseignement agent'!$A$8:'renseignement agent'!$A$96,A25,'renseignement agent'!$G$8:'renseignement agent'!$G$96)","v":0},{"$f":"SUMIF(D25:AH25,\"cp\",D26:AH26)","v":0}]
[null,null,{"$f":"SUMIF('10'!$A$15:'10'!$A$73,A25,'10'!$AJ$15:'10'!$AJ$73)+C25","v":12},null,null,null,null,null,12]
[null,{"$f":"SUMIF('compteur trimestre'!$A$10:$A$78,A27,'compteur trimestre'!$AI$10:$AI$78)","v":0},{"$f":"AI27-B27","v":0},null,null,null,null,null,null,null,null,null,null,null,null,null,null,null,null,null,null,null,null,null,null,null,null,null,null,null,null,null,null,null,{"$f":"SUM(D28:AH28)","v":0},{"$f":"C28","v":0},{"$f":"SUM(AM27/AL27)","v":{"$error":"#DIV/0!"}},{"$f":"SUMIF('renseignement agent'!$A$8:'renseignement agent'!$A$96,A27,'renseignement agent'!$G$8:'renseignement agent'!$G$96)","v":0},{"$f":"SUMIF(D27:AH27,\"cp\",D28:AH28)","v":0}]
[null,null,{"$f":"SUMIF('10'!$A$15:'10'!$A$73,A27,'10'!$AJ$15:'10'!$AJ$73)+C27","v":0}]
[null,{"$f":"SUMIF('compteur trimestre'!$A$10:$A$78,A29,'compteur trimestre'!$AI$10:$AI$78)","v":0},{"$f":"AI29-B29","v":0},null,null,null,null,null,null,null,null,null,null,null,null,null,null,null,null,null,null,null,null,null,null,null,null,null,null,null,null,null,null,null,{"$f":"SUM(D30:AH30)","v":0},{"$f":"C30","v":0},{"$f":"SUM(AM29/AL29)","v":{"$error":"#DIV/0!"}},{"$f":"SUMIF('renseignement agent'!$A$8:'renseignement agent'!$A$96,A29,'renseignement agent'!$G$8:'renseignement agent'!$G$96)","v":0},{"$f":"SUMIF(D29:AH29,\"cp\",D30:AH30)","v":0}]
[null,null,{"$f":"SUMIF('10'!$A$15:'10'!$A$73,A29,'10'!$AJ$15:'10'!$AJ$73)+C29","v":0}]
[null,{"$f":"SUMIF('compteur trimestre'!$A$10:$A$78,A31,'compteur trimestre'!$AI$10:$AI$78)","v":0},{"$f":"AI31-B31","v":0},null,null,null,null,null,null,null,null,null,null,null,null,null,null,null,null,null,null,null,null,null,null,null,null,null,null,null,null,null,null,null,{"$f":"SUM(D32:AH32)","v":0},{"$f":"C32","v":0},{"$f":"SUM(AM31/AL31)","v":{"$error":"#DIV/0!"}},{"$f":"SUMIF('renseignement agent'!$A$8:'renseignement agent'!$A$96,A31,'renseignement agent'!$G$8:'renseignement agent'!$G$96)","v":0},{"$f":"SUMIF(D31:AH31,\"cp\",D32:AH32)","v":0}]
[null,null,{"$f":"SUMIF('10'!$A$15:'10'!$A$73,A31,'10'!$AJ$15:'10'!$AJ$73)+C31","v":0}]
[null,{"$f":"SUMIF('compteur trimestre'!$A$10:$A$78,A33,'compteur trimestre'!$AI$10:$AI$78)","v":0},{"$f":"AI33-B33","v":0},null,null,null,null,null,null,null,null,null,null,null,null,null,null,null,null,null,null,null,null,null,null,null,null,null,null,null,null,null,null,null,{"$f":"SUM(D34:AH34)","v":0},{"$f":"C34","v":0},{"$f":"SUM(AM33/AL33)","v":{"$error":"#DIV/0!"}},{"$f":"SUMIF('renseignement agent'!$A$8:'renseignement agent'!$A$96,A33,'renseignement agent'!$G$8:'renseignement agent'!$G$96)","v":0},{"$f":"SUMIF(D33:AH33,\"cp\",D34:AH34)","v":0}]
[null,null,{"$f":"SUMIF('10'!$A$15:'10'!$A$73,A33,'10'!$AJ$15:'10'!$AJ$73)+C33","v":0}]
[null,{"$f":"SUMIF('compteur trimestre'!$A$10:$A$78,A35,'compteur trimestre'!$AI$10:$AI$78)","v":0},{"$f":"AI35-B35","v":0},null,null,null,null,null,null,null,null,null,null,null,null,null,null,null,null,null,null,null,null,null,null,null,null,null,null,null,null,null,null,null,{"$f":"SUM(D36:AH36)","v":0},{"$f":"C36","v":0},{"$f":"SUM(AM35/AL35)","v":{"$error":"#DIV/0!"}},{"$f":"SUMIF('renseignement agent'!$A$8:'renseignement agent'!$A$96,A35,'renseignement agent'!$G$8:'renseignement agent'!$G$96)","v":0},{"$f":"SUMIF(D35:AH35,\"cp\",D36:AH36)","v":0}]
[null,null,{"$f":"SUMIF('10'!$A$15:'10'!$A$73,A35,'10'!$AJ$15:'10'!$AJ$73)+C35","v":0}]
[null,{"$f":"SUMIF('compteur trimestre'!$A$10:$A$78,A37,'compteur trimestre'!$AI$10:$AI$78)","v":0},{"$f":"AI37-B37","v":0},null,null,null,null,null,null,null,null,null,null,null,null,null,null,null,null,null,null,null,null,null,null,null,null,null,null,null,null,null,null,null,{"$f":"SUM(D38:AH38)","v":0},{"$f":"C38","v":0},{"$f":"SUM(AM37/AL37)","v":{"$error":"#DIV/0!"}},{"$f":"SUMIF('renseignement agent'!$A$8:'renseignement agent'!$A$96,A37,'renseignement agent'!$G$8:'renseignement agent'!$G$96)","v":0},{"$f":"SUMIF(D37:AH37,\"cp\",D38:AH38)","v":0}]
[null,null,{"$f":"SUMIF('10'!$A$15:'10'!$A$73,A37,'10'!$AJ$15:'10'!$AJ$73)+C37","v":0}]
[null,{"$f":"SUMIF('compteur trimestre'!$A$10:$A$78,A39,'compteur trimestre'!$AI$10:$AI$78)","v":0},{"$f":"AI39-B39","v":0},null,null,null,null,null,null,null,null,null,null,null,null,null,null,null,null,null,null,null,null,null,null,null,null,null,null,null,null,null,null,null,{"$f":"SUM(D40:AH40)","v":0},{"$f":"C40","v":0},{"$f":"SUM(AM39/AL39)","v":{"$error":"#DIV/0!"}},{"$f":"SUMIF('renseignement agent'!$A$8:'renseignement agent'!$A$96,A39,'renseignement agent'!$G$8:'renseignement agent'!$G$96)","v":0},{"$f":"SUMIF(D39:AH39,\"cp\",D40:AH40)","v":0}]
[null,null,{"$f":"SUMIF('10'!$A$15:'10'!$A$73,A39,'10'!$AJ$15:'10'!$AJ$73)+C39","v":0}]
[null,{"$f":"SUMIF('compteur trimestre'!$A$10:$A$78,A41,'compteur trimestre'!$AI$10:$AI$78)","v":0},{"$f":"AI41-B41","v":0},null,null,null,null,null,null,null,null,null,null,null,null,null,null,null,null,null,null,null,null,null,null,null,null,null,null,null,null,null,null,null,{"$f":"SUM(D42:AH42)","v":0},{"$f":"C42","v":0},{"$f":"SUM(AM41/AL41)","v":{"$error":"#DIV/0!"}},{"$f":"SUMIF('renseignement agent'!$A$8:'renseignement agent'!$A$96,A41,'renseignement agent'!$G$8:'renseignement agent'!$G$96)","v":0},{"$f":"SUMIF(D41:AH41,\"cp\",D42:AH42)","v":0}]
[null,null,{"$f":"SUMIF('10'!$A$15:'10'!$A$73,A41,'10'!$AJ$15:'10'!$AJ$73)+C41","v":0}]
[null,{"$f":"SUMIF('compteur trimestre'!$A$10:$A$78,A43,'compteur trimestre'!$AI$10:$AI$78)","v":0},{"$f":"AI43-B43","v":0},null,null,null,null,null,null,null,null,null,null,null,null,null,null,null,null,null,null,null,null,null,null,null,null,null,null,null,null,null,null,null,{"$f":"SUM(D44:AH44)","v":0},{"$f":"C44","v":0},{"$f":"SUM(AM43/AL43)","v":{"$error":"#DIV/0!"}},{"$f":"SUMIF('renseignement agent'!$A$8:'renseignement agent'!$A$96,A43,'renseignement agent'!$G$8:'renseignement agent'!$G$96)","v":0},{"$f":"SUMIF(D43:AH43,\"cp\",D44:AH44)","v":0}]
[null,null,{"$f":"SUMIF('10'!$A$15:'10'!$A$73,A43,'10'!$AJ$15:'10'!$AJ$73)+C43","v":0}]
[null,{"$f":"SUMIF('compteur trimestre'!$A$10:$A$78,A45,'compteur trimestre'!$AI$10:$AI$78)","v":0},{"$f":"AI45-B45","v":0},null,null,null,null,null,null,null,null,null,null,null,null,null,null,null,null,null,null,null,null,null,null,null,null,null,null,null,null,null,null,null,{"$f":"SUM(D46:AH46)","v":0},{"$f":"C46","v":0},{"$f":"SUM(AM45/AL45)","v":{"$error":"#DIV/0!"}},{"$f":"SUMIF('renseignement agent'!$A$8:'renseignement agent'!$A$96,A45,'renseignement agent'!$G$8:'renseignement agent'!$G$96)","v":0},{"$f":"SUMIF(D45:AH45,\"cp\",D46:AH46)","v":0}]
[null,null,{"$f":"SUMIF('10'!$A$15:'10'!$A$73,A45,'10'!$AJ$15:'10'!$AJ$73)+C45","v":0}]
[null,{"$f":"SUMIF('compteur trimestre'!$A$10:$A$78,A47,'compteur trimestre'!$AI$10:$AI$78)","v":0},{"$f":"AI47-B47","v":0},null,null,null,null,null,null,null,null,null,null,null,null,null,null,null,null,null,null,null,null,null,null,null,null,null,null,null,null,null,null,null,{"$f":"SUM(D48:AH48)","v":0},{"$f":"C48","v":0},{"$f":"SUM(AM47/AL47)","v":{"$error":"#DIV/0!"}},{"$f":"SUMIF('renseignement agent'!$A$8:'renseignement agent'!$A$96,A47,'renseignement agent'!$G$8:'renseignement agent'!$G$96)","v":0},{"$f":"SUMIF(D47:AH47,\"cp\",D48:AH48)","v":0}]
[null,null,{"$f":"SUMIF('10'!$A$15:'10'!$A$73,A47,'10'!$AJ$15:'10'!$AJ$73)+C47","v":0}]
[null,{"$f":"SUMIF('compteur trimestre'!$A$10:$A$78,A49,'compteur trimestre'!$AI$10:$AI$78)","v":0},{"$f":"AI49-B49","v":0},null,null,null,null,null,null,null,null,null,null,null,null,null,null,null,null,null,null,null,null,null,null,null,null,null,null,null,null,null,null,null,{"$f":"SUM(D50:AH50)","v":0},{"$f":"C50","v":0},{"$f":"SUM(AM49/AL49)","v":{"$error":"#DIV/0!"}},{"$f":"SUMIF('renseignement agent'!$A$8:'renseignement agent'!$A$96,A49,'renseignement agent'!$G$8:'renseignement agent'!$G$96)","v":0},{"$f":"SUMIF(D49:AH49,\"cp\",D50:AH50)","v":0}]
[null,null,{"$f":"SUMIF('10'!$A$15:'10'!$A$73,A49,'10'!$AJ$15:'10'!$AJ$73)+C49","v":0}]
[null,{"$f":"SUMIF('compteur trimestre'!$A$10:$A$78,A51,'compteur trimestre'!$AI$10:$AI$78)","v":0},{"$f":"AI51-B51","v":0},null,null,null,null,null,null,null,null,null,null,null,null,null,null,null,null,null,null,null,null,null,null,null,null,null,null,null,null,null,null,null,{"$f":"SUM(D52:AH52)","v":0},{"$f":"C52","v":0},{"$f":"SUM(AM51/AL51)","v":{"$error":"#DIV/0!"}},{"$f":"SUMIF('renseignement agent'!$A$8:'renseignement agent'!$A$96,A51,'renseignement agent'!$G$8:'renseignement agent'!$G$96)","v":0},{"$f":"SUMIF(D51:AH51,\"cp\",D52:AH52)","v":0}]
[null,null,{"$f":"SUMIF('10'!$A$15:'10'!$A$73,A51,'10'!$AJ$15:'10'!$AJ$73)+C51","v":0}]
[null,{"$f":"SUMIF('compteur trimestre'!$A$10:$A$78,A53,'compteur trimestre'!$AI$10:$AI$78)","v":0},{"$f":"AI53-B53","v":0},null,null,null,null,null,null,null,null,null,null,null,null,null,null,null,null,null,null,null,null,null,null,null,null,null,null,null,null,null,null,null,{"$f":"SUM(D54:AH54)","v":0},{"$f":"C54","v":0},{"$f":"SUM(AM53/AL53)","v":{"$error":"#DIV/0!"}},{"$f":"SUMIF('renseignement agent'!$A$8:'renseignement agent'!$A$96,A53,'renseignement agent'!$G$8:'renseignement agent'!$G$96)","v":0},{"$f":"SUMIF(D53:AH53,\"cp\",D54:AH54)","v":0}]
[null,null,{"$f":"SUMIF('10'!$A$15:'10'!$A$73,A53,'10'!$AJ$15:'10'!$AJ$73)+C53","v":0}]
[null,{"$f":"SUMIF('compteur trimestre'!$A$10:$A$78,A55,'compteur trimestre'!$AI$10:$AI$78)","v":0},{"$f":"AI55-B55","v":0},null,null,null,null,null,null,null,null,null,null,null,null,null,null,null,null,null,null,null,null,null,null,null,null,null,null,null,null,null,null,null,{"$f":"SUM(D56:AH56)","v":0},{"$f":"C56","v":0},{"$f":"SUM(AM55/AL55)","v":{"$error":"#DIV/0!"}},{"$f":"SUMIF('renseignement agent'!$A$8:'renseignement agent'!$A$96,A55,'renseignement agent'!$G$8:'renseignement agent'!$G$96)","v":0},{"$f":"SUMIF(D55:AH55,\"cp\",D56:AH56)","v":0}]
[null,null,{"$f":"SUMIF('10'!$A$15:'10'!$A$73,A55,'10'!$AJ$15:'10'!$AJ$73)+C55","v":0}]
[null,{"$f":"SUMIF('compteur trimestre'!$A$10:$A$78,A57,'compteur trimestre'!$AI$10:$AI$78)","v":0},{"$f":"AI57-B57","v":0},null,null,null,null,null,null,null,null,null,null,null,null,null,null,null,null,null,null,null,null,null,null,null,null,null,null,null,null,null,null,null,{"$f":"SUM(D58:AH58)","v":0},{"$f":"C58","v":0},{"$f":"SUM(AM57/AL57)","v":{"$error":"#DIV/0!"}},{"$f":"SUMIF('renseignement agent'!$A$8:'renseignement agent'!$A$96,A57,'renseignement agent'!$G$8:'renseignement agent'!$G$96)","v":0},{"$f":"SUMIF(D57:AH57,\"cp\",D58:AH58)","v":0}]
[null,null,{"$f":"SUMIF('10'!$A$15:'10'!$A$73,A57,'10'!$AJ$15:'10'!$AJ$73)+C57","v":0}]
[null,{"$f":"SUMIF('compteur trimestre'!$A$10:$A$78,A59,'compteur trimestre'!$AI$10:$AI$78)","v":0},{"$f":"AI59-B59","v":0},null,null,null,null,null,null,null,null,null,null,null,null,null,null,null,null,null,null,null,null,null,null,null,null,null,null,null,null,null,null,null,{"$f":"SUM(D60:AH60)","v":0},{"$f":"C60","v":0},{"$f":"SUM(AM59/AL59)","v":{"$error":"#DIV/0!"}},{"$f":"SUMIF('renseignement agent'!$A$8:'renseignement agent'!$A$96,A59,'renseignement agent'!$G$8:'renseignement agent'!$G$96)","v":0},{"$f":"SUMIF(D59:AH59,\"cp\",D60:AH60)","v":0}]
[null,null,{"$f":"SUMIF('10'!$A$15:'10'!$A$73,A59,'10'!$AJ$15:'10'!$AJ$73)+C59","v":0}]
[null,{"$f":"SUMIF('compteur trimestre'!$A$10:$A$78,A61,'compteur trimestre'!$AI$10:$AI$78)","v":0},{"$f":"AI61-B61","v":0},null,null,null,null,null,null,null,null,null,null,null,null,null,null,null,null,null,null,null,null,null,null,null,null,null,null,null,null,null,null,null,{"$f":"SUM(D62:AH62)","v":0},{"$f":"C62","v":0},{"$f":"SUM(AM61/AL61)","v":{"$error":"#DIV/0!"}},{"$f":"SUMIF('renseignement agent'!$A$8:'renseignement agent'!$A$96,A61,'renseignement agent'!$G$8:'renseignement agent'!$G$96)","v":0},{"$f":"SUMIF(D61:AH61,\"cp\",D62:AH62)","v":0}]
[null,null,{"$f":"SUMIF('10'!$A$15:'10'!$A$73,A61,'10'!$AJ$15:'10'!$AJ$73)+C61","v":0}]
[null,{"$f":"SUMIF('compteur trimestre'!$A$10:$A$78,A63,'compteur trimestre'!$AI$10:$AI$78)","v":0},{"$f":"AI63-B63","v":0},null,null,null,null,null,null,null,null,null,null,null,null,null,null,null,null,null,null,null,null,null,null,null,null,null,null,null,null,null,null,null,{"$f":"SUM(D64:AH64)","v":0},{"$f":"C64","v":0},{"$f":"SUM(AM63/AL63)","v":{"$error":"#DIV/0!"}},{"$f":"SUMIF('renseignement agent'!$A$8:'renseignement agent'!$A$96,A63,'renseignement agent'!$G$8:'renseignement agent'!$G$96)","v":0},{"$f":"SUMIF(D63:AH63,\"cp\",D64:AH64)","v":0}]
[null,null,{"$f":"SUMIF('10'!$A$15:'10'!$A$73,A63,'10'!$AJ$15:'10'!$AJ$73)+C63","v":0}]
[null,{"$f":"SUMIF('compteur trimestre'!$A$10:$A$78,A65,'compteur trimestre'!$AI$10:$AI$78)","v":0},{"$f":"AI65-B65","v":0},null,null,null,null,null,null,null,null,null,null,null,null,null,null,null,null,null,null,null,null,null,null,null,null,null,null,null,null,null,null,null,{"$f":"SUM(D66:AH66)","v":0},{"$f":"C66","v":0},{"$f":"SUM(AM65/AL65)","v":{"$error":"#DIV/0!"}},{"$f":"SUMIF('renseignement agent'!$A$8:'renseignement agent'!$A$96,A65,'renseignement agent'!$G$8:'renseignement agent'!$G$96)","v":0},{"$f":"SUMIF(D65:AH65,\"cp\",D66:AH66)","v":0}]
[null,null,{"$f":"SUMIF('10'!$A$15:'10'!$A$73,A65,'10'!$AJ$15:'10'!$AJ$73)+C65","v":0}]
[null,{"$f":"SUMIF('compteur trimestre'!$A$10:$A$78,A67,'compteur trimestre'!$AI$10:$AI$78)","v":0},{"$f":"AI67-B67","v":0},null,null,null,null,null,null,null,null,null,null,null,null,null,null,null,null,null,null,null,null,null,null,null,null,null,null,null,null,null,null,null,{"$f":"SUM(D68:AH68)","v":0},{"$f":"C68","v":0},{"$f":"SUM(AM67/AL67)","v":{"$error":"#DIV/0!"}},{"$f":"SUMIF('renseignement agent'!$A$8:'renseignement agent'!$A$96,A67,'renseignement agent'!$G$8:'renseignement agent'!$G$96)","v":0},{"$f":"SUMIF(D67:AH67,\"cp\",D68:AH68)","v":0}]
[null,null,{"$f":"SUMIF('10'!$A$15:'10'!$A$73,A67,'10'!$AJ$15:'10'!$AJ$73)+C67","v":0}]
[null,{"$f":"SUMIF('compteur trimestre'!$A$10:$A$78,A69,'compteur trimestre'!$AI$10:$AI$78)","v":0},{"$f":"AI69-B69","v":0},null,null,null,null,null,null,null,null,null,null,null,null,null,null,null,null,null,null,null,null,null,null,null,null,null,null,null,null,null,null,null,{"$f":"SUM(D70:AH70)","v":0},{"$f":"C70","v":0},{"$f":"SUM(AM69/AL69)","v":{"$error":"#DIV/0!"}},{"$f":"SUMIF('renseignement agent'!$A$8:'renseignement agent'!$A$96,A69,'renseignement agent'!$G$8:'renseignement agent'!$G$96)","v":0},{"$f":"SUMIF(D69:AH69,\"cp\",D70:AH70)","v":0}]
[null,null,{"$f":"SUMIF('10'!$A$15:'10'!$A$73,A69,'10'!$AJ$15:'10'!$AJ$73)+C69","v":0}]
[null,{"$f":"SUMIF('compteur trimestre'!$A$10:$A$78,A71,'compteur trimestre'!$AI$10:$AI$78)","v":0},{"$f":"AI71-B71","v":0},null,null,null,null,null,null,null,null,null,null,null,null,null,null,null,null,null,null,null,null,null,null,null,null,null,null,null,null,null,null,null,{"$f":"SUM(D72:AH72)","v":0},{"$f":"C72","v":0},{"$f":"SUM(AM71/AL71)","v":{"$error":"#DIV/0!"}},{"$f":"SUMIF('renseignement agent'!$A$8:'renseignement agent'!$A$96,A71,'renseignement agent'!$G$8:'renseignement agent'!$G$96)","v":0},{"$f":"SUMIF(D71:AH71,\"cp\",D72:AH72)","v":0}]
[null,null,{"$f":"SUMIF('10'!$A$15:'10'!$A$73,A71,'10'!$AJ$15:'10'!$AJ$73)+C71","v":0}]
[null,{"$f":"SUMIF('compteur trimestre'!$A$10:$A$78,A73,'compteur trimestre'!$AI$10:$AI$78)","v":0},{"$f":"AI73-B73","v":0},null,null,null,null,null,null,null,null,null,null,null,null,null,null,null,null,null,null,null,null,null,null,null,null,null,null,null,null,null,null,null,{"$f":"SUM(D74:AH74)","v":0},{"$f":"C74","v":0},{"$f":"SUM(AM73/AL73)","v":{"$error":"#DIV/0!"}},{"$f":"SUMIF('renseignement agent'!$A$8:'renseignement agent'!$A$96,A73,'renseignement agent'!$G$8:'renseignement agent'!$G$96)","v":0},{"$f":"SUMIF(D73:AH73,\"cp\",D74:AH74)","v":0}]
[null,null,{"$f":"SUMIF('10'!$A$15:'10'!$A$73,A73,'10'!$AJ$15:'10'!$AJ$73)+C73","v":0}]

{"sheet":"12","index":12,"n_rows":74,"n_cols":39,"rows_kept":74,"cut":false,"hidden":false,"merged":[[1,0,1,1],[2,0,2,1],[8,0,9,1],[10,34,13,34],[20,34,21,34],[22,34,23,34],[24,34,25,34],[20,1,21,1],[22,1,23,1],[24,1,25,1],[14,34,15,34],[16,34,17,34],[18,34,19,34],[14,1,15,1],[16,1,17,1],[18,1,19,1],[5,8,7,16],[5,17,7,23],[14,0,15,0],[16,0,17,0],[18,0,19,0],[20,0,21,0],[22,0,23,0],[24,0,25,0],[32,34,33,34],[34,34,35,34],[36,34,37,34],[32,0,33,0],[34,0,35,0],[36,0,37,0],[26,34,27,34],[28,34,29,34],[30,34,31,34],[28,0,29,0],[30,0,31,0],[26,1,27,1],[28,1,29,1],[26,0,27,0],[44,34,45,34],[46,34,47,34],[48,34,49,34],[44,0,45,0],[46,0,47,0],[48,0,49,0],[44,1,45,1],[38,34,39,34],[40,34,41,34],[42,34,43,34],[38,0,39,0],[40,0,41,0],[42,0,43,0],[42,1,43,1],[56,0,57,0],[58,0,59,0],[60,0,61,0],[58,1,59,1],[50,34,51,34],[52,34,53,34],[54,34,55,34],[50,0,51,0],[52,0,53,0],[54,0,55,0],[68,0,69,0],[70,0,71,0],[72,0,73,0],[72,1,73,1],[62,34,63,34],[64,34,65,34],[66,34,67,34],[62,0,63,0],[64,0,65,0],[66,0,67,0],[74,3,75,3],[74,4,75,4],[74,5,75,5],[74,6,75,6],[74,7,75,7],[74,8,75,8],[68,34,69,34],[70,34,71,34],[72,34,73,34],[74,17,75,17],[74,18,75,18],[74,19,75,19],[74,20,75,20],[74,9,75,9],[74,10,75,10],[74,11,75,11],[74,12,75,12],[74,13,75,13],[74,14,75,14],[74,33,75,33],[74,27,75,27],[74,28,75,28],[74,29,75,29],[74,30,75,30],[74,31,75,31],[74,32,75,32],[74,21,75,21],[74,22,75,22],[74,23,75,23],[74,24,75,24],[74,25,75,25],[74,26,75,26],[74,15,75,15],[74,16,75,16],[20,35,21,35],[22,35,23,35],[24,35,25,35],[60,1,61,1],[62,1,63,1],[64,1,65,1],[66,1,67,1],[68,1,69,1],[70,1,71,1],[46,1,47,1],[48,1,49,1],[50,1,51,1],[52,1,53,1],[54,1,55,1],[56,1,57,1],[30,1,31,1],[32,1,33,1],[34,1,35,1],[36,1,37,1],[38,1,39,1],[40,1,41,1],[56,34,57,34],[58,34,59,34],[60,34,61,34],[64,35,65,35],[66,35,67,35],[68,35,69,35],[70,35,71,35],[72,35,73,35],[50,35,51,35],[52,35,53,35],[54,35,55,35],[56,35,57,35],[58,35,59,35],[60,35,61,35],[10,36,13,36],[10,37,13,37],[14,36,15,36],[14,37,15,37],[14,38,15,38],[16,36,17,36],[16,37,17,37],[16,38,17,38],[62,35,63,35],[38,35,39,35],[40,35,41,35],[42,35,43,35],[44,35,45,35],[46,35,47,35],[48,35,49,35],[26,35,27,35],[28,35,29,35],[30,35,31,35],[32,35,33,35],[34,35,35,35],[36,35,37,35],[14,35,15,35],[16,35,17,35],[18,35,19,35],[22,36,23,36],[22,37,23,37],[22,38,23,38],[24,36,25,36],[24,37,25,37],[24,38,25,38],[18,36,19,36],[18,37,19,37],[18,38,19,38],[20,36,21,36],[20,37,21,37],[20,38,21,38],[30,36,31,36],[30,37,31,37],[30,38,31,38],[32,36,33,36],[32,37,33,37],[32,38,33,38],[26,36,27,36],[26,37,27,37],[26,38,27,38],[28,36,29,36],[28,37,29,37],[28,38,29,38],[38,36,39,36],[38,37,39,37],[38,38,39,38],[40,36,41,36],[40,37,41,37],[40,38,41,38],[34,36,35,36],[34,37,35,37],[34,38,35,38],[36,36,37,36],[36,37,37,37],[36,38,37,38],[46,36,47,36],[46,37,47,37],[46,38,47,38],[48,36,49,36],[48,37,49,37],[48,38,49,38],[42,36,43,36],[42,37,43,37],[42,38,43,38],[44,36,45,36],[44,37,45,37],[44,38,45,38],[60,37,61,37],[60,38,61,38],[54,36,55,36],[54,37,55,37],[54,38,55,38],[56,36,57,36],[56,37,57,37],[56,38,57,38],[50,36,51,36],[50,37,51,37],[50,38,51,38],[52,36,53,36],[52,37,53,37],[52,38,53,38],[0,19,0,20],[0,21,0,22],[70,36,71,36],[70,37,71,37],[70,38,71,38],[72,36,73,36],[72,37,73,37],[72,38,73,38],[66,36,67,36],[66,37,67,37],[66,38,67,38],[68,36,69,36],[68,37,69,37],[68,38,69,38],[62,36,63,36],[62,37,63,37],[62,38,63,38],[64,36,65,36],[64,37,65,37],[64,38,65,38],[58,36,59,36],[58,37,59,37],[58,38,59,38],[60,36,61,36],[0,1,0,2],[0,23,0,24],[0,25,0,26],[0,27,0,28],[0,30,2,31],[1,5,2,6],[1,7,2,8],[1,9,2,10],[1,11,2,12],[1,13,2,14],[1,15,2,16],[1,17,2,18],[1,19,2,20],[1,21,2,22],[1,23,2,24],[1,25,2,26],[1,27,2,28],[0,5,0,6],[0,7,0,8],[0,9,0,10],[0,11,0,12],[0,13,0,14],[0,15,0,16],[0,17,0,18]]}
[null,{"$f":"'1'!B1:C1","v":"secteur aubagne"},null,null,null,{"$f":"'1'!C2","v":"janvier"},null,{"$f":"'2'!C2","v":"février"},null,{"$f":"'3'!C2","v":"mars"},null,{"$f":"'4'!C2","v":"avril"},null,{"$f":"'5'!C2","v":"mai"},null,{"$f":"'6'!C2","v":"juin"},null,{"$f":"'7'!C2","v":"juillet"},null,{"$f":"'8'!C2","v":"août"},null,{"$f":"'9'!C2","v":"septembre"},null,{"$f":"'10'!C2","v":"octobre"},null,{"$f":"'11'!C2","v":"novembre"},null,{"$f":"'12'!C2","v":"décembre"}]
["PLANNING MOIS DE :",null,{"$f":"TEXT(B5,\"MMMM\")","v":"décembre"}]
["ANNEE",null,{"$f":"TEXT(B6,\"aaaa\")","v":"2018"}]
[]
["date de debut ",{"$f":"'11'!B5+'11'!A9","v":"2018-12-01"}]
["date de fin ",{"$f":"EOMONTH(B5,0)","v":"2018-12-31"},null,null,null,null,null,null,{"$f":"C2","v":"décembre"},null,null,null,null,null,null,null,null,{"$f":"C3","v":"2018"}]
[null,{"$f":"TODAY()","v":"2017-11-08"}]
[]
[{"$f":"SUMIF(parametre!$B$4:'parametre'!$B$15,C2,parametre!$C$4:'parametre'!$C$15)","v":31}]
[]
[null,null,null,{"$f":"B5","v":"2018-12-01"},{"$f":"D11+1","v":"2018-12-02"},{"$f":"E11+1","v":"2018-12-03"},"2018-12-04","2018-12-05","2018-12-06","2018-12-07","2018-12-08","2018-12-09","2018-12-10","2018-12-11","2018-12-12","2018-12-13","2018-12-14","2018-12-15","2018-12-16","2018-12-17","2018-12-18","2018-12-19","2018-12-20","2018-12-21","2018-12-22","2018-12-23","2018-12-24","2018-12-25","2018-12-26","2018-12-27","2018-12-28","2018-12-29","2018-12-30",{"$f":"IFERROR(IF(AG11+1>B6,\"\",AG11+1),\"\")","v":"2018-12-31"},null,null,"CP MOIS","CP 1 JOURNEE"]
[null,null,null,{"$f":"IF(D14=\"L\",\"S \"&WEEKNUM(D11),\"\")","v":""},{"$f":"IF(E14=\"L\",\"S \"&WEEKNUM(E11),\"\")","v":""},"","","","","","","","","","","","","","","","","","","","","","","","","","","","",{"$f":"IFERROR(IF(AH14=\"L\",\"S \"&WEEKNUM(AH11),\"\"),\"\")","v":""}]
[null,null,"MOIS",{"$f":"DAY(D11)","v":1},{"$f":"DAY(E11)","v":2},3,4,5,6,7,8,9,10,11,12,13,14,15,16,17,18,19,20,21,22,23,24,25,26,27,28,29,30,{"$f":"IFERROR(DAY(AH11),\"\")","v":31}]
[null,"contrat",{"$f":"IF(B1=\"SECTEUR AUBAGNE\",\"TRIMESTRE\",IF(B1=\"SECTEUR CUERS\",\"ANNEE\"))","v":"TRIMESTRE"},{"$f":"WEEKDAY(D11)","v":"1900-01-07"},{"$f":"WEEKDAY(E11)","v":"1900-01-01"},"1900-01-02","1900-01-03","1900-01-04","1900-01-05","1900-01-06","1900-01-07","1900-01-01","1900-01-02","1900-01-03","1900-01-04","1900-01-05","1900-01-06","1900-01-07","1900-01-01","1900-01-02","1900-01-03","1900-01-04","1900-01-05","1900-01-06","1900-01-07","1900-01-01","1900-01-02","1900-01-03","1900-01-04","1900-01-05","1900-01-06","1900-01-07","1900-01-01",{"$f":"IFERROR(WEEKDAY(AH11),\"\")","v":"1900-01-02"}]
[null,{"$f":"SUMIF('compteur trimestre'!$A$10:$A$78,A15,'compteur trimestre'!$AI$10:$AI$78)","v":0},{"$f":"AI15-B15","v":0},null,null,null,null,null,null,null,null,null,null,null,null,null,null,null,null,null,null,null,null,null,null,null,null,null,null,null,null,null,null,null,{"$f":"SUM(D16:AH16)","v":0},{"$f":"C16","v":0},{"$f":"SUM(AM15/AL15)","v":{"$error":"#DIV/0!"}},{"$f":"SUMIF('renseignement agent'!$A$8:'renseignement agent'!$A$96,A15,'renseignement agent'!$G$8:'renseignement agent'!$G$96)","v":0},{"$f":"SUMIF(D15:AH15,\"cp\",D16:AH16)","v":0}]
[null,null,{"$f":"SUMIF('11'!$A$15:'11'!$A$73,A15,'11'!$AJ$15:'11'!$AJ$73)+C15","v":0}]
[null,{"$f":"SUMIF('compteur trimestre'!$A$10:$A$78,A17,'compteur trimestre'!$AI$10:$AI$78)","v":0},{"$f":"AI17-B17","v":0},null,null,null,null,null,null,null,null,null,null,null,null,null,null,null,null,null,null,null,null,null,null,null,null,null,null,null,null,null,null,null,{"$f":"SUM(D18:AH18)","v":0},{"$f":"C18","v":0},{"$f":"SUM(AM17/AL17)","v":{"$error":"#DIV/0!"}},{"$f":"SUMIF('renseignement agent'!$A$8:'renseignement agent'!$A$96,A17,'renseignement agent'!$G$8:'renseignement agent'!$G$96)","v":0},{"$f":"SUMIF(D17:AH17,\"cp\",D18:AH18)","v":0}]
[null,null,{"$f":"SUMIF('11'!$A$15:'11'!$A$73,A17,'11'!$AJ$15:'11'!$AJ$73)+C17","v":0}]
[null,{"$f":"SUMIF('compteur trimestre'!$A$10:$A$78,A19,'compteur trimestre'!$AI$10:$AI$78)","v":0},{"$f":"AI19-B19","v":0},null,null,null,null,null,null,null,null,null,null,null,null,null,null,null,null,null,null,null,null,null,null,null,null,null,null,null,null,null,null,null,{"$f":"SUM(D20:AH20)","v":0},{"$f":"C20","v":0},{"$f":"SUM(AM19/AL19)","v":{"$error":"#DIV/0!"}},{"$f":"SUMIF('renseignement agent'!$A$8:'renseignement agent'!$A$96,A19,'renseignement agent'!$G$8:'renseignement agent'!$G$96)","v":0},{"$f":"SUMIF(D19:AH19,\"cp\",D20:AH20)","v":0}]
[null,null,{"$f":"SUMIF('11'!$A$15:'11'!$A$73,A19,'11'!$AJ$15:'11'!$AJ$73)+C19","v":0}]
[null,{"$f":"SUMIF('compteur trimestre'!$A$10:$A$78,A21,'compteur trimestre'!$AI$10:$AI$78)","v":0},{"$f":"AI21-B21","v":0},null,null,null,null,null,null,null,null,null,null,null,null,null,null,null,null,null,null,null,null,null,null,null,null,null,null,null,null,null,null,null,{"$f":"SUM(D22:AH22)","v":0},{"$f":"C22","v":0},{"$f":"SUM(AM21/AL21)","v":{"$error":"#DIV/0!"}},{"$f":"SUMIF('renseignement agent'!$A$8:'renseignement agent'!$A$96,A21,'renseignement agent'!$G$8:'renseignement agent'!$G$96)","v":0},{"$f":"SUMIF(D21:AH21,\"cp\",D22:AH22)","v":0}]
[null,null,{"$f":"SUMIF('11'!$A$15:'11'!$A$73,A21,'11'!$AJ$15:'11'!$AJ$73)+C21","v":0}]
[null,{"$f":"SUMIF('compteur trimestre'!$A$10:$A$78,A23,'compteur trimestre'!$AI$10:$AI$78)","v":0},{"$f":"AI23-B23","v":0},null,null,null,null,null,null,null,null,null,null,null,null,null,null,null,null,null,null,null,null,null,null,null,null,null,null,null,null,null,null,null,{"$f":"SUM(D24:AH24)","v":0},{"$f":"C24","v":0},{"$f":"SUM(AM23/AL23)","v":{"$error":"#DIV/0!"}},{"$f":"SUMIF('renseignement agent'!$A$8:'renseignement agent'!$A$96,A23,'renseignement agent'!$G$8:'renseignement agent'!$G$96)","v":0},{"$f":"SUMIF(D23:AH23,\"cp\",D24:AH24)","v":0}]
[null,null,{"$f":"SUMIF('11'!$A$15:'11'!$A$73,A23,'11'!$AJ$15:'11'!$AJ$73)+C23","v":0}]
[null,{"$f":"SUMIF('compteur trimestre'!$A$10:$A$78,A25,'compteur trimestre'!$AI$10:$AI$78)","v":0},{"$f":"AI25-B25","v":0},null,null,null,null,null,null,null,null,null,null,null,null,null,null,null,null,null,null,null,null,null,null,null,null,null,null,null,null,null,null,null,{"$f":"SUM(D26:AH26)","v":0},{"$f":"C26","v":0},{"$f":"SUM(AM25/AL25)","v":{"$error":"#DIV/0!"}},{"$f":"SUMIF('renseignement agent'!$A$8:'renseignement agent'!$A$96,A25,'renseignement agent'!$G$8:'renseignement agent'!$G$96)","v":0},{"$f":"SUMIF(D25:AH25,\"cp\",D26:AH26)","v":0}]
[null,null,{"$f":"SUMIF('11'!$A$15:'11'!$A$73,A25,'11'!$AJ$15:'11'!$AJ$73)+C25","v":0}]
[null,{"$f":"SUMIF('compteur trimestre'!$A$10:$A$78,A27,'compteur trimestre'!$AI$10:$AI$78)","v":0},{"$f":"AI27-B27","v":0},null,null,null,null,null,null,null,null,null,null,null,null,null,null,null,null,null,null,null,null,null,null,null,null,null,null,null,null,null,null,null,{"$f":"SUM(D28:AH28)","v":0},{"$f":"C28","v":0},{"$f":"SUM(AM27/AL27)","v":{"$error":"#DIV/0!"}},{"$f":"SUMIF('renseignement agent'!$A$8:'renseignement agent'!$A$96,A27,'renseignement agent'!$G$8:'renseignement agent'!$G$96)","v":0},{"$f":"SUMIF(D27:AH27,\"cp\",D28:AH28)","v":0}]
[null,null,{"$f":"SUMIF('11'!$A$15:'11'!$A$73,A27,'11'!$AJ$15:'11'!$AJ$73)+C27","v":0}]
[null,{"$f":"SUMIF('compteur trimestre'!$A$10:$A$78,A29,'compteur trimestre'!$AI$10:$AI$78)","v":0},{"$f":"AI29-B29","v":0},null,null,null,null,null,null,null,null,null,null,null,null,null,null,null,null,null,null,null,null,null,null,null,null,null,null,null,null,null,null,null,{"$f":"SUM(D30:AH30)","v":0},{"$f":"C30","v":0},{"$f":"SUM(AM29/AL29)","v":{"$error":"#DIV/0!"}},{"$f":"SUMIF('renseignement agent'!$A$8:'renseignement agent'!$A$96,A29,'renseignement agent'!$G$8:'renseignement agent'!$G$96)","v":0},{"$f":"SUMIF(D29:AH29,\"cp\",D30:AH30)","v":0}]
[null,null,{"$f":"SUMIF('11'!$A$15:'11'!$A$73,A29,'11'!$AJ$15:'11'!$AJ$73)+C29","v":0}]
[null,{"$f":"SUMIF('compteur trimestre'!$A$10:$A$78,A31,'compteur trimestre'!$AI$10:$AI$78)","v":0},{"$f":"AI31-B31","v":0},null,null,null,null,null,null,null,null,null,null,null,null,null,null,null,null,null,null,null,null,null,null,null,null,null,null,null,null,null,null,null,{"$f":"SUM(D32:AH32)","v":0},{"$f":"C32","v":0},{"$f":"SUM(AM31/AL31)","v":{"$error":"#DIV/0!"}},{"$f":"SUMIF('renseignement agent'!$A$8:'renseignement agent'!$A$96,A31,'renseignement agent'!$G$8:'renseignement agent'!$G$96)","v":0},{"$f":"SUMIF(D31:AH31,\"cp\",D32:AH32)","v":0}]
[null,null,{"$f":"SUMIF('11'!$A$15:'11'!$A$73,A31,'11'!$AJ$15:'11'!$AJ$73)+C31","v":0}]
[null,{"$f":"SUMIF('compteur trimestre'!$A$10:$A$78,A33,'compteur trimestre'!$AI$10:$AI$78)","v":0},{"$f":"AI33-B33","v":0},null,null,null,null,null,null,null,null,null,null,null,null,null,null,null,null,null,null,null,null,null,null,null,null,null,null,null,null,null,null,null,{"$f":"SUM(D34:AH34)","v":0},{"$f":"C34","v":0},{"$f":"SUM(AM33/AL33)","v":{"$error":"#DIV/0!"}},{"$f":"SUMIF('renseignement agent'!$A$8:'renseignement agent'!$A$96,A33,'renseignement agent'!$G$8:'renseignement agent'!$G$96)","v":0},{"$f":"SUMIF(D33:AH33,\"cp\",D34:AH34)","v":0}]
[null,null,{"$f":"SUMIF('11'!$A$15:'11'!$A$73,A33,'11'!$AJ$15:'11'!$AJ$73)+C33","v":0}]
[null,{"$f":"SUMIF('compteur trimestre'!$A$10:$A$78,A35,'compteur trimestre'!$AI$10:$AI$78)","v":0},{"$f":"AI35-B35","v":0},null,null,null,null,null,null,null,null,null,null,null,null,null,null,null,null,null,null,null,null,null,null,null,null,null,null,null,null,null,null,null,{"$f":"SUM(D36:AH36)","v":0},{"$f":"C36","v":0},{"$f":"SUM(AM35/AL35)","v":{"$error":"#DIV/0!"}},{"$f":"SUMIF('renseignement agent'!$A$8:'renseignement agent'!$A$96,A35,'renseignement agent'!$G$8:'renseignement agent'!$G$96)","v":0},{"$f":"SUMIF(D35:AH35,\"cp\",D36:AH36)","v":0}]
[null,null,{"$f":"SUMIF('11'!$A$15:'11'!$A$73,A35,'11'!$AJ$15:'11'!$AJ$73)+C35","v":0}]
[null,{"$f":"SUMIF('compteur trimestre'!$A$10:$A$78,A37,'compteur trimestre'!$AI$10:$AI$78)","v":0},{"$f":"AI37-B37","v":0},null,null,null,null,null,null,null,null,null,null,null,null,null,null,null,null,null,null,null,null,null,null,null,null,null,null,null,null,null,null,null,{"$f":"SUM(D38:AH38)","v":0},{"$f":"C38","v":0},{"$f":"SUM(AM37/AL37)","v":{"$error":"#DIV/0!"}},{"$f":"SUMIF('renseignement agent'!$A$8:'renseignement agent'!$A$96,A37,'renseignement agent'!$G$8:'renseignement agent'!$G$96)","v":0},{"$f":"SUMIF(D37:AH37,\"cp\",D38:AH38)","v":0}]
[null,null,{"$f":"SUMIF('11'!$A$15:'11'!$A$73,A37,'11'!$AJ$15:'11'!$AJ$73)+C37","v":0}]
[null,{"$f":"SUMIF('compteur trimestre'!$A$10:$A$78,A39,'compteur trimestre'!$AI$10:$AI$78)","v":0},{"$f":"AI39-B39","v":0},null,null,null,null,null,null,null,null,null,null,null,null,null,null,null,null,null,null,null,null,null,null,null,null,null,null,null,null,null,null,null,{"$f":"SUM(D40:AH40)","v":0},{"$f":"C40","v":0},{"$f":"SUM(AM39/AL39)","v":{"$error":"#DIV/0!"}},{"$f":"SUMIF('renseignement agent'!$A$8:'renseignement agent'!$A$96,A39,'renseignement agent'!$G$8:'renseignement agent'!$G$96)","v":0},{"$f":"SUMIF(D39:AH39,\"cp\",D40:AH40)","v":0}]
[null,null,{"$f":"SUMIF('11'!$A$15:'11'!$A$73,A39,'11'!$AJ$15:'11'!$AJ$73)+C39","v":0}]
[null,{"$f":"SUMIF('compteur trimestre'!$A$10:$A$78,A41,'compteur trimestre'!$AI$10:$AI$78)","v":0},{"$f":"AI41-B41","v":0},null,null,null,null,null,null,null,null,null,null,null,null,null,null,null,null,null,null,null,null,null,null,null,null,null,null,null,null,null,null,null,{"$f":"SUM(D42:AH42)","v":0},{"$f":"C42","v":0},{"$f":"SUM(AM41/AL41)","v":{"$error":"#DIV/0!"}},{"$f":"SUMIF('renseignement agent'!$A$8:'renseignement agent'!$A$96,A41,'renseignement agent'!$G$8:'renseignement agent'!$G$96)","v":0},{"$f":"SUMIF(D41:AH41,\"cp\",D42:AH42)","v":0}]
[null,null,{"$f":"SUMIF('11'!$A$15:'11'!$A$73,A41,'11'!$AJ$15:'11'!$AJ$73)+C41","v":0}]
[null,{"$f":"SUMIF('compteur trimestre'!$A$10:$A$78,A43,'compteur trimestre'!$AI$10:$AI$78)","v":0},{"$f":"AI43-B43","v":0},null,null,null,null,null,null,null,null,null,null,null,null,null,null,null,null,null,null,null,null,null,null,null,null,null,null,null,null,null,null,null,{"$f":"SUM(D44:AH44)","v":0},{"$f":"C44","v":0},{"$f":"SUM(AM43/AL43)","v":{"$error":"#DIV/0!"}},{"$f":"SUMIF('renseignement agent'!$A$8:'renseignement agent'!$A$96,A43,'renseignement agent'!$G$8:'renseignement agent'!$G$96)","v":0},{"$f":"SUMIF(D43:AH43,\"cp\",D44:AH44)","v":0}]
[null,null,{"$f":"SUMIF('11'!$A$15:'11'!$A$73,A43,'11'!$AJ$15:'11'!$AJ$73)+C43","v":0}]
[null,{"$f":"SUMIF('compteur trimestre'!$A$10:$A$78,A45,'compteur trimestre'!$AI$10:$AI$78)","v":0},{"$f":"AI45-B45","v":0},null,null,null,null,null,null,null,null,null,null,null,null,null,null,null,null,null,null,null,null,null,null,null,null,null,null,null,null,null,null,null,{"$f":"SUM(D46:AH46)","v":0},{"$f":"C46","v":0},{"$f":"SUM(AM45/AL45)","v":{"$error":"#DIV/0!"}},{"$f":"SUMIF('renseignement agent'!$A$8:'renseignement agent'!$A$96,A45,'renseignement agent'!$G$8:'renseignement agent'!$G$96)","v":0},{"$f":"SUMIF(D45:AH45,\"cp\",D46:AH46)","v":0}]
[null,null,{"$f":"SUMIF('11'!$A$15:'11'!$A$73,A45,'11'!$AJ$15:'11'!$AJ$73)+C45","v":0}]
[null,{"$f":"SUMIF('compteur trimestre'!$A$10:$A$78,A47,'compteur trimestre'!$AI$10:$AI$78)","v":0},{"$f":"AI47-B47","v":0},null,null,null,null,null,null,null,null,null,null,null,null,null,null,null,null,null,null,null,null,null,null,null,null,null,null,null,null,null,null,null,{"$f":"SUM(D48:AH48)","v":0},{"$f":"C48","v":0},{"$f":"SUM(AM47/AL47)","v":{"$error":"#DIV/0!"}},{"$f":"SUMIF('renseignement agent'!$A$8:'renseignement agent'!$A$96,A47,'renseignement agent'!$G$8:'renseignement agent'!$G$96)","v":0},{"$f":"SUMIF(D47:AH47,\"cp\",D48:AH48)","v":0}]
[null,null,{"$f":"SUMIF('11'!$A$15:'11'!$A$73,A47,'11'!$AJ$15:'11'!$AJ$73)+C47","v":0}]
[null,{"$f":"SUMIF('compteur trimestre'!$A$10:$A$78,A49,'compteur trimestre'!$AI$10:$AI$78)","v":0},{"$f":"AI49-B49","v":0},null,null,null,null,null,null,null,null,null,null,null,null,null,null,null,null,null,null,null,null,null,null,null,null,null,null,null,null,null,null,null,{"$f":"SUM(D50:AH50)","v":0},{"$f":"C50","v":0},{"$f":"SUM(AM49/AL49)","v":{"$error":"#DIV/0!"}},{"$f":"SUMIF('renseignement agent'!$A$8:'renseignement agent'!$A$96,A49,'renseignement agent'!$G$8:'renseignement agent'!$G$96)","v":0},{"$f":"SUMIF(D49:AH49,\"cp\",D50:AH50)","v":0}]
[null,null,{"$f":"SUMIF('11'!$A$15:'11'!$A$73,A49,'11'!$AJ$15:'11'!$AJ$73)+C49","v":0}]
[null,{"$f":"SUMIF('compteur trimestre'!$A$10:$A$78,A51,'compteur trimestre'!$AI$10:$AI$78)","v":0},{"$f":"AI51-B51","v":0},null,null,null,null,null,null,null,null,null,null,null,null,null,null,null,null,null,null,null,null,null,null,null,null,null,null,null,null,null,null,null,{"$f":"SUM(D52:AH52)","v":0},{"$f":"C52","v":0},{"$f":"SUM(AM51/AL51)","v":{"$error":"#DIV/0!"}},{"$f":"SUMIF('renseignement agent'!$A$8:'renseignement agent'!$A$96,A51,'renseignement agent'!$G$8:'renseignement agent'!$G$96)","v":0},{"$f":"SUMIF(D51:AH51,\"cp\",D52:AH52)","v":0}]
[null,null,{"$f":"SUMIF('11'!$A$15:'11'!$A$73,A51,'11'!$AJ$15:'11'!$AJ$73)+C51","v":0}]
[null,{"$f":"SUMIF('compteur trimestre'!$A$10:$A$78,A53,'compteur trimestre'!$AI$10:$AI$78)","v":0},{"$f":"AI53-B53","v":0},null,null,null,null,null,null,null,null,null,null,null,null,null,null,null,null,null,null,null,null,null,null,null,null,null,null,null,null,null,null,null,{"$f":"SUM(D54:AH54)","v":0},{"$f":"C54","v":0},{"$f":"SUM(AM53/AL53)","v":{"$error":"#DIV/0!"}},{"$f":"SUMIF('renseignement agent'!$A$8:'renseignement agent'!$A$96,A53,'renseignement agent'!$G$8:'renseignement agent'!$G$96)","v":0},{"$f":"SUMIF(D53:AH53,\"cp\",D54:AH54)","v":0}]
[null,null,{"$f":"SUMIF('11'!$A$15:'11'!$A$73,A53,'11'!$AJ$15:'11'!$AJ$73)+C53","v":0}]
[null,{"$f":"SUMIF('compteur trimestre'!$A$10:$A$78,A55,'compteur trimestre'!$AI$10:$AI$78)","v":0},{"$f":"AI55-B55","v":0},null,null,null,null,null,null,null,null,null,null,null,null,null,null,null,null,null,null,null,null,null,null,null,null,null,null,null,null,null,null,null,{"$f":"SUM(D56:AH56)","v":0},{"$f":"C56","v":0},{"$f":"SUM(AM55/AL55)","v":{"$error":"#DIV/0!"}},{"$f":"SUMIF('renseignement agent'!$A$8:'renseignement agent'!$A$96,A55,'renseignement agent'!$G$8:'renseignement agent'!$G$96)","v":0},{"$f":"SUMIF(D55:AH55,\"cp\",D56:AH56)","v":0}]
[null,null,{"$f":"SUMIF('11'!$A$15:'11'!$A$73,A55,'11'!$AJ$15:'11'!$AJ$73)+C55","v":0}]
[null,{"$f":"SUMIF('compteur trimestre'!$A$10:$A$78,A57,'compteur trimestre'!$AI$10:$AI$78)","v":0},{"$f":"AI57-B57","v":0},null,null,null,null,null,null,null,null,null,null,null,null,null,null,null,null,null,null,null,null,null,null,null,null,null,null,null,null,null,null,null,{"$f":"SUM(D58:AH58)","v":0},{"$f":"C58","v":0},{"$f":"SUM(AM57/AL57)","v":{"$error":"#DIV/0!"}},{"$f":"SUMIF('renseignement agent'!$A$8:'renseignement agent'!$A$96,A57,'renseignement agent'!$G$8:'renseignement agent'!$G$96)","v":0},{"$f":"SUMIF(D57:AH57,\"cp\",D58:AH58)","v":0}]
[null,null,{"$f":"SUMIF('11'!$A$15:'11'!$A$73,A57,'11'!$AJ$15:'11'!$AJ$73)+C57","v":0}]
[null,{"$f":"SUMIF('compteur trimestre'!$A$10:$A$78,A59,'compteur trimestre'!$AI$10:$AI$78)","v":0},{"$f":"AI59-B59","v":0},null,null,null,null,null,null,null,null,null,null,null,null,null,null,null,null,null,null,null,null,null,null,null,null,null,null,null,null,null,null,null,{"$f":"SUM(D60:AH60)","v":0},{"$f":"C60","v":0},{"$f":"SUM(AM59/AL59)","v":{"$error":"#DIV/0!"}},{"$f":"SUMIF('renseignement agent'!$A$8:'renseignement agent'!$A$96,A59,'renseignement agent'!$G$8:'renseignement agent'!$G$96)","v":0},{"$f":"SUMIF(D59:AH59,\"cp\",D60:AH60)","v":0}]
[null,null,{"$f":"SUMIF('11'!$A$15:'11'!$A$73,A59,'11'!$AJ$15:'11'!$AJ$73)+C59","v":0}]
[null,{"$f":"SUMIF('compteur trimestre'!$A$10:$A$78,A61,'compteur trimestre'!$AI$10:$AI$78)","v":0},{"$f":"AI61-B61","v":0},null,null,null,null,null,null,null,null,null,null,null,null,null,null,null,null,null,null,null,null,null,null,null,null,null,null,null,null,null,null,null,{"$f":"SUM(D62:AH62)","v":0},{"$f":"C62","v":0},{"$f":"SUM(AM61/AL61)","v":{"$error":"#DIV/0!"}},{"$f":"SUMIF('renseignement agent'!$A$8:'renseignement agent'!$A$96,A61,'renseignement agent'!$G$8:'renseignement agent'!$G$96)","v":0},{"$f":"SUMIF(D61:AH61,\"cp\",D62:AH62)","v":0}]
[null,null,{"$f":"SUMIF('11'!$A$15:'11'!$A$73,A61,'11'!$AJ$15:'11'!$AJ$73)+C61","v":0}]
[null,{"$f":"SUMIF('compteur trimestre'!$A$10:$A$78,A63,'compteur trimestre'!$AI$10:$AI$78)","v":0},{"$f":"AI63-B63","v":0},null,null,null,null,null,null,null,null,null,null,null,null,null,null,null,null,null,null,null,null,null,null,null,null,null,null,null,null,null,null,null,{"$f":"SUM(D64:AH64)","v":0},{"$f":"C64","v":0},{"$f":"SUM(AM63/AL63)","v":{"$error":"#DIV/0!"}},{"$f":"SUMIF('renseignement agent'!$A$8:'renseignement agent'!$A$96,A63,'renseignement agent'!$G$8:'renseignement agent'!$G$96)","v":0},{"$f":"SUMIF(D63:AH63,\"cp\",D64:AH64)","v":0}]
[null,null,{"$f":"SUMIF('11'!$A$15:'11'!$A$73,A63,'11'!$AJ$15:'11'!$AJ$73)+C63","v":0}]
[null,{"$f":"SUMIF('compteur trimestre'!$A$10:$A$78,A65,'compteur trimestre'!$AI$10:$AI$78)","v":0},{"$f":"AI65-B65","v":0},null,null,null,null,null,null,null,null,null,null,null,null,null,null,null,null,null,null,null,null,null,null,null,null,null,null,null,null,null,null,null,{"$f":"SUM(D66:AH66)","v":0},{"$f":"C66","v":0},{"$f":"SUM(AM65/AL65)","v":{"$error":"#DIV/0!"}},{"$f":"SUMIF('renseignement agent'!$A$8:'renseignement agent'!$A$96,A65,'renseignement agent'!$G$8:'renseignement agent'!$G$96)","v":0},{"$f":"SUMIF(D65:AH65,\"cp\",D66:AH66)","v":0}]
[null,null,{"$f":"SUMIF('11'!$A$15:'11'!$A$73,A65,'11'!$AJ$15:'11'!$AJ$73)+C65","v":0}]
[null,{"$f":"SUMIF('compteur trimestre'!$A$10:$A$78,A67,'compteur trimestre'!$AI$10:$AI$78)","v":0},{"$f":"AI67-B67","v":0},null,null,null,null,null,null,null,null,null,null,null,null,null,null,null,null,null,null,null,null,null,null,null,null,null,null,null,null,null,null,null,{"$f":"SUM(D68:AH68)","v":0},{"$f":"C68","v":0},{"$f":"SUM(AM67/AL67)","v":{"$error":"#DIV/0!"}},{"$f":"SUMIF('renseignement agent'!$A$8:'renseignement agent'!$A$96,A67,'renseignement agent'!$G$8:'renseignement agent'!$G$96)","v":0},{"$f":"SUMIF(D67:AH67,\"cp\",D68:AH68)","v":0}]
[null,null,{"$f":"SUMIF('11'!$A$15:'11'!$A$73,A67,'11'!$AJ$15:'11'!$AJ$73)+C67","v":0}]
[null,{"$f":"SUMIF('compteur trimestre'!$A$10:$A$78,A69,'compteur trimestre'!$AI$10:$AI$78)","v":0},{"$f":"AI69-B69","v":0},null,null,null,null,null,null,null,null,null,null,null,null,null,null,null,null,null,null,null,null,null,null,null,null,null,null,null,null,null,null,null,{"$f":"SUM(D70:AH70)","v":0},{"$f":"C70","v":0},{"$f":"SUM(AM69/AL69)","v":{"$error":"#DIV/0!"}},{"$f":"SUMIF('renseignement agent'!$A$8:'renseignement agent'!$A$96,A69,'renseignement agent'!$G$8:'renseignement agent'!$G$96)","v":0},{"$f":"SUMIF(D69:AH69,\"cp\",D70:AH70)","v":0}]
[null,null,{"$f":"SUMIF('11'!$A$15:'11'!$A$73,A69,'11'!$AJ$15:'11'!$AJ$73)+C69","v":0}]
[null,{"$f":"SUMIF('compteur trimestre'!$A$10:$A$78,A71,'compteur trimestre'!$AI$10:$AI$78)","v":0},{"$f":"AI71-B71","v":0},null,null,null,null,null,null,null,null,null,null,null,null,null,null,null,null,null,null,null,null,null,null,null,null,null,null,null,null,null,null,null,{"$f":"SUM(D72:AH72)","v":0},{"$f":"C72","v":0},{"$f":"SUM(AM71/AL71)","v":{"$error":"#DIV/0!"}},{"$f":"SUMIF('renseignement agent'!$A$8:'renseignement agent'!$A$96,A71,'renseignement agent'!$G$8:'renseignement agent'!$G$96)","v":0},{"$f":"SUMIF(D71:AH71,\"cp\",D72:AH72)","v":0}]
[null,null,{"$f":"SUMIF('11'!$A$15:'11'!$A$73,A71,'11'!$AJ$15:'11'!$AJ$73)+C71","v":0}]
[null,{"$f":"SUMIF('compteur trimestre'!$A$10:$A$78,A73,'compteur trimestre'!$AI$10:$AI$78)","v":0},{"$f":"AI73-B73","v":0},null,null,null,null,null,null,null,null,null,null,null,null,null,null,null,null,null,null,null,null,null,null,null,null,null,null,null,null,null,null,null,{"$f":"SUM(D74:AH74)","v":0},{"$f":"C74","v":0},{"$f":"SUM(AM73/AL73)","v":{"$error":"#DIV/0!"}},{"$f":"SUMIF('renseignement agent'!$A$8:'renseignement agent'!$A$96,A73,'renseignement agent'!$G$8:'renseignement agent'!$G$96)","v":0},{"$f":"SUMIF(D73:AH73,\"cp\",D74:AH74)","v":0}]
[null,null,{"$f":"SUMIF('11'!$A$15:'11'!$A$73,A73,'11'!$AJ$15:'11'!$AJ$73)+C73","v":0}]

{"sheet":"Feuil18","index":13,"n_rows":0,"n_cols":0,"rows_kept":0,"cut":false,"hidden":true,"merged":[]}

{"sheet":"compteur trimestre","index":14,"n_rows":150,"n_cols":37,"rows_kept":150,"cut":false,"hidden":false,"merged":[[7,29,8,30],[7,34,8,34],[9,0,10,0],[9,1,10,1],[9,2,10,2],[9,3,10,3],[9,4,10,4],[9,5,10,5],[7,13,8,14],[7,17,8,18],[7,19,8,20],[7,21,8,22],[7,25,8,26],[7,27,8,28],[7,23,8,24],[7,0,8,0],[7,1,8,2],[7,3,8,4],[7,5,8,6],[7,9,8,10],[7,11,8,12],[9,30,10,30],[9,34,10,34],[9,31,10,32],[11,0,12,0],[11,1,12,1],[11,2,12,2],[11,3,12,3],[11,4,12,4],[9,22,10,22],[9,25,10,25],[9,26,10,26],[9,27,10,27],[9,28,10,28],[9,29,10,29],[9,23,10,24],[9,14,10,14],[9,17,10,17],[9,18,10,18],[9,19,10,19],[9,20,10,20],[9,21,10,21],[9,6,10,6],[9,9,10,9],[9,10,10,10],[9,11,10,11],[9,12,10,12],[9,13,10,13],[11,29,12,29],[13,4,14,4],[13,5,14,5],[11,30,12,30],[11,34,12,34],[11,21,12,21],[11,22,12,22],[11,25,12,25],[11,26,12,26],[11,27,12,27],[11,28,12,28],[11,23,12,24],[11,13,12,13],[11,14,12,14],[11,17,12,17],[11,18,12,18],[11,19,12,19],[11,20,12,20],[11,5,12,5],[11,6,12,6],[11,9,12,9],[11,10,12,10],[11,11,12,11],[11,12,12,12],[11,31,12,32],[17,30,18,30],[17,34,18,34],[13,30,14,30],[13,34,14,34],[15,0,16,0],[15,1,16,1],[15,2,16,2],[15,3,16,3],[15,4,16,4],[13,22,14,22],[13,25,14,25],[13,26,14,26],[13,27,14,27],[13,28,14,28],[13,29,14,29],[13,23,14,24],[13,14,14,14],[13,17,14,17],[13,18,14,18],[13,19,14,19],[13,20,14,20],[13,21,14,21],[13,6,14,6],[13,9,14,9],[13,10,14,10],[13,11,14,11],[13,12,14,12],[13,13,14,13],[13,0,14,0],[13,1,14,1],[13,2,14,2],[13,3,14,3],[17,12,18,12],[17,13,18,13],[17,7,18,8],[17,0,18,0],[17,1,18,1],[17,2,18,2],[17,3,18,3],[17,4,18,4],[17,5,18,5],[15,29,16,29],[15,30,16,30],[15,34,16,34],[15,21,16,21],[15,22,16,22],[15,25,16,25],[15,26,16,26],[15,27,16,27],[15,28,16,28],[15,23,16,24],[15,13,16,13],[15,14,16,14],[15,17,16,17],[15,18,16,18],[15,19,16,19],[15,20,16,20],[15,15,16,16],[15,5,16,5],[15,6,16,6],[15,9,16,9],[15,10,16,10],[15,11,16,11],[15,12,16,12],[19,5,20,5],[19,6,20,6],[19,9,20,9],[19,10,20,10],[19,11,20,11],[19,12,20,12],[19,7,20,8],[21,30,22,30],[21,34,22,34],[19,0,20,0],[19,1,20,1],[19,2,20,2],[19,3,20,3],[19,4,20,4],[17,22,18,22],[17,25,18,25],[17,26,18,26],[17,27,18,27],[17,28,18,28],[17,29,18,29],[17,23,18,24],[17,14,18,14],[17,17,18,17],[17,18,18,18],[17,19,18,19],[17,20,18,20],[17,21,18,21],[17,15,18,16],[17,6,18,6],[17,9,18,9],[17,10,18,10],[17,11,18,11],[19,29,20,29],[19,30,20,30],[19,34,20,34],[19,31,20,32],[19,21,20,21],[19,22,20,22],[19,25,20,25],[19,26,20,26],[19,27,20,27],[19,28,20,28],[19,23,20,24],[19,13,20,13],[19,14,20,14],[19,17,20,17],[19,18,20,18],[19,19,20,19],[19,20,20,20],[19,15,20,16],[23,0,24,0],[23,1,24,1],[23,2,24,2],[23,3,24,3],[23,4,24,4],[21,22,22,22],[21,25,22,25],[21,26,22,26],[21,27,22,27],[21,28,22,28],[21,29,22,29],[21,23,22,24],[21,14,22,14],[21,17,22,17],[21,18,22,18],[21,19,22,19],[21,20,22,20],[21,21,22,21],[21,15,22,16],[21,6,22,6],[21,9,22,9],[21,10,22,10],[21,11,22,11],[21,12,22,12],[21,13,22,13],[21,7,22,8],[21,0,22,0],[21,1,22,1],[21,2,22,2],[21,3,22,3],[21,4,22,4],[21,5,22,5],[25,3,26,3],[25,4,26,4],[25,5,26,5],[23,29,24,29],[23,30,24,30],[23,34,24,34],[23,21,24,21],[23,22,24,22],[23,25,24,25],[23,26,24,26],[23,27,24,27],[23,28,24,28],[23,23,24,24],[23,13,24,13],[23,14,24,14],[23,17,24,17],[23,18,24,18],[23,19,24,19],[23,20,24,20],[23,15,24,16],[23,5,24,5],[23,6,24,6],[23,9,24,9],[23,10,24,10],[23,11,24,11],[23,12,24,12],[23,7,24,8],[25,30,26,30],[25,34,26,34],[27,7,28,8],[29,30,30,30],[29,34,30,34],[27,0,28,0],[27,1,28,1],[27,2,28,2],[27,3,28,3],[27,4,28,4],[25,22,26,22],[25,25,26,25],[25,26,26,26],[25,27,26,27],[25,28,26,28],[25,29,26,29],[25,23,26,24],[25,14,26,14],[25,17,26,17],[25,18,26,18],[25,19,26,19],[25,20,26,20],[25,21,26,21],[25,15,26,16],[25,6,26,6],[25,9,26,9],[25,10,26,10],[25,11,26,11],[25,12,26,12],[25,13,26,13],[25,7,26,8],[25,0,26,0],[25,1,26,1],[25,2,26,2],[29,12,30,12],[29,13,30,13],[29,7,30,8],[29,0,30,0],[29,1,30,1],[29,2,30,2],[29,3,30,3],[29,4,30,4],[29,5,30,5],[27,29,28,29],[27,30,28,30],[27,34,28,34],[27,21,28,21],[27,22,28,22],[27,25,28,25],[27,26,28,26],[27,27,28,27],[27,28,28,28],[27,23,28,24],[27,13,28,13],[27,14,28,14],[27,17,28,17],[27,18,28,18],[27,19,28,19],[27,20,28,20],[27,15,28,16],[27,5,28,5],[27,6,28,6],[27,9,28,9],[27,10,28,10],[27,11,28,11],[27,12,28,12],[31,5,32,5],[31,6,32,6],[31,9,32,9],[31,10,32,10],[31,11,32,11],[31,12,32,12],[31,7,32,8],[33,30,34,30],[33,34,34,34],[31,0,32,0],[31,1,32,1],[31,2,32,2],[31,3,32,3],[31,4,32,4],[29,22,30,22],[29,25,30,25],[29,26,30,26],[29,27,30,27],[29,28,30,28],[29,29,30,29],[29,23,30,24],[29,14,30,14],[29,17,30,17],[29,18,30,18],[29,19,30,19],[29,20,30,20],[29,21,30,21],[29,15,30,16],[29,6,30,6],[29,9,30,9],[29,10,30,10],[29,11,30,11],[31,29,32,29],[31,30,32,30],[31,34,32,34],[31,21,32,21],[31,22,32,22],[31,25,32,25],[31,26,32,26],[31,27,32,27],[31,28,32,28],[31,23,32,24],[31,13,32,13],[31,14,32,14],[31,17,32,17],[31,18,32,18],[31,19,32,19],[31,20,32,20],[31,15,32,16],[35,0,36,0],[35,1,36,1],[35,2,36,2],[35,3,36,3],[35,4,36,4],[33,22,34,22],[33,25,34,25],[33,26,34,26],[33,27,34,27],[33,28,34,28],[33,29,34,29],[33,23,34,24],[33,14,34,14],[33,17,34,17],[33,18,34,18],[33,19,34,19],[33,20,34,20],[33,21,34,21],[33,15,34,16],[33,6,34,6],[33,9,34,9],[33,10,34,10],[33,11,34,11],[33,12,34,12],[33,13,34,13],[33,7,34,8],[33,0,34,0],[33,1,34,1],[33,2,34,2],[33,3,34,3],[33,4,34,4],[33,5,34,5],[37,3,38,3],[37,4,38,4],[37,5,38,5],[35,29,36,29],[35,30,36,30],[35,34,36,34],[35,21,36,21],[35,22,36,22],[35,25,36,25],[35,26,36,26],[35,27,36,27],[35,28,36,28],[35,23,36,24],[35,13,36,13],[35,14,36,14],[35,17,36,17],[35,18,36,18],[35,19,36,19],[35,20,36,20],[35,15,36,16],[35,5,36,5],[35,6,36,6],[35,9,36,9],[35,10,36,10],[35,11,36,11],[35,12,36,12],[35,7,36,8],[37,30,38,30],[37,34,38,34],[39,7,40,8],[41,30,42,30],[41,34,42,34],[39,0,40,0],[39,1,40,1],[39,2,40,2],[39,3,40,3],[39,4,40,4],[37,22,38,22],[37,25,38,25],[37,26,38,26],[37,27,38,27],[37,28,38,28],[37,29,38,29],[37,23,38,24],[37,14,38,14],[37,17,38,17],[37,18,38,18],[37,19,38,19],[37,20,38,20],[37,21,38,21],[37,15,38,16],[37,6,38,6],[37,9,38,9],[37,10,38,10],[37,11,38,11],[37,12,38,12],[37,13,38,13],[37,7,38,8],[37,0,38,0],[37,1,38,1],[37,2,38,2],[41,12,42,12],[41,13,42,13],[41,7,42,8],[41,0,42,0],[41,1,42,1],[41,2,42,2],[41,3,42,3],[41,4,42,4],[41,5,42,5],[39,29,40,29],[39,30,40,30],[39,34,40,34],[39,21,40,21],[39,22,40,22],[39,25,40,25],[39,26,40,26],[39,27,40,27],[39,28,40,28],[39,23,40,24],[39,13,40,13],[39,14,40,14],[39,17,40,17],[39,18,40,18],[39,19,40,19],[39,20,40,20],[39,15,40,16],[39,5,40,5],[39,6,40,6],[39,9,40,9],[39,10,40,10],[39,11,40,11],[39,12,40,12],[43,5,44,5],[43,6,44,6],[43,9,44,9],[43,10,44,10],[43,11,44,11],[43,12,44,12],[43,7,44,8],[45,30,46,30],[45,34,46,34],[43,0,44,0],[43,1,44,1],[43,2,44,2],[43,3,44,3],[43,4,44,4],[41,22,42,22],[41,25,42,25],[41,26,42,26],[41,27,42,27],[41,28,42,28],[41,29,42,29],[41,23,42,24],[41,14,42,14],[41,17,42,17],[41,18,42,18],[41,19,42,19],[41,20,42,20],[41,21,42,21],[41,15,42,16],[41,6,42,6],[41,9,42,9],[41,10,42,10],[41,11,42,11],[43,29,44,29],[43,30,44,30],[43,34,44,34],[43,21,44,21],[43,22,44,22],[43,25,44,25],[43,26,44,26],[43,27,44,27],[43,28,44,28],[43,23,44,24],[43,13,44,13],[43,14,44,14],[43,17,44,17],[43,18,44,18],[43,19,44,19],[43,20,44,20],[43,15,44,16],[47,0,48,0],[47,1,48,1],[47,2,48,2],[47,3,48,3],[47,4,48,4],[45,22,46,22],[45,25,46,25],[45,26,46,26],[45,27,46,27],[45,28,46,28],[45,29,46,29],[45,23,46,24],[45,14,46,14],[45,17,46,17],[45,18,46,18],[45,19,46,19],[45,20,46,20],[45,21,46,21],[45,15,46,16],[45,6,46,6],[45,9,46,9],[45,10,46,10],[45,11,46,11],[45,12,46,12],[45,13,46,13],[45,7,46,8],[45,0,46,0],[45,1,46,1],[45,2,46,2],[45,3,46,3],[45,4,46,4],[45,5,46,5],[49,3,50,3],[49,4,50,4],[49,5,50,5],[47,29,48,29],[47,30,48,30],[47,34,48,34],[47,21,48,21],[47,22,48,22],[47,25,48,25],[47,26,48,26],[47,27,48,27],[47,28,48,28],[47,23,48,24],[47,13,48,13],[47,14,48,14],[47,17,48,17],[47,18,48,18],[47,19,48,19],[47,20,48,20],[47,15,48,16],[47,5,48,5],[47,6,48,6],[47,9,48,9],[47,10,48,10],[47,11,48,11],[47,12,48,12],[47,7,48,8],[49,30,50,30],[49,34,50,34],[51,7,52,8],[53,30,54,30],[53,34,54,34],[51,0,52,0],[51,1,52,1],[51,2,52,2],[51,3,52,3],[51,4,52,4],[49,22,50,22],[49,25,50,25],[49,26,50,26],[49,27,50,27],[49,28,50,28],[49,29,50,29],[49,23,50,24],[49,14,50,14],[49,17,50,17],[49,18,50,18],[49,19,50,19],[49,20,50,20],[49,21,50,21],[49,15,50,16],[49,6,50,6],[49,9,50,9],[49,10,50,10],[49,11,50,11],[49,12,50,12],[49,13,50,13],[49,7,50,8],[49,0,50,0],[49,1,50,1],[49,2,50,2],[53,12,54,12],[53,13,54,13],[53,7,54,8],[53,0,54,0],[53,1,54,1],[53,2,54,2],[53,3,54,3],[53,4,54,4],[53,5,54,5],[51,29,52,29],[51,30,52,30],[51,34,52,34],[51,21,52,21],[51,22,52,22],[51,25,52,25],[51,26,52,26],[51,27,52,27],[51,28,52,28],[51,23,52,24],[51,13,52,13],[51,14,52,14],[51,17,52,17],[51,18,52,18],[51,19,52,19],[51,20,52,20],[51,15,52,16],[51,5,52,5],[51,6,52,6],[51,9,52,9],[51,10,52,10],[51,11,52,11],[51,12,52,12],[55,5,56,5],[55,6,56,6],[55,9,56,9],[55,10,56,10],[55,11,56,11],[55,12,56,12],[55,7,56,8],[57,30,58,30],[57,34,58,34],[55,0,56,0],[55,1,56,1],[55,2,56,2],[55,3,56,3],[55,4,56,4],[53,22,54,22],[53,25,54,25],[53,26,54,26],[53,27,54,27],[53,28,54,28],[53,29,54,29],[53,23,54,24],[53,14,54,14],[53,17,54,17],[53,18,54,18],[53,19,54,19],[53,20,54,20],[53,21,54,21],[53,15,54,16],[53,6,54,6],[53,9,54,9],[53,10,54,10],[53,11,54,11],[55,29,56,29],[55,30,56,30],[55,34,56,34],[55,21,56,21],[55,22,56,22],[55,25,56,25],[55,26,56,26],[55,27,56,27],[55,28,56,28],[55,23,56,24],[55,13,56,13],[55,14,56,14],[55,17,56,17],[55,18,56,18],[55,19,56,19],[55,20,56,20],[55,15,56,16],[59,0,60,0],[59,1,60,1],[59,2,60,2],[59,3,60,3],[59,4,60,4],[57,22,58,22],[57,25,58,25],[57,26,58,26],[57,27,58,27],[57,28,58,28],[57,29,58,29],[57,23,58,24],[57,14,58,14],[57,17,58,17],[57,18,58,18],[57,19,58,19],[57,20,58,20],[57,21,58,21],[57,15,58,16],[57,6,58,6],[57,9,58,9],[57,10,58,10],[57,11,58,11],[57,12,58,12],[57,13,58,13],[57,7,58,8],[57,0,58,0],[57,1,58,1],[57,2,58,2],[57,3,58,3],[57,4,58,4],[57,5,58,5],[61,3,62,3],[61,4,62,4],[61,5,62,5],[59,29,60,29],[59,30,60,30],[59,34,60,34],[59,21,60,21],[59,22,60,22],[59,25,60,25],[59,26,60,26],[59,27,60,27],[59,28,60,28],[59,23,60,24],[59,13,60,13],[59,14,60,14],[59,17,60,17],[59,18,60,18],[59,19,60,19],[59,20,60,20],[59,15,60,16],[59,5,60,5],[59,6,60,6],[59,9,60,9],[59,10,60,10],[59,11,60,11],[59,12,60,12],[59,7,60,8],[61,30,62,30],[61,34,62,34],[63,7,64,8],[65,30,66,30],[65,34,66,34],[63,0,64,0],[63,1,64,1],[63,2,64,2],[63,3,64,3],[63,4,64,4],[61,22,62,22],[61,25,62,25],[61,26,62,26],[61,27,62,27],[61,28,62,28],[61,29,62,29],[61,23,62,24],[61,14,62,14],[61,17,62,17],[61,18,62,18],[61,19,62,19],[61,20,62,20],[61,21,62,21],[61,15,62,16],[61,6,62,6],[61,9,62,9],[61,10,62,10],[61,11,62,11],[61,12,62,12],[61,13,62,13],[61,7,62,8],[61,0,62,0],[61,1,62,1],[61,2,62,2],[65,12,66,12],[65,13,66,13],[65,7,66,8],[65,0,66,0],[65,1,66,1],[65,2,66,2],[65,3,66,3],[65,4,66,4],[65,5,66,5],[63,29,64,29],[63,30,64,30],[63,34,64,34],[63,21,64,21],[63,22,64,22],[63,25,64,25],[63,26,64,26],[63,27,64,27],[63,28,64,28],[63,23,64,24],[63,13,64,13],[63,14,64,14],[63,17,64,17],[63,18,64,18],[63,19,64,19],[63,20,64,20],[63,15,64,16],[63,5,64,5],[63,6,64,6],[63,9,64,9],[63,10,64,10],[63,11,64,11],[63,12,64,12],[67,5,68,5],[67,6,68,6],[67,9,68,9],[67,10,68,10],[67,11,68,11],[67,12,68,12],[67,7,68,8],[69,30,70,30],[69,34,70,34],[67,0,68,0],[67,1,68,1],[67,2,68,2],[67,3,68,3],[67,4,68,4],[65,22,66,22],[65,25,66,25],[65,26,66,26],[65,27,66,27],[65,28,66,28],[65,29,66,29],[65,23,66,24],[65,14,66,14],[65,17,66,17],[65,18,66,18],[65,19,66,19],[65,20,66,20],[65,21,66,21],[65,15,66,16],[65,6,66,6],[65,9,66,9],[65,10,66,10],[65,11,66,11],[67,29,68,29],[67,30,68,30],[67,34,68,34],[67,21,68,21],[67,22,68,22],[67,25,68,25],[67,26,68,26],[67,27,68,27],[67,28,68,28],[67,23,68,24],[67,13,68,13],[67,14,68,14],[67,17,68,17],[67,18,68,18],[67,19,68,19],[67,20,68,20],[67,15,68,16],[71,0,72,0],[71,1,72,1],[71,2,72,2],[71,3,72,3],[71,4,72,4],[69,22,70,22],[69,25,70,25],[69,26,70,26],[69,27,70,27],[69,28,70,28],[69,29,70,29],[69,23,70,24],[69,14,70,14],[69,17,70,17],[69,18,70,18],[69,19,70,19],[69,20,70,20],[69,21,70,21],[69,15,70,16],[69,6,70,6],[69,9,70,9],[69,10,70,10],[69,11,70,11],[69,12,70,12],[69,13,70,13],[69,7,70,8],[69,0,70,0],[69,1,70,1],[69,2,70,2],[69,3,70,3],[69,4,70,4],[69,5,70,5],[73,3,74,3],[73,4,74,4],[73,5,74,5],[71,29,72,29],[71,30,72,30],[71,34,72,34],[71,21,72,21],[71,22,72,22],[71,25,72,25],[71,26,72,26],[71,27,72,27],[71,28,72,28],[71,23,72,24],[71,13,72,13],[71,14,72,14],[71,17,72,17],[71,18,72,18],[71,19,72,19],[71,20,72,20],[71,15,72,16],[71,5,72,5],[71,6,72,6],[71,9,72,9],[71,10,72,10],[71,11,72,11],[71,12,72,12],[71,7,72,8],[73,31,74,32],[75,7,76,8],[73,30,74,30],[73,34,74,34],[75,0,76,0],[75,1,76,1],[75,2,76,2],[75,3,76,3],[75,4,76,4],[73,22,74,22],[73,25,74,25],[73,26,74,26],[73,27,74,27],[73,28,74,28],[73,29,74,29],[73,23,74,24],[73,14,74,14],[73,17,74,17],[73,18,74,18],[73,19,74,19],[73,20,74,20],[73,21,74,21],[73,15,74,16],[73,6,74,6],[73,9,74,9],[73,10,74,10],[73,11,74,11],[73,12,74,12],[73,13,74,13],[73,7,74,8],[73,0,74,0],[73,1,74,1],[73,2,74,2],[77,6,78,6],[77,9,78,9],[77,10,78,10],[77,11,78,11],[77,12,78,12],[77,13,78,13],[77,7,78,8],[77,0,78,0],[77,1,78,1],[77,2,78,2],[77,3,78,3],[77,4,78,4],[77,5,78,5],[75,29,76,29],[75,30,76,30],[75,34,76,34],[75,21,76,21],[75,22,76,22],[75,25,76,25],[75,26,76,26],[75,27,76,27],[75,28,76,28],[75,23,76,24],[75,13,76,13],[75,14,76,14]],"merged_total":1096,"flags":["merged_cut"]}
[null,null,null,null,null,{"$f":"'1'!C2","v":"janvier"},null,{"$f":"'2'!C2","v":"février"},null,{"$f":"'3'!C2","v":"mars"},null,{"$f":"'4'!C2","v":"avril"},null,{"$f":"'5'!C2","v":"mai"},null,{"$f":"'6'!C2","v":"juin"},null,{"$f":"'7'!C2","v":"juillet"},null,{"$f":"'8'!C2","v":"août"},null,{"$f":"'9'!C2","v":"septembre"},null,{"$f":"'10'!C2","v":"octobre"},null,{"$f":"'11'!C2","v":"novembre"},null,{"$f":"'12'!C2","v":"décembre"}]
[]
["ANNEE"]
[]
[null,{"$f":"'1'!C14","v":"trimestre"}]
[]
[]
[null,{"$f":"'1'!C2","v":"janvier"},null,{"$f":"'2'!C2","v":"février"},null,{"$f":"'3'!C2","v":"mars"},null,"TOTAL",null,{"$f":"'4'!C2","v":"avril"},null,{"$f":"'5'!C2","v":"mai"},null,{"$f":"'6'!C2","v":"juin"},null,"TOTAL",null,{"$f":"'7'!C2","v":"juillet"},null,{"$f":"'8'!C2","v":"août"},null,{"$f":"'9'!C2","v":"septembre"},null,"TOTAL",null,{"$f":"'10'!C2","v":"octobre"},null,{"$f":"'11'!C2","v":"novembre"},null,{"$f":"'12'!C2","v":"décembre"},null,"TOTAL",null,null,"CONTRAT"]
[]
[{"$f":"'renseignement agent'!A8","v":0},{"$f":"SUMIF('1'!$A$15:'1'!$A$73,A10,'1'!$AI$15:'1'!$AI$73)","v":0},{"$f":"SUM(B10-C82)","v":0},{"$f":"SUMIF('2'!$A$15:'2'!$A$73,A10,'2'!$AI$15:'2'!$AI$73)","v":0},{"$f":"D10-E82","v":0},{"$f":"SUMIF('3'!$A$15:$A$73,A10,'3'!$AI$15:$AI$73)","v":0},{"$f":"F10-G82","v":0},{"$f":"SUM(C10+E10+G10)","v":0},null,{"$f":"SUMIF('4'!$A$15:$A$73,A10,'4'!$AI$15:$AI$73)","v":0},{"$f":"J10-K82","v":0},{"$f":"SUMIF('5'!$A$15:$A$73,A10,'5'!$AI$15:$AI$73)","v":0},{"$f":"L10-M82","v":0},{"$f":"SUMIF('6'!$A$15:$A$73,A10,'6'!$AI$15:$AI$73)","v":0},{"$f":"N10-O82","v":0},{"$f":"SUM(K10+M10+O10)","v":0},null,{"$f":"SUMIF('7'!$A$15:$A$73,A10,'7'!$AI$15:$AI$73)","v":0},{"$f":"R10-S82","v":0},{"$f":"SUMIF('8'!$A$15:$A$73,A10,'8'!$AI$15:$AI$73)","v":0},{"$f":"T10-U82","v":0},{"$f":"SUMIF('9'!$A$15:$A$73,A10,'9'!$AI$15:$AI$73)","v":0},{"$f":"V10-W82","v":0},{"$f":"SUM(S10+U10+W10)","v":0},null,{"$f":"SUMIF('10'!$A$15:$A$73,A10,'10'!$AI$15:$AI$73)","v":0},{"$f":"Z10-AA82","v":0},{"$f":"SUMIF('11'!$A$15:$A$73,A10,'11'!$AI$15:$AI$73)","v":0},{"$f":"AB10-AC82","v":0},{"$f":"SUMIF('12'!$A$15:$A$73,A10,'12'!$AI$15:$AI$73)","v":0},{"$f":"AD10-AE82","v":0},{"$f":"SUM(AA10+AC10+AE10)","v":0},null,null,{"$f":"SUMIF('renseignement agent'!$A$8:'renseignement agent'!$A$37,A10,'renseignement agent'!$C$8:'renseignement agent'!$C$37)","v":0}]
[]
[{"$f":"'renseignement agent'!A10","v":0},{"$f":"SUMIF('1'!$A$15:'1'!$A$73,A12,'1'!$AI$15:'1'!$AI$73)","v":0},{"$f":"SUM(B12-C84)","v":0},{"$f":"SUMIF('2'!$A$15:'2'!$A$73,A12,'2'!$AI$15:'2'!$AI$73)","v":0},{"$f":"D12-E84","v":0},{"$f":"SUMIF('3'!$A$15:$A$73,A12,'3'!$AI$15:$AI$73)","v":0},{"$f":"F12-G84","v":0},{"$f":"SUM(C12+E12+G12)","v":0},null,{"$f":"SUMIF('4'!$A$15:$A$73,A12,'4'!$AI$15:$AI$73)","v":0},{"$f":"J12-K84","v":0},{"$f":"SUMIF('5'!$A$15:$A$73,A12,'5'!$AI$15:$AI$73)","v":0},{"$f":"L12-M84","v":0},{"$f":"SUMIF('6'!$A$15:$A$73,A12,'6'!$AI$15:$AI$73)","v":0},{"$f":"N12-O84","v":0},{"$f":"SUM(K12+M12+O12)","v":0},null,{"$f":"SUMIF('7'!$A$15:$A$73,A12,'7'!$AI$15:$AI$73)","v":0},{"$f":"R12-S84","v":0},{"$f":"SUMIF('8'!$A$15:$A$73,A12,'8'!$AI$15:$AI$73)","v":0},{"$f":"T12-U84","v":0},{"$f":"SUMIF('9'!$A$15:$A$73,A12,'9'!$AI$15:$AI$73)","v":0},{"$f":"V12-W84","v":0},{"$f":"SUM(S12+U12+W12)","v":0},null,{"$f":"SUMIF('10'!$A$15:$A$73,A12,'10'!$AI$15:$AI$73)","v":0},{"$f":"Z12-AA84","v":0},{"$f":"SUMIF('11'!$A$15:$A$73,A12,'11'!$AI$15:$AI$73)","v":0},{"$f":"AB12-AC84","v":0},{"$f":"SUMIF('12'!$A$15:$A$73,A12,'12'!$AI$15:$AI$73)","v":0},{"$f":"AD12-AE84","v":0},{"$f":"SUM(AA12+AC12+AE12)","v":0},null,null,{"$f":"SUMIF('renseignement agent'!$A$8:'renseignement agent'!$A$37,A12,'renseignement agent'!$C$8:'renseignement agent'!$C$37)","v":0},null,{"$f":"SUM(AI12-AI12-AI12)","v":0}]
[]
[{"$f":"'renseignement agent'!A12","v":0},{"$f":"SUMIF('1'!$A$15:'1'!$A$73,A14,'1'!$AI$15:'1'!$AI$73)","v":0},{"$f":"SUM(B14-C86)","v":0},{"$f":"SUMIF('2'!$A$15:'2'!$A$73,A14,'2'!$AI$15:'2'!$AI$73)","v":0},{"$f":"D14-E86","v":0},{"$f":"SUMIF('3'!$A$15:$A$73,A14,'3'!$AI$15:$AI$73)","v":0},{"$f":"F14-G86","v":0},{"$f":"SUM(C14+E14+G14)","v":0},null,{"$f":"SUMIF('4'!$A$15:$A$73,A14,'4'!$AI$15:$AI$73)","v":0},{"$f":"J14-K86","v":0},{"$f":"SUMIF('5'!$A$15:$A$73,A14,'5'!$AI$15:$AI$73)","v":0},{"$f":"L14-M86","v":0},{"$f":"SUMIF('6'!$A$15:$A$73,A14,'6'!$AI$15:$AI$73)","v":0},{"$f":"N14-O86","v":0},{"$f":"SUM(K14+M14+O14)","v":0},null,{"$f":"SUMIF('7'!$A$15:$A$73,A14,'7'!$AI$15:$AI$73)","v":0},{"$f":"R14-S86","v":0},{"$f":"SUMIF('8'!$A$15:$A$73,A14,'8'!$AI$15:$AI$73)","v":0},{"$f":"T14-U86","v":0},{"$f":"SUMIF('9'!$A$15:$A$73,A14,'9'!$AI$15:$AI$73)","v":0},{"$f":"V14-W86","v":0},{"$f":"SUM(S14+U14+W14)","v":0},null,{"$f":"SUMIF('10'!$A$15:$A$73,A14,'10'!$AI$15:$AI$73)","v":0},{"$f":"Z14-AA86","v":0},{"$f":"SUMIF('11'!$A$15:$A$73,A14,'11'!$AI$15:$AI$73)","v":0},{"$f":"AB14-AC86","v":0},{"$f":"SUMIF('12'!$A$15:$A$73,A14,'12'!$AI$15:$AI$73)","v":0},{"$f":"AD14-AE86","v":0},{"$f":"SUM(AA14+AC14+AE14)","v":0},null,null,{"$f":"SUMIF('renseignement agent'!$A$8:'renseignement agent'!$A$37,A14,'renseignement agent'!$C$8:'renseignement agent'!$C$37)","v":0},null,{"$f":"SUM(AI14-AI14-AI14)","v":0}]
[]
[{"$f":"'renseignement agent'!A14","v":0},{"$f":"SUMIF('1'!$A$15:'1'!$A$73,A16,'1'!$AI$15:'1'!$AI$73)","v":0},{"$f":"SUM(B16-C88)","v":0},{"$f":"SUMIF('2'!$A$15:'2'!$A$73,A16,'2'!$AI$15:'2'!$AI$73)","v":0},{"$f":"D16-E88","v":0},{"$f":"SUMIF('3'!$A$15:$A$73,A16,'3'!$AI$15:$AI$73)","v":0},{"$f":"F16-G88","v":0},{"$f":"SUM(C16+E16+G16)","v":0},null,{"$f":"SUMIF('4'!$A$15:$A$73,A16,'4'!$AI$15:$AI$73)","v":0},{"$f":"J16-K88","v":0},{"$f":"SUMIF('5'!$A$15:$A$73,A16,'5'!$AI$15:$AI$73)","v":0},{"$f":"L16-M88","v":0},{"$f":"SUMIF('6'!$A$15:$A$73,A16,'6'!$AI$15:$AI$73)","v":0},{"$f":"N16-O88","v":0},{"$f":"SUM(K16+M16+O16)","v":0},null,{"$f":"SUMIF('7'!$A$15:$A$73,A16,'7'!$AI$15:$AI$73)","v":0},{"$f":"R16-S88","v":0},{"$f":"SUMIF('8'!$A$15:$A$73,A16,'8'!$AI$15:$AI$73)","v":0},{"$f":"T16-U88","v":0},{"$f":"SUMIF('9'!$A$15:$A$73,A16,'9'!$AI$15:$AI$73)","v":0},{"$f":"V16-W88","v":0},{"$f":"SUM(S16+U16+W16)","v":0},null,{"$f":"SUMIF('10'!$A$15:$A$73,A16,'10'!$AI$15:$AI$73)","v":0},{"$f":"Z16-AA88","v":0},{"$f":"SUMIF('11'!$A$15:$A$73,A16,'11'!$AI$15:$AI$73)","v":0},{"$f":"AB16-AC88","v":0},{"$f":"SUMIF('12'!$A$15:$A$73,A16,'12'!$AI$15:$AI$73)","v":0},{"$f":"AD16-AE88","v":0},{"$f":"SUM(AA16+AC16+AE16)","v":0},null,null,{"$f":"SUMIF('renseignement agent'!$A$8:'renseignement agent'!$A$37,A16,'renseignement agent'!$C$8:'renseignement agent'!$C$37)","v":0},null,{"$f":"SUM(AI16-AI16-AI16)","v":0}]
[]
[{"$f":"'renseignement agent'!A16","v":0},{"$f":"SUMIF('1'!$A$15:'1'!$A$73,A18,'1'!$AI$15:'1'!$AI$73)","v":0},{"$f":"SUM(B18-C90)","v":0},{"$f":"SUMIF('2'!$A$15:'2'!$A$73,A18,'2'!$AI$15:'2'!$AI$73)","v":0},{"$f":"D18-E90","v":0},{"$f":"SUMIF('3'!$A$15:$A$73,A18,'3'!$AI$15:$AI$73)","v":0},{"$f":"F18-G90","v":0},{"$f":"SUM(C18+E18+G18)","v":0},null,{"$f":"SUMIF('4'!$A$15:$A$73,A18,'4'!$AI$15:$AI$73)","v":0},{"$f":"J18-K90","v":0},{"$f":"SUMIF('5'!$A$15:$A$73,A18,'5'!$AI$15:$AI$73)","v":0},{"$f":"L18-M90","v":0},{"$f":"SUMIF('6'!$A$15:$A$73,A18,'6'!$AI$15:$AI$73)","v":0},{"$f":"N18-O90","v":0},{"$f":"SUM(K18+M18+O18)","v":0},null,{"$f":"SUMIF('7'!$A$15:$A$73,A18,'7'!$AI$15:$AI$73)","v":0},{"$f":"R18-S90","v":0},{"$f":"SUMIF('8'!$A$15:$A$73,A18,'8'!$AI$15:$AI$73)","v":0},{"$f":"T18-U90","v":0},{"$f":"SUMIF('9'!$A$15:$A$73,A18,'9'!$AI$15:$AI$73)","v":0},{"$f":"V18-W90","v":0},{"$f":"SUM(S18+U18+W18)","v":0},null,{"$f":"SUMIF('10'!$A$15:$A$73,A18,'10'!$AI$15:$AI$73)","v":0},{"$f":"Z18-AA90","v":0},{"$f":"SUMIF('11'!$A$15:$A$73,A18,'11'!$AI$15:$AI$73)","v":0},{"$f":"AB18-AC90","v":0},{"$f":"SUMIF('12'!$A$15:$A$73,A18,'12'!$AI$15:$AI$73)","v":0},{"$f":"AD18-AE90","v":0},{"$f":"SUM(AA18+AC18+AE18)","v":0},null,null,{"$f":"SUMIF('renseignement agent'!$A$8:'renseignement agent'!$A$37,A18,'renseignement agent'!$C$8:'renseignement agent'!$C$37)","v":0},null,{"$f":"SUM(AI18-AI18-AI18)","v":0}]
[]
[{"$f":"'renseignement agent'!A18","v":0},{"$f":"SUMIF('1'!$A$15:'1'!$A$73,A20,'1'!$AI$15:'1'!$AI$73)","v":0},{"$f":"SUM(B20-C92)","v":0},{"$f":"SUMIF('2'!$A$15:'2'!$A$73,A20,'2'!$AI$15:'2'!$AI$73)","v":0},{"$f":"D20-E92","v":0},{"$f":"SUMIF('3'!$A$15:$A$73,A20,'3'!$AI$15:$AI$73)","v":0},{"$f":"F20-G92","v":0},{"$f":"SUM(C20+E20+G20)","v":0},null,{"$f":"SUMIF('4'!$A$15:$A$73,A20,'4'!$AI$15:$AI$73)","v":0},{"$f":"J20-K92","v":0},{"$f":"SUMIF('5'!$A$15:$A$73,A20,'5'!$AI$15:$AI$73)","v":0},{"$f":"L20-M92","v":0},{"$f":"SUMIF('6'!$A$15:$A$73,A20,'6'!$AI$15:$AI$73)","v":0},{"$f":"N20-O92","v":0},{"$f":"SUM(K20+M20+O20)","v":0},null,{"$f":"SUMIF('7'!$A$15:$A$73,A20,'7'!$AI$15:$AI$73)","v":0},{"$f":"R20-S92","v":0},{"$f":"SUMIF('8'!$A$15:$A$73,A20,'8'!$AI$15:$AI$73)","v":0},{"$f":"T20-U92","v":0},{"$f":"SUMIF('9'!$A$15:$A$73,A20,'9'!$AI$15:$AI$73)","v":0},{"$f":"V20-W92","v":0},{"$f":"SUM(S20+U20+W20)","v":0},null,{"$f":"SUMIF('10'!$A$15:$A$73,A20,'10'!$AI$15:$AI$73)","v":0},{"$f":"Z20-AA92","v":0},{"$f":"SUMIF('11'!$A$15:$A$73,A20,'11'!$AI$15:$AI$73)","v":0},{"$f":"AB20-AC92","v":0},{"$f":"SUMIF('12'!$A$15:$A$73,A20,'12'!$AI$15:$AI$73)","v":0},{"$f":"AD20-AE92","v":0},{"$f":"SUM(AA20+AC20+AE20)","v":0},null,null,{"$f":"SUMIF('renseignement agent'!$A$8:'renseignement agent'!$A$37,A20,'renseignement agent'!$C$8:'renseignement agent'!$C$37)","v":0},null,{"$f":"SUM(AI20-AI20-AI20)","v":0}]
[]
[{"$f":"'renseignement agent'!A20","v":0},{"$f":"SUMIF('1'!$A$15:'1'!$A$73,A22,'1'!$AI$15:'1'!$AI$73)","v":0},{"$f":"SUM(B22-C94)","v":0},{"$f":"SUMIF('2'!$A$15:'2'!$A$73,A22,'2'!$AI$15:'2'!$AI$73)","v":0},{"$f":"D22-E94","v":0},{"$f":"SUMIF('3'!$A$15:$A$73,A22,'3'!$AI$15:$AI$73)","v":0},{"$f":"F22-G94","v":0},{"$f":"SUM(C22+E22+G22)","v":0},null,{"$f":"SUMIF('4'!$A$15:$A$73,A22,'4'!$AI$15:$AI$73)","v":0},{"$f":"J22-K94","v":0},{"$f":"SUMIF('5'!$A$15:$A$73,A22,'5'!$AI$15:$AI$73)","v":0},{"$f":"L22-M94","v":0},{"$f":"SUMIF('6'!$A$15:$A$73,A22,'6'!$AI$15:$AI$73)","v":0},{"$f":"N22-O94","v":0},{"$f":"SUM(K22+M22+O22)","v":0},null,{"$f":"SUMIF('7'!$A$15:$A$73,A22,'7'!$AI$15:$AI$73)","v":0},{"$f":"R22-S94","v":0},{"$f":"SUMIF('8'!$A$15:$A$73,A22,'8'!$AI$15:$AI$73)","v":0},{"$f":"T22-U94","v":0},{"$f":"SUMIF('9'!$A$15:$A$73,A22,'9'!$AI$15:$AI$73)","v":0},{"$f":"V22-W94","v":0},{"$f":"SUM(S22+U22+W22)","v":0},null,{"$f":"SUMIF('10'!$A$15:$A$73,A22,'10'!$AI$15:$AI$73)","v":0},{"$f":"Z22-AA94","v":0},{"$f":"SUMIF('11'!$A$15:$A$73,A22,'11'!$AI$15:$AI$73)","v":0},{"$f":"AB22-AC94","v":0},{"$f":"SUMIF('12'!$A$15:$A$73,A22,'12'!$AI$15:$AI$73)","v":0},{"$f":"AD22-AE94","v":0},{"$f":"SUM(AA22+AC22+AE22)","v":0},null,null,{"$f":"SUMIF('renseignement agent'!$A$8:'renseignement agent'!$A$37,A22,'renseignement agent'!$C$8:'renseignement agent'!$C$37)","v":0},null,{"$f":"SUM(AI22-AI22-AI22)","v":0}]
[]
[{"$f":"'renseignement agent'!A22","v":0},{"$f":"SUMIF('1'!$A$15:'1'!$A$73,A24,'1'!$AI$15:'1'!$AI$73)","v":0},{"$f":"SUM(B24-C96)","v":0},{"$f":"SUMIF('2'!$A$15:'2'!$A$73,A24,'2'!$AI$15:'2'!$AI$73)","v":0},{"$f":"D24-E96","v":0},{"$f":"SUMIF('3'!$A$15:$A$73,A24,'3'!$AI$15:$AI$73)","v":0},{"$f":"F24-G96","v":0},{"$f":"SUM(C24+E24+G24)","v":0},null,{"$f":"SUMIF('4'!$A$15:$A$73,A24,'4'!$AI$15:$AI$73)","v":0},{"$f":"J24-K96","v":0},{"$f":"SUMIF('5'!$A$15:$A$73,A24,'5'!$AI$15:$AI$73)","v":0},{"$f":"L24-M96","v":0},{"$f":"SUMIF('6'!$A$15:$A$73,A24,'6'!$AI$15:$AI$73)","v":0},{"$f":"N24-O96","v":0},{"$f":"SUM(K24+M24+O24)","v":0},null,{"$f":"SUMIF('7'!$A$15:$A$73,A24,'7'!$AI$15:$AI$73)","v":0},{"$f":"R24-S96","v":0},{"$f":"SUMIF('8'!$A$15:$A$73,A24,'8'!$AI$15:$AI$73)","v":0},{"$f":"T24-U96","v":0},{"$f":"SUMIF('9'!$A$15:$A$73,A24,'9'!$AI$15:$AI$73)","v":0},{"$f":"V24-W96","v":0},{"$f":"SUM(S24+U24+W24)","v":0},null,{"$f":"SUMIF('10'!$A$15:$A$73,A24,'10'!$AI$15:$AI$73)","v":0},{"$f":"Z24-AA96","v":0},{"$f":"SUMIF('11'!$A$15:$A$73,A24,'11'!$AI$15:$AI$73)","v":0},{"$f":"AB24-AC96","v":0},{"$f":"SUMIF('12'!$A$15:$A$73,A24,'12'!$AI$15:$AI$73)","v":0},{"$f":"AD24-AE96","v":0},{"$f":"SUM(AA24+AC24+AE24)","v":0},null,null,{"$f":"SUMIF('renseignement agent'!$A$8:'renseignement agent'!$A$37,A24,'renseignement agent'!$C$8:'renseignement agent'!$C$37)","v":0},null,{"$f":"SUM(AI24-AI24-AI24)","v":0}]
[]
[{"$f":"'renseignement agent'!A24","v":0},{"$f":"SUMIF('1'!$A$15:'1'!$A$73,A26,'1'!$AI$15:'1'!$AI$73)","v":0},{"$f":"SUM(B26-C98)","v":0},{"$f":"SUMIF('2'!$A$15:'2'!$A$73,A26,'2'!$AI$15:'2'!$AI$73)","v":0},{"$f":"D26-E98","v":0},{"$f":"SUMIF('3'!$A$15:$A$73,A26,'3'!$AI$15:$AI$73)","v":0},{"$f":"F26-G98","v":0},{"$f":"SUM(C26+E26+G26)","v":0},null,{"$f":"SUMIF('4'!$A$15:$A$73,A26,'4'!$AI$15:$AI$73)","v":0},{"$f":"J26-K98","v":0},{"$f":"SUMIF('5'!$A$15:$A$73,A26,'5'!$AI$15:$AI$73)","v":0},{"$f":"L26-M98","v":0},{"$f":"SUMIF('6'!$A$15:$A$73,A26,'6'!$AI$15:$AI$73)","v":0},{"$f":"N26-O98","v":0},{"$f":"SUM(K26+M26+O26)","v":0},null,{"$f":"SUMIF('7'!$A$15:$A$73,A26,'7'!$AI$15:$AI$73)","v":0},{"$f":"R26-S98","v":0},{"$f":"SUMIF('8'!$A$15:$A$73,A26,'8'!$AI$15:$AI$73)","v":0},{"$f":"T26-U98","v":0},{"$f":"SUMIF('9'!$A$15:$A$73,A26,'9'!$AI$15:$AI$73)","v":0},{"$f":"V26-W98","v":0},{"$f":"SUM(S26+U26+W26)","v":0},null,{"$f":"SUMIF('10'!$A$15:$A$73,A26,'10'!$AI$15:$AI$73)","v":0},{"$f":"Z26-AA98","v":0},{"$f":"SUMIF('11'!$A$15:$A$73,A26,'11'!$AI$15:$AI$73)","v":0},{"$f":"AB26-AC98","v":0},{"$f":"SUMIF('12'!$A$15:$A$73,A26,'12'!$AI$15:$AI$73)","v":0},{"$f":"AD26-AE98","v":0},{"$f":"SUM(AA26+AC26+AE26)","v":0},null,null,{"$f":"SUMIF('renseignement agent'!$A$8:'renseignement agent'!$A$37,A26,'renseignement agent'!$C$8:'renseignement agent'!$C$37)","v":0},null,{"$f":"SUM(AI26-AI26-AI26)","v":0}]
[]
[{"$f":"'renseignement agent'!A26","v":0},{"$f":"SUMIF('1'!$A$15:'1'!$A$73,A28,'1'!$AI$15:'1'!$AI$73)","v":0},{"$f":"SUM(B28-C100)","v":0},{"$f":"SUMIF('2'!$A$15:'2'!$A$73,A28,'2'!$AI$15:'2'!$AI$73)","v":0},{"$f":"D28-E100","v":0},{"$f":"SUMIF('3'!$A$15:$A$73,A28,'3'!$AI$15:$AI$73)","v":0},{"$f":"F28-G100","v":0},{"$f":"SUM(C28+E28+G28)","v":0},null,{"$f":"SUMIF('4'!$A$15:$A$73,A28,'4'!$AI$15:$AI$73)","v":0},{"$f":"J28-K100","v":0},{"$f":"SUMIF('5'!$A$15:$A$73,A28,'5'!$AI$15:$AI$73)","v":0},{"$f":"L28-M100","v":0},{"$f":"SUMIF('6'!$A$15:$A$73,A28,'6'!$AI$15:$AI$73)","v":0},{"$f":"N28-O100","v":0},{"$f":"SUM(K28+M28+O28)","v":0},null,{"$f":"SUMIF('7'!$A$15:$A$73,A28,'7'!$AI$15:$AI$73)","v":0},{"$f":"R28-S100","v":0},{"$f":"SUMIF('8'!$A$15:$A$73,A28,'8'!$AI$15:$AI$73)","v":0},{"$f":"T28-U100","v":0},{"$f":"SUMIF('9'!$A$15:$A$73,A28,'9'!$AI$15:$AI$73)","v":0},{"$f":"V28-W100","v":0},{"$f":"SUM(S28+U28+W28)","v":0},null,{"$f":"SUMIF('10'!$A$15:$A$73,A28,'10'!$AI$15:$AI$73)","v":0},{"$f":"Z28-AA100","v":0},{"$f":"SUMIF('11'!$A$15:$A$73,A28,'11'!$AI$15:$AI$73)","v":0},{"$f":"AB28-AC100","v":0},{"$f":"SUMIF('12'!$A$15:$A$73,A28,'12'!$AI$15:$AI$73)","v":0},{"$f":"AD28-AE100","v":0},{"$f":"SUM(AA28+AC28+AE28)","v":0},null,null,{"$f":"SUMIF('renseignement agent'!$A$8:'renseignement agent'!$A$37,A28,'renseignement agent'!$C$8:'renseignement agent'!$C$37)","v":0},null,{"$f":"SUM(AI28-AI28-AI28)","v":0}]
[]
[{"$f":"'renseignement agent'!A28","v":0},{"$f":"SUMIF('1'!$A$15:'1'!$A$73,A30,'1'!$AI$15:'1'!$AI$73)","v":0},{"$f":"SUM(B30-C102)","v":0},{"$f":"SUMIF('2'!$A$15:'2'!$A$73,A30,'2'!$AI$15:'2'!$AI$73)","v":0},{"$f":"D30-E102","v":0},{"$f":"SUMIF('3'!$A$15:$A$73,A30,'3'!$AI$15:$AI$73)","v":0},{"$f":"F30-G102","v":0},{"$f":"SUM(C30+E30+G30)","v":0},null,{"$f":"SUMIF('4'!$A$15:$A$73,A30,'4'!$AI$15:$AI$73)","v":0},{"$f":"J30-K102","v":0},{"$f":"SUMIF('5'!$A$15:$A$73,A30,'5'!$AI$15:$AI$73)","v":0},{"$f":"L30-M102","v":0},{"$f":"SUMIF('6'!$A$15:$A$73,A30,'6'!$AI$15:$AI$73)","v":0},{"$f":"N30-O102","v":0},{"$f":"SUM(K30+M30+O30)","v":0},null,{"$f":"SUMIF('7'!$A$15:$A$73,A30,'7'!$AI$15:$AI$73)","v":0},{"$f":"R30-S102","v":0},{"$f":"SUMIF('8'!$A$15:$A$73,A30,'8'!$AI$15:$AI$73)","v":0},{"$f":"T30-U102","v":0},{"$f":"SUMIF('9'!$A$15:$A$73,A30,'9'!$AI$15:$AI$73)","v":0},{"$f":"V30-W102","v":0},{"$f":"SUM(S30+U30+W30)","v":0},null,{"$f":"SUMIF('10'!$A$15:$A$73,A30,'10'!$AI$15:$AI$73)","v":0},{"$f":"Z30-AA102","v":0},{"$f":"SUMIF('11'!$A$15:$A$73,A30,'11'!$AI$15:$AI$73)","v":0},{"$f":"AB30-AC102","v":0},{"$f":"SUMIF('12'!$A$15:$A$73,A30,'12'!$AI$15:$AI$73)","v":0},{"$f":"AD30-AE102","v":0},{"$f":"SUM(AA30+AC30+AE30)","v":0},null,null,{"$f":"SUMIF('renseignement agent'!$A$8:'renseignement agent'!$A$37,A30,'renseignement agent'!$C$8:'renseignement agent'!$C$37)","v":0},null,{"$f":"SUM(AI30-AI30-AI30)","v":0}]
[]
[{"$f":"'renseignement agent'!A30","v":0},{"$f":"SUMIF('1'!$A$15:'1'!$A$73,A32,'1'!$AI$15:'1'!$AI$73)","v":0},{"$f":"SUM(B32-C104)","v":0},{"$f":"SUMIF('2'!$A$15:'2'!$A$73,A32,'2'!$AI$15:'2'!$AI$73)","v":0},{"$f":"D32-E104","v":0},{"$f":"SUMIF('3'!$A$15:$A$73,A32,'3'!$AI$15:$AI$73)","v":0},{"$f":"F32-G104","v":0},{"$f":"SUM(C32+E32+G32)","v":0},null,{"$f":"SUMIF('4'!$A$15:$A$73,A32,'4'!$AI$15:$AI$73)","v":0},{"$f":"J32-K104","v":0},{"$f":"SUMIF('5'!$A$15:$A$73,A32,'5'!$AI$15:$AI$73)","v":0},{"$f":"L32-M104","v":0},{"$f":"SUMIF('6'!$A$15:$A$73,A32,'6'!$AI$15:$AI$73)","v":0},{"$f":"N32-O104","v":0},{"$f":"SUM(K32+M32+O32)","v":0},null,{"$f":"SUMIF('7'!$A$15:$A$73,A32,'7'!$AI$15:$AI$73)","v":0},{"$f":"R32-S104","v":0},{"$f":"SUMIF('8'!$A$15:$A$73,A32,'8'!$AI$15:$AI$73)","v":0},{"$f":"T32-U104","v":0},{"$f":"SUMIF('9'!$A$15:$A$73,A32,'9'!$AI$15:$AI$73)","v":0},{"$f":"V32-W104","v":0},{"$f":"SUM(S32+U32+W32)","v":0},null,{"$f":"SUMIF('10'!$A$15:$A$73,A32,'10'!$AI$15:$AI$73)","v":0},{"$f":"Z32-AA104","v":0},{"$f":"SUMIF('11'!$A$15:$A$73,A32,'11'!$AI$15:$AI$73)","v":0},{"$f":"AB32-AC104","v":0},{"$f":"SUMIF('12'!$A$15:$A$73,A32,'12'!$AI$15:$AI$73)","v":0},{"$f":"AD32-AE104","v":0},{"$f":"SUM(AA32+AC32+AE32)","v":0},null,null,{"$f":"SUMIF('renseignement agent'!$A$8:'renseignement agent'!$A$37,A32,'renseignement agent'!$C$8:'renseignement agent'!$C$37)","v":0},null,{"$f":"SUM(AI32-AI32-AI32)","v":0}]
[]
[{"$f":"'renseignement agent'!A32","v":0},{"$f":"SUMIF('1'!$A$15:'1'!$A$73,A34,'1'!$AI$15:'1'!$AI$73)","v":0},{"$f":"SUM(B34-C106)","v":0},{"$f":"SUMIF('2'!$A$15:'2'!$A$73,A34,'2'!$AI$15:'2'!$AI$73)","v":0},{"$f":"D34-E106","v":0},{"$f":"SUMIF('3'!$A$15:$A$73,A34,'3'!$AI$15:$AI$73)","v":0},{"$f":"F34-G106","v":0},{"$f":"SUM(C34+E34+G34)","v":0},null,{"$f":"SUMIF('4'!$A$15:$A$73,A34,'4'!$AI$15:$AI$73)","v":0},{"$f":"J34-K106","v":0},{"$f":"SUMIF('5'!$A$15:$A$73,A34,'5'!$AI$15:$AI$73)","v":0},{"$f":"L34-M106","v":0},{"$f":"SUMIF('6'!$A$15:$A$73,A34,'6'!$AI$15:$AI$73)","v":0},{"$f":"N34-O106","v":0},{"$f":"SUM(K34+M34+O34)","v":0},null,{"$f":"SUMIF('7'!$A$15:$A$73,A34,'7'!$AI$15:$AI$73)","v":0},{"$f":"R34-S106","v":0},{"$f":"SUMIF('8'!$A$15:$A$73,A34,'8'!$AI$15:$AI$73)","v":0},{"$f":"T34-U106","v":0},{"$f":"SUMIF('9'!$A$15:$A$73,A34,'9'!$AI$15:$AI$73)","v":0},{"$f":"V34-W106","v":0},{"$f":"SUM(S34+U34+W34)","v":0},null,{"$f":"SUMIF('10'!$A$15:$A$73,A34,'10'!$AI$15:$AI$73)","v":0},{"$f":"Z34-AA106","v":0},{"$f":"SUMIF('11'!$A$15:$A$73,A34,'11'!$AI$15:$AI$73)","v":0},{"$f":"AB34-AC106","v":0},{"$f":"SUMIF('12'!$A$15:$A$73,A34,'12'!$AI$15:$AI$73)","v":0},{"$f":"AD34-AE106","v":0},{"$f":"SUM(AA34+AC34+AE34)","v":0},null,null,{"$f":"SUMIF('renseignement agent'!$A$8:'renseignement agent'!$A$37,A34,'renseignement agent'!$C$8:'renseignement agent'!$C$37)","v":0},null,{"$f":"SUM(AI34-AI34-AI34)","v":0}]
[]
[{"$f":"'renseignement agent'!A34","v":0},{"$f":"SUMIF('1'!$A$15:'1'!$A$73,A36,'1'!$AI$15:'1'!$AI$73)","v":0},{"$f":"SUM(B36-C108)","v":0},{"$f":"SUMIF('2'!$A$15:'2'!$A$73,A36,'2'!$AI$15:'2'!$AI$73)","v":0},{"$f":"D36-E108","v":0},{"$f":"SUMIF('3'!$A$15:$A$73,A36,'3'!$AI$15:$AI$73)","v":0},{"$f":"F36-G108","v":0},{"$f":"SUM(C36+E36+G36)","v":0},null,{"$f":"SUMIF('4'!$A$15:$A$73,A36,'4'!$AI$15:$AI$73)","v":0},{"$f":"J36-K108","v":0},{"$f":"SUMIF('5'!$A$15:$A$73,A36,'5'!$AI$15:$AI$73)","v":0},{"$f":"L36-M108","v":0},{"$f":"SUMIF('6'!$A$15:$A$73,A36,'6'!$AI$15:$AI$73)","v":0},{"$f":"N36-O108","v":0},{"$f":"SUM(K36+M36+O36)","v":0},null,{"$f":"SUMIF('7'!$A$15:$A$73,A36,'7'!$AI$15:$AI$73)","v":0},{"$f":"R36-S108","v":0},{"$f":"SUMIF('8'!$A$15:$A$73,A36,'8'!$AI$15:$AI$73)","v":0},{"$f":"T36-U108","v":0},{"$f":"SUMIF('9'!$A$15:$A$73,A36,'9'!$AI$15:$AI$73)","v":0},{"$f":"V36-W108","v":0},{"$f":"SUM(S36+U36+W36)","v":0},null,{"$f":"SUMIF('10'!$A$15:$A$73,A36,'10'!$AI$15:$AI$73)","v":0},{"$f":"Z36-AA108","v":0},{"$f":"SUMIF('11'!$A$15:$A$73,A36,'11'!$AI$15:$AI$73)","v":0},{"$f":"AB36-AC108","v":0},{"$f":"SUMIF('12'!$A$15:$A$73,A36,'12'!$AI$15:$AI$73)","v":0},{"$f":"AD36-AE108","v":0},{"$f":"SUM(AA36+AC36+AE36)","v":0},null,null,{"$f":"SUMIF('renseignement agent'!$A$8:'renseignement agent'!$A$37,A36,'renseignement agent'!$C$8:'renseignement agent'!$C$37)","v":0},null,{"$f":"SUM(AI36-AI36-AI36)","v":0}]
[]
[{"$f":"'renseignement agent'!A36","v":0},{"$f":"SUMIF('1'!$A$15:'1'!$A$73,A38,'1'!$AI$15:'1'!$AI$73)","v":0},{"$f":"SUM(B38-C110)","v":0},{"$f":"SUMIF('2'!$A$15:'2'!$A$73,A38,'2'!$AI$15:'2'!$AI$73)","v":0},{"$f":"D38-E110","v":0},{"$f":"SUMIF('3'!$A$15:$A$73,A38,'3'!$AI$15:$AI$73)","v":0},{"$f":"F38-G110","v":0},{"$f":"SUM(C38+E38+G38)","v":0},null,{"$f":"SUMIF('4'!$A$15:$A$73,A38,'4'!$AI$15:$AI$73)","v":0},{"$f":"J38-K110","v":0},{"$f":"SUMIF('5'!$A$15:$A$73,A38,'5'!$AI$15:$AI$73)","v":0},{"$f":"L38-M110","v":0},{"$f":"SUMIF('6'!$A$15:$A$73,A38,'6'!$AI$15:$AI$73)","v":0},{"$f":"N38-O110","v":0},{"$f":"SUM(K38+M38+O38)","v":0},null,{"$f":"SUMIF('7'!$A$15:$A$73,A38,'7'!$AI$15:$AI$73)","v":0},{"$f":"R38-S110","v":0},{"$f":"SUMIF('8'!$A$15:$A$73,A38,'8'!$AI$15:$AI$73)","v":0},{"$f":"T38-U110","v":0},{"$f":"SUMIF('9'!$A$15:$A$73,A38,'9'!$AI$15:$AI$73)","v":0},{"$f":"V38-W110","v":0},{"$f":"SUM(S38+U38+W38)","v":0},null,{"$f":"SUMIF('10'!$A$15:$A$73,A38,'10'!$AI$15:$AI$73)","v":0},{"$f":"Z38-AA110","v":0},{"$f":"SUMIF('11'!$A$15:$A$73,A38,'11'!$AI$15:$AI$73)","v":0},{"$f":"AB38-AC110","v":0},{"$f":"SUMIF('12'!$A$15:$A$73,A38,'12'!$AI$15:$AI$73)","v":0},{"$f":"AD38-AE110","v":0},{"$f":"SUM(AA38+AC38+AE38)","v":0},null,null,{"$f":"SUMIF('renseignement agent'!$A$8:'renseignement agent'!$A$37,A38,'renseignement agent'!$C$8:'renseignement agent'!$C$37)","v":0},null,{"$f":"SUM(AI38-AI38-AI38)","v":0}]
[]
[{"$f":"'renseignement agent'!A38","v":0},{"$f":"SUMIF('1'!$A$15:'1'!$A$73,A40,'1'!$AI$15:'1'!$AI$73)","v":0},{"$f":"SUM(B40-C112)","v":0},{"$f":"SUMIF('2'!$A$15:'2'!$A$73,A40,'2'!$AI$15:'2'!$AI$73)","v":0},{"$f":"D40-E112","v":0},{"$f":"SUMIF('3'!$A$15:$A$73,A40,'3'!$AI$15:$AI$73)","v":0},{"$f":"F40-G112","v":0},{"$f":"SUM(C40+E40+G40)","v":0},null,{"$f":"SUMIF('4'!$A$15:$A$73,A40,'4'!$AI$15:$AI$73)","v":0},{"$f":"J40-K112","v":0},{"$f":"SUMIF('5'!$A$15:$A$73,A40,'5'!$AI$15:$AI$73)","v":0},{"$f":"L40-M112","v":0},{"$f":"SUMIF('6'!$A$15:$A$73,A40,'6'!$AI$15:$AI$73)","v":0},{"$f":"N40-O112","v":0},{"$f":"SUM(K40+M40+O40)","v":0},null,{"$f":"SUMIF('7'!$A$15:$A$73,A40,'7'!$AI$15:$AI$73)","v":0},{"$f":"R40-S112","v":0},{"$f":"SUMIF('8'!$A$15:$A$73,A40,'8'!$AI$15:$AI$73)","v":0},{"$f":"T40-U112","v":0},{"$f":"SUMIF('9'!$A$15:$A$73,A40,'9'!$AI$15:$AI$73)","v":0},{"$f":"V40-W112","v":0},{"$f":"SUM(S40+U40+W40)","v":0},null,{"$f":"SUMIF('10'!$A$15:$A$73,A40,'10'!$AI$15:$AI$73)","v":0},{"$f":"Z40-AA112","v":0},{"$f":"SUMIF('11'!$A$15:$A$73,A40,'11'!$AI$15:$AI$73)","v":0},{"$f":"AB40-AC112","v":0},{"$f":"SUMIF('12'!$A$15:$A$73,A40,'12'!$AI$15:$AI$73)","v":0},{"$f":"AD40-AE112","v":0},{"$f":"SUM(AA40+AC40+AE40)","v":0},null,null,{"$f":"SUMIF('renseignement agent'!$A$8:'renseignement agent'!$A$37,A40,'renseignement agent'!$C$8:'renseignement agent'!$C$37)","v":0},null,{"$f":"SUM(AI40-AI40-AI40)","v":0}]
[]
[{"$f":"'renseignement agent'!A40","v":0},{"$f":"SUMIF('1'!$A$15:'1'!$A$73,A42,'1'!$AI$15:'1'!$AI$73)","v":0},{"$f":"SUM(B42-C114)","v":0},{"$f":"SUMIF('2'!$A$15:'2'!$A$73,A42,'2'!$AI$15:'2'!$AI$73)","v":0},{"$f":"D42-E114","v":0},{"$f":"SUMIF('3'!$A$15:$A$73,A42,'3'!$AI$15:$AI$73)","v":0},{"$f":"F42-G114","v":0},{"$f":"SUM(C42+E42+G42)","v":0},null,{"$f":"SUMIF('4'!$A$15:$A$73,A42,'4'!$AI$15:$AI$73)","v":0},{"$f":"J42-K114","v":0},{"$f":"SUMIF('5'!$A$15:$A$73,A42,'5'!$AI$15:$AI$73)","v":0},{"$f":"L42-M114","v":0},{"$f":"SUMIF('6'!$A$15:$A$73,A42,'6'!$AI$15:$AI$73)","v":0},{"$f":"N42-O114","v":0},{"$f":"SUM(K42+M42+O42)","v":0},null,{"$f":"SUMIF('7'!$A$15:$A$73,A42,'7'!$AI$15:$AI$73)","v":0},{"$f":"R42-S114","v":0},{"$f":"SUMIF('8'!$A$15:$A$73,A42,'8'!$AI$15:$AI$73)","v":0},{"$f":"T42-U114","v":0},{"$f":"SUMIF('9'!$A$15:$A$73,A42,'9'!$AI$15:$AI$73)","v":0},{"$f":"V42-W114","v":0},{"$f":"SUM(S42+U42+W42)","v":0},null,{"$f":"SUMIF('10'!$A$15:$A$73,A42,'10'!$AI$15:$AI$73)","v":0},{"$f":"Z42-AA114","v":0},{"$f":"SUMIF('11'!$A$15:$A$73,A42,'11'!$AI$15:$AI$73)","v":0},{"$f":"AB42-AC114","v":0},{"$f":"SUMIF('12'!$A$15:$A$73,A42,'12'!$AI$15:$AI$73)","v":0},{"$f":"AD42-AE114","v":0},{"$f":"SUM(AA42+AC42+AE42)","v":0},null,null,{"$f":"SUMIF('renseignement agent'!$A$8:'renseignement agent'!$A$37,A42,'renseignement agent'!$C$8:'renseignement agent'!$C$37)","v":0},null,{"$f":"SUM(AI42-AI42-AI42)","v":0}]
[]
[{"$f":"'renseignement agent'!A42","v":0},{"$f":"SUMIF('1'!$A$15:'1'!$A$73,A44,'1'!$AI$15:'1'!$AI$73)","v":0},{"$f":"SUM(B44-C116)","v":0},{"$f":"SUMIF('2'!$A$15:'2'!$A$73,A44,'2'!$AI$15:'2'!$AI$73)","v":0},{"$f":"D44-E116","v":0},{"$f":"SUMIF('3'!$A$15:$A$73,A44,'3'!$AI$15:$AI$73)","v":0},{"$f":"F44-G116","v":0},{"$f":"SUM(C44+E44+G44)","v":0},null,{"$f":"SUMIF('4'!$A$15:$A$73,A44,'4'!$AI$15:$AI$73)","v":0},{"$f":"J44-K116","v":0},{"$f":"SUMIF('5'!$A$15:$A$73,A44,'5'!$AI$15:$AI$73)","v":0},{"$f":"L44-M116","v":0},{"$f":"SUMIF('6'!$A$15:$A$73,A44,'6'!$AI$15:$AI$73)","v":0},{"$f":"N44-O116","v":0},{"$f":"SUM(K44+M44+O44)","v":0},null,{"$f":"SUMIF('7'!$A$15:$A$73,A44,'7'!$AI$15:$AI$73)","v":0},{"$f":"R44-S116","v":0},{"$f":"SUMIF('8'!$A$15:$A$73,A44,'8'!$AI$15:$AI$73)","v":0},{"$f":"T44-U116","v":0},{"$f":"SUMIF('9'!$A$15:$A$73,A44,'9'!$AI$15:$AI$73)","v":0},{"$f":"V44-W116","v":0},{"$f":"SUM(S44+U44+W44)","v":0},null,{"$f":"SUMIF('10'!$A$15:$A$73,A44,'10'!$AI$15:$AI$73)","v":0},{"$f":"Z44-AA116","v":0},{"$f":"SUMIF('11'!$A$15:$A$73,A44,'11'!$AI$15:$AI$73)","v":0},{"$f":"AB44-AC116","v":0},{"$f":"SUMIF('12'!$A$15:$A$73,A44,'12'!$AI$15:$AI$73)","v":0},{"$f":"AD44-AE116","v":0},{"$f":"SUM(AA44+AC44+AE44)","v":0},null,null,{"$f":"SUMIF('renseignement agent'!$A$8:'renseignement agent'!$A$37,A44,'renseignement agent'!$C$8:'renseignement agent'!$C$37)","v":0},null,{"$f":"SUM(AI44-AI44-AI44)","v":0}]
[]
[{"$f":"'renseignement agent'!A44","v":0},{"$f":"SUMIF('1'!$A$15:'1'!$A$73,A46,'1'!$AI$15:'1'!$AI$73)","v":0},{"$f":"SUM(B46-C118)","v":0},{"$f":"SUMIF('2'!$A$15:'2'!$A$73,A46,'2'!$AI$15:'2'!$AI$73)","v":0},{"$f":"D46-E118","v":0},{"$f":"SUMIF('3'!$A$15:$A$73,A46,'3'!$AI$15:$AI$73)","v":0},{"$f":"F46-G118","v":0},{"$f":"SUM(C46+E46+G46)","v":0},null,{"$f":"SUMIF('4'!$A$15:$A$73,A46,'4'!$AI$15:$AI$73)","v":0},{"$f":"J46-K118","v":0},{"$f":"SUMIF('5'!$A$15:$A$73,A46,'5'!$AI$15:$AI$73)","v":0},{"$f":"L46-M118","v":0},{"$f":"SUMIF('6'!$A$15:$A$73,A46,'6'!$AI$15:$AI$73)","v":0},{"$f":"N46-O118","v":0},{"$f":"SUM(K46+M46+O46)","v":0},null,{"$f":"SUMIF('7'!$A$15:$A$73,A46,'7'!$AI$15:$AI$73)","v":0},{"$f":"R46-S118","v":0},{"$f":"SUMIF('8'!$A$15:$A$73,A46,'8'!$AI$15:$AI$73)","v":0},{"$f":"T46-U118","v":0},{"$f":"SUMIF('9'!$A$15:$A$73,A46,'9'!$AI$15:$AI$73)","v":0},{"$f":"V46-W118","v":0},{"$f":"SUM(S46+U46+W46)","v":0},null,{"$f":"SUMIF('10'!$A$15:$A$73,A46,'10'!$AI$15:$AI$73)","v":0},{"$f":"Z46-AA118","v":0},{"$f":"SUMIF('11'!$A$15:$A$73,A46,'11'!$AI$15:$AI$73)","v":0},{"$f":"AB46-AC118","v":0},{"$f":"SUMIF('12'!$A$15:$A$73,A46,'12'!$AI$15:$AI$73)","v":0},{"$f":"AD46-AE118","v":0},{"$f":"SUM(AA46+AC46+AE46)","v":0},null,null,{"$f":"SUMIF('renseignement agent'!$A$8:'renseignement agent'!$A$37,A46,'renseignement agent'!$C$8:'renseignement agent'!$C$37)","v":0},null,{"$f":"SUM(AI46-AI46-AI46)","v":0}]
[]
[{"$f":"'renseignement agent'!A46","v":0},{"$f":"SUMIF('1'!$A$15:'1'!$A$73,A48,'1'!$AI$15:'1'!$AI$73)","v":0},{"$f":"SUM(B48-C120)","v":0},{"$f":"SUMIF('2'!$A$15:'2'!$A$73,A48,'2'!$AI$15:'2'!$AI$73)","v":0},{"$f":"D48-E120","v":0},{"$f":"SUMIF('3'!$A$15:$A$73,A48,'3'!$AI$15:$AI$73)","v":0},{"$f":"F48-G120","v":0},{"$f":"SUM(C48+E48+G48)","v":0},null,{"$f":"SUMIF('4'!$A$15:$A$73,A48,'4'!$AI$15:$AI$73)","v":0},{"$f":"J48-K120","v":0},{"$f":"SUMIF('5'!$A$15:$A$73,A48,'5'!$AI$15:$AI$73)","v":0},{"$f":"L48-M120","v":0},{"$f":"SUMIF('6'!$A$15:$A$73,A48,'6'!$AI$15:$AI$73)","v":0},{"$f":"N48-O120","v":0},{"$f":"SUM(K48+M48+O48)","v":0},null,{"$f":"SUMIF('7'!$A$15:$A$73,A48,'7'!$AI$15:$AI$73)","v":0},{"$f":"R48-S120","v":0},{"$f":"SUMIF('8'!$A$15:$A$73,A48,'8'!$AI$15:$AI$73)","v":0},{"$f":"T48-U120","v":0},{"$f":"SUMIF('9'!$A$15:$A$73,A48,'9'!$AI$15:$AI$73)","v":0},{"$f":"V48-W120","v":0},{"$f":"SUM(S48+U48+W48)","v":0},null,{"$f":"SUMIF('10'!$A$15:$A$73,A48,'10'!$AI$15:$AI$73)","v":0},{"$f":"Z48-AA120","v":0},{"$f":"SUMIF('11'!$A$15:$A$73,A48,'11'!$AI$15:$AI$73)","v":0},{"$f":"AB48-AC120","v":0},{"$f":"SUMIF('12'!$A$15:$A$73,A48,'12'!$AI$15:$AI$73)","v":0},{"$f":"AD48-AE120","v":0},{"$f":"SUM(AA48+AC48+AE48)","v":0},null,null,{"$f":"SUMIF('renseignement agent'!$A$8:'renseignement agent'!$A$37,A48,'renseignement agent'!$C$8:'renseignement agent'!$C$37)","v":0},null,{"$f":"SUM(AI48-AI48-AI48)","v":0}]
[]
[{"$f":"'renseignement agent'!A48","v":0},{"$f":"SUMIF('1'!$A$15:'1'!$A$73,A50,'1'!$AI$15:'1'!$AI$73)","v":0},{"$f":"SUM(B50-C122)","v":0},{"$f":"SUMIF('2'!$A$15:'2'!$A$73,A50,'2'!$AI$15:'2'!$AI$73)","v":0},{"$f":"D50-E122","v":0},{"$f":"SUMIF('3'!$A$15:$A$73,A50,'3'!$AI$15:$AI$73)","v":0},{"$f":"F50-G122","v":0},{"$f":"SUM(C50+E50+G50)","v":0},null,{"$f":"SUMIF('4'!$A$15:$A$73,A50,'4'!$AI$15:$AI$73)","v":0},{"$f":"J50-K122","v":0},{"$f":"SUMIF('5'!$A$15:$A$73,A50,'5'!$AI$15:$AI$73)","v":0},{"$f":"L50-M122","v":0},{"$f":"SUMIF('6'!$A$15:$A$73,A50,'6'!$AI$15:$AI$73)","v":0},{"$f":"N50-O122","v":0},{"$f":"SUM(K50+M50+O50)","v":0},null,{"$f":"SUMIF('7'!$A$15:$A$73,A50,'7'!$AI$15:$AI$73)","v":0},{"$f":"R50-S122","v":0},{"$f":"SUMIF('8'!$A$15:$A$73,A50,'8'!$AI$15:$AI$73)","v":0},{"$f":"T50-U122","v":0},{"$f":"SUMIF('9'!$A$15:$A$73,A50,'9'!$AI$15:$AI$73)","v":0},{"$f":"V50-W122","v":0},{"$f":"SUM(S50+U50+W50)","v":0},null,{"$f":"SUMIF('10'!$A$15:$A$73,A50,'10'!$AI$15:$AI$73)","v":0},{"$f":"Z50-AA122","v":0},{"$f":"SUMIF('11'!$A$15:$A$73,A50,'11'!$AI$15:$AI$73)","v":0},{"$f":"AB50-AC122","v":0},{"$f":"SUMIF('12'!$A$15:$A$73,A50,'12'!$AI$15:$AI$73)","v":0},{"$f":"AD50-AE122","v":0},{"$f":"SUM(AA50+AC50+AE50)","v":0},null,null,{"$f":"SUMIF('renseignement agent'!$A$8:'renseignement agent'!$A$37,A50,'renseignement agent'!$C$8:'renseignement agent'!$C$37)","v":0},null,{"$f":"SUM(AI50-AI50-AI50)","v":0}]
[]
[{"$f":"'renseignement agent'!A50","v":0},{"$f":"SUMIF('1'!$A$15:'1'!$A$73,A52,'1'!$AI$15:'1'!$AI$73)","v":0},{"$f":"SUM(B52-C124)","v":0},{"$f":"SUMIF('2'!$A$15:'2'!$A$73,A52,'2'!$AI$15:'2'!$AI$73)","v":0},{"$f":"D52-E124","v":0},{"$f":"SUMIF('3'!$A$15:$A$73,A52,'3'!$AI$15:$AI$73)","v":0},{"$f":"F52-G124","v":0},{"$f":"SUM(C52+E52+G52)","v":0},null,{"$f":"SUMIF('4'!$A$15:$A$73,A52,'4'!$AI$15:$AI$73)","v":0},{"$f":"J52-K124","v":0},{"$f":"SUMIF('5'!$A$15:$A$73,A52,'5'!$AI$15:$AI$73)","v":0},{"$f":"L52-M124","v":0},{"$f":"SUMIF('6'!$A$15:$A$73,A52,'6'!$AI$15:$AI$73)","v":0},{"$f":"N52-O124","v":0},{"$f":"SUM(K52+M52+O52)","v":0},null,{"$f":"SUMIF('7'!$A$15:$A$73,A52,'7'!$AI$15:$AI$73)","v":0},{"$f":"R52-S124","v":0},{"$f":"SUMIF('8'!$A$15:$A$73,A52,'8'!$AI$15:$AI$73)","v":0},{"$f":"T52-U124","v":0},{"$f":"SUMIF('9'!$A$15:$A$73,A52,'9'!$AI$15:$AI$73)","v":0},{"$f":"V52-W124","v":0},{"$f":"SUM(S52+U52+W52)","v":0},null,{"$f":"SUMIF('10'!$A$15:$A$73,A52,'10'!$AI$15:$AI$73)","v":0},{"$f":"Z52-AA124","v":0},{"$f":"SUMIF('11'!$A$15:$A$73,A52,'11'!$AI$15:$AI$73)","v":0},{"$f":"AB52-AC124","v":0},{"$f":"SUMIF('12'!$A$15:$A$73,A52,'12'!$AI$15:$AI$73)","v":0},{"$f":"AD52-AE124","v":0},{"$f":"SUM(AA52+AC52+AE52)","v":0},null,null,{"$f":"SUMIF('renseignement agent'!$A$8:'renseignement agent'!$A$37,A52,'renseignement agent'!$C$8:'renseignement agent'!$C$37)","v":0},null,{"$f":"SUM(AI52-AI52-AI52)","v":0}]
[]
[{"$f":"'renseignement agent'!A52","v":0},{"$f":"SUMIF('1'!$A$15:'1'!$A$73,A54,'1'!$AI$15:'1'!$AI$73)","v":0},{"$f":"SUM(B54-C126)","v":0},{"$f":"SUMIF('2'!$A$15:'2'!$A$73,A54,'2'!$AI$15:'2'!$AI$73)","v":0},{"$f":"D54-E126","v":0},{"$f":"SUMIF('3'!$A$15:$A$73,A54,'3'!$AI$15:$AI$73)","v":0},{"$f":"F54-G126","v":0},{"$f":"SUM(C54+E54+G54)","v":0},null,{"$f":"SUMIF('4'!$A$15:$A$73,A54,'4'!$AI$15:$AI$73)","v":0},{"$f":"J54-K126","v":0},{"$f":"SUMIF('5'!$A$15:$A$73,A54,'5'!$AI$15:$AI$73)","v":0},{"$f":"L54-M126","v":0},{"$f":"SUMIF('6'!$A$15:$A$73,A54,'6'!$AI$15:$AI$73)","v":0},{"$f":"N54-O126","v":0},{"$f":"SUM(K54+M54+O54)","v":0},null,{"$f":"SUMIF('7'!$A$15:$A$73,A54,'7'!$AI$15:$AI$73)","v":0},{"$f":"R54-S126","v":0},{"$f":"SUMIF('8'!$A$15:$A$73,A54,'8'!$AI$15:$AI$73)","v":0},{"$f":"T54-U126","v":0},{"$f":"SUMIF('9'!$A$15:$A$73,A54,'9'!$AI$15:$AI$73)","v":0},{"$f":"V54-W126","v":0},{"$f":"SUM(S54+U54+W54)","v":0},null,{"$f":"SUMIF('10'!$A$15:$A$73,A54,'10'!$AI$15:$AI$73)","v":0},{"$f":"Z54-AA126","v":0},{"$f":"SUMIF('11'!$A$15:$A$73,A54,'11'!$AI$15:$AI$73)","v":0},{"$f":"AB54-AC126","v":0},{"$f":"SUMIF('12'!$A$15:$A$73,A54,'12'!$AI$15:$AI$73)","v":0},{"$f":"AD54-AE126","v":0},{"$f":"SUM(AA54+AC54+AE54)","v":0},null,null,{"$f":"SUMIF('renseignement agent'!$A$8:'renseignement agent'!$A$37,A54,'renseignement agent'!$C$8:'renseignement agent'!$C$37)","v":0},null,{"$f":"SUM(AI54-AI54-AI54)","v":0}]
[]
[{"$f":"'renseignement agent'!A54","v":0},{"$f":"SUMIF('1'!$A$15:'1'!$A$73,A56,'1'!$AI$15:'1'!$AI$73)","v":0},{"$f":"SUM(B56-C128)","v":0},{"$f":"SUMIF('2'!$A$15:'2'!$A$73,A56,'2'!$AI$15:'2'!$AI$73)","v":0},{"$f":"D56-E128","v":0},{"$f":"SUMIF('3'!$A$15:$A$73,A56,'3'!$AI$15:$AI$73)","v":0},{"$f":"F56-G128","v":0},{"$f":"SUM(C56+E56+G56)","v":0},null,{"$f":"SUMIF('4'!$A$15:$A$73,A56,'4'!$AI$15:$AI$73)","v":0},{"$f":"J56-K128","v":0},{"$f":"SUMIF('5'!$A$15:$A$73,A56,'5'!$AI$15:$AI$73)","v":0},{"$f":"L56-M128","v":0},{"$f":"SUMIF('6'!$A$15:$A$73,A56,'6'!$AI$15:$AI$73)","v":0},{"$f":"N56-O128","v":0},{"$f":"SUM(K56+M56+O56)","v":0},null,{"$f":"SUMIF('7'!$A$15:$A$73,A56,'7'!$AI$15:$AI$73)","v":0},{"$f":"R56-S128","v":0},{"$f":"SUMIF('8'!$A$15:$A$73,A56,'8'!$AI$15:$AI$73)","v":0},{"$f":"T56-U128","v":0},{"$f":"SUMIF('9'!$A$15:$A$73,A56,'9'!$AI$15:$AI$73)","v":0},{"$f":"V56-W128","v":0},{"$f":"SUM(S56+U56+W56)","v":0},null,{"$f":"SUMIF('10'!$A$15:$A$73,A56,'10'!$AI$15:$AI$73)","v":0},{"$f":"Z56-AA128","v":0},{"$f":"SUMIF('11'!$A$15:$A$73,A56,'11'!$AI$15:$AI$73)","v":0},{"$f":"AB56-AC128","v":0},{"$f":"SUMIF('12'!$A$15:$A$73,A56,'12'!$AI$15:$AI$73)","v":0},{"$f":"AD56-AE128","v":0},{"$f":"SUM(AA56+AC56+AE56)","v":0},null,null,{"$f":"SUMIF('renseignement agent'!$A$8:'renseignement agent'!$A$37,A56,'renseignement agent'!$C$8:'renseignement agent'!$C$37)","v":0},null,{"$f":"SUM(AI56-AI56-AI56)","v":0}]
[]
[{"$f":"'renseignement agent'!A56","v":0},{"$f":"SUMIF('1'!$A$15:'1'!$A$73,A58,'1'!$AI$15:'1'!$AI$73)","v":0},{"$f":"SUM(B58-C130)","v":0},{"$f":"SUMIF('2'!$A$15:'2'!$A$73,A58,'2'!$AI$15:'2'!$AI$73)","v":0},{"$f":"D58-E130","v":0},{"$f":"SUMIF('3'!$A$15:$A$73,A58,'3'!$AI$15:$AI$73)","v":0},{"$f":"F58-G130","v":0},{"$f":"SUM(C58+E58+G58)","v":0},null,{"$f":"SUMIF('4'!$A$15:$A$73,A58,'4'!$AI$15:$AI$73)","v":0},{"$f":"J58-K130","v":0},{"$f":"SUMIF('5'!$A$15:$A$73,A58,'5'!$AI$15:$AI$73)","v":0},{"$f":"L58-M130","v":0},{"$f":"SUMIF('6'!$A$15:$A$73,A58,'6'!$AI$15:$AI$73)","v":0},{"$f":"N58-O130","v":0},{"$f":"SUM(K58+M58+O58)","v":0},null,{"$f":"SUMIF('7'!$A$15:$A$73,A58,'7'!$AI$15:$AI$73)","v":0},{"$f":"R58-S130","v":0},{"$f":"SUMIF('8'!$A$15:$A$73,A58,'8'!$AI$15:$AI$73)","v":0},{"$f":"T58-U130","v":0},{"$f":"SUMIF('9'!$A$15:$A$73,A58,'9'!$AI$15:$AI$73)","v":0},{"$f":"V58-W130","v":0},{"$f":"SUM(S58+U58+W58)","v":0},null,{"$f":"SUMIF('10'!$A$15:$A$73,A58,'10'!$AI$15:$AI$73)","v":0},{"$f":"Z58-AA130","v":0},{"$f":"SUMIF('11'!$A$15:$A$73,A58,'11'!$AI$15:$AI$73)","v":0},{"$f":"AB58-AC130","v":0},{"$f":"SUMIF('12'!$A$15:$A$73,A58,'12'!$AI$15:$AI$73)","v":0},{"$f":"AD58-AE130","v":0},{"$f":"SUM(AA58+AC58+AE58)","v":0},null,null,{"$f":"SUMIF('renseignement agent'!$A$8:'renseignement agent'!$A$37,A58,'renseignement agent'!$C$8:'renseignement agent'!$C$37)","v":0},null,{"$f":"SUM(AI58-AI58-AI58)","v":0}]
[]
[{"$f":"'renseignement agent'!A58","v":0},{"$f":"SUMIF('1'!$A$15:'1'!$A$73,A60,'1'!$AI$15:'1'!$AI$73)","v":0},{"$f":"SUM(B60-C132)","v":0},{"$f":"SUMIF('2'!$A$15:'2'!$A$73,A60,'2'!$AI$15:'2'!$AI$73)","v":0},{"$f":"D60-E132","v":0},{"$f":"SUMIF('3'!$A$15:$A$73,A60,'3'!$AI$15:$AI$73)","v":0},{"$f":"F60-G132","v":0},{"$f":"SUM(C60+E60+G60)","v":0},null,{"$f":"SUMIF('4'!$A$15:$A$73,A60,'4'!$AI$15:$AI$73)","v":0},{"$f":"J60-K132","v":0},{"$f":"SUMIF('5'!$A$15:$A$73,A60,'5'!$AI$15:$AI$73)","v":0},{"$f":"L60-M132","v":0},{"$f":"SUMIF('6'!$A$15:$A$73,A60,'6'!$AI$15:$AI$73)","v":0},{"$f":"N60-O132","v":0},{"$f":"SUM(K60+M60+O60)","v":0},null,{"$f":"SUMIF('7'!$A$15:$A$73,A60,'7'!$AI$15:$AI$73)","v":0},{"$f":"R60-S132","v":0},{"$f":"SUMIF('8'!$A$15:$A$73,A60,'8'!$AI$15:$AI$73)","v":0},{"$f":"T60-U132","v":0},{"$f":"SUMIF('9'!$A$15:$A$73,A60,'9'!$AI$15:$AI$73)","v":0},{"$f":"V60-W132","v":0},{"$f":"SUM(S60+U60+W60)","v":0},null,{"$f":"SUMIF('10'!$A$15:$A$73,A60,'10'!$AI$15:$AI$73)","v":0},{"$f":"Z60-AA132","v":0},{"$f":"SUMIF('11'!$A$15:$A$73,A60,'11'!$AI$15:$AI$73)","v":0},{"$f":"AB60-AC132","v":0},{"$f":"SUMIF('12'!$A$15:$A$73,A60,'12'!$AI$15:$AI$73)","v":0},{"$f":"AD60-AE132","v":0},{"$f":"SUM(AA60+AC60+AE60)","v":0},null,null,{"$f":"SUMIF('renseignement agent'!$A$8:'renseignement agent'!$A$37,A60,'renseignement agent'!$C$8:'renseignement agent'!$C$37)","v":0},null,{"$f":"SUM(AI60-AI60-AI60)","v":0}]
[]
[{"$f":"'renseignement agent'!A60","v":0},{"$f":"SUMIF('1'!$A$15:'1'!$A$73,A62,'1'!$AI$15:'1'!$AI$73)","v":0},{"$f":"SUM(B62-C134)","v":0},{"$f":"SUMIF('2'!$A$15:'2'!$A$73,A62,'2'!$AI$15:'2'!$AI$73)","v":0},{"$f":"D62-E134","v":0},{"$f":"SUMIF('3'!$A$15:$A$73,A62,'3'!$AI$15:$AI$73)","v":0},{"$f":"F62-G134","v":0},{"$f":"SUM(C62+E62+G62)","v":0},null,{"$f":"SUMIF('4'!$A$15:$A$73,A62,'4'!$AI$15:$AI$73)","v":0},{"$f":"J62-K134","v":0},{"$f":"SUMIF('5'!$A$15:$A$73,A62,'5'!$AI$15:$AI$73)","v":0},{"$f":"L62-M134","v":0},{"$f":"SUMIF('6'!$A$15:$A$73,A62,'6'!$AI$15:$AI$73)","v":0},{"$f":"N62-O134","v":0},{"$f":"SUM(K62+M62+O62)","v":0},null,{"$f":"SUMIF('7'!$A$15:$A$73,A62,'7'!$AI$15:$AI$73)","v":0},{"$f":"R62-S134","v":0},{"$f":"SUMIF('8'!$A$15:$A$73,A62,'8'!$AI$15:$AI$73)","v":0},{"$f":"T62-U134","v":0},{"$f":"SUMIF('9'!$A$15:$A$73,A62,'9'!$AI$15:$AI$73)","v":0},{"$f":"V62-W134","v":0},{"$f":"SUM(S62+U62+W62)","v":0},null,{"$f":"SUMIF('10'!$A$15:$A$73,A62,'10'!$AI$15:$AI$73)","v":0},{"$f":"Z62-AA134","v":0},{"$f":"SUMIF('11'!$A$15:$A$73,A62,'11'!$AI$15:$AI$73)","v":0},{"$f":"AB62-AC134","v":0},{"$f":"SUMIF('12'!$A$15:$A$73,A62,'12'!$AI$15:$AI$73)","v":0},{"$f":"AD62-AE134","v":0},{"$f":"SUM(AA62+AC62+AE62)","v":0},null,null,{"$f":"SUMIF('renseignement agent'!$A$8:'renseignement agent'!$A$37,A62,'renseignement agent'!$C$8:'renseignement agent'!$C$37)","v":0},null,{"$f":"SUM(AI62-AI62-AI62)","v":0}]
[]
[{"$f":"'renseignement agent'!A62","v":0},{"$f":"SUMIF('1'!$A$15:'1'!$A$73,A64,'1'!$AI$15:'1'!$AI$73)","v":0},{"$f":"SUM(B64-C136)","v":0},{"$f":"SUMIF('2'!$A$15:'2'!$A$73,A64,'2'!$AI$15:'2'!$AI$73)","v":0},{"$f":"D64-E136","v":0},{"$f":"SUMIF('3'!$A$15:$A$73,A64,'3'!$AI$15:$AI$73)","v":0},{"$f":"F64-G136","v":0},{"$f":"SUM(C64+E64+G64)","v":0},null,{"$f":"SUMIF('4'!$A$15:$A$73,A64,'4'!$AI$15:$AI$73)","v":0},{"$f":"J64-K136","v":0},{"$f":"SUMIF('5'!$A$15:$A$73,A64,'5'!$AI$15:$AI$73)","v":0},{"$f":"L64-M136","v":0},{"$f":"SUMIF('6'!$A$15:$A$73,A64,'6'!$AI$15:$AI$73)","v":0},{"$f":"N64-O136","v":0},{"$f":"SUM(K64+M64+O64)","v":0},null,{"$f":"SUMIF('7'!$A$15:$A$73,A64,'7'!$AI$15:$AI$73)","v":0},{"$f":"R64-S136","v":0},{"$f":"SUMIF('8'!$A$15:$A$73,A64,'8'!$AI$15:$AI$73)","v":0},{"$f":"T64-U136","v":0},{"$f":"SUMIF('9'!$A$15:$A$73,A64,'9'!$AI$15:$AI$73)","v":0},{"$f":"V64-W136","v":0},{"$f":"SUM(S64+U64+W64)","v":0},null,{"$f":"SUMIF('10'!$A$15:$A$73,A64,'10'!$AI$15:$AI$73)","v":0},{"$f":"Z64-AA136","v":0},{"$f":"SUMIF('11'!$A$15:$A$73,A64,'11'!$AI$15:$AI$73)","v":0},{"$f":"AB64-AC136","v":0},{"$f":"SUMIF('12'!$A$15:$A$73,A64,'12'!$AI$15:$AI$73)","v":0},{"$f":"AD64-AE136","v":0},{"$f":"SUM(AA64+AC64+AE64)","v":0},null,null,{"$f":"SUMIF('renseignement agent'!$A$8:'renseignement agent'!$A$37,A64,'renseignement agent'!$C$8:'renseignement agent'!$C$37)","v":0},null,{"$f":"SUM(AI64-AI64-AI64)","v":0}]
[]
[{"$f":"'renseignement agent'!A64","v":0},{"$f":"SUMIF('1'!$A$15:'1'!$A$73,A66,'1'!$AI$15:'1'!$AI$73)","v":0},{"$f":"SUM(B66-C138)","v":0},{"$f":"SUMIF('2'!$A$15:'2'!$A$73,A66,'2'!$AI$15:'2'!$AI$73)","v":0},{"$f":"D66-E138","v":0},{"$f":"SUMIF('3'!$A$15:$A$73,A66,'3'!$AI$15:$AI$73)","v":0},{"$f":"F66-G138","v":0},{"$f":"SUM(C66+E66+G66)","v":0},null,{"$f":"SUMIF('4'!$A$15:$A$73,A66,'4'!$AI$15:$AI$73)","v":0},{"$f":"J66-K138","v":0},{"$f":"SUMIF('5'!$A$15:$A$73,A66,'5'!$AI$15:$AI$73)","v":0},{"$f":"L66-M138","v":0},{"$f":"SUMIF('6'!$A$15:$A$73,A66,'6'!$AI$15:$AI$73)","v":0},{"$f":"N66-O138","v":0},{"$f":"SUM(K66+M66+O66)","v":0},null,{"$f":"SUMIF('7'!$A$15:$A$73,A66,'7'!$AI$15:$AI$73)","v":0},{"$f":"R66-S138","v":0},{"$f":"SUMIF('8'!$A$15:$A$73,A66,'8'!$AI$15:$AI$73)","v":0},{"$f":"T66-U138","v":0},{"$f":"SUMIF('9'!$A$15:$A$73,A66,'9'!$AI$15:$AI$73)","v":0},{"$f":"V66-W138","v":0},{"$f":"SUM(S66+U66+W66)","v":0},null,{"$f":"SUMIF('10'!$A$15:$A$73,A66,'10'!$AI$15:$AI$73)","v":0},{"$f":"Z66-AA138","v":0},{"$f":"SUMIF('11'!$A$15:$A$73,A66,'11'!$AI$15:$AI$73)","v":0},{"$f":"AB66-AC138","v":0},{"$f":"SUMIF('12'!$A$15:$A$73,A66,'12'!$AI$15:$AI$73)","v":0},{"$f":"AD66-AE138","v":0},{"$f":"SUM(AA66+AC66+AE66)","v":0},null,null,{"$f":"SUMIF('renseignement agent'!$A$8:'renseignement agent'!$A$37,A66,'renseignement agent'!$C$8:'renseignement agent'!$C$37)","v":0},null,{"$f":"SUM(AI66-AI66-AI66)","v":0}]
[]
[{"$f":"'renseignement agent'!A66","v":0},{"$f":"SUMIF('1'!$A$15:'1'!$A$73,A68,'1'!$AI$15:'1'!$AI$73)","v":0},{"$f":"SUM(B68-C140)","v":0},{"$f":"SUMIF('2'!$A$15:'2'!$A$73,A68,'2'!$AI$15:'2'!$AI$73)","v":0},{"$f":"D68-E140","v":0},{"$f":"SUMIF('3'!$A$15:$A$73,A68,'3'!$AI$15:$AI$73)","v":0},{"$f":"F68-G140","v":0},{"$f":"SUM(C68+E68+G68)","v":0},null,{"$f":"SUMIF('4'!$A$15:$A$73,A68,'4'!$AI$15:$AI$73)","v":0},{"$f":"J68-K140","v":0},{"$f":"SUMIF('5'!$A$15:$A$73,A68,'5'!$AI$15:$AI$73)","v":0},{"$f":"L68-M140","v":0},{"$f":"SUMIF('6'!$A$15:$A$73,A68,'6'!$AI$15:$AI$73)","v":0},{"$f":"N68-O140","v":0},{"$f":"SUM(K68+M68+O68)","v":0},null,{"$f":"SUMIF('7'!$A$15:$A$73,A68,'7'!$AI$15:$AI$73)","v":0},{"$f":"R68-S140","v":0},{"$f":"SUMIF('8'!$A$15:$A$73,A68,'8'!$AI$15:$AI$73)","v":0},{"$f":"T68-U140","v":0},{"$f":"SUMIF('9'!$A$15:$A$73,A68,'9'!$AI$15:$AI$73)","v":0},{"$f":"V68-W140","v":0},{"$f":"SUM(S68+U68+W68)","v":0},null,{"$f":"SUMIF('10'!$A$15:$A$73,A68,'10'!$AI$15:$AI$73)","v":0},{"$f":"Z68-AA140","v":0},{"$f":"SUMIF('11'!$A$15:$A$73,A68,'11'!$AI$15:$AI$73)","v":0},{"$f":"AB68-AC140","v":0},{"$f":"SUMIF('12'!$A$15:$A$73,A68,'12'!$AI$15:$AI$73)","v":0},{"$f":"AD68-AE140","v":0},{"$f":"SUM(AA68+AC68+AE68)","v":0},null,null,{"$f":"SUMIF('renseignement agent'!$A$8:'renseignement agent'!$A$37,A68,'renseignement agent'!$C$8:'renseignement agent'!$C$37)","v":0},null,{"$f":"SUM(AI68-AI68-AI68)","v":0}]
[]
[{"$f":"'renseignement agent'!A68","v":0},{"$f":"SUMIF('1'!$A$15:'1'!$A$73,A70,'1'!$AI$15:'1'!$AI$73)","v":0},{"$f":"SUM(B70-C142)","v":0},{"$f":"SUMIF('2'!$A$15:'2'!$A$73,A70,'2'!$AI$15:'2'!$AI$73)","v":0},{"$f":"D70-E142","v":0},{"$f":"SUMIF('3'!$A$15:$A$73,A70,'3'!$AI$15:$AI$73)","v":0},{"$f":"F70-G142","v":0},{"$f":"SUM(C70+E70+G70)","v":0},null,{"$f":"SUMIF('4'!$A$15:$A$73,A70,'4'!$AI$15:$AI$73)","v":0},{"$f":"J70-K142","v":0},{"$f":"SUMIF('5'!$A$15:$A$73,A70,'5'!$AI$15:$AI$73)","v":0},{"$f":"L70-M142","v":0},{"$f":"SUMIF('6'!$A$15:$A$73,A70,'6'!$AI$15:$AI$73)","v":0},{"$f":"N70-O142","v":0},{"$f":"SUM(K70+M70+O70)","v":0},null,{"$f":"SUMIF('7'!$A$15:$A$73,A70,'7'!$AI$15:$AI$73)","v":0},{"$f":"R70-S142","v":0},{"$f":"SUMIF('8'!$A$15:$A$73,A70,'8'!$AI$15:$AI$73)","v":0},{"$f":"T70-U142","v":0},{"$f":"SUMIF('9'!$A$15:$A$73,A70,'9'!$AI$15:$AI$73)","v":0},{"$f":"V70-W142","v":0},{"$f":"SUM(S70+U70+W70)","v":0},null,{"$f":"SUMIF('10'!$A$15:$A$73,A70,'10'!$AI$15:$AI$73)","v":0},{"$f":"Z70-AA142","v":0},{"$f":"SUMIF('11'!$A$15:$A$73,A70,'11'!$AI$15:$AI$73)","v":0},{"$f":"AB70-AC142","v":0},{"$f":"SUMIF('12'!$A$15:$A$73,A70,'12'!$AI$15:$AI$73)","v":0},{"$f":"AD70-AE142","v":0},{"$f":"SUM(AA70+AC70+AE70)","v":0},null,null,{"$f":"SUMIF('renseignement agent'!$A$8:'renseignement agent'!$A$37,A70,'renseignement agent'!$C$8:'renseignement agent'!$C$37)","v":0},null,{"$f":"SUM(AI70-AI70-AI70)","v":0}]
[]
[{"$f":"'renseignement agent'!A70","v":0},{"$f":"SUMIF('1'!$A$15:'1'!$A$73,A72,'1'!$AI$15:'1'!$AI$73)","v":0},{"$f":"SUM(B72-C144)","v":0},{"$f":"SUMIF('2'!$A$15:'2'!$A$73,A72,'2'!$AI$15:'2'!$AI$73)","v":0},{"$f":"D72-E144","v":0},{"$f":"SUMIF('3'!$A$15:$A$73,A72,'3'!$AI$15:$AI$73)","v":0},{"$f":"F72-G144","v":0},{"$f":"SUM(C72+E72+G72)","v":0},null,{"$f":"SUMIF('4'!$A$15:$A$73,A72,'4'!$AI$15:$AI$73)","v":0},{"$f":"J72-K144","v":0},{"$f":"SUMIF('5'!$A$15:$A$73,A72,'5'!$AI$15:$AI$73)","v":0},{"$f":"L72-M144","v":0},{"$f":"SUMIF('6'!$A$15:$A$73,A72,'6'!$AI$15:$AI$73)","v":0},{"$f":"N72-O144","v":0},{"$f":"SUM(K72+M72+O72)","v":0},null,{"$f":"SUMIF('7'!$A$15:$A$73,A72,'7'!$AI$15:$AI$73)","v":0},{"$f":"R72-S144","v":0},{"$f":"SUMIF('8'!$A$15:$A$73,A72,'8'!$AI$15:$AI$73)","v":0},{"$f":"T72-U144","v":0},{"$f":"SUMIF('9'!$A$15:$A$73,A72,'9'!$AI$15:$AI$73)","v":0},{"$f":"V72-W144","v":0},{"$f":"SUM(S72+U72+W72)","v":0},null,{"$f":"SUMIF('10'!$A$15:$A$73,A72,'10'!$AI$15:$AI$73)","v":0},{"$f":"Z72-AA144","v":0},{"$f":"SUMIF('11'!$A$15:$A$73,A72,'11'!$AI$15:$AI$73)","v":0},{"$f":"AB72-AC144","v":0},{"$f":"SUMIF('12'!$A$15:$A$73,A72,'12'!$AI$15:$AI$73)","v":0},{"$f":"AD72-AE144","v":0},{"$f":"SUM(AA72+AC72+AE72)","v":0},null,null,{"$f":"SUMIF('renseignement agent'!$A$8:'renseignement agent'!$A$37,A72,'renseignement agent'!$C$8:'renseignement agent'!$C$37)","v":0},null,{"$f":"SUM(AI72-AI72-AI72)","v":0}]
[]
[{"$f":"'renseignement agent'!A72","v":0},{"$f":"SUMIF('1'!$A$15:'1'!$A$73,A74,'1'!$AI$15:'1'!$AI$73)","v":0},{"$f":"SUM(B74-C146)","v":0},{"$f":"SUMIF('2'!$A$15:'2'!$A$73,A74,'2'!$AI$15:'2'!$AI$73)","v":0},{"$f":"D74-E146","v":0},{"$f":"SUMIF('3'!$A$15:$A$73,A74,'3'!$AI$15:$AI$73)","v":0},{"$f":"F74-G146","v":0},{"$f":"SUM(C74+E74+G74)","v":0},null,{"$f":"SUMIF('4'!$A$15:$A$73,A74,'4'!$AI$15:$AI$73)","v":0},{"$f":"J74-K146","v":0},{"$f":"SUMIF('5'!$A$15:$A$73,A74,'5'!$AI$15:$AI$73)","v":0},{"$f":"L74-M146","v":0},{"$f":"SUMIF('6'!$A$15:$A$73,A74,'6'!$AI$15:$AI$73)","v":0},{"$f":"N74-O146","v":0},{"$f":"SUM(K74+M74+O74)","v":0},null,{"$f":"SUMIF('7'!$A$15:$A$73,A74,'7'!$AI$15:$AI$73)","v":0},{"$f":"R74-S146","v":0},{"$f":"SUMIF('8'!$A$15:$A$73,A74,'8'!$AI$15:$AI$73)","v":0},{"$f":"T74-U146","v":0},{"$f":"SUMIF('9'!$A$15:$A$73,A74,'9'!$AI$15:$AI$73)","v":0},{"$f":"V74-W146","v":0},{"$f":"SUM(S74+U74+W74)","v":0},null,{"$f":"SUMIF('10'!$A$15:$A$73,A74,'10'!$AI$15:$AI$73)","v":0},{"$f":"Z74-AA146","v":0},{"$f":"SUMIF('11'!$A$15:$A$73,A74,'11'!$AI$15:$AI$73)","v":0},{"$f":"AB74-AC146","v":0},{"$f":"SUMIF('12'!$A$15:$A$73,A74,'12'!$AI$15:$AI$73)","v":0},{"$f":"AD74-AE146","v":0},{"$f":"SUM(AA74+AC74+AE74)","v":0},null,null,{"$f":"SUMIF('renseignement agent'!$A$8:'renseignement agent'!$A$37,A74,'renseignement agent'!$C$8:'renseignement agent'!$C$37)","v":0},null,{"$f":"SUM(AI74-AI74-AI74)","v":0}]
[]
[{"$f":"'renseignement agent'!A74","v":0},{"$f":"SUMIF('1'!$A$15:'1'!$A$73,A76,'1'!$AI$15:'1'!$AI$73)","v":0},{"$f":"SUM(B76-C148)","v":0},{"$f":"SUMIF('2'!$A$15:'2'!$A$73,A76,'2'!$AI$15:'2'!$AI$73)","v":0},{"$f":"D76-E148","v":0},{"$f":"SUMIF('3'!$A$15:$A$73,A76,'3'!$AI$15:$AI$73)","v":0},{"$f":"F76-G148","v":0},{"$f":"SUM(C76+E76+G76)","v":0},null,{"$f":"SUMIF('4'!$A$15:$A$73,A76,'4'!$AI$15:$AI$73)","v":0},{"$f":"J76-K148","v":0},{"$f":"SUMIF('5'!$A$15:$A$73,A76,'5'!$AI$15:$AI$73)","v":0},{"$f":"L76-M148","v":0},{"$f":"SUMIF('6'!$A$15:$A$73,A76,'6'!$AI$15:$AI$73)","v":0},{"$f":"N76-O148","v":0},{"$f":"SUM(K76+M76+O76)","v":0},null,{"$f":"SUMIF('7'!$A$15:$A$73,A76,'7'!$AI$15:$AI$73)","v":0},{"$f":"R76-S148","v":0},{"$f":"SUMIF('8'!$A$15:$A$73,A76,'8'!$AI$15:$AI$73)","v":0},{"$f":"T76-U148","v":0},{"$f":"SUMIF('9'!$A$15:$A$73,A76,'9'!$AI$15:$AI$73)","v":0},{"$f":"V76-W148","v":0},{"$f":"SUM(S76+U76+W76)","v":0},null,{"$f":"SUMIF('10'!$A$15:$A$73,A76,'10'!$AI$15:$AI$73)","v":0},{"$f":"Z76-AA148","v":0},{"$f":"SUMIF('11'!$A$15:$A$73,A76,'11'!$AI$15:$AI$73)","v":0},{"$f":"AB76-AC148","v":0},{"$f":"SUMIF('12'!$A$15:$A$73,A76,'12'!$AI$15:$AI$73)","v":0},{"$f":"AD76-AE148","v":0},{"$f":"SUM(AA76+AC76+AE76)","v":0},null,null,{"$f":"SUMIF('renseignement agent'!$A$8:'renseignement agent'!$A$37,A76,'renseignement agent'!$C$8:'renseignement agent'!$C$37)","v":0},null,{"$f":"SUM(AI76-AI76-AI76)","v":0}]
[]
[{"$f":"'renseignement agent'!A76","v":0},{"$f":"SUMIF('1'!$A$15:'1'!$A$73,A78,'1'!$AI$15:'1'!$AI$73)","v":0},{"$f":"SUM(B78-C150)","v":0},{"$f":"SUMIF('2'!$A$15:'2'!$A$73,A78,'2'!$AI$15:'2'!$AI$73)","v":0},{"$f":"D78-E150","v":0},{"$f":"SUMIF('3'!$A$15:$A$73,A78,'3'!$AI$15:$AI$73)","v":0},{"$f":"F78-G150","v":0},{"$f":"SUM(C78+E78+G78)","v":0},null,{"$f":"SUMIF('4'!$A$15:$A$73,A78,'4'!$AI$15:$AI$73)","v":0},{"$f":"J78-K150","v":0},{"$f":"SUMIF('5'!$A$15:$A$73,A78,'5'!$AI$15:$AI$73)","v":0},{"$f":"L78-M150","v":0},{"$f":"SUMIF('6'!$A$15:$A$73,A78,'6'!$AI$15:$AI$73)","v":0},{"$f":"N78-O150","v":0},{"$f":"SUM(K78+M78+O78)","v":0},null,{"$f":"SUMIF('7'!$A$15:$A$73,A78,'7'!$AI$15:$AI$73)","v":0},{"$f":"R78-S150","v":0},{"$f":"SUMIF('8'!$A$15:$A$73,A78,'8'!$AI$15:$AI$73)","v":0},{"$f":"T78-U150","v":0},{"$f":"SUMIF('9'!$A$15:$A$73,A78,'9'!$AI$15:$AI$73)","v":0},{"$f":"V78-W150","v":0},{"$f":"SUM(S78+U78+W78)","v":0},null,{"$f":"SUMIF('10'!$A$15:$A$73,A78,'10'!$AI$15:$AI$73)","v":0},{"$f":"Z78-AA150","v":0},{"$f":"SUMIF('11'!$A$15:$A$73,A78,'11'!$AI$15:$AI$73)","v":0},{"$f":"AB78-AC150","v":0},{"$f":"SUMIF('12'!$A$15:$A$73,A78,'12'!$AI$15:$AI$73)","v":0},{"$f":"AD78-AE150","v":0},{"$f":"SUM(AA78+AC78+AE78)","v":0},null,null,{"$f":"SUMIF('renseignement agent'!$A$8:'renseignement agent'!$A$37,A78,'renseignement agent'!$C$8:'renseignement agent'!$C$37)","v":0},null,{"$f":"SUM(AI78-AI78-AI78)","v":0}]
[]
[]
[]
[null,null,{"$f":"IF(B10>0,AI10,IF(B10<0,\"0\"))","v":false},null,{"$f":"IF(D10>0,AI10,IF(D10<0,\"0\"))","v":false},null,{"$f":"IF(F10>0,AI10,IF(F10<0,\"0\"))","v":false},null,null,null,{"$f":"IF(J10>0,AI10,IF(J10<0,\"0\"))","v":false},null,{"$f":"IF(L10>0,AI10,IF(L10<0,\"0\"))","v":false},null,{"$f":"IF(N10>0,AI10,IF(N10<0,\"0\"))","v":false},null,null,null,{"$f":"IF(R10>0,AI10,IF(R10<0,\"0\"))","v":false},null,{"$f":"IF(T10>0,AI10,IF(T10<0,\"0\"))","v":false},null,{"$f":"IF(V10>0,AI10,IF(V10<0,\"0\"))","v":false},null,null,null,{"$f":"IF(Z10>0,AI10,IF(Z10<0,\"0\"))","v":false},null,{"$f":"IF(AB10>0,AI10,IF(AB10<0,\"0\"))","v":false},null,{"$f":"IF(AD10>0,AI10,IF(AD10<0,\"0\"))","v":false}]
[]
[null,null,{"$f":"IF(B12>0,AI12,IF(B12<0,\"0\"))","v":false},null,{"$f":"IF(D12>0,AI12,IF(D12<0,\"0\"))","v":false},null,{"$f":"IF(F12>0,AI12,IF(F12<0,\"0\"))","v":false},null,null,null,{"$f":"IF(J12>0,AI12,IF(J12<0,\"0\"))","v":false},null,{"$f":"IF(L12>0,AI12,IF(L12<0,\"0\"))","v":false},null,{"$f":"IF(N12>0,AI12,IF(N12<0,\"0\"))","v":false},null,null,null,{"$f":"IF(R12>0,AI12,IF(R12<0,\"0\"))","v":false},null,{"$f":"IF(T12>0,AI12,IF(T12<0,\"0\"))","v":false},null,{"$f":"IF(V12>0,AI12,IF(V12<0,\"0\"))","v":false},null,null,null,{"$f":"IF(Z12>0,AI12,IF(Z12<0,\"0\"))","v":false},null,{"$f":"IF(AB12>0,AI12,IF(AB12<0,\"0\"))","v":false},null,{"$f":"IF(AD12>0,AI12,IF(AD12<0,\"0\"))","v":false}]
[]
[null,null,{"$f":"IF(B14>0,AI14,IF(B14<0,\"0\"))","v":false},null,{"$f":"IF(D14>0,AI14,IF(D14<0,\"0\"))","v":false},null,{"$f":"IF(F14>0,AI14,IF(F14<0,\"0\"))","v":false},null,null,null,{"$f":"IF(J14>0,AI14,IF(J14<0,\"0\"))","v":false},null,{"$f":"IF(L14>0,AI14,IF(L14<0,\"0\"))","v":false},null,{"$f":"IF(N14>0,AI14,IF(N14<0,\"0\"))","v":false},null,null,null,{"$f":"IF(R14>0,AI14,IF(R14<0,\"0\"))","v":false},null,{"$f":"IF(T14>0,AI14,IF(T14<0,\"0\"))","v":false},null,{"$f":"IF(V14>0,AI14,IF(V14<0,\"0\"))","v":false},null,null,null,{"$f":"IF(Z14>0,AI14,IF(Z14<0,\"0\"))","v":false},null,{"$f":"IF(AB14>0,AI14,IF(AB14<0,\"0\"))","v":false},null,{"$f":"IF(AD14>0,AI14,IF(AD14<0,\"0\"))","v":false}]
[]
[null,null,{"$f":"IF(B16>0,AI16,IF(B16<0,\"0\"))","v":false},null,{"$f":"IF(D16>0,AI16,IF(D16<0,\"0\"))","v":false},null,{"$f":"IF(F16>0,AI16,IF(F16<0,\"0\"))","v":false},null,null,null,{"$f":"IF(J16>0,AI16,IF(J16<0,\"0\"))","v":false},null,{"$f":"IF(L16>0,AI16,IF(L16<0,\"0\"))","v":false},null,{"$f":"IF(N16>0,AI16,IF(N16<0,\"0\"))","v":false},null,null,null,{"$f":"IF(R16>0,AI16,IF(R16<0,\"0\"))","v":false},null,{"$f":"IF(T16>0,AI16,IF(T16<0,\"0\"))","v":false},null,{"$f":"IF(V16>0,AI16,IF(V16<0,\"0\"))","v":false},null,null,null,{"$f":"IF(Z16>0,AI16,IF(Z16<0,\"0\"))","v":false},null,{"$f":"IF(AB16>0,AI16,IF(AB16<0,\"0\"))","v":false},null,{"$f":"IF(AD16>0,AI16,IF(AD16<0,\"0\"))","v":false}]
[]
[null,null,{"$f":"IF(B18>0,AI18,IF(B18<0,\"0\"))","v":false},null,{"$f":"IF(D18>0,AI18,IF(D18<0,\"0\"))","v":false},null,{"$f":"IF(F18>0,AI18,IF(F18<0,\"0\"))","v":false},null,null,null,{"$f":"IF(J18>0,AI18,IF(J18<0,\"0\"))","v":false},null,{"$f":"IF(L18>0,AI18,IF(L18<0,\"0\"))","v":false},null,{"$f":"IF(N18>0,AI18,IF(N18<0,\"0\"))","v":false},null,null,null,{"$f":"IF(R18>0,AI18,IF(R18<0,\"0\"))","v":false},null,{"$f":"IF(T18>0,AI18,IF(T18<0,\"0\"))","v":false},null,{"$f":"IF(V18>0,AI18,IF(V18<0,\"0\"))","v":false},null,null,null,{"$f":"IF(Z18>0,AI18,IF(Z18<0,\"0\"))","v":false},null,{"$f":"IF(AB18>0,AI18,IF(AB18<0,\"0\"))","v":false},null,{"$f":"IF(AD18>0,AI18,IF(AD18<0,\"0\"))","v":false}]
[]
[null,null,{"$f":"IF(B20>0,AI20,IF(B20<0,\"0\"))","v":false},null,{"$f":"IF(D20>0,AI20,IF(D20<0,\"0\"))","v":false},null,{"$f":"IF(F20>0,AI20,IF(F20<0,\"0\"))","v":false},null,null,null,{"$f":"IF(J20>0,AI20,IF(J20<0,\"0\"))","v":false},null,{"$f":"IF(L20>0,AI20,IF(L20<0,\"0\"))","v":false},null,{"$f":"IF(N20>0,AI20,IF(N20<0,\"0\"))","v":false},null,null,null,{"$f":"IF(R20>0,AI20,IF(R20<0,\"0\"))","v":false},null,{"$f":"IF(T20>0,AI20,IF(T20<0,\"0\"))","v":false},null,{"$f":"IF(V20>0,AI20,IF(V20<0,\"0\"))","v":false},null,null,null,{"$f":"IF(Z20>0,AI20,IF(Z20<0,\"0\"))","v":false},null,{"$f":"IF(AB20>0,AI20,IF(AB20<0,\"0\"))","v":false},null,{"$f":"IF(AD20>0,AI20,IF(AD20<0,\"0\"))","v":false}]
[]
[null,null,{"$f":"IF(B22>0,AI22,IF(B22<0,\"0\"))","v":false},null,{"$f":"IF(D22>0,AI22,IF(D22<0,\"0\"))","v":false},null,{"$f":"IF(F22>0,AI22,IF(F22<0,\"0\"))","v":false},null,null,null,{"$f":"IF(J22>0,AI22,IF(J22<0,\"0\"))","v":false},null,{"$f":"IF(L22>0,AI22,IF(L22<0,\"0\"))","v":false},null,{"$f":"IF(N22>0,AI22,IF(N22<0,\"0\"))","v":false},null,null,null,{"$f":"IF(R22>0,AI22,IF(R22<0,\"0\"))","v":false},null,{"$f":"IF(T22>0,AI22,IF(T22<0,\"0\"))","v":false},null,{"$f":"IF(V22>0,AI22,IF(V22<0,\"0\"))","v":false},null,null,null,{"$f":"IF(Z22>0,AI22,IF(Z22<0,\"0\"))","v":false},null,{"$f":"IF(AB22>0,AI22,IF(AB22<0,\"0\"))","v":false},null,{"$f":"IF(AD22>0,AI22,IF(AD22<0,\"0\"))","v":false}]
[]
[null,null,{"$f":"IF(B24>0,AI24,IF(B24<0,\"0\"))","v":false},null,{"$f":"IF(D24>0,AI24,IF(D24<0,\"0\"))","v":false},null,{"$f":"IF(F24>0,AI24,IF(F24<0,\"0\"))","v":false},null,null,null,{"$f":"IF(J24>0,AI24,IF(J24<0,\"0\"))","v":false},null,{"$f":"IF(L24>0,AI24,IF(L24<0,\"0\"))","v":false},null,{"$f":"IF(N24>0,AI24,IF(N24<0,\"0\"))","v":false},null,null,null,{"$f":"IF(R24>0,AI24,IF(R24<0,\"0\"))","v":false},null,{"$f":"IF(T24>0,AI24,IF(T24<0,\"0\"))","v":false},null,{"$f":"IF(V24>0,AI24,IF(V24<0,\"0\"))","v":false},null,null,null,{"$f":"IF(Z24>0,AI24,IF(Z24<0,\"0\"))","v":false},null,{"$f":"IF(AB24>0,AI24,IF(AB24<0,\"0\"))","v":false},null,{"$f":"IF(AD24>0,AI24,IF(AD24<0,\"0\"))","v":false}]
[]
[null,null,{"$f":"IF(B26>0,AI26,IF(B26<0,\"0\"))","v":false},null,{"$f":"IF(D26>0,AI26,IF(D26<0,\"0\"))","v":false},null,{"$f":"IF(F26>0,AI26,IF(F26<0,\"0\"))","v":false},null,null,null,{"$f":"IF(J26>0,AI26,IF(J26<0,\"0\"))","v":false},null,{"$f":"IF(L26>0,AI26,IF(L26<0,\"0\"))","v":false},null,{"$f":"IF(N26>0,AI26,IF(N26<0,\"0\"))","v":false},null,null,null,{"$f":"IF(R26>0,AI26,IF(R26<0,\"0\"))","v":false},null,{"$f":"IF(T26>0,AI26,IF(T26<0,\"0\"))","v":false},null,{"$f":"IF(V26>0,AI26,IF(V26<0,\"0\"))","v":false},null,null,null,{"$f":"IF(Z26>0,AI26,IF(Z26<0,\"0\"))","v":false},null,{"$f":"IF(AB26>0,AI26,IF(AB26<0,\"0\"))","v":false},null,{"$f":"IF(AD26>0,AI26,IF(AD26<0,\"0\"))","v":false}]
[]
[null,null,{"$f":"IF(B28>0,AI28,IF(B28<0,\"0\"))","v":false},null,{"$f":"IF(D28>0,AI28,IF(D28<0,\"0\"))","v":false},null,{"$f":"IF(F28>0,AI28,IF(F28<0,\"0\"))","v":false},null,null,null,{"$f":"IF(J28>0,AI28,IF(J28<0,\"0\"))","v":false},null,{"$f":"IF(L28>0,AI28,IF(L28<0,\"0\"))","v":false},null,{"$f":"IF(N28>0,AI28,IF(N28<0,\"0\"))","v":false},null,null,null,{"$f":"IF(R28>0,AI28,IF(R28<0,\"0\"))","v":false},null,{"$f":"IF(T28>0,AI28,IF(T28<0,\"0\"))","v":false},null,{"$f":"IF(V28>0,AI28,IF(V28<0,\"0\"))","v":false},null,null,null,{"$f":"IF(Z28>0,AI28,IF(Z28<0,\"0\"))","v":false},null,{"$f":"IF(AB28>0,AI28,IF(AB28<0,\"0\"))","v":false},null,{"$f":"IF(AD28>0,AI28,IF(AD28<0,\"0\"))","v":false}]
[]
[null,null,{"$f":"IF(B30>0,AI30,IF(B30<0,\"0\"))","v":false},null,{"$f":"IF(D30>0,AI30,IF(D30<0,\"0\"))","v":false},null,{"$f":"IF(F30>0,AI30,IF(F30<0,\"0\"))","v":false},null,null,null,{"$f":"IF(J30>0,AI30,IF(J30<0,\"0\"))","v":false},null,{"$f":"IF(L30>0,AI30,IF(L30<0,\"0\"))","v":false},null,{"$f":"IF(N30>0,AI30,IF(N30<0,\"0\"))","v":false},null,null,null,{"$f":"IF(R30>0,AI30,IF(R30<0,\"0\"))","v":false},null,{"$f":"IF(T30>0,AI30,IF(T30<0,\"0\"))","v":false},null,{"$f":"IF(V30>0,AI30,IF(V30<0,\"0\"))","v":false},null,null,null,{"$f":"IF(Z30>0,AI30,IF(Z30<0,\"0\"))","v":false},null,{"$f":"IF(AB30>0,AI30,IF(AB30<0,\"0\"))","v":false},null,{"$f":"IF(AD30>0,AI30,IF(AD30<0,\"0\"))","v":false}]
[]
[null,null,{"$f":"IF(B32>0,AI32,IF(B32<0,\"0\"))","v":false},null,{"$f":"IF(D32>0,AI32,IF(D32<0,\"0\"))","v":false},null,{"$f":"IF(F32>0,AI32,IF(F32<0,\"0\"))","v":false},null,null,null,{"$f":"IF(J32>0,AI32,IF(J32<0,\"0\"))","v":false},null,{"$f":"IF(L32>0,AI32,IF(L32<0,\"0\"))","v":false},null,{"$f":"IF(N32>0,AI32,IF(N32<0,\"0\"))","v":false},null,null,null,{"$f":"IF(R32>0,AI32,IF(R32<0,\"0\"))","v":false},null,{"$f":"IF(T32>0,AI32,IF(T32<0,\"0\"))","v":false},null,{"$f":"IF(V32>0,AI32,IF(V32<0,\"0\"))","v":false},null,null,null,{"$f":"IF(Z32>0,AI32,IF(Z32<0,\"0\"))","v":false},null,{"$f":"IF(AB32>0,AI32,IF(AB32<0,\"0\"))","v":false},null,{"$f":"IF(AD32>0,AI32,IF(AD32<0,\"0\"))","v":false}]
[]
[null,null,{"$f":"IF(B34>0,AI34,IF(B34<0,\"0\"))","v":false},null,{"$f":"IF(D34>0,AI34,IF(D34<0,\"0\"))","v":false},null,{"$f":"IF(F34>0,AI34,IF(F34<0,\"0\"))","v":false},null,null,null,{"$f":"IF(J34>0,AI34,IF(J34<0,\"0\"))","v":false},null,{"$f":"IF(L34>0,AI34,IF(L34<0,\"0\"))","v":false},null,{"$f":"IF(N34>0,AI34,IF(N34<0,\"0\"))","v":false},null,null,null,{"$f":"IF(R34>0,AI34,IF(R34<0,\"0\"))","v":false},null,{"$f":"IF(T34>0,AI34,IF(T34<0,\"0\"))","v":false},null,{"$f":"IF(V34>0,AI34,IF(V34<0,\"0\"))","v":false},null,null,null,{"$f":"IF(Z34>0,AI34,IF(Z34<0,\"0\"))","v":false},null,{"$f":"IF(AB34>0,AI34,IF(AB34<0,\"0\"))","v":false},null,{"$f":"IF(AD34>0,AI34,IF(AD34<0,\"0\"))","v":false}]
[]
[null,null,{"$f":"IF(B36>0,AI36,IF(B36<0,\"0\"))","v":false},null,{"$f":"IF(D36>0,AI36,IF(D36<0,\"0\"))","v":false},null,{"$f":"IF(F36>0,AI36,IF(F36<0,\"0\"))","v":false},null,null,null,{"$f":"IF(J36>0,AI36,IF(J36<0,\"0\"))","v":false},null,{"$f":"IF(L36>0,AI36,IF(L36<0,\"0\"))","v":false},null,{"$f":"IF(N36>0,AI36,IF(N36<0,\"0\"))","v":false},null,null,null,{"$f":"IF(R36>0,AI36,IF(R36<0,\"0\"))","v":false},null,{"$f":"IF(T36>0,AI36,IF(T36<0,\"0\"))","v":false},null,{"$f":"IF(V36>0,AI36,IF(V36<0,\"0\"))","v":false},null,null,null,{"$f":"IF(Z36>0,AI36,IF(Z36<0,\"0\"))","v":false},null,{"$f":"IF(AB36>0,AI36,IF(AB36<0,\"0\"))","v":false},null,{"$f":"IF(AD36>0,AI36,IF(AD36<0,\"0\"))","v":false}]
[]
[null,null,{"$f":"IF(B38>0,AI38,IF(B38<0,\"0\"))","v":false},null,{"$f":"IF(D38>0,AI38,IF(D38<0,\"0\"))","v":false},null,{"$f":"IF(F38>0,AI38,IF(F38<0,\"0\"))","v":false},null,null,null,{"$f":"IF(J38>0,AI38,IF(J38<0,\"0\"))","v":false},null,{"$f":"IF(L38>0,AI38,IF(L38<0,\"0\"))","v":false},null,{"$f":"IF(N38>0,AI38,IF(N38<0,\"0\"))","v":false},null,null,null,{"$f":"IF(R38>0,AI38,IF(R38<0,\"0\"))","v":false},null,{"$f":"IF(T38>0,AI38,IF(T38<0,\"0\"))","v":false},null,{"$f":"IF(V38>0,AI38,IF(V38<0,\"0\"))","v":false},null,null,null,{"$f":"IF(Z38>0,AI38,IF(Z38<0,\"0\"))","v":false},null,{"$f":"IF(AB38>0,AI38,IF(AB38<0,\"0\"))","v":false},null,{"$f":"IF(AD38>0,AI38,IF(AD38<0,\"0\"))","v":false}]
[]
[null,null,{"$f":"IF(B40>0,AI40,IF(B40<0,\"0\"))","v":false},null,{"$f":"IF(D40>0,AI40,IF(D40<0,\"0\"))","v":false},null,{"$f":"IF(F40>0,AI40,IF(F40<0,\"0\"))","v":false},null,null,null,{"$f":"IF(J40>0,AI40,IF(J40<0,\"0\"))","v":false},null,{"$f":"IF(L40>0,AI40,IF(L40<0,\"0\"))","v":false},null,{"$f":"IF(N40>0,AI40,IF(N40<0,\"0\"))","v":false},null,null,null,{"$f":"IF(R40>0,AI40,IF(R40<0,\"0\"))","v":false},null,{"$f":"IF(T40>0,AI40,IF(T40<0,\"0\"))","v":false},null,{"$f":"IF(V40>0,AI40,IF(V40<0,\"0\"))","v":false},null,null,null,{"$f":"IF(Z40>0,AI40,IF(Z40<0,\"0\"))","v":false},null,{"$f":"IF(AB40>0,AI40,IF(AB40<0,\"0\"))","v":false},null,{"$f":"IF(AD40>0,AI40,IF(AD40<0,\"0\"))","v":false}]
[]
[null,null,{"$f":"IF(B42>0,AI42,IF(B42<0,\"0\"))","v":false},null,{"$f":"IF(D42>0,AI42,IF(D42<0,\"0\"))","v":false},null,{"$f":"IF(F42>0,AI42,IF(F42<0,\"0\"))","v":false},null,null,null,{"$f":"IF(J42>0,AI42,IF(J42<0,\"0\"))","v":false},null,{"$f":"IF(L42>0,AI42,IF(L42<0,\"0\"))","v":false},null,{"$f":"IF(N42>0,AI42,IF(N42<0,\"0\"))","v":false},null,null,null,{"$f":"IF(R42>0,AI42,IF(R42<0,\"0\"))","v":false},null,{"$f":"IF(T42>0,AI42,IF(T42<0,\"0\"))","v":false},null,{"$f":"IF(V42>0,AI42,IF(V42<0,\"0\"))","v":false},null,null,null,{"$f":"IF(Z42>0,AI42,IF(Z42<0,\"0\"))","v":false},null,{"$f":"IF(AB42>0,AI42,IF(AB42<0,\"0\"))","v":false},null,{"$f":"IF(AD42>0,AI42,IF(AD42<0,\"0\"))","v":false}]
[]
[null,null,{"$f":"IF(B44>0,AI44,IF(B44<0,\"0\"))","v":false},null,{"$f":"IF(D44>0,AI44,IF(D44<0,\"0\"))","v":false},null,{"$f":"IF(F44>0,AI44,IF(F44<0,\"0\"))","v":false},null,null,null,{"$f":"IF(J44>0,AI44,IF(J44<0,\"0\"))","v":false},null,{"$f":"IF(L44>0,AI44,IF(L44<0,\"0\"))","v":false},null,{"$f":"IF(N44>0,AI44,IF(N44<0,\"0\"))","v":false},null,null,null,{"$f":"IF(R44>0,AI44,IF(R44<0,\"0\"))","v":false},null,{"$f":"IF(T44>0,AI44,IF(T44<0,\"0\"))","v":false},null,{"$f":"IF(V44>0,AI44,IF(V44<0,\"0\"))","v":false},null,null,null,{"$f":"IF(Z44>0,AI44,IF(Z44<0,\"0\"))","v":false},null,{"$f":"IF(AB44>0,AI44,IF(AB44<0,\"0\"))","v":false},null,{"$f":"IF(AD44>0,AI44,IF(AD44<0,\"0\"))","v":false}]
[]
[null,null,{"$f":"IF(B46>0,AI46,IF(B46<0,\"0\"))","v":false},null,{"$f":"IF(D46>0,AI46,IF(D46<0,\"0\"))","v":false},null,{"$f":"IF(F46>0,AI46,IF(F46<0,\"0\"))","v":false},null,null,null,{"$f":"IF(J46>0,AI46,IF(J46<0,\"0\"))","v":false},null,{"$f":"IF(L46>0,AI46,IF(L46<0,\"0\"))","v":false},null,{"$f":"IF(N46>0,AI46,IF(N46<0,\"0\"))","v":false},null,null,null,{"$f":"IF(R46>0,AI46,IF(R46<0,\"0\"))","v":false},null,{"$f":"IF(T46>0,AI46,IF(T46<0,\"0\"))","v":false},null,{"$f":"IF(V46>0,AI46,IF(V46<0,\"0\"))","v":false},null,null,null,{"$f":"IF(Z46>0,AI46,IF(Z46<0,\"0\"))","v":false},null,{"$f":"IF(AB46>0,AI46,IF(AB46<0,\"0\"))","v":false},null,{"$f":"IF(AD46>0,AI46,IF(AD46<0,\"0\"))","v":false}]
[]
[null,null,{"$f":"IF(B48>0,AI48,IF(B48<0,\"0\"))","v":false},null,{"$f":"IF(D48>0,AI48,IF(D48<0,\"0\"))","v":false},null,{"$f":"IF(F48>0,AI48,IF(F48<0,\"0\"))","v":false},null,null,null,{"$f":"IF(J48>0,AI48,IF(J48<0,\"0\"))","v":false},null,{"$f":"IF(L48>0,AI48,IF(L48<0,\"0\"))","v":false},null,{"$f":"IF(N48>0,AI48,IF(N48<0,\"0\"))","v":false},null,null,null,{"$f":"IF(R48>0,AI48,IF(R48<0,\"0\"))","v":false},null,{"$f":"IF(T48>0,AI48,IF(T48<0,\"0\"))","v":false},null,{"$f":"IF(V48>0,AI48,IF(V48<0,\"0\"))","v":false},null,null,null,{"$f":"IF(Z48>0,AI48,IF(Z48<0,\"0\"))","v":false},null,{"$f":"IF(AB48>0,AI48,IF(AB48<0,\"0\"))","v":false},null,{"$f":"IF(AD48>0,AI48,IF(AD48<0,\"0\"))","v":false}]
[]
[null,null,{"$f":"IF(B50>0,AI50,IF(B50<0,\"0\"))","v":false},null,{"$f":"IF(D50>0,AI50,IF(D50<0,\"0\"))","v":false},null,{"$f":"IF(F50>0,AI50,IF(F50<0,\"0\"))","v":false},null,null,null,{"$f":"IF(J50>0,AI50,IF(J50<0,\"0\"))","v":false},null,{"$f":"IF(L50>0,AI50,IF(L50<0,\"0\"))","v":false},null,{"$f":"IF(N50>0,AI50,IF(N50<0,\"0\"))","v":false},null,null,null,{"$f":"IF(R50>0,AI50,IF(R50<0,\"0\"))","v":false},null,{"$f":"IF(T50>0,AI50,IF(T50<0,\"0\"))","v":false},null,{"$f":"IF(V50>0,AI50,IF(V50<0,\"0\"))","v":false},null,null,null,{"$f":"IF(Z50>0,AI50,IF(Z50<0,\"0\"))","v":false},null,{"$f":"IF(AB50>0,AI50,IF(AB50<0,\"0\"))","v":false},null,{"$f":"IF(AD50>0,AI50,IF(AD50<0,\"0\"))","v":false}]
[]
[null,null,{"$f":"IF(B52>0,AI52,IF(B52<0,\"0\"))","v":false},null,{"$f":"IF(D52>0,AI52,IF(D52<0,\"0\"))","v":false},null,{"$f":"IF(F52>0,AI52,IF(F52<0,\"0\"))","v":false},null,null,null,{"$f":"IF(J52>0,AI52,IF(J52<0,\"0\"))","v":false},null,{"$f":"IF(L52>0,AI52,IF(L52<0,\"0\"))","v":false},null,{"$f":"IF(N52>0,AI52,IF(N52<0,\"0\"))","v":false},null,null,null,{"$f":"IF(R52>0,AI52,IF(R52<0,\"0\"))","v":false},null,{"$f":"IF(T52>0,AI52,IF(T52<0,\"0\"))","v":false},null,{"$f":"IF(V52>0,AI52,IF(V52<0,\"0\"))","v":false},null,null,null,{"$f":"IF(Z52>0,AI52,IF(Z52<0,\"0\"))","v":false},null,{"$f":"IF(AB52>0,AI52,IF(AB52<0,\"0\"))","v":false},null,{"$f":"IF(AD52>0,AI52,IF(AD52<0,\"0\"))","v":false}]
[]
[null,null,{"$f":"IF(B54>0,AI54,IF(B54<0,\"0\"))","v":false},null,{"$f":"IF(D54>0,AI54,IF(D54<0,\"0\"))","v":false},null,{"$f":"IF(F54>0,AI54,IF(F54<0,\"0\"))","v":false},null,null,null,{"$f":"IF(J54>0,AI54,IF(J54<0,\"0\"))","v":false},null,{"$f":"IF(L54>0,AI54,IF(L54<0,\"0\"))","v":false},null,{"$f":"IF(N54>0,AI54,IF(N54<0,\"0\"))","v":false},null,null,null,{"$f":"IF(R54>0,AI54,IF(R54<0,\"0\"))","v":false},null,{"$f":"IF(T54>0,AI54,IF(T54<0,\"0\"))","v":false},null,{"$f":"IF(V54>0,AI54,IF(V54<0,\"0\"))","v":false},null,null,null,{"$f":"IF(Z54>0,AI54,IF(Z54<0,\"0\"))","v":false},null,{"$f":"IF(AB54>0,AI54,IF(AB54<0,\"0\"))","v":false},null,{"$f":"IF(AD54>0,AI54,IF(AD54<0,\"0\"))","v":false}]
[]
[null,null,{"$f":"IF(B56>0,AI56,IF(B56<0,\"0\"))","v":false},null,{"$f":"IF(D56>0,AI56,IF(D56<0,\"0\"))","v":false},null,{"$f":"IF(F56>0,AI56,IF(F56<0,\"0\"))","v":false},null,null,null,{"$f":"IF(J56>0,AI56,IF(J56<0,\"0\"))","v":false},null,{"$f":"IF(L56>0,AI56,IF(L56<0,\"0\"))","v":false},null,{"$f":"IF(N56>0,AI56,IF(N56<0,\"0\"))","v":false},null,null,null,{"$f":"IF(R56>0,AI56,IF(R56<0,\"0\"))","v":false},null,{"$f":"IF(T56>0,AI56,IF(T56<0,\"0\"))","v":false},null,{"$f":"IF(V56>0,AI56,IF(V56<0,\"0\"))","v":false},null,null,null,{"$f":"IF(Z56>0,AI56,IF(Z56<0,\"0\"))","v":false},null,{"$f":"IF(AB56>0,AI56,IF(AB56<0,\"0\"))","v":false},null,{"$f":"IF(AD56>0,AI56,IF(AD56<0,\"0\"))","v":false}]
[]
[null,null,{"$f":"IF(B58>0,AI58,IF(B58<0,\"0\"))","v":false},null,{"$f":"IF(D58>0,AI58,IF(D58<0,\"0\"))","v":false},null,{"$f":"IF(F58>0,AI58,IF(F58<0,\"0\"))","v":false},null,null,null,{"$f":"IF(J58>0,AI58,IF(J58<0,\"0\"))","v":false},null,{"$f":"IF(L58>0,AI58,IF(L58<0,\"0\"))","v":false},null,{"$f":"IF(N58>0,AI58,IF(N58<0,\"0\"))","v":false},null,null,null,{"$f":"IF(R58>0,AI58,IF(R58<0,\"0\"))","v":false},null,{"$f":"IF(T58>0,AI58,IF(T58<0,\"0\"))","v":false},null,{"$f":"IF(V58>0,AI58,IF(V58<0,\"0\"))","v":false},null,null,null,{"$f":"IF(Z58>0,AI58,IF(Z58<0,\"0\"))","v":false},null,{"$f":"IF(AB58>0,AI58,IF(AB58<0,\"0\"))","v":false},null,{"$f":"IF(AD58>0,AI58,IF(AD58<0,\"0\"))","v":false}]
[]
[null,null,{"$f":"IF(B60>0,AI60,IF(B60<0,\"0\"))","v":false},null,{"$f":"IF(D60>0,AI60,IF(D60<0,\"0\"))","v":false},null,{"$f":"IF(F60>0,AI60,IF(F60<0,\"0\"))","v":false},null,null,null,{"$f":"IF(J60>0,AI60,IF(J60<0,\"0\"))","v":false},null,{"$f":"IF(L60>0,AI60,IF(L60<0,\"0\"))","v":false},null,{"$f":"IF(N60>0,AI60,IF(N60<0,\"0\"))","v":false},null,null,null,{"$f":"IF(R60>0,AI60,IF(R60<0,\"0\"))","v":false},null,{"$f":"IF(T60>0,AI60,IF(T60<0,\"0\"))","v":false},null,{"$f":"IF(V60>0,AI60,IF(V60<0,\"0\"))","v":false},null,null,null,{"$f":"IF(Z60>0,AI60,IF(Z60<0,\"0\"))","v":false},null,{"$f":"IF(AB60>0,AI60,IF(AB60<0,\"0\"))","v":false},null,{"$f":"IF(AD60>0,AI60,IF(AD60<0,\"0\"))","v":false}]
[]
[null,null,{"$f":"IF(B62>0,AI62,IF(B62<0,\"0\"))","v":false},null,{"$f":"IF(D62>0,AI62,IF(D62<0,\"0\"))","v":false},null,{"$f":"IF(F62>0,AI62,IF(F62<0,\"0\"))","v":false},null,null,null,{"$f":"IF(J62>0,AI62,IF(J62<0,\"0\"))","v":false},null,{"$f":"IF(L62>0,AI62,IF(L62<0,\"0\"))","v":false},null,{"$f":"IF(N62>0,AI62,IF(N62<0,\"0\"))","v":false},null,null,null,{"$f":"IF(R62>0,AI62,IF(R62<0,\"0\"))","v":false},null,{"$f":"IF(T62>0,AI62,IF(T62<0,\"0\"))","v":false},null,{"$f":"IF(V62>0,AI62,IF(V62<0,\"0\"))","v":false},null,null,null,{"$f":"IF(Z62>0,AI62,IF(Z62<0,\"0\"))","v":false},null,{"$f":"IF(AB62>0,AI62,IF(AB62<0,\"0\"))","v":false},null,{"$f":"IF(AD62>0,AI62,IF(AD62<0,\"0\"))","v":false}]
[]
[null,null,{"$f":"IF(B64>0,AI64,IF(B64<0,\"0\"))","v":false},null,{"$f":"IF(D64>0,AI64,IF(D64<0,\"0\"))","v":false},null,{"$f":"IF(F64>0,AI64,IF(F64<0,\"0\"))","v":false},null,null,null,{"$f":"IF(J64>0,AI64,IF(J64<0,\"0\"))","v":false},null,{"$f":"IF(L64>0,AI64,IF(L64<0,\"0\"))","v":false},null,{"$f":"IF(N64>0,AI64,IF(N64<0,\"0\"))","v":false},null,null,null,{"$f":"IF(R64>0,AI64,IF(R64<0,\"0\"))","v":false},null,{"$f":"IF(T64>0,AI64,IF(T64<0,\"0\"))","v":false},null,{"$f":"IF(V64>0,AI64,IF(V64<0,\"0\"))","v":false},null,null,null,{"$f":"IF(Z64>0,AI64,IF(Z64<0,\"0\"))","v":false},null,{"$f":"IF(AB64>0,AI64,IF(AB64<0,\"0\"))","v":false},null,{"$f":"IF(AD64>0,AI64,IF(AD64<0,\"0\"))","v":false}]
[]
[null,null,{"$f":"IF(B66>0,AI66,IF(B66<0,\"0\"))","v":false},null,{"$f":"IF(D66>0,AI66,IF(D66<0,\"0\"))","v":false},null,{"$f":"IF(F66>0,AI66,IF(F66<0,\"0\"))","v":false},null,null,null,{"$f":"IF(J66>0,AI66,IF(J66<0,\"0\"))","v":false},null,{"$f":"IF(L66>0,AI66,IF(L66<0,\"0\"))","v":false},null,{"$f":"IF(N66>0,AI66,IF(N66<0,\"0\"))","v":false},null,null,null,{"$f":"IF(R66>0,AI66,IF(R66<0,\"0\"))","v":false},null,{"$f":"IF(T66>0,AI66,IF(T66<0,\"0\"))","v":false},null,{"$f":"IF(V66>0,AI66,IF(V66<0,\"0\"))","v":false},null,null,null,{"$f":"IF(Z66>0,AI66,IF(Z66<0,\"0\"))","v":false},null,{"$f":"IF(AB66>0,AI66,IF(AB66<0,\"0\"))","v":false},null,{"$f":"IF(AD66>0,AI66,IF(AD66<0,\"0\"))","v":false}]
[]
[null,null,{"$f":"IF(B68>0,AI68,IF(B68<0,\"0\"))","v":false},null,{"$f":"IF(D68>0,AI68,IF(D68<0,\"0\"))","v":false},null,{"$f":"IF(F68>0,AI68,IF(F68<0,\"0\"))","v":false},null,null,null,{"$f":"IF(J68>0,AI68,IF(J68<0,\"0\"))","v":false},null,{"$f":"IF(L68>0,AI68,IF(L68<0,\"0\"))","v":false},null,{"$f":"IF(N68>0,AI68,IF(N68<0,\"0\"))","v":false},null,null,null,{"$f":"IF(R68>0,AI68,IF(R68<0,\"0\"))","v":false},null,{"$f":"IF(T68>0,AI68,IF(T68<0,\"0\"))","v":false},null,{"$f":"IF(V68>0,AI68,IF(V68<0,\"0\"))","v":false},null,null,null,{"$f":"IF(Z68>0,AI68,IF(Z68<0,\"0\"))","v":false},null,{"$f":"IF(AB68>0,AI68,IF(AB68<0,\"0\"))","v":false},null,{"$f":"IF(AD68>0,AI68,IF(AD68<0,\"0\"))","v":false}]
[]
[null,null,{"$f":"IF(B70>0,AI70,IF(B70<0,\"0\"))","v":false},null,{"$f":"IF(D70>0,AI70,IF(D70<0,\"0\"))","v":false},null,{"$f":"IF(F70>0,AI70,IF(F70<0,\"0\"))","v":false},null,null,null,{"$f":"IF(J70>0,AI70,IF(J70<0,\"0\"))","v":false},null,{"$f":"IF(L70>0,AI70,IF(L70<0,\"0\"))","v":false},null,{"$f":"IF(N70>0,AI70,IF(N70<0,\"0\"))","v":false},null,null,null,{"$f":"IF(R70>0,AI70,IF(R70<0,\"0\"))","v":false},null,{"$f":"IF(T70>0,AI70,IF(T70<0,\"0\"))","v":false},null,{"$f":"IF(V70>0,AI70,IF(V70<0,\"0\"))","v":false},null,null,null,{"$f":"IF(Z70>0,AI70,IF(Z70<0,\"0\"))","v":false},null,{"$f":"IF(AB70>0,AI70,IF(AB70<0,\"0\"))","v":false},null,{"$f":"IF(AD70>0,AI70,IF(AD70<0,\"0\"))","v":false}]
[]
[null,null,{"$f":"IF(B72>0,AI72,IF(B72<0,\"0\"))","v":false},null,{"$f":"IF(D72>0,AI72,IF(D72<0,\"0\"))","v":false},null,{"$f":"IF(F72>0,AI72,IF(F72<0,\"0\"))","v":false},null,null,null,{"$f":"IF(J72>0,AI72,IF(J72<0,\"0\"))","v":false},null,{"$f":"IF(L72>0,AI72,IF(L72<0,\"0\"))","v":false},null,{"$f":"IF(N72>0,AI72,IF(N72<0,\"0\"))","v":false},null,null,null,{"$f":"IF(R72>0,AI72,IF(R72<0,\"0\"))","v":false},null,{"$f":"IF(T72>0,AI72,IF(T72<0,\"0\"))","v":false},null,{"$f":"IF(V72>0,AI72,IF(V72<0,\"0\"))","v":false},null,null,null,{"$f":"IF(Z72>0,AI72,IF(Z72<0,\"0\"))","v":false},null,{"$f":"IF(AB72>0,AI72,IF(AB72<0,\"0\"))","v":false},null,{"$f":"IF(AD72>0,AI72,IF(AD72<0,\"0\"))","v":false}]
[]
[null,null,{"$f":"IF(B74>0,AI74,IF(B74<0,\"0\"))","v":false},null,{"$f":"IF(D74>0,AI74,IF(D74<0,\"0\"))","v":false},null,{"$f":"IF(F74>0,AI74,IF(F74<0,\"0\"))","v":false},null,null,null,{"$f":"IF(J74>0,AI74,IF(J74<0,\"0\"))","v":false},null,{"$f":"IF(L74>0,AI74,IF(L74<0,\"0\"))","v":false},null,{"$f":"IF(N74>0,AI74,IF(N74<0,\"0\"))","v":false},null,null,null,{"$f":"IF(R74>0,AI74,IF(R74<0,\"0\"))","v":false},null,{"$f":"IF(T74>0,AI74,IF(T74<0,\"0\"))","v":false},null,{"$f":"IF(V74>0,AI74,IF(V74<0,\"0\"))","v":false},null,null,null,{"$f":"IF(Z74>0,AI74,IF(Z74<0,\"0\"))","v":false},null,{"$f":"IF(AB74>0,AI74,IF(AB74<0,\"0\"))","v":false},null,{"$f":"IF(AD74>0,AI74,IF(AD74<0,\"0\"))","v":false}]
[]
[null,null,{"$f":"IF(B76>0,AI76,IF(B76<0,\"0\"))","v":false},null,{"$f":"IF(D76>0,AI76,IF(D76<0,\"0\"))","v":false},null,{"$f":"IF(F76>0,AI76,IF(F76<0,\"0\"))","v":false},null,null,null,{"$f":"IF(J76>0,AI76,IF(J76<0,\"0\"))","v":false},null,{"$f":"IF(L76>0,AI76,IF(L76<0,\"0\"))","v":false},null,{"$f":"IF(N76>0,AI76,IF(N76<0,\"0\"))","v":false},null,null,null,{"$f":"IF(R76>0,AI76,IF(R76<0,\"0\"))","v":false},null,{"$f":"IF(T76>0,AI76,IF(T76<0,\"0\"))","v":false},null,{"$f":"IF(V76>0,AI76,IF(V76<0,\"0\"))","v":false},null,null,null,{"$f":"IF(Z76>0,AI76,IF(Z76<0,\"0\"))","v":false},null,{"$f":"IF(AB76>0,AI76,IF(AB76<0,\"0\"))","v":false},null,{"$f":"IF(AD76>0,AI76,IF(AD76<0,\"0\"))","v":false}]
[]
[null,null,{"$f":"IF(B78>0,AI78,IF(B78<0,\"0\"))","v":false},null,{"$f":"IF(D78>0,AI78,IF(D78<0,\"0\"))","v":false},null,{"$f":"IF(F78>0,AI78,IF(F78<0,\"0\"))","v":false},null,null,null,{"$f":"IF(J78>0,AI78,IF(J78<0,\"0\"))","v":false},null,{"$f":"IF(L78>0,AI78,IF(L78<0,\"0\"))","v":false},null,{"$f":"IF(N78>0,AI78,IF(N78<0,\"0\"))","v":false},null,null,null,{"$f":"IF(R78>0,AI78,IF(R78<0,\"0\"))","v":false},null,{"$f":"IF(T78>0,AI78,IF(T78<0,\"0\"))","v":false},null,{"$f":"IF(V78>0,AI78,IF(V78<0,\"0\"))","v":false},null,null,null,{"$f":"IF(Z78>0,AI78,IF(Z78<0,\"0\"))","v":false},null,{"$f":"IF(AB78>0,AI78,IF(AB78<0,\"0\"))","v":false},null,{"$f":"IF(AD78>0,AI78,IF(AD78<0,\"0\"))","v":false}]

{"sheet":"CP","index":15,"n_rows":79,"n_cols":28,"rows_kept":79,"cut":false,"hidden":false,"merged":[[1,0,1,1],[2,0,2,1],[8,0,9,0],[8,1,9,1],[8,2,9,2],[8,3,9,3],[8,10,9,10],[8,11,9,11],[8,12,9,12],[8,13,9,13],[8,14,9,14],[10,0,11,0],[10,1,11,1],[10,2,11,2],[10,3,11,3],[10,4,11,4],[8,4,9,4],[8,5,9,5],[8,6,9,6],[8,7,9,7],[8,8,9,8],[8,9,9,9],[10,11,11,11],[10,12,11,12],[10,13,11,13],[10,14,11,14],[10,8,11,8],[10,9,11,9],[10,10,11,10],[12,0,13,0],[12,1,13,1],[12,2,13,2],[12,3,13,3],[12,4,13,4],[12,5,13,5],[10,5,11,5],[10,6,11,6],[10,7,11,7],[14,7,15,7],[12,12,13,12],[12,13,13,13],[12,14,13,14],[14,0,15,0],[14,1,15,1],[14,2,15,2],[14,3,15,3],[14,4,15,4],[14,5,15,5],[14,6,15,6],[12,6,13,6],[12,7,13,7],[12,8,13,8],[12,9,13,9],[12,10,13,10],[12,11,13,11],[14,13,15,13],[14,14,15,14],[14,8,15,8],[14,9,15,9],[14,10,15,10],[14,11,15,11],[14,12,15,12],[16,14,17,14],[18,0,19,0],[18,1,19,1],[18,2,19,2],[18,3,19,3],[18,4,19,4],[18,5,19,5],[18,6,19,6],[18,7,19,7],[18,8,19,8],[16,8,17,8],[16,9,17,9],[16,10,17,10],[16,11,17,11],[16,12,17,12],[16,13,17,13],[16,0,17,0],[16,1,17,1],[16,2,17,2],[16,3,17,3],[16,4,17,4],[16,5,17,5],[16,6,17,6],[16,7,17,7],[20,5,21,5],[22,13,23,13],[22,14,23,14],[18,9,19,9],[18,10,19,10],[18,11,19,11],[18,12,19,12],[18,13,19,13],[18,14,19,14],[24,6,25,6],[24,7,25,7],[22,7,23,7],[20,12,21,12],[20,13,21,13],[20,14,21,14],[22,0,23,0],[22,1,23,1],[22,2,23,2],[22,3,23,3],[22,4,23,4],[22,5,23,5],[22,6,23,6],[20,6,21,6],[20,7,21,7],[20,8,21,8],[20,9,21,9],[20,10,21,10],[20,11,21,11],[20,0,21,0],[20,1,21,1],[20,2,21,2],[20,3,21,3],[20,4,21,4],[22,8,23,8],[22,9,23,9],[22,10,23,10],[22,11,23,11],[22,12,23,12],[26,9,27,9],[26,10,27,10],[26,11,27,11],[26,12,27,12],[26,13,27,13],[26,14,27,14],[24,14,25,14],[26,0,27,0],[26,1,27,1],[26,2,27,2],[26,3,27,3],[26,4,27,4],[26,5,27,5],[26,6,27,6],[26,7,27,7],[26,8,27,8],[24,8,25,8],[24,9,25,9],[24,10,25,10],[24,11,25,11],[24,12,25,12],[24,13,25,13],[24,0,25,0],[24,1,25,1],[24,2,25,2],[24,3,25,3],[24,4,25,4],[24,5,25,5],[28,12,29,12],[28,13,29,13],[28,14,29,14],[30,0,31,0],[30,1,31,1],[30,2,31,2],[30,3,31,3],[30,4,31,4],[30,5,31,5],[30,6,31,6],[28,6,29,6],[28,7,29,7],[28,8,29,8],[28,9,29,9],[28,10,29,10],[28,11,29,11],[28,0,29,0],[28,1,29,1],[28,2,29,2],[28,3,29,3],[28,4,29,4],[28,5,29,5],[30,14,31,14],[30,8,31,8],[30,9,31,9],[30,10,31,10],[30,11,31,11],[30,12,31,12],[36,5,37,5],[34,9,35,9],[34,10,35,10],[34,11,35,11],[34,12,35,12],[32,5,33,5],[32,6,33,6],[32,7,33,7],[30,7,31,7],[34,13,35,13],[34,14,35,14],[32,14,33,14],[34,0,35,0],[34,1,35,1],[34,2,35,2],[34,3,35,3],[34,4,35,4],[34,5,35,5],[34,6,35,6],[34,7,35,7],[34,8,35,8],[32,8,33,8],[32,9,33,9],[32,10,33,10],[32,11,33,11],[32,12,33,12],[32,13,33,13],[32,0,33,0],[32,1,33,1],[32,2,33,2],[32,3,33,3],[32,4,33,4],[38,10,39,10],[38,11,39,11],[38,12,39,12],[36,12,37,12],[36,13,37,13],[36,14,37,14],[38,0,39,0],[38,1,39,1],[38,2,39,2],[38,3,39,3],[38,4,39,4],[38,5,39,5],[38,6,39,6],[36,6,37,6],[36,7,37,7],[36,8,37,8],[36,9,37,9],[36,10,37,10],[36,11,37,11],[36,0,37,0],[36,1,37,1],[36,2,37,2],[36,3,37,3],[36,4,37,4],[40,2,41,2],[40,3,41,3],[40,4,41,4],[40,5,41,5],[40,6,41,6],[40,7,41,7],[38,7,39,7],[38,8,39,8],[38,9,39,9],[42,9,43,9],[42,10,43,10],[42,11,43,11],[42,12,43,12],[42,13,43,13],[42,14,43,14],[40,14,41,14],[42,0,43,0],[42,1,43,1],[42,2,43,2],[42,3,43,3],[42,4,43,4],[42,5,43,5],[42,6,43,6],[42,7,43,7],[42,8,43,8],[40,8,41,8],[40,9,41,9],[40,10,41,10],[40,11,41,11],[40,12,41,12],[40,13,41,13],[40,0,41,0],[40,1,41,1],[44,12,45,12],[44,13,45,13],[44,14,45,14],[46,0,47,0],[46,1,47,1],[46,2,47,2],[46,3,47,3],[46,4,47,4],[46,5,47,5],[46,6,47,6],[44,6,45,6],[44,7,45,7],[44,8,45,8],[44,9,45,9],[44,10,45,10],[44,11,45,11],[44,0,45,0],[44,1,45,1],[44,2,45,2],[44,3,45,3],[44,4,45,4],[44,5,45,5],[48,8,49,8],[48,9,49,9],[48,10,49,10],[48,11,49,11],[48,12,49,12],[48,13,49,13],[46,13,47,13],[46,14,47,14],[48,0,49,0],[48,1,49,1],[48,2,49,2],[48,3,49,3],[48,4,49,4],[48,5,49,5],[48,6,49,6],[48,7,49,7],[46,7,47,7],[46,8,47,8],[46,9,47,9],[46,10,47,10],[46,11,47,11],[46,12,47,12],[50,0,51,0],[50,1,51,1],[50,2,51,2],[50,3,51,3],[50,4,51,4],[50,5,51,5],[50,6,51,6],[50,7,51,7],[50,8,51,8],[52,3,53,3],[52,4,53,4],[52,5,53,5],[50,9,51,9],[50,10,51,10],[50,11,51,11],[50,12,51,12],[50,13,51,13],[50,14,51,14],[54,8,55,8],[54,9,55,9],[54,10,55,10],[54,11,55,11],[54,12,55,12],[52,12,53,12],[52,13,53,13],[52,14,53,14],[54,0,55,0],[54,1,55,1],[54,2,55,2],[54,3,55,3],[54,4,55,4],[54,5,55,5],[54,6,55,6],[52,6,53,6],[52,7,53,7],[52,8,53,8],[52,9,53,9],[52,10,53,10],[52,11,53,11],[52,0,53,0],[52,1,53,1],[52,2,53,2],[56,0,57,0],[56,1,57,1],[56,2,57,2],[56,3,57,3],[56,4,57,4],[56,5,57,5],[56,6,57,6],[56,7,57,7],[54,7,55,7],[58,0,59,0],[58,1,59,1],[58,2,59,2],[58,3,59,3],[58,4,59,4],[58,5,59,5],[58,6,59,6],[58,7,59,7],[58,8,59,8],[60,5,61,5],[58,9,59,9],[58,10,59,10],[58,11,59,11],[58,12,59,12],[58,13,59,13],[58,14,59,14],[56,14,57,14],[56,8,57,8],[56,9,57,9],[56,10,57,10],[56,11,57,11],[56,12,57,12],[56,13,57,13],[62,10,63,10],[62,11,63,11],[62,12,63,12],[60,12,61,12],[60,13,61,13],[60,14,61,14],[62,0,63,0],[62,1,63,1],[62,2,63,2],[62,3,63,3],[62,4,63,4],[62,5,63,5],[62,6,63,6],[60,6,61,6],[60,7,61,7],[60,8,61,8],[60,9,61,9],[60,10,61,10],[60,11,61,11],[60,0,61,0],[60,1,61,1],[60,2,61,2],[60,3,61,3],[60,4,61,4],[64,2,65,2],[64,3,65,3],[64,4,65,4],[64,5,65,5],[64,6,65,6],[64,7,65,7],[62,7,63,7],[62,8,63,8],[62,9,63,9],[66,9,67,9],[66,10,67,10],[66,11,67,11],[66,12,67,12],[66,13,67,13],[66,14,67,14],[64,14,65,14],[66,0,67,0],[66,1,67,1],[66,2,67,2],[66,3,67,3],[66,4,67,4],[66,5,67,5],[66,6,67,6],[66,7,67,7],[66,8,67,8],[64,8,65,8],[64,9,65,9],[64,10,65,10],[64,11,65,11],[64,12,65,12],[64,13,65,13],[64,0,65,0],[64,1,65,1],[70,0,71,0],[70,1,71,1],[70,2,71,2],[70,3,71,3],[70,4,71,4],[70,5,71,5],[70,6,71,6],[68,6,69,6],[68,7,69,7],[68,0,69,0],[68,1,69,1],[68,2,69,2],[68,3,69,3],[68,4,69,4],[68,5,69,5],[70,7,71,7],[70,8,71,8],[70,9,71,9],[70,10,71,10],[70,11,71,11],[70,12,71,12],[68,12,69,12],[68,13,69,13],[68,14,69,14],[68,8,69,8],[68,9,69,9],[68,10,69,10],[68,11,69,11],[72,12,73,12],[72,13,73,13],[72,0,73,0],[72,1,73,1],[72,2,73,2],[72,3,73,3],[72,4,73,4],[72,5,73,5],[72,6,73,6],[72,7,73,7],[74,0,75,0],[74,1,75,1],[74,2,75,2],[74,3,75,3],[74,4,75,4],[74,5,75,5],[74,6,75,6],[74,7,75,7],[74,8,75,8],[78,0,79,0],[78,1,79,1],[78,2,79,2],[78,3,79,3],[78,4,79,4],[78,5,79,5],[78,6,79,6],[76,6,77,6],[76,7,77,7],[76,0,77,0],[76,1,77,1],[76,2,77,2],[76,3,77,3],[76,4,77,4],[76,5,77,5],[78,7,79,7],[30,13,31,13],[78,8,79,8],[78,9,79,9],[78,10,79,10],[78,11,79,11],[78,12,79,12],[76,12,77,12],[76,13,77,13],[76,14,77,14],[76,8,77,8],[76,9,77,9],[76,10,77,10],[76,11,77,11],[74,9,75,9],[74,10,75,10],[74,11,75,11],[74,12,75,12],[74,13,75,13],[74,14,75,14],[72,14,73,14],[72,8,73,8],[72,9,73,9],[72,10,73,10],[72,11,73,11],[28,15,29,15],[30,15,31,15],[32,15,33,15],[34,15,35,15],[36,15,37,15],[78,13,79,13],[78,14,79,14],[10,15,11,15],[12,15,13,15],[14,15,15,15],[16,15,17,15],[18,15,19,15],[20,15,21,15],[22,15,23,15],[24,15,25,15],[70,13,71,13],[70,14,71,14],[62,13,63,13],[62,14,63,14],[54,13,55,13],[54,14,55,14],[48,14,49,14],[38,13,39,13],[38,14,39,14],[0,21,0,22],[74,15,75,15],[76,15,77,15],[78,15,79,15],[8,15,9,15],[62,15,63,15],[64,15,65,15],[66,15,67,15],[68,15,69,15],[70,15,71,15],[72,15,73,15],[50,15,51,15],[52,15,53,15],[54,15,55,15],[56,15,57,15],[58,15,59,15],[60,15,61,15],[38,15,39,15],[40,15,41,15],[42,15,43,15],[44,15,45,15],[46,15,47,15],[48,15,49,15],[26,15,27,15],[0,23,0,24],[0,25,0,26],[0,27,0,28],[0,30,2,31],[1,5,2,6],[1,7,2,8],[1,9,2,10],[1,11,2,12],[1,13,2,14],[1,15,2,16],[1,17,2,18],[1,19,2,20],[1,21,2,22],[1,23,2,24],[1,25,2,26],[1,27,2,28],[0,5,0,6],[0,7,0,8],[0,9,0,10],[0,11,0,12],[0,13,0,14],[0,15,0,16],[0,17,0,18],[0,19,0,20]]}
[null,null,null,null,null,{"$f":"'1'!C2","v":"janvier"},null,{"$f":"'2'!C2","v":"février"},null,{"$f":"'3'!C2","v":"mars"},null,{"$f":"'4'!C2","v":"avril"},null,{"$f":"'5'!C2","v":"mai"},null,{"$f":"'6'!C2","v":"juin"},null,{"$f":"'7'!C2","v":"juillet"},null,{"$f":"'8'!C2","v":"août"},null,{"$f":"'9'!C2","v":"septembre"},null,{"$f":"'10'!C2","v":"octobre"},null,{"$f":"'11'!C2","v":"novembre"},null,{"$f":"'12'!C2","v":"décembre"}]
[]
["ANNEE"]
[]
[]
[]
[]
[]
["CONGES",{"$f":"F1","v":"janvier"},{"$f":"H1","v":"février"},{"$f":"J1","v":"mars"},{"$f":"L1","v":"avril"},{"$f":"N1","v":"mai"},{"$f":"P1","v":"juin"},{"$f":"R1","v":"juillet"},{"$f":"T1","v":"août"},{"$f":"V1","v":"septembre"},{"$f":"X1","v":"octobre"},{"$f":"Z1","v":"novembre"},{"$f":"AB1","v":"décembre"}]
[]
[{"$f":"'renseignement agent'!A8","v":0},{"$f":"SUMIF('1'!$A$15:'1'!$A$73,A11,'1'!$AK$15:'1'!$AK$73)","v":0},{"$f":"SUMIF('2'!$A$15:'2'!$A$73,A11,'2'!$AK$15:'2'!$AK$73)","v":0},{"$f":"SUMIF('3'!$A$15:'3'!$A$73,A11,'3'!$AK$15:'3'!$AK$73)","v":0},{"$f":"SUMIF('4'!$A$15:'4'!$A$73,A11,'4'!$AK$15:'4'!$AK$73)","v":0},{"$f":"SUMIF('5'!$A$15:'5'!$A$73,A11,'5'!$AK$15:'5'!$AK$73)","v":0},{"$f":"SUMIF('6'!$A$15:'6'!$A$73,A11,'6'!$AK$15:'6'!$AK$73)","v":0},{"$f":"SUMIF('7'!$A$15:'7'!$A$73,A11,'7'!$AK$15:'7'!$AK$73)","v":0},{"$f":"SUMIF('8'!$A$15:'8'!$A$73,A11,'8'!$AK$15:'8'!$AK$73)","v":0},{"$f":"SUMIF('9'!$A$15:'9'!$A$73,A11,'9'!$AK$15:'9'!$AK$73)","v":0},{"$f":"SUMIF('10'!$A$15:'10'!$A$73,A11,'10'!$AK$15:'10'!$AK$73)","v":0},{"$f":"SUMIF('11'!$A$15:'11'!$A$73,A11,'11'!$AK$15:'11'!$AK$73)","v":0},{"$f":"SUMIF('12'!$A$15:'12'!$A$73,A11,'12'!$AK$15:'12'!$AK$73)","v":0},{"$f":"SUM(B11:M12)","v":0},{"$f":"P11-N11","v":0},{"$f":"SUMIF('renseignement agent'!$A$8:'renseignement agent'!$A$96,A11,'renseignement agent'!$D$8:'renseignement agent'!$D$96)","v":0}]
[]
[{"$f":"'renseignement agent'!A10","v":0},{"$f":"SUMIF('1'!$A$15:'1'!$A$73,A13,'1'!$AK$15:'1'!$AK$73)","v":0},{"$f":"SUMIF('2'!$A$15:'2'!$A$73,A13,'2'!$AK$15:'2'!$AK$73)","v":0},{"$f":"SUMIF('3'!$A$15:'3'!$A$73,A13,'3'!$AK$15:'3'!$AK$73)","v":0},{"$f":"SUMIF('4'!$A$15:'4'!$A$73,A13,'4'!$AK$15:'4'!$AK$73)","v":0},{"$f":"SUMIF('5'!$A$15:'5'!$A$73,A13,'5'!$AK$15:'5'!$AK$73)","v":0},{"$f":"SUMIF('6'!$A$15:'6'!$A$73,A13,'6'!$AK$15:'6'!$AK$73)","v":0},{"$f":"SUMIF('7'!$A$15:'7'!$A$73,A13,'7'!$AK$15:'7'!$AK$73)","v":0},{"$f":"SUMIF('8'!$A$15:'8'!$A$73,A13,'8'!$AK$15:'8'!$AK$73)","v":0},{"$f":"SUMIF('9'!$A$15:'9'!$A$73,A13,'9'!$AK$15:'9'!$AK$73)","v":0},{"$f":"SUMIF('10'!$A$15:'10'!$A$73,A13,'10'!$AK$15:'10'!$AK$73)","v":0},{"$f":"SUMIF('11'!$A$15:'11'!$A$73,A13,'11'!$AK$15:'11'!$AK$73)","v":0},{"$f":"SUMIF('12'!$A$15:'12'!$A$73,A13,'12'!$AK$15:'12'!$AK$73)","v":0},{"$f":"SUM(B13:M14)","v":0},{"$f":"P13-N13","v":0},{"$f":"SUMIF('renseignement agent'!$A$8:'renseignement agent'!$A$96,A13,'renseignement agent'!$D$8:'renseignement agent'!$D$96)","v":0}]
[]
[{"$f":"'renseignement agent'!A12","v":0},{"$f":"SUMIF('1'!$A$15:'1'!$A$73,A15,'1'!$AK$15:'1'!$AK$73)","v":0},{"$f":"SUMIF('2'!$A$15:'2'!$A$73,A15,'2'!$AK$15:'2'!$AK$73)","v":0},{"$f":"SUMIF('3'!$A$15:'3'!$A$73,A15,'3'!$AK$15:'3'!$AK$73)","v":0},{"$f":"SUMIF('4'!$A$15:'4'!$A$73,A15,'4'!$AK$15:'4'!$AK$73)","v":0},{"$f":"SUMIF('5'!$A$15:'5'!$A$73,A15,'5'!$AK$15:'5'!$AK$73)","v":0},{"$f":"SUMIF('6'!$A$15:'6'!$A$73,A15,'6'!$AK$15:'6'!$AK$73)","v":0},{"$f":"SUMIF('7'!$A$15:'7'!$A$73,A15,'7'!$AK$15:'7'!$AK$73)","v":0},{"$f":"SUMIF('8'!$A$15:'8'!$A$73,A15,'8'!$AK$15:'8'!$AK$73)","v":0},{"$f":"SUMIF('9'!$A$15:'9'!$A$73,A15,'9'!$AK$15:'9'!$AK$73)","v":0},{"$f":"SUMIF('10'!$A$15:'10'!$A$73,A15,'10'!$AK$15:'10'!$AK$73)","v":0},{"$f":"SUMIF('11'!$A$15:'11'!$A$73,A15,'11'!$AK$15:'11'!$AK$73)","v":0},{"$f":"SUMIF('12'!$A$15:'12'!$A$73,A15,'12'!$AK$15:'12'!$AK$73)","v":0},{"$f":"SUM(B15:M16)","v":0},{"$f":"P15-N15","v":0},{"$f":"SUMIF('renseignement agent'!$A$8:'renseignement agent'!$A$96,A15,'renseignement agent'!$D$8:'renseignement agent'!$D$96)","v":0}]
[]
[{"$f":"'renseignement agent'!A14","v":0},{"$f":"SUMIF('1'!$A$15:'1'!$A$73,A17,'1'!$AK$15:'1'!$AK$73)","v":0},{"$f":"SUMIF('2'!$A$15:'2'!$A$73,A17,'2'!$AK$15:'2'!$AK$73)","v":0},{"$f":"SUMIF('3'!$A$15:'3'!$A$73,A17,'3'!$AK$15:'3'!$AK$73)","v":0},{"$f":"SUMIF('4'!$A$15:'4'!$A$73,A17,'4'!$AK$15:'4'!$AK$73)","v":0},{"$f":"SUMIF('5'!$A$15:'5'!$A$73,A17,'5'!$AK$15:'5'!$AK$73)","v":0},{"$f":"SUMIF('6'!$A$15:'6'!$A$73,A17,'6'!$AK$15:'6'!$AK$73)","v":0},{"$f":"SUMIF('7'!$A$15:'7'!$A$73,A17,'7'!$AK$15:'7'!$AK$73)","v":0},{"$f":"SUMIF('8'!$A$15:'8'!$A$73,A17,'8'!$AK$15:'8'!$AK$73)","v":0},{"$f":"SUMIF('9'!$A$15:'9'!$A$73,A17,'9'!$AK$15:'9'!$AK$73)","v":0},{"$f":"SUMIF('10'!$A$15:'10'!$A$73,A17,'10'!$AK$15:'10'!$AK$73)","v":0},{"$f":"SUMIF('11'!$A$15:'11'!$A$73,A17,'11'!$AK$15:'11'!$AK$73)","v":0},{"$f":"SUMIF('12'!$A$15:'12'!$A$73,A17,'12'!$AK$15:'12'!$AK$73)","v":0},{"$f":"SUM(B17:M18)","v":0},{"$f":"P17-N17","v":0},{"$f":"SUMIF('renseignement agent'!$A$8:'renseignement agent'!$A$96,A17,'renseignement agent'!$D$8:'renseignement agent'!$D$96)","v":0}]
[]
[null,{"$f":"SUMIF('1'!$A$15:'1'!$A$73,A19,'1'!$AK$15:'1'!$AK$73)","v":0},{"$f":"SUMIF('2'!$A$15:'2'!$A$73,A19,'2'!$AK$15:'2'!$AK$73)","v":0},{"$f":"SUMIF('3'!$A$15:'3'!$A$73,A19,'3'!$AK$15:'3'!$AK$73)","v":0},{"$f":"SUMIF('4'!$A$15:'4'!$A$73,A19,'4'!$AK$15:'4'!$AK$73)","v":0},{"$f":"SUMIF('5'!$A$15:'5'!$A$73,A19,'5'!$AK$15:'5'!$AK$73)","v":0},{"$f":"SUMIF('6'!$A$15:'6'!$A$73,A19,'6'!$AK$15:'6'!$AK$73)","v":0},{"$f":"SUMIF('7'!$A$15:'7'!$A$73,A19,'7'!$AK$15:'7'!$AK$73)","v":0},{"$f":"SUMIF('8'!$A$15:'8'!$A$73,A19,'8'!$AK$15:'8'!$AK$73)","v":0},{"$f":"SUMIF('9'!$A$15:'9'!$A$73,A19,'9'!$AK$15:'9'!$AK$73)","v":0},{"$f":"SUMIF('10'!$A$15:'10'!$A$73,A19,'10'!$AK$15:'10'!$AK$73)","v":0},{"$f":"SUMIF('11'!$A$15:'11'!$A$73,A19,'11'!$AK$15:'11'!$AK$73)","v":0},{"$f":"SUMIF('12'!$A$15:'12'!$A$73,A19,'12'!$AK$15:'12'!$AK$73)","v":0},{"$f":"SUM(B19:M20)","v":0},{"$f":"P19-N19","v":0},{"$f":"SUMIF('renseignement agent'!$A$8:'renseignement agent'!$A$96,A19,'renseignement agent'!$D$8:'renseignement agent'!$D$96)","v":0}]
[]
[{"$f":"'renseignement agent'!A18","v":0},{"$f":"SUMIF('1'!$A$15:'1'!$A$73,A21,'1'!$AK$15:'1'!$AK$73)","v":0},{"$f":"SUMIF('2'!$A$15:'2'!$A$73,A21,'2'!$AK$15:'2'!$AK$73)","v":0},{"$f":"SUMIF('3'!$A$15:'3'!$A$73,A21,'3'!$AK$15:'3'!$AK$73)","v":0},{"$f":"SUMIF('4'!$A$15:'4'!$A$73,A21,'4'!$AK$15:'4'!$AK$73)","v":0},{"$f":"SUMIF('5'!$A$15:'5'!$A$73,A21,'5'!$AK$15:'5'!$AK$73)","v":0},{"$f":"SUMIF('6'!$A$15:'6'!$A$73,A21,'6'!$AK$15:'6'!$AK$73)","v":0},{"$f":"SUMIF('7'!$A$15:'7'!$A$73,A21,'7'!$AK$15:'7'!$AK$73)","v":0},{"$f":"SUMIF('8'!$A$15:'8'!$A$73,A21,'8'!$AK$15:'8'!$AK$73)","v":0},{"$f":"SUMIF('9'!$A$15:'9'!$A$73,A21,'9'!$AK$15:'9'!$AK$73)","v":0},{"$f":"SUMIF('10'!$A$15:'10'!$A$73,A21,'10'!$AK$15:'10'!$AK$73)","v":0},{"$f":"SUMIF('11'!$A$15:'11'!$A$73,A21,'11'!$AK$15:'11'!$AK$73)","v":0},{"$f":"SUMIF('12'!$A$15:'12'!$A$73,A21,'12'!$AK$15:'12'!$AK$73)","v":0},{"$f":"SUM(B21:M22)","v":0},{"$f":"P21-N21","v":0},{"$f":"SUMIF('renseignement agent'!$A$8:'renseignement agent'!$A$96,A21,'renseignement agent'!$D$8:'renseignement agent'!$D$96)","v":0}]
[]
[{"$f":"'renseignement agent'!A20","v":0},{"$f":"SUMIF('1'!$A$15:'1'!$A$73,A23,'1'!$AK$15:'1'!$AK$73)","v":0},{"$f":"SUMIF('2'!$A$15:'2'!$A$73,A23,'2'!$AK$15:'2'!$AK$73)","v":0},{"$f":"SUMIF('3'!$A$15:'3'!$A$73,A23,'3'!$AK$15:'3'!$AK$73)","v":0},{"$f":"SUMIF('4'!$A$15:'4'!$A$73,A23,'4'!$AK$15:'4'!$AK$73)","v":0},{"$f":"SUMIF('5'!$A$15:'5'!$A$73,A23,'5'!$AK$15:'5'!$AK$73)","v":0},{"$f":"SUMIF('6'!$A$15:'6'!$A$73,A23,'6'!$AK$15:'6'!$AK$73)","v":0},{"$f":"SUMIF('7'!$A$15:'7'!$A$73,A23,'7'!$AK$15:'7'!$AK$73)","v":0},{"$f":"SUMIF('8'!$A$15:'8'!$A$73,A23,'8'!$AK$15:'8'!$AK$73)","v":0},{"$f":"SUMIF('9'!$A$15:'9'!$A$73,A23,'9'!$AK$15:'9'!$AK$73)","v":0},{"$f":"SUMIF('10'!$A$15:'10'!$A$73,A23,'10'!$AK$15:'10'!$AK$73)","v":0},{"$f":"SUMIF('11'!$A$15:'11'!$A$73,A23,'11'!$AK$15:'11'!$AK$73)","v":0},{"$f":"SUMIF('12'!$A$15:'12'!$A$73,A23,'12'!$AK$15:'12'!$AK$73)","v":0},{"$f":"SUM(B23:M24)","v":0},{"$f":"P23-N23","v":0},{"$f":"SUMIF('renseignement agent'!$A$8:'renseignement agent'!$A$96,A23,'renseignement agent'!$D$8:'renseignement agent'!$D$96)","v":0}]
[]
[{"$f":"'renseignement agent'!A22","v":0},{"$f":"SUMIF('1'!$A$15:'1'!$A$73,A25,'1'!$AK$15:'1'!$AK$73)","v":0},{"$f":"SUMIF('2'!$A$15:'2'!$A$73,A25,'2'!$AK$15:'2'!$AK$73)","v":0},{"$f":"SUMIF('3'!$A$15:'3'!$A$73,A25,'3'!$AK$15:'3'!$AK$73)","v":0},{"$f":"SUMIF('4'!$A$15:'4'!$A$73,A25,'4'!$AK$15:'4'!$AK$73)","v":0},{"$f":"SUMIF('5'!$A$15:'5'!$A$73,A25,'5'!$AK$15:'5'!$AK$73)","v":0},{"$f":"SUMIF('6'!$A$15:'6'!$A$73,A25,'6'!$AK$15:'6'!$AK$73)","v":0},{"$f":"SUMIF('7'!$A$15:'7'!$A$73,A25,'7'!$AK$15:'7'!$AK$73)","v":0},{"$f":"SUMIF('8'!$A$15:'8'!$A$73,A25,'8'!$AK$15:'8'!$AK$73)","v":0},{"$f":"SUMIF('9'!$A$15:'9'!$A$73,A25,'9'!$AK$15:'9'!$AK$73)","v":0},{"$f":"SUMIF('10'!$A$15:'10'!$A$73,A25,'10'!$AK$15:'10'!$AK$73)","v":0},{"$f":"SUMIF('11'!$A$15:'11'!$A$73,A25,'11'!$AK$15:'11'!$AK$73)","v":0},{"$f":"SUMIF('12'!$A$15:'12'!$A$73,A25,'12'!$AK$15:'12'!$AK$73)","v":0},{"$f":"SUM(B25:M26)","v":0},{"$f":"P25-N25","v":0},{"$f":"SUMIF('renseignement agent'!$A$8:'renseignement agent'!$A$96,A25,'renseignement agent'!$D$8:'renseignement agent'!$D$96)","v":0}]
[]
[{"$f":"'renseignement agent'!A24","v":0},{"$f":"SUMIF('1'!$A$15:'1'!$A$73,A27,'1'!$AK$15:'1'!$AK$73)","v":0},{"$f":"SUMIF('2'!$A$15:'2'!$A$73,A27,'2'!$AK$15:'2'!$AK$73)","v":0},{"$f":"SUMIF('3'!$A$15:'3'!$A$73,A27,'3'!$AK$15:'3'!$AK$73)","v":0},{"$f":"SUMIF('4'!$A$15:'4'!$A$73,A27,'4'!$AK$15:'4'!$AK$73)","v":0},{"$f":"SUMIF('5'!$A$15:'5'!$A$73,A27,'5'!$AK$15:'5'!$AK$73)","v":0},{"$f":"SUMIF('6'!$A$15:'6'!$A$73,A27,'6'!$AK$15:'6'!$AK$73)","v":0},{"$f":"SUMIF('7'!$A$15:'7'!$A$73,A27,'7'!$AK$15:'7'!$AK$73)","v":0},{"$f":"SUMIF('8'!$A$15:'8'!$A$73,A27,'8'!$AK$15:'8'!$AK$73)","v":0},{"$f":"SUMIF('9'!$A$15:'9'!$A$73,A27,'9'!$AK$15:'9'!$AK$73)","v":0},{"$f":"SUMIF('10'!$A$15:'10'!$A$73,A27,'10'!$AK$15:'10'!$AK$73)","v":0},{"$f":"SUMIF('11'!$A$15:'11'!$A$73,A27,'11'!$AK$15:'11'!$AK$73)","v":0},{"$f":"SUMIF('12'!$A$15:'12'!$A$73,A27,'12'!$AK$15:'12'!$AK$73)","v":0},{"$f":"SUM(B27:M28)","v":0},{"$f":"P27-N27","v":0},{"$f":"SUMIF('renseignement agent'!$A$8:'renseignement agent'!$A$96,A27,'renseignement agent'!$D$8:'renseignement agent'!$D$96)","v":0}]
[]
[{"$f":"'renseignement agent'!A26","v":0},{"$f":"SUMIF('1'!$A$15:'1'!$A$73,A29,'1'!$AK$15:'1'!$AK$73)","v":0},{"$f":"SUMIF('2'!$A$15:'2'!$A$73,A29,'2'!$AK$15:'2'!$AK$73)","v":0},{"$f":"SUMIF('3'!$A$15:'3'!$A$73,A29,'3'!$AK$15:'3'!$AK$73)","v":0},{"$f":"SUMIF('4'!$A$15:'4'!$A$73,A29,'4'!$AK$15:'4'!$AK$73)","v":0},{"$f":"SUMIF('5'!$A$15:'5'!$A$73,A29,'5'!$AK$15:'5'!$AK$73)","v":0},{"$f":"SUMIF('6'!$A$15:'6'!$A$73,A29,'6'!$AK$15:'6'!$AK$73)","v":0},{"$f":"SUMIF('7'!$A$15:'7'!$A$73,A29,'7'!$AK$15:'7'!$AK$73)","v":0},{"$f":"SUMIF('8'!$A$15:'8'!$A$73,A29,'8'!$AK$15:'8'!$AK$73)","v":0},{"$f":"SUMIF('9'!$A$15:'9'!$A$73,A29,'9'!$AK$15:'9'!$AK$73)","v":0},{"$f":"SUMIF('10'!$A$15:'10'!$A$73,A29,'10'!$AK$15:'10'!$AK$73)","v":0},{"$f":"SUMIF('11'!$A$15:'11'!$A$73,A29,'11'!$AK$15:'11'!$AK$73)","v":0},{"$f":"SUMIF('12'!$A$15:'12'!$A$73,A29,'12'!$AK$15:'12'!$AK$73)","v":0},{"$f":"SUM(B29:M30)","v":0},{"$f":"P29-N29","v":0},{"$f":"SUMIF('renseignement agent'!$A$8:'renseignement agent'!$A$96,A29,'renseignement agent'!$D$8:'renseignement agent'!$D$96)","v":0}]
[]
[{"$f":"'renseignement agent'!A28","v":0},{"$f":"SUMIF('1'!$A$15:'1'!$A$73,A31,'1'!$AK$15:'1'!$AK$73)","v":0},{"$f":"SUMIF('2'!$A$15:'2'!$A$73,A31,'2'!$AK$15:'2'!$AK$73)","v":0},{"$f":"SUMIF('3'!$A$15:'3'!$A$73,A31,'3'!$AK$15:'3'!$AK$73)","v":0},{"$f":"SUMIF('4'!$A$15:'4'!$A$73,A31,'4'!$AK$15:'4'!$AK$73)","v":0},{"$f":"SUMIF('5'!$A$15:'5'!$A$73,A31,'5'!$AK$15:'5'!$AK$73)","v":0},{"$f":"SUMIF('6'!$A$15:'6'!$A$73,A31,'6'!$AK$15:'6'!$AK$73)","v":0},{"$f":"SUMIF('7'!$A$15:'7'!$A$73,A31,'7'!$AK$15:'7'!$AK$73)","v":0},{"$f":"SUMIF('8'!$A$15:'8'!$A$73,A31,'8'!$AK$15:'8'!$AK$73)","v":0},{"$f":"SUMIF('9'!$A$15:'9'!$A$73,A31,'9'!$AK$15:'9'!$AK$73)","v":0},{"$f":"SUMIF('10'!$A$15:'10'!$A$73,A31,'10'!$AK$15:'10'!$AK$73)","v":0},{"$f":"SUMIF('11'!$A$15:'11'!$A$73,A31,'11'!$AK$15:'11'!$AK$73)","v":0},{"$f":"SUMIF('12'!$A$15:'12'!$A$73,A31,'12'!$AK$15:'12'!$AK$73)","v":0},{"$f":"SUM(B31:M32)","v":0},{"$f":"P31-N31","v":0},{"$f":"SUMIF('renseignement agent'!$A$8:'renseignement agent'!$A$96,A31,'renseignement agent'!$D$8:'renseignement agent'!$D$96)","v":0}]
[]
[{"$f":"'renseignement agent'!A30","v":0},{"$f":"SUMIF('1'!$A$15:'1'!$A$73,A33,'1'!$AK$15:'1'!$AK$73)","v":0},{"$f":"SUMIF('2'!$A$15:'2'!$A$73,A33,'2'!$AK$15:'2'!$AK$73)","v":0},{"$f":"SUMIF('3'!$A$15:'3'!$A$73,A33,'3'!$AK$15:'3'!$AK$73)","v":0},{"$f":"SUMIF('4'!$A$15:'4'!$A$73,A33,'4'!$AK$15:'4'!$AK$73)","v":0},{"$f":"SUMIF('5'!$A$15:'5'!$A$73,A33,'5'!$AK$15:'5'!$AK$73)","v":0},{"$f":"SUMIF('6'!$A$15:'6'!$A$73,A33,'6'!$AK$15:'6'!$AK$73)","v":0},{"$f":"SUMIF('7'!$A$15:'7'!$A$73,A33,'7'!$AK$15:'7'!$AK$73)","v":0},{"$f":"SUMIF('8'!$A$15:'8'!$A$73,A33,'8'!$AK$15:'8'!$AK$73)","v":0},{"$f":"SUMIF('9'!$A$15:'9'!$A$73,A33,'9'!$AK$15:'9'!$AK$73)","v":0},{"$f":"SUMIF('10'!$A$15:'10'!$A$73,A33,'10'!$AK$15:'10'!$AK$73)","v":0},{"$f":"SUMIF('11'!$A$15:'11'!$A$73,A33,'11'!$AK$15:'11'!$AK$73)","v":0},{"$f":"SUMIF('12'!$A$15:'12'!$A$73,A33,'12'!$AK$15:'12'!$AK$73)","v":0},{"$f":"SUM(B33:M34)","v":0},{"$f":"P33-N33","v":0},{"$f":"SUMIF('renseignement agent'!$A$8:'renseignement agent'!$A$96,A33,'renseignement agent'!$D$8:'renseignement agent'!$D$96)","v":0}]
[]
[{"$f":"'renseignement agent'!A32","v":0},{"$f":"SUMIF('1'!$A$15:'1'!$A$73,A35,'1'!$AK$15:'1'!$AK$73)","v":0},{"$f":"SUMIF('2'!$A$15:'2'!$A$73,A35,'2'!$AK$15:'2'!$AK$73)","v":0},{"$f":"SUMIF('3'!$A$15:'3'!$A$73,A35,'3'!$AK$15:'3'!$AK$73)","v":0},{"$f":"SUMIF('4'!$A$15:'4'!$A$73,A35,'4'!$AK$15:'4'!$AK$73)","v":0},{"$f":"SUMIF('5'!$A$15:'5'!$A$73,A35,'5'!$AK$15:'5'!$AK$73)","v":0},{"$f":"SUMIF('6'!$A$15:'6'!$A$73,A35,'6'!$AK$15:'6'!$AK$73)","v":0},{"$f":"SUMIF('7'!$A$15:'7'!$A$73,A35,'7'!$AK$15:'7'!$AK$73)","v":0},{"$f":"SUMIF('8'!$A$15:'8'!$A$73,A35,'8'!$AK$15:'8'!$AK$73)","v":0},{"$f":"SUMIF('9'!$A$15:'9'!$A$73,A35,'9'!$AK$15:'9'!$AK$73)","v":0},{"$f":"SUMIF('10'!$A$15:'10'!$A$73,A35,'10'!$AK$15:'10'!$AK$73)","v":0},{"$f":"SUMIF('11'!$A$15:'11'!$A$73,A35,'11'!$AK$15:'11'!$AK$73)","v":0},{"$f":"SUMIF('12'!$A$15:'12'!$A$73,A35,'12'!$AK$15:'12'!$AK$73)","v":0},{"$f":"SUM(B35:M36)","v":0},{"$f":"P35-N35","v":0},{"$f":"SUMIF('renseignement agent'!$A$8:'renseignement agent'!$A$96,A35,'renseignement agent'!$D$8:'renseignement agent'!$D$96)","v":0}]
[]
[{"$f":"'renseignement agent'!A34","v":0},{"$f":"SUMIF('1'!$A$15:'1'!$A$73,A37,'1'!$AK$15:'1'!$AK$73)","v":0},{"$f":"SUMIF('2'!$A$15:'2'!$A$73,A37,'2'!$AK$15:'2'!$AK$73)","v":0},{"$f":"SUMIF('3'!$A$15:'3'!$A$73,A37,'3'!$AK$15:'3'!$AK$73)","v":0},{"$f":"SUMIF('4'!$A$15:'4'!$A$73,A37,'4'!$AK$15:'4'!$AK$73)","v":0},{"$f":"SUMIF('5'!$A$15:'5'!$A$73,A37,'5'!$AK$15:'5'!$AK$73)","v":0},{"$f":"SUMIF('6'!$A$15:'6'!$A$73,A37,'6'!$AK$15:'6'!$AK$73)","v":0},{"$f":"SUMIF('7'!$A$15:'7'!$A$73,A37,'7'!$AK$15:'7'!$AK$73)","v":0},{"$f":"SUMIF('8'!$A$15:'8'!$A$73,A37,'8'!$AK$15:'8'!$AK$73)","v":0},{"$f":"SUMIF('9'!$A$15:'9'!$A$73,A37,'9'!$AK$15:'9'!$AK$73)","v":0},{"$f":"SUMIF('10'!$A$15:'10'!$A$73,A37,'10'!$AK$15:'10'!$AK$73)","v":0},{"$f":"SUMIF('11'!$A$15:'11'!$A$73,A37,'11'!$AK$15:'11'!$AK$73)","v":0},{"$f":"SUMIF('12'!$A$15:'12'!$A$73,A37,'12'!$AK$15:'12'!$AK$73)","v":0},{"$f":"SUM(B37:M38)","v":0},{"$f":"P37-N37","v":0},{"$f":"SUMIF('renseignement agent'!$A$8:'renseignement agent'!$A$96,A37,'renseignement agent'!$D$8:'renseignement agent'!$D$96)","v":0}]
[]
[{"$f":"'renseignement agent'!A36","v":0},{"$f":"SUMIF('1'!$A$15:'1'!$A$73,A39,'1'!$AK$15:'1'!$AK$73)","v":0},{"$f":"SUMIF('2'!$A$15:'2'!$A$73,A39,'2'!$AK$15:'2'!$AK$73)","v":0},{"$f":"SUMIF('3'!$A$15:'3'!$A$73,A39,'3'!$AK$15:'3'!$AK$73)","v":0},{"$f":"SUMIF('4'!$A$15:'4'!$A$73,A39,'4'!$AK$15:'4'!$AK$73)","v":0},{"$f":"SUMIF('5'!$A$15:'5'!$A$73,A39,'5'!$AK$15:'5'!$AK$73)","v":0},{"$f":"SUMIF('6'!$A$15:'6'!$A$73,A39,'6'!$AK$15:'6'!$AK$73)","v":0},{"$f":"SUMIF('7'!$A$15:'7'!$A$73,A39,'7'!$AK$15:'7'!$AK$73)","v":0},{"$f":"SUMIF('8'!$A$15:'8'!$A$73,A39,'8'!$AK$15:'8'!$AK$73)","v":0},{"$f":"SUMIF('9'!$A$15:'9'!$A$73,A39,'9'!$AK$15:'9'!$AK$73)","v":0},{"$f":"SUMIF('10'!$A$15:'10'!$A$73,A39,'10'!$AK$15:'10'!$AK$73)","v":0},{"$f":"SUMIF('11'!$A$15:'11'!$A$73,A39,'11'!$AK$15:'11'!$AK$73)","v":0},{"$f":"SUMIF('12'!$A$15:'12'!$A$73,A39,'12'!$AK$15:'12'!$AK$73)","v":0},{"$f":"SUM(B39:M40)","v":0},{"$f":"P39-N39","v":0},{"$f":"SUMIF('renseignement agent'!$A$8:'renseignement agent'!$A$96,A39,'renseignement agent'!$D$8:'renseignement agent'!$D$96)","v":0}]
[]
[{"$f":"'renseignement agent'!A38","v":0},{"$f":"SUMIF('1'!$A$15:'1'!$A$73,A41,'1'!$AK$15:'1'!$AK$73)","v":0},{"$f":"SUMIF('2'!$A$15:'2'!$A$73,A41,'2'!$AK$15:'2'!$AK$73)","v":0},{"$f":"SUMIF('3'!$A$15:'3'!$A$73,A41,'3'!$AK$15:'3'!$AK$73)","v":0},{"$f":"SUMIF('4'!$A$15:'4'!$A$73,A41,'4'!$AK$15:'4'!$AK$73)","v":0},{"$f":"SUMIF('5'!$A$15:'5'!$A$73,A41,'5'!$AK$15:'5'!$AK$73)","v":0},{"$f":"SUMIF('6'!$A$15:'6'!$A$73,A41,'6'!$AK$15:'6'!$AK$73)","v":0},{"$f":"SUMIF('7'!$A$15:'7'!$A$73,A41,'7'!$AK$15:'7'!$AK$73)","v":0},{"$f":"SUMIF('8'!$A$15:'8'!$A$73,A41,'8'!$AK$15:'8'!$AK$73)","v":0},{"$f":"SUMIF('9'!$A$15:'9'!$A$73,A41,'9'!$AK$15:'9'!$AK$73)","v":0},{"$f":"SUMIF('10'!$A$15:'10'!$A$73,A41,'10'!$AK$15:'10'!$AK$73)","v":0},{"$f":"SUMIF('11'!$A$15:'11'!$A$73,A41,'11'!$AK$15:'11'!$AK$73)","v":0},{"$f":"SUMIF('12'!$A$15:'12'!$A$73,A41,'12'!$AK$15:'12'!$AK$73)","v":0},{"$f":"SUM(B41:M42)","v":0},{"$f":"P41-N41","v":0},{"$f":"SUMIF('renseignement agent'!$A$8:'renseignement agent'!$A$96,A41,'renseignement agent'!$D$8:'renseignement agent'!$D$96)","v":0}]
[]
[{"$f":"'renseignement agent'!A40","v":0},{"$f":"SUMIF('1'!$A$15:'1'!$A$73,A43,'1'!$AK$15:'1'!$AK$73)","v":0},{"$f":"SUMIF('2'!$A$15:'2'!$A$73,A43,'2'!$AK$15:'2'!$AK$73)","v":0},{"$f":"SUMIF('3'!$A$15:'3'!$A$73,A43,'3'!$AK$15:'3'!$AK$73)","v":0},{"$f":"SUMIF('4'!$A$15:'4'!$A$73,A43,'4'!$AK$15:'4'!$AK$73)","v":0},{"$f":"SUMIF('5'!$A$15:'5'!$A$73,A43,'5'!$AK$15:'5'!$AK$73)","v":0},{"$f":"SUMIF('6'!$A$15:'6'!$A$73,A43,'6'!$AK$15:'6'!$AK$73)","v":0},{"$f":"SUMIF('7'!$A$15:'7'!$A$73,A43,'7'!$AK$15:'7'!$AK$73)","v":0},{"$f":"SUMIF('8'!$A$15:'8'!$A$73,A43,'8'!$AK$15:'8'!$AK$73)","v":0},{"$f":"SUMIF('9'!$A$15:'9'!$A$73,A43,'9'!$AK$15:'9'!$AK$73)","v":0},{"$f":"SUMIF('10'!$A$15:'10'!$A$73,A43,'10'!$AK$15:'10'!$AK$73)","v":0},{"$f":"SUMIF('11'!$A$15:'11'!$A$73,A43,'11'!$AK$15:'11'!$AK$73)","v":0},{"$f":"SUMIF('12'!$A$15:'12'!$A$73,A43,'12'!$AK$15:'12'!$AK$73)","v":0},{"$f":"SUM(B43:M44)","v":0},{"$f":"P43-N43","v":0},{"$f":"SUMIF('renseignement agent'!$A$8:'renseignement agent'!$A$96,A43,'renseignement agent'!$D$8:'renseignement agent'!$D$96)","v":0}]
[]
[{"$f":"'renseignement agent'!A42","v":0},{"$f":"SUMIF('1'!$A$15:'1'!$A$73,A45,'1'!$AK$15:'1'!$AK$73)","v":0},{"$f":"SUMIF('2'!$A$15:'2'!$A$73,A45,'2'!$AK$15:'2'!$AK$73)","v":0},{"$f":"SUMIF('3'!$A$15:'3'!$A$73,A45,'3'!$AK$15:'3'!$AK$73)","v":0},{"$f":"SUMIF('4'!$A$15:'4'!$A$73,A45,'4'!$AK$15:'4'!$AK$73)","v":0},{"$f":"SUMIF('5'!$A$15:'5'!$A$73,A45,'5'!$AK$15:'5'!$AK$73)","v":0},{"$f":"SUMIF('6'!$A$15:'6'!$A$73,A45,'6'!$AK$15:'6'!$AK$73)","v":0},{"$f":"SUMIF('7'!$A$15:'7'!$A$73,A45,'7'!$AK$15:'7'!$AK$73)","v":0},{"$f":"SUMIF('8'!$A$15:'8'!$A$73,A45,'8'!$AK$15:'8'!$AK$73)","v":0},{"$f":"SUMIF('9'!$A$15:'9'!$A$73,A45,'9'!$AK$15:'9'!$AK$73)","v":0},{"$f":"SUMIF('10'!$A$15:'10'!$A$73,A45,'10'!$AK$15:'10'!$AK$73)","v":0},{"$f":"SUMIF('11'!$A$15:'11'!$A$73,A45,'11'!$AK$15:'11'!$AK$73)","v":0},{"$f":"SUMIF('12'!$A$15:'12'!$A$73,A45,'12'!$AK$15:'12'!$AK$73)","v":0},{"$f":"SUM(B45:M46)","v":0},{"$f":"P45-N45","v":0},{"$f":"SUMIF('renseignement agent'!$A$8:'renseignement agent'!$A$96,A45,'renseignement agent'!$D$8:'renseignement agent'!$D$96)","v":0}]
[]
[{"$f":"'renseignement agent'!A44","v":0},{"$f":"SUMIF('1'!$A$15:'1'!$A$73,A47,'1'!$AK$15:'1'!$AK$73)","v":0},{"$f":"SUMIF('2'!$A$15:'2'!$A$73,A47,'2'!$AK$15:'2'!$AK$73)","v":0},{"$f":"SUMIF('3'!$A$15:'3'!$A$73,A47,'3'!$AK$15:'3'!$AK$73)","v":0},{"$f":"SUMIF('4'!$A$15:'4'!$A$73,A47,'4'!$AK$15:'4'!$AK$73)","v":0},{"$f":"SUMIF('5'!$A$15:'5'!$A$73,A47,'5'!$AK$15:'5'!$AK$73)","v":0},{"$f":"SUMIF('6'!$A$15:'6'!$A$73,A47,'6'!$AK$15:'6'!$AK$73)","v":0},{"$f":"SUMIF('7'!$A$15:'7'!$A$73,A47,'7'!$AK$15:'7'!$AK$73)","v":0},{"$f":"SUMIF('8'!$A$15:'8'!$A$73,A47,'8'!$AK$15:'8'!$AK$73)","v":0},{"$f":"SUMIF('9'!$A$15:'9'!$A$73,A47,'9'!$AK$15:'9'!$AK$73)","v":0},{"$f":"SUMIF('10'!$A$15:'10'!$A$73,A47,'10'!$AK$15:'10'!$AK$73)","v":0},{"$f":"SUMIF('11'!$A$15:'11'!$A$73,A47,'11'!$AK$15:'11'!$AK$73)","v":0},{"$f":"SUMIF('12'!$A$15:'12'!$A$73,A47,'12'!$AK$15:'12'!$AK$73)","v":0},{"$f":"SUM(B47:M48)","v":0},{"$f":"P47-N47","v":0},{"$f":"SUMIF('renseignement agent'!$A$8:'renseignement agent'!$A$96,A47,'renseignement agent'!$D$8:'renseignement agent'!$D$96)","v":0}]
[]
[{"$f":"'renseignement agent'!A46","v":0},{"$f":"SUMIF('1'!$A$15:'1'!$A$73,A49,'1'!$AK$15:'1'!$AK$73)","v":0},{"$f":"SUMIF('2'!$A$15:'2'!$A$73,A49,'2'!$AK$15:'2'!$AK$73)","v":0},{"$f":"SUMIF('3'!$A$15:'3'!$A$73,A49,'3'!$AK$15:'3'!$AK$73)","v":0},{"$f":"SUMIF('4'!$A$15:'4'!$A$73,A49,'4'!$AK$15:'4'!$AK$73)","v":0},{"$f":"SUMIF('5'!$A$15:'5'!$A$73,A49,'5'!$AK$15:'5'!$AK$73)","v":0},{"$f":"SUMIF('6'!$A$15:'6'!$A$73,A49,'6'!$AK$15:'6'!$AK$73)","v":0},{"$f":"SUMIF('7'!$A$15:'7'!$A$73,A49,'7'!$AK$15:'7'!$AK$73)","v":0},{"$f":"SUMIF('8'!$A$15:'8'!$A$73,A49,'8'!$AK$15:'8'!$AK$73)","v":0},{"$f":"SUMIF('9'!$A$15:'9'!$A$73,A49,'9'!$AK$15:'9'!$AK$73)","v":0},{"$f":"SUMIF('10'!$A$15:'10'!$A$73,A49,'10'!$AK$15:'10'!$AK$73)","v":0},{"$f":"SUMIF('11'!$A$15:'11'!$A$73,A49,'11'!$AK$15:'11'!$AK$73)","v":0},{"$f":"SUMIF('12'!$A$15:'12'!$A$73,A49,'12'!$AK$15:'12'!$AK$73)","v":0},{"$f":"SUM(B49:M50)","v":0},{"$f":"P49-N49","v":0},{"$f":"SUMIF('renseignement agent'!$A$8:'renseignement agent'!$A$96,A49,'renseignement agent'!$D$8:'renseignement agent'!$D$96)","v":0}]
[]
[{"$f":"'renseignement agent'!A48","v":0},{"$f":"SUMIF('1'!$A$15:'1'!$A$73,A51,'1'!$AK$15:'1'!$AK$73)","v":0},{"$f":"SUMIF('2'!$A$15:'2'!$A$73,A51,'2'!$AK$15:'2'!$AK$73)","v":0},{"$f":"SUMIF('3'!$A$15:'3'!$A$73,A51,'3'!$AK$15:'3'!$AK$73)","v":0},{"$f":"SUMIF('4'!$A$15:'4'!$A$73,A51,'4'!$AK$15:'4'!$AK$73)","v":0},{"$f":"SUMIF('5'!$A$15:'5'!$A$73,A51,'5'!$AK$15:'5'!$AK$73)","v":0},{"$f":"SUMIF('6'!$A$15:'6'!$A$73,A51,'6'!$AK$15:'6'!$AK$73)","v":0},{"$f":"SUMIF('7'!$A$15:'7'!$A$73,A51,'7'!$AK$15:'7'!$AK$73)","v":0},{"$f":"SUMIF('8'!$A$15:'8'!$A$73,A51,'8'!$AK$15:'8'!$AK$73)","v":0},{"$f":"SUMIF('9'!$A$15:'9'!$A$73,A51,'9'!$AK$15:'9'!$AK$73)","v":0},{"$f":"SUMIF('10'!$A$15:'10'!$A$73,A51,'10'!$AK$15:'10'!$AK$73)","v":0},{"$f":"SUMIF('11'!$A$15:'11'!$A$73,A51,'11'!$AK$15:'11'!$AK$73)","v":0},{"$f":"SUMIF('12'!$A$15:'12'!$A$73,A51,'12'!$AK$15:'12'!$AK$73)","v":0},{"$f":"SUM(B51:M52)","v":0},{"$f":"P51-N51","v":0},{"$f":"SUMIF('renseignement agent'!$A$8:'renseignement agent'!$A$96,A51,'renseignement agent'!$D$8:'renseignement agent'!$D$96)","v":0}]
[]
[{"$f":"'renseignement agent'!A50","v":0},{"$f":"SUMIF('1'!$A$15:'1'!$A$73,A53,'1'!$AK$15:'1'!$AK$73)","v":0},{"$f":"SUMIF('2'!$A$15:'2'!$A$73,A53,'2'!$AK$15:'2'!$AK$73)","v":0},{"$f":"SUMIF('3'!$A$15:'3'!$A$73,A53,'3'!$AK$15:'3'!$AK$73)","v":0},{"$f":"SUMIF('4'!$A$15:'4'!$A$73,A53,'4'!$AK$15:'4'!$AK$73)","v":0},{"$f":"SUMIF('5'!$A$15:'5'!$A$73,A53,'5'!$AK$15:'5'!$AK$73)","v":0},{"$f":"SUMIF('6'!$A$15:'6'!$A$73,A53,'6'!$AK$15:'6'!$AK$73)","v":0},{"$f":"SUMIF('7'!$A$15:'7'!$A$73,A53,'7'!$AK$15:'7'!$AK$73)","v":0},{"$f":"SUMIF('8'!$A$15:'8'!$A$73,A53,'8'!$AK$15:'8'!$AK$73)","v":0},{"$f":"SUMIF('9'!$A$15:'9'!$A$73,A53,'9'!$AK$15:'9'!$AK$73)","v":0},{"$f":"SUMIF('10'!$A$15:'10'!$A$73,A53,'10'!$AK$15:'10'!$AK$73)","v":0},{"$f":"SUMIF('11'!$A$15:'11'!$A$73,A53,'11'!$AK$15:'11'!$AK$73)","v":0},{"$f":"SUMIF('12'!$A$15:'12'!$A$73,A53,'12'!$AK$15:'12'!$AK$73)","v":0},{"$f":"SUM(B53:M54)","v":0},{"$f":"P53-N53","v":0},{"$f":"SUMIF('renseignement agent'!$A$8:'renseignement agent'!$A$96,A53,'renseignement agent'!$D$8:'renseignement agent'!$D$96)","v":0}]
[]
[{"$f":"'renseignement agent'!A52","v":0},{"$f":"SUMIF('1'!$A$15:'1'!$A$73,A55,'1'!$AK$15:'1'!$AK$73)","v":0},{"$f":"SUMIF('2'!$A$15:'2'!$A$73,A55,'2'!$AK$15:'2'!$AK$73)","v":0},{"$f":"SUMIF('3'!$A$15:'3'!$A$73,A55,'3'!$AK$15:'3'!$AK$73)","v":0},{"$f":"SUMIF('4'!$A$15:'4'!$A$73,A55,'4'!$AK$15:'4'!$AK$73)","v":0},{"$f":"SUMIF('5'!$A$15:'5'!$A$73,A55,'5'!$AK$15:'5'!$AK$73)","v":0},{"$f":"SUMIF('6'!$A$15:'6'!$A$73,A55,'6'!$AK$15:'6'!$AK$73)","v":0},{"$f":"SUMIF('7'!$A$15:'7'!$A$73,A55,'7'!$AK$15:'7'!$AK$73)","v":0},{"$f":"SUMIF('8'!$A$15:'8'!$A$73,A55,'8'!$AK$15:'8'!$AK$73)","v":0},{"$f":"SUMIF('9'!$A$15:'9'!$A$73,A55,'9'!$AK$15:'9'!$AK$73)","v":0},{"$f":"SUMIF('10'!$A$15:'10'!$A$73,A55,'10'!$AK$15:'10'!$AK$73)","v":0},{"$f":"SUMIF('11'!$A$15:'11'!$A$73,A55,'11'!$AK$15:'11'!$AK$73)","v":0},{"$f":"SUMIF('12'!$A$15:'12'!$A$73,A55,'12'!$AK$15:'12'!$AK$73)","v":0},{"$f":"SUM(B55:M56)","v":0},{"$f":"P55-N55","v":0},{"$f":"SUMIF('renseignement agent'!$A$8:'renseignement agent'!$A$96,A55,'renseignement agent'!$D$8:'renseignement agent'!$D$96)","v":0}]
[]
[{"$f":"'renseignement agent'!A54","v":0},{"$f":"SUMIF('1'!$A$15:'1'!$A$73,A57,'1'!$AK$15:'1'!$AK$73)","v":0},{"$f":"SUMIF('2'!$A$15:'2'!$A$73,A57,'2'!$AK$15:'2'!$AK$73)","v":0},{"$f":"SUMIF('3'!$A$15:'3'!$A$73,A57,'3'!$AK$15:'3'!$AK$73)","v":0},{"$f":"SUMIF('4'!$A$15:'4'!$A$73,A57,'4'!$AK$15:'4'!$AK$73)","v":0},{"$f":"SUMIF('5'!$A$15:'5'!$A$73,A57,'5'!$AK$15:'5'!$AK$73)","v":0},{"$f":"SUMIF('6'!$A$15:'6'!$A$73,A57,'6'!$AK$15:'6'!$AK$73)","v":0},{"$f":"SUMIF('7'!$A$15:'7'!$A$73,A57,'7'!$AK$15:'7'!$AK$73)","v":0},{"$f":"SUMIF('8'!$A$15:'8'!$A$73,A57,'8'!$AK$15:'8'!$AK$73)","v":0},{"$f":"SUMIF('9'!$A$15:'9'!$A$73,A57,'9'!$AK$15:'9'!$AK$73)","v":0},{"$f":"SUMIF('10'!$A$15:'10'!$A$73,A57,'10'!$AK$15:'10'!$AK$73)","v":0},{"$f":"SUMIF('11'!$A$15:'11'!$A$73,A57,'11'!$AK$15:'11'!$AK$73)","v":0},{"$f":"SUMIF('12'!$A$15:'12'!$A$73,A57,'12'!$AK$15:'12'!$AK$73)","v":0},{"$f":"SUM(B57:M58)","v":0},{"$f":"P57-N57","v":0},{"$f":"SUMIF('renseignement agent'!$A$8:'renseignement agent'!$A$96,A57,'renseignement agent'!$D$8:'renseignement agent'!$D$96)","v":0}]
[]
[{"$f":"'renseignement agent'!A56","v":0},{"$f":"SUMIF('1'!$A$15:'1'!$A$73,A59,'1'!$AK$15:'1'!$AK$73)","v":0},{"$f":"SUMIF('2'!$A$15:'2'!$A$73,A59,'2'!$AK$15:'2'!$AK$73)","v":0},{"$f":"SUMIF('3'!$A$15:'3'!$A$73,A59,'3'!$AK$15:'3'!$AK$73)","v":0},{"$f":"SUMIF('4'!$A$15:'4'!$A$73,A59,'4'!$AK$15:'4'!$AK$73)","v":0},{"$f":"SUMIF('5'!$A$15:'5'!$A$73,A59,'5'!$AK$15:'5'!$AK$73)","v":0},{"$f":"SUMIF('6'!$A$15:'6'!$A$73,A59,'6'!$AK$15:'6'!$AK$73)","v":0},{"$f":"SUMIF('7'!$A$15:'7'!$A$73,A59,'7'!$AK$15:'7'!$AK$73)","v":0},{"$f":"SUMIF('8'!$A$15:'8'!$A$73,A59,'8'!$AK$15:'8'!$AK$73)","v":0},{"$f":"SUMIF('9'!$A$15:'9'!$A$73,A59,'9'!$AK$15:'9'!$AK$73)","v":0},{"$f":"SUMIF('10'!$A$15:'10'!$A$73,A59,'10'!$AK$15:'10'!$AK$73)","v":0},{"$f":"SUMIF('11'!$A$15:'11'!$A$73,A59,'11'!$AK$15:'11'!$AK$73)","v":0},{"$f":"SUMIF('12'!$A$15:'12'!$A$73,A59,'12'!$AK$15:'12'!$AK$73)","v":0},{"$f":"SUM(B59:M60)","v":0},{"$f":"P59-N59","v":0},{"$f":"SUMIF('renseignement agent'!$A$8:'renseignement agent'!$A$96,A59,'renseignement agent'!$D$8:'renseignement agent'!$D$96)","v":0}]
[]
[{"$f":"'renseignement agent'!A58","v":0},{"$f":"SUMIF('1'!$A$15:'1'!$A$73,A61,'1'!$AK$15:'1'!$AK$73)","v":0},{"$f":"SUMIF('2'!$A$15:'2'!$A$73,A61,'2'!$AK$15:'2'!$AK$73)","v":0},{"$f":"SUMIF('3'!$A$15:'3'!$A$73,A61,'3'!$AK$15:'3'!$AK$73)","v":0},{"$f":"SUMIF('4'!$A$15:'4'!$A$73,A61,'4'!$AK$15:'4'!$AK$73)","v":0},{"$f":"SUMIF('5'!$A$15:'5'!$A$73,A61,'5'!$AK$15:'5'!$AK$73)","v":0},{"$f":"SUMIF('6'!$A$15:'6'!$A$73,A61,'6'!$AK$15:'6'!$AK$73)","v":0},{"$f":"SUMIF('7'!$A$15:'7'!$A$73,A61,'7'!$AK$15:'7'!$AK$73)","v":0},{"$f":"SUMIF('8'!$A$15:'8'!$A$73,A61,'8'!$AK$15:'8'!$AK$73)","v":0},{"$f":"SUMIF('9'!$A$15:'9'!$A$73,A61,'9'!$AK$15:'9'!$AK$73)","v":0},{"$f":"SUMIF('10'!$A$15:'10'!$A$73,A61,'10'!$AK$15:'10'!$AK$73)","v":0},{"$f":"SUMIF('11'!$A$15:'11'!$A$73,A61,'11'!$AK$15:'11'!$AK$73)","v":0},{"$f":"SUMIF('12'!$A$15:'12'!$A$73,A61,'12'!$AK$15:'12'!$AK$73)","v":0},{"$f":"SUM(B61:M62)","v":0},{"$f":"P61-N61","v":0},{"$f":"SUMIF('renseignement agent'!$A$8:'renseignement agent'!$A$96,A61,'renseignement agent'!$D$8:'renseignement agent'!$D$96)","v":0}]
[]
[{"$f":"'renseignement agent'!A60","v":0},{"$f":"SUMIF('1'!$A$15:'1'!$A$73,A63,'1'!$AK$15:'1'!$AK$73)","v":0},{"$f":"SUMIF('2'!$A$15:'2'!$A$73,A63,'2'!$AK$15:'2'!$AK$73)","v":0},{"$f":"SUMIF('3'!$A$15:'3'!$A$73,A63,'3'!$AK$15:'3'!$AK$73)","v":0},{"$f":"SUMIF('4'!$A$15:'4'!$A$73,A63,'4'!$AK$15:'4'!$AK$73)","v":0},{"$f":"SUMIF('5'!$A$15:'5'!$A$73,A63,'5'!$AK$15:'5'!$AK$73)","v":0},{"$f":"SUMIF('6'!$A$15:'6'!$A$73,A63,'6'!$AK$15:'6'!$AK$73)","v":0},{"$f":"SUMIF('7'!$A$15:'7'!$A$73,A63,'7'!$AK$15:'7'!$AK$73)","v":0},{"$f":"SUMIF('8'!$A$15:'8'!$A$73,A63,'8'!$AK$15:'8'!$AK$73)","v":0},{"$f":"SUMIF('9'!$A$15:'9'!$A$73,A63,'9'!$AK$15:'9'!$AK$73)","v":0},{"$f":"SUMIF('10'!$A$15:'10'!$A$73,A63,'10'!$AK$15:'10'!$AK$73)","v":0},{"$f":"SUMIF('11'!$A$15:'11'!$A$73,A63,'11'!$AK$15:'11'!$AK$73)","v":0},{"$f":"SUMIF('12'!$A$15:'12'!$A$73,A63,'12'!$AK$15:'12'!$AK$73)","v":0},{"$f":"SUM(B63:M64)","v":0},{"$f":"P63-N63","v":0},{"$f":"SUMIF('renseignement agent'!$A$8:'renseignement agent'!$A$96,A63,'renseignement agent'!$D$8:'renseignement agent'!$D$96)","v":0}]
[]
[{"$f":"'renseignement agent'!A62","v":0},{"$f":"SUMIF('1'!$A$15:'1'!$A$73,A65,'1'!$AK$15:'1'!$AK$73)","v":0},{"$f":"SUMIF('2'!$A$15:'2'!$A$73,A65,'2'!$AK$15:'2'!$AK$73)","v":0},{"$f":"SUMIF('3'!$A$15:'3'!$A$73,A65,'3'!$AK$15:'3'!$AK$73)","v":0},{"$f":"SUMIF('4'!$A$15:'4'!$A$73,A65,'4'!$AK$15:'4'!$AK$73)","v":0},{"$f":"SUMIF('5'!$A$15:'5'!$A$73,A65,'5'!$AK$15:'5'!$AK$73)","v":0},{"$f":"SUMIF('6'!$A$15:'6'!$A$73,A65,'6'!$AK$15:'6'!$AK$73)","v":0},{"$f":"SUMIF('7'!$A$15:'7'!$A$73,A65,'7'!$AK$15:'7'!$AK$73)","v":0},{"$f":"SUMIF('8'!$A$15:'8'!$A$73,A65,'8'!$AK$15:'8'!$AK$73)","v":0},{"$f":"SUMIF('9'!$A$15:'9'!$A$73,A65,'9'!$AK$15:'9'!$AK$73)","v":0},{"$f":"SUMIF('10'!$A$15:'10'!$A$73,A65,'10'!$AK$15:'10'!$AK$73)","v":0},{"$f":"SUMIF('11'!$A$15:'11'!$A$73,A65,'11'!$AK$15:'11'!$AK$73)","v":0},{"$f":"SUMIF('12'!$A$15:'12'!$A$73,A65,'12'!$AK$15:'12'!$AK$73)","v":0},{"$f":"SUM(B65:M66)","v":0},{"$f":"P65-N65","v":0},{"$f":"SUMIF('renseignement agent'!$A$8:'renseignement agent'!$A$96,A65,'renseignement agent'!$D$8:'renseignement agent'!$D$96)","v":0}]
[]
[{"$f":"'renseignement agent'!A64","v":0},{"$f":"SUMIF('1'!$A$15:'1'!$A$73,A67,'1'!$AK$15:'1'!$AK$73)","v":0},{"$f":"SUMIF('2'!$A$15:'2'!$A$73,A67,'2'!$AK$15:'2'!$AK$73)","v":0},{"$f":"SUMIF('3'!$A$15:'3'!$A$73,A67,'3'!$AK$15:'3'!$AK$73)","v":0},{"$f":"SUMIF('4'!$A$15:'4'!$A$73,A67,'4'!$AK$15:'4'!$AK$73)","v":0},{"$f":"SUMIF('5'!$A$15:'5'!$A$73,A67,'5'!$AK$15:'5'!$AK$73)","v":0},{"$f":"SUMIF('6'!$A$15:'6'!$A$73,A67,'6'!$AK$15:'6'!$AK$73)","v":0},{"$f":"SUMIF('7'!$A$15:'7'!$A$73,A67,'7'!$AK$15:'7'!$AK$73)","v":0},{"$f":"SUMIF('8'!$A$15:'8'!$A$73,A67,'8'!$AK$15:'8'!$AK$73)","v":0},{"$f":"SUMIF('9'!$A$15:'9'!$A$73,A67,'9'!$AK$15:'9'!$AK$73)","v":0},{"$f":"SUMIF('10'!$A$15:'10'!$A$73,A67,'10'!$AK$15:'10'!$AK$73)","v":0},{"$f":"SUMIF('11'!$A$15:'11'!$A$73,A67,'11'!$AK$15:'11'!$AK$73)","v":0},{"$f":"SUMIF('12'!$A$15:'12'!$A$73,A67,'12'!$AK$15:'12'!$AK$73)","v":0},{"$f":"SUM(B67:M68)","v":0},{"$f":"P67-N67","v":0},{"$f":"SUMIF('renseignement agent'!$A$8:'renseignement agent'!$A$96,A67,'renseignement agent'!$D$8:'renseignement agent'!$D$96)","v":0}]
[]
[{"$f":"'renseignement agent'!A66","v":0},{"$f":"SUMIF('1'!$A$15:'1'!$A$73,A69,'1'!$AK$15:'1'!$AK$73)","v":0},{"$f":"SUMIF('2'!$A$15:'2'!$A$73,A69,'2'!$AK$15:'2'!$AK$73)","v":0},{"$f":"SUMIF('3'!$A$15:'3'!$A$73,A69,'3'!$AK$15:'3'!$AK$73)","v":0},{"$f":"SUMIF('4'!$A$15:'4'!$A$73,A69,'4'!$AK$15:'4'!$AK$73)","v":0},{"$f":"SUMIF('5'!$A$15:'5'!$A$73,A69,'5'!$AK$15:'5'!$AK$73)","v":0},{"$f":"SUMIF('6'!$A$15:'6'!$A$73,A69,'6'!$AK$15:'6'!$AK$73)","v":0},{"$f":"SUMIF('7'!$A$15:'7'!$A$73,A69,'7'!$AK$15:'7'!$AK$73)","v":0},{"$f":"SUMIF('8'!$A$15:'8'!$A$73,A69,'8'!$AK$15:'8'!$AK$73)","v":0},{"$f":"SUMIF('9'!$A$15:'9'!$A$73,A69,'9'!$AK$15:'9'!$AK$73)","v":0},{"$f":"SUMIF('10'!$A$15:'10'!$A$73,A69,'10'!$AK$15:'10'!$AK$73)","v":0},{"$f":"SUMIF('11'!$A$15:'11'!$A$73,A69,'11'!$AK$15:'11'!$AK$73)","v":0},{"$f":"SUMIF('12'!$A$15:'12'!$A$73,A69,'12'!$AK$15:'12'!$AK$73)","v":0},{"$f":"SUM(B69:M70)","v":0},{"$f":"P69-N69","v":0},{"$f":"SUMIF('renseignement agent'!$A$8:'renseignement agent'!$A$96,A69,'renseignement agent'!$D$8:'renseignement agent'!$D$96)","v":0}]
[]
[{"$f":"'renseignement agent'!A68","v":0},{"$f":"SUMIF('1'!$A$15:'1'!$A$73,A71,'1'!$AK$15:'1'!$AK$73)","v":0},{"$f":"SUMIF('2'!$A$15:'2'!$A$73,A71,'2'!$AK$15:'2'!$AK$73)","v":0},{"$f":"SUMIF('3'!$A$15:'3'!$A$73,A71,'3'!$AK$15:'3'!$AK$73)","v":0},{"$f":"SUMIF('4'!$A$15:'4'!$A$73,A71,'4'!$AK$15:'4'!$AK$73)","v":0},{"$f":"SUMIF('5'!$A$15:'5'!$A$73,A71,'5'!$AK$15:'5'!$AK$73)","v":0},{"$f":"SUMIF('6'!$A$15:'6'!$A$73,A71,'6'!$AK$15:'6'!$AK$73)","v":0},{"$f":"SUMIF('7'!$A$15:'7'!$A$73,A71,'7'!$AK$15:'7'!$AK$73)","v":0},{"$f":"SUMIF('8'!$A$15:'8'!$A$73,A71,'8'!$AK$15:'8'!$AK$73)","v":0},{"$f":"SUMIF('9'!$A$15:'9'!$A$73,A71,'9'!$AK$15:'9'!$AK$73)","v":0},{"$f":"SUMIF('10'!$A$15:'10'!$A$73,A71,'10'!$AK$15:'10'!$AK$73)","v":0},{"$f":"SUMIF('11'!$A$15:'11'!$A$73,A71,'11'!$AK$15:'11'!$AK$73)","v":0},{"$f":"SUMIF('12'!$A$15:'12'!$A$73,A71,'12'!$AK$15:'12'!$AK$73)","v":0},{"$f":"SUM(B71:M72)","v":0},{"$f":"P71-N71","v":0},{"$f":"SUMIF('renseignement agent'!$A$8:'renseignement agent'!$A$96,A71,'renseignement agent'!$D$8:'renseignement agent'!$D$96)","v":0}]
[]
[{"$f":"'renseignement agent'!A70","v":0},{"$f":"SUMIF('1'!$A$15:'1'!$A$73,A73,'1'!$AK$15:'1'!$AK$73)","v":0},{"$f":"SUMIF('2'!$A$15:'2'!$A$73,A73,'2'!$AK$15:'2'!$AK$73)","v":0},{"$f":"SUMIF('3'!$A$15:'3'!$A$73,A73,'3'!$AK$15:'3'!$AK$73)","v":0},{"$f":"SUMIF('4'!$A$15:'4'!$A$73,A73,'4'!$AK$15:'4'!$AK$73)","v":0},{"$f":"SUMIF('5'!$A$15:'5'!$A$73,A73,'5'!$AK$15:'5'!$AK$73)","v":0},{"$f":"SUMIF('6'!$A$15:'6'!$A$73,A73,'6'!$AK$15:'6'!$AK$73)","v":0},{"$f":"SUMIF('7'!$A$15:'7'!$A$73,A73,'7'!$AK$15:'7'!$AK$73)","v":0},{"$f":"SUMIF('8'!$A$15:'8'!$A$73,A73,'8'!$AK$15:'8'!$AK$73)","v":0},{"$f":"SUMIF('9'!$A$15:'9'!$A$73,A73,'9'!$AK$15:'9'!$AK$73)","v":0},{"$f":"SUMIF('10'!$A$15:'10'!$A$73,A73,'10'!$AK$15:'10'!$AK$73)","v":0},{"$f":"SUMIF('11'!$A$15:'11'!$A$73,A73,'11'!$AK$15:'11'!$AK$73)","v":0},{"$f":"SUMIF('12'!$A$15:'12'!$A$73,A73,'12'!$AK$15:'12'!$AK$73)","v":0},{"$f":"SUM(B73:M74)","v":0},{"$f":"P73-N73","v":0},{"$f":"SUMIF('renseignement agent'!$A$8:'renseignement agent'!$A$96,A73,'renseignement agent'!$D$8:'renseignement agent'!$D$96)","v":0}]
[]
[{"$f":"'renseignement agent'!A72","v":0},{"$f":"SUMIF('1'!$A$15:'1'!$A$73,A75,'1'!$AK$15:'1'!$AK$73)","v":0},{"$f":"SUMIF('2'!$A$15:'2'!$A$73,A75,'2'!$AK$15:'2'!$AK$73)","v":0},{"$f":"SUMIF('3'!$A$15:'3'!$A$73,A75,'3'!$AK$15:'3'!$AK$73)","v":0},{"$f":"SUMIF('4'!$A$15:'4'!$A$73,A75,'4'!$AK$15:'4'!$AK$73)","v":0},{"$f":"SUMIF('5'!$A$15:'5'!$A$73,A75,'5'!$AK$15:'5'!$AK$73)","v":0},{"$f":"SUMIF('6'!$A$15:'6'!$A$73,A75,'6'!$AK$15:'6'!$AK$73)","v":0},{"$f":"SUMIF('7'!$A$15:'7'!$A$73,A75,'7'!$AK$15:'7'!$AK$73)","v":0},{"$f":"SUMIF('8'!$A$15:'8'!$A$73,A75,'8'!$AK$15:'8'!$AK$73)","v":0},{"$f":"SUMIF('9'!$A$15:'9'!$A$73,A75,'9'!$AK$15:'9'!$AK$73)","v":0},{"$f":"SUMIF('10'!$A$15:'10'!$A$73,A75,'10'!$AK$15:'10'!$AK$73)","v":0},{"$f":"SUMIF('11'!$A$15:'11'!$A$73,A75,'11'!$AK$15:'11'!$AK$73)","v":0},{"$f":"SUMIF('12'!$A$15:'12'!$A$73,A75,'12'!$AK$15:'12'!$AK$73)","v":0},{"$f":"SUM(B75:M76)","v":0},{"$f":"P75-N75","v":0},{"$f":"SUMIF('renseignement agent'!$A$8:'renseignement agent'!$A$96,A75,'renseignement agent'!$D$8:'renseignement agent'!$D$96)","v":0}]
[]
[{"$f":"'renseignement agent'!A74","v":0},{"$f":"SUMIF('1'!$A$15:'1'!$A$73,A77,'1'!$AK$15:'1'!$AK$73)","v":0},{"$f":"SUMIF('2'!$A$15:'2'!$A$73,A77,'2'!$AK$15:'2'!$AK$73)","v":0},{"$f":"SUMIF('3'!$A$15:'3'!$A$73,A77,'3'!$AK$15:'3'!$AK$73)","v":0},{"$f":"SUMIF('4'!$A$15:'4'!$A$73,A77,'4'!$AK$15:'4'!$AK$73)","v":0},{"$f":"SUMIF('5'!$A$15:'5'!$A$73,A77,'5'!$AK$15:'5'!$AK$73)","v":0},{"$f":"SUMIF('6'!$A$15:'6'!$A$73,A77,'6'!$AK$15:'6'!$AK$73)","v":0},{"$f":"SUMIF('7'!$A$15:'7'!$A$73,A77,'7'!$AK$15:'7'!$AK$73)","v":0},{"$f":"SUMIF('8'!$A$15:'8'!$A$73,A77,'8'!$AK$15:'8'!$AK$73)","v":0},{"$f":"SUMIF('9'!$A$15:'9'!$A$73,A77,'9'!$AK$15:'9'!$AK$73)","v":0},{"$f":"SUMIF('10'!$A$15:'10'!$A$73,A77,'10'!$AK$15:'10'!$AK$73)","v":0},{"$f":"SUMIF('11'!$A$15:'11'!$A$73,A77,'11'!$AK$15:'11'!$AK$73)","v":0},{"$f":"SUMIF('12'!$A$15:'12'!$A$73,A77,'12'!$AK$15:'12'!$AK$73)","v":0},{"$f":"SUM(B77:M78)","v":0},{"$f":"P77-N77","v":0},{"$f":"SUMIF('renseignement agent'!$A$8:'renseignement agent'!$A$96,A77,'renseignement agent'!$D$8:'renseignement agent'!$D$96)","v":0}]
[]
[{"$f":"'renseignement agent'!A76","v":0},{"$f":"SUMIF('1'!$A$15:'1'!$A$73,A79,'1'!$AK$15:'1'!$AK$73)","v":0},{"$f":"SUMIF('2'!$A$15:'2'!$A$73,A79,'2'!$AK$15:'2'!$AK$73)","v":0},{"$f":"SUMIF('3'!$A$15:'3'!$A$73,A79,'3'!$AK$15:'3'!$AK$73)","v":0},{"$f":"SUMIF('4'!$A$15:'4'!$A$73,A79,'4'!$AK$15:'4'!$AK$73)","v":0},{"$f":"SUMIF('5'!$A$15:'5'!$A$73,A79,'5'!$AK$15:'5'!$AK$73)","v":0},{"$f":"SUMIF('6'!$A$15:'6'!$A$73,A79,'6'!$AK$15:'6'!$AK$73)","v":0},{"$f":"SUMIF('7'!$A$15:'7'!$A$73,A79,'7'!$AK$15:'7'!$AK$73)","v":0},{"$f":"SUMIF('8'!$A$15:'8'!$A$73,A79,'8'!$AK$15:'8'!$AK$73)","v":0},{"$f":"SUMIF('9'!$A$15:'9'!$A$73,A79,'9'!$AK$15:'9'!$AK$73)","v":0},{"$f":"SUMIF('10'!$A$15:'10'!$A$73,A79,'10'!$AK$15:'10'!$AK$73)","v":0},{"$f":"SUMIF('11'!$A$15:'11'!$A$73,A79,'11'!$AK$15:'11'!$AK$73)","v":0},{"$f":"SUMIF('12'!$A$15:'12'!$A$73,A79,'12'!$AK$15:'12'!$AK$73)","v":0},{"$f":"SUM(B79:M80)","v":0},{"$f":"P79-N79","v":0},{"$f":"SUMIF('renseignement agent'!$A$8:'renseignement agent'!$A$96,A79,'renseignement agent'!$D$8:'renseignement agent'!$D$96)","v":0}]

{"sheet":"renseignement agent","index":16,"n_rows":96,"n_cols":28,"rows_kept":96,"cut":false,"hidden":false,"merged":[[6,0,6,1],[7,0,8,1],[7,2,8,2],[9,0,10,1],[9,2,10,2],[11,0,12,1],[11,2,12,2],[13,0,14,1],[13,2,14,2],[23,0,24,1],[15,0,16,1],[23,2,24,2],[25,0,26,1],[25,2,26,2],[27,0,28,1],[27,2,28,2],[29,0,30,1],[29,2,30,2],[15,2,16,2],[17,0,18,1],[17,2,18,2],[19,0,20,1],[19,2,20,2],[21,0,22,1],[21,2,22,2],[39,0,40,1],[39,2,40,2],[41,0,42,1],[41,2,42,2],[43,0,44,1],[43,2,44,2],[31,2,32,2],[33,0,34,1],[33,2,34,2],[35,0,36,1],[35,2,36,2],[37,0,38,1],[37,2,38,2],[31,0,32,1],[51,0,52,1],[51,2,52,2],[53,0,54,1],[53,2,54,2],[55,0,56,1],[55,2,56,2],[45,0,46,1],[45,2,46,2],[47,0,48,1],[47,2,48,2],[49,0,50,1],[49,2,50,2],[63,0,64,1],[63,2,64,2],[65,0,66,1],[65,2,66,2],[67,0,68,1],[67,2,68,2],[57,0,58,1],[57,2,58,2],[59,0,60,1],[59,2,60,2],[61,0,62,1],[61,2,62,2],[75,0,76,1],[75,2,76,2],[77,0,78,1],[77,2,78,2],[79,0,80,1],[79,2,80,2],[69,0,70,1],[69,2,70,2],[71,0,72,1],[71,2,72,2],[73,0,74,1],[73,2,74,2],[27,4,28,4],[29,4,30,4],[93,0,94,1],[93,2,94,2],[95,0,96,1],[95,2,96,2],[7,4,8,4],[9,4,10,4],[11,4,12,4],[13,4,14,4],[15,4,16,4],[17,4,18,4],[87,0,88,1],[87,2,88,2],[89,0,90,1],[89,2,90,2],[91,0,92,1],[91,2,92,2],[81,0,82,1],[81,2,82,2],[83,0,84,1],[83,2,84,2],[85,0,86,1],[85,2,86,2],[1,0,1,1],[2,0,2,1],[7,5,8,5],[9,5,10,5],[11,5,12,5],[13,5,14,5],[15,5,16,5],[79,4,80,4],[81,4,82,4],[67,4,68,4],[69,4,70,4],[71,4,72,4],[73,4,74,4],[75,4,76,4],[77,4,78,4],[55,4,56,4],[57,4,58,4],[59,4,60,4],[61,4,62,4],[63,4,64,4],[65,4,66,4],[43,4,44,4],[45,4,46,4],[47,4,48,4],[17,5,18,5],[19,5,20,5],[21,5,22,5],[23,5,24,5],[25,5,26,5],[27,5,28,5],[91,4,92,4],[93,4,94,4],[95,4,96,4],[83,4,84,4],[85,4,86,4],[87,4,88,4],[89,4,90,4],[49,4,50,4],[51,4,52,4],[53,4,54,4],[31,4,32,4],[33,4,34,4],[35,4,36,4],[37,4,38,4],[39,4,40,4],[41,4,42,4],[19,4,20,4],[21,4,22,4],[95,5,96,5],[7,3,8,3],[9,3,10,3],[11,3,12,3],[13,3,14,3],[15,3,16,3],[17,3,18,3],[77,5,78,5],[79,5,80,5],[81,5,82,5],[83,5,84,5],[85,5,86,5],[87,5,88,5],[65,5,66,5],[67,5,68,5],[69,5,70,5],[71,5,72,5],[73,5,74,5],[75,5,76,5],[53,5,54,5],[55,5,56,5],[57,5,58,5],[59,5,60,5],[61,5,62,5],[19,3,20,3],[21,3,22,3],[23,3,24,3],[25,3,26,3],[27,3,28,3],[29,3,30,3],[89,5,90,5],[91,5,92,5],[93,5,94,5],[63,5,64,5],[41,5,42,5],[43,5,44,5],[45,5,46,5],[47,5,48,5],[49,5,50,5],[51,5,52,5],[29,5,30,5],[31,5,32,5],[33,5,34,5],[35,5,36,5],[37,5,38,5],[39,5,40,5],[23,4,24,4],[25,4,26,4],[43,3,44,3],[45,3,46,3],[47,3,48,3],[49,3,50,3],[51,3,52,3],[53,3,54,3],[31,3,32,3],[33,3,34,3],[35,3,36,3],[37,3,38,3],[39,3,40,3],[41,3,42,3],[67,3,68,3],[69,3,70,3],[71,3,72,3],[73,3,74,3],[75,3,76,3],[77,3,78,3],[55,3,56,3],[57,3,58,3],[59,3,60,3],[61,3,62,3],[63,3,64,3],[65,3,66,3],[91,3,92,3],[93,3,94,3],[95,3,96,3],[79,3,80,3],[81,3,82,3],[83,3,84,3],[85,3,86,3],[87,3,88,3],[89,3,90,3],[7,6,8,6],[0,5,0,6],[0,7,0,8],[0,9,0,10],[0,11,0,12],[0,13,0,14],[0,15,0,16],[0,17,0,18],[0,19,0,20],[0,21,0,22],[0,23,0,24],[0,25,0,26],[0,27,0,28],[0,30,2,31],[1,5,2,6],[1,7,2,8],[1,9,2,10],[1,11,2,12],[1,13,2,14],[1,15,2,16],[1,17,2,18],[1,19,2,20],[1,21,2,22],[1,23,2,24],[1,25,2,26],[1,27,2,28],[9,6,10,6],[11,6,12,6],[13,6,14,6],[15,6,16,6],[17,6,18,6],[19,6,20,6],[21,6,22,6],[23,6,24,6],[25,6,26,6],[27,6,28,6],[29,6,30,6],[31,6,32,6],[33,6,34,6],[35,6,36,6],[37,6,38,6],[39,6,40,6],[41,6,42,6],[43,6,44,6],[45,6,46,6],[47,6,48,6],[49,6,50,6],[51,6,52,6],[53,6,54,6],[55,6,56,6],[57,6,58,6],[59,6,60,6],[61,6,62,6],[81,6,82,6],[83,6,84,6],[85,6,86,6],[87,6,88,6],[89,6,90,6],[91,6,92,6],[93,6,94,6],[95,6,96,6],[63,6,64,6],[65,6,66,6],[67,6,68,6],[69,6,70,6],[71,6,72,6],[73,6,74,6],[75,6,76,6],[77,6,78,6],[79,6,80,6]]}
[null,null,null,null,null,{"$f":"'1'!C2","v":"janvier"},null,{"$f":"'2'!C2","v":"février"},null,{"$f":"'3'!C2","v":"mars"},null,{"$f":"'4'!C2","v":"avril"},null,{"$f":"'5'!C2","v":"mai"},null,{"$f":"'6'!C2","v":"juin"},null,{"$f":"'7'!C2","v":"juillet"},null,{"$f":"'8'!C2","v":"août"},null,{"$f":"'9'!C2","v":"septembre"},null,{"$f":"'10'!C2","v":"octobre"},null,{"$f":"'11'!C2","v":"novembre"},null,{"$f":"'12'!C2","v":"décembre"}]
[]
["ANNEE"]
[]
[]
[]
["AGENTS",null,"CONTRAT","CP ANNEE","FORMULE"]
[null,null,null,null,{"$f":"SUM(C8/4.3342857/6)","v":0},{"$f":"SUM(E8)","v":0},{"$f":"IF(C8<151.67,E8,IF(C8=151.67,5.83,IF(C8>151.67,5.83)))","v":0}]
[]
[null,null,null,null,{"$f":"SUM(C10/4.3342857/6)","v":0},{"$f":"SUM(E10)","v":0},{"$f":"IF(C10<151.67,E10,IF(C10=151.67,5.83,IF(C10>151.67,5.83)))","v":0}]
[]
[null,null,null,null,{"$f":"SUM(C12/4.3342857/6)","v":0},{"$f":"SUM(E12)","v":0},{"$f":"IF(C12<151.67,E12,IF(C12=151.67,5.83,IF(C12>151.67,5.83)))","v":0}]
[]
[null,null,null,null,{"$f":"SUM(C14/4.3342857/6)","v":0},{"$f":"SUM(E14)","v":0},{"$f":"IF(C14<151.67,E14,IF(C14=151.67,5.83,IF(C14>151.67,5.83)))","v":0}]
[]
[null,null,null,null,{"$f":"SUM(C16/4.3342857/6)","v":0},{"$f":"SUM(E16)","v":0},{"$f":"IF(C16<151.67,E16,IF(C16=151.67,5.83,IF(C16>151.67,5.83)))","v":0}]
[]
[null,null,null,null,{"$f":"SUM(C18/4.3342857/6)","v":0},{"$f":"SUM(E18)","v":0},{"$f":"IF(C18<151.67,E18,IF(C18=151.67,5.83,IF(C18>151.67,5.83)))","v":0}]
[]
[null,null,null,null,{"$f":"SUM(C20/4.3342857/6)","v":0},{"$f":"SUM(E20)","v":0},{"$f":"IF(C20<151.67,E20,IF(C20=151.67,5.83,IF(C20>151.67,5.83)))","v":0}]
[]
[null,null,null,null,{"$f":"SUM(C22/4.3342857/6)","v":0},{"$f":"SUM(E22)","v":0},{"$f":"IF(C22<151.67,E22,IF(C22=151.67,5.83,IF(C22>151.67,5.83)))","v":0}]
[]
[null,null,null,null,{"$f":"SUM(C24/4.3342857/6)","v":0},{"$f":"SUM(E24)","v":0},{"$f":"IF(C24<151.67,E24,IF(C24=151.67,5.83,IF(C24>151.67,5.83)))","v":0}]
[]
[null,null,null,null,{"$f":"SUM(C26/4.3342857/6)","v":0},{"$f":"SUM(E26)","v":0},{"$f":"IF(C26<151.67,E26,IF(C26=151.67,5.83,IF(C26>151.67,5.83)))","v":0}]
[]
[null,null,null,null,{"$f":"SUM(C28/4.3342857/6)","v":0},{"$f":"SUM(E28)","v":0},{"$f":"IF(C28<151.67,E28,IF(C28=151.67,5.83,IF(C28>151.67,5.83)))","v":0}]
[]
[null,null,null,null,{"$f":"SUM(C30/4.3342857/6)","v":0},{"$f":"SUM(E30)","v":0},{"$f":"IF(C30<151.67,E30,IF(C30=151.67,5.83,IF(C30>151.67,5.83)))","v":0}]
[]
[null,null,null,null,{"$f":"SUM(C32/4.3342857/6)","v":0},{"$f":"SUM(E32)","v":0},{"$f":"IF(C32<151.67,E32,IF(C32=151.67,5.83,IF(C32>151.67,5.83)))","v":0}]
[]
[null,null,null,null,{"$f":"SUM(C34/4.3342857/6)","v":0},{"$f":"SUM(E34)","v":0},{"$f":"IF(C34<151.67,E34,IF(C34=151.67,5.83,IF(C34>151.67,5.83)))","v":0}]
[]
[null,null,null,null,{"$f":"SUM(C36/4.3342857/6)","v":0},{"$f":"SUM(E36)","v":0},{"$f":"IF(C36<151.67,E36,IF(C36=151.67,5.83,IF(C36>151.67,5.83)))","v":0}]
[]
[null,null,null,null,{"$f":"SUM(C38/4.3342857/6)","v":0},{"$f":"SUM(E38)","v":0},{"$f":"IF(C38<151.67,E38,IF(C38=151.67,5.83,IF(C38>151.67,5.83)))","v":0}]
[]
[null,null,null,null,{"$f":"SUM(C40/4.3342857/6)","v":0},{"$f":"SUM(E40)","v":0},{"$f":"IF(C40<151.67,E40,IF(C40=151.67,5.83,IF(C40>151.67,5.83)))","v":0}]
[]
[null,null,null,null,{"$f":"SUM(C42/4.3342857/6)","v":0},{"$f":"SUM(E42)","v":0},{"$f":"IF(C42<151.67,E42,IF(C42=151.67,5.83,IF(C42>151.67,5.83)))","v":0}]
[]
[null,null,null,null,{"$f":"SUM(C44/4.3342857/6)","v":0},{"$f":"SUM(E44)","v":0},{"$f":"IF(C44<151.67,E44,IF(C44=151.67,5.83,IF(C44>151.67,5.83)))","v":0}]
[]
[null,null,null,null,{"$f":"SUM(C46/4.3342857/6)","v":0},{"$f":"SUM(E46)","v":0},{"$f":"IF(C46<151.67,E46,IF(C46=151.67,5.83,IF(C46>151.67,5.83)))","v":0}]
[]
[null,null,null,null,{"$f":"SUM(C48/4.3342857/6)","v":0},{"$f":"SUM(E48)","v":0},{"$f":"IF(C48<151.67,E48,IF(C48=151.67,5.83,IF(C48>151.67,5.83)))","v":0}]
[]
[null,null,null,null,{"$f":"SUM(C50/4.3342857/6)","v":0},{"$f":"SUM(E50)","v":0},{"$f":"IF(C50<151.67,E50,IF(C50=151.67,5.83,IF(C50>151.67,5.83)))","v":0}]
[]
[null,null,null,null,{"$f":"SUM(C52/4.3342857/6)","v":0},{"$f":"SUM(E52)","v":0},{"$f":"IF(C52<151.67,E52,IF(C52=151.67,5.83,IF(C52>151.67,5.83)))","v":0}]
[]
[null,null,null,null,{"$f":"SUM(C54/4.3342857/6)","v":0},{"$f":"SUM(E54)","v":0},{"$f":"IF(C54<151.67,E54,IF(C54=151.67,5.83,IF(C54>151.67,5.83)))","v":0}]
[]
[null,null,null,null,{"$f":"SUM(C56/4.3342857/6)","v":0},{"$f":"SUM(E56)","v":0},{"$f":"IF(C56<151.67,E56,IF(C56=151.67,5.83,IF(C56>151.67,5.83)))","v":0}]
[]
[null,null,null,null,{"$f":"SUM(C58/4.3342857/6)","v":0},{"$f":"SUM(E58)","v":0},{"$f":"IF(C58<151.67,E58,IF(C58=151.67,5.83,IF(C58>151.67,5.83)))","v":0}]
[]
[null,null,null,null,{"$f":"SUM(C60/4.3342857/6)","v":0},{"$f":"SUM(E60)","v":0},{"$f":"IF(C60<151.67,E60,IF(C60=151.67,5.83,IF(C60>151.67,5.83)))","v":0}]
[]
[null,null,null,null,{"$f":"SUM(C62/4.3342857/6)","v":0},{"$f":"SUM(E62)","v":0},{"$f":"IF(C62<151.67,E62,IF(C62=151.67,5.83,IF(C62>151.67,5.83)))","v":0}]
[]
[null,null,null,null,{"$f":"SUM(C64/4.3342857/6)","v":0},{"$f":"SUM(E64)","v":0},{"$f":"IF(C64<151.67,E64,IF(C64=151.67,5.83,IF(C64>151.67,5.83)))","v":0}]
[]
[null,null,null,null,{"$f":"SUM(C66/4.3342857/6)","v":0},{"$f":"SUM(E66)","v":0},{"$f":"IF(C66<151.67,E66,IF(C66=151.67,5.83,IF(C66>151.67,5.83)))","v":0}]
[]
[null,null,null,null,{"$f":"SUM(C68/4.3342857/6)","v":0},{"$f":"SUM(E68)","v":0},{"$f":"IF(C68<151.67,E68,IF(C68=151.67,5.83,IF(C68>151.67,5.83)))","v":0}]
[]
[null,null,null,null,{"$f":"SUM(C70/4.3342857/6)","v":0},{"$f":"SUM(E70)","v":0},{"$f":"IF(C70<151.67,E70,IF(C70=151.67,5.83,IF(C70>151.67,5.83)))","v":0}]
[]
[null,null,null,null,{"$f":"SUM(C72/4.3342857/6)","v":0},{"$f":"SUM(E72)","v":0},{"$f":"IF(C72<151.67,E72,IF(C72=151.67,5.83,IF(C72>151.67,5.83)))","v":0}]
[]
[null,null,null,null,{"$f":"SUM(C74/4.3342857/6)","v":0},{"$f":"SUM(E74)","v":0},{"$f":"IF(C74<151.67,E74,IF(C74=151.67,5.83,IF(C74>151.67,5.83)))","v":0}]
[]
[null,null,null,null,{"$f":"SUM(C76/4.3342857/6)","v":0},{"$f":"SUM(E76)","v":0},{"$f":"IF(C76<151.67,E76,IF(C76=151.67,5.83,IF(C76>151.67,5.83)))","v":0}]
[]
[null,null,null,null,{"$f":"SUM(C78/4.3342857/6)","v":0},{"$f":"SUM(E78)","v":0},{"$f":"IF(C78<151.67,E78,IF(C78=151.67,5.83,IF(C78>151.67,5.83)))","v":0}]
[]
[null,null,null,null,{"$f":"SUM(C80/4.3342857/6)","v":0},{"$f":"SUM(E80)","v":0},{"$f":"IF(C80<151.67,E80,IF(C80=151.67,5.83,IF(C80>151.67,5.83)))","v":0}]
[]
[null,null,null,null,{"$f":"SUM(C82/4.3342857/6)","v":0},{"$f":"SUM(E82)","v":0},{"$f":"IF(C82<151.67,E82,IF(C82=151.67,5.83,IF(C82>151.67,5.83)))","v":0}]
[]
[null,null,null,null,{"$f":"SUM(C84/4.3342857/6)","v":0},{"$f":"SUM(E84)","v":0},{"$f":"IF(C84<151.67,E84,IF(C84=151.67,5.83,IF(C84>151.67,5.83)))","v":0}]
[]
[null,null,null,null,{"$f":"SUM(C86/4.3342857/6)","v":0},{"$f":"SUM(E86)","v":0},{"$f":"IF(C86<151.67,E86,IF(C86=151.67,5.83,IF(C86>151.67,5.83)))","v":0}]
[]
[null,null,null,null,{"$f":"SUM(C88/4.3342857/6)","v":0},{"$f":"SUM(E88)","v":0},{"$f":"IF(C88<151.67,E88,IF(C88=151.67,5.83,IF(C88>151.67,5.83)))","v":0}]
[]
[null,null,null,null,{"$f":"SUM(C90/4.3342857/6)","v":0},{"$f":"SUM(E90)","v":0},{"$f":"IF(C90<151.67,E90,IF(C90=151.67,5.83,IF(C90>151.67,5.83)))","v":0}]
[]
[null,null,null,null,{"$f":"SUM(C92/4.3342857/6)","v":0},{"$f":"SUM(E92)","v":0},{"$f":"IF(C92<151.67,E92,IF(C92=151.67,5.83,IF(C92>151.67,5.83)))","v":0}]
[]
[null,null,null,null,{"$f":"SUM(C94/4.3342857/6)","v":0},{"$f":"SUM(E94)","v":0},{"$f":"IF(C94<151.67,E94,IF(C94=151.67,5.83,IF(C94>151.67,5.83)))","v":0}]
[]
[null,null,null,null,{"$f":"SUM(C96/4.3342857/6)","v":0},{"$f":"SUM(E96)","v":0},{"$f":"IF(C96<151.67,E96,IF(C96=151.67,5.83,IF(C96>151.67,5.83)))","v":0}]

{"sheet":"parametre","index":17,"n_rows":25,"n_cols":7,"rows_kept":25,"cut":false,"hidden":false,"merged":[]}
[]
[null,null,null,null,null,null,"date menu deroulant"]
[null,"mois","nb","Colonne1",null,null,"2018-01-01"]
[null,"janvier",31,null,null,null,"2018-06-01"]
[null,"février",28,null,null,null,"2019-01-01"]
[null,"mars",31,null,null,null,"2019-06-01"]
[null,"avril",30,null,null,null,"2020-01-01"]
[null,"mai",31,null,null,null,"2020-06-01"]
[null,"juin",30,null,null,null,"2021-01-01"]
[null,"juillet",31,null,null,null,"2021-06-01"]
[null,"août",31,null,null,null,"2022-01-01"]
[null,"septembre",30,null,null,null,"2022-06-01"]
[null,"octobre",31,null,null,null,"2023-01-01"]
[null,"novembre",30,null,null,null,"2023-06-01"]
[null,"décembre",31]
[]
["menu deroulant"]
["secteur aubagne"]
["secteur cuers"]
[]
["menu deroulant"]
["mensualisation"]
["trimestre"]
["ann"]
["semestre"]