{"text_format":"1","workbook":"xlsx","n_sheets":17,"sheets":["RESULTATS","CLASSEMENT","GUIDE","DATA_1_TEAMS","DATA_1_MATCHS","Vincent","Vildary","Alexis","Tiphaine","Marie","JD","Groger","RomainR","Alexandre","Alaeddine","Kociancic","PRONOSTIQUEUR"],"not_rendered":{"charts":0,"images":17,"macros":1,"external_links":0,"defined_names":84,"comments":13,"pivot_tables":0},"unopened":[],"bounds":{"document_bytes":16777216,"sheet_cells":100000,"rows_first":2000,"rows_last":500,"rows_between":2000,"halvings":0,"cell_chars":16384,"cell_head_chars":4096},"cells_cut":0,"cells_raw":0,"read":"whole","date_system":"1900"}

{"sheet":"RESULTATS","index":0,"n_rows":138,"n_cols":45,"rows_kept":138,"cut":false,"hidden":false,"merged":[[6,30,6,37],[6,38,6,43],[6,18,6,27],[3,9,3,12],[2,9,2,11],[5,18,5,27],[5,30,5,44],[5,1,5,13]]}
[]
[null,"RESULTATS REELS"]
[]
[null,"A SAISIR SUR CETTE PAGE"]
[]
[null,"SAISIE DES RESULTATS",null,null,null,null,null,null,null,null,null,null,null,null,null,null,null,null,"GROUPES",null,null,null,null,null,null,null,null,null,null,null,"PHASES FINALES"]
[null,"Date","Heure","Match","Groupe",1,"N",2,null,"Buts",null,null,"Buts",null,null,null,null,null,"   suivi des scores||||||||||||||||||||||||||||||||||||||||||||||||||||||||||||||||||||",null,null,null,null,null,null,null,null,null,null,null,"Dernière saisie des scores >>>",null,null,null,null,null,null,null,"jeudi 22 février 2018 à 12:34:41"]
[null,{"$f":"VLOOKUP($D8,TABLEAU_MATCHS[#All],2,FALSE)","v":"2018-06-14"},{"$f":"VLOOKUP($D8,TABLEAU_MATCHS[#All],3,FALSE)","v":"17:00:00"},1,{"$f":"\"Groupe \"&VLOOKUP($I8,TABLEAU_TEAMS[[#All],[TEAM]:[GROUP_INITIAL_RANK]],2,FALSE)","v":"Groupe A"},null,null,null,{"$f":"VLOOKUP($D8,TABLEAU_MATCHS[#All],4,FALSE)","v":"Russie"},5,null,{"$f":"VLOOKUP($D8,TABLEAU_MATCHS[#All],5,FALSE)","v":"Arabie Saoudite"},0,null,null,null,null,null,"Rg","Groupe A","MJ","G","N","P","BP","BC","+/-","Pts",null,null,"Date","Finale",null,null,"Buts",null,"Pen",null,null,null,"Buts",null,"Pen"]
[null,{"$f":"VLOOKUP($D9,TABLEAU_MATCHS[#All],2,FALSE)","v":"2018-06-15"},{"$f":"VLOOKUP($D9,TABLEAU_MATCHS[#All],3,FALSE)","v":"14:00:00"},2,{"$f":"\"Groupe \"&VLOOKUP($I9,TABLEAU_TEAMS[[#All],[TEAM]:[GROUP_INITIAL_RANK]],2,FALSE)","v":"Groupe A"},null,null,null,{"$f":"VLOOKUP($D9,TABLEAU_MATCHS[#All],4,FALSE)","v":"Egypte"},0,null,{"$f":"VLOOKUP($D9,TABLEAU_MATCHS[#All],5,FALSE)","v":"Uruguay"},1,null,null,null,{"$f":"INDEX($Q60:$Q63,MATCH(SMALL(COUNTIF($Q60:$Q63,\">=\"&$Q60:$Q63),ROW(INDIRECT(\"1:\"&ROWS($Q60:$Q63)))),COUNTIF($Q60:$Q63,\">=\"&$Q60:$Q63),0))","v":"03550Russie"},{"$f":"INDEX($R60:$R63,MATCH(SMALL(COUNTIF($Q60:$Q63,\">=\"&$Q60:$Q63),ROW(INDIRECT(\"1:\"&ROWS($Q60:$Q63)))),COUNTIF($Q60:$Q63,\">=\"&$Q60:$Q63),0))","v":3550},{"$f":"INDEX($S60:$S63,MATCH(SMALL(COUNTIF($Q60:$Q63,\">=\"&$Q60:$Q63),ROW(INDIRECT(\"1:\"&ROWS($Q60:$Q63)))),COUNTIF($Q60:$Q63,\">=\"&$Q60:$Q63),0))","v":1},{"$f":"INDEX($T60:$T63,MATCH(SMALL(COUNTIF($Q60:$Q63,\">=\"&$Q60:$Q63),ROW(INDIRECT(\"1:\"&ROWS($Q60:$Q63)))),COUNTIF($Q60:$Q63,\">=\"&$Q60:$Q63),0))","v":"Russie"},{"$f":"SUMPRODUCT((Teams1=T9)*(Teams1_Score<>\"\"))+SUMPRODUCT((Teams2=T9)*(Teams2_Score<>\"\"))","v":1},{"$f":"SUMPRODUCT((Teams1=T9)*(Teams1_Score>Teams2_Score))+SUMPRODUCT((Teams2=T9)*(Teams2_Score>Teams1_Score))","v":1},{"$f":"SUMPRODUCT((Teams1=T9)*(Teams1_Score=Teams2_Score)*(Teams1_Score<>\"\"))+SUMPRODUCT((Teams2=T9)*(Teams2_Score=Teams1_Score)*(Teams2_Score<>\"\"))","v":0},{"$f":"SUMPRODUCT((Teams1=T9)*(Teams1_Score<Teams2_Score))+SUMPRODUCT((Teams2=T9)*(Teams2_Score<Teams1_Score))","v":0},{"$f":"SUMPRODUCT((Teams1=T9)*(Teams1_Score))+SUMPRODUCT((Teams2=T9)*(Teams2_Score))","v":5},{"$f":"SUMPRODUCT((Teams1=T9)*(Teams2_Score))+SUMPRODUCT((Teams2=T9)*(Teams1_Score))","v":0},{"$f":"Y9-Z9","v":5},{"$f":"3*V9+W9","v":3}]
[null,{"$f":"VLOOKUP($D10,TABLEAU_MATCHS[#All],2,FALSE)","v":"2018-06-15"},{"$f":"VLOOKUP($D10,TABLEAU_MATCHS[#All],3,FALSE)","v":"17:00:00"},3,{"$f":"\"Groupe \"&VLOOKUP($I10,TABLEAU_TEAMS[[#All],[TEAM]:[GROUP_INITIAL_RANK]],2,FALSE)","v":"Groupe B"},null,null,null,{"$f":"VLOOKUP($D10,TABLEAU_MATCHS[#All],4,FALSE)","v":"Maroc"},0,null,{"$f":"VLOOKUP($D10,TABLEAU_MATCHS[#All],5,FALSE)","v":"RI Iran"},1,null,null,null,"03110Uruguay",3110,2,"Uruguay",{"$f":"SUMPRODUCT((Teams1=T10)*(Teams1_Score<>\"\"))+SUMPRODUCT((Teams2=T10)*(Teams2_Score<>\"\"))","v":1},{"$f":"SUMPRODUCT((Teams1=T10)*(Teams1_Score>Teams2_Score))+SUMPRODUCT((Teams2=T10)*(Teams2_Score>Teams1_Score))","v":1},{"$f":"SUMPRODUCT((Teams1=T10)*(Teams1_Score=Teams2_Score)*(Teams1_Score<>\"\"))+SUMPRODUCT((Teams2=T10)*(Teams2_Score=Teams1_Score)*(Teams2_Score<>\"\"))","v":0},{"$f":"SUMPRODUCT((Teams1=T10)*(Teams1_Score<Teams2_Score))+SUMPRODUCT((Teams2=T10)*(Teams2_Score<Teams1_Score))","v":0},{"$f":"SUMPRODUCT((Teams1=T10)*(Teams1_Score))+SUMPRODUCT((Teams2=T10)*(Teams2_Score))","v":1},{"$f":"SUMPRODUCT((Teams1=T10)*(Teams2_Score))+SUMPRODUCT((Teams2=T10)*(Teams1_Score))","v":0},{"$f":"Y10-Z10","v":1},{"$f":"3*V10+W10","v":3},null,null,"2018-07-15",null,{"$f":"+IF(AI18<>\"\",IF(AH18>AN18,AG18,AM18),\"Vainqueur 1\")","v":"Vainqueur 1"},{"$f":"AI10*10+AK10","v":0},null,null,null,null,{"$f":"+IF(AI19<>\"\",IF(AH19>AN19,AG19,AM19),\"Vainqueur 2\")","v":"Vainqueur 2"},{"$f":"AO10*10+AQ10","v":0},null,null,null,null,{"$f":"IF(AI10<>\"\",IF(AH10>AN10,AG10,AM10),\"\")","v":""}]
[null,{"$f":"VLOOKUP($D11,TABLEAU_MATCHS[#All],2,FALSE)","v":"2018-06-15"},{"$f":"VLOOKUP($D11,TABLEAU_MATCHS[#All],3,FALSE)","v":"20:00:00"},4,{"$f":"\"Groupe \"&VLOOKUP($I11,TABLEAU_TEAMS[[#All],[TEAM]:[GROUP_INITIAL_RANK]],2,FALSE)","v":"Groupe B"},null,null,null,{"$f":"VLOOKUP($D11,TABLEAU_MATCHS[#All],4,FALSE)","v":"Portugal"},3,null,{"$f":"VLOOKUP($D11,TABLEAU_MATCHS[#All],5,FALSE)","v":"Espagne"},3,null,null,null,"-00500Arabie Saoudite",-500,4,"Arabie Saoudite",{"$f":"SUMPRODUCT((Teams1=T11)*(Teams1_Score<>\"\"))+SUMPRODUCT((Teams2=T11)*(Teams2_Score<>\"\"))","v":1},{"$f":"SUMPRODUCT((Teams1=T11)*(Teams1_Score>Teams2_Score))+SUMPRODUCT((Teams2=T11)*(Teams2_Score>Teams1_Score))","v":0},{"$f":"SUMPRODUCT((Teams1=T11)*(Teams1_Score=Teams2_Score)*(Teams1_Score<>\"\"))+SUMPRODUCT((Teams2=T11)*(Teams2_Score=Teams1_Score)*(Teams2_Score<>\"\"))","v":0},{"$f":"SUMPRODUCT((Teams1=T11)*(Teams1_Score<Teams2_Score))+SUMPRODUCT((Teams2=T11)*(Teams2_Score<Teams1_Score))","v":1},{"$f":"SUMPRODUCT((Teams1=T11)*(Teams1_Score))+SUMPRODUCT((Teams2=T11)*(Teams2_Score))","v":0},{"$f":"SUMPRODUCT((Teams1=T11)*(Teams2_Score))+SUMPRODUCT((Teams2=T11)*(Teams1_Score))","v":5},{"$f":"Y11-Z11","v":-5},{"$f":"3*V11+W11","v":0}]
[null,{"$f":"VLOOKUP($D12,TABLEAU_MATCHS[#All],2,FALSE)","v":"2018-06-16"},{"$f":"VLOOKUP($D12,TABLEAU_MATCHS[#All],3,FALSE)","v":"12:00:00"},5,{"$f":"\"Groupe \"&VLOOKUP($I12,TABLEAU_TEAMS[[#All],[TEAM]:[GROUP_INITIAL_RANK]],2,FALSE)","v":"Groupe C"},null,null,null,{"$f":"VLOOKUP($D12,TABLEAU_MATCHS[#All],4,FALSE)","v":"France"},null,null,{"$f":"VLOOKUP($D12,TABLEAU_MATCHS[#All],5,FALSE)","v":"Australie"},null,null,null,null,"-00100Egypte",-100,3,"Egypte",{"$f":"SUMPRODUCT((Teams1=T12)*(Teams1_Score<>\"\"))+SUMPRODUCT((Teams2=T12)*(Teams2_Score<>\"\"))","v":1},{"$f":"SUMPRODUCT((Teams1=T12)*(Teams1_Score>Teams2_Score))+SUMPRODUCT((Teams2=T12)*(Teams2_Score>Teams1_Score))","v":0},{"$f":"SUMPRODUCT((Teams1=T12)*(Teams1_Score=Teams2_Score)*(Teams1_Score<>\"\"))+SUMPRODUCT((Teams2=T12)*(Teams2_Score=Teams1_Score)*(Teams2_Score<>\"\"))","v":0},{"$f":"SUMPRODUCT((Teams1=T12)*(Teams1_Score<Teams2_Score))+SUMPRODUCT((Teams2=T12)*(Teams2_Score<Teams1_Score))","v":1},{"$f":"SUMPRODUCT((Teams1=T12)*(Teams1_Score))+SUMPRODUCT((Teams2=T12)*(Teams2_Score))","v":0},{"$f":"SUMPRODUCT((Teams1=T12)*(Teams2_Score))+SUMPRODUCT((Teams2=T12)*(Teams1_Score))","v":1},{"$f":"Y12-Z12","v":-1},{"$f":"3*V12+W12","v":0},null,null,"Date","Petite Finale",null,null,"Buts",null,"Pen",null,null,null,"Buts",null,"Pen"]
[null,{"$f":"VLOOKUP($D13,TABLEAU_MATCHS[#All],2,FALSE)","v":"2018-06-16"},{"$f":"VLOOKUP($D13,TABLEAU_MATCHS[#All],3,FALSE)","v":"18:00:00"},6,{"$f":"\"Groupe \"&VLOOKUP($I13,TABLEAU_TEAMS[[#All],[TEAM]:[GROUP_INITIAL_RANK]],2,FALSE)","v":"Groupe C"},null,null,null,{"$f":"VLOOKUP($D13,TABLEAU_MATCHS[#All],4,FALSE)","v":"Pérou"},null,null,{"$f":"VLOOKUP($D13,TABLEAU_MATCHS[#All],5,FALSE)","v":"Danemark"}]
[null,{"$f":"VLOOKUP($D14,TABLEAU_MATCHS[#All],2,FALSE)","v":"2018-06-16"},{"$f":"VLOOKUP($D14,TABLEAU_MATCHS[#All],3,FALSE)","v":"15:00:00"},7,{"$f":"\"Groupe \"&VLOOKUP($I14,TABLEAU_TEAMS[[#All],[TEAM]:[GROUP_INITIAL_RANK]],2,FALSE)","v":"Groupe D"},null,null,null,{"$f":"VLOOKUP($D14,TABLEAU_MATCHS[#All],4,FALSE)","v":"Argentine"},null,null,{"$f":"VLOOKUP($D14,TABLEAU_MATCHS[#All],5,FALSE)","v":"Islande"},null,null,null,null,null,null,"Rg","Groupe B","MJ","G","N","P","BP","BC","+/-","Pts",null,null,"2018-07-14",null,{"$f":"+IF(AI18<>\"\",IF(AH18>AN18,AM18,AG18),\"Perdant 1\")","v":"Perdant 1"},{"$f":"AI14*10+AK14","v":0},null,null,null,null,{"$f":"+IF(AI19<>\"\",IF(AH19>AN19,AM19,AG19),\"Perdant 2\")","v":"Perdant 2"},{"$f":"AO14*10+AQ14","v":0}]
[null,{"$f":"VLOOKUP($D15,TABLEAU_MATCHS[#All],2,FALSE)","v":"2018-06-16"},{"$f":"VLOOKUP($D15,TABLEAU_MATCHS[#All],3,FALSE)","v":"21:00:00"},8,{"$f":"\"Groupe \"&VLOOKUP($I15,TABLEAU_TEAMS[[#All],[TEAM]:[GROUP_INITIAL_RANK]],2,FALSE)","v":"Groupe D"},null,null,null,{"$f":"VLOOKUP($D15,TABLEAU_MATCHS[#All],4,FALSE)","v":"Croatie"},null,null,{"$f":"VLOOKUP($D15,TABLEAU_MATCHS[#All],5,FALSE)","v":"Nigeria"},null,null,null,null,{"$f":"INDEX($Q66:$Q69,MATCH(SMALL(COUNTIF($Q66:$Q69,\">=\"&$Q66:$Q69),ROW(INDIRECT(\"1:\"&ROWS($Q66:$Q69)))),COUNTIF($Q66:$Q69,\">=\"&$Q66:$Q69),0))","v":"03110RI Iran"},{"$f":"INDEX($R66:$R69,MATCH(SMALL(COUNTIF($Q66:$Q69,\">=\"&$Q66:$Q69),ROW(INDIRECT(\"1:\"&ROWS($Q66:$Q69)))),COUNTIF($Q66:$Q69,\">=\"&$Q66:$Q69),0))","v":3110},{"$f":"INDEX($S66:$S69,MATCH(SMALL(COUNTIF($Q66:$Q69,\">=\"&$Q66:$Q69),ROW(INDIRECT(\"1:\"&ROWS($Q66:$Q69)))),COUNTIF($Q66:$Q69,\">=\"&$Q66:$Q69),0))","v":1},{"$f":"INDEX($T66:$T69,MATCH(SMALL(COUNTIF($Q66:$Q69,\">=\"&$Q66:$Q69),ROW(INDIRECT(\"1:\"&ROWS($Q66:$Q69)))),COUNTIF($Q66:$Q69,\">=\"&$Q66:$Q69),0))","v":"RI Iran"},{"$f":"SUMPRODUCT((Teams1=T15)*(Teams1_Score<>\"\"))+SUMPRODUCT((Teams2=T15)*(Teams2_Score<>\"\"))","v":1},{"$f":"SUMPRODUCT((Teams1=T15)*(Teams1_Score>Teams2_Score))+SUMPRODUCT((Teams2=T15)*(Teams2_Score>Teams1_Score))","v":1},{"$f":"SUMPRODUCT((Teams1=T15)*(Teams1_Score=Teams2_Score)*(Teams1_Score<>\"\"))+SUMPRODUCT((Teams2=T15)*(Teams2_Score=Teams1_Score)*(Teams2_Score<>\"\"))","v":0},{"$f":"SUMPRODUCT((Teams1=T15)*(Teams1_Score<Teams2_Score))+SUMPRODUCT((Teams2=T15)*(Teams2_Score<Teams1_Score))","v":0},{"$f":"SUMPRODUCT((Teams1=T15)*(Teams1_Score))+SUMPRODUCT((Teams2=T15)*(Teams2_Score))","v":1},{"$f":"SUMPRODUCT((Teams1=T15)*(Teams2_Score))+SUMPRODUCT((Teams2=T15)*(Teams1_Score))","v":0},{"$f":"Y15-Z15","v":1},{"$f":"3*V15+W15","v":3}]
[null,{"$f":"VLOOKUP($D16,TABLEAU_MATCHS[#All],2,FALSE)","v":"2018-06-17"},{"$f":"VLOOKUP($D16,TABLEAU_MATCHS[#All],3,FALSE)","v":"14:00:00"},9,{"$f":"\"Groupe \"&VLOOKUP($I16,TABLEAU_TEAMS[[#All],[TEAM]:[GROUP_INITIAL_RANK]],2,FALSE)","v":"Groupe E"},null,null,null,{"$f":"VLOOKUP($D16,TABLEAU_MATCHS[#All],4,FALSE)","v":"Costa Rica"},null,null,{"$f":"VLOOKUP($D16,TABLEAU_MATCHS[#All],5,FALSE)","v":"Serbie"},null,null,null,null,"01030Portugal",1030,2,"Portugal",{"$f":"SUMPRODUCT((Teams1=T16)*(Teams1_Score<>\"\"))+SUMPRODUCT((Teams2=T16)*(Teams2_Score<>\"\"))","v":1},{"$f":"SUMPRODUCT((Teams1=T16)*(Teams1_Score>Teams2_Score))+SUMPRODUCT((Teams2=T16)*(Teams2_Score>Teams1_Score))","v":0},{"$f":"SUMPRODUCT((Teams1=T16)*(Teams1_Score=Teams2_Score)*(Teams1_Score<>\"\"))+SUMPRODUCT((Teams2=T16)*(Teams2_Score=Teams1_Score)*(Teams2_Score<>\"\"))","v":1},{"$f":"SUMPRODUCT((Teams1=T16)*(Teams1_Score<Teams2_Score))+SUMPRODUCT((Teams2=T16)*(Teams2_Score<Teams1_Score))","v":0},{"$f":"SUMPRODUCT((Teams1=T16)*(Teams1_Score))+SUMPRODUCT((Teams2=T16)*(Teams2_Score))","v":3},{"$f":"SUMPRODUCT((Teams1=T16)*(Teams2_Score))+SUMPRODUCT((Teams2=T16)*(Teams1_Score))","v":3},{"$f":"Y16-Z16","v":0},{"$f":"3*V16+W16","v":1},null,null,"Date","Demi Finale",null,null,"Buts",null,"Pen",null,null,null,"Buts",null,"Pen"]
[null,{"$f":"VLOOKUP($D17,TABLEAU_MATCHS[#All],2,FALSE)","v":"2018-06-17"},{"$f":"VLOOKUP($D17,TABLEAU_MATCHS[#All],3,FALSE)","v":"20:00:00"},10,{"$f":"\"Groupe \"&VLOOKUP($I17,TABLEAU_TEAMS[[#All],[TEAM]:[GROUP_INITIAL_RANK]],2,FALSE)","v":"Groupe E"},null,null,null,{"$f":"VLOOKUP($D17,TABLEAU_MATCHS[#All],4,FALSE)","v":"Brésil"},null,null,{"$f":"VLOOKUP($D17,TABLEAU_MATCHS[#All],5,FALSE)","v":"Suisse"},null,null,null,null,"01030Espagne",1030,2,"Espagne",{"$f":"SUMPRODUCT((Teams1=T17)*(Teams1_Score<>\"\"))+SUMPRODUCT((Teams2=T17)*(Teams2_Score<>\"\"))","v":1},{"$f":"SUMPRODUCT((Teams1=T17)*(Teams1_Score>Teams2_Score))+SUMPRODUCT((Teams2=T17)*(Teams2_Score>Teams1_Score))","v":0},{"$f":"SUMPRODUCT((Teams1=T17)*(Teams1_Score=Teams2_Score)*(Teams1_Score<>\"\"))+SUMPRODUCT((Teams2=T17)*(Teams2_Score=Teams1_Score)*(Teams2_Score<>\"\"))","v":1},{"$f":"SUMPRODUCT((Teams1=T17)*(Teams1_Score<Teams2_Score))+SUMPRODUCT((Teams2=T17)*(Teams2_Score<Teams1_Score))","v":0},{"$f":"SUMPRODUCT((Teams1=T17)*(Teams1_Score))+SUMPRODUCT((Teams2=T17)*(Teams2_Score))","v":3},{"$f":"SUMPRODUCT((Teams1=T17)*(Teams2_Score))+SUMPRODUCT((Teams2=T17)*(Teams1_Score))","v":3},{"$f":"Y17-Z17","v":0},{"$f":"3*V17+W17","v":1}]
[null,{"$f":"VLOOKUP($D18,TABLEAU_MATCHS[#All],2,FALSE)","v":"2018-06-17"},{"$f":"VLOOKUP($D18,TABLEAU_MATCHS[#All],3,FALSE)","v":"17:00:00"},11,{"$f":"\"Groupe \"&VLOOKUP($I18,TABLEAU_TEAMS[[#All],[TEAM]:[GROUP_INITIAL_RANK]],2,FALSE)","v":"Groupe F"},null,null,null,{"$f":"VLOOKUP($D18,TABLEAU_MATCHS[#All],4,FALSE)","v":"Allemagne"},null,null,{"$f":"VLOOKUP($D18,TABLEAU_MATCHS[#All],5,FALSE)","v":"Mexique"},null,null,null,null,"-00100Maroc",-100,4,"Maroc",{"$f":"SUMPRODUCT((Teams1=T18)*(Teams1_Score<>\"\"))+SUMPRODUCT((Teams2=T18)*(Teams2_Score<>\"\"))","v":1},{"$f":"SUMPRODUCT((Teams1=T18)*(Teams1_Score>Teams2_Score))+SUMPRODUCT((Teams2=T18)*(Teams2_Score>Teams1_Score))","v":0},{"$f":"SUMPRODUCT((Teams1=T18)*(Teams1_Score=Teams2_Score)*(Teams1_Score<>\"\"))+SUMPRODUCT((Teams2=T18)*(Teams2_Score=Teams1_Score)*(Teams2_Score<>\"\"))","v":0},{"$f":"SUMPRODUCT((Teams1=T18)*(Teams1_Score<Teams2_Score))+SUMPRODUCT((Teams2=T18)*(Teams2_Score<Teams1_Score))","v":1},{"$f":"SUMPRODUCT((Teams1=T18)*(Teams1_Score))+SUMPRODUCT((Teams2=T18)*(Teams2_Score))","v":0},{"$f":"SUMPRODUCT((Teams1=T18)*(Teams2_Score))+SUMPRODUCT((Teams2=T18)*(Teams1_Score))","v":1},{"$f":"Y18-Z18","v":-1},{"$f":"3*V18+W18","v":0},null,null,"2018-07-10",1,{"$f":"+IF(AI23<>\"\",IF(AH23>AN23,AG23,AM23),\"Vainqueur A\")","v":"Vainqueur A"},{"$f":"AI18*10+AK18","v":0},null,null,null,null,{"$f":"+IF(AI25<>\"\",IF(AH25>AN25,AG25,AM25),\"Vainqueur C\")","v":"Vainqueur C"},{"$f":"AO18*10+AQ18","v":0}]
[null,{"$f":"VLOOKUP($D19,TABLEAU_MATCHS[#All],2,FALSE)","v":"2018-06-18"},{"$f":"VLOOKUP($D19,TABLEAU_MATCHS[#All],3,FALSE)","v":"14:00:00"},12,{"$f":"\"Groupe \"&VLOOKUP($I19,TABLEAU_TEAMS[[#All],[TEAM]:[GROUP_INITIAL_RANK]],2,FALSE)","v":"Groupe F"},null,null,null,{"$f":"VLOOKUP($D19,TABLEAU_MATCHS[#All],4,FALSE)","v":"Suède"},null,null,{"$f":"VLOOKUP($D19,TABLEAU_MATCHS[#All],5,FALSE)","v":"République de Corée"},null,null,null,null,null,null,null,null,null,null,null,null,null,null,null,null,null,null,"2018-07-11",2,{"$f":"+IF(AI24<>\"\",IF(AH24>AN24,AG24,AM24),\"Vainqueur B\")","v":"Vainqueur B"},{"$f":"AI19*10+AK19","v":0},null,null,null,null,{"$f":"+IF(AI26<>\"\",IF(AH26>AN26,AG26,AM26),\"Vainqueur D\")","v":"Vainqueur D"},{"$f":"AO19*10+AQ19","v":0}]
[null,{"$f":"VLOOKUP($D20,TABLEAU_MATCHS[#All],2,FALSE)","v":"2018-06-18"},{"$f":"VLOOKUP($D20,TABLEAU_MATCHS[#All],3,FALSE)","v":"17:00:00"},13,{"$f":"\"Groupe \"&VLOOKUP($I20,TABLEAU_TEAMS[[#All],[TEAM]:[GROUP_INITIAL_RANK]],2,FALSE)","v":"Groupe G"},null,null,null,{"$f":"VLOOKUP($D20,TABLEAU_MATCHS[#All],4,FALSE)","v":"Belgique"},null,null,{"$f":"VLOOKUP($D20,TABLEAU_MATCHS[#All],5,FALSE)","v":"Panama"},null,null,null,null,null,null,"Rg","Groupe C","MJ","G","N","P","BP","BC","+/-","Pts"]
[null,{"$f":"VLOOKUP($D21,TABLEAU_MATCHS[#All],2,FALSE)","v":"2018-06-18"},{"$f":"VLOOKUP($D21,TABLEAU_MATCHS[#All],3,FALSE)","v":"20:00:00"},14,{"$f":"\"Groupe \"&VLOOKUP($I21,TABLEAU_TEAMS[[#All],[TEAM]:[GROUP_INITIAL_RANK]],2,FALSE)","v":"Groupe G"},null,null,null,{"$f":"VLOOKUP($D21,TABLEAU_MATCHS[#All],4,FALSE)","v":"Tunisie"},null,null,{"$f":"VLOOKUP($D21,TABLEAU_MATCHS[#All],5,FALSE)","v":"Angleterre"},null,null,null,null,{"$f":"INDEX($Q72:$Q75,MATCH(SMALL(COUNTIF($Q72:$Q75,\">=\"&$Q72:$Q75),ROW(INDIRECT(\"1:\"&ROWS($Q72:$Q75)))),COUNTIF($Q72:$Q75,\">=\"&$Q72:$Q75),0))","v":"00000Pérou"},{"$f":"INDEX($R72:$R75,MATCH(SMALL(COUNTIF($Q72:$Q75,\">=\"&$Q72:$Q75),ROW(INDIRECT(\"1:\"&ROWS($Q72:$Q75)))),COUNTIF($Q72:$Q75,\">=\"&$Q72:$Q75),0))","v":0},{"$f":"INDEX($S72:$S75,MATCH(SMALL(COUNTIF($Q72:$Q75,\">=\"&$Q72:$Q75),ROW(INDIRECT(\"1:\"&ROWS($Q72:$Q75)))),COUNTIF($Q72:$Q75,\">=\"&$Q72:$Q75),0))","v":1},{"$f":"INDEX($T72:$T75,MATCH(SMALL(COUNTIF($Q72:$Q75,\">=\"&$Q72:$Q75),ROW(INDIRECT(\"1:\"&ROWS($Q72:$Q75)))),COUNTIF($Q72:$Q75,\">=\"&$Q72:$Q75),0))","v":"Pérou"},{"$f":"SUMPRODUCT((Teams1=T21)*(Teams1_Score<>\"\"))+SUMPRODUCT((Teams2=T21)*(Teams2_Score<>\"\"))","v":0},{"$f":"SUMPRODUCT((Teams1=T21)*(Teams1_Score>Teams2_Score))+SUMPRODUCT((Teams2=T21)*(Teams2_Score>Teams1_Score))","v":0},{"$f":"SUMPRODUCT((Teams1=T21)*(Teams1_Score=Teams2_Score)*(Teams1_Score<>\"\"))+SUMPRODUCT((Teams2=T21)*(Teams2_Score=Teams1_Score)*(Teams2_Score<>\"\"))","v":0},{"$f":"SUMPRODUCT((Teams1=T21)*(Teams1_Score<Teams2_Score))+SUMPRODUCT((Teams2=T21)*(Teams2_Score<Teams1_Score))","v":0},{"$f":"SUMPRODUCT((Teams1=T21)*(Teams1_Score))+SUMPRODUCT((Teams2=T21)*(Teams2_Score))","v":0},{"$f":"SUMPRODUCT((Teams1=T21)*(Teams2_Score))+SUMPRODUCT((Teams2=T21)*(Teams1_Score))","v":0},{"$f":"Y21-Z21","v":0},{"$f":"3*V21+W21","v":0},null,null,"Date","Quart de Finale",null,null,"Buts",null,"Pen",null,null,null,"Buts",null,"Pen"]
[null,{"$f":"VLOOKUP($D22,TABLEAU_MATCHS[#All],2,FALSE)","v":"2018-06-19"},{"$f":"VLOOKUP($D22,TABLEAU_MATCHS[#All],3,FALSE)","v":"17:00:00"},15,{"$f":"\"Groupe \"&VLOOKUP($I22,TABLEAU_TEAMS[[#All],[TEAM]:[GROUP_INITIAL_RANK]],2,FALSE)","v":"Groupe H"},null,null,null,{"$f":"VLOOKUP($D22,TABLEAU_MATCHS[#All],4,FALSE)","v":"Colombie"},null,null,{"$f":"VLOOKUP($D22,TABLEAU_MATCHS[#All],5,FALSE)","v":"Japon"},null,null,null,null,"00000France",0,1,"France",{"$f":"SUMPRODUCT((Teams1=T22)*(Teams1_Score<>\"\"))+SUMPRODUCT((Teams2=T22)*(Teams2_Score<>\"\"))","v":0},{"$f":"SUMPRODUCT((Teams1=T22)*(Teams1_Score>Teams2_Score))+SUMPRODUCT((Teams2=T22)*(Teams2_Score>Teams1_Score))","v":0},{"$f":"SUMPRODUCT((Teams1=T22)*(Teams1_Score=Teams2_Score)*(Teams1_Score<>\"\"))+SUMPRODUCT((Teams2=T22)*(Teams2_Score=Teams1_Score)*(Teams2_Score<>\"\"))","v":0},{"$f":"SUMPRODUCT((Teams1=T22)*(Teams1_Score<Teams2_Score))+SUMPRODUCT((Teams2=T22)*(Teams2_Score<Teams1_Score))","v":0},{"$f":"SUMPRODUCT((Teams1=T22)*(Teams1_Score))+SUMPRODUCT((Teams2=T22)*(Teams2_Score))","v":0},{"$f":"SUMPRODUCT((Teams1=T22)*(Teams2_Score))+SUMPRODUCT((Teams2=T22)*(Teams1_Score))","v":0},{"$f":"Y22-Z22","v":0},{"$f":"3*V22+W22","v":0}]
[null,{"$f":"VLOOKUP($D23,TABLEAU_MATCHS[#All],2,FALSE)","v":"2018-06-19"},{"$f":"VLOOKUP($D23,TABLEAU_MATCHS[#All],3,FALSE)","v":"14:00:00"},16,{"$f":"\"Groupe \"&VLOOKUP($I23,TABLEAU_TEAMS[[#All],[TEAM]:[GROUP_INITIAL_RANK]],2,FALSE)","v":"Groupe H"},null,null,null,{"$f":"VLOOKUP($D23,TABLEAU_MATCHS[#All],4,FALSE)","v":"Pologne"},null,null,{"$f":"VLOOKUP($D23,TABLEAU_MATCHS[#All],5,FALSE)","v":"Sénégal"},null,null,null,null,"00000Danemark",0,1,"Danemark",{"$f":"SUMPRODUCT((Teams1=T23)*(Teams1_Score<>\"\"))+SUMPRODUCT((Teams2=T23)*(Teams2_Score<>\"\"))","v":0},{"$f":"SUMPRODUCT((Teams1=T23)*(Teams1_Score>Teams2_Score))+SUMPRODUCT((Teams2=T23)*(Teams2_Score>Teams1_Score))","v":0},{"$f":"SUMPRODUCT((Teams1=T23)*(Teams1_Score=Teams2_Score)*(Teams1_Score<>\"\"))+SUMPRODUCT((Teams2=T23)*(Teams2_Score=Teams1_Score)*(Teams2_Score<>\"\"))","v":0},{"$f":"SUMPRODUCT((Teams1=T23)*(Teams1_Score<Teams2_Score))+SUMPRODUCT((Teams2=T23)*(Teams2_Score<Teams1_Score))","v":0},{"$f":"SUMPRODUCT((Teams1=T23)*(Teams1_Score))+SUMPRODUCT((Teams2=T23)*(Teams2_Score))","v":0},{"$f":"SUMPRODUCT((Teams1=T23)*(Teams2_Score))+SUMPRODUCT((Teams2=T23)*(Teams1_Score))","v":0},{"$f":"Y23-Z23","v":0},{"$f":"3*V23+W23","v":0},null,null,"2018-07-06","A",{"$f":"+IF(AI30<>\"\",IF(AH30>AN30,AG30,AM30),\"Vainqueur 1\")","v":"Vainqueur 1"},{"$f":"AI23*10+AK23","v":0},null,null,null,null,{"$f":"+IF(AI32<>\"\",IF(AH32>AN32,AG32,AM32),\"Vainqueur 3\")","v":"Vainqueur 3"},{"$f":"AO23*10+AQ23","v":0}]
[null,{"$f":"VLOOKUP($D24,TABLEAU_MATCHS[#All],2,FALSE)","v":"2018-06-19"},{"$f":"VLOOKUP($D24,TABLEAU_MATCHS[#All],3,FALSE)","v":"20:00:00"},17,{"$f":"\"Groupe \"&VLOOKUP($I24,TABLEAU_TEAMS[[#All],[TEAM]:[GROUP_INITIAL_RANK]],2,FALSE)","v":"Groupe A"},null,null,null,{"$f":"VLOOKUP($D24,TABLEAU_MATCHS[#All],4,FALSE)","v":"Russie"},null,null,{"$f":"VLOOKUP($D24,TABLEAU_MATCHS[#All],5,FALSE)","v":"Egypte"},null,null,null,null,"00000Australie",0,1,"Australie",{"$f":"SUMPRODUCT((Teams1=T24)*(Teams1_Score<>\"\"))+SUMPRODUCT((Teams2=T24)*(Teams2_Score<>\"\"))","v":0},{"$f":"SUMPRODUCT((Teams1=T24)*(Teams1_Score>Teams2_Score))+SUMPRODUCT((Teams2=T24)*(Teams2_Score>Teams1_Score))","v":0},{"$f":"SUMPRODUCT((Teams1=T24)*(Teams1_Score=Teams2_Score)*(Teams1_Score<>\"\"))+SUMPRODUCT((Teams2=T24)*(Teams2_Score=Teams1_Score)*(Teams2_Score<>\"\"))","v":0},{"$f":"SUMPRODUCT((Teams1=T24)*(Teams1_Score<Teams2_Score))+SUMPRODUCT((Teams2=T24)*(Teams2_Score<Teams1_Score))","v":0},{"$f":"SUMPRODUCT((Teams1=T24)*(Teams1_Score))+SUMPRODUCT((Teams2=T24)*(Teams2_Score))","v":0},{"$f":"SUMPRODUCT((Teams1=T24)*(Teams2_Score))+SUMPRODUCT((Teams2=T24)*(Teams1_Score))","v":0},{"$f":"Y24-Z24","v":0},{"$f":"3*V24+W24","v":0},null,null,"2018-07-07","B",{"$f":"+IF(AI31<>\"\",IF(AH31>AN31,AG31,AM31),\"Vainqueur 2\")","v":"Vainqueur 2"},{"$f":"AI24*10+AK24","v":0},null,null,null,null,{"$f":"+IF(AI33<>\"\",IF(AH33>AN33,AG33,AM33),\"Vainqueur 4\")","v":"Vainqueur 4"},{"$f":"AO24*10+AQ24","v":0}]
[null,{"$f":"VLOOKUP($D25,TABLEAU_MATCHS[#All],2,FALSE)","v":"2018-06-20"},{"$f":"VLOOKUP($D25,TABLEAU_MATCHS[#All],3,FALSE)","v":"17:00:00"},18,{"$f":"\"Groupe \"&VLOOKUP($I25,TABLEAU_TEAMS[[#All],[TEAM]:[GROUP_INITIAL_RANK]],2,FALSE)","v":"Groupe A"},null,null,null,{"$f":"VLOOKUP($D25,TABLEAU_MATCHS[#All],4,FALSE)","v":"Uruguay"},null,null,{"$f":"VLOOKUP($D25,TABLEAU_MATCHS[#All],5,FALSE)","v":"Arabie Saoudite"},null,null,null,null,null,null,null,null,null,null,null,null,null,null,null,null,null,null,"2018-07-06","C",{"$f":"+IF(AI34<>\"\",IF(AH34>AN34,AG34,AM34),\"Vainqueur 5\")","v":"Vainqueur 5"},{"$f":"AI25*10+AK25","v":0},null,null,null,null,{"$f":"+IF(AI36<>\"\",IF(AH36>AN36,AG36,AM36),\"Vainqueur 7\")","v":"Vainqueur 7"},{"$f":"AO25*10+AQ25","v":0}]
[null,{"$f":"VLOOKUP($D26,TABLEAU_MATCHS[#All],2,FALSE)","v":"2018-06-20"},{"$f":"VLOOKUP($D26,TABLEAU_MATCHS[#All],3,FALSE)","v":"14:00:00"},19,{"$f":"\"Groupe \"&VLOOKUP($I26,TABLEAU_TEAMS[[#All],[TEAM]:[GROUP_INITIAL_RANK]],2,FALSE)","v":"Groupe B"},null,null,null,{"$f":"VLOOKUP($D26,TABLEAU_MATCHS[#All],4,FALSE)","v":"Portugal"},null,null,{"$f":"VLOOKUP($D26,TABLEAU_MATCHS[#All],5,FALSE)","v":"Maroc"},null,null,null,null,null,null,"Rg","Groupe D","MJ","G","N","P","BP","BC","+/-","Pts",null,null,"2018-07-07","D",{"$f":"+IF(AI35<>\"\",IF(AH35>AN35,AG35,AM35),\"Vainqueur 6\")","v":"Vainqueur 6"},{"$f":"AI26*10+AK26","v":0},null,null,null,null,{"$f":"+IF(AI37<>\"\",IF(AH37>AN37,AG37,AM37),\"Vainqueur 8\")","v":"Vainqueur 8"},{"$f":"AO26*10+AQ26","v":0}]
[null,{"$f":"VLOOKUP($D27,TABLEAU_MATCHS[#All],2,FALSE)","v":"2018-06-20"},{"$f":"VLOOKUP($D27,TABLEAU_MATCHS[#All],3,FALSE)","v":"20:00:00"},20,{"$f":"\"Groupe \"&VLOOKUP($I27,TABLEAU_TEAMS[[#All],[TEAM]:[GROUP_INITIAL_RANK]],2,FALSE)","v":"Groupe B"},null,null,null,{"$f":"VLOOKUP($D27,TABLEAU_MATCHS[#All],4,FALSE)","v":"RI Iran"},null,null,{"$f":"VLOOKUP($D27,TABLEAU_MATCHS[#All],5,FALSE)","v":"Espagne"},null,null,null,null,{"$f":"INDEX($Q78:$Q81,MATCH(SMALL(COUNTIF($Q78:$Q81,\">=\"&$Q78:$Q81),ROW(INDIRECT(\"1:\"&ROWS($Q78:$Q81)))),COUNTIF($Q78:$Q81,\">=\"&$Q78:$Q81),0))","v":"00000Nigeria"},{"$f":"INDEX($R78:$R81,MATCH(SMALL(COUNTIF($Q78:$Q81,\">=\"&$Q78:$Q81),ROW(INDIRECT(\"1:\"&ROWS($Q78:$Q81)))),COUNTIF($Q78:$Q81,\">=\"&$Q78:$Q81),0))","v":0},{"$f":"INDEX($S78:$S81,MATCH(SMALL(COUNTIF($Q78:$Q81,\">=\"&$Q78:$Q81),ROW(INDIRECT(\"1:\"&ROWS($Q78:$Q81)))),COUNTIF($Q78:$Q81,\">=\"&$Q78:$Q81),0))","v":1},{"$f":"INDEX($T78:$T81,MATCH(SMALL(COUNTIF($Q78:$Q81,\">=\"&$Q78:$Q81),ROW(INDIRECT(\"1:\"&ROWS($Q78:$Q81)))),COUNTIF($Q78:$Q81,\">=\"&$Q78:$Q81),0))","v":"Nigeria"},{"$f":"SUMPRODUCT((Teams1=T27)*(Teams1_Score<>\"\"))+SUMPRODUCT((Teams2=T27)*(Teams2_Score<>\"\"))","v":0},{"$f":"SUMPRODUCT((Teams1=T27)*(Teams1_Score>Teams2_Score))+SUMPRODUCT((Teams2=T27)*(Teams2_Score>Teams1_Score))","v":0},{"$f":"SUMPRODUCT((Teams1=T27)*(Teams1_Score=Teams2_Score)*(Teams1_Score<>\"\"))+SUMPRODUCT((Teams2=T27)*(Teams2_Score=Teams1_Score)*(Teams2_Score<>\"\"))","v":0},{"$f":"SUMPRODUCT((Teams1=T27)*(Teams1_Score<Teams2_Score))+SUMPRODUCT((Teams2=T27)*(Teams2_Score<Teams1_Score))","v":0},{"$f":"SUMPRODUCT((Teams1=T27)*(Teams1_Score))+SUMPRODUCT((Teams2=T27)*(Teams2_Score))","v":0},{"$f":"SUMPRODUCT((Teams1=T27)*(Teams2_Score))+SUMPRODUCT((Teams2=T27)*(Teams1_Score))","v":0},{"$f":"Y27-Z27","v":0},{"$f":"3*V27+W27","v":0}]
[null,{"$f":"VLOOKUP($D28,TABLEAU_MATCHS[#All],2,FALSE)","v":"2018-06-21"},{"$f":"VLOOKUP($D28,TABLEAU_MATCHS[#All],3,FALSE)","v":"14:00:00"},21,{"$f":"\"Groupe \"&VLOOKUP($I28,TABLEAU_TEAMS[[#All],[TEAM]:[GROUP_INITIAL_RANK]],2,FALSE)","v":"Groupe C"},null,null,null,{"$f":"VLOOKUP($D28,TABLEAU_MATCHS[#All],4,FALSE)","v":"Danemark"},null,null,{"$f":"VLOOKUP($D28,TABLEAU_MATCHS[#All],5,FALSE)","v":"Australie"},null,null,null,null,"00000Islande",0,1,"Islande",{"$f":"SUMPRODUCT((Teams1=T28)*(Teams1_Score<>\"\"))+SUMPRODUCT((Teams2=T28)*(Teams2_Score<>\"\"))","v":0},{"$f":"SUMPRODUCT((Teams1=T28)*(Teams1_Score>Teams2_Score))+SUMPRODUCT((Teams2=T28)*(Teams2_Score>Teams1_Score))","v":0},{"$f":"SUMPRODUCT((Teams1=T28)*(Teams1_Score=Teams2_Score)*(Teams1_Score<>\"\"))+SUMPRODUCT((Teams2=T28)*(Teams2_Score=Teams1_Score)*(Teams2_Score<>\"\"))","v":0},{"$f":"SUMPRODUCT((Teams1=T28)*(Teams1_Score<Teams2_Score))+SUMPRODUCT((Teams2=T28)*(Teams2_Score<Teams1_Score))","v":0},{"$f":"SUMPRODUCT((Teams1=T28)*(Teams1_Score))+SUMPRODUCT((Teams2=T28)*(Teams2_Score))","v":0},{"$f":"SUMPRODUCT((Teams1=T28)*(Teams2_Score))+SUMPRODUCT((Teams2=T28)*(Teams1_Score))","v":0},{"$f":"Y28-Z28","v":0},{"$f":"3*V28+W28","v":0},null,null,"Date","Huitième de Finale",null,null,"Buts",null,"Pen",null,null,null,"Buts",null,"Pen"]
[null,{"$f":"VLOOKUP($D29,TABLEAU_MATCHS[#All],2,FALSE)","v":"2018-06-21"},{"$f":"VLOOKUP($D29,TABLEAU_MATCHS[#All],3,FALSE)","v":"17:00:00"},22,{"$f":"\"Groupe \"&VLOOKUP($I29,TABLEAU_TEAMS[[#All],[TEAM]:[GROUP_INITIAL_RANK]],2,FALSE)","v":"Groupe C"},null,null,null,{"$f":"VLOOKUP($D29,TABLEAU_MATCHS[#All],4,FALSE)","v":"France"},null,null,{"$f":"VLOOKUP($D29,TABLEAU_MATCHS[#All],5,FALSE)","v":"Pérou"},null,null,null,null,"00000Croatie",0,1,"Croatie",{"$f":"SUMPRODUCT((Teams1=T29)*(Teams1_Score<>\"\"))+SUMPRODUCT((Teams2=T29)*(Teams2_Score<>\"\"))","v":0},{"$f":"SUMPRODUCT((Teams1=T29)*(Teams1_Score>Teams2_Score))+SUMPRODUCT((Teams2=T29)*(Teams2_Score>Teams1_Score))","v":0},{"$f":"SUMPRODUCT((Teams1=T29)*(Teams1_Score=Teams2_Score)*(Teams1_Score<>\"\"))+SUMPRODUCT((Teams2=T29)*(Teams2_Score=Teams1_Score)*(Teams2_Score<>\"\"))","v":0},{"$f":"SUMPRODUCT((Teams1=T29)*(Teams1_Score<Teams2_Score))+SUMPRODUCT((Teams2=T29)*(Teams2_Score<Teams1_Score))","v":0},{"$f":"SUMPRODUCT((Teams1=T29)*(Teams1_Score))+SUMPRODUCT((Teams2=T29)*(Teams2_Score))","v":0},{"$f":"SUMPRODUCT((Teams1=T29)*(Teams2_Score))+SUMPRODUCT((Teams2=T29)*(Teams1_Score))","v":0},{"$f":"Y29-Z29","v":0},{"$f":"3*V29+W29","v":0}]
[null,{"$f":"VLOOKUP($D30,TABLEAU_MATCHS[#All],2,FALSE)","v":"2018-06-21"},{"$f":"VLOOKUP($D30,TABLEAU_MATCHS[#All],3,FALSE)","v":"20:00:00"},23,{"$f":"\"Groupe \"&VLOOKUP($I30,TABLEAU_TEAMS[[#All],[TEAM]:[GROUP_INITIAL_RANK]],2,FALSE)","v":"Groupe D"},null,null,null,{"$f":"VLOOKUP($D30,TABLEAU_MATCHS[#All],4,FALSE)","v":"Argentine"},null,null,{"$f":"VLOOKUP($D30,TABLEAU_MATCHS[#All],5,FALSE)","v":"Croatie"},null,null,null,null,"00000Argentine",0,1,"Argentine",{"$f":"SUMPRODUCT((Teams1=T30)*(Teams1_Score<>\"\"))+SUMPRODUCT((Teams2=T30)*(Teams2_Score<>\"\"))","v":0},{"$f":"SUMPRODUCT((Teams1=T30)*(Teams1_Score>Teams2_Score))+SUMPRODUCT((Teams2=T30)*(Teams2_Score>Teams1_Score))","v":0},{"$f":"SUMPRODUCT((Teams1=T30)*(Teams1_Score=Teams2_Score)*(Teams1_Score<>\"\"))+SUMPRODUCT((Teams2=T30)*(Teams2_Score=Teams1_Score)*(Teams2_Score<>\"\"))","v":0},{"$f":"SUMPRODUCT((Teams1=T30)*(Teams1_Score<Teams2_Score))+SUMPRODUCT((Teams2=T30)*(Teams2_Score<Teams1_Score))","v":0},{"$f":"SUMPRODUCT((Teams1=T30)*(Teams1_Score))+SUMPRODUCT((Teams2=T30)*(Teams2_Score))","v":0},{"$f":"SUMPRODUCT((Teams1=T30)*(Teams2_Score))+SUMPRODUCT((Teams2=T30)*(Teams1_Score))","v":0},{"$f":"Y30-Z30","v":0},{"$f":"3*V30+W30","v":0},null,null,"2018-06-30",1,{"$f":"IF(SUM(U9:U12)=0,\"1er Groupe A\",IF(COUNTIF(S9:S12,1)=1,VLOOKUP(1,S9:T12,2,FALSE),IF(COUNTIF(S9:S12,1)>=2,\"Tirage au Sort A1\")))","v":"Russie"},{"$f":"AI30*10+AK30","v":0},null,null,null,null,{"$f":"IF(SUM(U15:U18)=0,\"2nd Groupe B\",IF(OR(COUNTIF(S15:S18,1)>1,COUNTIF(S15:S18,2)>1),\"Tirage au sort B2\",VLOOKUP(2,S15:T18,2,FALSE)))","v":"Tirage au sort B2"},{"$f":"AO30*10+AQ30","v":0}]
[null,{"$f":"VLOOKUP($D31,TABLEAU_MATCHS[#All],2,FALSE)","v":"2018-06-22"},{"$f":"VLOOKUP($D31,TABLEAU_MATCHS[#All],3,FALSE)","v":"17:00:00"},24,{"$f":"\"Groupe \"&VLOOKUP($I31,TABLEAU_TEAMS[[#All],[TEAM]:[GROUP_INITIAL_RANK]],2,FALSE)","v":"Groupe D"},null,null,null,{"$f":"VLOOKUP($D31,TABLEAU_MATCHS[#All],4,FALSE)","v":"Nigeria"},null,null,{"$f":"VLOOKUP($D31,TABLEAU_MATCHS[#All],5,FALSE)","v":"Islande"},null,null,null,null,null,null,null,null,null,null,null,null,null,null,null,null,null,null,"2018-07-01",2,{"$f":"IF(SUM(U15:U18)=0,\"1er Groupe B\",IF(COUNTIF(S15:S18,1)=1,VLOOKUP(1,S15:T18,2,FALSE),IF(COUNTIF(S15:S18,1)>=2,\"Tirage au Sort B1\")))","v":"RI Iran"},{"$f":"AI31*10+AK31","v":0},null,null,null,null,{"$f":"IF(SUM(U9:U12)=0,\"2nd Groupe A\",IF(OR(COUNTIF(S9:S12,1)>1,COUNTIF(S9:S12,2)>1),\"Tirage au sort A2\",VLOOKUP(2,S9:T12,2,FALSE)))","v":"Uruguay"},0]
[null,{"$f":"VLOOKUP($D32,TABLEAU_MATCHS[#All],2,FALSE)","v":"2018-06-22"},{"$f":"VLOOKUP($D32,TABLEAU_MATCHS[#All],3,FALSE)","v":"14:00:00"},25,{"$f":"\"Groupe \"&VLOOKUP($I32,TABLEAU_TEAMS[[#All],[TEAM]:[GROUP_INITIAL_RANK]],2,FALSE)","v":"Groupe E"},null,null,null,{"$f":"VLOOKUP($D32,TABLEAU_MATCHS[#All],4,FALSE)","v":"Brésil"},null,null,{"$f":"VLOOKUP($D32,TABLEAU_MATCHS[#All],5,FALSE)","v":"Costa Rica"},null,null,null,null,null,null,"Rg","Groupe E","MJ","G","N","P","BP","BC","+/-","Pts",null,null,"2017-06-30",3,{"$f":"IF(SUM(U21:U24)=0,\"1er Groupe C\",IF(COUNTIF(S21:S24,1)=1,VLOOKUP(1,S21:T24,2,FALSE),IF(COUNTIF(S21:S24,1)>=2,\"Tirage au Sort C1\")))","v":"1er Groupe C"},0,null,null,null,null,{"$f":"IF(SUM(U27:U30)=0,\"2nd Groupe D\",IF(OR(COUNTIF(S27:S30,1)>1,COUNTIF(S27:S30,2)>1),\"Tirage au sort D2\",VLOOKUP(2,S27:T30,2,FALSE)))","v":"2nd Groupe D"},0]
[null,{"$f":"VLOOKUP($D33,TABLEAU_MATCHS[#All],2,FALSE)","v":"2018-06-22"},{"$f":"VLOOKUP($D33,TABLEAU_MATCHS[#All],3,FALSE)","v":"20:00:00"},26,{"$f":"\"Groupe \"&VLOOKUP($I33,TABLEAU_TEAMS[[#All],[TEAM]:[GROUP_INITIAL_RANK]],2,FALSE)","v":"Groupe E"},null,null,null,{"$f":"VLOOKUP($D33,TABLEAU_MATCHS[#All],4,FALSE)","v":"Serbie"},null,null,{"$f":"VLOOKUP($D33,TABLEAU_MATCHS[#All],5,FALSE)","v":"Suisse"},null,null,null,null,{"$f":"INDEX($Q84:$Q87,MATCH(SMALL(COUNTIF($Q84:$Q87,\">=\"&$Q84:$Q87),ROW(INDIRECT(\"1:\"&ROWS($Q84:$Q87)))),COUNTIF($Q84:$Q87,\">=\"&$Q84:$Q87),0))","v":"00000Suisse"},{"$f":"INDEX($R84:$R87,MATCH(SMALL(COUNTIF($Q84:$Q87,\">=\"&$Q84:$Q87),ROW(INDIRECT(\"1:\"&ROWS($Q84:$Q87)))),COUNTIF($Q84:$Q87,\">=\"&$Q84:$Q87),0))","v":0},{"$f":"INDEX($S84:$S87,MATCH(SMALL(COUNTIF($Q84:$Q87,\">=\"&$Q84:$Q87),ROW(INDIRECT(\"1:\"&ROWS($Q84:$Q87)))),COUNTIF($Q84:$Q87,\">=\"&$Q84:$Q87),0))","v":1},{"$f":"INDEX($T84:$T87,MATCH(SMALL(COUNTIF($Q84:$Q87,\">=\"&$Q84:$Q87),ROW(INDIRECT(\"1:\"&ROWS($Q84:$Q87)))),COUNTIF($Q84:$Q87,\">=\"&$Q84:$Q87),0))","v":"Suisse"},{"$f":"SUMPRODUCT((Teams1=T33)*(Teams1_Score<>\"\"))+SUMPRODUCT((Teams2=T33)*(Teams2_Score<>\"\"))","v":0},{"$f":"SUMPRODUCT((Teams1=T33)*(Teams1_Score>Teams2_Score))+SUMPRODUCT((Teams2=T33)*(Teams2_Score>Teams1_Score))","v":0},{"$f":"SUMPRODUCT((Teams1=T33)*(Teams1_Score=Teams2_Score)*(Teams1_Score<>\"\"))+SUMPRODUCT((Teams2=T33)*(Teams2_Score=Teams1_Score)*(Teams2_Score<>\"\"))","v":0},{"$f":"SUMPRODUCT((Teams1=T33)*(Teams1_Score<Teams2_Score))+SUMPRODUCT((Teams2=T33)*(Teams2_Score<Teams1_Score))","v":0},{"$f":"SUMPRODUCT((Teams1=T33)*(Teams1_Score))+SUMPRODUCT((Teams2=T33)*(Teams2_Score))","v":0},{"$f":"SUMPRODUCT((Teams1=T33)*(Teams2_Score))+SUMPRODUCT((Teams2=T33)*(Teams1_Score))","v":0},{"$f":"Y33-Z33","v":0},{"$f":"3*V33+W33","v":0},null,null,"2018-07-01",4,{"$f":"IF(SUM(U27:U30)=0,\"1er Groupe D\",IF(COUNTIF(S27:S30,1)=1,VLOOKUP(1,S27:T30,2,FALSE),IF(COUNTIF(S27:S30,1)>=2,\"Tirage au Sort D1\")))","v":"1er Groupe D"},0,null,null,null,null,{"$f":"IF(SUM(U21:U24)=0,\"2nd Groupe C\",IF(OR(COUNTIF(S21:S24,1)>1,COUNTIF(S21:S24,2)>1),\"Tirage au sort C2\",VLOOKUP(2,S21:T24,2,FALSE)))","v":"2nd Groupe C"},0]
[null,{"$f":"VLOOKUP($D34,TABLEAU_MATCHS[#All],2,FALSE)","v":"2018-06-23"},{"$f":"VLOOKUP($D34,TABLEAU_MATCHS[#All],3,FALSE)","v":"20:00:00"},27,{"$f":"\"Groupe \"&VLOOKUP($I34,TABLEAU_TEAMS[[#All],[TEAM]:[GROUP_INITIAL_RANK]],2,FALSE)","v":"Groupe F"},null,null,null,{"$f":"VLOOKUP($D34,TABLEAU_MATCHS[#All],4,FALSE)","v":"République de Corée"},null,null,{"$f":"VLOOKUP($D34,TABLEAU_MATCHS[#All],5,FALSE)","v":"Mexique"},null,null,null,null,"00000Serbie",0,1,"Serbie",{"$f":"SUMPRODUCT((Teams1=T34)*(Teams1_Score<>\"\"))+SUMPRODUCT((Teams2=T34)*(Teams2_Score<>\"\"))","v":0},{"$f":"SUMPRODUCT((Teams1=T34)*(Teams1_Score>Teams2_Score))+SUMPRODUCT((Teams2=T34)*(Teams2_Score>Teams1_Score))","v":0},{"$f":"SUMPRODUCT((Teams1=T34)*(Teams1_Score=Teams2_Score)*(Teams1_Score<>\"\"))+SUMPRODUCT((Teams2=T34)*(Teams2_Score=Teams1_Score)*(Teams2_Score<>\"\"))","v":0},{"$f":"SUMPRODUCT((Teams1=T34)*(Teams1_Score<Teams2_Score))+SUMPRODUCT((Teams2=T34)*(Teams2_Score<Teams1_Score))","v":0},{"$f":"SUMPRODUCT((Teams1=T34)*(Teams1_Score))+SUMPRODUCT((Teams2=T34)*(Teams2_Score))","v":0},{"$f":"SUMPRODUCT((Teams1=T34)*(Teams2_Score))+SUMPRODUCT((Teams2=T34)*(Teams1_Score))","v":0},{"$f":"Y34-Z34","v":0},{"$f":"3*V34+W34","v":0},null,null,"2018-07-02",5,{"$f":"IF(SUM(U33:U36)=0,\"1er Groupe E\",IF(COUNTIF(S33:S36,1)=1,VLOOKUP(1,S33:T36,2,FALSE),IF(COUNTIF(S33:S36,1)>=2,\"Tirage au Sort E1\")))","v":"1er Groupe E"},0,null,null,null,null,{"$f":"IF(SUM(U39:U42)=0,\"2nd Groupe F\",IF(OR(COUNTIF(S39:S42,1)>1,COUNTIF(S39:S42,2)>1),\"Tirage au sort F2\",VLOOKUP(2,S39:T42,2,FALSE)))","v":"2nd Groupe F"},0]
[null,{"$f":"VLOOKUP($D35,TABLEAU_MATCHS[#All],2,FALSE)","v":"2018-06-23"},{"$f":"VLOOKUP($D35,TABLEAU_MATCHS[#All],3,FALSE)","v":"17:00:00"},28,{"$f":"\"Groupe \"&VLOOKUP($I35,TABLEAU_TEAMS[[#All],[TEAM]:[GROUP_INITIAL_RANK]],2,FALSE)","v":"Groupe F"},null,null,null,{"$f":"VLOOKUP($D35,TABLEAU_MATCHS[#All],4,FALSE)","v":"Allemagne"},null,null,{"$f":"VLOOKUP($D35,TABLEAU_MATCHS[#All],5,FALSE)","v":"Suède"},null,null,null,null,"00000Costa Rica",0,1,"Costa Rica",{"$f":"SUMPRODUCT((Teams1=T35)*(Teams1_Score<>\"\"))+SUMPRODUCT((Teams2=T35)*(Teams2_Score<>\"\"))","v":0},{"$f":"SUMPRODUCT((Teams1=T35)*(Teams1_Score>Teams2_Score))+SUMPRODUCT((Teams2=T35)*(Teams2_Score>Teams1_Score))","v":0},{"$f":"SUMPRODUCT((Teams1=T35)*(Teams1_Score=Teams2_Score)*(Teams1_Score<>\"\"))+SUMPRODUCT((Teams2=T35)*(Teams2_Score=Teams1_Score)*(Teams2_Score<>\"\"))","v":0},{"$f":"SUMPRODUCT((Teams1=T35)*(Teams1_Score<Teams2_Score))+SUMPRODUCT((Teams2=T35)*(Teams2_Score<Teams1_Score))","v":0},{"$f":"SUMPRODUCT((Teams1=T35)*(Teams1_Score))+SUMPRODUCT((Teams2=T35)*(Teams2_Score))","v":0},{"$f":"SUMPRODUCT((Teams1=T35)*(Teams2_Score))+SUMPRODUCT((Teams2=T35)*(Teams1_Score))","v":0},{"$f":"Y35-Z35","v":0},{"$f":"3*V35+W35","v":0},null,null,"2018-07-03",6,{"$f":"IF(SUM(U39:U42)=0,\"1er Groupe F\",IF(COUNTIF(S39:S42,1)=1,VLOOKUP(1,S39:T42,2,FALSE),IF(COUNTIF(S39:S42,1)>=2,\"Tirage au Sort F1\")))","v":"1er Groupe F"},0,null,null,null,null,{"$f":"IF(SUM(U33:U36)=0,\"2nd Groupe E\",IF(OR(COUNTIF(S33:S36,1)>1,COUNTIF(S33:S36,2)>1),\"Tirage au sort E2\",VLOOKUP(2,S33:T36,2,FALSE)))","v":"2nd Groupe E"},0]
[null,{"$f":"VLOOKUP($D36,TABLEAU_MATCHS[#All],2,FALSE)","v":"2018-06-23"},{"$f":"VLOOKUP($D36,TABLEAU_MATCHS[#All],3,FALSE)","v":"14:00:00"},29,{"$f":"\"Groupe \"&VLOOKUP($I36,TABLEAU_TEAMS[[#All],[TEAM]:[GROUP_INITIAL_RANK]],2,FALSE)","v":"Groupe G"},null,null,null,{"$f":"VLOOKUP($D36,TABLEAU_MATCHS[#All],4,FALSE)","v":"Belgique"},null,null,{"$f":"VLOOKUP($D36,TABLEAU_MATCHS[#All],5,FALSE)","v":"Tunisie"},null,null,null,null,"00000Brésil",0,1,"Brésil",{"$f":"SUMPRODUCT((Teams1=T36)*(Teams1_Score<>\"\"))+SUMPRODUCT((Teams2=T36)*(Teams2_Score<>\"\"))","v":0},{"$f":"SUMPRODUCT((Teams1=T36)*(Teams1_Score>Teams2_Score))+SUMPRODUCT((Teams2=T36)*(Teams2_Score>Teams1_Score))","v":0},{"$f":"SUMPRODUCT((Teams1=T36)*(Teams1_Score=Teams2_Score)*(Teams1_Score<>\"\"))+SUMPRODUCT((Teams2=T36)*(Teams2_Score=Teams1_Score)*(Teams2_Score<>\"\"))","v":0},{"$f":"SUMPRODUCT((Teams1=T36)*(Teams1_Score<Teams2_Score))+SUMPRODUCT((Teams2=T36)*(Teams2_Score<Teams1_Score))","v":0},{"$f":"SUMPRODUCT((Teams1=T36)*(Teams1_Score))+SUMPRODUCT((Teams2=T36)*(Teams2_Score))","v":0},{"$f":"SUMPRODUCT((Teams1=T36)*(Teams2_Score))+SUMPRODUCT((Teams2=T36)*(Teams1_Score))","v":0},{"$f":"Y36-Z36","v":0},{"$f":"3*V36+W36","v":0},null,null,"2018-07-02",7,{"$f":"IF(SUM(U45:U48)=0,\"1er Groupe G\",IF(COUNTIF(S45:S48,1)=1,VLOOKUP(1,S45:T48,2,FALSE),IF(COUNTIF(S45:S48,1)>=2,\"Tirage au Sort G1\")))","v":"1er Groupe G"},0,null,null,null,null,{"$f":"IF(SUM(U51:U54)=0,\"2nd Groupe H\",IF(OR(COUNTIF(S51:S54,1)>1,COUNTIF(S51:S54,2)>1),\"Tirage au sort H2\",VLOOKUP(2,S51:T54,2,FALSE)))","v":"2nd Groupe H"},0]
[null,{"$f":"VLOOKUP($D37,TABLEAU_MATCHS[#All],2,FALSE)","v":"2018-06-24"},{"$f":"VLOOKUP($D37,TABLEAU_MATCHS[#All],3,FALSE)","v":"14:00:00"},30,{"$f":"\"Groupe \"&VLOOKUP($I37,TABLEAU_TEAMS[[#All],[TEAM]:[GROUP_INITIAL_RANK]],2,FALSE)","v":"Groupe G"},null,null,null,{"$f":"VLOOKUP($D37,TABLEAU_MATCHS[#All],4,FALSE)","v":"Angleterre"},null,null,{"$f":"VLOOKUP($D37,TABLEAU_MATCHS[#All],5,FALSE)","v":"Panama"},null,null,null,null,null,null,null,null,null,null,null,null,null,null,null,null,null,null,"2018-07-03",8,{"$f":"IF(SUM(U51:U54)=0,\"1er Groupe H\",IF(COUNTIF(S51:S54,1)=1,VLOOKUP(1,S51:T54,2,FALSE),IF(COUNTIF(S51:S54,1)>=2,\"Tirage au Sort H1\")))","v":"1er Groupe H"},0,null,null,null,null,{"$f":"IF(SUM(U45:U48)=0,\"2nd Groupe G\",IF(OR(COUNTIF(S45:S48,1)>1,COUNTIF(S45:S48,2)>1),\"Tirage au sort G2\",VLOOKUP(2,S45:T48,2,FALSE)))","v":"2nd Groupe G"},0]
[null,{"$f":"VLOOKUP($D38,TABLEAU_MATCHS[#All],2,FALSE)","v":"2018-06-24"},{"$f":"VLOOKUP($D38,TABLEAU_MATCHS[#All],3,FALSE)","v":"17:00:00"},31,{"$f":"\"Groupe \"&VLOOKUP($I38,TABLEAU_TEAMS[[#All],[TEAM]:[GROUP_INITIAL_RANK]],2,FALSE)","v":"Groupe H"},null,null,null,{"$f":"VLOOKUP($D38,TABLEAU_MATCHS[#All],4,FALSE)","v":"Japon"},null,null,{"$f":"VLOOKUP($D38,TABLEAU_MATCHS[#All],5,FALSE)","v":"Sénégal"},null,null,null,null,null,null,"Rg","Groupe F","MJ","G","N","P","BP","BC","+/-","Pts"]
[null,{"$f":"VLOOKUP($D39,TABLEAU_MATCHS[#All],2,FALSE)","v":"2018-06-24"},{"$f":"VLOOKUP($D39,TABLEAU_MATCHS[#All],3,FALSE)","v":"20:00:00"},32,{"$f":"\"Groupe \"&VLOOKUP($I39,TABLEAU_TEAMS[[#All],[TEAM]:[GROUP_INITIAL_RANK]],2,FALSE)","v":"Groupe H"},null,null,null,{"$f":"VLOOKUP($D39,TABLEAU_MATCHS[#All],4,FALSE)","v":"Pologne"},null,null,{"$f":"VLOOKUP($D39,TABLEAU_MATCHS[#All],5,FALSE)","v":"Colombie"},null,null,null,null,{"$f":"INDEX($Q90:$Q93,MATCH(SMALL(COUNTIF($Q90:$Q93,\">=\"&$Q90:$Q93),ROW(INDIRECT(\"1:\"&ROWS($Q90:$Q93)))),COUNTIF($Q90:$Q93,\">=\"&$Q90:$Q93),0))","v":"00000Suède"},{"$f":"INDEX($R90:$R93,MATCH(SMALL(COUNTIF($Q90:$Q93,\">=\"&$Q90:$Q93),ROW(INDIRECT(\"1:\"&ROWS($Q90:$Q93)))),COUNTIF($Q90:$Q93,\">=\"&$Q90:$Q93),0))","v":0},{"$f":"INDEX($S90:$S93,MATCH(SMALL(COUNTIF($Q90:$Q93,\">=\"&$Q90:$Q93),ROW(INDIRECT(\"1:\"&ROWS($Q90:$Q93)))),COUNTIF($Q90:$Q93,\">=\"&$Q90:$Q93),0))","v":1},{"$f":"INDEX($T90:$T93,MATCH(SMALL(COUNTIF($Q90:$Q93,\">=\"&$Q90:$Q93),ROW(INDIRECT(\"1:\"&ROWS($Q90:$Q93)))),COUNTIF($Q90:$Q93,\">=\"&$Q90:$Q93),0))","v":"Suède"},{"$f":"SUMPRODUCT((Teams1=T39)*(Teams1_Score<>\"\"))+SUMPRODUCT((Teams2=T39)*(Teams2_Score<>\"\"))","v":0},{"$f":"SUMPRODUCT((Teams1=T39)*(Teams1_Score>Teams2_Score))+SUMPRODUCT((Teams2=T39)*(Teams2_Score>Teams1_Score))","v":0},{"$f":"SUMPRODUCT((Teams1=T39)*(Teams1_Score=Teams2_Score)*(Teams1_Score<>\"\"))+SUMPRODUCT((Teams2=T39)*(Teams2_Score=Teams1_Score)*(Teams2_Score<>\"\"))","v":0},{"$f":"SUMPRODUCT((Teams1=T39)*(Teams1_Score<Teams2_Score))+SUMPRODUCT((Teams2=T39)*(Teams2_Score<Teams1_Score))","v":0},{"$f":"SUMPRODUCT((Teams1=T39)*(Teams1_Score))+SUMPRODUCT((Teams2=T39)*(Teams2_Score))","v":0},{"$f":"SUMPRODUCT((Teams1=T39)*(Teams2_Score))+SUMPRODUCT((Teams2=T39)*(Teams1_Score))","v":0},{"$f":"Y39-Z39","v":0},{"$f":"3*V39+W39","v":0}]
[null,{"$f":"VLOOKUP($D40,TABLEAU_MATCHS[#All],2,FALSE)","v":"2018-06-25"},{"$f":"VLOOKUP($D40,TABLEAU_MATCHS[#All],3,FALSE)","v":"16:00:00"},33,{"$f":"\"Groupe \"&VLOOKUP($I40,TABLEAU_TEAMS[[#All],[TEAM]:[GROUP_INITIAL_RANK]],2,FALSE)","v":"Groupe A"},null,null,null,{"$f":"VLOOKUP($D40,TABLEAU_MATCHS[#All],4,FALSE)","v":"Uruguay"},null,null,{"$f":"VLOOKUP($D40,TABLEAU_MATCHS[#All],5,FALSE)","v":"Russie"},null,null,null,null,"00000République de Corée",0,1,"République de Corée",{"$f":"SUMPRODUCT((Teams1=T40)*(Teams1_Score<>\"\"))+SUMPRODUCT((Teams2=T40)*(Teams2_Score<>\"\"))","v":0},{"$f":"SUMPRODUCT((Teams1=T40)*(Teams1_Score>Teams2_Score))+SUMPRODUCT((Teams2=T40)*(Teams2_Score>Teams1_Score))","v":0},{"$f":"SUMPRODUCT((Teams1=T40)*(Teams1_Score=Teams2_Score)*(Teams1_Score<>\"\"))+SUMPRODUCT((Teams2=T40)*(Teams2_Score=Teams1_Score)*(Teams2_Score<>\"\"))","v":0},{"$f":"SUMPRODUCT((Teams1=T40)*(Teams1_Score<Teams2_Score))+SUMPRODUCT((Teams2=T40)*(Teams2_Score<Teams1_Score))","v":0},{"$f":"SUMPRODUCT((Teams1=T40)*(Teams1_Score))+SUMPRODUCT((Teams2=T40)*(Teams2_Score))","v":0},{"$f":"SUMPRODUCT((Teams1=T40)*(Teams2_Score))+SUMPRODUCT((Teams2=T40)*(Teams1_Score))","v":0},{"$f":"Y40-Z40","v":0},{"$f":"3*V40+W40","v":0}]
[null,{"$f":"VLOOKUP($D41,TABLEAU_MATCHS[#All],2,FALSE)","v":"2018-06-25"},{"$f":"VLOOKUP($D41,TABLEAU_MATCHS[#All],3,FALSE)","v":"16:00:00"},34,{"$f":"\"Groupe \"&VLOOKUP($I41,TABLEAU_TEAMS[[#All],[TEAM]:[GROUP_INITIAL_RANK]],2,FALSE)","v":"Groupe A"},null,null,null,{"$f":"VLOOKUP($D41,TABLEAU_MATCHS[#All],4,FALSE)","v":"Arabie Saoudite"},null,null,{"$f":"VLOOKUP($D41,TABLEAU_MATCHS[#All],5,FALSE)","v":"Egypte"},null,null,null,null,"00000Mexique",0,1,"Mexique",{"$f":"SUMPRODUCT((Teams1=T41)*(Teams1_Score<>\"\"))+SUMPRODUCT((Teams2=T41)*(Teams2_Score<>\"\"))","v":0},{"$f":"SUMPRODUCT((Teams1=T41)*(Teams1_Score>Teams2_Score))+SUMPRODUCT((Teams2=T41)*(Teams2_Score>Teams1_Score))","v":0},{"$f":"SUMPRODUCT((Teams1=T41)*(Teams1_Score=Teams2_Score)*(Teams1_Score<>\"\"))+SUMPRODUCT((Teams2=T41)*(Teams2_Score=Teams1_Score)*(Teams2_Score<>\"\"))","v":0},{"$f":"SUMPRODUCT((Teams1=T41)*(Teams1_Score<Teams2_Score))+SUMPRODUCT((Teams2=T41)*(Teams2_Score<Teams1_Score))","v":0},{"$f":"SUMPRODUCT((Teams1=T41)*(Teams1_Score))+SUMPRODUCT((Teams2=T41)*(Teams2_Score))","v":0},{"$f":"SUMPRODUCT((Teams1=T41)*(Teams2_Score))+SUMPRODUCT((Teams2=T41)*(Teams1_Score))","v":0},{"$f":"Y41-Z41","v":0},{"$f":"3*V41+W41","v":0}]
[null,{"$f":"VLOOKUP($D42,TABLEAU_MATCHS[#All],2,FALSE)","v":"2018-06-25"},{"$f":"VLOOKUP($D42,TABLEAU_MATCHS[#All],3,FALSE)","v":"20:00:00"},35,{"$f":"\"Groupe \"&VLOOKUP($I42,TABLEAU_TEAMS[[#All],[TEAM]:[GROUP_INITIAL_RANK]],2,FALSE)","v":"Groupe B"},null,null,null,{"$f":"VLOOKUP($D42,TABLEAU_MATCHS[#All],4,FALSE)","v":"RI Iran"},null,null,{"$f":"VLOOKUP($D42,TABLEAU_MATCHS[#All],5,FALSE)","v":"Portugal"},null,null,null,null,"00000Allemagne",0,1,"Allemagne",{"$f":"SUMPRODUCT((Teams1=T42)*(Teams1_Score<>\"\"))+SUMPRODUCT((Teams2=T42)*(Teams2_Score<>\"\"))","v":0},{"$f":"SUMPRODUCT((Teams1=T42)*(Teams1_Score>Teams2_Score))+SUMPRODUCT((Teams2=T42)*(Teams2_Score>Teams1_Score))","v":0},{"$f":"SUMPRODUCT((Teams1=T42)*(Teams1_Score=Teams2_Score)*(Teams1_Score<>\"\"))+SUMPRODUCT((Teams2=T42)*(Teams2_Score=Teams1_Score)*(Teams2_Score<>\"\"))","v":0},{"$f":"SUMPRODUCT((Teams1=T42)*(Teams1_Score<Teams2_Score))+SUMPRODUCT((Teams2=T42)*(Teams2_Score<Teams1_Score))","v":0},{"$f":"SUMPRODUCT((Teams1=T42)*(Teams1_Score))+SUMPRODUCT((Teams2=T42)*(Teams2_Score))","v":0},{"$f":"SUMPRODUCT((Teams1=T42)*(Teams2_Score))+SUMPRODUCT((Teams2=T42)*(Teams1_Score))","v":0},{"$f":"Y42-Z42","v":0},{"$f":"3*V42+W42","v":0}]
[null,{"$f":"VLOOKUP($D43,TABLEAU_MATCHS[#All],2,FALSE)","v":"2018-06-25"},{"$f":"VLOOKUP($D43,TABLEAU_MATCHS[#All],3,FALSE)","v":"20:00:00"},36,{"$f":"\"Groupe \"&VLOOKUP($I43,TABLEAU_TEAMS[[#All],[TEAM]:[GROUP_INITIAL_RANK]],2,FALSE)","v":"Groupe B"},null,null,null,{"$f":"VLOOKUP($D43,TABLEAU_MATCHS[#All],4,FALSE)","v":"Espagne"},null,null,{"$f":"VLOOKUP($D43,TABLEAU_MATCHS[#All],5,FALSE)","v":"Maroc"}]
[null,{"$f":"VLOOKUP($D44,TABLEAU_MATCHS[#All],2,FALSE)","v":"2018-06-26"},{"$f":"VLOOKUP($D44,TABLEAU_MATCHS[#All],3,FALSE)","v":"16:00:00"},37,{"$f":"\"Groupe \"&VLOOKUP($I44,TABLEAU_TEAMS[[#All],[TEAM]:[GROUP_INITIAL_RANK]],2,FALSE)","v":"Groupe C"},null,null,null,{"$f":"VLOOKUP($D44,TABLEAU_MATCHS[#All],4,FALSE)","v":"Danemark"},null,null,{"$f":"VLOOKUP($D44,TABLEAU_MATCHS[#All],5,FALSE)","v":"France"},null,null,null,null,null,null,"Rg","Groupe G","MJ","G","N","P","BP","BC","+/-","Pts"]
[null,{"$f":"VLOOKUP($D45,TABLEAU_MATCHS[#All],2,FALSE)","v":"2018-06-26"},{"$f":"VLOOKUP($D45,TABLEAU_MATCHS[#All],3,FALSE)","v":"16:00:00"},38,{"$f":"\"Groupe \"&VLOOKUP($I45,TABLEAU_TEAMS[[#All],[TEAM]:[GROUP_INITIAL_RANK]],2,FALSE)","v":"Groupe C"},null,null,null,{"$f":"VLOOKUP($D45,TABLEAU_MATCHS[#All],4,FALSE)","v":"Australie"},null,null,{"$f":"VLOOKUP($D45,TABLEAU_MATCHS[#All],5,FALSE)","v":"Pérou"},null,null,null,null,{"$f":"INDEX($Q96:$Q99,MATCH(SMALL(COUNTIF($Q96:$Q99,\">=\"&$Q96:$Q99),ROW(INDIRECT(\"1:\"&ROWS($Q96:$Q99)))),COUNTIF($Q96:$Q99,\">=\"&$Q96:$Q99),0))","v":"00000Tunisie"},{"$f":"INDEX($R96:$R99,MATCH(SMALL(COUNTIF($Q96:$Q99,\">=\"&$Q96:$Q99),ROW(INDIRECT(\"1:\"&ROWS($Q96:$Q99)))),COUNTIF($Q96:$Q99,\">=\"&$Q96:$Q99),0))","v":0},{"$f":"INDEX($S96:$S99,MATCH(SMALL(COUNTIF($Q96:$Q99,\">=\"&$Q96:$Q99),ROW(INDIRECT(\"1:\"&ROWS($Q96:$Q99)))),COUNTIF($Q96:$Q99,\">=\"&$Q96:$Q99),0))","v":1},{"$f":"INDEX($T96:$T99,MATCH(SMALL(COUNTIF($Q96:$Q99,\">=\"&$Q96:$Q99),ROW(INDIRECT(\"1:\"&ROWS($Q96:$Q99)))),COUNTIF($Q96:$Q99,\">=\"&$Q96:$Q99),0))","v":"Tunisie"},{"$f":"SUMPRODUCT((Teams1=T45)*(Teams1_Score<>\"\"))+SUMPRODUCT((Teams2=T45)*(Teams2_Score<>\"\"))","v":0},{"$f":"SUMPRODUCT((Teams1=T45)*(Teams1_Score>Teams2_Score))+SUMPRODUCT((Teams2=T45)*(Teams2_Score>Teams1_Score))","v":0},{"$f":"SUMPRODUCT((Teams1=T45)*(Teams1_Score=Teams2_Score)*(Teams1_Score<>\"\"))+SUMPRODUCT((Teams2=T45)*(Teams2_Score=Teams1_Score)*(Teams2_Score<>\"\"))","v":0},{"$f":"SUMPRODUCT((Teams1=T45)*(Teams1_Score<Teams2_Score))+SUMPRODUCT((Teams2=T45)*(Teams2_Score<Teams1_Score))","v":0},{"$f":"SUMPRODUCT((Teams1=T45)*(Teams1_Score))+SUMPRODUCT((Teams2=T45)*(Teams2_Score))","v":0},{"$f":"SUMPRODUCT((Teams1=T45)*(Teams2_Score))+SUMPRODUCT((Teams2=T45)*(Teams1_Score))","v":0},{"$f":"Y45-Z45","v":0},{"$f":"3*V45+W45","v":0}]
[null,{"$f":"VLOOKUP($D46,TABLEAU_MATCHS[#All],2,FALSE)","v":"2018-06-26"},{"$f":"VLOOKUP($D46,TABLEAU_MATCHS[#All],3,FALSE)","v":"20:00:00"},39,{"$f":"\"Groupe \"&VLOOKUP($I46,TABLEAU_TEAMS[[#All],[TEAM]:[GROUP_INITIAL_RANK]],2,FALSE)","v":"Groupe D"},null,null,null,{"$f":"VLOOKUP($D46,TABLEAU_MATCHS[#All],4,FALSE)","v":"Nigeria"},null,null,{"$f":"VLOOKUP($D46,TABLEAU_MATCHS[#All],5,FALSE)","v":"Argentine"},null,null,null,null,"00000Panama",0,1,"Panama",{"$f":"SUMPRODUCT((Teams1=T46)*(Teams1_Score<>\"\"))+SUMPRODUCT((Teams2=T46)*(Teams2_Score<>\"\"))","v":0},{"$f":"SUMPRODUCT((Teams1=T46)*(Teams1_Score>Teams2_Score))+SUMPRODUCT((Teams2=T46)*(Teams2_Score>Teams1_Score))","v":0},{"$f":"SUMPRODUCT((Teams1=T46)*(Teams1_Score=Teams2_Score)*(Teams1_Score<>\"\"))+SUMPRODUCT((Teams2=T46)*(Teams2_Score=Teams1_Score)*(Teams2_Score<>\"\"))","v":0},{"$f":"SUMPRODUCT((Teams1=T46)*(Teams1_Score<Teams2_Score))+SUMPRODUCT((Teams2=T46)*(Teams2_Score<Teams1_Score))","v":0},{"$f":"SUMPRODUCT((Teams1=T46)*(Teams1_Score))+SUMPRODUCT((Teams2=T46)*(Teams2_Score))","v":0},{"$f":"SUMPRODUCT((Teams1=T46)*(Teams2_Score))+SUMPRODUCT((Teams2=T46)*(Teams1_Score))","v":0},{"$f":"Y46-Z46","v":0},{"$f":"3*V46+W46","v":0}]
[null,{"$f":"VLOOKUP($D47,TABLEAU_MATCHS[#All],2,FALSE)","v":"2018-06-26"},{"$f":"VLOOKUP($D47,TABLEAU_MATCHS[#All],3,FALSE)","v":"20:00:00"},40,{"$f":"\"Groupe \"&VLOOKUP($I47,TABLEAU_TEAMS[[#All],[TEAM]:[GROUP_INITIAL_RANK]],2,FALSE)","v":"Groupe D"},null,null,null,{"$f":"VLOOKUP($D47,TABLEAU_MATCHS[#All],4,FALSE)","v":"Islande"},null,null,{"$f":"VLOOKUP($D47,TABLEAU_MATCHS[#All],5,FALSE)","v":"Croatie"},null,null,null,null,"00000Belgique",0,1,"Belgique",{"$f":"SUMPRODUCT((Teams1=T47)*(Teams1_Score<>\"\"))+SUMPRODUCT((Teams2=T47)*(Teams2_Score<>\"\"))","v":0},{"$f":"SUMPRODUCT((Teams1=T47)*(Teams1_Score>Teams2_Score))+SUMPRODUCT((Teams2=T47)*(Teams2_Score>Teams1_Score))","v":0},{"$f":"SUMPRODUCT((Teams1=T47)*(Teams1_Score=Teams2_Score)*(Teams1_Score<>\"\"))+SUMPRODUCT((Teams2=T47)*(Teams2_Score=Teams1_Score)*(Teams2_Score<>\"\"))","v":0},{"$f":"SUMPRODUCT((Teams1=T47)*(Teams1_Score<Teams2_Score))+SUMPRODUCT((Teams2=T47)*(Teams2_Score<Teams1_Score))","v":0},{"$f":"SUMPRODUCT((Teams1=T47)*(Teams1_Score))+SUMPRODUCT((Teams2=T47)*(Teams2_Score))","v":0},{"$f":"SUMPRODUCT((Teams1=T47)*(Teams2_Score))+SUMPRODUCT((Teams2=T47)*(Teams1_Score))","v":0},{"$f":"Y47-Z47","v":0},{"$f":"3*V47+W47","v":0}]
[null,{"$f":"VLOOKUP($D48,TABLEAU_MATCHS[#All],2,FALSE)","v":"2018-06-27"},{"$f":"VLOOKUP($D48,TABLEAU_MATCHS[#All],3,FALSE)","v":"20:00:00"},41,{"$f":"\"Groupe \"&VLOOKUP($I48,TABLEAU_TEAMS[[#All],[TEAM]:[GROUP_INITIAL_RANK]],2,FALSE)","v":"Groupe E"},null,null,null,{"$f":"VLOOKUP($D48,TABLEAU_MATCHS[#All],4,FALSE)","v":"Serbie"},null,null,{"$f":"VLOOKUP($D48,TABLEAU_MATCHS[#All],5,FALSE)","v":"Brésil"},null,null,null,null,"00000Angleterre",0,1,"Angleterre",{"$f":"SUMPRODUCT((Teams1=T48)*(Teams1_Score<>\"\"))+SUMPRODUCT((Teams2=T48)*(Teams2_Score<>\"\"))","v":0},{"$f":"SUMPRODUCT((Teams1=T48)*(Teams1_Score>Teams2_Score))+SUMPRODUCT((Teams2=T48)*(Teams2_Score>Teams1_Score))","v":0},{"$f":"SUMPRODUCT((Teams1=T48)*(Teams1_Score=Teams2_Score)*(Teams1_Score<>\"\"))+SUMPRODUCT((Teams2=T48)*(Teams2_Score=Teams1_Score)*(Teams2_Score<>\"\"))","v":0},{"$f":"SUMPRODUCT((Teams1=T48)*(Teams1_Score<Teams2_Score))+SUMPRODUCT((Teams2=T48)*(Teams2_Score<Teams1_Score))","v":0},{"$f":"SUMPRODUCT((Teams1=T48)*(Teams1_Score))+SUMPRODUCT((Teams2=T48)*(Teams2_Score))","v":0},{"$f":"SUMPRODUCT((Teams1=T48)*(Teams2_Score))+SUMPRODUCT((Teams2=T48)*(Teams1_Score))","v":0},{"$f":"Y48-Z48","v":0},{"$f":"3*V48+W48","v":0}]
[null,{"$f":"VLOOKUP($D49,TABLEAU_MATCHS[#All],2,FALSE)","v":"2018-06-27"},{"$f":"VLOOKUP($D49,TABLEAU_MATCHS[#All],3,FALSE)","v":"20:00:00"},42,{"$f":"\"Groupe \"&VLOOKUP($I49,TABLEAU_TEAMS[[#All],[TEAM]:[GROUP_INITIAL_RANK]],2,FALSE)","v":"Groupe E"},null,null,null,{"$f":"VLOOKUP($D49,TABLEAU_MATCHS[#All],4,FALSE)","v":"Suisse"},null,null,{"$f":"VLOOKUP($D49,TABLEAU_MATCHS[#All],5,FALSE)","v":"Costa Rica"}]
[null,{"$f":"VLOOKUP($D50,TABLEAU_MATCHS[#All],2,FALSE)","v":"2018-06-27"},{"$f":"VLOOKUP($D50,TABLEAU_MATCHS[#All],3,FALSE)","v":"16:00:00"},43,{"$f":"\"Groupe \"&VLOOKUP($I50,TABLEAU_TEAMS[[#All],[TEAM]:[GROUP_INITIAL_RANK]],2,FALSE)","v":"Groupe F"},null,null,null,{"$f":"VLOOKUP($D50,TABLEAU_MATCHS[#All],4,FALSE)","v":"Mexique"},null,null,{"$f":"VLOOKUP($D50,TABLEAU_MATCHS[#All],5,FALSE)","v":"Suède"},null,null,null,null,null,null,"Rg","Groupe H","MJ","G","N","P","BP","BC","+/-","Pts"]
[null,{"$f":"VLOOKUP($D51,TABLEAU_MATCHS[#All],2,FALSE)","v":"2018-06-27"},{"$f":"VLOOKUP($D51,TABLEAU_MATCHS[#All],3,FALSE)","v":"16:00:00"},44,{"$f":"\"Groupe \"&VLOOKUP($I51,TABLEAU_TEAMS[[#All],[TEAM]:[GROUP_INITIAL_RANK]],2,FALSE)","v":"Groupe F"},null,null,null,{"$f":"VLOOKUP($D51,TABLEAU_MATCHS[#All],4,FALSE)","v":"République de Corée"},null,null,{"$f":"VLOOKUP($D51,TABLEAU_MATCHS[#All],5,FALSE)","v":"Allemagne"},null,null,null,null,{"$f":"INDEX($Q102:$Q105,MATCH(SMALL(COUNTIF($Q102:$Q105,\">=\"&$Q102:$Q105),ROW(INDIRECT(\"1:\"&ROWS($Q102:$Q105)))),COUNTIF($Q102:$Q105,\">=\"&$Q102:$Q105),0))","v":"00000Sénégal"},{"$f":"INDEX($R102:$R105,MATCH(SMALL(COUNTIF($Q102:$Q105,\">=\"&$Q102:$Q105),ROW(INDIRECT(\"1:\"&ROWS($Q102:$Q105)))),COUNTIF($Q102:$Q105,\">=\"&$Q102:$Q105),0))","v":0},{"$f":"INDEX($S102:$S105,MATCH(SMALL(COUNTIF($Q102:$Q105,\">=\"&$Q102:$Q105),ROW(INDIRECT(\"1:\"&ROWS($Q102:$Q105)))),COUNTIF($Q102:$Q105,\">=\"&$Q102:$Q105),0))","v":1},{"$f":"INDEX($T102:$T105,MATCH(SMALL(COUNTIF($Q102:$Q105,\">=\"&$Q102:$Q105),ROW(INDIRECT(\"1:\"&ROWS($Q102:$Q105)))),COUNTIF($Q102:$Q105,\">=\"&$Q102:$Q105),0))","v":"Sénégal"},{"$f":"SUMPRODUCT((Teams1=T51)*(Teams1_Score<>\"\"))+SUMPRODUCT((Teams2=T51)*(Teams2_Score<>\"\"))","v":0},{"$f":"SUMPRODUCT((Teams1=T51)*(Teams1_Score>Teams2_Score))+SUMPRODUCT((Teams2=T51)*(Teams2_Score>Teams1_Score))","v":0},{"$f":"SUMPRODUCT((Teams1=T51)*(Teams1_Score=Teams2_Score)*(Teams1_Score<>\"\"))+SUMPRODUCT((Teams2=T51)*(Teams2_Score=Teams1_Score)*(Teams2_Score<>\"\"))","v":0},{"$f":"SUMPRODUCT((Teams1=T51)*(Teams1_Score<Teams2_Score))+SUMPRODUCT((Teams2=T51)*(Teams2_Score<Teams1_Score))","v":0},{"$f":"SUMPRODUCT((Teams1=T51)*(Teams1_Score))+SUMPRODUCT((Teams2=T51)*(Teams2_Score))","v":0},{"$f":"SUMPRODUCT((Teams1=T51)*(Teams2_Score))+SUMPRODUCT((Teams2=T51)*(Teams1_Score))","v":0},{"$f":"Y51-Z51","v":0},{"$f":"3*V51+W51","v":0}]
[null,{"$f":"VLOOKUP($D52,TABLEAU_MATCHS[#All],2,FALSE)","v":"2018-06-28"},{"$f":"VLOOKUP($D52,TABLEAU_MATCHS[#All],3,FALSE)","v":"20:00:00"},45,{"$f":"\"Groupe \"&VLOOKUP($I52,TABLEAU_TEAMS[[#All],[TEAM]:[GROUP_INITIAL_RANK]],2,FALSE)","v":"Groupe G"},null,null,null,{"$f":"VLOOKUP($D52,TABLEAU_MATCHS[#All],4,FALSE)","v":"Panama"},null,null,{"$f":"VLOOKUP($D52,TABLEAU_MATCHS[#All],5,FALSE)","v":"Tunisie"},null,null,null,null,"00000Pologne",0,1,"Pologne",{"$f":"SUMPRODUCT((Teams1=T52)*(Teams1_Score<>\"\"))+SUMPRODUCT((Teams2=T52)*(Teams2_Score<>\"\"))","v":0},{"$f":"SUMPRODUCT((Teams1=T52)*(Teams1_Score>Teams2_Score))+SUMPRODUCT((Teams2=T52)*(Teams2_Score>Teams1_Score))","v":0},{"$f":"SUMPRODUCT((Teams1=T52)*(Teams1_Score=Teams2_Score)*(Teams1_Score<>\"\"))+SUMPRODUCT((Teams2=T52)*(Teams2_Score=Teams1_Score)*(Teams2_Score<>\"\"))","v":0},{"$f":"SUMPRODUCT((Teams1=T52)*(Teams1_Score<Teams2_Score))+SUMPRODUCT((Teams2=T52)*(Teams2_Score<Teams1_Score))","v":0},{"$f":"SUMPRODUCT((Teams1=T52)*(Teams1_Score))+SUMPRODUCT((Teams2=T52)*(Teams2_Score))","v":0},{"$f":"SUMPRODUCT((Teams1=T52)*(Teams2_Score))+SUMPRODUCT((Teams2=T52)*(Teams1_Score))","v":0},{"$f":"Y52-Z52","v":0},{"$f":"3*V52+W52","v":0}]
[null,{"$f":"VLOOKUP($D53,TABLEAU_MATCHS[#All],2,FALSE)","v":"2018-06-28"},{"$f":"VLOOKUP($D53,TABLEAU_MATCHS[#All],3,FALSE)","v":"20:00:00"},46,{"$f":"\"Groupe \"&VLOOKUP($I53,TABLEAU_TEAMS[[#All],[TEAM]:[GROUP_INITIAL_RANK]],2,FALSE)","v":"Groupe G"},null,null,null,{"$f":"VLOOKUP($D53,TABLEAU_MATCHS[#All],4,FALSE)","v":"Angleterre"},null,null,{"$f":"VLOOKUP($D53,TABLEAU_MATCHS[#All],5,FALSE)","v":"Belgique"},null,null,null,null,"00000Japon",0,1,"Japon",{"$f":"SUMPRODUCT((Teams1=T53)*(Teams1_Score<>\"\"))+SUMPRODUCT((Teams2=T53)*(Teams2_Score<>\"\"))","v":0},{"$f":"SUMPRODUCT((Teams1=T53)*(Teams1_Score>Teams2_Score))+SUMPRODUCT((Teams2=T53)*(Teams2_Score>Teams1_Score))","v":0},{"$f":"SUMPRODUCT((Teams1=T53)*(Teams1_Score=Teams2_Score)*(Teams1_Score<>\"\"))+SUMPRODUCT((Teams2=T53)*(Teams2_Score=Teams1_Score)*(Teams2_Score<>\"\"))","v":0},{"$f":"SUMPRODUCT((Teams1=T53)*(Teams1_Score<Teams2_Score))+SUMPRODUCT((Teams2=T53)*(Teams2_Score<Teams1_Score))","v":0},{"$f":"SUMPRODUCT((Teams1=T53)*(Teams1_Score))+SUMPRODUCT((Teams2=T53)*(Teams2_Score))","v":0},{"$f":"SUMPRODUCT((Teams1=T53)*(Teams2_Score))+SUMPRODUCT((Teams2=T53)*(Teams1_Score))","v":0},{"$f":"Y53-Z53","v":0},{"$f":"3*V53+W53","v":0}]
[null,{"$f":"VLOOKUP($D54,TABLEAU_MATCHS[#All],2,FALSE)","v":"2018-06-28"},{"$f":"VLOOKUP($D54,TABLEAU_MATCHS[#All],3,FALSE)","v":"16:00:00"},47,{"$f":"\"Groupe \"&VLOOKUP($I54,TABLEAU_TEAMS[[#All],[TEAM]:[GROUP_INITIAL_RANK]],2,FALSE)","v":"Groupe H"},null,null,null,{"$f":"VLOOKUP($D54,TABLEAU_MATCHS[#All],4,FALSE)","v":"Japon"},null,null,{"$f":"VLOOKUP($D54,TABLEAU_MATCHS[#All],5,FALSE)","v":"Pologne"},null,null,null,null,"00000Colombie",0,1,"Colombie",{"$f":"SUMPRODUCT((Teams1=T54)*(Teams1_Score<>\"\"))+SUMPRODUCT((Teams2=T54)*(Teams2_Score<>\"\"))","v":0},{"$f":"SUMPRODUCT((Teams1=T54)*(Teams1_Score>Teams2_Score))+SUMPRODUCT((Teams2=T54)*(Teams2_Score>Teams1_Score))","v":0},{"$f":"SUMPRODUCT((Teams1=T54)*(Teams1_Score=Teams2_Score)*(Teams1_Score<>\"\"))+SUMPRODUCT((Teams2=T54)*(Teams2_Score=Teams1_Score)*(Teams2_Score<>\"\"))","v":0},{"$f":"SUMPRODUCT((Teams1=T54)*(Teams1_Score<Teams2_Score))+SUMPRODUCT((Teams2=T54)*(Teams2_Score<Teams1_Score))","v":0},{"$f":"SUMPRODUCT((Teams1=T54)*(Teams1_Score))+SUMPRODUCT((Teams2=T54)*(Teams2_Score))","v":0},{"$f":"SUMPRODUCT((Teams1=T54)*(Teams2_Score))+SUMPRODUCT((Teams2=T54)*(Teams1_Score))","v":0},{"$f":"Y54-Z54","v":0},{"$f":"3*V54+W54","v":0}]
[null,{"$f":"VLOOKUP($D55,TABLEAU_MATCHS[#All],2,FALSE)","v":"2018-06-28"},{"$f":"VLOOKUP($D55,TABLEAU_MATCHS[#All],3,FALSE)","v":"16:00:00"},48,{"$f":"\"Groupe \"&VLOOKUP($I55,TABLEAU_TEAMS[[#All],[TEAM]:[GROUP_INITIAL_RANK]],2,FALSE)","v":"Groupe H"},null,null,null,{"$f":"VLOOKUP($D55,TABLEAU_MATCHS[#All],4,FALSE)","v":"Sénégal"},null,null,{"$f":"VLOOKUP($D55,TABLEAU_MATCHS[#All],5,FALSE)","v":"Colombie"}]
[]
[]
[]
[null,"Tirage au sort A1",null,null,null,null,null,null,null,null,null,null,null,null,null,null,null,null,"Rg","Groupe A","MJ","G","N","P","BP","BC","+/-","Pts"]
[null,{"$f":"IF(ROWS($1:1)<=COUNTIF($S$9:$S$12,1),INDEX($T$9:$T$12,SMALL(IF($S$9:$S$12=1,ROW(INDIRECT(\"1:\"&ROWS($S$9:$S$12)))),ROWS($1:1))),\"\")","v":"Russie"},null,null,null,null,null,null,null,null,null,null,null,null,null,"A_1",{"$f":"TEXT(R60,\"00000\")&T60","v":"03550Russie"},{"$f":"AB60*1000+AA60*100+Y60*10","v":3550},{"$f":"RANK(R60,$R60:$R63,0)","v":1},{"$f":"VLOOKUP(P60,TABLEAU_TEAMS[#All],2,FALSE)","v":"Russie"},{"$f":"SUMPRODUCT((Teams1=T60)*(Teams1_Score<>\"\"))+SUMPRODUCT((Teams2=T60)*(Teams2_Score<>\"\"))","v":1},{"$f":"SUMPRODUCT((Teams1=T60)*(Teams1_Score>Teams2_Score))+SUMPRODUCT((Teams2=T60)*(Teams2_Score>Teams1_Score))","v":1},{"$f":"SUMPRODUCT((Teams1=T60)*(Teams1_Score=Teams2_Score)*(Teams1_Score<>\"\"))+SUMPRODUCT((Teams2=T60)*(Teams2_Score=Teams1_Score)*(Teams2_Score<>\"\"))","v":0},{"$f":"SUMPRODUCT((Teams1=T60)*(Teams1_Score<Teams2_Score))+SUMPRODUCT((Teams2=T60)*(Teams2_Score<Teams1_Score))","v":0},{"$f":"SUMPRODUCT((Teams1=T60)*(Teams1_Score))+SUMPRODUCT((Teams2=T60)*(Teams2_Score))","v":5},{"$f":"SUMPRODUCT((Teams1=T60)*(Teams2_Score))+SUMPRODUCT((Teams2=T60)*(Teams1_Score))","v":0},{"$f":"Y60-Z60","v":5},{"$f":"3*V60+W60","v":3}]
[null,{"$f":"IF(ROWS($1:2)<=COUNTIF($S$9:$S$12,1),INDEX($T$9:$T$12,SMALL(IF($S$9:$S$12=1,ROW(INDIRECT(\"1:\"&ROWS($S$9:$S$12)))),ROWS($1:2))),\"\")","v":""},null,null,null,null,null,null,null,null,null,null,null,null,null,"A_2",{"$f":"TEXT(R61,\"00000\")&T61","v":"-00500Arabie Saoudite"},{"$f":"AB61*1000+AA61*100+Y61*10","v":-500},{"$f":"RANK(R61,$R60:$R63,0)","v":4},{"$f":"VLOOKUP(P61,TABLEAU_TEAMS[#All],2,FALSE)","v":"Arabie Saoudite"},{"$f":"SUMPRODUCT((Teams1=T61)*(Teams1_Score<>\"\"))+SUMPRODUCT((Teams2=T61)*(Teams2_Score<>\"\"))","v":1},{"$f":"SUMPRODUCT((Teams1=T61)*(Teams1_Score>Teams2_Score))+SUMPRODUCT((Teams2=T61)*(Teams2_Score>Teams1_Score))","v":0},{"$f":"SUMPRODUCT((Teams1=T61)*(Teams1_Score=Teams2_Score)*(Teams1_Score<>\"\"))+SUMPRODUCT((Teams2=T61)*(Teams2_Score=Teams1_Score)*(Teams2_Score<>\"\"))","v":0},{"$f":"SUMPRODUCT((Teams1=T61)*(Teams1_Score<Teams2_Score))+SUMPRODUCT((Teams2=T61)*(Teams2_Score<Teams1_Score))","v":1},{"$f":"SUMPRODUCT((Teams1=T61)*(Teams1_Score))+SUMPRODUCT((Teams2=T61)*(Teams2_Score))","v":0},{"$f":"SUMPRODUCT((Teams1=T61)*(Teams2_Score))+SUMPRODUCT((Teams2=T61)*(Teams1_Score))","v":5},{"$f":"Y61-Z61","v":-5},{"$f":"3*V61+W61","v":0}]
[null,{"$f":"IF(ROWS($1:3)<=COUNTIF($S$9:$S$12,1),INDEX($T$9:$T$12,SMALL(IF($S$9:$S$12=1,ROW(INDIRECT(\"1:\"&ROWS($S$9:$S$12)))),ROWS($1:3))),\"\")","v":""},null,null,null,null,null,null,null,null,null,null,null,null,null,"A_3",{"$f":"TEXT(R62,\"00000\")&T62","v":"-00100Egypte"},{"$f":"AB62*1000+AA62*100+Y62*10","v":-100},{"$f":"RANK(R62,$R60:$R63,0)","v":3},{"$f":"VLOOKUP(P62,TABLEAU_TEAMS[#All],2,FALSE)","v":"Egypte"},{"$f":"SUMPRODUCT((Teams1=T62)*(Teams1_Score<>\"\"))+SUMPRODUCT((Teams2=T62)*(Teams2_Score<>\"\"))","v":1},{"$f":"SUMPRODUCT((Teams1=T62)*(Teams1_Score>Teams2_Score))+SUMPRODUCT((Teams2=T62)*(Teams2_Score>Teams1_Score))","v":0},{"$f":"SUMPRODUCT((Teams1=T62)*(Teams1_Score=Teams2_Score)*(Teams1_Score<>\"\"))+SUMPRODUCT((Teams2=T62)*(Teams2_Score=Teams1_Score)*(Teams2_Score<>\"\"))","v":0},{"$f":"SUMPRODUCT((Teams1=T62)*(Teams1_Score<Teams2_Score))+SUMPRODUCT((Teams2=T62)*(Teams2_Score<Teams1_Score))","v":1},{"$f":"SUMPRODUCT((Teams1=T62)*(Teams1_Score))+SUMPRODUCT((Teams2=T62)*(Teams2_Score))","v":0},{"$f":"SUMPRODUCT((Teams1=T62)*(Teams2_Score))+SUMPRODUCT((Teams2=T62)*(Teams1_Score))","v":1},{"$f":"Y62-Z62","v":-1},{"$f":"3*V62+W62","v":0}]
[null,{"$f":"IF(ROWS($1:4)<=COUNTIF($S$9:$S$12,1),INDEX($T$9:$T$12,SMALL(IF($S$9:$S$12=1,ROW(INDIRECT(\"1:\"&ROWS($S$9:$S$12)))),ROWS($1:4))),\"\")","v":""},null,null,null,null,null,null,null,null,null,null,null,null,null,"A_4",{"$f":"TEXT(R63,\"00000\")&T63","v":"03110Uruguay"},{"$f":"AB63*1000+AA63*100+Y63*10","v":3110},{"$f":"RANK(R63,$R60:$R63,0)","v":2},{"$f":"VLOOKUP(P63,TABLEAU_TEAMS[#All],2,FALSE)","v":"Uruguay"},{"$f":"SUMPRODUCT((Teams1=T63)*(Teams1_Score<>\"\"))+SUMPRODUCT((Teams2=T63)*(Teams2_Score<>\"\"))","v":1},{"$f":"SUMPRODUCT((Teams1=T63)*(Teams1_Score>Teams2_Score))+SUMPRODUCT((Teams2=T63)*(Teams2_Score>Teams1_Score))","v":1},{"$f":"SUMPRODUCT((Teams1=T63)*(Teams1_Score=Teams2_Score)*(Teams1_Score<>\"\"))+SUMPRODUCT((Teams2=T63)*(Teams2_Score=Teams1_Score)*(Teams2_Score<>\"\"))","v":0},{"$f":"SUMPRODUCT((Teams1=T63)*(Teams1_Score<Teams2_Score))+SUMPRODUCT((Teams2=T63)*(Teams2_Score<Teams1_Score))","v":0},{"$f":"SUMPRODUCT((Teams1=T63)*(Teams1_Score))+SUMPRODUCT((Teams2=T63)*(Teams2_Score))","v":1},{"$f":"SUMPRODUCT((Teams1=T63)*(Teams2_Score))+SUMPRODUCT((Teams2=T63)*(Teams1_Score))","v":0},{"$f":"Y63-Z63","v":1},{"$f":"3*V63+W63","v":3}]
[null,"Tirage au sort A2"]
[null,{"$f":"IF(COUNTIF($S$9:$S$12,1)>1,IF(ROWS($1:1)<=COUNTIF($S$9:$S$12,1),INDEX($T$9:$T$12,SMALL(IF($S$9:$S$12=1,ROW(INDIRECT(\"1:\"&ROWS($S$9:$S$12)))),ROWS($1:1))),\"\"),IF(COUNTIF($S$9:$S$12,2)>1,IF(ROWS($1:1)<=COUNTIF($S$9:$S$12,2),INDEX($T$9:$T$12,SMALL(IF($S$9:$S$12=2,ROW(INDIRECT(\"1:\"&ROWS($S$9:$S$12)))),ROWS($1:1))),\"\")))","v":false},null,null,null,null,null,null,null,null,null,null,null,null,null,null,null,null,"Rg","Groupe B","MJ","G","N","P","BP","BC","Pts","Pts"]
[null,{"$f":"IF(COUNTIF($S$9:$S$12,1)>1,IF(ROWS($1:2)<=COUNTIF($S$9:$S$12,1),INDEX($T$9:$T$12,SMALL(IF($S$9:$S$12=1,ROW(INDIRECT(\"1:\"&ROWS($S$9:$S$12)))),ROWS($1:2))),\"\"),IF(COUNTIF($S$9:$S$12,2)>1,IF(ROWS($1:2)<=COUNTIF($S$9:$S$12,2),INDEX($T$9:$T$12,SMALL(IF($S$9:$S$12=2,ROW(INDIRECT(\"1:\"&ROWS($S$9:$S$12)))),ROWS($1:2))),\"\")))","v":false},null,null,null,null,null,null,null,null,null,null,null,null,null,"B_1",{"$f":"TEXT(R66,\"00000\")&T66","v":"-00100Maroc"},{"$f":"AB66*1000+AA66*100+Y66*10","v":-100},{"$f":"RANK(R66,$R66:$R69,0)","v":4},{"$f":"VLOOKUP(P66,TABLEAU_TEAMS[#All],2,FALSE)","v":"Maroc"},{"$f":"SUMPRODUCT((Teams1=T66)*(Teams1_Score<>\"\"))+SUMPRODUCT((Teams2=T66)*(Teams2_Score<>\"\"))","v":1},{"$f":"SUMPRODUCT((Teams1=T66)*(Teams1_Score>Teams2_Score))+SUMPRODUCT((Teams2=T66)*(Teams2_Score>Teams1_Score))","v":0},{"$f":"SUMPRODUCT((Teams1=T66)*(Teams1_Score=Teams2_Score)*(Teams1_Score<>\"\"))+SUMPRODUCT((Teams2=T66)*(Teams2_Score=Teams1_Score)*(Teams2_Score<>\"\"))","v":0},{"$f":"SUMPRODUCT((Teams1=T66)*(Teams1_Score<Teams2_Score))+SUMPRODUCT((Teams2=T66)*(Teams2_Score<Teams1_Score))","v":1},{"$f":"SUMPRODUCT((Teams1=T66)*(Teams1_Score))+SUMPRODUCT((Teams2=T66)*(Teams2_Score))","v":0},{"$f":"SUMPRODUCT((Teams1=T66)*(Teams2_Score))+SUMPRODUCT((Teams2=T66)*(Teams1_Score))","v":1},{"$f":"Y66-Z66","v":-1},{"$f":"3*V66+W66","v":0}]
[null,{"$f":"IF(COUNTIF($S$9:$S$12,1)>1,IF(ROWS($1:3)<=COUNTIF($S$9:$S$12,1),INDEX($T$9:$T$12,SMALL(IF($S$9:$S$12=1,ROW(INDIRECT(\"1:\"&ROWS($S$9:$S$12)))),ROWS($1:3))),\"\"),IF(COUNTIF($S$9:$S$12,2)>1,IF(ROWS($1:3)<=COUNTIF($S$9:$S$12,2),INDEX($T$9:$T$12,SMALL(IF($S$9:$S$12=2,ROW(INDIRECT(\"1:\"&ROWS($S$9:$S$12)))),ROWS($1:3))),\"\")))","v":false},null,null,null,null,null,null,null,null,null,null,null,null,null,"B_2",{"$f":"TEXT(R67,\"00000\")&T67","v":"03110RI Iran"},{"$f":"AB67*1000+AA67*100+Y67*10","v":3110},{"$f":"RANK(R67,$R66:$R69,0)","v":1},{"$f":"VLOOKUP(P67,TABLEAU_TEAMS[#All],2,FALSE)","v":"RI Iran"},{"$f":"SUMPRODUCT((Teams1=T67)*(Teams1_Score<>\"\"))+SUMPRODUCT((Teams2=T67)*(Teams2_Score<>\"\"))","v":1},{"$f":"SUMPRODUCT((Teams1=T67)*(Teams1_Score>Teams2_Score))+SUMPRODUCT((Teams2=T67)*(Teams2_Score>Teams1_Score))","v":1},{"$f":"SUMPRODUCT((Teams1=T67)*(Teams1_Score=Teams2_Score)*(Teams1_Score<>\"\"))+SUMPRODUCT((Teams2=T67)*(Teams2_Score=Teams1_Score)*(Teams2_Score<>\"\"))","v":0},{"$f":"SUMPRODUCT((Teams1=T67)*(Teams1_Score<Teams2_Score))+SUMPRODUCT((Teams2=T67)*(Teams2_Score<Teams1_Score))","v":0},{"$f":"SUMPRODUCT((Teams1=T67)*(Teams1_Score))+SUMPRODUCT((Teams2=T67)*(Teams2_Score))","v":1},{"$f":"SUMPRODUCT((Teams1=T67)*(Teams2_Score))+SUMPRODUCT((Teams2=T67)*(Teams1_Score))","v":0},{"$f":"Y67-Z67","v":1},{"$f":"3*V67+W67","v":3}]
[null,{"$f":"IF(COUNTIF($S$9:$S$12,1)>1,IF(ROWS($1:4)<=COUNTIF($S$9:$S$12,1),INDEX($T$9:$T$12,SMALL(IF($S$9:$S$12=1,ROW(INDIRECT(\"1:\"&ROWS($S$9:$S$12)))),ROWS($1:4))),\"\"),IF(COUNTIF($S$9:$S$12,2)>1,IF(ROWS($1:4)<=COUNTIF($S$9:$S$12,2),INDEX($T$9:$T$12,SMALL(IF($S$9:$S$12=2,ROW(INDIRECT(\"1:\"&ROWS($S$9:$S$12)))),ROWS($1:4))),\"\")))","v":false},null,null,null,null,null,null,null,null,null,null,null,null,null,"B_3",{"$f":"TEXT(R68,\"00000\")&T68","v":"01030Portugal"},{"$f":"AB68*1000+AA68*100+Y68*10","v":1030},{"$f":"RANK(R68,$R66:$R69,0)","v":2},{"$f":"VLOOKUP(P68,TABLEAU_TEAMS[#All],2,FALSE)","v":"Portugal"},{"$f":"SUMPRODUCT((Teams1=T68)*(Teams1_Score<>\"\"))+SUMPRODUCT((Teams2=T68)*(Teams2_Score<>\"\"))","v":1},{"$f":"SUMPRODUCT((Teams1=T68)*(Teams1_Score>Teams2_Score))+SUMPRODUCT((Teams2=T68)*(Teams2_Score>Teams1_Score))","v":0},{"$f":"SUMPRODUCT((Teams1=T68)*(Teams1_Score=Teams2_Score)*(Teams1_Score<>\"\"))+SUMPRODUCT((Teams2=T68)*(Teams2_Score=Teams1_Score)*(Teams2_Score<>\"\"))","v":1},{"$f":"SUMPRODUCT((Teams1=T68)*(Teams1_Score<Teams2_Score))+SUMPRODUCT((Teams2=T68)*(Teams2_Score<Teams1_Score))","v":0},{"$f":"SUMPRODUCT((Teams1=T68)*(Teams1_Score))+SUMPRODUCT((Teams2=T68)*(Teams2_Score))","v":3},{"$f":"SUMPRODUCT((Teams1=T68)*(Teams2_Score))+SUMPRODUCT((Teams2=T68)*(Teams1_Score))","v":3},{"$f":"Y68-Z68","v":0},{"$f":"3*V68+W68","v":1}]
[null,"Tirage au sort B1",null,null,null,null,null,null,null,null,null,null,null,null,null,"B_4",{"$f":"TEXT(R69,\"00000\")&T69","v":"01030Espagne"},{"$f":"AB69*1000+AA69*100+Y69*10","v":1030},{"$f":"RANK(R69,$R66:$R69,0)","v":2},{"$f":"VLOOKUP(P69,TABLEAU_TEAMS[#All],2,FALSE)","v":"Espagne"},{"$f":"SUMPRODUCT((Teams1=T69)*(Teams1_Score<>\"\"))+SUMPRODUCT((Teams2=T69)*(Teams2_Score<>\"\"))","v":1},{"$f":"SUMPRODUCT((Teams1=T69)*(Teams1_Score>Teams2_Score))+SUMPRODUCT((Teams2=T69)*(Teams2_Score>Teams1_Score))","v":0},{"$f":"SUMPRODUCT((Teams1=T69)*(Teams1_Score=Teams2_Score)*(Teams1_Score<>\"\"))+SUMPRODUCT((Teams2=T69)*(Teams2_Score=Teams1_Score)*(Teams2_Score<>\"\"))","v":1},{"$f":"SUMPRODUCT((Teams1=T69)*(Teams1_Score<Teams2_Score))+SUMPRODUCT((Teams2=T69)*(Teams2_Score<Teams1_Score))","v":0},{"$f":"SUMPRODUCT((Teams1=T69)*(Teams1_Score))+SUMPRODUCT((Teams2=T69)*(Teams2_Score))","v":3},{"$f":"SUMPRODUCT((Teams1=T69)*(Teams2_Score))+SUMPRODUCT((Teams2=T69)*(Teams1_Score))","v":3},{"$f":"Y69-Z69","v":0},{"$f":"3*V69+W69","v":1}]
[null,{"$f":"IF(ROWS($1:1)<=COUNTIF($S$15:$S$18,1),INDEX($T$15:$T$18,SMALL(IF($S$15:$S$18=1,ROW(INDIRECT(\"1:\"&ROWS($S$15:$S$18)))),ROWS($1:1))),\"\")","v":"RI Iran"}]
[null,{"$f":"IF(ROWS($1:2)<=COUNTIF($S$15:$S$18,1),INDEX($T$15:$T$18,SMALL(IF($S$15:$S$18=1,ROW(INDIRECT(\"1:\"&ROWS($S$15:$S$18)))),ROWS($1:2))),\"\")","v":""},null,null,null,null,null,null,null,null,null,null,null,null,null,null,null,null,"Rg","Groupe C","MJ","G","N","P","BP","BC","Pts","Pts"]
[null,{"$f":"IF(ROWS($1:3)<=COUNTIF($S$15:$S$18,1),INDEX($T$15:$T$18,SMALL(IF($S$15:$S$18=1,ROW(INDIRECT(\"1:\"&ROWS($S$15:$S$18)))),ROWS($1:3))),\"\")","v":""},null,null,null,null,null,null,null,null,null,null,null,null,null,"C_1",{"$f":"TEXT(R72,\"00000\")&T72","v":"00000France"},{"$f":"AB72*1000+AA72*100+Y72*10","v":0},{"$f":"RANK(R72,$R72:$R75,0)","v":1},{"$f":"VLOOKUP(P72,TABLEAU_TEAMS[#All],2,FALSE)","v":"France"},{"$f":"SUMPRODUCT((Teams1=T72)*(Teams1_Score<>\"\"))+SUMPRODUCT((Teams2=T72)*(Teams2_Score<>\"\"))","v":0},{"$f":"SUMPRODUCT((Teams1=T72)*(Teams1_Score>Teams2_Score))+SUMPRODUCT((Teams2=T72)*(Teams2_Score>Teams1_Score))","v":0},{"$f":"SUMPRODUCT((Teams1=T72)*(Teams1_Score=Teams2_Score)*(Teams1_Score<>\"\"))+SUMPRODUCT((Teams2=T72)*(Teams2_Score=Teams1_Score)*(Teams2_Score<>\"\"))","v":0},{"$f":"SUMPRODUCT((Teams1=T72)*(Teams1_Score<Teams2_Score))+SUMPRODUCT((Teams2=T72)*(Teams2_Score<Teams1_Score))","v":0},{"$f":"SUMPRODUCT((Teams1=T72)*(Teams1_Score))+SUMPRODUCT((Teams2=T72)*(Teams2_Score))","v":0},{"$f":"SUMPRODUCT((Teams1=T72)*(Teams2_Score))+SUMPRODUCT((Teams2=T72)*(Teams1_Score))","v":0},{"$f":"Y72-Z72","v":0},{"$f":"3*V72+W72","v":0}]
[null,{"$f":"IF(ROWS($1:4)<=COUNTIF($S$15:$S$18,1),INDEX($T$15:$T$18,SMALL(IF($S$15:$S$18=1,ROW(INDIRECT(\"1:\"&ROWS($S$15:$S$18)))),ROWS($1:4))),\"\")","v":""},null,null,null,null,null,null,null,null,null,null,null,null,null,"C_2",{"$f":"TEXT(R73,\"00000\")&T73","v":"00000Australie"},{"$f":"AB73*1000+AA73*100+Y73*10","v":0},{"$f":"RANK(R73,$R72:$R75,0)","v":1},{"$f":"VLOOKUP(P73,TABLEAU_TEAMS[#All],2,FALSE)","v":"Australie"},{"$f":"SUMPRODUCT((Teams1=T73)*(Teams1_Score<>\"\"))+SUMPRODUCT((Teams2=T73)*(Teams2_Score<>\"\"))","v":0},{"$f":"SUMPRODUCT((Teams1=T73)*(Teams1_Score>Teams2_Score))+SUMPRODUCT((Teams2=T73)*(Teams2_Score>Teams1_Score))","v":0},{"$f":"SUMPRODUCT((Teams1=T73)*(Teams1_Score=Teams2_Score)*(Teams1_Score<>\"\"))+SUMPRODUCT((Teams2=T73)*(Teams2_Score=Teams1_Score)*(Teams2_Score<>\"\"))","v":0},{"$f":"SUMPRODUCT((Teams1=T73)*(Teams1_Score<Teams2_Score))+SUMPRODUCT((Teams2=T73)*(Teams2_Score<Teams1_Score))","v":0},{"$f":"SUMPRODUCT((Teams1=T73)*(Teams1_Score))+SUMPRODUCT((Teams2=T73)*(Teams2_Score))","v":0},{"$f":"SUMPRODUCT((Teams1=T73)*(Teams2_Score))+SUMPRODUCT((Teams2=T73)*(Teams1_Score))","v":0},{"$f":"Y73-Z73","v":0},{"$f":"3*V73+W73","v":0}]
[null,"Tirage au sort B2",null,null,null,null,null,null,null,null,null,null,null,null,null,"C_3",{"$f":"TEXT(R74,\"00000\")&T74","v":"00000Pérou"},{"$f":"AB74*1000+AA74*100+Y74*10","v":0},{"$f":"RANK(R74,$R72:$R75,0)","v":1},{"$f":"VLOOKUP(P74,TABLEAU_TEAMS[#All],2,FALSE)","v":"Pérou"},{"$f":"SUMPRODUCT((Teams1=T74)*(Teams1_Score<>\"\"))+SUMPRODUCT((Teams2=T74)*(Teams2_Score<>\"\"))","v":0},{"$f":"SUMPRODUCT((Teams1=T74)*(Teams1_Score>Teams2_Score))+SUMPRODUCT((Teams2=T74)*(Teams2_Score>Teams1_Score))","v":0},{"$f":"SUMPRODUCT((Teams1=T74)*(Teams1_Score=Teams2_Score)*(Teams1_Score<>\"\"))+SUMPRODUCT((Teams2=T74)*(Teams2_Score=Teams1_Score)*(Teams2_Score<>\"\"))","v":0},{"$f":"SUMPRODUCT((Teams1=T74)*(Teams1_Score<Teams2_Score))+SUMPRODUCT((Teams2=T74)*(Teams2_Score<Teams1_Score))","v":0},{"$f":"SUMPRODUCT((Teams1=T74)*(Teams1_Score))+SUMPRODUCT((Teams2=T74)*(Teams2_Score))","v":0},{"$f":"SUMPRODUCT((Teams1=T74)*(Teams2_Score))+SUMPRODUCT((Teams2=T74)*(Teams1_Score))","v":0},{"$f":"Y74-Z74","v":0},{"$f":"3*V74+W74","v":0}]
[null,{"$f":"IF(COUNTIF($S$15:$S$18,1)>1,IF(ROWS($1:1)<=COUNTIF($S$15:$S$18,1),INDEX($T$15:$T$18,SMALL(IF($S$15:$S$18=1,ROW(INDIRECT(\"1:\"&ROWS($S$15:$S$18)))),ROWS($1:1))),\"\"),IF(COUNTIF($S$15:$S$18,2)>1,IF(ROWS($1:1)<=COUNTIF($S$15:$S$18,2),INDEX($T$15:$T$18,SMALL(IF($S$15:$S$18=2,ROW(INDIRECT(\"1:\"&ROWS($S$15:$S$18)))),ROWS($1:1))),\"\")))","v":"Portugal"},null,null,null,null,null,null,null,null,null,null,null,null,null,"C_4",{"$f":"TEXT(R75,\"00000\")&T75","v":"00000Danemark"},{"$f":"AB75*1000+AA75*100+Y75*10","v":0},{"$f":"RANK(R75,$R72:$R75,0)","v":1},{"$f":"VLOOKUP(P75,TABLEAU_TEAMS[#All],2,FALSE)","v":"Danemark"},{"$f":"SUMPRODUCT((Teams1=T75)*(Teams1_Score<>\"\"))+SUMPRODUCT((Teams2=T75)*(Teams2_Score<>\"\"))","v":0},{"$f":"SUMPRODUCT((Teams1=T75)*(Teams1_Score>Teams2_Score))+SUMPRODUCT((Teams2=T75)*(Teams2_Score>Teams1_Score))","v":0},{"$f":"SUMPRODUCT((Teams1=T75)*(Teams1_Score=Teams2_Score)*(Teams1_Score<>\"\"))+SUMPRODUCT((Teams2=T75)*(Teams2_Score=Teams1_Score)*(Teams2_Score<>\"\"))","v":0},{"$f":"SUMPRODUCT((Teams1=T75)*(Teams1_Score<Teams2_Score))+SUMPRODUCT((Teams2=T75)*(Teams2_Score<Teams1_Score))","v":0},{"$f":"SUMPRODUCT((Teams1=T75)*(Teams1_Score))+SUMPRODUCT((Teams2=T75)*(Teams2_Score))","v":0},{"$f":"SUMPRODUCT((Teams1=T75)*(Teams2_Score))+SUMPRODUCT((Teams2=T75)*(Teams1_Score))","v":0},{"$f":"Y75-Z75","v":0},{"$f":"3*V75+W75","v":0}]
[null,{"$f":"IF(COUNTIF($S$15:$S$18,1)>1,IF(ROWS($1:2)<=COUNTIF($S$15:$S$18,1),INDEX($T$15:$T$18,SMALL(IF($S$15:$S$18=1,ROW(INDIRECT(\"1:\"&ROWS($S$15:$S$18)))),ROWS($1:2))),\"\"),IF(COUNTIF($S$15:$S$18,2)>1,IF(ROWS($1:2)<=COUNTIF($S$15:$S$18,2),INDEX($T$15:$T$18,SMALL(IF($S$15:$S$18=2,ROW(INDIRECT(\"1:\"&ROWS($S$15:$S$18)))),ROWS($1:2))),\"\")))","v":"Espagne"}]
[null,{"$f":"IF(COUNTIF($S$15:$S$18,1)>1,IF(ROWS($1:3)<=COUNTIF($S$15:$S$18,1),INDEX($T$15:$T$18,SMALL(IF($S$15:$S$18=1,ROW(INDIRECT(\"1:\"&ROWS($S$15:$S$18)))),ROWS($1:3))),\"\"),IF(COUNTIF($S$15:$S$18,2)>1,IF(ROWS($1:3)<=COUNTIF($S$15:$S$18,2),INDEX($T$15:$T$18,SMALL(IF($S$15:$S$18=2,ROW(INDIRECT(\"1:\"&ROWS($S$15:$S$18)))),ROWS($1:3))),\"\")))","v":""},null,null,null,null,null,null,null,null,null,null,null,null,null,null,null,null,"Rg","Groupe D","MJ","G","N","P","BP","BC","Pts","Pts"]
[null,{"$f":"IF(COUNTIF($S$15:$S$18,1)>1,IF(ROWS($1:4)<=COUNTIF($S$15:$S$18,1),INDEX($T$15:$T$18,SMALL(IF($S$15:$S$18=1,ROW(INDIRECT(\"1:\"&ROWS($S$15:$S$18)))),ROWS($1:4))),\"\"),IF(COUNTIF($S$15:$S$18,2)>1,IF(ROWS($1:4)<=COUNTIF($S$15:$S$18,2),INDEX($T$15:$T$18,SMALL(IF($S$15:$S$18=2,ROW(INDIRECT(\"1:\"&ROWS($S$15:$S$18)))),ROWS($1:4))),\"\")))","v":""},null,null,null,null,null,null,null,null,null,null,null,null,null,"D_1",{"$f":"TEXT(R78,\"00000\")&T78","v":"00000Argentine"},{"$f":"AB78*1000+AA78*100+Y78*10","v":0},{"$f":"RANK(R78,$R78:$R81,0)","v":1},{"$f":"VLOOKUP(P78,TABLEAU_TEAMS[#All],2,FALSE)","v":"Argentine"},{"$f":"SUMPRODUCT((Teams1=T78)*(Teams1_Score<>\"\"))+SUMPRODUCT((Teams2=T78)*(Teams2_Score<>\"\"))","v":0},{"$f":"SUMPRODUCT((Teams1=T78)*(Teams1_Score>Teams2_Score))+SUMPRODUCT((Teams2=T78)*(Teams2_Score>Teams1_Score))","v":0},{"$f":"SUMPRODUCT((Teams1=T78)*(Teams1_Score=Teams2_Score)*(Teams1_Score<>\"\"))+SUMPRODUCT((Teams2=T78)*(Teams2_Score=Teams1_Score)*(Teams2_Score<>\"\"))","v":0},{"$f":"SUMPRODUCT((Teams1=T78)*(Teams1_Score<Teams2_Score))+SUMPRODUCT((Teams2=T78)*(Teams2_Score<Teams1_Score))","v":0},{"$f":"SUMPRODUCT((Teams1=T78)*(Teams1_Score))+SUMPRODUCT((Teams2=T78)*(Teams2_Score))","v":0},{"$f":"SUMPRODUCT((Teams1=T78)*(Teams2_Score))+SUMPRODUCT((Teams2=T78)*(Teams1_Score))","v":0},{"$f":"Y78-Z78","v":0},{"$f":"3*V78+W78","v":0}]
[null,"Tirage au sort C1",null,null,null,null,null,null,null,null,null,null,null,null,null,"D_2",{"$f":"TEXT(R79,\"00000\")&T79","v":"00000Islande"},{"$f":"AB79*1000+AA79*100+Y79*10","v":0},{"$f":"RANK(R79,$R78:$R81,0)","v":1},{"$f":"VLOOKUP(P79,TABLEAU_TEAMS[#All],2,FALSE)","v":"Islande"},{"$f":"SUMPRODUCT((Teams1=T79)*(Teams1_Score<>\"\"))+SUMPRODUCT((Teams2=T79)*(Teams2_Score<>\"\"))","v":0},{"$f":"SUMPRODUCT((Teams1=T79)*(Teams1_Score>Teams2_Score))+SUMPRODUCT((Teams2=T79)*(Teams2_Score>Teams1_Score))","v":0},{"$f":"SUMPRODUCT((Teams1=T79)*(Teams1_Score=Teams2_Score)*(Teams1_Score<>\"\"))+SUMPRODUCT((Teams2=T79)*(Teams2_Score=Teams1_Score)*(Teams2_Score<>\"\"))","v":0},{"$f":"SUMPRODUCT((Teams1=T79)*(Teams1_Score<Teams2_Score))+SUMPRODUCT((Teams2=T79)*(Teams2_Score<Teams1_Score))","v":0},{"$f":"SUMPRODUCT((Teams1=T79)*(Teams1_Score))+SUMPRODUCT((Teams2=T79)*(Teams2_Score))","v":0},{"$f":"SUMPRODUCT((Teams1=T79)*(Teams2_Score))+SUMPRODUCT((Teams2=T79)*(Teams1_Score))","v":0},{"$f":"Y79-Z79","v":0},{"$f":"3*V79+W79","v":0}]
[null,{"$f":"IF(ROWS($1:1)<=COUNTIF($S$21:$S$24,1),INDEX($T$21:$T$24,SMALL(IF($S$21:$S$24=1,ROW(INDIRECT(\"1:\"&ROWS($S$21:$S$24)))),ROWS($1:1))),\"\")","v":"Pérou"},null,null,null,null,null,null,null,null,null,null,null,null,null,"D_3",{"$f":"TEXT(R80,\"00000\")&T80","v":"00000Croatie"},{"$f":"AB80*1000+AA80*100+Y80*10","v":0},{"$f":"RANK(R80,$R78:$R81,0)","v":1},{"$f":"VLOOKUP(P80,TABLEAU_TEAMS[#All],2,FALSE)","v":"Croatie"},{"$f":"SUMPRODUCT((Teams1=T80)*(Teams1_Score<>\"\"))+SUMPRODUCT((Teams2=T80)*(Teams2_Score<>\"\"))","v":0},{"$f":"SUMPRODUCT((Teams1=T80)*(Teams1_Score>Teams2_Score))+SUMPRODUCT((Teams2=T80)*(Teams2_Score>Teams1_Score))","v":0},{"$f":"SUMPRODUCT((Teams1=T80)*(Teams1_Score=Teams2_Score)*(Teams1_Score<>\"\"))+SUMPRODUCT((Teams2=T80)*(Teams2_Score=Teams1_Score)*(Teams2_Score<>\"\"))","v":0},{"$f":"SUMPRODUCT((Teams1=T80)*(Teams1_Score<Teams2_Score))+SUMPRODUCT((Teams2=T80)*(Teams2_Score<Teams1_Score))","v":0},{"$f":"SUMPRODUCT((Teams1=T80)*(Teams1_Score))+SUMPRODUCT((Teams2=T80)*(Teams2_Score))","v":0},{"$f":"SUMPRODUCT((Teams1=T80)*(Teams2_Score))+SUMPRODUCT((Teams2=T80)*(Teams1_Score))","v":0},{"$f":"Y80-Z80","v":0},{"$f":"3*V80+W80","v":0}]
[null,{"$f":"IF(ROWS($1:2)<=COUNTIF($S$21:$S$24,1),INDEX($T$21:$T$24,SMALL(IF($S$21:$S$24=1,ROW(INDIRECT(\"1:\"&ROWS($S$21:$S$24)))),ROWS($1:2))),\"\")","v":"France"},null,null,null,null,null,null,null,null,null,null,null,null,null,"D_4",{"$f":"TEXT(R81,\"00000\")&T81","v":"00000Nigeria"},{"$f":"AB81*1000+AA81*100+Y81*10","v":0},{"$f":"RANK(R81,$R78:$R81,0)","v":1},{"$f":"VLOOKUP(P81,TABLEAU_TEAMS[#All],2,FALSE)","v":"Nigeria"},{"$f":"SUMPRODUCT((Teams1=T81)*(Teams1_Score<>\"\"))+SUMPRODUCT((Teams2=T81)*(Teams2_Score<>\"\"))","v":0},{"$f":"SUMPRODUCT((Teams1=T81)*(Teams1_Score>Teams2_Score))+SUMPRODUCT((Teams2=T81)*(Teams2_Score>Teams1_Score))","v":0},{"$f":"SUMPRODUCT((Teams1=T81)*(Teams1_Score=Teams2_Score)*(Teams1_Score<>\"\"))+SUMPRODUCT((Teams2=T81)*(Teams2_Score=Teams1_Score)*(Teams2_Score<>\"\"))","v":0},{"$f":"SUMPRODUCT((Teams1=T81)*(Teams1_Score<Teams2_Score))+SUMPRODUCT((Teams2=T81)*(Teams2_Score<Teams1_Score))","v":0},{"$f":"SUMPRODUCT((Teams1=T81)*(Teams1_Score))+SUMPRODUCT((Teams2=T81)*(Teams2_Score))","v":0},{"$f":"SUMPRODUCT((Teams1=T81)*(Teams2_Score))+SUMPRODUCT((Teams2=T81)*(Teams1_Score))","v":0},{"$f":"Y81-Z81","v":0},{"$f":"3*V81+W81","v":0}]
[null,{"$f":"IF(ROWS($1:3)<=COUNTIF($S$21:$S$24,1),INDEX($T$21:$T$24,SMALL(IF($S$21:$S$24=1,ROW(INDIRECT(\"1:\"&ROWS($S$21:$S$24)))),ROWS($1:3))),\"\")","v":"Danemark"}]
[null,{"$f":"IF(ROWS($1:4)<=COUNTIF($S$21:$S$24,1),INDEX($T$21:$T$24,SMALL(IF($S$21:$S$24=1,ROW(INDIRECT(\"1:\"&ROWS($S$21:$S$24)))),ROWS($1:4))),\"\")","v":"Australie"},null,null,null,null,null,null,null,null,null,null,null,null,null,null,null,null,"Rg","Groupe E","MJ","G","N","P","BP","BC","Pts","Pts"]
[null,"Tirage au sort C2",null,null,null,null,null,null,null,null,null,null,null,null,null,"E_1",{"$f":"TEXT(R84,\"00000\")&T84","v":"00000Costa Rica"},{"$f":"AB84*1000+AA84*100+Y84*10","v":0},{"$f":"RANK(R84,$R84:$R87,0)","v":1},{"$f":"VLOOKUP(P84,TABLEAU_TEAMS[#All],2,FALSE)","v":"Costa Rica"},{"$f":"SUMPRODUCT((Teams1=T84)*(Teams1_Score<>\"\"))+SUMPRODUCT((Teams2=T84)*(Teams2_Score<>\"\"))","v":0},{"$f":"SUMPRODUCT((Teams1=T84)*(Teams1_Score>Teams2_Score))+SUMPRODUCT((Teams2=T84)*(Teams2_Score>Teams1_Score))","v":0},{"$f":"SUMPRODUCT((Teams1=T84)*(Teams1_Score=Teams2_Score)*(Teams1_Score<>\"\"))+SUMPRODUCT((Teams2=T84)*(Teams2_Score=Teams1_Score)*(Teams2_Score<>\"\"))","v":0},{"$f":"SUMPRODUCT((Teams1=T84)*(Teams1_Score<Teams2_Score))+SUMPRODUCT((Teams2=T84)*(Teams2_Score<Teams1_Score))","v":0},{"$f":"SUMPRODUCT((Teams1=T84)*(Teams1_Score))+SUMPRODUCT((Teams2=T84)*(Teams2_Score))","v":0},{"$f":"SUMPRODUCT((Teams1=T84)*(Teams2_Score))+SUMPRODUCT((Teams2=T84)*(Teams1_Score))","v":0},{"$f":"Y84-Z84","v":0},{"$f":"3*V84+W84","v":0}]
[null,{"$f":"IF(COUNTIF($S$21:$S$24,1)>1,IF(ROWS($1:1)<=COUNTIF($S$21:$S$24,1),INDEX($T$21:$T$24,SMALL(IF($S$21:$S$24=1,ROW(INDIRECT(\"1:\"&ROWS($S$21:$S$24)))),ROWS($1:1))),\"\"),IF(COUNTIF($S$21:$S$24,2)>1,IF(ROWS($1:1)<=COUNTIF($S$21:$S$24,2),INDEX($T$21:$T$24,SMALL(IF($S$21:$S$24=2,ROW(INDIRECT(\"1:\"&ROWS($S$21:$S$24)))),ROWS($1:1))),\"\")))","v":"Pérou"},null,null,null,null,null,null,null,null,null,null,null,null,null,"E_2",{"$f":"TEXT(R85,\"00000\")&T85","v":"00000Serbie"},{"$f":"AB85*1000+AA85*100+Y85*10","v":0},{"$f":"RANK(R85,$R84:$R87,0)","v":1},{"$f":"VLOOKUP(P85,TABLEAU_TEAMS[#All],2,FALSE)","v":"Serbie"},{"$f":"SUMPRODUCT((Teams1=T85)*(Teams1_Score<>\"\"))+SUMPRODUCT((Teams2=T85)*(Teams2_Score<>\"\"))","v":0},{"$f":"SUMPRODUCT((Teams1=T85)*(Teams1_Score>Teams2_Score))+SUMPRODUCT((Teams2=T85)*(Teams2_Score>Teams1_Score))","v":0},{"$f":"SUMPRODUCT((Teams1=T85)*(Teams1_Score=Teams2_Score)*(Teams1_Score<>\"\"))+SUMPRODUCT((Teams2=T85)*(Teams2_Score=Teams1_Score)*(Teams2_Score<>\"\"))","v":0},{"$f":"SUMPRODUCT((Teams1=T85)*(Teams1_Score<Teams2_Score))+SUMPRODUCT((Teams2=T85)*(Teams2_Score<Teams1_Score))","v":0},{"$f":"SUMPRODUCT((Teams1=T85)*(Teams1_Score))+SUMPRODUCT((Teams2=T85)*(Teams2_Score))","v":0},{"$f":"SUMPRODUCT((Teams1=T85)*(Teams2_Score))+SUMPRODUCT((Teams2=T85)*(Teams1_Score))","v":0},{"$f":"Y85-Z85","v":0},{"$f":"3*V85+W85","v":0}]
[null,{"$f":"IF(COUNTIF($S$21:$S$24,1)>1,IF(ROWS($1:2)<=COUNTIF($S$21:$S$24,1),INDEX($T$21:$T$24,SMALL(IF($S$21:$S$24=1,ROW(INDIRECT(\"1:\"&ROWS($S$21:$S$24)))),ROWS($1:2))),\"\"),IF(COUNTIF($S$21:$S$24,2)>1,IF(ROWS($1:2)<=COUNTIF($S$21:$S$24,2),INDEX($T$21:$T$24,SMALL(IF($S$21:$S$24=2,ROW(INDIRECT(\"1:\"&ROWS($S$21:$S$24)))),ROWS($1:2))),\"\")))","v":"France"},null,null,null,null,null,null,null,null,null,null,null,null,null,"E_3",{"$f":"TEXT(R86,\"00000\")&T86","v":"00000Brésil"},{"$f":"AB86*1000+AA86*100+Y86*10","v":0},{"$f":"RANK(R86,$R84:$R87,0)","v":1},{"$f":"VLOOKUP(P86,TABLEAU_TEAMS[#All],2,FALSE)","v":"Brésil"},{"$f":"SUMPRODUCT((Teams1=T86)*(Teams1_Score<>\"\"))+SUMPRODUCT((Teams2=T86)*(Teams2_Score<>\"\"))","v":0},{"$f":"SUMPRODUCT((Teams1=T86)*(Teams1_Score>Teams2_Score))+SUMPRODUCT((Teams2=T86)*(Teams2_Score>Teams1_Score))","v":0},{"$f":"SUMPRODUCT((Teams1=T86)*(Teams1_Score=Teams2_Score)*(Teams1_Score<>\"\"))+SUMPRODUCT((Teams2=T86)*(Teams2_Score=Teams1_Score)*(Teams2_Score<>\"\"))","v":0},{"$f":"SUMPRODUCT((Teams1=T86)*(Teams1_Score<Teams2_Score))+SUMPRODUCT((Teams2=T86)*(Teams2_Score<Teams1_Score))","v":0},{"$f":"SUMPRODUCT((Teams1=T86)*(Teams1_Score))+SUMPRODUCT((Teams2=T86)*(Teams2_Score))","v":0},{"$f":"SUMPRODUCT((Teams1=T86)*(Teams2_Score))+SUMPRODUCT((Teams2=T86)*(Teams1_Score))","v":0},{"$f":"Y86-Z86","v":0},{"$f":"3*V86+W86","v":0}]
[null,{"$f":"IF(COUNTIF($S$21:$S$24,1)>1,IF(ROWS($1:3)<=COUNTIF($S$21:$S$24,1),INDEX($T$21:$T$24,SMALL(IF($S$21:$S$24=1,ROW(INDIRECT(\"1:\"&ROWS($S$21:$S$24)))),ROWS($1:3))),\"\"),IF(COUNTIF($S$21:$S$24,2)>1,IF(ROWS($1:3)<=COUNTIF($S$21:$S$24,2),INDEX($T$21:$T$24,SMALL(IF($S$21:$S$24=2,ROW(INDIRECT(\"1:\"&ROWS($S$21:$S$24)))),ROWS($1:3))),\"\")))","v":"Danemark"},null,null,null,null,null,null,null,null,null,null,null,null,null,"E_4",{"$f":"TEXT(R87,\"00000\")&T87","v":"00000Suisse"},{"$f":"AB87*1000+AA87*100+Y87*10","v":0},{"$f":"RANK(R87,$R84:$R87,0)","v":1},{"$f":"VLOOKUP(P87,TABLEAU_TEAMS[#All],2,FALSE)","v":"Suisse"},{"$f":"SUMPRODUCT((Teams1=T87)*(Teams1_Score<>\"\"))+SUMPRODUCT((Teams2=T87)*(Teams2_Score<>\"\"))","v":0},{"$f":"SUMPRODUCT((Teams1=T87)*(Teams1_Score>Teams2_Score))+SUMPRODUCT((Teams2=T87)*(Teams2_Score>Teams1_Score))","v":0},{"$f":"SUMPRODUCT((Teams1=T87)*(Teams1_Score=Teams2_Score)*(Teams1_Score<>\"\"))+SUMPRODUCT((Teams2=T87)*(Teams2_Score=Teams1_Score)*(Teams2_Score<>\"\"))","v":0},{"$f":"SUMPRODUCT((Teams1=T87)*(Teams1_Score<Teams2_Score))+SUMPRODUCT((Teams2=T87)*(Teams2_Score<Teams1_Score))","v":0},{"$f":"SUMPRODUCT((Teams1=T87)*(Teams1_Score))+SUMPRODUCT((Teams2=T87)*(Teams2_Score))","v":0},{"$f":"SUMPRODUCT((Teams1=T87)*(Teams2_Score))+SUMPRODUCT((Teams2=T87)*(Teams1_Score))","v":0},{"$f":"Y87-Z87","v":0},{"$f":"3*V87+W87","v":0}]
[null,{"$f":"IF(COUNTIF($S$21:$S$24,1)>1,IF(ROWS($1:4)<=COUNTIF($S$21:$S$24,1),INDEX($T$21:$T$24,SMALL(IF($S$21:$S$24=1,ROW(INDIRECT(\"1:\"&ROWS($S$21:$S$24)))),ROWS($1:4))),\"\"),IF(COUNTIF($S$21:$S$24,2)>1,IF(ROWS($1:4)<=COUNTIF($S$21:$S$24,2),INDEX($T$21:$T$24,SMALL(IF($S$21:$S$24=2,ROW(INDIRECT(\"1:\"&ROWS($S$21:$S$24)))),ROWS($1:4))),\"\")))","v":"Australie"}]
[null,"Tirage au sort D1",null,null,null,null,null,null,null,null,null,null,null,null,null,null,null,null,"Rg","Groupe F","MJ","G","N","P","BP","BC","Pts","Pts"]
[null,{"$f":"IF(ROWS($1:1)<=COUNTIF($S$27:$S$30,1),INDEX($T$27:$T$30,SMALL(IF($S$27:$S$30=1,ROW(INDIRECT(\"1:\"&ROWS($S$27:$S$30)))),ROWS($1:1))),\"\")","v":"Nigeria"},null,null,null,null,null,null,null,null,null,null,null,null,null,"F_1",{"$f":"TEXT(R90,\"00000\")&T90","v":"00000Allemagne"},{"$f":"AB90*1000+AA90*100+Y90*10","v":0},{"$f":"RANK(R90,$R90:$R93,0)","v":1},{"$f":"VLOOKUP(P90,TABLEAU_TEAMS[#All],2,FALSE)","v":"Allemagne"},{"$f":"SUMPRODUCT((Teams1=T90)*(Teams1_Score<>\"\"))+SUMPRODUCT((Teams2=T90)*(Teams2_Score<>\"\"))","v":0},{"$f":"SUMPRODUCT((Teams1=T90)*(Teams1_Score>Teams2_Score))+SUMPRODUCT((Teams2=T90)*(Teams2_Score>Teams1_Score))","v":0},{"$f":"SUMPRODUCT((Teams1=T90)*(Teams1_Score=Teams2_Score)*(Teams1_Score<>\"\"))+SUMPRODUCT((Teams2=T90)*(Teams2_Score=Teams1_Score)*(Teams2_Score<>\"\"))","v":0},{"$f":"SUMPRODUCT((Teams1=T90)*(Teams1_Score<Teams2_Score))+SUMPRODUCT((Teams2=T90)*(Teams2_Score<Teams1_Score))","v":0},{"$f":"SUMPRODUCT((Teams1=T90)*(Teams1_Score))+SUMPRODUCT((Teams2=T90)*(Teams2_Score))","v":0},{"$f":"SUMPRODUCT((Teams1=T90)*(Teams2_Score))+SUMPRODUCT((Teams2=T90)*(Teams1_Score))","v":0},{"$f":"Y90-Z90","v":0},{"$f":"3*V90+W90","v":0}]
[null,{"$f":"IF(ROWS($1:2)<=COUNTIF($S$27:$S$30,1),INDEX($T$27:$T$30,SMALL(IF($S$27:$S$30=1,ROW(INDIRECT(\"1:\"&ROWS($S$27:$S$30)))),ROWS($1:2))),\"\")","v":"Islande"},null,null,null,null,null,null,null,null,null,null,null,null,null,"F_2",{"$f":"TEXT(R91,\"00000\")&T91","v":"00000Mexique"},{"$f":"AB91*1000+AA91*100+Y91*10","v":0},{"$f":"RANK(R91,$R90:$R93,0)","v":1},{"$f":"VLOOKUP(P91,TABLEAU_TEAMS[#All],2,FALSE)","v":"Mexique"},{"$f":"SUMPRODUCT((Teams1=T91)*(Teams1_Score<>\"\"))+SUMPRODUCT((Teams2=T91)*(Teams2_Score<>\"\"))","v":0},{"$f":"SUMPRODUCT((Teams1=T91)*(Teams1_Score>Teams2_Score))+SUMPRODUCT((Teams2=T91)*(Teams2_Score>Teams1_Score))","v":0},{"$f":"SUMPRODUCT((Teams1=T91)*(Teams1_Score=Teams2_Score)*(Teams1_Score<>\"\"))+SUMPRODUCT((Teams2=T91)*(Teams2_Score=Teams1_Score)*(Teams2_Score<>\"\"))","v":0},{"$f":"SUMPRODUCT((Teams1=T91)*(Teams1_Score<Teams2_Score))+SUMPRODUCT((Teams2=T91)*(Teams2_Score<Teams1_Score))","v":0},{"$f":"SUMPRODUCT((Teams1=T91)*(Teams1_Score))+SUMPRODUCT((Teams2=T91)*(Teams2_Score))","v":0},{"$f":"SUMPRODUCT((Teams1=T91)*(Teams2_Score))+SUMPRODUCT((Teams2=T91)*(Teams1_Score))","v":0},{"$f":"Y91-Z91","v":0},{"$f":"3*V91+W91","v":0}]
[null,{"$f":"IF(ROWS($1:3)<=COUNTIF($S$27:$S$30,1),INDEX($T$27:$T$30,SMALL(IF($S$27:$S$30=1,ROW(INDIRECT(\"1:\"&ROWS($S$27:$S$30)))),ROWS($1:3))),\"\")","v":"Croatie"},null,null,null,null,null,null,null,null,null,null,null,null,null,"F_3",{"$f":"TEXT(R92,\"00000\")&T92","v":"00000Suède"},{"$f":"AB92*1000+AA92*100+Y92*10","v":0},{"$f":"RANK(R92,$R90:$R93,0)","v":1},{"$f":"VLOOKUP(P92,TABLEAU_TEAMS[#All],2,FALSE)","v":"Suède"},{"$f":"SUMPRODUCT((Teams1=T92)*(Teams1_Score<>\"\"))+SUMPRODUCT((Teams2=T92)*(Teams2_Score<>\"\"))","v":0},{"$f":"SUMPRODUCT((Teams1=T92)*(Teams1_Score>Teams2_Score))+SUMPRODUCT((Teams2=T92)*(Teams2_Score>Teams1_Score))","v":0},{"$f":"SUMPRODUCT((Teams1=T92)*(Teams1_Score=Teams2_Score)*(Teams1_Score<>\"\"))+SUMPRODUCT((Teams2=T92)*(Teams2_Score=Teams1_Score)*(Teams2_Score<>\"\"))","v":0},{"$f":"SUMPRODUCT((Teams1=T92)*(Teams1_Score<Teams2_Score))+SUMPRODUCT((Teams2=T92)*(Teams2_Score<Teams1_Score))","v":0},{"$f":"SUMPRODUCT((Teams1=T92)*(Teams1_Score))+SUMPRODUCT((Teams2=T92)*(Teams2_Score))","v":0},{"$f":"SUMPRODUCT((Teams1=T92)*(Teams2_Score))+SUMPRODUCT((Teams2=T92)*(Teams1_Score))","v":0},{"$f":"Y92-Z92","v":0},{"$f":"3*V92+W92","v":0}]
[null,{"$f":"IF(ROWS($1:4)<=COUNTIF($S$27:$S$30,1),INDEX($T$27:$T$30,SMALL(IF($S$27:$S$30=1,ROW(INDIRECT(\"1:\"&ROWS($S$27:$S$30)))),ROWS($1:4))),\"\")","v":"Argentine"},null,null,null,null,null,null,null,null,null,null,null,null,null,"F_4",{"$f":"TEXT(R93,\"00000\")&T93","v":"00000République de Corée"},{"$f":"AB93*1000+AA93*100+Y93*10","v":0},{"$f":"RANK(R93,$R90:$R93,0)","v":1},{"$f":"VLOOKUP(P93,TABLEAU_TEAMS[#All],2,FALSE)","v":"République de Corée"},{"$f":"SUMPRODUCT((Teams1=T93)*(Teams1_Score<>\"\"))+SUMPRODUCT((Teams2=T93)*(Teams2_Score<>\"\"))","v":0},{"$f":"SUMPRODUCT((Teams1=T93)*(Teams1_Score>Teams2_Score))+SUMPRODUCT((Teams2=T93)*(Teams2_Score>Teams1_Score))","v":0},{"$f":"SUMPRODUCT((Teams1=T93)*(Teams1_Score=Teams2_Score)*(Teams1_Score<>\"\"))+SUMPRODUCT((Teams2=T93)*(Teams2_Score=Teams1_Score)*(Teams2_Score<>\"\"))","v":0},{"$f":"SUMPRODUCT((Teams1=T93)*(Teams1_Score<Teams2_Score))+SUMPRODUCT((Teams2=T93)*(Teams2_Score<Teams1_Score))","v":0},{"$f":"SUMPRODUCT((Teams1=T93)*(Teams1_Score))+SUMPRODUCT((Teams2=T93)*(Teams2_Score))","v":0},{"$f":"SUMPRODUCT((Teams1=T93)*(Teams2_Score))+SUMPRODUCT((Teams2=T93)*(Teams1_Score))","v":0},{"$f":"Y93-Z93","v":0},{"$f":"3*V93+W93","v":0}]
[null,"Tirage au sort D2"]
[null,{"$f":"IF(COUNTIF($S$27:$S$30,1)>1,IF(ROWS($1:1)<=COUNTIF($S$27:$S$30,1),INDEX($T$27:$T$30,SMALL(IF($S$27:$S$30=1,ROW(INDIRECT(\"1:\"&ROWS($S$27:$S$30)))),ROWS($1:1))),\"\"),IF(COUNTIF($S$27:$S$30,2)>1,IF(ROWS($1:1)<=COUNTIF($S$27:$S$30,2),INDEX($T$27:$T$30,SMALL(IF($S$27:$S$30=2,ROW(INDIRECT(\"1:\"&ROWS($S$27:$S$30)))),ROWS($1:1))),\"\")))","v":"Nigeria"},null,null,null,null,null,null,null,null,null,null,null,null,null,null,null,null,"Rg","Groupe G","MJ","G","N","P","BP","BC","Pts","Pts"]
[null,{"$f":"IF(COUNTIF($S$27:$S$30,1)>1,IF(ROWS($1:2)<=COUNTIF($S$27:$S$30,1),INDEX($T$27:$T$30,SMALL(IF($S$27:$S$30=1,ROW(INDIRECT(\"1:\"&ROWS($S$27:$S$30)))),ROWS($1:2))),\"\"),IF(COUNTIF($S$27:$S$30,2)>1,IF(ROWS($1:2)<=COUNTIF($S$27:$S$30,2),INDEX($T$27:$T$30,SMALL(IF($S$27:$S$30=2,ROW(INDIRECT(\"1:\"&ROWS($S$27:$S$30)))),ROWS($1:2))),\"\")))","v":"Islande"},null,null,null,null,null,null,null,null,null,null,null,null,null,"G_1",{"$f":"TEXT(R96,\"00000\")&T96","v":"00000Belgique"},{"$f":"AB96*1000+AA96*100+Y96*10","v":0},{"$f":"RANK(R96,$R96:$R99,0)","v":1},{"$f":"VLOOKUP(P96,TABLEAU_TEAMS[#All],2,FALSE)","v":"Belgique"},{"$f":"SUMPRODUCT((Teams1=T96)*(Teams1_Score<>\"\"))+SUMPRODUCT((Teams2=T96)*(Teams2_Score<>\"\"))","v":0},{"$f":"SUMPRODUCT((Teams1=T96)*(Teams1_Score>Teams2_Score))+SUMPRODUCT((Teams2=T96)*(Teams2_Score>Teams1_Score))","v":0},{"$f":"SUMPRODUCT((Teams1=T96)*(Teams1_Score=Teams2_Score)*(Teams1_Score<>\"\"))+SUMPRODUCT((Teams2=T96)*(Teams2_Score=Teams1_Score)*(Teams2_Score<>\"\"))","v":0},{"$f":"SUMPRODUCT((Teams1=T96)*(Teams1_Score<Teams2_Score))+SUMPRODUCT((Teams2=T96)*(Teams2_Score<Teams1_Score))","v":0},{"$f":"SUMPRODUCT((Teams1=T96)*(Teams1_Score))+SUMPRODUCT((Teams2=T96)*(Teams2_Score))","v":0},{"$f":"SUMPRODUCT((Teams1=T96)*(Teams2_Score))+SUMPRODUCT((Teams2=T96)*(Teams1_Score))","v":0},{"$f":"Y96-Z96","v":0},{"$f":"3*V96+W96","v":0}]
[null,{"$f":"IF(COUNTIF($S$27:$S$30,1)>1,IF(ROWS($1:3)<=COUNTIF($S$27:$S$30,1),INDEX($T$27:$T$30,SMALL(IF($S$27:$S$30=1,ROW(INDIRECT(\"1:\"&ROWS($S$27:$S$30)))),ROWS($1:3))),\"\"),IF(COUNTIF($S$27:$S$30,2)>1,IF(ROWS($1:3)<=COUNTIF($S$27:$S$30,2),INDEX($T$27:$T$30,SMALL(IF($S$27:$S$30=2,ROW(INDIRECT(\"1:\"&ROWS($S$27:$S$30)))),ROWS($1:3))),\"\")))","v":"Croatie"},null,null,null,null,null,null,null,null,null,null,null,null,null,"G_2",{"$f":"TEXT(R97,\"00000\")&T97","v":"00000Panama"},{"$f":"AB97*1000+AA97*100+Y97*10","v":0},{"$f":"RANK(R97,$R96:$R99,0)","v":1},{"$f":"VLOOKUP(P97,TABLEAU_TEAMS[#All],2,FALSE)","v":"Panama"},{"$f":"SUMPRODUCT((Teams1=T97)*(Teams1_Score<>\"\"))+SUMPRODUCT((Teams2=T97)*(Teams2_Score<>\"\"))","v":0},{"$f":"SUMPRODUCT((Teams1=T97)*(Teams1_Score>Teams2_Score))+SUMPRODUCT((Teams2=T97)*(Teams2_Score>Teams1_Score))","v":0},{"$f":"SUMPRODUCT((Teams1=T97)*(Teams1_Score=Teams2_Score)*(Teams1_Score<>\"\"))+SUMPRODUCT((Teams2=T97)*(Teams2_Score=Teams1_Score)*(Teams2_Score<>\"\"))","v":0},{"$f":"SUMPRODUCT((Teams1=T97)*(Teams1_Score<Teams2_Score))+SUMPRODUCT((Teams2=T97)*(Teams2_Score<Teams1_Score))","v":0},{"$f":"SUMPRODUCT((Teams1=T97)*(Teams1_Score))+SUMPRODUCT((Teams2=T97)*(Teams2_Score))","v":0},{"$f":"SUMPRODUCT((Teams1=T97)*(Teams2_Score))+SUMPRODUCT((Teams2=T97)*(Teams1_Score))","v":0},{"$f":"Y97-Z97","v":0},{"$f":"3*V97+W97","v":0}]
[null,{"$f":"IF(COUNTIF($S$27:$S$30,1)>1,IF(ROWS($1:4)<=COUNTIF($S$27:$S$30,1),INDEX($T$27:$T$30,SMALL(IF($S$27:$S$30=1,ROW(INDIRECT(\"1:\"&ROWS($S$27:$S$30)))),ROWS($1:4))),\"\"),IF(COUNTIF($S$27:$S$30,2)>1,IF(ROWS($1:4)<=COUNTIF($S$27:$S$30,2),INDEX($T$27:$T$30,SMALL(IF($S$27:$S$30=2,ROW(INDIRECT(\"1:\"&ROWS($S$27:$S$30)))),ROWS($1:4))),\"\")))","v":"Argentine"},null,null,null,null,null,null,null,null,null,null,null,null,null,"G_3",{"$f":"TEXT(R98,\"00000\")&T98","v":"00000Tunisie"},{"$f":"AB98*1000+AA98*100+Y98*10","v":0},{"$f":"RANK(R98,$R96:$R99,0)","v":1},{"$f":"VLOOKUP(P98,TABLEAU_TEAMS[#All],2,FALSE)","v":"Tunisie"},{"$f":"SUMPRODUCT((Teams1=T98)*(Teams1_Score<>\"\"))+SUMPRODUCT((Teams2=T98)*(Teams2_Score<>\"\"))","v":0},{"$f":"SUMPRODUCT((Teams1=T98)*(Teams1_Score>Teams2_Score))+SUMPRODUCT((Teams2=T98)*(Teams2_Score>Teams1_Score))","v":0},{"$f":"SUMPRODUCT((Teams1=T98)*(Teams1_Score=Teams2_Score)*(Teams1_Score<>\"\"))+SUMPRODUCT((Teams2=T98)*(Teams2_Score=Teams1_Score)*(Teams2_Score<>\"\"))","v":0},{"$f":"SUMPRODUCT((Teams1=T98)*(Teams1_Score<Teams2_Score))+SUMPRODUCT((Teams2=T98)*(Teams2_Score<Teams1_Score))","v":0},{"$f":"SUMPRODUCT((Teams1=T98)*(Teams1_Score))+SUMPRODUCT((Teams2=T98)*(Teams2_Score))","v":0},{"$f":"SUMPRODUCT((Teams1=T98)*(Teams2_Score))+SUMPRODUCT((Teams2=T98)*(Teams1_Score))","v":0},{"$f":"Y98-Z98","v":0},{"$f":"3*V98+W98","v":0}]
[null,"Tirage au sort E1",null,null,null,null,null,null,null,null,null,null,null,null,null,"G_4",{"$f":"TEXT(R99,\"00000\")&T99","v":"00000Angleterre"},{"$f":"AB99*1000+AA99*100+Y99*10","v":0},{"$f":"RANK(R99,$R96:$R99,0)","v":1},{"$f":"VLOOKUP(P99,TABLEAU_TEAMS[#All],2,FALSE)","v":"Angleterre"},{"$f":"SUMPRODUCT((Teams1=T99)*(Teams1_Score<>\"\"))+SUMPRODUCT((Teams2=T99)*(Teams2_Score<>\"\"))","v":0},{"$f":"SUMPRODUCT((Teams1=T99)*(Teams1_Score>Teams2_Score))+SUMPRODUCT((Teams2=T99)*(Teams2_Score>Teams1_Score))","v":0},{"$f":"SUMPRODUCT((Teams1=T99)*(Teams1_Score=Teams2_Score)*(Teams1_Score<>\"\"))+SUMPRODUCT((Teams2=T99)*(Teams2_Score=Teams1_Score)*(Teams2_Score<>\"\"))","v":0},{"$f":"SUMPRODUCT((Teams1=T99)*(Teams1_Score<Teams2_Score))+SUMPRODUCT((Teams2=T99)*(Teams2_Score<Teams1_Score))","v":0},{"$f":"SUMPRODUCT((Teams1=T99)*(Teams1_Score))+SUMPRODUCT((Teams2=T99)*(Teams2_Score))","v":0},{"$f":"SUMPRODUCT((Teams1=T99)*(Teams2_Score))+SUMPRODUCT((Teams2=T99)*(Teams1_Score))","v":0},{"$f":"Y99-Z99","v":0},{"$f":"3*V99+W99","v":0}]
[null,{"$f":"IF(ROWS($1:1)<=COUNTIF($S$33:$S$36,1),INDEX($T$33:$T$36,SMALL(IF($S$33:$S$36=1,ROW(INDIRECT(\"1:\"&ROWS($S$33:$S$36)))),ROWS($1:1))),\"\")","v":"Suisse"}]
[null,{"$f":"IF(ROWS($1:2)<=COUNTIF($S$33:$S$36,1),INDEX($T$33:$T$36,SMALL(IF($S$33:$S$36=1,ROW(INDIRECT(\"1:\"&ROWS($S$33:$S$36)))),ROWS($1:2))),\"\")","v":"Serbie"},null,null,null,null,null,null,null,null,null,null,null,null,null,null,null,null,"Rg","Groupe H","MJ","G","N","P","BP","BC","Pts","Pts"]
[null,{"$f":"IF(ROWS($1:3)<=COUNTIF($S$33:$S$36,1),INDEX($T$33:$T$36,SMALL(IF($S$33:$S$36=1,ROW(INDIRECT(\"1:\"&ROWS($S$33:$S$36)))),ROWS($1:3))),\"\")","v":"Costa Rica"},null,null,null,null,null,null,null,null,null,null,null,null,null,"H_1",{"$f":"TEXT(R102,\"00000\")&T102","v":"00000Colombie"},{"$f":"AB102*1000+AA102*100+Y102*10","v":0},{"$f":"RANK(R102,$R102:$R105,0)","v":1},{"$f":"VLOOKUP(P102,TABLEAU_TEAMS[#All],2,FALSE)","v":"Colombie"},{"$f":"SUMPRODUCT((Teams1=T102)*(Teams1_Score<>\"\"))+SUMPRODUCT((Teams2=T102)*(Teams2_Score<>\"\"))","v":0},{"$f":"SUMPRODUCT((Teams1=T102)*(Teams1_Score>Teams2_Score))+SUMPRODUCT((Teams2=T102)*(Teams2_Score>Teams1_Score))","v":0},{"$f":"SUMPRODUCT((Teams1=T102)*(Teams1_Score=Teams2_Score)*(Teams1_Score<>\"\"))+SUMPRODUCT((Teams2=T102)*(Teams2_Score=Teams1_Score)*(Teams2_Score<>\"\"))","v":0},{"$f":"SUMPRODUCT((Teams1=T102)*(Teams1_Score<Teams2_Score))+SUMPRODUCT((Teams2=T102)*(Teams2_Score<Teams1_Score))","v":0},{"$f":"SUMPRODUCT((Teams1=T102)*(Teams1_Score))+SUMPRODUCT((Teams2=T102)*(Teams2_Score))","v":0},{"$f":"SUMPRODUCT((Teams1=T102)*(Teams2_Score))+SUMPRODUCT((Teams2=T102)*(Teams1_Score))","v":0},{"$f":"Y102-Z102","v":0},{"$f":"3*V102+W102","v":0}]
[null,{"$f":"IF(ROWS($1:4)<=COUNTIF($S$33:$S$36,1),INDEX($T$33:$T$36,SMALL(IF($S$33:$S$36=1,ROW(INDIRECT(\"1:\"&ROWS($S$33:$S$36)))),ROWS($1:4))),\"\")","v":"Brésil"},null,null,null,null,null,null,null,null,null,null,null,null,null,"H_2",{"$f":"TEXT(R103,\"00000\")&T103","v":"00000Japon"},{"$f":"AB103*1000+AA103*100+Y103*10","v":0},{"$f":"RANK(R103,$R102:$R105,0)","v":1},{"$f":"VLOOKUP(P103,TABLEAU_TEAMS[#All],2,FALSE)","v":"Japon"},{"$f":"SUMPRODUCT((Teams1=T103)*(Teams1_Score<>\"\"))+SUMPRODUCT((Teams2=T103)*(Teams2_Score<>\"\"))","v":0},{"$f":"SUMPRODUCT((Teams1=T103)*(Teams1_Score>Teams2_Score))+SUMPRODUCT((Teams2=T103)*(Teams2_Score>Teams1_Score))","v":0},{"$f":"SUMPRODUCT((Teams1=T103)*(Teams1_Score=Teams2_Score)*(Teams1_Score<>\"\"))+SUMPRODUCT((Teams2=T103)*(Teams2_Score=Teams1_Score)*(Teams2_Score<>\"\"))","v":0},{"$f":"SUMPRODUCT((Teams1=T103)*(Teams1_Score<Teams2_Score))+SUMPRODUCT((Teams2=T103)*(Teams2_Score<Teams1_Score))","v":0},{"$f":"SUMPRODUCT((Teams1=T103)*(Teams1_Score))+SUMPRODUCT((Teams2=T103)*(Teams2_Score))","v":0},{"$f":"SUMPRODUCT((Teams1=T103)*(Teams2_Score))+SUMPRODUCT((Teams2=T103)*(Teams1_Score))","v":0},{"$f":"Y103-Z103","v":0},{"$f":"3*V103+W103","v":0}]
[null,"Tirage au sort E2",null,null,null,null,null,null,null,null,null,null,null,null,null,"H_3",{"$f":"TEXT(R104,\"00000\")&T104","v":"00000Pologne"},{"$f":"AB104*1000+AA104*100+Y104*10","v":0},{"$f":"RANK(R104,$R102:$R105,0)","v":1},{"$f":"VLOOKUP(P104,TABLEAU_TEAMS[#All],2,FALSE)","v":"Pologne"},{"$f":"SUMPRODUCT((Teams1=T104)*(Teams1_Score<>\"\"))+SUMPRODUCT((Teams2=T104)*(Teams2_Score<>\"\"))","v":0},{"$f":"SUMPRODUCT((Teams1=T104)*(Teams1_Score>Teams2_Score))+SUMPRODUCT((Teams2=T104)*(Teams2_Score>Teams1_Score))","v":0},{"$f":"SUMPRODUCT((Teams1=T104)*(Teams1_Score=Teams2_Score)*(Teams1_Score<>\"\"))+SUMPRODUCT((Teams2=T104)*(Teams2_Score=Teams1_Score)*(Teams2_Score<>\"\"))","v":0},{"$f":"SUMPRODUCT((Teams1=T104)*(Teams1_Score<Teams2_Score))+SUMPRODUCT((Teams2=T104)*(Teams2_Score<Teams1_Score))","v":0},{"$f":"SUMPRODUCT((Teams1=T104)*(Teams1_Score))+SUMPRODUCT((Teams2=T104)*(Teams2_Score))","v":0},{"$f":"SUMPRODUCT((Teams1=T104)*(Teams2_Score))+SUMPRODUCT((Teams2=T104)*(Teams1_Score))","v":0},{"$f":"Y104-Z104","v":0},{"$f":"3*V104+W104","v":0}]
[null,{"$f":"IF(COUNTIF($S$33:$S$36,1)>1,IF(ROWS($1:1)<=COUNTIF($S$33:$S$36,1),INDEX($T$33:$T$36,SMALL(IF($S$33:$S$36=1,ROW(INDIRECT(\"1:\"&ROWS($S$33:$S$36)))),ROWS($1:1))),\"\"),IF(COUNTIF($S$33:$S$36,2)>1,IF(ROWS($1:1)<=COUNTIF($S$33:$S$36,2),INDEX($T$33:$T$36,SMALL(IF($S$33:$S$36=2,ROW(INDIRECT(\"1:\"&ROWS($S$33:$S$36)))),ROWS($1:1))),\"\")))","v":"Suisse"},null,null,null,null,null,null,null,null,null,null,null,null,null,"H_4",{"$f":"TEXT(R105,\"00000\")&T105","v":"00000Sénégal"},{"$f":"AB105*1000+AA105*100+Y105*10","v":0},{"$f":"RANK(R105,$R102:$R105,0)","v":1},{"$f":"VLOOKUP(P105,TABLEAU_TEAMS[#All],2,FALSE)","v":"Sénégal"},{"$f":"SUMPRODUCT((Teams1=T105)*(Teams1_Score<>\"\"))+SUMPRODUCT((Teams2=T105)*(Teams2_Score<>\"\"))","v":0},{"$f":"SUMPRODUCT((Teams1=T105)*(Teams1_Score>Teams2_Score))+SUMPRODUCT((Teams2=T105)*(Teams2_Score>Teams1_Score))","v":0},{"$f":"SUMPRODUCT((Teams1=T105)*(Teams1_Score=Teams2_Score)*(Teams1_Score<>\"\"))+SUMPRODUCT((Teams2=T105)*(Teams2_Score=Teams1_Score)*(Teams2_Score<>\"\"))","v":0},{"$f":"SUMPRODUCT((Teams1=T105)*(Teams1_Score<Teams2_Score))+SUMPRODUCT((Teams2=T105)*(Teams2_Score<Teams1_Score))","v":0},{"$f":"SUMPRODUCT((Teams1=T105)*(Teams1_Score))+SUMPRODUCT((Teams2=T105)*(Teams2_Score))","v":0},{"$f":"SUMPRODUCT((Teams1=T105)*(Teams2_Score))+SUMPRODUCT((Teams2=T105)*(Teams1_Score))","v":0},{"$f":"Y105-Z105","v":0},{"$f":"3*V105+W105","v":0}]
[null,{"$f":"IF(COUNTIF($S$33:$S$36,1)>1,IF(ROWS($1:2)<=COUNTIF($S$33:$S$36,1),INDEX($T$33:$T$36,SMALL(IF($S$33:$S$36=1,ROW(INDIRECT(\"1:\"&ROWS($S$33:$S$36)))),ROWS($1:2))),\"\"),IF(COUNTIF($S$33:$S$36,2)>1,IF(ROWS($1:2)<=COUNTIF($S$33:$S$36,2),INDEX($T$33:$T$36,SMALL(IF($S$33:$S$36=2,ROW(INDIRECT(\"1:\"&ROWS($S$33:$S$36)))),ROWS($1:2))),\"\")))","v":"Serbie"}]
[null,{"$f":"IF(COUNTIF($S$33:$S$36,1)>1,IF(ROWS($1:3)<=COUNTIF($S$33:$S$36,1),INDEX($T$33:$T$36,SMALL(IF($S$33:$S$36=1,ROW(INDIRECT(\"1:\"&ROWS($S$33:$S$36)))),ROWS($1:3))),\"\"),IF(COUNTIF($S$33:$S$36,2)>1,IF(ROWS($1:3)<=COUNTIF($S$33:$S$36,2),INDEX($T$33:$T$36,SMALL(IF($S$33:$S$36=2,ROW(INDIRECT(\"1:\"&ROWS($S$33:$S$36)))),ROWS($1:3))),\"\")))","v":"Costa Rica"}]
[null,{"$f":"IF(COUNTIF($S$33:$S$36,1)>1,IF(ROWS($1:4)<=COUNTIF($S$33:$S$36,1),INDEX($T$33:$T$36,SMALL(IF($S$33:$S$36=1,ROW(INDIRECT(\"1:\"&ROWS($S$33:$S$36)))),ROWS($1:4))),\"\"),IF(COUNTIF($S$33:$S$36,2)>1,IF(ROWS($1:4)<=COUNTIF($S$33:$S$36,2),INDEX($T$33:$T$36,SMALL(IF($S$33:$S$36=2,ROW(INDIRECT(\"1:\"&ROWS($S$33:$S$36)))),ROWS($1:4))),\"\")))","v":"Brésil"}]
[null,"Tirage au sort F1"]
[null,{"$f":"IF(ROWS($1:1)<=COUNTIF($S$39:$S$42,1),INDEX($T$39:$T$42,SMALL(IF($S$39:$S$42=1,ROW(INDIRECT(\"1:\"&ROWS($S$39:$S$42)))),ROWS($1:1))),\"\")","v":"Suède"}]
[null,{"$f":"IF(ROWS($1:2)<=COUNTIF($S$39:$S$42,1),INDEX($T$39:$T$42,SMALL(IF($S$39:$S$42=1,ROW(INDIRECT(\"1:\"&ROWS($S$39:$S$42)))),ROWS($1:2))),\"\")","v":"République de Corée"}]
[null,{"$f":"IF(ROWS($1:3)<=COUNTIF($S$39:$S$42,1),INDEX($T$39:$T$42,SMALL(IF($S$39:$S$42=1,ROW(INDIRECT(\"1:\"&ROWS($S$39:$S$42)))),ROWS($1:3))),\"\")","v":"Mexique"}]
[null,{"$f":"IF(ROWS($1:4)<=COUNTIF($S$39:$S$42,1),INDEX($T$39:$T$42,SMALL(IF($S$39:$S$42=1,ROW(INDIRECT(\"1:\"&ROWS($S$39:$S$42)))),ROWS($1:4))),\"\")","v":"Allemagne"}]
[null,"Tirage au sort F2"]
[null,{"$f":"IF(COUNTIF($S$39:$S$42,1)>1,IF(ROWS($1:1)<=COUNTIF($S$39:$S$42,1),INDEX($T$39:$T$42,SMALL(IF($S$39:$S$42=1,ROW(INDIRECT(\"1:\"&ROWS($S$39:$S$42)))),ROWS($1:1))),\"\"),IF(COUNTIF($S$39:$S$42,2)>1,IF(ROWS($1:1)<=COUNTIF($S$39:$S$42,2),INDEX($T$39:$T$42,SMALL(IF($S$39:$S$42=2,ROW(INDIRECT(\"1:\"&ROWS($S$39:$S$42)))),ROWS($1:1))),\"\")))","v":"Suède"}]
[null,{"$f":"IF(COUNTIF($S$39:$S$42,1)>1,IF(ROWS($1:2)<=COUNTIF($S$39:$S$42,1),INDEX($T$39:$T$42,SMALL(IF($S$39:$S$42=1,ROW(INDIRECT(\"1:\"&ROWS($S$39:$S$42)))),ROWS($1:2))),\"\"),IF(COUNTIF($S$39:$S$42,2)>1,IF(ROWS($1:2)<=COUNTIF($S$39:$S$42,2),INDEX($T$39:$T$42,SMALL(IF($S$39:$S$42=2,ROW(INDIRECT(\"1:\"&ROWS($S$39:$S$42)))),ROWS($1:2))),\"\")))","v":"République de Corée"}]
[null,{"$f":"IF(COUNTIF($S$39:$S$42,1)>1,IF(ROWS($1:3)<=COUNTIF($S$39:$S$42,1),INDEX($T$39:$T$42,SMALL(IF($S$39:$S$42=1,ROW(INDIRECT(\"1:\"&ROWS($S$39:$S$42)))),ROWS($1:3))),\"\"),IF(COUNTIF($S$39:$S$42,2)>1,IF(ROWS($1:3)<=COUNTIF($S$39:$S$42,2),INDEX($T$39:$T$42,SMALL(IF($S$39:$S$42=2,ROW(INDIRECT(\"1:\"&ROWS($S$39:$S$42)))),ROWS($1:3))),\"\")))","v":"Mexique"}]
[null,{"$f":"IF(COUNTIF($S$39:$S$42,1)>1,IF(ROWS($1:4)<=COUNTIF($S$39:$S$42,1),INDEX($T$39:$T$42,SMALL(IF($S$39:$S$42=1,ROW(INDIRECT(\"1:\"&ROWS($S$39:$S$42)))),ROWS($1:4))),\"\"),IF(COUNTIF($S$39:$S$42,2)>1,IF(ROWS($1:4)<=COUNTIF($S$39:$S$42,2),INDEX($T$39:$T$42,SMALL(IF($S$39:$S$42=2,ROW(INDIRECT(\"1:\"&ROWS($S$39:$S$42)))),ROWS($1:4))),\"\")))","v":"Allemagne"}]
[null,"Tirage au sort G1"]
[null,{"$f":"IF(ROWS($1:1)<=COUNTIF($S$45:$S$48,1),INDEX($T$45:$T$48,SMALL(IF($S$45:$S$48=1,ROW(INDIRECT(\"1:\"&ROWS($S$45:$S$48)))),ROWS($1:1))),\"\")","v":"Tunisie"}]
[null,{"$f":"IF(ROWS($1:2)<=COUNTIF($S$45:$S$48,1),INDEX($T$45:$T$48,SMALL(IF($S$45:$S$48=1,ROW(INDIRECT(\"1:\"&ROWS($S$45:$S$48)))),ROWS($1:2))),\"\")","v":"Panama"}]
[null,{"$f":"IF(ROWS($1:3)<=COUNTIF($S$45:$S$48,1),INDEX($T$45:$T$48,SMALL(IF($S$45:$S$48=1,ROW(INDIRECT(\"1:\"&ROWS($S$45:$S$48)))),ROWS($1:3))),\"\")","v":"Belgique"}]
[null,{"$f":"IF(ROWS($1:4)<=COUNTIF($S$45:$S$48,1),INDEX($T$45:$T$48,SMALL(IF($S$45:$S$48=1,ROW(INDIRECT(\"1:\"&ROWS($S$45:$S$48)))),ROWS($1:4))),\"\")","v":"Angleterre"}]
[null,"Tirage au sort G2"]
[null,{"$f":"IF(COUNTIF($S$45:$S$48,1)>1,IF(ROWS($1:1)<=COUNTIF($S$45:$S$48,1),INDEX($T$45:$T$48,SMALL(IF($S$45:$S$48=1,ROW(INDIRECT(\"1:\"&ROWS($S$45:$S$48)))),ROWS($1:1))),\"\"),IF(COUNTIF($S$45:$S$48,2)>1,IF(ROWS($1:1)<=COUNTIF($S$45:$S$48,2),INDEX($T$45:$T$48,SMALL(IF($S$45:$S$48=2,ROW(INDIRECT(\"1:\"&ROWS($S$45:$S$48)))),ROWS($1:1))),\"\")))","v":"Tunisie"}]
[null,{"$f":"IF(COUNTIF($S$45:$S$48,1)>1,IF(ROWS($1:2)<=COUNTIF($S$45:$S$48,1),INDEX($T$45:$T$48,SMALL(IF($S$45:$S$48=1,ROW(INDIRECT(\"1:\"&ROWS($S$45:$S$48)))),ROWS($1:2))),\"\"),IF(COUNTIF($S$45:$S$48,2)>1,IF(ROWS($1:2)<=COUNTIF($S$45:$S$48,2),INDEX($T$45:$T$48,SMALL(IF($S$45:$S$48=2,ROW(INDIRECT(\"1:\"&ROWS($S$45:$S$48)))),ROWS($1:2))),\"\")))","v":"Panama"}]
[null,{"$f":"IF(COUNTIF($S$45:$S$48,1)>1,IF(ROWS($1:3)<=COUNTIF($S$45:$S$48,1),INDEX($T$45:$T$48,SMALL(IF($S$45:$S$48=1,ROW(INDIRECT(\"1:\"&ROWS($S$45:$S$48)))),ROWS($1:3))),\"\"),IF(COUNTIF($S$45:$S$48,2)>1,IF(ROWS($1:3)<=COUNTIF($S$45:$S$48,2),INDEX($T$45:$T$48,SMALL(IF($S$45:$S$48=2,ROW(INDIRECT(\"1:\"&ROWS($S$45:$S$48)))),ROWS($1:3))),\"\")))","v":"Belgique"}]
[null,{"$f":"IF(COUNTIF($S$45:$S$48,1)>1,IF(ROWS($1:4)<=COUNTIF($S$45:$S$48,1),INDEX($T$45:$T$48,SMALL(IF($S$45:$S$48=1,ROW(INDIRECT(\"1:\"&ROWS($S$45:$S$48)))),ROWS($1:4))),\"\"),IF(COUNTIF($S$45:$S$48,2)>1,IF(ROWS($1:4)<=COUNTIF($S$45:$S$48,2),INDEX($T$45:$T$48,SMALL(IF($S$45:$S$48=2,ROW(INDIRECT(\"1:\"&ROWS($S$45:$S$48)))),ROWS($1:4))),\"\")))","v":"Angleterre"}]
[null,"Tirage au sort H1"]
[null,{"$f":"IF(ROWS($1:1)<=COUNTIF($S$51:$S$54,1),INDEX($T$51:$T$54,SMALL(IF($S$51:$S$54=1,ROW(INDIRECT(\"1:\"&ROWS($S$51:$S$54)))),ROWS($1:1))),\"\")","v":"Sénégal"}]
[null,{"$f":"IF(ROWS($1:2)<=COUNTIF($S$51:$S$54,1),INDEX($T$51:$T$54,SMALL(IF($S$51:$S$54=1,ROW(INDIRECT(\"1:\"&ROWS($S$51:$S$54)))),ROWS($1:2))),\"\")","v":"Pologne"}]
[null,{"$f":"IF(ROWS($1:3)<=COUNTIF($S$51:$S$54,1),INDEX($T$51:$T$54,SMALL(IF($S$51:$S$54=1,ROW(INDIRECT(\"1:\"&ROWS($S$51:$S$54)))),ROWS($1:3))),\"\")","v":"Japon"}]
[null,{"$f":"IF(ROWS($1:4)<=COUNTIF($S$51:$S$54,1),INDEX($T$51:$T$54,SMALL(IF($S$51:$S$54=1,ROW(INDIRECT(\"1:\"&ROWS($S$51:$S$54)))),ROWS($1:4))),\"\")","v":"Colombie"}]
[null,"Tirage au sort H2"]
[null,{"$f":"IF(COUNTIF($S$51:$S$54,1)>1,IF(ROWS($1:1)<=COUNTIF($S$51:$S$54,1),INDEX($T$51:$T$54,SMALL(IF($S$51:$S$54=1,ROW(INDIRECT(\"1:\"&ROWS($S$51:$S$54)))),ROWS($1:1))),\"\"),IF(COUNTIF($S$51:$S$54,2)>1,IF(ROWS($1:1)<=COUNTIF($S$51:$S$54,2),INDEX($T$51:$T$54,SMALL(IF($S$51:$S$54=2,ROW(INDIRECT(\"1:\"&ROWS($S$51:$S$54)))),ROWS($1:1))),\"\")))","v":"Sénégal"}]
[null,{"$f":"IF(COUNTIF($S$51:$S$54,1)>1,IF(ROWS($1:2)<=COUNTIF($S$51:$S$54,1),INDEX($T$51:$T$54,SMALL(IF($S$51:$S$54=1,ROW(INDIRECT(\"1:\"&ROWS($S$51:$S$54)))),ROWS($1:2))),\"\"),IF(COUNTIF($S$51:$S$54,2)>1,IF(ROWS($1:2)<=COUNTIF($S$51:$S$54,2),INDEX($T$51:$T$54,SMALL(IF($S$51:$S$54=2,ROW(INDIRECT(\"1:\"&ROWS($S$51:$S$54)))),ROWS($1:2))),\"\")))","v":"Pologne"}]
[null,{"$f":"IF(COUNTIF($S$51:$S$54,1)>1,IF(ROWS($1:3)<=COUNTIF($S$51:$S$54,1),INDEX($T$51:$T$54,SMALL(IF($S$51:$S$54=1,ROW(INDIRECT(\"1:\"&ROWS($S$51:$S$54)))),ROWS($1:3))),\"\"),IF(COUNTIF($S$51:$S$54,2)>1,IF(ROWS($1:3)<=COUNTIF($S$51:$S$54,2),INDEX($T$51:$T$54,SMALL(IF($S$51:$S$54=2,ROW(INDIRECT(\"1:\"&ROWS($S$51:$S$54)))),ROWS($1:3))),\"\")))","v":"Japon"}]
[null,{"$f":"IF(COUNTIF($S$51:$S$54,1)>1,IF(ROWS($1:4)<=COUNTIF($S$51:$S$54,1),INDEX($T$51:$T$54,SMALL(IF($S$51:$S$54=1,ROW(INDIRECT(\"1:\"&ROWS($S$51:$S$54)))),ROWS($1:4))),\"\"),IF(COUNTIF($S$51:$S$54,2)>1,IF(ROWS($1:4)<=COUNTIF($S$51:$S$54,2),INDEX($T$51:$T$54,SMALL(IF($S$51:$S$54=2,ROW(INDIRECT(\"1:\"&ROWS($S$51:$S$54)))),ROWS($1:4))),\"\")))","v":"Colombie"}]

{"sheet":"CLASSEMENT","index":1,"n_rows":204,"n_cols":21,"rows_kept":204,"cut":false,"hidden":false,"merged":[[13,8,13,12],[14,8,14,12],[15,8,15,12],[0,1,2,14],[5,11,5,12]]}
[null,{"$f":"\"CLASSEMENT DES PRONOSTIQUEURS \"&IF(PHASES_FINALES=\"OUI\",\"EN PHASES FINALES\",\"EN PHASE DE GROUPES\")","v":"CLASSEMENT DES PRONOSTIQUEURS EN PHASE DE GROUPES"},null,null,null,null,null,null,null,null,null,null,null,null,null,null,null,null,{"$f":"IF(ROWS($1:2)<=COUNTA(NomsF),INDEX(NomsF,ROWS($1:2)),\"\")","v":"CLASSEMENT"}]
[null,null,null,null,null,null,null,null,null,null,null,null,null,null,null,null,null,null,{"$f":"IF(ROWS($1:3)<=COUNTA(NomsF),INDEX(NomsF,ROWS($1:3)),\"\")","v":"GUIDE"}]
[null,null,null,null,null,null,null,null,null,null,null,null,null,null,null,null,null,null,{"$f":"IF(ROWS($1:4)<=COUNTA(NomsF),INDEX(NomsF,ROWS($1:4)),\"\")","v":"DATA_1_TEAMS"}]
[null,null,null,"Nom Pronostiqueur","Lien","Points",null,null,null,null,null,null,null,null,null,null,null,null,{"$f":"IF(ROWS($1:5)<=COUNTA(NomsF),INDEX(NomsF,ROWS($1:5)),\"\")","v":"DATA_1_MATCHS"}]
[null,null,1,{"$f":"IFERROR(INDEX(R$5:R$204,MATCH(LARGE(U$5:U$204,C5),U$5:U$204,0)),\"\")","v":"Vincent"},{"$f":"HYPERLINK(\"#'\"&D5&\"'!A1\",REPT(\"Cliquez ici pour ouvrir le prono de \"&UPPER(D5),ISREF(INDIRECT(\"'\"&D5&\"'!A1\"))))","v":"Cliquez ici pour ouvrir le prono de VINCENT"},{"$f":"IF(R5<>\"\",IFERROR(LARGE($U$5:$U$204,$C5),\"\"),\"\")","v":5.0000000050000004},null,null,"ACTIVER LE CALCUL DES SCORES AVEC PHASES FINALES?",null,null,null,null,null,null,null,null,{"$f":"IFERROR(INDIRECT(\"'\"&S5&\"'!$B$4\"),\"\")","v":"Vincent"},{"$f":"IF(ROWS($1:6)<=COUNTA(NomsF),INDEX(NomsF,ROWS($1:6)),\"\")","v":"Vincent"},{"$f":"IFERROR(INDIRECT(\"'\"&S5&\"'!$Ap$6\"),\"\")","v":5},{"$f":"IFERROR(IF(T5,T5+(ROW()/10^9),\"\"),\"\")","v":5.0000000050000004}]
[null,null,2,{"$f":"IFERROR(INDEX(R$5:R$204,MATCH(LARGE(U$5:U$204,C6),U$5:U$204,0)),\"\")","v":"Kociancic"},{"$f":"HYPERLINK(\"#'\"&D6&\"'!A1\",REPT(\"Cliquez ici pour ouvrir le prono de \"&UPPER(D6),ISREF(INDIRECT(\"'\"&D6&\"'!A1\"))))","v":"Cliquez ici pour ouvrir le prono de KOCIANCIC"},{"$f":"IF(R6<>\"\",IFERROR(LARGE($U$5:$U$204,$C6),\"\"),\"\")","v":3.0000000149999999},null,null,null,null,null,"NON",null,null,null,null,null,{"$f":"IFERROR(INDIRECT(\"'\"&S6&\"'!$B$4\"),\"\")","v":"Vildary"},{"$f":"IF(ROWS($1:7)<=COUNTA(NomsF),INDEX(NomsF,ROWS($1:7)),\"\")","v":"Vildary"},{"$f":"IFERROR(INDIRECT(\"'\"&S6&\"'!$Ap$6\"),\"\")","v":2},{"$f":"IFERROR(IF(T6,T6+(ROW()/10^9),\"\"),\"\")","v":2.0000000060000001}]
[null,null,3,"RomainR","Cliquez ici pour ouvrir le prono de ROMAINR",3.0000000120000001,null,null,null,null,null,null,null,null,null,null,null,"Alexis",{"$f":"IF(ROWS($1:8)<=COUNTA(NomsF),INDEX(NomsF,ROWS($1:8)),\"\")","v":"Alexis"},2,2.0000000070000001]
[null,null,4,"Alaeddine","Cliquez ici pour ouvrir le prono de ALAEDDINE",2.0000000139999998,null,null,null,null,null,null,null,null,null,null,null,"Tiphaine",{"$f":"IF(ROWS($1:9)<=COUNTA(NomsF),INDEX(NomsF,ROWS($1:9)),\"\")","v":"Tiphaine"},2,2.0000000080000002]
[null,null,5,"Alexandre","Cliquez ici pour ouvrir le prono de ALEXANDRE",2.0000000130000002,null,null,null,null,null,null,null,null,null,null,null,"Marie",{"$f":"IF(ROWS($1:10)<=COUNTA(NomsF),INDEX(NomsF,ROWS($1:10)),\"\")","v":"Marie"},1,1.0000000090000001]
[null,null,6,"Groger","Cliquez ici pour ouvrir le prono de GROGER",2.000000011,null,null,null,null,null,null,null,null,null,null,null,"JD",{"$f":"IF(ROWS($1:11)<=COUNTA(NomsF),INDEX(NomsF,ROWS($1:11)),\"\")","v":"JD"},1,1.0000000099999999]
[null,null,7,"Tiphaine","Cliquez ici pour ouvrir le prono de TIPHAINE",2.0000000080000002,null,null,null,null,null,null,null,null,null,null,null,"Groger",{"$f":"IF(ROWS($1:12)<=COUNTA(NomsF),INDEX(NomsF,ROWS($1:12)),\"\")","v":"Groger"},2,2.000000011]
[null,null,8,"Alexis","Cliquez ici pour ouvrir le prono de ALEXIS",2.0000000070000001,null,null,null,null,null,null,null,null,null,null,null,"RomainR",{"$f":"IF(ROWS($1:13)<=COUNTA(NomsF),INDEX(NomsF,ROWS($1:13)),\"\")","v":"RomainR"},3,3.0000000120000001]
[null,null,9,"Vildary","Cliquez ici pour ouvrir le prono de VILDARY",2.0000000060000001,null,null,null,null,null,null,null,null,null,null,null,"Alexandre",{"$f":"IF(ROWS($1:14)<=COUNTA(NomsF),INDEX(NomsF,ROWS($1:14)),\"\")","v":"Alexandre"},2,2.0000000130000002]
[null,null,10,"JD","Cliquez ici pour ouvrir le prono de JD",1.0000000099999999,null,null,null,null,null,null,null,null,null,null,null,"Alaeddine",{"$f":"IF(ROWS($1:15)<=COUNTA(NomsF),INDEX(NomsF,ROWS($1:15)),\"\")","v":"Alaeddine"},2,2.0000000139999998]
[null,null,11,"Marie","Cliquez ici pour ouvrir le prono de MARIE",1.0000000090000001,null,null,null,null,null,null,null,null,null,null,null,"Kociancic",{"$f":"IF(ROWS($1:16)<=COUNTA(NomsF),INDEX(NomsF,ROWS($1:16)),\"\")","v":"Kociancic"},3,3.0000000149999999]
[null,null,12,"","","",null,null,null,null,null,null,null,null,null,null,null,"PRONOSTIQUEUR",{"$f":"IF(ROWS($1:17)<=COUNTA(NomsF),INDEX(NomsF,ROWS($1:17)),\"\")","v":"PRONOSTIQUEUR"},0,""]
[null,null,13,"","","",null,null,null,null,null,null,null,null,null,null,null,"",{"$f":"IF(ROWS($1:18)<=COUNTA(NomsF),INDEX(NomsF,ROWS($1:18)),\"\")","v":""},"",""]
[null,null,14,"","","",null,null,null,null,null,null,null,null,null,null,null,"",{"$f":"IF(ROWS($1:19)<=COUNTA(NomsF),INDEX(NomsF,ROWS($1:19)),\"\")","v":""},"",""]
[null,null,15,"","","",null,null,null,null,null,null,null,null,null,null,null,"",{"$f":"IF(ROWS($1:20)<=COUNTA(NomsF),INDEX(NomsF,ROWS($1:20)),\"\")","v":""},"",""]
[null,null,16,"","","",null,null,null,null,null,null,null,null,null,null,null,"",{"$f":"IF(ROWS($1:21)<=COUNTA(NomsF),INDEX(NomsF,ROWS($1:21)),\"\")","v":""},"",""]
[null,null,17,"","","",null,null,null,null,null,null,null,null,null,null,null,"",{"$f":"IF(ROWS($1:22)<=COUNTA(NomsF),INDEX(NomsF,ROWS($1:22)),\"\")","v":""},"",""]
[null,null,18,"","","",null,null,null,null,null,null,null,null,null,null,null,"",{"$f":"IF(ROWS($1:23)<=COUNTA(NomsF),INDEX(NomsF,ROWS($1:23)),\"\")","v":""},"",""]
[null,null,19,"","","",null,null,null,null,null,null,null,null,null,null,null,"",{"$f":"IF(ROWS($1:24)<=COUNTA(NomsF),INDEX(NomsF,ROWS($1:24)),\"\")","v":""},"",""]
[null,null,20,"","","",null,null,null,null,null,null,null,null,null,null,null,"",{"$f":"IF(ROWS($1:25)<=COUNTA(NomsF),INDEX(NomsF,ROWS($1:25)),\"\")","v":""},"",""]
[null,null,21,"","","",null,null,null,null,null,null,null,null,null,null,null,"",{"$f":"IF(ROWS($1:26)<=COUNTA(NomsF),INDEX(NomsF,ROWS($1:26)),\"\")","v":""},"",""]
[null,null,22,"","","",null,null,null,null,null,null,null,null,null,null,null,"",{"$f":"IF(ROWS($1:27)<=COUNTA(NomsF),INDEX(NomsF,ROWS($1:27)),\"\")","v":""},"",""]
[null,null,23,"","","",null,null,null,null,null,null,null,null,null,null,null,"",{"$f":"IF(ROWS($1:28)<=COUNTA(NomsF),INDEX(NomsF,ROWS($1:28)),\"\")","v":""},"",""]
[null,null,24,"","","",null,null,null,null,null,null,null,null,null,null,null,"",{"$f":"IF(ROWS($1:29)<=COUNTA(NomsF),INDEX(NomsF,ROWS($1:29)),\"\")","v":""},"",""]
[null,null,25,"","","",null,null,null,null,null,null,null,null,null,null,null,"",{"$f":"IF(ROWS($1:30)<=COUNTA(NomsF),INDEX(NomsF,ROWS($1:30)),\"\")","v":""},"",""]
[null,null,26,"","","",null,null,null,null,null,null,null,null,null,null,null,"",{"$f":"IF(ROWS($1:31)<=COUNTA(NomsF),INDEX(NomsF,ROWS($1:31)),\"\")","v":""},"",""]
[null,null,27,"","","",null,null,null,null,null,null,null,null,null,null,null,"",{"$f":"IF(ROWS($1:32)<=COUNTA(NomsF),INDEX(NomsF,ROWS($1:32)),\"\")","v":""},"",""]
[null,null,28,"","","",null,null,null,null,null,null,null,null,null,null,null,"",{"$f":"IF(ROWS($1:33)<=COUNTA(NomsF),INDEX(NomsF,ROWS($1:33)),\"\")","v":""},"",""]
[null,null,29,"","","",null,null,null,null,null,null,null,null,null,null,null,"",{"$f":"IF(ROWS($1:34)<=COUNTA(NomsF),INDEX(NomsF,ROWS($1:34)),\"\")","v":""},"",""]
[null,null,30,"","","",null,null,null,null,null,null,null,null,null,null,null,"",{"$f":"IF(ROWS($1:35)<=COUNTA(NomsF),INDEX(NomsF,ROWS($1:35)),\"\")","v":""},"",""]
[null,null,31,"","","",null,null,null,null,null,null,null,null,null,null,null,"",{"$f":"IF(ROWS($1:36)<=COUNTA(NomsF),INDEX(NomsF,ROWS($1:36)),\"\")","v":""},"",""]
[null,null,32,"","","",null,null,null,null,null,null,null,null,null,null,null,"",{"$f":"IF(ROWS($1:37)<=COUNTA(NomsF),INDEX(NomsF,ROWS($1:37)),\"\")","v":""},"",""]
[null,null,33,"","","",null,null,null,null,null,null,null,null,null,null,null,"",{"$f":"IF(ROWS($1:38)<=COUNTA(NomsF),INDEX(NomsF,ROWS($1:38)),\"\")","v":""},"",""]
[null,null,34,"","","",null,null,null,null,null,null,null,null,null,null,null,"",{"$f":"IF(ROWS($1:39)<=COUNTA(NomsF),INDEX(NomsF,ROWS($1:39)),\"\")","v":""},"",""]
[null,null,35,"","","",null,null,null,null,null,null,null,null,null,null,null,"",{"$f":"IF(ROWS($1:40)<=COUNTA(NomsF),INDEX(NomsF,ROWS($1:40)),\"\")","v":""},"",""]
[null,null,36,"","","",null,null,null,null,null,null,null,null,null,null,null,"",{"$f":"IF(ROWS($1:41)<=COUNTA(NomsF),INDEX(NomsF,ROWS($1:41)),\"\")","v":""},"",""]
[null,null,37,"","","",null,null,null,null,null,null,null,null,null,null,null,"",{"$f":"IF(ROWS($1:42)<=COUNTA(NomsF),INDEX(NomsF,ROWS($1:42)),\"\")","v":""},"",""]
[null,null,38,"","","",null,null,null,null,null,null,null,null,null,null,null,"",{"$f":"IF(ROWS($1:43)<=COUNTA(NomsF),INDEX(NomsF,ROWS($1:43)),\"\")","v":""},"",""]
[null,null,39,"","","",null,null,null,null,null,null,null,null,null,null,null,"",{"$f":"IF(ROWS($1:44)<=COUNTA(NomsF),INDEX(NomsF,ROWS($1:44)),\"\")","v":""},"",""]
[null,null,40,"","","",null,null,null,null,null,null,null,null,null,null,null,"",{"$f":"IF(ROWS($1:45)<=COUNTA(NomsF),INDEX(NomsF,ROWS($1:45)),\"\")","v":""},"",""]
[null,null,41,"","","",null,null,null,null,null,null,null,null,null,null,null,"",{"$f":"IF(ROWS($1:46)<=COUNTA(NomsF),INDEX(NomsF,ROWS($1:46)),\"\")","v":""},"",""]
[null,null,42,"","","",null,null,null,null,null,null,null,null,null,null,null,"",{"$f":"IF(ROWS($1:47)<=COUNTA(NomsF),INDEX(NomsF,ROWS($1:47)),\"\")","v":""},"",""]
[null,null,43,"","","",null,null,null,null,null,null,null,null,null,null,null,"",{"$f":"IF(ROWS($1:48)<=COUNTA(NomsF),INDEX(NomsF,ROWS($1:48)),\"\")","v":""},"",""]
[null,null,44,"","","",null,null,null,null,null,null,null,null,null,null,null,"",{"$f":"IF(ROWS($1:49)<=COUNTA(NomsF),INDEX(NomsF,ROWS($1:49)),\"\")","v":""},"",""]
[null,null,45,"","","",null,null,null,null,null,null,null,null,null,null,null,"",{"$f":"IF(ROWS($1:50)<=COUNTA(NomsF),INDEX(NomsF,ROWS($1:50)),\"\")","v":""},"",""]
[null,null,46,"","","",null,null,null,null,null,null,null,null,null,null,null,"",{"$f":"IF(ROWS($1:51)<=COUNTA(NomsF),INDEX(NomsF,ROWS($1:51)),\"\")","v":""},"",""]
[null,null,47,"","","",null,null,null,null,null,null,null,null,null,null,null,"",{"$f":"IF(ROWS($1:52)<=COUNTA(NomsF),INDEX(NomsF,ROWS($1:52)),\"\")","v":""},"",""]
[null,null,48,"","","",null,null,null,null,null,null,null,null,null,null,null,"",{"$f":"IF(ROWS($1:53)<=COUNTA(NomsF),INDEX(NomsF,ROWS($1:53)),\"\")","v":""},"",""]
[null,null,49,"","","",null,null,null,null,null,null,null,null,null,null,null,"",{"$f":"IF(ROWS($1:54)<=COUNTA(NomsF),INDEX(NomsF,ROWS($1:54)),\"\")","v":""},"",""]
[null,null,50,"","","",null,null,null,null,null,null,null,null,null,null,null,"",{"$f":"IF(ROWS($1:55)<=COUNTA(NomsF),INDEX(NomsF,ROWS($1:55)),\"\")","v":""},"",""]
[null,null,51,"","","",null,null,null,null,null,null,null,null,null,null,null,"",{"$f":"IF(ROWS($1:56)<=COUNTA(NomsF),INDEX(NomsF,ROWS($1:56)),\"\")","v":""},"",""]
[null,null,52,"","","",null,null,null,null,null,null,null,null,null,null,null,"",{"$f":"IF(ROWS($1:57)<=COUNTA(NomsF),INDEX(NomsF,ROWS($1:57)),\"\")","v":""},"",""]
[null,null,53,"","","",null,null,null,null,null,null,null,null,null,null,null,"",{"$f":"IF(ROWS($1:58)<=COUNTA(NomsF),INDEX(NomsF,ROWS($1:58)),\"\")","v":""},"",""]
[null,null,54,"","","",null,null,null,null,null,null,null,null,null,null,null,"",{"$f":"IF(ROWS($1:59)<=COUNTA(NomsF),INDEX(NomsF,ROWS($1:59)),\"\")","v":""},"",""]
[null,null,55,"","","",null,null,null,null,null,null,null,null,null,null,null,"",{"$f":"IF(ROWS($1:60)<=COUNTA(NomsF),INDEX(NomsF,ROWS($1:60)),\"\")","v":""},"",""]
[null,null,56,"","","",null,null,null,null,null,null,null,null,null,null,null,"",{"$f":"IF(ROWS($1:61)<=COUNTA(NomsF),INDEX(NomsF,ROWS($1:61)),\"\")","v":""},"",""]
[null,null,57,"","","",null,null,null,null,null,null,null,null,null,null,null,"",{"$f":"IF(ROWS($1:62)<=COUNTA(NomsF),INDEX(NomsF,ROWS($1:62)),\"\")","v":""},"",""]
[null,null,58,"","","",null,null,null,null,null,null,null,null,null,null,null,"",{"$f":"IF(ROWS($1:63)<=COUNTA(NomsF),INDEX(NomsF,ROWS($1:63)),\"\")","v":""},"",""]
[null,null,59,"","","",null,null,null,null,null,null,null,null,null,null,null,"",{"$f":"IF(ROWS($1:64)<=COUNTA(NomsF),INDEX(NomsF,ROWS($1:64)),\"\")","v":""},"",""]
[null,null,60,"","","",null,null,null,null,null,null,null,null,null,null,null,"",{"$f":"IF(ROWS($1:65)<=COUNTA(NomsF),INDEX(NomsF,ROWS($1:65)),\"\")","v":""},"",""]
[null,null,61,"","","",null,null,null,null,null,null,null,null,null,null,null,"",{"$f":"IF(ROWS($1:66)<=COUNTA(NomsF),INDEX(NomsF,ROWS($1:66)),\"\")","v":""},"",""]
[null,null,62,"","","",null,null,null,null,null,null,null,null,null,null,null,"",{"$f":"IF(ROWS($1:67)<=COUNTA(NomsF),INDEX(NomsF,ROWS($1:67)),\"\")","v":""},"",""]
[null,null,63,"","","",null,null,null,null,null,null,null,null,null,null,null,"",{"$f":"IF(ROWS($1:68)<=COUNTA(NomsF),INDEX(NomsF,ROWS($1:68)),\"\")","v":""},"",""]
[null,null,64,"","","",null,null,null,null,null,null,null,null,null,null,null,"",{"$f":"IF(ROWS($1:69)<=COUNTA(NomsF),INDEX(NomsF,ROWS($1:69)),\"\")","v":""},"",""]
[null,null,65,"","","",null,null,null,null,null,null,null,null,null,null,null,"",{"$f":"IF(ROWS($1:70)<=COUNTA(NomsF),INDEX(NomsF,ROWS($1:70)),\"\")","v":""},"",""]
[null,null,66,{"$f":"IFERROR(INDEX(R$5:R$204,MATCH(LARGE(U$5:U$204,C70),U$5:U$204,0)),\"\")","v":""},{"$f":"HYPERLINK(\"#'\"&D70&\"'!A1\",REPT(\"Cliquez ici pour ouvrir le prono de \"&UPPER(D70),ISREF(INDIRECT(\"'\"&D70&\"'!A1\"))))","v":""},{"$f":"IF(R70<>\"\",IFERROR(LARGE($U$5:$U$204,$C70),\"\"),\"\")","v":""},null,null,null,null,null,null,null,null,null,null,null,{"$f":"IFERROR(INDIRECT(\"'\"&S70&\"'!$B$4\"),\"\")","v":""},{"$f":"IF(ROWS($1:71)<=COUNTA(NomsF),INDEX(NomsF,ROWS($1:71)),\"\")","v":""},{"$f":"IFERROR(INDIRECT(\"'\"&S70&\"'!$Ap$6\"),\"\")","v":""},{"$f":"IFERROR(IF(T70,T70+(ROW()/10^9),\"\"),\"\")","v":""}]
[null,null,67,"","","",null,null,null,null,null,null,null,null,null,null,null,"",{"$f":"IF(ROWS($1:72)<=COUNTA(NomsF),INDEX(NomsF,ROWS($1:72)),\"\")","v":""},"",""]
[null,null,68,"","","",null,null,null,null,null,null,null,null,null,null,null,"",{"$f":"IF(ROWS($1:73)<=COUNTA(NomsF),INDEX(NomsF,ROWS($1:73)),\"\")","v":""},"",""]
[null,null,69,"","","",null,null,null,null,null,null,null,null,null,null,null,"",{"$f":"IF(ROWS($1:74)<=COUNTA(NomsF),INDEX(NomsF,ROWS($1:74)),\"\")","v":""},"",""]
[null,null,70,"","","",null,null,null,null,null,null,null,null,null,null,null,"",{"$f":"IF(ROWS($1:75)<=COUNTA(NomsF),INDEX(NomsF,ROWS($1:75)),\"\")","v":""},"",""]
[null,null,71,"","","",null,null,null,null,null,null,null,null,null,null,null,"",{"$f":"IF(ROWS($1:76)<=COUNTA(NomsF),INDEX(NomsF,ROWS($1:76)),\"\")","v":""},"",""]
[null,null,72,"","","",null,null,null,null,null,null,null,null,null,null,null,"",{"$f":"IF(ROWS($1:77)<=COUNTA(NomsF),INDEX(NomsF,ROWS($1:77)),\"\")","v":""},"",""]
[null,null,73,"","","",null,null,null,null,null,null,null,null,null,null,null,"",{"$f":"IF(ROWS($1:78)<=COUNTA(NomsF),INDEX(NomsF,ROWS($1:78)),\"\")","v":""},"",""]
[null,null,74,"","","",null,null,null,null,null,null,null,null,null,null,null,"",{"$f":"IF(ROWS($1:79)<=COUNTA(NomsF),INDEX(NomsF,ROWS($1:79)),\"\")","v":""},"",""]
[null,null,75,"","","",null,null,null,null,null,null,null,null,null,null,null,"",{"$f":"IF(ROWS($1:80)<=COUNTA(NomsF),INDEX(NomsF,ROWS($1:80)),\"\")","v":""},"",""]
[null,null,76,"","","",null,null,null,null,null,null,null,null,null,null,null,"",{"$f":"IF(ROWS($1:81)<=COUNTA(NomsF),INDEX(NomsF,ROWS($1:81)),\"\")","v":""},"",""]
[null,null,77,"","","",null,null,null,null,null,null,null,null,null,null,null,"",{"$f":"IF(ROWS($1:82)<=COUNTA(NomsF),INDEX(NomsF,ROWS($1:82)),\"\")","v":""},"",""]
[null,null,78,"","","",null,null,null,null,null,null,null,null,null,null,null,"",{"$f":"IF(ROWS($1:83)<=COUNTA(NomsF),INDEX(NomsF,ROWS($1:83)),\"\")","v":""},"",""]
[null,null,79,"","","",null,null,null,null,null,null,null,null,null,null,null,"",{"$f":"IF(ROWS($1:84)<=COUNTA(NomsF),INDEX(NomsF,ROWS($1:84)),\"\")","v":""},"",""]
[null,null,80,"","","",null,null,null,null,null,null,null,null,null,null,null,"",{"$f":"IF(ROWS($1:85)<=COUNTA(NomsF),INDEX(NomsF,ROWS($1:85)),\"\")","v":""},"",""]
[null,null,81,"","","",null,null,null,null,null,null,null,null,null,null,null,"",{"$f":"IF(ROWS($1:86)<=COUNTA(NomsF),INDEX(NomsF,ROWS($1:86)),\"\")","v":""},"",""]
[null,null,82,"","","",null,null,null,null,null,null,null,null,null,null,null,"",{"$f":"IF(ROWS($1:87)<=COUNTA(NomsF),INDEX(NomsF,ROWS($1:87)),\"\")","v":""},"",""]
[null,null,83,"","","",null,null,null,null,null,null,null,null,null,null,null,"",{"$f":"IF(ROWS($1:88)<=COUNTA(NomsF),INDEX(NomsF,ROWS($1:88)),\"\")","v":""},"",""]
[null,null,84,"","","",null,null,null,null,null,null,null,null,null,null,null,"",{"$f":"IF(ROWS($1:89)<=COUNTA(NomsF),INDEX(NomsF,ROWS($1:89)),\"\")","v":""},"",""]
[null,null,85,"","","",null,null,null,null,null,null,null,null,null,null,null,"",{"$f":"IF(ROWS($1:90)<=COUNTA(NomsF),INDEX(NomsF,ROWS($1:90)),\"\")","v":""},"",""]
[null,null,86,"","","",null,null,null,null,null,null,null,null,null,null,null,"",{"$f":"IF(ROWS($1:91)<=COUNTA(NomsF),INDEX(NomsF,ROWS($1:91)),\"\")","v":""},"",""]
[null,null,87,"","","",null,null,null,null,null,null,null,null,null,null,null,"",{"$f":"IF(ROWS($1:92)<=COUNTA(NomsF),INDEX(NomsF,ROWS($1:92)),\"\")","v":""},"",""]
[null,null,88,"","","",null,null,null,null,null,null,null,null,null,null,null,"",{"$f":"IF(ROWS($1:93)<=COUNTA(NomsF),INDEX(NomsF,ROWS($1:93)),\"\")","v":""},"",""]
[null,null,89,"","","",null,null,null,null,null,null,null,null,null,null,null,"",{"$f":"IF(ROWS($1:94)<=COUNTA(NomsF),INDEX(NomsF,ROWS($1:94)),\"\")","v":""},"",""]
[null,null,90,"","","",null,null,null,null,null,null,null,null,null,null,null,"",{"$f":"IF(ROWS($1:95)<=COUNTA(NomsF),INDEX(NomsF,ROWS($1:95)),\"\")","v":""},"",""]
[null,null,91,"","","",null,null,null,null,null,null,null,null,null,null,null,"",{"$f":"IF(ROWS($1:96)<=COUNTA(NomsF),INDEX(NomsF,ROWS($1:96)),\"\")","v":""},"",""]
[null,null,92,"","","",null,null,null,null,null,null,null,null,null,null,null,"",{"$f":"IF(ROWS($1:97)<=COUNTA(NomsF),INDEX(NomsF,ROWS($1:97)),\"\")","v":""},"",""]
[null,null,93,"","","",null,null,null,null,null,null,null,null,null,null,null,"",{"$f":"IF(ROWS($1:98)<=COUNTA(NomsF),INDEX(NomsF,ROWS($1:98)),\"\")","v":""},"",""]
[null,null,94,"","","",null,null,null,null,null,null,null,null,null,null,null,"",{"$f":"IF(ROWS($1:99)<=COUNTA(NomsF),INDEX(NomsF,ROWS($1:99)),\"\")","v":""},"",""]
[null,null,95,"","","",null,null,null,null,null,null,null,null,null,null,null,"",{"$f":"IF(ROWS($1:100)<=COUNTA(NomsF),INDEX(NomsF,ROWS($1:100)),\"\")","v":""},"",""]
[null,null,96,"","","",null,null,null,null,null,null,null,null,null,null,null,"",{"$f":"IF(ROWS($1:101)<=COUNTA(NomsF),INDEX(NomsF,ROWS($1:101)),\"\")","v":""},"",""]
[null,null,97,"","","",null,null,null,null,null,null,null,null,null,null,null,"",{"$f":"IF(ROWS($1:102)<=COUNTA(NomsF),INDEX(NomsF,ROWS($1:102)),\"\")","v":""},"",""]
[null,null,98,"","","",null,null,null,null,null,null,null,null,null,null,null,"",{"$f":"IF(ROWS($1:103)<=COUNTA(NomsF),INDEX(NomsF,ROWS($1:103)),\"\")","v":""},"",""]
[null,null,99,"","","",null,null,null,null,null,null,null,null,null,null,null,"",{"$f":"IF(ROWS($1:104)<=COUNTA(NomsF),INDEX(NomsF,ROWS($1:104)),\"\")","v":""},"",""]
[null,null,100,"","","",null,null,null,null,null,null,null,null,null,null,null,"",{"$f":"IF(ROWS($1:105)<=COUNTA(NomsF),INDEX(NomsF,ROWS($1:105)),\"\")","v":""},"",""]
[null,null,101,"","","",null,null,null,null,null,null,null,null,null,null,null,"",{"$f":"IF(ROWS($1:106)<=COUNTA(NomsF),INDEX(NomsF,ROWS($1:106)),\"\")","v":""},"",""]
[null,null,102,"","","",null,null,null,null,null,null,null,null,null,null,null,"",{"$f":"IF(ROWS($1:107)<=COUNTA(NomsF),INDEX(NomsF,ROWS($1:107)),\"\")","v":""},"",""]
[null,null,103,"","","",null,null,null,null,null,null,null,null,null,null,null,"",{"$f":"IF(ROWS($1:108)<=COUNTA(NomsF),INDEX(NomsF,ROWS($1:108)),\"\")","v":""},"",""]
[null,null,104,"","","",null,null,null,null,null,null,null,null,null,null,null,"",{"$f":"IF(ROWS($1:109)<=COUNTA(NomsF),INDEX(NomsF,ROWS($1:109)),\"\")","v":""},"",""]
[null,null,105,"","","",null,null,null,null,null,null,null,null,null,null,null,"",{"$f":"IF(ROWS($1:110)<=COUNTA(NomsF),INDEX(NomsF,ROWS($1:110)),\"\")","v":""},"",""]
[null,null,106,"","","",null,null,null,null,null,null,null,null,null,null,null,"",{"$f":"IF(ROWS($1:111)<=COUNTA(NomsF),INDEX(NomsF,ROWS($1:111)),\"\")","v":""},"",""]
[null,null,107,"","","",null,null,null,null,null,null,null,null,null,null,null,"",{"$f":"IF(ROWS($1:112)<=COUNTA(NomsF),INDEX(NomsF,ROWS($1:112)),\"\")","v":""},"",""]
[null,null,108,"","","",null,null,null,null,null,null,null,null,null,null,null,"",{"$f":"IF(ROWS($1:113)<=COUNTA(NomsF),INDEX(NomsF,ROWS($1:113)),\"\")","v":""},"",""]
[null,null,109,"","","",null,null,null,null,null,null,null,null,null,null,null,"",{"$f":"IF(ROWS($1:114)<=COUNTA(NomsF),INDEX(NomsF,ROWS($1:114)),\"\")","v":""},"",""]
[null,null,110,"","","",null,null,null,null,null,null,null,null,null,null,null,"",{"$f":"IF(ROWS($1:115)<=COUNTA(NomsF),INDEX(NomsF,ROWS($1:115)),\"\")","v":""},"",""]
[null,null,111,"","","",null,null,null,null,null,null,null,null,null,null,null,"",{"$f":"IF(ROWS($1:116)<=COUNTA(NomsF),INDEX(NomsF,ROWS($1:116)),\"\")","v":""},"",""]
[null,null,112,"","","",null,null,null,null,null,null,null,null,null,null,null,"",{"$f":"IF(ROWS($1:117)<=COUNTA(NomsF),INDEX(NomsF,ROWS($1:117)),\"\")","v":""},"",""]
[null,null,113,"","","",null,null,null,null,null,null,null,null,null,null,null,"",{"$f":"IF(ROWS($1:118)<=COUNTA(NomsF),INDEX(NomsF,ROWS($1:118)),\"\")","v":""},"",""]
[null,null,114,"","","",null,null,null,null,null,null,null,null,null,null,null,"",{"$f":"IF(ROWS($1:119)<=COUNTA(NomsF),INDEX(NomsF,ROWS($1:119)),\"\")","v":""},"",""]
[null,null,115,"","","",null,null,null,null,null,null,null,null,null,null,null,"",{"$f":"IF(ROWS($1:120)<=COUNTA(NomsF),INDEX(NomsF,ROWS($1:120)),\"\")","v":""},"",""]
[null,null,116,"","","",null,null,null,null,null,null,null,null,null,null,null,"",{"$f":"IF(ROWS($1:121)<=COUNTA(NomsF),INDEX(NomsF,ROWS($1:121)),\"\")","v":""},"",""]
[null,null,117,"","","",null,null,null,null,null,null,null,null,null,null,null,"",{"$f":"IF(ROWS($1:122)<=COUNTA(NomsF),INDEX(NomsF,ROWS($1:122)),\"\")","v":""},"",""]
[null,null,118,"","","",null,null,null,null,null,null,null,null,null,null,null,"",{"$f":"IF(ROWS($1:123)<=COUNTA(NomsF),INDEX(NomsF,ROWS($1:123)),\"\")","v":""},"",""]
[null,null,119,"","","",null,null,null,null,null,null,null,null,null,null,null,"",{"$f":"IF(ROWS($1:124)<=COUNTA(NomsF),INDEX(NomsF,ROWS($1:124)),\"\")","v":""},"",""]
[null,null,120,"","","",null,null,null,null,null,null,null,null,null,null,null,"",{"$f":"IF(ROWS($1:125)<=COUNTA(NomsF),INDEX(NomsF,ROWS($1:125)),\"\")","v":""},"",""]
[null,null,121,"","","",null,null,null,null,null,null,null,null,null,null,null,"",{"$f":"IF(ROWS($1:126)<=COUNTA(NomsF),INDEX(NomsF,ROWS($1:126)),\"\")","v":""},"",""]
[null,null,122,"","","",null,null,null,null,null,null,null,null,null,null,null,"",{"$f":"IF(ROWS($1:127)<=COUNTA(NomsF),INDEX(NomsF,ROWS($1:127)),\"\")","v":""},"",""]
[null,null,123,"","","",null,null,null,null,null,null,null,null,null,null,null,"",{"$f":"IF(ROWS($1:128)<=COUNTA(NomsF),INDEX(NomsF,ROWS($1:128)),\"\")","v":""},"",""]
[null,null,124,"","","",null,null,null,null,null,null,null,null,null,null,null,"",{"$f":"IF(ROWS($1:129)<=COUNTA(NomsF),INDEX(NomsF,ROWS($1:129)),\"\")","v":""},"",""]
[null,null,125,"","","",null,null,null,null,null,null,null,null,null,null,null,"",{"$f":"IF(ROWS($1:130)<=COUNTA(NomsF),INDEX(NomsF,ROWS($1:130)),\"\")","v":""},"",""]
[null,null,126,"","","",null,null,null,null,null,null,null,null,null,null,null,"",{"$f":"IF(ROWS($1:131)<=COUNTA(NomsF),INDEX(NomsF,ROWS($1:131)),\"\")","v":""},"",""]
[null,null,127,"","","",null,null,null,null,null,null,null,null,null,null,null,"",{"$f":"IF(ROWS($1:132)<=COUNTA(NomsF),INDEX(NomsF,ROWS($1:132)),\"\")","v":""},"",""]
[null,null,128,"","","",null,null,null,null,null,null,null,null,null,null,null,"",{"$f":"IF(ROWS($1:133)<=COUNTA(NomsF),INDEX(NomsF,ROWS($1:133)),\"\")","v":""},"",""]
[null,null,129,"","","",null,null,null,null,null,null,null,null,null,null,null,"",{"$f":"IF(ROWS($1:134)<=COUNTA(NomsF),INDEX(NomsF,ROWS($1:134)),\"\")","v":""},"",""]
[null,null,130,{"$f":"IFERROR(INDEX(R$5:R$204,MATCH(LARGE(U$5:U$204,C134),U$5:U$204,0)),\"\")","v":""},{"$f":"HYPERLINK(\"#'\"&D134&\"'!A1\",REPT(\"Cliquez ici pour ouvrir le prono de \"&UPPER(D134),ISREF(INDIRECT(\"'\"&D134&\"'!A1\"))))","v":""},{"$f":"IF(R134<>\"\",IFERROR(LARGE($U$5:$U$204,$C134),\"\"),\"\")","v":""},null,null,null,null,null,null,null,null,null,null,null,{"$f":"IFERROR(INDIRECT(\"'\"&S134&\"'!$B$4\"),\"\")","v":""},{"$f":"IF(ROWS($1:135)<=COUNTA(NomsF),INDEX(NomsF,ROWS($1:135)),\"\")","v":""},{"$f":"IFERROR(INDIRECT(\"'\"&S134&\"'!$Ap$6\"),\"\")","v":""},{"$f":"IFERROR(IF(T134,T134+(ROW()/10^9),\"\"),\"\")","v":""}]
[null,null,131,"","","",null,null,null,null,null,null,null,null,null,null,null,"",{"$f":"IF(ROWS($1:136)<=COUNTA(NomsF),INDEX(NomsF,ROWS($1:136)),\"\")","v":""},"",""]
[null,null,132,"","","",null,null,null,null,null,null,null,null,null,null,null,"",{"$f":"IF(ROWS($1:137)<=COUNTA(NomsF),INDEX(NomsF,ROWS($1:137)),\"\")","v":""},"",""]
[null,null,133,"","","",null,null,null,null,null,null,null,null,null,null,null,"",{"$f":"IF(ROWS($1:138)<=COUNTA(NomsF),INDEX(NomsF,ROWS($1:138)),\"\")","v":""},"",""]
[null,null,134,"","","",null,null,null,null,null,null,null,null,null,null,null,"",{"$f":"IF(ROWS($1:139)<=COUNTA(NomsF),INDEX(NomsF,ROWS($1:139)),\"\")","v":""},"",""]
[null,null,135,"","","",null,null,null,null,null,null,null,null,null,null,null,"",{"$f":"IF(ROWS($1:140)<=COUNTA(NomsF),INDEX(NomsF,ROWS($1:140)),\"\")","v":""},"",""]
[null,null,136,"","","",null,null,null,null,null,null,null,null,null,null,null,"",{"$f":"IF(ROWS($1:141)<=COUNTA(NomsF),INDEX(NomsF,ROWS($1:141)),\"\")","v":""},"",""]
[null,null,137,"","","",null,null,null,null,null,null,null,null,null,null,null,"",{"$f":"IF(ROWS($1:142)<=COUNTA(NomsF),INDEX(NomsF,ROWS($1:142)),\"\")","v":""},"",""]
[null,null,138,"","","",null,null,null,null,null,null,null,null,null,null,null,"",{"$f":"IF(ROWS($1:143)<=COUNTA(NomsF),INDEX(NomsF,ROWS($1:143)),\"\")","v":""},"",""]
[null,null,139,"","","",null,null,null,null,null,null,null,null,null,null,null,"",{"$f":"IF(ROWS($1:144)<=COUNTA(NomsF),INDEX(NomsF,ROWS($1:144)),\"\")","v":""},"",""]
[null,null,140,"","","",null,null,null,null,null,null,null,null,null,null,null,"",{"$f":"IF(ROWS($1:145)<=COUNTA(NomsF),INDEX(NomsF,ROWS($1:145)),\"\")","v":""},"",""]
[null,null,141,"","","",null,null,null,null,null,null,null,null,null,null,null,"",{"$f":"IF(ROWS($1:146)<=COUNTA(NomsF),INDEX(NomsF,ROWS($1:146)),\"\")","v":""},"",""]
[null,null,142,"","","",null,null,null,null,null,null,null,null,null,null,null,"",{"$f":"IF(ROWS($1:147)<=COUNTA(NomsF),INDEX(NomsF,ROWS($1:147)),\"\")","v":""},"",""]
[null,null,143,"","","",null,null,null,null,null,null,null,null,null,null,null,"",{"$f":"IF(ROWS($1:148)<=COUNTA(NomsF),INDEX(NomsF,ROWS($1:148)),\"\")","v":""},"",""]
[null,null,144,"","","",null,null,null,null,null,null,null,null,null,null,null,"",{"$f":"IF(ROWS($1:149)<=COUNTA(NomsF),INDEX(NomsF,ROWS($1:149)),\"\")","v":""},"",""]
[null,null,145,"","","",null,null,null,null,null,null,null,null,null,null,null,"",{"$f":"IF(ROWS($1:150)<=COUNTA(NomsF),INDEX(NomsF,ROWS($1:150)),\"\")","v":""},"",""]
[null,null,146,"","","",null,null,null,null,null,null,null,null,null,null,null,"",{"$f":"IF(ROWS($1:151)<=COUNTA(NomsF),INDEX(NomsF,ROWS($1:151)),\"\")","v":""},"",""]
[null,null,147,"","","",null,null,null,null,null,null,null,null,null,null,null,"",{"$f":"IF(ROWS($1:152)<=COUNTA(NomsF),INDEX(NomsF,ROWS($1:152)),\"\")","v":""},"",""]
[null,null,148,"","","",null,null,null,null,null,null,null,null,null,null,null,"",{"$f":"IF(ROWS($1:153)<=COUNTA(NomsF),INDEX(NomsF,ROWS($1:153)),\"\")","v":""},"",""]
[null,null,149,"","","",null,null,null,null,null,null,null,null,null,null,null,"",{"$f":"IF(ROWS($1:154)<=COUNTA(NomsF),INDEX(NomsF,ROWS($1:154)),\"\")","v":""},"",""]
[null,null,150,"","","",null,null,null,null,null,null,null,null,null,null,null,"",{"$f":"IF(ROWS($1:155)<=COUNTA(NomsF),INDEX(NomsF,ROWS($1:155)),\"\")","v":""},"",""]
[null,null,151,"","","",null,null,null,null,null,null,null,null,null,null,null,"",{"$f":"IF(ROWS($1:156)<=COUNTA(NomsF),INDEX(NomsF,ROWS($1:156)),\"\")","v":""},"",""]
[null,null,152,"","","",null,null,null,null,null,null,null,null,null,null,null,"",{"$f":"IF(ROWS($1:157)<=COUNTA(NomsF),INDEX(NomsF,ROWS($1:157)),\"\")","v":""},"",""]
[null,null,153,"","","",null,null,null,null,null,null,null,null,null,null,null,"",{"$f":"IF(ROWS($1:158)<=COUNTA(NomsF),INDEX(NomsF,ROWS($1:158)),\"\")","v":""},"",""]
[null,null,154,"","","",null,null,null,null,null,null,null,null,null,null,null,"",{"$f":"IF(ROWS($1:159)<=COUNTA(NomsF),INDEX(NomsF,ROWS($1:159)),\"\")","v":""},"",""]
[null,null,155,"","","",null,null,null,null,null,null,null,null,null,null,null,"",{"$f":"IF(ROWS($1:160)<=COUNTA(NomsF),INDEX(NomsF,ROWS($1:160)),\"\")","v":""},"",""]
[null,null,156,"","","",null,null,null,null,null,null,null,null,null,null,null,"",{"$f":"IF(ROWS($1:161)<=COUNTA(NomsF),INDEX(NomsF,ROWS($1:161)),\"\")","v":""},"",""]
[null,null,157,"","","",null,null,null,null,null,null,null,null,null,null,null,"",{"$f":"IF(ROWS($1:162)<=COUNTA(NomsF),INDEX(NomsF,ROWS($1:162)),\"\")","v":""},"",""]
[null,null,158,"","","",null,null,null,null,null,null,null,null,null,null,null,"",{"$f":"IF(ROWS($1:163)<=COUNTA(NomsF),INDEX(NomsF,ROWS($1:163)),\"\")","v":""},"",""]
[null,null,159,"","","",null,null,null,null,null,null,null,null,null,null,null,"",{"$f":"IF(ROWS($1:164)<=COUNTA(NomsF),INDEX(NomsF,ROWS($1:164)),\"\")","v":""},"",""]
[null,null,160,"","","",null,null,null,null,null,null,null,null,null,null,null,"",{"$f":"IF(ROWS($1:165)<=COUNTA(NomsF),INDEX(NomsF,ROWS($1:165)),\"\")","v":""},"",""]
[null,null,161,"","","",null,null,null,null,null,null,null,null,null,null,null,"",{"$f":"IF(ROWS($1:166)<=COUNTA(NomsF),INDEX(NomsF,ROWS($1:166)),\"\")","v":""},"",""]
[null,null,162,"","","",null,null,null,null,null,null,null,null,null,null,null,"",{"$f":"IF(ROWS($1:167)<=COUNTA(NomsF),INDEX(NomsF,ROWS($1:167)),\"\")","v":""},"",""]
[null,null,163,"","","",null,null,null,null,null,null,null,null,null,null,null,"",{"$f":"IF(ROWS($1:168)<=COUNTA(NomsF),INDEX(NomsF,ROWS($1:168)),\"\")","v":""},"",""]
[null,null,164,"","","",null,null,null,null,null,null,null,null,null,null,null,"",{"$f":"IF(ROWS($1:169)<=COUNTA(NomsF),INDEX(NomsF,ROWS($1:169)),\"\")","v":""},"",""]
[null,null,165,"","","",null,null,null,null,null,null,null,null,null,null,null,"",{"$f":"IF(ROWS($1:170)<=COUNTA(NomsF),INDEX(NomsF,ROWS($1:170)),\"\")","v":""},"",""]
[null,null,166,"","","",null,null,null,null,null,null,null,null,null,null,null,"",{"$f":"IF(ROWS($1:171)<=COUNTA(NomsF),INDEX(NomsF,ROWS($1:171)),\"\")","v":""},"",""]
[null,null,167,"","","",null,null,null,null,null,null,null,null,null,null,null,"",{"$f":"IF(ROWS($1:172)<=COUNTA(NomsF),INDEX(NomsF,ROWS($1:172)),\"\")","v":""},"",""]
[null,null,168,"","","",null,null,null,null,null,null,null,null,null,null,null,"",{"$f":"IF(ROWS($1:173)<=COUNTA(NomsF),INDEX(NomsF,ROWS($1:173)),\"\")","v":""},"",""]
[null,null,169,"","","",null,null,null,null,null,null,null,null,null,null,null,"",{"$f":"IF(ROWS($1:174)<=COUNTA(NomsF),INDEX(NomsF,ROWS($1:174)),\"\")","v":""},"",""]
[null,null,170,"","","",null,null,null,null,null,null,null,null,null,null,null,"",{"$f":"IF(ROWS($1:175)<=COUNTA(NomsF),INDEX(NomsF,ROWS($1:175)),\"\")","v":""},"",""]
[null,null,171,"","","",null,null,null,null,null,null,null,null,null,null,null,"",{"$f":"IF(ROWS($1:176)<=COUNTA(NomsF),INDEX(NomsF,ROWS($1:176)),\"\")","v":""},"",""]
[null,null,172,"","","",null,null,null,null,null,null,null,null,null,null,null,"",{"$f":"IF(ROWS($1:177)<=COUNTA(NomsF),INDEX(NomsF,ROWS($1:177)),\"\")","v":""},"",""]
[null,null,173,"","","",null,null,null,null,null,null,null,null,null,null,null,"",{"$f":"IF(ROWS($1:178)<=COUNTA(NomsF),INDEX(NomsF,ROWS($1:178)),\"\")","v":""},"",""]
[null,null,174,"","","",null,null,null,null,null,null,null,null,null,null,null,"",{"$f":"IF(ROWS($1:179)<=COUNTA(NomsF),INDEX(NomsF,ROWS($1:179)),\"\")","v":""},"",""]
[null,null,175,"","","",null,null,null,null,null,null,null,null,null,null,null,"",{"$f":"IF(ROWS($1:180)<=COUNTA(NomsF),INDEX(NomsF,ROWS($1:180)),\"\")","v":""},"",""]
[null,null,176,"","","",null,null,null,null,null,null,null,null,null,null,null,"",{"$f":"IF(ROWS($1:181)<=COUNTA(NomsF),INDEX(NomsF,ROWS($1:181)),\"\")","v":""},"",""]
[null,null,177,"","","",null,null,null,null,null,null,null,null,null,null,null,"",{"$f":"IF(ROWS($1:182)<=COUNTA(NomsF),INDEX(NomsF,ROWS($1:182)),\"\")","v":""},"",""]
[null,null,178,"","","",null,null,null,null,null,null,null,null,null,null,null,"",{"$f":"IF(ROWS($1:183)<=COUNTA(NomsF),INDEX(NomsF,ROWS($1:183)),\"\")","v":""},"",""]
[null,null,179,"","","",null,null,null,null,null,null,null,null,null,null,null,"",{"$f":"IF(ROWS($1:184)<=COUNTA(NomsF),INDEX(NomsF,ROWS($1:184)),\"\")","v":""},"",""]
[null,null,180,"","","",null,null,null,null,null,null,null,null,null,null,null,"",{"$f":"IF(ROWS($1:185)<=COUNTA(NomsF),INDEX(NomsF,ROWS($1:185)),\"\")","v":""},"",""]
[null,null,181,"","","",null,null,null,null,null,null,null,null,null,null,null,"",{"$f":"IF(ROWS($1:186)<=COUNTA(NomsF),INDEX(NomsF,ROWS($1:186)),\"\")","v":""},"",""]
[null,null,182,"","","",null,null,null,null,null,null,null,null,null,null,null,"",{"$f":"IF(ROWS($1:187)<=COUNTA(NomsF),INDEX(NomsF,ROWS($1:187)),\"\")","v":""},"",""]
[null,null,183,"","","",null,null,null,null,null,null,null,null,null,null,null,"",{"$f":"IF(ROWS($1:188)<=COUNTA(NomsF),INDEX(NomsF,ROWS($1:188)),\"\")","v":""},"",""]
[null,null,184,"","","",null,null,null,null,null,null,null,null,null,null,null,"",{"$f":"IF(ROWS($1:189)<=COUNTA(NomsF),INDEX(NomsF,ROWS($1:189)),\"\")","v":""},"",""]
[null,null,185,"","","",null,null,null,null,null,null,null,null,null,null,null,"",{"$f":"IF(ROWS($1:190)<=COUNTA(NomsF),INDEX(NomsF,ROWS($1:190)),\"\")","v":""},"",""]
[null,null,186,"","","",null,null,null,null,null,null,null,null,null,null,null,"",{"$f":"IF(ROWS($1:191)<=COUNTA(NomsF),INDEX(NomsF,ROWS($1:191)),\"\")","v":""},"",""]
[null,null,187,"","","",null,null,null,null,null,null,null,null,null,null,null,"",{"$f":"IF(ROWS($1:192)<=COUNTA(NomsF),INDEX(NomsF,ROWS($1:192)),\"\")","v":""},"",""]
[null,null,188,"","","",null,null,null,null,null,null,null,null,null,null,null,"",{"$f":"IF(ROWS($1:193)<=COUNTA(NomsF),INDEX(NomsF,ROWS($1:193)),\"\")","v":""},"",""]
[null,null,189,"","","",null,null,null,null,null,null,null,null,null,null,null,"",{"$f":"IF(ROWS($1:194)<=COUNTA(NomsF),INDEX(NomsF,ROWS($1:194)),\"\")","v":""},"",""]
[null,null,190,"","","",null,null,null,null,null,null,null,null,null,null,null,"",{"$f":"IF(ROWS($1:195)<=COUNTA(NomsF),INDEX(NomsF,ROWS($1:195)),\"\")","v":""},"",""]
[null,null,191,"","","",null,null,null,null,null,null,null,null,null,null,null,"",{"$f":"IF(ROWS($1:196)<=COUNTA(NomsF),INDEX(NomsF,ROWS($1:196)),\"\")","v":""},"",""]
[null,null,192,"","","",null,null,null,null,null,null,null,null,null,null,null,"",{"$f":"IF(ROWS($1:197)<=COUNTA(NomsF),INDEX(NomsF,ROWS($1:197)),\"\")","v":""},"",""]
[null,null,193,"","","",null,null,null,null,null,null,null,null,null,null,null,"",{"$f":"IF(ROWS($1:198)<=COUNTA(NomsF),INDEX(NomsF,ROWS($1:198)),\"\")","v":""},"",""]
[null,null,194,{"$f":"IFERROR(INDEX(R$5:R$204,MATCH(LARGE(U$5:U$204,C198),U$5:U$204,0)),\"\")","v":""},{"$f":"HYPERLINK(\"#'\"&D198&\"'!A1\",REPT(\"Cliquez ici pour ouvrir le prono de \"&UPPER(D198),ISREF(INDIRECT(\"'\"&D198&\"'!A1\"))))","v":""},{"$f":"IF(R198<>\"\",IFERROR(LARGE($U$5:$U$204,$C198),\"\"),\"\")","v":""},null,null,null,null,null,null,null,null,null,null,null,{"$f":"IFERROR(INDIRECT(\"'\"&S198&\"'!$B$4\"),\"\")","v":""},{"$f":"IF(ROWS($1:199)<=COUNTA(NomsF),INDEX(NomsF,ROWS($1:199)),\"\")","v":""},{"$f":"IFERROR(INDIRECT(\"'\"&S198&\"'!$Ap$6\"),\"\")","v":""},{"$f":"IFERROR(IF(T198,T198+(ROW()/10^9),\"\"),\"\")","v":""}]
[null,null,195,"","","",null,null,null,null,null,null,null,null,null,null,null,"",{"$f":"IF(ROWS($1:200)<=COUNTA(NomsF),INDEX(NomsF,ROWS($1:200)),\"\")","v":""},"",""]
[null,null,196,"","","",null,null,null,null,null,null,null,null,null,null,null,"",{"$f":"IF(ROWS($1:201)<=COUNTA(NomsF),INDEX(NomsF,ROWS($1:201)),\"\")","v":""},"",""]
[null,null,197,"","","",null,null,null,null,null,null,null,null,null,null,null,"",{"$f":"IF(ROWS($1:202)<=COUNTA(NomsF),INDEX(NomsF,ROWS($1:202)),\"\")","v":""},"",""]
[null,null,198,"","","",null,null,null,null,null,null,null,null,null,null,null,"",{"$f":"IF(ROWS($1:203)<=COUNTA(NomsF),INDEX(NomsF,ROWS($1:203)),\"\")","v":""},"",""]
[null,null,199,"","","",null,null,null,null,null,null,null,null,null,null,null,"",{"$f":"IF(ROWS($1:204)<=COUNTA(NomsF),INDEX(NomsF,ROWS($1:204)),\"\")","v":""},"",""]
[null,null,200,"","","",null,null,null,null,null,null,null,null,null,null,null,"",{"$f":"IF(ROWS($1:204)<=COUNTA(NomsF),INDEX(NomsF,ROWS($1:204)),\"\")","v":""},"",""]

{"sheet":"GUIDE","index":2,"n_rows":151,"n_cols":29,"rows_kept":151,"cut":false,"hidden":false,"merged":[[21,28,21,37],[18,28,18,37],[20,28,20,37],[24,28,24,37],[3,5,3,11],[5,28,5,37],[6,28,6,37],[13,28,13,37],[16,28,16,37],[5,2,5,16],[5,17,5,24],[10,28,10,37],[28,28,28,37],[32,28,32,37],[26,28,26,37],[36,28,36,37],[23,28,23,37]]}
[]
[]
[]
[]
[]
[null,null,"UTILISATION DU FICHIER PRONOSTIC FIFA World Cup 2018",null,null,null,null,null,null,null,null,null,null,null,null,null,null,"Pour les curieux et utilisateurs avertis, ôtez la protection avec le mot de passe : XLD.",null,null,null,null,null,null,null,null,null,null,"VERSIONS"]
[null,null,"1 - COMMENT CA MARCHE?",null,null,null,null,null,null,null,null,null,null,null,null,null,null,null,null,null,null,null,null,null,null,null,null,null,"Version 1.0"]
[null,null,null,null,null,null,null,null,null,null,null,null,null,null,null,null,null,null,null,null,null,null,null,null,null,null,null,null,"Cette version 1.0 a été réalisée à partir de la version 2.6 (JCGL) du fichier précédemment créé pour"]
[null,null,"Merci d'avoir téléchargé \"FIFA World Cup Russia 2018 - XLD\".",null,null,null,null,null,null,null,null,null,null,null,null,"REGLES DE CALCUL DES POINTS ATTRIBUES :",null,null,null,null,null,null,null,null,null,null,null,null," la coupe du monde 2014."]
[null,null,"L'origine de ce fichier remonte à la coupe du monde 2014. Il a été créé par David Aubert, webmaster du site Excel Downloads :"]
[null,null,"https://www.excel-downloads.com",null,null,null,null,null,null,null,null,null,null,null,null,null,null,null,null,null,null,null,null,null,null,null,null,null,"Version 1.0a"]
[null,null,"Il a été ensuite amélioré par les membres du site et plus particulièrement par JCGL, que je remercie chaleureusement!!",null,null,null,null,null,null,null,null,null,null,null,null,null,null,null,null,null,null,null,null,null,null,null,null,null,"Correction d'une erreur de calcul des points pour l'équipe du Nigeria."]
[null,null,"Rendez vous régulièrement sur la page de téléchargement du fichier pour suivre les mises à jour ou participer aux discussions relatives"]
[null,null,"au programme :",null,"https://www.excel-downloads.com/resources/coupe-du-monde-football-russie-2018.1075/",null,null,null,null,null,null,null,null,null,null,null,null,null,null,null,null,null,null,null,null,null,null,null,"Version 1.1"]
[null,null,null,null,null,null,null,null,null,null,null,null,null,null,null,null,null,null,null,null,null,null,null,null,null,null,null,null,"Affichage dynamique du classement groupe par groupe en fonction des résultats des matchs."]
[null,null,"Ce fichier va vous permettre d'organiser un concours de pronostics pour 1 à 200 joueurs. ",null,null,null,null,null,null,null,null,null,null,null,null,null,null,null,null,null,null,null,null,null,null,null,null,null,"Possibilité de jouer jusqu'à 200 pronostiqueurs."]
[null,null,"Avant la coupe du monde, créez un onglet par pronostiqueur et saisissez les pronostics des joueurs.",null,null,null,null,null,null,null,null,null,null,null,null,null,null,null,null,null,null,null,null,null,null,null,null,null,"Correction des liens dans l'onglet \"Classement\" (merci Job75 et Modeste!)"]
[null,null,"Lorsque la Coupe du Monde débute, il ne vous reste plus qu'à saisir les résultats des matchs au jour le jour et "]
[null,null,"voir évoluer les scores et classements des pronostiqueurs jusqu'à la Finale, dans l'onglet \"CLASSEMENT\".",null,null,null,null,null,null,null,null,null,null,null,null,null,null,null,null,null,null,null,null,null,null,null,null,null,"Version 1.1a"]
[null,null,null,null,null,null,null,null,null,null,null,null,null,null,null,null,null,null,null,null,null,null,null,null,null,null,null,null,"Correction d'une erreur de typo sans impact sur la qualité des données (merci jimdk)."]
[null,null,"Commençons tout d'abord par voir comment créer les onglets des pronostiqueurs…"]
[null,null,null,null,null,null,null,null,null,null,null,null,null,null,null,null,null,null,null,null,null,null,null,null,null,null,null,null,"Version 1.1b"]
[null,null,null,null,null,null,null,null,null,null,null,null,null,null,null,null,null,null,null,null,null,null,null,null,null,null,null,null,"Possibilité de calculer les scores des pronostiqueurs en intégrant les bonifications des phases finales ou non."]
[null,null,"2 - AJOUT DES PRONOSTIQUEURS",null,null,null,null,null,null,null,null,null,null,null,null,null,null,null,null,null,null,null,null,null,null,null,null,null,"Indicateurs visuels (couleurs) en face des matchs ou équipes générant des points aux pronostiqueurs (utile"]
[null,null,null,null,null,null,null,null,null,null,null,null,null,null,null,null,null,null,null,null,null,null,null,null,null,null,null,null,"pour faire les contrôles)."]
[null,null,"IMPORTANT : pour le bon fonctionnement du fichier, il est crucial que les onglets \"RESULTATS\", \"CLASSEMENT\" et \"GUIDE\" restent positionnés avant les onglets de pronostics."]
[null,null,"Faite donc en sorte de ne jamais déplacer un fichier de pronostic avant ou entre ces onglets.",null,null,null,null,null,null,null,null,null,null,null,null,null,null,null,null,null,null,null,null,null,null,null,null,null,"Version 1.1c"]
[null,null,null,null,null,null,null,null,null,null,null,null,null,null,null,null,null,null,null,null,null,null,null,null,null,null,null,null,"Correction d'une erreur mineure d'affichage sans impact sur la qualité des données (merci Paul.R)."]
[null,null,"Suivre les étapes imagées ci-dessous :",null,null,null,null,null,null,null,null,null,null,null,null,null,null,null,null,null,null,null,null,null,null,null,null,null,"Mise à jour des heures des matchs aux heures françaises de diffusion."]
[null,null,"Le fichier d'origine comporte un seul pronostiqueur nommé \"Pronostiqueur 1\"."]
[null,null,"Dupliquez cet onglet autant de fois que nécessaire et renommez le ainsi que ses copies avec les noms des pronostiqueurs."]
[]
[]
[]
[]
[]
[]
[]
[]
[]
[]
[]
[]
[]
[]
[]
[]
[null,null,"3 - SAISIE DES PRONOSTIQUES"]
[]
[null,null,"La saisie des pronostics d'effectue dans les onglets que vous avez créés tel qu'expliqué dans la partie \"2 - AJOUT DES PRONOSTIQUEURS\" de ce guide."]
[]
[null,null,"EN PHASE DE GROUPES"]
[]
[null,null,"Saisir les scores pour chaque matchs dans les colonnes \"Buts\"",null,null,null,null,null,null,null,null,"Les points et les statistiques sont calculés automatiquement "]
[null,null,"Les vainqueurs sont automatiquement mis en évidence sur fond rouge.",null,null,null,null,null,null,null,null,"dans les tableaux récapitulatifs des groupes."]
[]
[]
[]
[]
[]
[]
[]
[]
[]
[]
[]
[]
[]
[null,null,"1/8èmes de FINALE"]
[]
[null,null,"Dans 99% des cas, les règles de la FIFA permettent de départager tous les pays",null,null,null,null,null,null,null,null,"Si les règles de calcul de la FIFA ne permettent pas de départager les ex-aequos,"]
[null,null,"et il y a très peu de chances qu'il y ait des ex-aequos.",null,null,null,null,null,null,null,null,"alors le tableau des huitièmes de finales mettra en évidences les ex-aequos qui"]
[null,null,"Après avoir saisi tous les scores en phases de groupes, le tableau des huitièmes de finales doit être ainsi :",null,null,null,null,null,null,null,null,"seront départagés par un tirage au sort."]
[null,null,null,null,null,null,null,null,null,null,null,"Le tableau ressemblera à cela :"]
[]
[]
[]
[]
[]
[]
[]
[]
[]
[]
[]
[]
[]
[]
[]
[null,null,null,null,null,null,null,null,null,null,null,null,"Dans ce cas, il y a des ex-aequos dans le groupe B qui seront départagés par un "]
[null,null,null,null,null,null,null,null,null,null,null,null,"tirage au sort. Choisissez les pays dans la liste déroulante."]
[null,null,null,null,null,null,null,null,null,null,null,null,"ATTENTION, dans ce cas, les modifications apportées aux scores dans la phase "]
[null,null,null,null,null,null,null,null,null,null,null,null,"de groupe ne seront plus répercutées dans le tableau des huitièmes de finales."]
[null,null,null,null,null,null,null,null,null,null,null,null,"Il faudra reprendre un fichier vierge et ressaisir les scores pour faire une autre "]
[null,null,null,null,null,null,null,null,null,null,null,null,"simulation."]
[]
[null,null,"SAISIE DES SCORES EN PHASE FINALE"]
[]
[null,null,"Saisissez les scores des huitèmes de finales dans les colonnes \"Buts\"."]
[null,null,"En cas d'égalité, départagez les équipes aux tirs au buts en inscrivant les scores"]
[null,null,"dans les colonnes \"Pen\"."]
[null,null,"Vos pronostics des huitièmes de finales se répercutent automatiquement dans le "]
[null,null,"tableau des quarts de finales qu'il faudra renseigner de la même façon et ainsi "]
[null,null,"de suite jusqu'à la finale!!"]
[]
[]
[]
[]
[]
[]
[]
[]
[]
[]
[]
[]
[]
[]
[]
[]
[]
[]
[null,null,"4 - SAISIE DES RESULTATS PENDANT LA COUPE DU MONDE & CLASSEMENT DES PRONOSTIQUEURS"]
[]
[null,null,"Dès que la coupe du monde démarre, ne touchez plus aux pronositques."]
[null,null,"Il suffit maintenant de saisir les résultats régulièrement (ou en fin de Coupe du Monde) pour découvrir le vainqueur du concours de pronostics!!"]
[]
[null,null,"La saisie des résultats s'efectue dans l'onglet \"RESULTATS\" comme vous l'avez fait pour les onglets des pronostiqueurs."]
[]
[null,null,"Le score des pronostiqueurs est automatiquement mis à jour dans les onglets des pronostiqueurs (en haut à droite) :"]
[]
[]
[]
[]
[]
[]
[]
[]
[]
[]
[]
[]
[]
[]
[]
[]
[null,null,"Le classement des pronostiqueurs est lui aussi mis à jour au fil de la saisie des résultats.",null,null,null,null,null,null,null,null,"Si vous ne souhaitez pas que les points attribués pour chaque 1/8ème de finaliste trouvé"]
[null,null,"Onglet \"CLASSEMENT\" :",null,null,null,null,null,null,null,null,"soient additionnés au score des pronostiqueurs pendant la saisie des résultats des phases"]
[null,null,null,null,null,null,null,null,null,null,null,"de groupe, vous pouvez désactiver le calcul des scores des phases finales."]
[null,null,null,null,null,null,null,null,null,null,null,"Attention, il est impératif que cette sélection soit sur OUI lorsque les phases de poules sont"]
[null,null,null,null,null,null,null,null,null,null,null,"terminées. Sinon, le classement ne prendra pas en compte les phases finales."]

{"sheet":"DATA_1_TEAMS","index":3,"n_rows":33,"n_cols":4,"rows_kept":33,"cut":false,"hidden":true,"merged":[]}
["CODE","TEAM","GROUP","GROUP_INITIAL_RANK"]
[{"$f":"+TABLEAU_TEAMS[[#This Row],[GROUP]]&\"_\"&TABLEAU_TEAMS[[#This Row],[GROUP_INITIAL_RANK]]","v":"A_1"},"Russie","A",1]
[{"$f":"+TABLEAU_TEAMS[[#This Row],[GROUP]]&\"_\"&TABLEAU_TEAMS[[#This Row],[GROUP_INITIAL_RANK]]","v":"A_2"},"Arabie Saoudite","A",2]
[{"$f":"+TABLEAU_TEAMS[[#This Row],[GROUP]]&\"_\"&TABLEAU_TEAMS[[#This Row],[GROUP_INITIAL_RANK]]","v":"A_3"},"Egypte","A",3]
[{"$f":"+TABLEAU_TEAMS[[#This Row],[GROUP]]&\"_\"&TABLEAU_TEAMS[[#This Row],[GROUP_INITIAL_RANK]]","v":"A_4"},"Uruguay","A",4]
[{"$f":"+TABLEAU_TEAMS[[#This Row],[GROUP]]&\"_\"&TABLEAU_TEAMS[[#This Row],[GROUP_INITIAL_RANK]]","v":"B_1"},"Maroc","B",1]
[{"$f":"+TABLEAU_TEAMS[[#This Row],[GROUP]]&\"_\"&TABLEAU_TEAMS[[#This Row],[GROUP_INITIAL_RANK]]","v":"B_2"},"RI Iran","B",2]
[{"$f":"+TABLEAU_TEAMS[[#This Row],[GROUP]]&\"_\"&TABLEAU_TEAMS[[#This Row],[GROUP_INITIAL_RANK]]","v":"B_3"},"Portugal","B",3]
[{"$f":"+TABLEAU_TEAMS[[#This Row],[GROUP]]&\"_\"&TABLEAU_TEAMS[[#This Row],[GROUP_INITIAL_RANK]]","v":"B_4"},"Espagne","B",4]
[{"$f":"+TABLEAU_TEAMS[[#This Row],[GROUP]]&\"_\"&TABLEAU_TEAMS[[#This Row],[GROUP_INITIAL_RANK]]","v":"C_1"},"France","C",1]
[{"$f":"+TABLEAU_TEAMS[[#This Row],[GROUP]]&\"_\"&TABLEAU_TEAMS[[#This Row],[GROUP_INITIAL_RANK]]","v":"C_2"},"Australie","C",2]
[{"$f":"+TABLEAU_TEAMS[[#This Row],[GROUP]]&\"_\"&TABLEAU_TEAMS[[#This Row],[GROUP_INITIAL_RANK]]","v":"C_3"},"Pérou","C",3]
[{"$f":"+TABLEAU_TEAMS[[#This Row],[GROUP]]&\"_\"&TABLEAU_TEAMS[[#This Row],[GROUP_INITIAL_RANK]]","v":"C_4"},"Danemark","C",4]
[{"$f":"+TABLEAU_TEAMS[[#This Row],[GROUP]]&\"_\"&TABLEAU_TEAMS[[#This Row],[GROUP_INITIAL_RANK]]","v":"D_1"},"Argentine","D",1]
[{"$f":"+TABLEAU_TEAMS[[#This Row],[GROUP]]&\"_\"&TABLEAU_TEAMS[[#This Row],[GROUP_INITIAL_RANK]]","v":"D_2"},"Islande","D",2]
[{"$f":"+TABLEAU_TEAMS[[#This Row],[GROUP]]&\"_\"&TABLEAU_TEAMS[[#This Row],[GROUP_INITIAL_RANK]]","v":"D_3"},"Croatie","D",3]
[{"$f":"+TABLEAU_TEAMS[[#This Row],[GROUP]]&\"_\"&TABLEAU_TEAMS[[#This Row],[GROUP_INITIAL_RANK]]","v":"D_4"},"Nigeria","D",4]
[{"$f":"+TABLEAU_TEAMS[[#This Row],[GROUP]]&\"_\"&TABLEAU_TEAMS[[#This Row],[GROUP_INITIAL_RANK]]","v":"E_1"},"Costa Rica","E",1]
[{"$f":"+TABLEAU_TEAMS[[#This Row],[GROUP]]&\"_\"&TABLEAU_TEAMS[[#This Row],[GROUP_INITIAL_RANK]]","v":"E_2"},"Serbie","E",2]
[{"$f":"+TABLEAU_TEAMS[[#This Row],[GROUP]]&\"_\"&TABLEAU_TEAMS[[#This Row],[GROUP_INITIAL_RANK]]","v":"E_3"},"Brésil","E",3]
[{"$f":"+TABLEAU_TEAMS[[#This Row],[GROUP]]&\"_\"&TABLEAU_TEAMS[[#This Row],[GROUP_INITIAL_RANK]]","v":"E_4"},"Suisse","E",4]
[{"$f":"+TABLEAU_TEAMS[[#This Row],[GROUP]]&\"_\"&TABLEAU_TEAMS[[#This Row],[GROUP_INITIAL_RANK]]","v":"F_1"},"Allemagne","F",1]
[{"$f":"+TABLEAU_TEAMS[[#This Row],[GROUP]]&\"_\"&TABLEAU_TEAMS[[#This Row],[GROUP_INITIAL_RANK]]","v":"F_2"},"Mexique","F",2]
[{"$f":"+TABLEAU_TEAMS[[#This Row],[GROUP]]&\"_\"&TABLEAU_TEAMS[[#This Row],[GROUP_INITIAL_RANK]]","v":"F_3"},"Suède","F",3]
[{"$f":"+TABLEAU_TEAMS[[#This Row],[GROUP]]&\"_\"&TABLEAU_TEAMS[[#This Row],[GROUP_INITIAL_RANK]]","v":"F_4"},"République de Corée","F",4]
[{"$f":"+TABLEAU_TEAMS[[#This Row],[GROUP]]&\"_\"&TABLEAU_TEAMS[[#This Row],[GROUP_INITIAL_RANK]]","v":"G_1"},"Belgique","G",1]
[{"$f":"+TABLEAU_TEAMS[[#This Row],[GROUP]]&\"_\"&TABLEAU_TEAMS[[#This Row],[GROUP_INITIAL_RANK]]","v":"G_2"},"Panama","G",2]
[{"$f":"+TABLEAU_TEAMS[[#This Row],[GROUP]]&\"_\"&TABLEAU_TEAMS[[#This Row],[GROUP_INITIAL_RANK]]","v":"G_3"},"Tunisie","G",3]
[{"$f":"+TABLEAU_TEAMS[[#This Row],[GROUP]]&\"_\"&TABLEAU_TEAMS[[#This Row],[GROUP_INITIAL_RANK]]","v":"G_4"},"Angleterre","G",4]
[{"$f":"+TABLEAU_TEAMS[[#This Row],[GROUP]]&\"_\"&TABLEAU_TEAMS[[#This Row],[GROUP_INITIAL_RANK]]","v":"H_1"},"Colombie","H",1]
[{"$f":"+TABLEAU_TEAMS[[#This Row],[GROUP]]&\"_\"&TABLEAU_TEAMS[[#This Row],[GROUP_INITIAL_RANK]]","v":"H_2"},"Japon","H",2]
[{"$f":"+TABLEAU_TEAMS[[#This Row],[GROUP]]&\"_\"&TABLEAU_TEAMS[[#This Row],[GROUP_INITIAL_RANK]]","v":"H_3"},"Pologne","H",3]
[{"$f":"+TABLEAU_TEAMS[[#This Row],[GROUP]]&\"_\"&TABLEAU_TEAMS[[#This Row],[GROUP_INITIAL_RANK]]","v":"H_4"},"Sénégal","H",4]

{"sheet":"DATA_1_MATCHS","index":4,"n_rows":49,"n_cols":5,"rows_kept":49,"cut":false,"hidden":true,"merged":[]}
["MATCH_NUMBER","MATCH_DATE","MATCH_TIME","TEAM_1","TEAM_2"]
[1,"2018-06-14","17:00:00","Russie","Arabie Saoudite"]
[2,"2018-06-15","14:00:00","Egypte","Uruguay"]
[3,"2018-06-15","17:00:00","Maroc","RI Iran"]
[4,"2018-06-15","20:00:00","Portugal","Espagne"]
[5,"2018-06-16","12:00:00","France","Australie"]
[6,"2018-06-16","18:00:00","Pérou","Danemark"]
[7,"2018-06-16","15:00:00","Argentine","Islande"]
[8,"2018-06-16","21:00:00","Croatie","Nigeria"]
[9,"2018-06-17","14:00:00","Costa Rica","Serbie"]
[10,"2018-06-17","20:00:00","Brésil","Suisse"]
[11,"2018-06-17","17:00:00","Allemagne","Mexique"]
[12,"2018-06-18","14:00:00","Suède","République de Corée"]
[13,"2018-06-18","17:00:00","Belgique","Panama"]
[14,"2018-06-18","20:00:00","Tunisie","Angleterre"]
[15,"2018-06-19","17:00:00","Colombie","Japon"]
[16,"2018-06-19","14:00:00","Pologne","Sénégal"]
[17,"2018-06-19","20:00:00","Russie","Egypte"]
[18,"2018-06-20","17:00:00","Uruguay","Arabie Saoudite"]
[19,"2018-06-20","14:00:00","Portugal","Maroc"]
[20,"2018-06-20","20:00:00","RI Iran","Espagne"]
[21,"2018-06-21","14:00:00","Danemark","Australie"]
[22,"2018-06-21","17:00:00","France","Pérou"]
[23,"2018-06-21","20:00:00","Argentine","Croatie"]
[24,"2018-06-22","17:00:00","Nigeria","Islande"]
[25,"2018-06-22","14:00:00","Brésil","Costa Rica"]
[26,"2018-06-22","20:00:00","Serbie","Suisse"]
[27,"2018-06-23","20:00:00","République de Corée","Mexique"]
[28,"2018-06-23","17:00:00","Allemagne","Suède"]
[29,"2018-06-23","14:00:00","Belgique","Tunisie"]
[30,"2018-06-24","14:00:00","Angleterre","Panama"]
[31,"2018-06-24","17:00:00","Japon","Sénégal"]
[32,"2018-06-24","20:00:00","Pologne","Colombie"]
[33,"2018-06-25","16:00:00","Uruguay","Russie"]
[34,"2018-06-25","16:00:00","Arabie Saoudite","Egypte"]
[35,"2018-06-25","20:00:00","RI Iran","Portugal"]
[36,"2018-06-25","20:00:00","Espagne","Maroc"]
[37,"2018-06-26","16:00:00","Danemark","France"]
[38,"2018-06-26","16:00:00","Australie","Pérou"]
[39,"2018-06-26","20:00:00","Nigeria","Argentine"]
[40,"2018-06-26","20:00:00","Islande","Croatie"]
[41,"2018-06-27","20:00:00","Serbie","Brésil"]
[42,"2018-06-27","20:00:00","Suisse","Costa Rica"]
[43,"2018-06-27","16:00:00","Mexique","Suède"]
[44,"2018-06-27","16:00:00","République de Corée","Allemagne"]
[45,"2018-06-28","20:00:00","Panama","Tunisie"]
[46,"2018-06-28","20:00:00","Angleterre","Belgique"]
[47,"2018-06-28","16:00:00","Japon","Pologne"]
[48,"2018-06-28","16:00:00","Sénégal","Colombie"]

{"sheet":"Vincent","index":5,"n_rows":138,"n_cols":46,"rows_kept":138,"cut":false,"hidden":false,"merged":[[3,9,3,12],[3,1,3,8],[2,1,2,8]]}
[]
[null,"Pronostics de :"]
[]
[null,{"$f":"MID(CELL(\"filename\",A1),FIND(\"]\",CELL(\"filename\",A1))+1,32)","v":"Vincent"}]
[]
[null,"SAISIE DES PRONOSTICS",null,null,null,null,null,null,null,null,null,null,null,null,null,null,null,null,null,"GROUPES",null,null,null,null,null,null,null,null,null,null,null,null,"SCORE PRONOSTIQUEUR",null,null,null,null,null,null,null,null,{"$f":"AN8+AN12","v":5}]
[null,"Date","Heure","Match","Groupe",1,"N",2,null,"Buts",null,null,"Buts"]
[null,{"$f":"VLOOKUP($D8,TABLEAU_MATCHS[#All],2,FALSE)","v":"2018-06-14"},{"$f":"VLOOKUP($D8,TABLEAU_MATCHS[#All],3,FALSE)","v":"17:00:00"},1,{"$f":"\"Groupe \"&VLOOKUP($I8,TABLEAU_TEAMS[[#All],[TEAM]:[GROUP_INITIAL_RANK]],2,FALSE)","v":"Groupe A"},1.3,4.3,10,{"$f":"VLOOKUP($D8,TABLEAU_MATCHS[#All],4,FALSE)","v":"Russie"},2,null,{"$f":"VLOOKUP($D8,TABLEAU_MATCHS[#All],5,FALSE)","v":"Arabie Saoudite"},0,{"$f":"IF(OR(ISBLANK(RESULTATS!J8),ISBLANK(J8)),\"\",IF(AND(Vincent!J8=RESULTATS!J8,Vincent!M8=RESULTATS!M8),3,IF(OR(AND(Vincent!J8>Vincent!M8,RESULTATS!J8>RESULTATS!M8),AND(Vincent!J8<Vincent!M8,RESULTATS!J8<RESULTATS!M8),AND(Vincent!J8=Vincent!M8,RESULTATS!J8=RESULTATS!M8)),1,0)))","v":1},null,null,null,null,null,"Rg","Groupe A","MJ","G","N","P","BP","BC","+/-","Pts",null,null,null,"Phases de groupes",null,null,null,null,null,null,{"$f":"N56","v":5},null,"points"]
[null,{"$f":"VLOOKUP($D9,TABLEAU_MATCHS[#All],2,FALSE)","v":"2018-06-15"},{"$f":"VLOOKUP($D9,TABLEAU_MATCHS[#All],3,FALSE)","v":"14:00:00"},2,{"$f":"\"Groupe \"&VLOOKUP($I9,TABLEAU_TEAMS[[#All],[TEAM]:[GROUP_INITIAL_RANK]],2,FALSE)","v":"Groupe A"},2.2000000000000002,2.9,3.25,{"$f":"VLOOKUP($D9,TABLEAU_MATCHS[#All],4,FALSE)","v":"Egypte"},0,null,{"$f":"VLOOKUP($D9,TABLEAU_MATCHS[#All],5,FALSE)","v":"Uruguay"},1,{"$f":"IF(OR(ISBLANK(RESULTATS!J9),ISBLANK(J9)),\"\",IF(AND(Vincent!J9=RESULTATS!J9,Vincent!M9=RESULTATS!M9),3,IF(OR(AND(Vincent!J9>Vincent!M9,RESULTATS!J9>RESULTATS!M9),AND(Vincent!J9<Vincent!M9,RESULTATS!J9<RESULTATS!M9),AND(Vincent!J9=Vincent!M9,RESULTATS!J9=RESULTATS!M9)),1,0)))","v":3},null,null,null,{"$f":"INDEX($R60:$R63,MATCH(SMALL(COUNTIF($R60:$R63,\">=\"&$R60:$R63),ROW(INDIRECT(\"1:\"&ROWS($R60:$R63)))),COUNTIF($R60:$R63,\">=\"&$R60:$R63),0))","v":"07570Uruguay"},{"$f":"INDEX($S60:$S63,MATCH(SMALL(COUNTIF($R60:$R63,\">=\"&$R60:$R63),ROW(INDIRECT(\"1:\"&ROWS($R60:$R63)))),COUNTIF($R60:$R63,\">=\"&$R60:$R63),0))","v":7570},{"$f":"INDEX($T60:$T63,MATCH(SMALL(COUNTIF($R60:$R63,\">=\"&$R60:$R63),ROW(INDIRECT(\"1:\"&ROWS($R60:$R63)))),COUNTIF($R60:$R63,\">=\"&$R60:$R63),0))","v":1},{"$f":"INDEX($U60:$U63,MATCH(SMALL(COUNTIF($R60:$R63,\">=\"&$R60:$R63),ROW(INDIRECT(\"1:\"&ROWS($R60:$R63)))),COUNTIF($R60:$R63,\">=\"&$R60:$R63),0))","v":"Uruguay"},{"$f":"SUMPRODUCT((Teams1=U9)*(Teams1_Score<>\"\"))+SUMPRODUCT((Teams2=U9)*(Teams2_Score<>\"\"))","v":3},{"$f":"SUMPRODUCT((Teams1=U9)*(Teams1_Score>Teams2_Score))+SUMPRODUCT((Teams2=U9)*(Teams2_Score>Teams1_Score))","v":2},{"$f":"SUMPRODUCT((Teams1=U9)*(Teams1_Score=Teams2_Score)*(Teams1_Score<>\"\"))+SUMPRODUCT((Teams2=U9)*(Teams2_Score=Teams1_Score)*(Teams2_Score<>\"\"))","v":1},{"$f":"SUMPRODUCT((Teams1=U9)*(Teams1_Score<Teams2_Score))+SUMPRODUCT((Teams2=U9)*(Teams2_Score<Teams1_Score))","v":0},{"$f":"SUMPRODUCT((Teams1=U9)*(Teams1_Score))+SUMPRODUCT((Teams2=U9)*(Teams2_Score))","v":7},{"$f":"SUMPRODUCT((Teams1=U9)*(Teams2_Score))+SUMPRODUCT((Teams2=U9)*(Teams1_Score))","v":2},{"$f":"Z9-AA9","v":5},{"$f":"3*W9+X9","v":7},null,null,null,"Vainqueur ou nul trouvé (1 pt)",null,null,{"$f":"COUNTIF($N$8:$N$55,1)+COUNTIF($N$8:$N$55,3)","v":3},"matchs",null,null,{"$f":"AJ9","v":3},null,"points"]
[null,{"$f":"VLOOKUP($D10,TABLEAU_MATCHS[#All],2,FALSE)","v":"2018-06-15"},{"$f":"VLOOKUP($D10,TABLEAU_MATCHS[#All],3,FALSE)","v":"17:00:00"},3,{"$f":"\"Groupe \"&VLOOKUP($I10,TABLEAU_TEAMS[[#All],[TEAM]:[GROUP_INITIAL_RANK]],2,FALSE)","v":"Groupe B"},1.8,3.05,4.5,{"$f":"VLOOKUP($D10,TABLEAU_MATCHS[#All],4,FALSE)","v":"Maroc"},2,null,{"$f":"VLOOKUP($D10,TABLEAU_MATCHS[#All],5,FALSE)","v":"RI Iran"},0,{"$f":"IF(OR(ISBLANK(RESULTATS!J10),ISBLANK(J10)),\"\",IF(AND(Vincent!J10=RESULTATS!J10,Vincent!M10=RESULTATS!M10),3,IF(OR(AND(Vincent!J10>Vincent!M10,RESULTATS!J10>RESULTATS!M10),AND(Vincent!J10<Vincent!M10,RESULTATS!J10<RESULTATS!M10),AND(Vincent!J10=Vincent!M10,RESULTATS!J10=RESULTATS!M10)),1,0)))","v":0},null,null,null,"07350Russie",7350,2,"Russie",{"$f":"SUMPRODUCT((Teams1=U10)*(Teams1_Score<>\"\"))+SUMPRODUCT((Teams2=U10)*(Teams2_Score<>\"\"))","v":3},{"$f":"SUMPRODUCT((Teams1=U10)*(Teams1_Score>Teams2_Score))+SUMPRODUCT((Teams2=U10)*(Teams2_Score>Teams1_Score))","v":2},{"$f":"SUMPRODUCT((Teams1=U10)*(Teams1_Score=Teams2_Score)*(Teams1_Score<>\"\"))+SUMPRODUCT((Teams2=U10)*(Teams2_Score=Teams1_Score)*(Teams2_Score<>\"\"))","v":1},{"$f":"SUMPRODUCT((Teams1=U10)*(Teams1_Score<Teams2_Score))+SUMPRODUCT((Teams2=U10)*(Teams2_Score<Teams1_Score))","v":0},{"$f":"SUMPRODUCT((Teams1=U10)*(Teams1_Score))+SUMPRODUCT((Teams2=U10)*(Teams2_Score))","v":5},{"$f":"SUMPRODUCT((Teams1=U10)*(Teams2_Score))+SUMPRODUCT((Teams2=U10)*(Teams1_Score))","v":2},{"$f":"Z10-AA10","v":3},{"$f":"3*W10+X10","v":7},null,null,null,"Bonus score exact (2 pts)",null,null,{"$f":"+COUNTIF($N$8:$N$55,3)","v":1},"matchs",null,null,{"$f":"AJ10*2","v":2},null,"points"]
[null,{"$f":"VLOOKUP($D11,TABLEAU_MATCHS[#All],2,FALSE)","v":"2018-06-15"},{"$f":"VLOOKUP($D11,TABLEAU_MATCHS[#All],3,FALSE)","v":"20:00:00"},4,{"$f":"\"Groupe \"&VLOOKUP($I11,TABLEAU_TEAMS[[#All],[TEAM]:[GROUP_INITIAL_RANK]],2,FALSE)","v":"Groupe B"},1.42,3.9,7,{"$f":"VLOOKUP($D11,TABLEAU_MATCHS[#All],4,FALSE)","v":"Portugal"},1,null,{"$f":"VLOOKUP($D11,TABLEAU_MATCHS[#All],5,FALSE)","v":"Espagne"},1,{"$f":"IF(OR(ISBLANK(RESULTATS!J11),ISBLANK(J11)),\"\",IF(AND(Vincent!J11=RESULTATS!J11,Vincent!M11=RESULTATS!M11),3,IF(OR(AND(Vincent!J11>Vincent!M11,RESULTATS!J11>RESULTATS!M11),AND(Vincent!J11<Vincent!M11,RESULTATS!J11<RESULTATS!M11),AND(Vincent!J11=Vincent!M11,RESULTATS!J11=RESULTATS!M11)),1,0)))","v":1},null,null,null,"03020Egypte",3020,3,"Egypte",{"$f":"SUMPRODUCT((Teams1=U11)*(Teams1_Score<>\"\"))+SUMPRODUCT((Teams2=U11)*(Teams2_Score<>\"\"))","v":3},{"$f":"SUMPRODUCT((Teams1=U11)*(Teams1_Score>Teams2_Score))+SUMPRODUCT((Teams2=U11)*(Teams2_Score>Teams1_Score))","v":1},{"$f":"SUMPRODUCT((Teams1=U11)*(Teams1_Score=Teams2_Score)*(Teams1_Score<>\"\"))+SUMPRODUCT((Teams2=U11)*(Teams2_Score=Teams1_Score)*(Teams2_Score<>\"\"))","v":0},{"$f":"SUMPRODUCT((Teams1=U11)*(Teams1_Score<Teams2_Score))+SUMPRODUCT((Teams2=U11)*(Teams2_Score<Teams1_Score))","v":2},{"$f":"SUMPRODUCT((Teams1=U11)*(Teams1_Score))+SUMPRODUCT((Teams2=U11)*(Teams2_Score))","v":2},{"$f":"SUMPRODUCT((Teams1=U11)*(Teams2_Score))+SUMPRODUCT((Teams2=U11)*(Teams1_Score))","v":2},{"$f":"Z11-AA11","v":0},{"$f":"3*W11+X11","v":3}]
[null,{"$f":"VLOOKUP($D12,TABLEAU_MATCHS[#All],2,FALSE)","v":"2018-06-16"},{"$f":"VLOOKUP($D12,TABLEAU_MATCHS[#All],3,FALSE)","v":"12:00:00"},5,{"$f":"\"Groupe \"&VLOOKUP($I12,TABLEAU_TEAMS[[#All],[TEAM]:[GROUP_INITIAL_RANK]],2,FALSE)","v":"Groupe C"},1.7,3.1,5,{"$f":"VLOOKUP($D12,TABLEAU_MATCHS[#All],4,FALSE)","v":"France"},2,null,{"$f":"VLOOKUP($D12,TABLEAU_MATCHS[#All],5,FALSE)","v":"Australie"},0,{"$f":"IF(OR(ISBLANK(RESULTATS!J12),ISBLANK(J12)),\"\",IF(AND(Vincent!J12=RESULTATS!J12,Vincent!M12=RESULTATS!M12),3,IF(OR(AND(Vincent!J12>Vincent!M12,RESULTATS!J12>RESULTATS!M12),AND(Vincent!J12<Vincent!M12,RESULTATS!J12<RESULTATS!M12),AND(Vincent!J12=Vincent!M12,RESULTATS!J12=RESULTATS!M12)),1,0)))","v":""},null,null,null,"-00800Arabie Saoudite",-800,4,"Arabie Saoudite",{"$f":"SUMPRODUCT((Teams1=U12)*(Teams1_Score<>\"\"))+SUMPRODUCT((Teams2=U12)*(Teams2_Score<>\"\"))","v":3},{"$f":"SUMPRODUCT((Teams1=U12)*(Teams1_Score>Teams2_Score))+SUMPRODUCT((Teams2=U12)*(Teams2_Score>Teams1_Score))","v":0},{"$f":"SUMPRODUCT((Teams1=U12)*(Teams1_Score=Teams2_Score)*(Teams1_Score<>\"\"))+SUMPRODUCT((Teams2=U12)*(Teams2_Score=Teams1_Score)*(Teams2_Score<>\"\"))","v":0},{"$f":"SUMPRODUCT((Teams1=U12)*(Teams1_Score<Teams2_Score))+SUMPRODUCT((Teams2=U12)*(Teams2_Score<Teams1_Score))","v":3},{"$f":"SUMPRODUCT((Teams1=U12)*(Teams1_Score))+SUMPRODUCT((Teams2=U12)*(Teams2_Score))","v":0},{"$f":"SUMPRODUCT((Teams1=U12)*(Teams2_Score))+SUMPRODUCT((Teams2=U12)*(Teams1_Score))","v":8},{"$f":"Z12-AA12","v":-8},{"$f":"3*W12+X12","v":0},null,null,null,"Phases finales",null,null,null,null,null,null,{"$f":"SUM(AN13:AN17)","v":0},null,"points"]
[null,{"$f":"VLOOKUP($D13,TABLEAU_MATCHS[#All],2,FALSE)","v":"2018-06-16"},{"$f":"VLOOKUP($D13,TABLEAU_MATCHS[#All],3,FALSE)","v":"18:00:00"},6,{"$f":"\"Groupe \"&VLOOKUP($I13,TABLEAU_TEAMS[[#All],[TEAM]:[GROUP_INITIAL_RANK]],2,FALSE)","v":"Groupe C"},2.5499999999999998,2.9,2.7,{"$f":"VLOOKUP($D13,TABLEAU_MATCHS[#All],4,FALSE)","v":"Pérou"},1,null,{"$f":"VLOOKUP($D13,TABLEAU_MATCHS[#All],5,FALSE)","v":"Danemark"},2,{"$f":"IF(OR(ISBLANK(RESULTATS!J13),ISBLANK(J13)),\"\",IF(AND(Vincent!J13=RESULTATS!J13,Vincent!M13=RESULTATS!M13),3,IF(OR(AND(Vincent!J13>Vincent!M13,RESULTATS!J13>RESULTATS!M13),AND(Vincent!J13<Vincent!M13,RESULTATS!J13<RESULTATS!M13),AND(Vincent!J13=Vincent!M13,RESULTATS!J13=RESULTATS!M13)),1,0)))","v":""},null,null,null,null,null,null,null,null,null,null,null,null,null,null,null,null,null,null,"Huitièmes de finaliste trouvés (2 pts)",null,null,{"$f":"IF(CLASSEMENT!PHASES_FINALES=\"OUI\",$AK$53+$AQ$53,0)","v":0},"équipe(s) ",null,null,{"$f":"AJ13*2","v":0},null,"points"]
[null,{"$f":"VLOOKUP($D14,TABLEAU_MATCHS[#All],2,FALSE)","v":"2018-06-16"},{"$f":"VLOOKUP($D14,TABLEAU_MATCHS[#All],3,FALSE)","v":"15:00:00"},7,{"$f":"\"Groupe \"&VLOOKUP($I14,TABLEAU_TEAMS[[#All],[TEAM]:[GROUP_INITIAL_RANK]],2,FALSE)","v":"Groupe D"},1.4,4,7.25,{"$f":"VLOOKUP($D14,TABLEAU_MATCHS[#All],4,FALSE)","v":"Argentine"},2,null,{"$f":"VLOOKUP($D14,TABLEAU_MATCHS[#All],5,FALSE)","v":"Islande"},0,{"$f":"IF(OR(ISBLANK(RESULTATS!J14),ISBLANK(J14)),\"\",IF(AND(Vincent!J14=RESULTATS!J14,Vincent!M14=RESULTATS!M14),3,IF(OR(AND(Vincent!J14>Vincent!M14,RESULTATS!J14>RESULTATS!M14),AND(Vincent!J14<Vincent!M14,RESULTATS!J14<RESULTATS!M14),AND(Vincent!J14=Vincent!M14,RESULTATS!J14=RESULTATS!M14)),1,0)))","v":""},null,null,null,null,null,"Rg","Groupe B","MJ","G","N","P","BP","BC","+/-","Pts",null,null,null,"Quarts de finalistes trouvés (4 pts)",null,null,{"$f":"IF(CLASSEMENT!PHASES_FINALES=\"OUI\",$AK$42+$AQ$42,0)","v":0},"équipe(s) ",null,null,{"$f":"AJ14*4","v":0},null,"points"]
[null,{"$f":"VLOOKUP($D15,TABLEAU_MATCHS[#All],2,FALSE)","v":"2018-06-16"},{"$f":"VLOOKUP($D15,TABLEAU_MATCHS[#All],3,FALSE)","v":"21:00:00"},8,{"$f":"\"Groupe \"&VLOOKUP($I15,TABLEAU_TEAMS[[#All],[TEAM]:[GROUP_INITIAL_RANK]],2,FALSE)","v":"Groupe D"},2.95,2.7,2.5499999999999998,{"$f":"VLOOKUP($D15,TABLEAU_MATCHS[#All],4,FALSE)","v":"Croatie"},2,null,{"$f":"VLOOKUP($D15,TABLEAU_MATCHS[#All],5,FALSE)","v":"Nigeria"},3,{"$f":"IF(OR(ISBLANK(RESULTATS!J15),ISBLANK(J15)),\"\",IF(AND(Vincent!J15=RESULTATS!J15,Vincent!M15=RESULTATS!M15),3,IF(OR(AND(Vincent!J15>Vincent!M15,RESULTATS!J15>RESULTATS!M15),AND(Vincent!J15<Vincent!M15,RESULTATS!J15<RESULTATS!M15),AND(Vincent!J15=Vincent!M15,RESULTATS!J15=RESULTATS!M15)),1,0)))","v":""},null,null,null,{"$f":"INDEX($R66:$R69,MATCH(SMALL(COUNTIF($R66:$R69,\">=\"&$R66:$R69),ROW(INDIRECT(\"1:\"&ROWS($R66:$R69)))),COUNTIF($R66:$R69,\">=\"&$R66:$R69),0))","v":"07680Espagne"},{"$f":"INDEX($S66:$S69,MATCH(SMALL(COUNTIF($R66:$R69,\">=\"&$R66:$R69),ROW(INDIRECT(\"1:\"&ROWS($R66:$R69)))),COUNTIF($R66:$R69,\">=\"&$R66:$R69),0))","v":7680},{"$f":"INDEX($T66:$T69,MATCH(SMALL(COUNTIF($R66:$R69,\">=\"&$R66:$R69),ROW(INDIRECT(\"1:\"&ROWS($R66:$R69)))),COUNTIF($R66:$R69,\">=\"&$R66:$R69),0))","v":1},{"$f":"INDEX($U66:$U69,MATCH(SMALL(COUNTIF($R66:$R69,\">=\"&$R66:$R69),ROW(INDIRECT(\"1:\"&ROWS($R66:$R69)))),COUNTIF($R66:$R69,\">=\"&$R66:$R69),0))","v":"Espagne"},{"$f":"SUMPRODUCT((Teams1=U15)*(Teams1_Score<>\"\"))+SUMPRODUCT((Teams2=U15)*(Teams2_Score<>\"\"))","v":3},{"$f":"SUMPRODUCT((Teams1=U15)*(Teams1_Score>Teams2_Score))+SUMPRODUCT((Teams2=U15)*(Teams2_Score>Teams1_Score))","v":2},{"$f":"SUMPRODUCT((Teams1=U15)*(Teams1_Score=Teams2_Score)*(Teams1_Score<>\"\"))+SUMPRODUCT((Teams2=U15)*(Teams2_Score=Teams1_Score)*(Teams2_Score<>\"\"))","v":1},{"$f":"SUMPRODUCT((Teams1=U15)*(Teams1_Score<Teams2_Score))+SUMPRODUCT((Teams2=U15)*(Teams2_Score<Teams1_Score))","v":0},{"$f":"SUMPRODUCT((Teams1=U15)*(Teams1_Score))+SUMPRODUCT((Teams2=U15)*(Teams2_Score))","v":8},{"$f":"SUMPRODUCT((Teams1=U15)*(Teams2_Score))+SUMPRODUCT((Teams2=U15)*(Teams1_Score))","v":2},{"$f":"Z15-AA15","v":6},{"$f":"3*W15+X15","v":7},null,null,null,"Demi finalistes trouvés (5 pts)",null,null,{"$f":"IF(CLASSEMENT!PHASES_FINALES=\"OUI\",$AK$35+$AQ$35,0)","v":0},"équipe(s) ",null,null,{"$f":"AJ15*5","v":0},null,"points"]
[null,{"$f":"VLOOKUP($D16,TABLEAU_MATCHS[#All],2,FALSE)","v":"2018-06-17"},{"$f":"VLOOKUP($D16,TABLEAU_MATCHS[#All],3,FALSE)","v":"14:00:00"},9,{"$f":"\"Groupe \"&VLOOKUP($I16,TABLEAU_TEAMS[[#All],[TEAM]:[GROUP_INITIAL_RANK]],2,FALSE)","v":"Groupe E"},2.35,2.9,2.95,{"$f":"VLOOKUP($D16,TABLEAU_MATCHS[#All],4,FALSE)","v":"Costa Rica"},1,null,{"$f":"VLOOKUP($D16,TABLEAU_MATCHS[#All],5,FALSE)","v":"Serbie"},2,{"$f":"IF(OR(ISBLANK(RESULTATS!J16),ISBLANK(J16)),\"\",IF(AND(Vincent!J16=RESULTATS!J16,Vincent!M16=RESULTATS!M16),3,IF(OR(AND(Vincent!J16>Vincent!M16,RESULTATS!J16>RESULTATS!M16),AND(Vincent!J16<Vincent!M16,RESULTATS!J16<RESULTATS!M16),AND(Vincent!J16=Vincent!M16,RESULTATS!J16=RESULTATS!M16)),1,0)))","v":""},null,null,null,"07670Portugal",7670,2,"Portugal",{"$f":"SUMPRODUCT((Teams1=U16)*(Teams1_Score<>\"\"))+SUMPRODUCT((Teams2=U16)*(Teams2_Score<>\"\"))","v":3},{"$f":"SUMPRODUCT((Teams1=U16)*(Teams1_Score>Teams2_Score))+SUMPRODUCT((Teams2=U16)*(Teams2_Score>Teams1_Score))","v":2},{"$f":"SUMPRODUCT((Teams1=U16)*(Teams1_Score=Teams2_Score)*(Teams1_Score<>\"\"))+SUMPRODUCT((Teams2=U16)*(Teams2_Score=Teams1_Score)*(Teams2_Score<>\"\"))","v":1},{"$f":"SUMPRODUCT((Teams1=U16)*(Teams1_Score<Teams2_Score))+SUMPRODUCT((Teams2=U16)*(Teams2_Score<Teams1_Score))","v":0},{"$f":"SUMPRODUCT((Teams1=U16)*(Teams1_Score))+SUMPRODUCT((Teams2=U16)*(Teams2_Score))","v":7},{"$f":"SUMPRODUCT((Teams1=U16)*(Teams2_Score))+SUMPRODUCT((Teams2=U16)*(Teams1_Score))","v":1},{"$f":"Z16-AA16","v":6},{"$f":"3*W16+X16","v":7},null,null,null,"Finalistes trouvés (6 pts)",null,null,{"$f":"IF(CLASSEMENT!PHASES_FINALES=\"OUI\",$AK$25+$AQ$25,0)","v":0},"équipe(s) ",null,null,{"$f":"AJ16*6","v":0},null,"points"]
[null,{"$f":"VLOOKUP($D17,TABLEAU_MATCHS[#All],2,FALSE)","v":"2018-06-17"},{"$f":"VLOOKUP($D17,TABLEAU_MATCHS[#All],3,FALSE)","v":"20:00:00"},10,{"$f":"\"Groupe \"&VLOOKUP($I17,TABLEAU_TEAMS[[#All],[TEAM]:[GROUP_INITIAL_RANK]],2,FALSE)","v":"Groupe E"},1.28,4.7,9.5,{"$f":"VLOOKUP($D17,TABLEAU_MATCHS[#All],4,FALSE)","v":"Brésil"},3,null,{"$f":"VLOOKUP($D17,TABLEAU_MATCHS[#All],5,FALSE)","v":"Suisse"},1,{"$f":"IF(OR(ISBLANK(RESULTATS!J17),ISBLANK(J17)),\"\",IF(AND(Vincent!J17=RESULTATS!J17,Vincent!M17=RESULTATS!M17),3,IF(OR(AND(Vincent!J17>Vincent!M17,RESULTATS!J17>RESULTATS!M17),AND(Vincent!J17<Vincent!M17,RESULTATS!J17<RESULTATS!M17),AND(Vincent!J17=Vincent!M17,RESULTATS!J17=RESULTATS!M17)),1,0)))","v":""},null,null,null,"02830Maroc",2830,3,"Maroc",{"$f":"SUMPRODUCT((Teams1=U17)*(Teams1_Score<>\"\"))+SUMPRODUCT((Teams2=U17)*(Teams2_Score<>\"\"))","v":3},{"$f":"SUMPRODUCT((Teams1=U17)*(Teams1_Score>Teams2_Score))+SUMPRODUCT((Teams2=U17)*(Teams2_Score>Teams1_Score))","v":1},{"$f":"SUMPRODUCT((Teams1=U17)*(Teams1_Score=Teams2_Score)*(Teams1_Score<>\"\"))+SUMPRODUCT((Teams2=U17)*(Teams2_Score=Teams1_Score)*(Teams2_Score<>\"\"))","v":0},{"$f":"SUMPRODUCT((Teams1=U17)*(Teams1_Score<Teams2_Score))+SUMPRODUCT((Teams2=U17)*(Teams2_Score<Teams1_Score))","v":2},{"$f":"SUMPRODUCT((Teams1=U17)*(Teams1_Score))+SUMPRODUCT((Teams2=U17)*(Teams2_Score))","v":3},{"$f":"SUMPRODUCT((Teams1=U17)*(Teams2_Score))+SUMPRODUCT((Teams2=U17)*(Teams1_Score))","v":5},{"$f":"Z17-AA17","v":-2},{"$f":"3*W17+X17","v":3},null,null,null,"Champion du monde trouvé (7 pts)",null,null,{"$f":"IF(CLASSEMENT!PHASES_FINALES=\"OUI\",IF(AJ25<>\"\",IF($AT$25=RESULTATS!AS10,1,0),0),0)","v":0},"équipe",null,null,{"$f":"AJ17*7","v":0},null,"points"]
[null,{"$f":"VLOOKUP($D18,TABLEAU_MATCHS[#All],2,FALSE)","v":"2018-06-17"},{"$f":"VLOOKUP($D18,TABLEAU_MATCHS[#All],3,FALSE)","v":"17:00:00"},11,{"$f":"\"Groupe \"&VLOOKUP($I18,TABLEAU_TEAMS[[#All],[TEAM]:[GROUP_INITIAL_RANK]],2,FALSE)","v":"Groupe F"},1.34,4.3,7.5,{"$f":"VLOOKUP($D18,TABLEAU_MATCHS[#All],4,FALSE)","v":"Allemagne"},3,null,{"$f":"VLOOKUP($D18,TABLEAU_MATCHS[#All],5,FALSE)","v":"Mexique"},1,{"$f":"IF(OR(ISBLANK(RESULTATS!J18),ISBLANK(J18)),\"\",IF(AND(Vincent!J18=RESULTATS!J18,Vincent!M18=RESULTATS!M18),3,IF(OR(AND(Vincent!J18>Vincent!M18,RESULTATS!J18>RESULTATS!M18),AND(Vincent!J18<Vincent!M18,RESULTATS!J18<RESULTATS!M18),AND(Vincent!J18=Vincent!M18,RESULTATS!J18=RESULTATS!M18)),1,0)))","v":""},null,null,null,"-01000RI Iran",-1000,4,"RI Iran",{"$f":"SUMPRODUCT((Teams1=U18)*(Teams1_Score<>\"\"))+SUMPRODUCT((Teams2=U18)*(Teams2_Score<>\"\"))","v":3},{"$f":"SUMPRODUCT((Teams1=U18)*(Teams1_Score>Teams2_Score))+SUMPRODUCT((Teams2=U18)*(Teams2_Score>Teams1_Score))","v":0},{"$f":"SUMPRODUCT((Teams1=U18)*(Teams1_Score=Teams2_Score)*(Teams1_Score<>\"\"))+SUMPRODUCT((Teams2=U18)*(Teams2_Score=Teams1_Score)*(Teams2_Score<>\"\"))","v":0},{"$f":"SUMPRODUCT((Teams1=U18)*(Teams1_Score<Teams2_Score))+SUMPRODUCT((Teams2=U18)*(Teams2_Score<Teams1_Score))","v":3},{"$f":"SUMPRODUCT((Teams1=U18)*(Teams1_Score))+SUMPRODUCT((Teams2=U18)*(Teams2_Score))","v":0},{"$f":"SUMPRODUCT((Teams1=U18)*(Teams2_Score))+SUMPRODUCT((Teams2=U18)*(Teams1_Score))","v":10},{"$f":"Z18-AA18","v":-10},{"$f":"3*W18+X18","v":0}]
[null,{"$f":"VLOOKUP($D19,TABLEAU_MATCHS[#All],2,FALSE)","v":"2018-06-18"},{"$f":"VLOOKUP($D19,TABLEAU_MATCHS[#All],3,FALSE)","v":"14:00:00"},12,{"$f":"\"Groupe \"&VLOOKUP($I19,TABLEAU_TEAMS[[#All],[TEAM]:[GROUP_INITIAL_RANK]],2,FALSE)","v":"Groupe F"},3.3,2.95,2.15,{"$f":"VLOOKUP($D19,TABLEAU_MATCHS[#All],4,FALSE)","v":"Suède"},0,null,{"$f":"VLOOKUP($D19,TABLEAU_MATCHS[#All],5,FALSE)","v":"République de Corée"},0,{"$f":"IF(OR(ISBLANK(RESULTATS!J19),ISBLANK(J19)),\"\",IF(AND(Vincent!J19=RESULTATS!J19,Vincent!M19=RESULTATS!M19),3,IF(OR(AND(Vincent!J19>Vincent!M19,RESULTATS!J19>RESULTATS!M19),AND(Vincent!J19<Vincent!M19,RESULTATS!J19<RESULTATS!M19),AND(Vincent!J19=Vincent!M19,RESULTATS!J19=RESULTATS!M19)),1,0)))","v":""}]
[null,{"$f":"VLOOKUP($D20,TABLEAU_MATCHS[#All],2,FALSE)","v":"2018-06-18"},{"$f":"VLOOKUP($D20,TABLEAU_MATCHS[#All],3,FALSE)","v":"17:00:00"},13,{"$f":"\"Groupe \"&VLOOKUP($I20,TABLEAU_TEAMS[[#All],[TEAM]:[GROUP_INITIAL_RANK]],2,FALSE)","v":"Groupe G"},1.95,2.95,4,{"$f":"VLOOKUP($D20,TABLEAU_MATCHS[#All],4,FALSE)","v":"Belgique"},3,null,{"$f":"VLOOKUP($D20,TABLEAU_MATCHS[#All],5,FALSE)","v":"Panama"},0,{"$f":"IF(OR(ISBLANK(RESULTATS!J20),ISBLANK(J20)),\"\",IF(AND(Vincent!J20=RESULTATS!J20,Vincent!M20=RESULTATS!M20),3,IF(OR(AND(Vincent!J20>Vincent!M20,RESULTATS!J20>RESULTATS!M20),AND(Vincent!J20<Vincent!M20,RESULTATS!J20<RESULTATS!M20),AND(Vincent!J20=Vincent!M20,RESULTATS!J20=RESULTATS!M20)),1,0)))","v":""},null,null,null,null,null,"Rg","Groupe C","MJ","G","N","P","BP","BC","+/-","Pts"]
[null,{"$f":"VLOOKUP($D21,TABLEAU_MATCHS[#All],2,FALSE)","v":"2018-06-18"},{"$f":"VLOOKUP($D21,TABLEAU_MATCHS[#All],3,FALSE)","v":"20:00:00"},14,{"$f":"\"Groupe \"&VLOOKUP($I21,TABLEAU_TEAMS[[#All],[TEAM]:[GROUP_INITIAL_RANK]],2,FALSE)","v":"Groupe G"},2.5499999999999998,2.9,2.7,{"$f":"VLOOKUP($D21,TABLEAU_MATCHS[#All],4,FALSE)","v":"Tunisie"},1,null,{"$f":"VLOOKUP($D21,TABLEAU_MATCHS[#All],5,FALSE)","v":"Angleterre"},2,{"$f":"IF(OR(ISBLANK(RESULTATS!J21),ISBLANK(J21)),\"\",IF(AND(Vincent!J21=RESULTATS!J21,Vincent!M21=RESULTATS!M21),3,IF(OR(AND(Vincent!J21>Vincent!M21,RESULTATS!J21>RESULTATS!M21),AND(Vincent!J21<Vincent!M21,RESULTATS!J21<RESULTATS!M21),AND(Vincent!J21=Vincent!M21,RESULTATS!J21=RESULTATS!M21)),1,0)))","v":""},null,null,null,{"$f":"INDEX($R72:$R75,MATCH(SMALL(COUNTIF($R72:$R75,\">=\"&$R72:$R75),ROW(INDIRECT(\"1:\"&ROWS($R72:$R75)))),COUNTIF($R72:$R75,\">=\"&$R72:$R75),0))","v":"09670France"},{"$f":"INDEX($S72:$S75,MATCH(SMALL(COUNTIF($R72:$R75,\">=\"&$R72:$R75),ROW(INDIRECT(\"1:\"&ROWS($R72:$R75)))),COUNTIF($R72:$R75,\">=\"&$R72:$R75),0))","v":9670},{"$f":"INDEX($T72:$T75,MATCH(SMALL(COUNTIF($R72:$R75,\">=\"&$R72:$R75),ROW(INDIRECT(\"1:\"&ROWS($R72:$R75)))),COUNTIF($R72:$R75,\">=\"&$R72:$R75),0))","v":1},{"$f":"INDEX($U72:$U75,MATCH(SMALL(COUNTIF($R72:$R75,\">=\"&$R72:$R75),ROW(INDIRECT(\"1:\"&ROWS($R72:$R75)))),COUNTIF($R72:$R75,\">=\"&$R72:$R75),0))","v":"France"},{"$f":"SUMPRODUCT((Teams1=U21)*(Teams1_Score<>\"\"))+SUMPRODUCT((Teams2=U21)*(Teams2_Score<>\"\"))","v":3},{"$f":"SUMPRODUCT((Teams1=U21)*(Teams1_Score>Teams2_Score))+SUMPRODUCT((Teams2=U21)*(Teams2_Score>Teams1_Score))","v":3},{"$f":"SUMPRODUCT((Teams1=U21)*(Teams1_Score=Teams2_Score)*(Teams1_Score<>\"\"))+SUMPRODUCT((Teams2=U21)*(Teams2_Score=Teams1_Score)*(Teams2_Score<>\"\"))","v":0},{"$f":"SUMPRODUCT((Teams1=U21)*(Teams1_Score<Teams2_Score))+SUMPRODUCT((Teams2=U21)*(Teams2_Score<Teams1_Score))","v":0},{"$f":"SUMPRODUCT((Teams1=U21)*(Teams1_Score))+SUMPRODUCT((Teams2=U21)*(Teams2_Score))","v":7},{"$f":"SUMPRODUCT((Teams1=U21)*(Teams2_Score))+SUMPRODUCT((Teams2=U21)*(Teams1_Score))","v":1},{"$f":"Z21-AA21","v":6},{"$f":"3*W21+X21","v":9},null,null,null,"PHASES FINALES"]
[null,{"$f":"VLOOKUP($D22,TABLEAU_MATCHS[#All],2,FALSE)","v":"2018-06-19"},{"$f":"VLOOKUP($D22,TABLEAU_MATCHS[#All],3,FALSE)","v":"17:00:00"},15,{"$f":"\"Groupe \"&VLOOKUP($I22,TABLEAU_TEAMS[[#All],[TEAM]:[GROUP_INITIAL_RANK]],2,FALSE)","v":"Groupe H"},1.38,3.9,8,{"$f":"VLOOKUP($D22,TABLEAU_MATCHS[#All],4,FALSE)","v":"Colombie"},2,null,{"$f":"VLOOKUP($D22,TABLEAU_MATCHS[#All],5,FALSE)","v":"Japon"},1,{"$f":"IF(OR(ISBLANK(RESULTATS!J22),ISBLANK(J22)),\"\",IF(AND(Vincent!J22=RESULTATS!J22,Vincent!M22=RESULTATS!M22),3,IF(OR(AND(Vincent!J22>Vincent!M22,RESULTATS!J22>RESULTATS!M22),AND(Vincent!J22<Vincent!M22,RESULTATS!J22<RESULTATS!M22),AND(Vincent!J22=Vincent!M22,RESULTATS!J22=RESULTATS!M22)),1,0)))","v":""},null,null,null,"06150Danemark",6150,2,"Danemark",{"$f":"SUMPRODUCT((Teams1=U22)*(Teams1_Score<>\"\"))+SUMPRODUCT((Teams2=U22)*(Teams2_Score<>\"\"))","v":3},{"$f":"SUMPRODUCT((Teams1=U22)*(Teams1_Score>Teams2_Score))+SUMPRODUCT((Teams2=U22)*(Teams2_Score>Teams1_Score))","v":2},{"$f":"SUMPRODUCT((Teams1=U22)*(Teams1_Score=Teams2_Score)*(Teams1_Score<>\"\"))+SUMPRODUCT((Teams2=U22)*(Teams2_Score=Teams1_Score)*(Teams2_Score<>\"\"))","v":0},{"$f":"SUMPRODUCT((Teams1=U22)*(Teams1_Score<Teams2_Score))+SUMPRODUCT((Teams2=U22)*(Teams2_Score<Teams1_Score))","v":1},{"$f":"SUMPRODUCT((Teams1=U22)*(Teams1_Score))+SUMPRODUCT((Teams2=U22)*(Teams2_Score))","v":5},{"$f":"SUMPRODUCT((Teams1=U22)*(Teams2_Score))+SUMPRODUCT((Teams2=U22)*(Teams1_Score))","v":4},{"$f":"Z22-AA22","v":1},{"$f":"3*W22+X22","v":6}]
[null,{"$f":"VLOOKUP($D23,TABLEAU_MATCHS[#All],2,FALSE)","v":"2018-06-19"},{"$f":"VLOOKUP($D23,TABLEAU_MATCHS[#All],3,FALSE)","v":"14:00:00"},16,{"$f":"\"Groupe \"&VLOOKUP($I23,TABLEAU_TEAMS[[#All],[TEAM]:[GROUP_INITIAL_RANK]],2,FALSE)","v":"Groupe H"},2.0499999999999998,2.9,3.5,{"$f":"VLOOKUP($D23,TABLEAU_MATCHS[#All],4,FALSE)","v":"Pologne"},1,null,{"$f":"VLOOKUP($D23,TABLEAU_MATCHS[#All],5,FALSE)","v":"Sénégal"},1,{"$f":"IF(OR(ISBLANK(RESULTATS!J23),ISBLANK(J23)),\"\",IF(AND(Vincent!J23=RESULTATS!J23,Vincent!M23=RESULTATS!M23),3,IF(OR(AND(Vincent!J23>Vincent!M23,RESULTATS!J23>RESULTATS!M23),AND(Vincent!J23<Vincent!M23,RESULTATS!J23<RESULTATS!M23),AND(Vincent!J23=Vincent!M23,RESULTATS!J23=RESULTATS!M23)),1,0)))","v":""},null,null,null,"02830Pérou",2830,3,"Pérou",{"$f":"SUMPRODUCT((Teams1=U23)*(Teams1_Score<>\"\"))+SUMPRODUCT((Teams2=U23)*(Teams2_Score<>\"\"))","v":3},{"$f":"SUMPRODUCT((Teams1=U23)*(Teams1_Score>Teams2_Score))+SUMPRODUCT((Teams2=U23)*(Teams2_Score>Teams1_Score))","v":1},{"$f":"SUMPRODUCT((Teams1=U23)*(Teams1_Score=Teams2_Score)*(Teams1_Score<>\"\"))+SUMPRODUCT((Teams2=U23)*(Teams2_Score=Teams1_Score)*(Teams2_Score<>\"\"))","v":0},{"$f":"SUMPRODUCT((Teams1=U23)*(Teams1_Score<Teams2_Score))+SUMPRODUCT((Teams2=U23)*(Teams2_Score<Teams1_Score))","v":2},{"$f":"SUMPRODUCT((Teams1=U23)*(Teams1_Score))+SUMPRODUCT((Teams2=U23)*(Teams2_Score))","v":3},{"$f":"SUMPRODUCT((Teams1=U23)*(Teams2_Score))+SUMPRODUCT((Teams2=U23)*(Teams1_Score))","v":5},{"$f":"Z23-AA23","v":-2},{"$f":"3*W23+X23","v":3},null,null,"Date","Finale",null,null,"Buts",null,"Pen",null,null,null,"Buts",null,"Pen"]
[null,{"$f":"VLOOKUP($D24,TABLEAU_MATCHS[#All],2,FALSE)","v":"2018-06-19"},{"$f":"VLOOKUP($D24,TABLEAU_MATCHS[#All],3,FALSE)","v":"20:00:00"},17,{"$f":"\"Groupe \"&VLOOKUP($I24,TABLEAU_TEAMS[[#All],[TEAM]:[GROUP_INITIAL_RANK]],2,FALSE)","v":"Groupe A"},1.26,4.8,9,{"$f":"VLOOKUP($D24,TABLEAU_MATCHS[#All],4,FALSE)","v":"Russie"},1,null,{"$f":"VLOOKUP($D24,TABLEAU_MATCHS[#All],5,FALSE)","v":"Egypte"},0,{"$f":"IF(OR(ISBLANK(RESULTATS!J24),ISBLANK(J24)),\"\",IF(AND(Vincent!J24=RESULTATS!J24,Vincent!M24=RESULTATS!M24),3,IF(OR(AND(Vincent!J24>Vincent!M24,RESULTATS!J24>RESULTATS!M24),AND(Vincent!J24<Vincent!M24,RESULTATS!J24<RESULTATS!M24),AND(Vincent!J24=Vincent!M24,RESULTATS!J24=RESULTATS!M24)),1,0)))","v":""},null,null,null,"-00490Australie",-490,4,"Australie",{"$f":"SUMPRODUCT((Teams1=U24)*(Teams1_Score<>\"\"))+SUMPRODUCT((Teams2=U24)*(Teams2_Score<>\"\"))","v":3},{"$f":"SUMPRODUCT((Teams1=U24)*(Teams1_Score>Teams2_Score))+SUMPRODUCT((Teams2=U24)*(Teams2_Score>Teams1_Score))","v":0},{"$f":"SUMPRODUCT((Teams1=U24)*(Teams1_Score=Teams2_Score)*(Teams1_Score<>\"\"))+SUMPRODUCT((Teams2=U24)*(Teams2_Score=Teams1_Score)*(Teams2_Score<>\"\"))","v":0},{"$f":"SUMPRODUCT((Teams1=U24)*(Teams1_Score<Teams2_Score))+SUMPRODUCT((Teams2=U24)*(Teams2_Score<Teams1_Score))","v":3},{"$f":"SUMPRODUCT((Teams1=U24)*(Teams1_Score))+SUMPRODUCT((Teams2=U24)*(Teams2_Score))","v":1},{"$f":"SUMPRODUCT((Teams1=U24)*(Teams2_Score))+SUMPRODUCT((Teams2=U24)*(Teams1_Score))","v":6},{"$f":"Z24-AA24","v":-5},{"$f":"3*W24+X24","v":0}]
[null,{"$f":"VLOOKUP($D25,TABLEAU_MATCHS[#All],2,FALSE)","v":"2018-06-20"},{"$f":"VLOOKUP($D25,TABLEAU_MATCHS[#All],3,FALSE)","v":"17:00:00"},18,{"$f":"\"Groupe \"&VLOOKUP($I25,TABLEAU_TEAMS[[#All],[TEAM]:[GROUP_INITIAL_RANK]],2,FALSE)","v":"Groupe A"},3.5,3,2,{"$f":"VLOOKUP($D25,TABLEAU_MATCHS[#All],4,FALSE)","v":"Uruguay"},4,null,{"$f":"VLOOKUP($D25,TABLEAU_MATCHS[#All],5,FALSE)","v":"Arabie Saoudite"},0,{"$f":"IF(OR(ISBLANK(RESULTATS!J25),ISBLANK(J25)),\"\",IF(AND(Vincent!J25=RESULTATS!J25,Vincent!M25=RESULTATS!M25),3,IF(OR(AND(Vincent!J25>Vincent!M25,RESULTATS!J25>RESULTATS!M25),AND(Vincent!J25<Vincent!M25,RESULTATS!J25<RESULTATS!M25),AND(Vincent!J25=Vincent!M25,RESULTATS!J25=RESULTATS!M25)),1,0)))","v":""},null,null,null,null,null,null,null,null,null,null,null,null,null,null,null,null,null,"2018-07-15",null,{"$f":"+IF(AJ33<>\"\",IF(AI33>AO33,AH33,AN33),\"Vainqueur 1\")","v":"Vainqueur 1"},{"$f":"AJ25*10+AL25","v":0},null,{"$f":"IF(LEFT(AH25,5)<>\"Vainq\",COUNTIF(RESULTATS!$AG$10:$AM$10,AH25),0)","v":0},null,null,{"$f":"+IF(AJ34<>\"\",IF(AI34>AO34,AH34,AN34),\"Vainqueur 2\")","v":"Vainqueur 2"},{"$f":"AP25*10+AR25","v":0},null,{"$f":"IF(LEFT(AN25,5)<>\"Vainq\",COUNTIF(RESULTATS!$AG$10:$AM$10,AN25),0)","v":0},null,null,{"$f":"IF(AJ25<>\"\",IF(AI25>AO25,AH25,AN25),\"\")","v":""}]
[null,{"$f":"VLOOKUP($D26,TABLEAU_MATCHS[#All],2,FALSE)","v":"2018-06-20"},{"$f":"VLOOKUP($D26,TABLEAU_MATCHS[#All],3,FALSE)","v":"14:00:00"},19,{"$f":"\"Groupe \"&VLOOKUP($I26,TABLEAU_TEAMS[[#All],[TEAM]:[GROUP_INITIAL_RANK]],2,FALSE)","v":"Groupe B"},1.66,3.35,4.8,{"$f":"VLOOKUP($D26,TABLEAU_MATCHS[#All],4,FALSE)","v":"Portugal"},2,null,{"$f":"VLOOKUP($D26,TABLEAU_MATCHS[#All],5,FALSE)","v":"Maroc"},0,{"$f":"IF(OR(ISBLANK(RESULTATS!J26),ISBLANK(J26)),\"\",IF(AND(Vincent!J26=RESULTATS!J26,Vincent!M26=RESULTATS!M26),3,IF(OR(AND(Vincent!J26>Vincent!M26,RESULTATS!J26>RESULTATS!M26),AND(Vincent!J26<Vincent!M26,RESULTATS!J26<RESULTATS!M26),AND(Vincent!J26=Vincent!M26,RESULTATS!J26=RESULTATS!M26)),1,0)))","v":""},null,null,null,null,null,"Rg","Groupe D","MJ","G","N","P","BP","BC","+/-","Pts"]
[null,{"$f":"VLOOKUP($D27,TABLEAU_MATCHS[#All],2,FALSE)","v":"2018-06-20"},{"$f":"VLOOKUP($D27,TABLEAU_MATCHS[#All],3,FALSE)","v":"20:00:00"},20,{"$f":"\"Groupe \"&VLOOKUP($I27,TABLEAU_TEAMS[[#All],[TEAM]:[GROUP_INITIAL_RANK]],2,FALSE)","v":"Groupe B"},8.5,4.7,1.28,{"$f":"VLOOKUP($D27,TABLEAU_MATCHS[#All],4,FALSE)","v":"RI Iran"},0,null,{"$f":"VLOOKUP($D27,TABLEAU_MATCHS[#All],5,FALSE)","v":"Espagne"},4,{"$f":"IF(OR(ISBLANK(RESULTATS!J27),ISBLANK(J27)),\"\",IF(AND(Vincent!J27=RESULTATS!J27,Vincent!M27=RESULTATS!M27),3,IF(OR(AND(Vincent!J27>Vincent!M27,RESULTATS!J27>RESULTATS!M27),AND(Vincent!J27<Vincent!M27,RESULTATS!J27<RESULTATS!M27),AND(Vincent!J27=Vincent!M27,RESULTATS!J27=RESULTATS!M27)),1,0)))","v":""},null,null,null,{"$f":"INDEX($R78:$R81,MATCH(SMALL(COUNTIF($R78:$R81,\">=\"&$R78:$R81),ROW(INDIRECT(\"1:\"&ROWS($R78:$R81)))),COUNTIF($R78:$R81,\">=\"&$R78:$R81),0))","v":"09580Nigeria"},{"$f":"INDEX($S78:$S81,MATCH(SMALL(COUNTIF($R78:$R81,\">=\"&$R78:$R81),ROW(INDIRECT(\"1:\"&ROWS($R78:$R81)))),COUNTIF($R78:$R81,\">=\"&$R78:$R81),0))","v":9580},{"$f":"INDEX($T78:$T81,MATCH(SMALL(COUNTIF($R78:$R81,\">=\"&$R78:$R81),ROW(INDIRECT(\"1:\"&ROWS($R78:$R81)))),COUNTIF($R78:$R81,\">=\"&$R78:$R81),0))","v":1},{"$f":"INDEX($U78:$U81,MATCH(SMALL(COUNTIF($R78:$R81,\">=\"&$R78:$R81),ROW(INDIRECT(\"1:\"&ROWS($R78:$R81)))),COUNTIF($R78:$R81,\">=\"&$R78:$R81),0))","v":"Nigeria"},{"$f":"SUMPRODUCT((Teams1=U27)*(Teams1_Score<>\"\"))+SUMPRODUCT((Teams2=U27)*(Teams2_Score<>\"\"))","v":3},{"$f":"SUMPRODUCT((Teams1=U27)*(Teams1_Score>Teams2_Score))+SUMPRODUCT((Teams2=U27)*(Teams2_Score>Teams1_Score))","v":3},{"$f":"SUMPRODUCT((Teams1=U27)*(Teams1_Score=Teams2_Score)*(Teams1_Score<>\"\"))+SUMPRODUCT((Teams2=U27)*(Teams2_Score=Teams1_Score)*(Teams2_Score<>\"\"))","v":0},{"$f":"SUMPRODUCT((Teams1=U27)*(Teams1_Score<Teams2_Score))+SUMPRODUCT((Teams2=U27)*(Teams2_Score<Teams1_Score))","v":0},{"$f":"SUMPRODUCT((Teams1=U27)*(Teams1_Score))+SUMPRODUCT((Teams2=U27)*(Teams2_Score))","v":8},{"$f":"SUMPRODUCT((Teams1=U27)*(Teams2_Score))+SUMPRODUCT((Teams2=U27)*(Teams1_Score))","v":3},{"$f":"Z27-AA27","v":5},{"$f":"3*W27+X27","v":9},null,null,"Date","Petite Finale",null,null,"Buts",null,"Pen",null,null,null,"Buts",null,"Pen"]
[null,{"$f":"VLOOKUP($D28,TABLEAU_MATCHS[#All],2,FALSE)","v":"2018-06-21"},{"$f":"VLOOKUP($D28,TABLEAU_MATCHS[#All],3,FALSE)","v":"14:00:00"},21,{"$f":"\"Groupe \"&VLOOKUP($I28,TABLEAU_TEAMS[[#All],[TEAM]:[GROUP_INITIAL_RANK]],2,FALSE)","v":"Groupe C"},1.85,3,4,{"$f":"VLOOKUP($D28,TABLEAU_MATCHS[#All],4,FALSE)","v":"Danemark"},2,null,{"$f":"VLOOKUP($D28,TABLEAU_MATCHS[#All],5,FALSE)","v":"Australie"},0,{"$f":"IF(OR(ISBLANK(RESULTATS!J28),ISBLANK(J28)),\"\",IF(AND(Vincent!J28=RESULTATS!J28,Vincent!M28=RESULTATS!M28),3,IF(OR(AND(Vincent!J28>Vincent!M28,RESULTATS!J28>RESULTATS!M28),AND(Vincent!J28<Vincent!M28,RESULTATS!J28<RESULTATS!M28),AND(Vincent!J28=Vincent!M28,RESULTATS!J28=RESULTATS!M28)),1,0)))","v":""},null,null,null,"06150Argentine",6150,2,"Argentine",{"$f":"SUMPRODUCT((Teams1=U28)*(Teams1_Score<>\"\"))+SUMPRODUCT((Teams2=U28)*(Teams2_Score<>\"\"))","v":3},{"$f":"SUMPRODUCT((Teams1=U28)*(Teams1_Score>Teams2_Score))+SUMPRODUCT((Teams2=U28)*(Teams2_Score>Teams1_Score))","v":2},{"$f":"SUMPRODUCT((Teams1=U28)*(Teams1_Score=Teams2_Score)*(Teams1_Score<>\"\"))+SUMPRODUCT((Teams2=U28)*(Teams2_Score=Teams1_Score)*(Teams2_Score<>\"\"))","v":0},{"$f":"SUMPRODUCT((Teams1=U28)*(Teams1_Score<Teams2_Score))+SUMPRODUCT((Teams2=U28)*(Teams2_Score<Teams1_Score))","v":1},{"$f":"SUMPRODUCT((Teams1=U28)*(Teams1_Score))+SUMPRODUCT((Teams2=U28)*(Teams2_Score))","v":5},{"$f":"SUMPRODUCT((Teams1=U28)*(Teams2_Score))+SUMPRODUCT((Teams2=U28)*(Teams1_Score))","v":4},{"$f":"Z28-AA28","v":1},{"$f":"3*W28+X28","v":6}]
[null,{"$f":"VLOOKUP($D29,TABLEAU_MATCHS[#All],2,FALSE)","v":"2018-06-21"},{"$f":"VLOOKUP($D29,TABLEAU_MATCHS[#All],3,FALSE)","v":"17:00:00"},22,{"$f":"\"Groupe \"&VLOOKUP($I29,TABLEAU_TEAMS[[#All],[TEAM]:[GROUP_INITIAL_RANK]],2,FALSE)","v":"Groupe C"},2.2999999999999998,3,2.9,{"$f":"VLOOKUP($D29,TABLEAU_MATCHS[#All],4,FALSE)","v":"France"},2,null,{"$f":"VLOOKUP($D29,TABLEAU_MATCHS[#All],5,FALSE)","v":"Pérou"},0,{"$f":"IF(OR(ISBLANK(RESULTATS!J29),ISBLANK(J29)),\"\",IF(AND(Vincent!J29=RESULTATS!J29,Vincent!M29=RESULTATS!M29),3,IF(OR(AND(Vincent!J29>Vincent!M29,RESULTATS!J29>RESULTATS!M29),AND(Vincent!J29<Vincent!M29,RESULTATS!J29<RESULTATS!M29),AND(Vincent!J29=Vincent!M29,RESULTATS!J29=RESULTATS!M29)),1,0)))","v":""},null,null,null,"00850Croatie",850,3,"Croatie",{"$f":"SUMPRODUCT((Teams1=U29)*(Teams1_Score<>\"\"))+SUMPRODUCT((Teams2=U29)*(Teams2_Score<>\"\"))","v":3},{"$f":"SUMPRODUCT((Teams1=U29)*(Teams1_Score>Teams2_Score))+SUMPRODUCT((Teams2=U29)*(Teams2_Score>Teams1_Score))","v":0},{"$f":"SUMPRODUCT((Teams1=U29)*(Teams1_Score=Teams2_Score)*(Teams1_Score<>\"\"))+SUMPRODUCT((Teams2=U29)*(Teams2_Score=Teams1_Score)*(Teams2_Score<>\"\"))","v":1},{"$f":"SUMPRODUCT((Teams1=U29)*(Teams1_Score<Teams2_Score))+SUMPRODUCT((Teams2=U29)*(Teams2_Score<Teams1_Score))","v":2},{"$f":"SUMPRODUCT((Teams1=U29)*(Teams1_Score))+SUMPRODUCT((Teams2=U29)*(Teams2_Score))","v":5},{"$f":"SUMPRODUCT((Teams1=U29)*(Teams2_Score))+SUMPRODUCT((Teams2=U29)*(Teams1_Score))","v":7},{"$f":"Z29-AA29","v":-2},{"$f":"3*W29+X29","v":1},null,null,"2018-07-14",null,{"$f":"+IF(AJ33<>\"\",IF(AI33>AO33,AN33,AH33),\"Perdant 1\")","v":"Perdant 1"},{"$f":"AJ29*10+AL29","v":0},null,null,null,null,{"$f":"+IF(AJ34<>\"\",IF(AI34>AO34,AN34,AH34),\"Perdant 2\")","v":"Perdant 2"},{"$f":"AP29*10+AR29","v":0}]
[null,{"$f":"VLOOKUP($D30,TABLEAU_MATCHS[#All],2,FALSE)","v":"2018-06-21"},{"$f":"VLOOKUP($D30,TABLEAU_MATCHS[#All],3,FALSE)","v":"20:00:00"},23,{"$f":"\"Groupe \"&VLOOKUP($I30,TABLEAU_TEAMS[[#All],[TEAM]:[GROUP_INITIAL_RANK]],2,FALSE)","v":"Groupe D"},2.4,3,2.8,{"$f":"VLOOKUP($D30,TABLEAU_MATCHS[#All],4,FALSE)","v":"Argentine"},2,null,{"$f":"VLOOKUP($D30,TABLEAU_MATCHS[#All],5,FALSE)","v":"Croatie"},1,{"$f":"IF(OR(ISBLANK(RESULTATS!J30),ISBLANK(J30)),\"\",IF(AND(Vincent!J30=RESULTATS!J30,Vincent!M30=RESULTATS!M30),3,IF(OR(AND(Vincent!J30>Vincent!M30,RESULTATS!J30>RESULTATS!M30),AND(Vincent!J30<Vincent!M30,RESULTATS!J30<RESULTATS!M30),AND(Vincent!J30=Vincent!M30,RESULTATS!J30=RESULTATS!M30)),1,0)))","v":""},null,null,null,"00620Islande",620,4,"Islande",{"$f":"SUMPRODUCT((Teams1=U30)*(Teams1_Score<>\"\"))+SUMPRODUCT((Teams2=U30)*(Teams2_Score<>\"\"))","v":3},{"$f":"SUMPRODUCT((Teams1=U30)*(Teams1_Score>Teams2_Score))+SUMPRODUCT((Teams2=U30)*(Teams2_Score>Teams1_Score))","v":0},{"$f":"SUMPRODUCT((Teams1=U30)*(Teams1_Score=Teams2_Score)*(Teams1_Score<>\"\"))+SUMPRODUCT((Teams2=U30)*(Teams2_Score=Teams1_Score)*(Teams2_Score<>\"\"))","v":1},{"$f":"SUMPRODUCT((Teams1=U30)*(Teams1_Score<Teams2_Score))+SUMPRODUCT((Teams2=U30)*(Teams2_Score<Teams1_Score))","v":2},{"$f":"SUMPRODUCT((Teams1=U30)*(Teams1_Score))+SUMPRODUCT((Teams2=U30)*(Teams2_Score))","v":2},{"$f":"SUMPRODUCT((Teams1=U30)*(Teams2_Score))+SUMPRODUCT((Teams2=U30)*(Teams1_Score))","v":6},{"$f":"Z30-AA30","v":-4},{"$f":"3*W30+X30","v":1}]
[null,{"$f":"VLOOKUP($D31,TABLEAU_MATCHS[#All],2,FALSE)","v":"2018-06-22"},{"$f":"VLOOKUP($D31,TABLEAU_MATCHS[#All],3,FALSE)","v":"17:00:00"},24,{"$f":"\"Groupe \"&VLOOKUP($I31,TABLEAU_TEAMS[[#All],[TEAM]:[GROUP_INITIAL_RANK]],2,FALSE)","v":"Groupe D"},1.26,4.5999999999999996,9.5,{"$f":"VLOOKUP($D31,TABLEAU_MATCHS[#All],4,FALSE)","v":"Nigeria"},2,null,{"$f":"VLOOKUP($D31,TABLEAU_MATCHS[#All],5,FALSE)","v":"Islande"},0,{"$f":"IF(OR(ISBLANK(RESULTATS!J31),ISBLANK(J31)),\"\",IF(AND(Vincent!J31=RESULTATS!J31,Vincent!M31=RESULTATS!M31),3,IF(OR(AND(Vincent!J31>Vincent!M31,RESULTATS!J31>RESULTATS!M31),AND(Vincent!J31<Vincent!M31,RESULTATS!J31<RESULTATS!M31),AND(Vincent!J31=Vincent!M31,RESULTATS!J31=RESULTATS!M31)),1,0)))","v":""},null,null,null,null,null,null,null,null,null,null,null,null,null,null,null,null,null,"Date","Demi Finale",null,null,"Buts",null,"Pen",null,null,null,"Buts",null,"Pen"]
[null,{"$f":"VLOOKUP($D32,TABLEAU_MATCHS[#All],2,FALSE)","v":"2018-06-22"},{"$f":"VLOOKUP($D32,TABLEAU_MATCHS[#All],3,FALSE)","v":"14:00:00"},25,{"$f":"\"Groupe \"&VLOOKUP($I32,TABLEAU_TEAMS[[#All],[TEAM]:[GROUP_INITIAL_RANK]],2,FALSE)","v":"Groupe E"},3.5,2.95,2.1,{"$f":"VLOOKUP($D32,TABLEAU_MATCHS[#All],4,FALSE)","v":"Brésil"},2,null,{"$f":"VLOOKUP($D32,TABLEAU_MATCHS[#All],5,FALSE)","v":"Costa Rica"},1,{"$f":"IF(OR(ISBLANK(RESULTATS!J32),ISBLANK(J32)),\"\",IF(AND(Vincent!J32=RESULTATS!J32,Vincent!M32=RESULTATS!M32),3,IF(OR(AND(Vincent!J32>Vincent!M32,RESULTATS!J32>RESULTATS!M32),AND(Vincent!J32<Vincent!M32,RESULTATS!J32<RESULTATS!M32),AND(Vincent!J32=Vincent!M32,RESULTATS!J32=RESULTATS!M32)),1,0)))","v":""},null,null,null,null,null,"Rg","Groupe E","MJ","G","N","P","BP","BC","+/-","Pts"]
[null,{"$f":"VLOOKUP($D33,TABLEAU_MATCHS[#All],2,FALSE)","v":"2018-06-22"},{"$f":"VLOOKUP($D33,TABLEAU_MATCHS[#All],3,FALSE)","v":"20:00:00"},26,{"$f":"\"Groupe \"&VLOOKUP($I33,TABLEAU_TEAMS[[#All],[TEAM]:[GROUP_INITIAL_RANK]],2,FALSE)","v":"Groupe E"},4.8,3.25,1.62,{"$f":"VLOOKUP($D33,TABLEAU_MATCHS[#All],4,FALSE)","v":"Serbie"},1,null,{"$f":"VLOOKUP($D33,TABLEAU_MATCHS[#All],5,FALSE)","v":"Suisse"},1,{"$f":"IF(OR(ISBLANK(RESULTATS!J33),ISBLANK(J33)),\"\",IF(AND(Vincent!J33=RESULTATS!J33,Vincent!M33=RESULTATS!M33),3,IF(OR(AND(Vincent!J33>Vincent!M33,RESULTATS!J33>RESULTATS!M33),AND(Vincent!J33<Vincent!M33,RESULTATS!J33<RESULTATS!M33),AND(Vincent!J33=Vincent!M33,RESULTATS!J33=RESULTATS!M33)),1,0)))","v":""},null,null,null,{"$f":"INDEX($R84:$R87,MATCH(SMALL(COUNTIF($R84:$R87,\">=\"&$R84:$R87),ROW(INDIRECT(\"1:\"&ROWS($R84:$R87)))),COUNTIF($R84:$R87,\">=\"&$R84:$R87),0))","v":"09570Brésil"},{"$f":"INDEX($S84:$S87,MATCH(SMALL(COUNTIF($R84:$R87,\">=\"&$R84:$R87),ROW(INDIRECT(\"1:\"&ROWS($R84:$R87)))),COUNTIF($R84:$R87,\">=\"&$R84:$R87),0))","v":9570},{"$f":"INDEX($T84:$T87,MATCH(SMALL(COUNTIF($R84:$R87,\">=\"&$R84:$R87),ROW(INDIRECT(\"1:\"&ROWS($R84:$R87)))),COUNTIF($R84:$R87,\">=\"&$R84:$R87),0))","v":1},{"$f":"INDEX($U84:$U87,MATCH(SMALL(COUNTIF($R84:$R87,\">=\"&$R84:$R87),ROW(INDIRECT(\"1:\"&ROWS($R84:$R87)))),COUNTIF($R84:$R87,\">=\"&$R84:$R87),0))","v":"Brésil"},{"$f":"SUMPRODUCT((Teams1=U33)*(Teams1_Score<>\"\"))+SUMPRODUCT((Teams2=U33)*(Teams2_Score<>\"\"))","v":3},{"$f":"SUMPRODUCT((Teams1=U33)*(Teams1_Score>Teams2_Score))+SUMPRODUCT((Teams2=U33)*(Teams2_Score>Teams1_Score))","v":3},{"$f":"SUMPRODUCT((Teams1=U33)*(Teams1_Score=Teams2_Score)*(Teams1_Score<>\"\"))+SUMPRODUCT((Teams2=U33)*(Teams2_Score=Teams1_Score)*(Teams2_Score<>\"\"))","v":0},{"$f":"SUMPRODUCT((Teams1=U33)*(Teams1_Score<Teams2_Score))+SUMPRODUCT((Teams2=U33)*(Teams2_Score<Teams1_Score))","v":0},{"$f":"SUMPRODUCT((Teams1=U33)*(Teams1_Score))+SUMPRODUCT((Teams2=U33)*(Teams2_Score))","v":7},{"$f":"SUMPRODUCT((Teams1=U33)*(Teams2_Score))+SUMPRODUCT((Teams2=U33)*(Teams1_Score))","v":2},{"$f":"Z33-AA33","v":5},{"$f":"3*W33+X33","v":9},null,null,"2018-07-10",1,{"$f":"+IF(AJ38<>\"\",IF(AI38>AO38,AH38,AN38),\"Vainqueur A\")","v":"Vainqueur A"},{"$f":"AJ33*10+AL33","v":0},null,{"$f":"IF(LEFT(AH33,5)<>\"Vainq\",COUNTIF(RESULTATS!$AG$18:$AM$19,AH33),0)","v":0},null,null,{"$f":"+IF(AJ40<>\"\",IF(AI40>AO40,AH40,AN40),\"Vainqueur C\")","v":"Vainqueur C"},{"$f":"AP33*10+AR33","v":0},null,{"$f":"IF(LEFT(AN33,5)<>\"Vainq\",COUNTIF(RESULTATS!$AG$18:$AM$19,AN33),0)","v":0}]
[null,{"$f":"VLOOKUP($D34,TABLEAU_MATCHS[#All],2,FALSE)","v":"2018-06-23"},{"$f":"VLOOKUP($D34,TABLEAU_MATCHS[#All],3,FALSE)","v":"20:00:00"},27,{"$f":"\"Groupe \"&VLOOKUP($I34,TABLEAU_TEAMS[[#All],[TEAM]:[GROUP_INITIAL_RANK]],2,FALSE)","v":"Groupe F"},1.1200000000000001,6.5,15,{"$f":"VLOOKUP($D34,TABLEAU_MATCHS[#All],4,FALSE)","v":"République de Corée"},1,null,{"$f":"VLOOKUP($D34,TABLEAU_MATCHS[#All],5,FALSE)","v":"Mexique"},2,{"$f":"IF(OR(ISBLANK(RESULTATS!J34),ISBLANK(J34)),\"\",IF(AND(Vincent!J34=RESULTATS!J34,Vincent!M34=RESULTATS!M34),3,IF(OR(AND(Vincent!J34>Vincent!M34,RESULTATS!J34>RESULTATS!M34),AND(Vincent!J34<Vincent!M34,RESULTATS!J34<RESULTATS!M34),AND(Vincent!J34=Vincent!M34,RESULTATS!J34=RESULTATS!M34)),1,0)))","v":""},null,null,null,"03930Serbie",3930,2,"Serbie",{"$f":"SUMPRODUCT((Teams1=U34)*(Teams1_Score<>\"\"))+SUMPRODUCT((Teams2=U34)*(Teams2_Score<>\"\"))","v":3},{"$f":"SUMPRODUCT((Teams1=U34)*(Teams1_Score>Teams2_Score))+SUMPRODUCT((Teams2=U34)*(Teams2_Score>Teams1_Score))","v":1},{"$f":"SUMPRODUCT((Teams1=U34)*(Teams1_Score=Teams2_Score)*(Teams1_Score<>\"\"))+SUMPRODUCT((Teams2=U34)*(Teams2_Score=Teams1_Score)*(Teams2_Score<>\"\"))","v":1},{"$f":"SUMPRODUCT((Teams1=U34)*(Teams1_Score<Teams2_Score))+SUMPRODUCT((Teams2=U34)*(Teams2_Score<Teams1_Score))","v":1},{"$f":"SUMPRODUCT((Teams1=U34)*(Teams1_Score))+SUMPRODUCT((Teams2=U34)*(Teams2_Score))","v":3},{"$f":"SUMPRODUCT((Teams1=U34)*(Teams2_Score))+SUMPRODUCT((Teams2=U34)*(Teams1_Score))","v":4},{"$f":"Z34-AA34","v":-1},{"$f":"3*W34+X34","v":4},null,null,"2018-07-11",2,{"$f":"+IF(AJ39<>\"\",IF(AI39>AO39,AH39,AN39),\"Vainqueur B\")","v":"Vainqueur B"},{"$f":"AJ34*10+AL34","v":0},null,{"$f":"IF(LEFT(AH34,5)<>\"Vainq\",COUNTIF(RESULTATS!$AG$18:$AM$19,AH34),0)","v":0},null,null,{"$f":"+IF(AJ41<>\"\",IF(AI41>AO41,AH41,AN41),\"Vainqueur D\")","v":"Vainqueur D"},{"$f":"AP34*10+AR34","v":0},null,{"$f":"IF(LEFT(AN34,5)<>\"Vainq\",COUNTIF(RESULTATS!$AG$18:$AM$19,AN34),0)","v":0}]
[null,{"$f":"VLOOKUP($D35,TABLEAU_MATCHS[#All],2,FALSE)","v":"2018-06-23"},{"$f":"VLOOKUP($D35,TABLEAU_MATCHS[#All],3,FALSE)","v":"17:00:00"},28,{"$f":"\"Groupe \"&VLOOKUP($I35,TABLEAU_TEAMS[[#All],[TEAM]:[GROUP_INITIAL_RANK]],2,FALSE)","v":"Groupe F"},2.8,2.95,2.4,{"$f":"VLOOKUP($D35,TABLEAU_MATCHS[#All],4,FALSE)","v":"Allemagne"},4,null,{"$f":"VLOOKUP($D35,TABLEAU_MATCHS[#All],5,FALSE)","v":"Suède"},1,{"$f":"IF(OR(ISBLANK(RESULTATS!J35),ISBLANK(J35)),\"\",IF(AND(Vincent!J35=RESULTATS!J35,Vincent!M35=RESULTATS!M35),3,IF(OR(AND(Vincent!J35>Vincent!M35,RESULTATS!J35>RESULTATS!M35),AND(Vincent!J35<Vincent!M35,RESULTATS!J35<RESULTATS!M35),AND(Vincent!J35=Vincent!M35,RESULTATS!J35=RESULTATS!M35)),1,0)))","v":""},null,null,null,"01830Suisse",1830,3,"Suisse",{"$f":"SUMPRODUCT((Teams1=U35)*(Teams1_Score<>\"\"))+SUMPRODUCT((Teams2=U35)*(Teams2_Score<>\"\"))","v":3},{"$f":"SUMPRODUCT((Teams1=U35)*(Teams1_Score>Teams2_Score))+SUMPRODUCT((Teams2=U35)*(Teams2_Score>Teams1_Score))","v":0},{"$f":"SUMPRODUCT((Teams1=U35)*(Teams1_Score=Teams2_Score)*(Teams1_Score<>\"\"))+SUMPRODUCT((Teams2=U35)*(Teams2_Score=Teams1_Score)*(Teams2_Score<>\"\"))","v":2},{"$f":"SUMPRODUCT((Teams1=U35)*(Teams1_Score<Teams2_Score))+SUMPRODUCT((Teams2=U35)*(Teams2_Score<Teams1_Score))","v":1},{"$f":"SUMPRODUCT((Teams1=U35)*(Teams1_Score))+SUMPRODUCT((Teams2=U35)*(Teams2_Score))","v":3},{"$f":"SUMPRODUCT((Teams1=U35)*(Teams2_Score))+SUMPRODUCT((Teams2=U35)*(Teams1_Score))","v":5},{"$f":"Z35-AA35","v":-2},{"$f":"3*W35+X35","v":2},null,null,null,null,null,null,null,{"$f":"SUM(AK33:AK34)","v":0},null,null,null,null,null,{"$f":"SUM(AQ33:AQ34)","v":0}]
[null,{"$f":"VLOOKUP($D36,TABLEAU_MATCHS[#All],2,FALSE)","v":"2018-06-23"},{"$f":"VLOOKUP($D36,TABLEAU_MATCHS[#All],3,FALSE)","v":"14:00:00"},29,{"$f":"\"Groupe \"&VLOOKUP($I36,TABLEAU_TEAMS[[#All],[TEAM]:[GROUP_INITIAL_RANK]],2,FALSE)","v":"Groupe G"},1.36,4,7.5,{"$f":"VLOOKUP($D36,TABLEAU_MATCHS[#All],4,FALSE)","v":"Belgique"},2,null,{"$f":"VLOOKUP($D36,TABLEAU_MATCHS[#All],5,FALSE)","v":"Tunisie"},0,{"$f":"IF(OR(ISBLANK(RESULTATS!J36),ISBLANK(J36)),\"\",IF(AND(Vincent!J36=RESULTATS!J36,Vincent!M36=RESULTATS!M36),3,IF(OR(AND(Vincent!J36>Vincent!M36,RESULTATS!J36>RESULTATS!M36),AND(Vincent!J36<Vincent!M36,RESULTATS!J36<RESULTATS!M36),AND(Vincent!J36=Vincent!M36,RESULTATS!J36=RESULTATS!M36)),1,0)))","v":""},null,null,null,"00830Costa Rica",830,4,"Costa Rica",{"$f":"SUMPRODUCT((Teams1=U36)*(Teams1_Score<>\"\"))+SUMPRODUCT((Teams2=U36)*(Teams2_Score<>\"\"))","v":3},{"$f":"SUMPRODUCT((Teams1=U36)*(Teams1_Score>Teams2_Score))+SUMPRODUCT((Teams2=U36)*(Teams2_Score>Teams1_Score))","v":0},{"$f":"SUMPRODUCT((Teams1=U36)*(Teams1_Score=Teams2_Score)*(Teams1_Score<>\"\"))+SUMPRODUCT((Teams2=U36)*(Teams2_Score=Teams1_Score)*(Teams2_Score<>\"\"))","v":1},{"$f":"SUMPRODUCT((Teams1=U36)*(Teams1_Score<Teams2_Score))+SUMPRODUCT((Teams2=U36)*(Teams2_Score<Teams1_Score))","v":2},{"$f":"SUMPRODUCT((Teams1=U36)*(Teams1_Score))+SUMPRODUCT((Teams2=U36)*(Teams2_Score))","v":3},{"$f":"SUMPRODUCT((Teams1=U36)*(Teams2_Score))+SUMPRODUCT((Teams2=U36)*(Teams1_Score))","v":5},{"$f":"Z36-AA36","v":-2},{"$f":"3*W36+X36","v":1},null,null,"Date","Quart de Finale",null,null,"Buts",null,"Pen",null,null,null,"Buts",null,"Pen"]
[null,{"$f":"VLOOKUP($D37,TABLEAU_MATCHS[#All],2,FALSE)","v":"2018-06-24"},{"$f":"VLOOKUP($D37,TABLEAU_MATCHS[#All],3,FALSE)","v":"14:00:00"},30,{"$f":"\"Groupe \"&VLOOKUP($I37,TABLEAU_TEAMS[[#All],[TEAM]:[GROUP_INITIAL_RANK]],2,FALSE)","v":"Groupe G"},4.7,3.4,1.62,{"$f":"VLOOKUP($D37,TABLEAU_MATCHS[#All],4,FALSE)","v":"Angleterre"},2,null,{"$f":"VLOOKUP($D37,TABLEAU_MATCHS[#All],5,FALSE)","v":"Panama"},0,{"$f":"IF(OR(ISBLANK(RESULTATS!J37),ISBLANK(J37)),\"\",IF(AND(Vincent!J37=RESULTATS!J37,Vincent!M37=RESULTATS!M37),3,IF(OR(AND(Vincent!J37>Vincent!M37,RESULTATS!J37>RESULTATS!M37),AND(Vincent!J37<Vincent!M37,RESULTATS!J37<RESULTATS!M37),AND(Vincent!J37=Vincent!M37,RESULTATS!J37=RESULTATS!M37)),1,0)))","v":""}]
[null,{"$f":"VLOOKUP($D38,TABLEAU_MATCHS[#All],2,FALSE)","v":"2018-06-24"},{"$f":"VLOOKUP($D38,TABLEAU_MATCHS[#All],3,FALSE)","v":"17:00:00"},31,{"$f":"\"Groupe \"&VLOOKUP($I38,TABLEAU_TEAMS[[#All],[TEAM]:[GROUP_INITIAL_RANK]],2,FALSE)","v":"Groupe H"},2.1,2.95,3.35,{"$f":"VLOOKUP($D38,TABLEAU_MATCHS[#All],4,FALSE)","v":"Japon"},2,null,{"$f":"VLOOKUP($D38,TABLEAU_MATCHS[#All],5,FALSE)","v":"Sénégal"},0,{"$f":"IF(OR(ISBLANK(RESULTATS!J38),ISBLANK(J38)),\"\",IF(AND(Vincent!J38=RESULTATS!J38,Vincent!M38=RESULTATS!M38),3,IF(OR(AND(Vincent!J38>Vincent!M38,RESULTATS!J38>RESULTATS!M38),AND(Vincent!J38<Vincent!M38,RESULTATS!J38<RESULTATS!M38),AND(Vincent!J38=Vincent!M38,RESULTATS!J38=RESULTATS!M38)),1,0)))","v":""},null,null,null,null,null,"Rg","Groupe F","MJ","G","N","P","BP","BC","+/-","Pts",null,null,"2018-07-06","A",{"$f":"+IF(AJ45<>\"\",IF(AI45>AO45,AH45,AN45),\"Vainqueur 1\")","v":"Vainqueur 1"},{"$f":"AJ38*10+AL38","v":0},null,{"$f":"IF(LEFT(AH38,5)<>\"Vainq\",COUNTIF(RESULTATS!$AG$23:$AM$26,AH38),0)","v":0},null,null,{"$f":"+IF(AJ47<>\"\",IF(AI47>AO47,AH47,AN47),\"Vainqueur 3\")","v":"Vainqueur 3"},{"$f":"AP38*10+AR38","v":0},null,{"$f":"IF(LEFT(AN38,5)<>\"Vainq\",COUNTIF(RESULTATS!$AG$23:$AM$26,AN38),0)","v":0}]
[null,{"$f":"VLOOKUP($D39,TABLEAU_MATCHS[#All],2,FALSE)","v":"2018-06-24"},{"$f":"VLOOKUP($D39,TABLEAU_MATCHS[#All],3,FALSE)","v":"20:00:00"},32,{"$f":"\"Groupe \"&VLOOKUP($I39,TABLEAU_TEAMS[[#All],[TEAM]:[GROUP_INITIAL_RANK]],2,FALSE)","v":"Groupe H"},1.9,3,3.8,{"$f":"VLOOKUP($D39,TABLEAU_MATCHS[#All],4,FALSE)","v":"Pologne"},1,null,{"$f":"VLOOKUP($D39,TABLEAU_MATCHS[#All],5,FALSE)","v":"Colombie"},2,{"$f":"IF(OR(ISBLANK(RESULTATS!J39),ISBLANK(J39)),\"\",IF(AND(Vincent!J39=RESULTATS!J39,Vincent!M39=RESULTATS!M39),3,IF(OR(AND(Vincent!J39>Vincent!M39,RESULTATS!J39>RESULTATS!M39),AND(Vincent!J39<Vincent!M39,RESULTATS!J39<RESULTATS!M39),AND(Vincent!J39=Vincent!M39,RESULTATS!J39=RESULTATS!M39)),1,0)))","v":""},null,null,null,{"$f":"INDEX($R90:$R93,MATCH(SMALL(COUNTIF($R90:$R93,\">=\"&$R90:$R93),ROW(INDIRECT(\"1:\"&ROWS($R90:$R93)))),COUNTIF($R90:$R93,\">=\"&$R90:$R93),0))","v":"09800Allemagne"},{"$f":"INDEX($S90:$S93,MATCH(SMALL(COUNTIF($R90:$R93,\">=\"&$R90:$R93),ROW(INDIRECT(\"1:\"&ROWS($R90:$R93)))),COUNTIF($R90:$R93,\">=\"&$R90:$R93),0))","v":9800},{"$f":"INDEX($T90:$T93,MATCH(SMALL(COUNTIF($R90:$R93,\">=\"&$R90:$R93),ROW(INDIRECT(\"1:\"&ROWS($R90:$R93)))),COUNTIF($R90:$R93,\">=\"&$R90:$R93),0))","v":1},{"$f":"INDEX($U90:$U93,MATCH(SMALL(COUNTIF($R90:$R93,\">=\"&$R90:$R93),ROW(INDIRECT(\"1:\"&ROWS($R90:$R93)))),COUNTIF($R90:$R93,\">=\"&$R90:$R93),0))","v":"Allemagne"},{"$f":"SUMPRODUCT((Teams1=U39)*(Teams1_Score<>\"\"))+SUMPRODUCT((Teams2=U39)*(Teams2_Score<>\"\"))","v":3},{"$f":"SUMPRODUCT((Teams1=U39)*(Teams1_Score>Teams2_Score))+SUMPRODUCT((Teams2=U39)*(Teams2_Score>Teams1_Score))","v":3},{"$f":"SUMPRODUCT((Teams1=U39)*(Teams1_Score=Teams2_Score)*(Teams1_Score<>\"\"))+SUMPRODUCT((Teams2=U39)*(Teams2_Score=Teams1_Score)*(Teams2_Score<>\"\"))","v":0},{"$f":"SUMPRODUCT((Teams1=U39)*(Teams1_Score<Teams2_Score))+SUMPRODUCT((Teams2=U39)*(Teams2_Score<Teams1_Score))","v":0},{"$f":"SUMPRODUCT((Teams1=U39)*(Teams1_Score))+SUMPRODUCT((Teams2=U39)*(Teams2_Score))","v":10},{"$f":"SUMPRODUCT((Teams1=U39)*(Teams2_Score))+SUMPRODUCT((Teams2=U39)*(Teams1_Score))","v":3},{"$f":"Z39-AA39","v":7},{"$f":"3*W39+X39","v":9},null,null,"2018-07-07","B",{"$f":"+IF(AJ46<>\"\",IF(AI46>AO46,AH46,AN46),\"Vainqueur 2\")","v":"Vainqueur 2"},{"$f":"AJ39*10+AL39","v":0},null,{"$f":"IF(LEFT(AH39,5)<>\"Vainq\",COUNTIF(RESULTATS!$AG$23:$AM$26,AH39),0)","v":0},null,null,{"$f":"+IF(AJ48<>\"\",IF(AI48>AO48,AH48,AN48),\"Vainqueur 4\")","v":"Vainqueur 4"},{"$f":"AP39*10+AR39","v":0},null,{"$f":"IF(LEFT(AN39,5)<>\"Vainq\",COUNTIF(RESULTATS!$AG$23:$AM$26,AN39),0)","v":0}]
[null,{"$f":"VLOOKUP($D40,TABLEAU_MATCHS[#All],2,FALSE)","v":"2018-06-25"},{"$f":"VLOOKUP($D40,TABLEAU_MATCHS[#All],3,FALSE)","v":"16:00:00"},33,{"$f":"\"Groupe \"&VLOOKUP($I40,TABLEAU_TEAMS[[#All],[TEAM]:[GROUP_INITIAL_RANK]],2,FALSE)","v":"Groupe A"},11,6.5,1.17,{"$f":"VLOOKUP($D40,TABLEAU_MATCHS[#All],4,FALSE)","v":"Uruguay"},2,null,{"$f":"VLOOKUP($D40,TABLEAU_MATCHS[#All],5,FALSE)","v":"Russie"},2,{"$f":"IF(OR(ISBLANK(RESULTATS!J40),ISBLANK(J40)),\"\",IF(AND(Vincent!J40=RESULTATS!J40,Vincent!M40=RESULTATS!M40),3,IF(OR(AND(Vincent!J40>Vincent!M40,RESULTATS!J40>RESULTATS!M40),AND(Vincent!J40<Vincent!M40,RESULTATS!J40<RESULTATS!M40),AND(Vincent!J40=Vincent!M40,RESULTATS!J40=RESULTATS!M40)),1,0)))","v":""},null,null,null,"03950Mexique",3950,2,"Mexique",{"$f":"SUMPRODUCT((Teams1=U40)*(Teams1_Score<>\"\"))+SUMPRODUCT((Teams2=U40)*(Teams2_Score<>\"\"))","v":3},{"$f":"SUMPRODUCT((Teams1=U40)*(Teams1_Score>Teams2_Score))+SUMPRODUCT((Teams2=U40)*(Teams2_Score>Teams1_Score))","v":1},{"$f":"SUMPRODUCT((Teams1=U40)*(Teams1_Score=Teams2_Score)*(Teams1_Score<>\"\"))+SUMPRODUCT((Teams2=U40)*(Teams2_Score=Teams1_Score)*(Teams2_Score<>\"\"))","v":1},{"$f":"SUMPRODUCT((Teams1=U40)*(Teams1_Score<Teams2_Score))+SUMPRODUCT((Teams2=U40)*(Teams2_Score<Teams1_Score))","v":1},{"$f":"SUMPRODUCT((Teams1=U40)*(Teams1_Score))+SUMPRODUCT((Teams2=U40)*(Teams2_Score))","v":5},{"$f":"SUMPRODUCT((Teams1=U40)*(Teams2_Score))+SUMPRODUCT((Teams2=U40)*(Teams1_Score))","v":6},{"$f":"Z40-AA40","v":-1},{"$f":"3*W40+X40","v":4},null,null,"2018-07-06","C",{"$f":"+IF(AJ49<>\"\",IF(AI49>AO49,AH49,AN49),\"Vainqueur 5\")","v":"Vainqueur 5"},{"$f":"AJ40*10+AL40","v":0},null,{"$f":"IF(LEFT(AH40,5)<>\"Vainq\",COUNTIF(RESULTATS!$AG$23:$AM$26,AH40),0)","v":0},null,null,{"$f":"+IF(AJ51<>\"\",IF(AI51>AO51,AH51,AN51),\"Vainqueur 7\")","v":"Vainqueur 7"},{"$f":"AP40*10+AR40","v":0},null,{"$f":"IF(LEFT(AN40,5)<>\"Vainq\",COUNTIF(RESULTATS!$AG$23:$AM$26,AN40),0)","v":0}]
[null,{"$f":"VLOOKUP($D41,TABLEAU_MATCHS[#All],2,FALSE)","v":"2018-06-25"},{"$f":"VLOOKUP($D41,TABLEAU_MATCHS[#All],3,FALSE)","v":"16:00:00"},34,{"$f":"\"Groupe \"&VLOOKUP($I41,TABLEAU_TEAMS[[#All],[TEAM]:[GROUP_INITIAL_RANK]],2,FALSE)","v":"Groupe A"},2.4,2.95,2.75,{"$f":"VLOOKUP($D41,TABLEAU_MATCHS[#All],4,FALSE)","v":"Arabie Saoudite"},0,null,{"$f":"VLOOKUP($D41,TABLEAU_MATCHS[#All],5,FALSE)","v":"Egypte"},2,{"$f":"IF(OR(ISBLANK(RESULTATS!J41),ISBLANK(J41)),\"\",IF(AND(Vincent!J41=RESULTATS!J41,Vincent!M41=RESULTATS!M41),3,IF(OR(AND(Vincent!J41>Vincent!M41,RESULTATS!J41>RESULTATS!M41),AND(Vincent!J41<Vincent!M41,RESULTATS!J41<RESULTATS!M41),AND(Vincent!J41=Vincent!M41,RESULTATS!J41=RESULTATS!M41)),1,0)))","v":""},null,null,null,"01730Suède",1730,3,"Suède",{"$f":"SUMPRODUCT((Teams1=U41)*(Teams1_Score<>\"\"))+SUMPRODUCT((Teams2=U41)*(Teams2_Score<>\"\"))","v":3},{"$f":"SUMPRODUCT((Teams1=U41)*(Teams1_Score>Teams2_Score))+SUMPRODUCT((Teams2=U41)*(Teams2_Score>Teams1_Score))","v":0},{"$f":"SUMPRODUCT((Teams1=U41)*(Teams1_Score=Teams2_Score)*(Teams1_Score<>\"\"))+SUMPRODUCT((Teams2=U41)*(Teams2_Score=Teams1_Score)*(Teams2_Score<>\"\"))","v":2},{"$f":"SUMPRODUCT((Teams1=U41)*(Teams1_Score<Teams2_Score))+SUMPRODUCT((Teams2=U41)*(Teams2_Score<Teams1_Score))","v":1},{"$f":"SUMPRODUCT((Teams1=U41)*(Teams1_Score))+SUMPRODUCT((Teams2=U41)*(Teams2_Score))","v":3},{"$f":"SUMPRODUCT((Teams1=U41)*(Teams2_Score))+SUMPRODUCT((Teams2=U41)*(Teams1_Score))","v":6},{"$f":"Z41-AA41","v":-3},{"$f":"3*W41+X41","v":2},null,null,"2018-07-07","D",{"$f":"+IF(AJ50<>\"\",IF(AI50>AO50,AH50,AN50),\"Vainqueur 6\")","v":"Vainqueur 6"},{"$f":"AJ41*10+AL41","v":0},null,{"$f":"IF(LEFT(AH41,5)<>\"Vainq\",COUNTIF(RESULTATS!$AG$23:$AM$26,AH41),0)","v":0},null,null,{"$f":"+IF(AJ52<>\"\",IF(AI52>AO52,AH52,AN52),\"Vainqueur 8\")","v":"Vainqueur 8"},{"$f":"AP41*10+AR41","v":0},null,{"$f":"IF(LEFT(AN41,5)<>\"Vainq\",COUNTIF(RESULTATS!$AG$23:$AM$26,AN41),0)","v":0}]
[null,{"$f":"VLOOKUP($D42,TABLEAU_MATCHS[#All],2,FALSE)","v":"2018-06-25"},{"$f":"VLOOKUP($D42,TABLEAU_MATCHS[#All],3,FALSE)","v":"20:00:00"},35,{"$f":"\"Groupe \"&VLOOKUP($I42,TABLEAU_TEAMS[[#All],[TEAM]:[GROUP_INITIAL_RANK]],2,FALSE)","v":"Groupe B"},13,6.5,1.1399999999999999,{"$f":"VLOOKUP($D42,TABLEAU_MATCHS[#All],4,FALSE)","v":"RI Iran"},0,null,{"$f":"VLOOKUP($D42,TABLEAU_MATCHS[#All],5,FALSE)","v":"Portugal"},4,{"$f":"IF(OR(ISBLANK(RESULTATS!J42),ISBLANK(J42)),\"\",IF(AND(Vincent!J42=RESULTATS!J42,Vincent!M42=RESULTATS!M42),3,IF(OR(AND(Vincent!J42>Vincent!M42,RESULTATS!J42>RESULTATS!M42),AND(Vincent!J42<Vincent!M42,RESULTATS!J42<RESULTATS!M42),AND(Vincent!J42=Vincent!M42,RESULTATS!J42=RESULTATS!M42)),1,0)))","v":""},null,null,null,"00720République de Corée",720,4,"République de Corée",{"$f":"SUMPRODUCT((Teams1=U42)*(Teams1_Score<>\"\"))+SUMPRODUCT((Teams2=U42)*(Teams2_Score<>\"\"))","v":3},{"$f":"SUMPRODUCT((Teams1=U42)*(Teams1_Score>Teams2_Score))+SUMPRODUCT((Teams2=U42)*(Teams2_Score>Teams1_Score))","v":0},{"$f":"SUMPRODUCT((Teams1=U42)*(Teams1_Score=Teams2_Score)*(Teams1_Score<>\"\"))+SUMPRODUCT((Teams2=U42)*(Teams2_Score=Teams1_Score)*(Teams2_Score<>\"\"))","v":1},{"$f":"SUMPRODUCT((Teams1=U42)*(Teams1_Score<Teams2_Score))+SUMPRODUCT((Teams2=U42)*(Teams2_Score<Teams1_Score))","v":2},{"$f":"SUMPRODUCT((Teams1=U42)*(Teams1_Score))+SUMPRODUCT((Teams2=U42)*(Teams2_Score))","v":2},{"$f":"SUMPRODUCT((Teams1=U42)*(Teams2_Score))+SUMPRODUCT((Teams2=U42)*(Teams1_Score))","v":5},{"$f":"Z42-AA42","v":-3},{"$f":"3*W42+X42","v":1},null,null,null,null,null,null,null,{"$f":"SUM(AK38:AK41)","v":0},null,null,null,null,null,{"$f":"SUM(AQ38:AQ41)","v":0}]
[null,{"$f":"VLOOKUP($D43,TABLEAU_MATCHS[#All],2,FALSE)","v":"2018-06-25"},{"$f":"VLOOKUP($D43,TABLEAU_MATCHS[#All],3,FALSE)","v":"20:00:00"},36,{"$f":"\"Groupe \"&VLOOKUP($I43,TABLEAU_TEAMS[[#All],[TEAM]:[GROUP_INITIAL_RANK]],2,FALSE)","v":"Groupe B"},2.25,3.1,2.95,{"$f":"VLOOKUP($D43,TABLEAU_MATCHS[#All],4,FALSE)","v":"Espagne"},3,null,{"$f":"VLOOKUP($D43,TABLEAU_MATCHS[#All],5,FALSE)","v":"Maroc"},1,{"$f":"IF(OR(ISBLANK(RESULTATS!J43),ISBLANK(J43)),\"\",IF(AND(Vincent!J43=RESULTATS!J43,Vincent!M43=RESULTATS!M43),3,IF(OR(AND(Vincent!J43>Vincent!M43,RESULTATS!J43>RESULTATS!M43),AND(Vincent!J43<Vincent!M43,RESULTATS!J43<RESULTATS!M43),AND(Vincent!J43=Vincent!M43,RESULTATS!J43=RESULTATS!M43)),1,0)))","v":""},null,null,null,null,null,null,null,null,null,null,null,null,null,null,null,null,null,"Date","Huitième de Finale",null,null,"Buts",null,"Pen",null,null,null,"Buts",null,"Pen"]
[null,{"$f":"VLOOKUP($D44,TABLEAU_MATCHS[#All],2,FALSE)","v":"2018-06-26"},{"$f":"VLOOKUP($D44,TABLEAU_MATCHS[#All],3,FALSE)","v":"16:00:00"},37,{"$f":"\"Groupe \"&VLOOKUP($I44,TABLEAU_TEAMS[[#All],[TEAM]:[GROUP_INITIAL_RANK]],2,FALSE)","v":"Groupe C"},4.3,3.25,1.76,{"$f":"VLOOKUP($D44,TABLEAU_MATCHS[#All],4,FALSE)","v":"Danemark"},1,null,{"$f":"VLOOKUP($D44,TABLEAU_MATCHS[#All],5,FALSE)","v":"France"},3,{"$f":"IF(OR(ISBLANK(RESULTATS!J44),ISBLANK(J44)),\"\",IF(AND(Vincent!J44=RESULTATS!J44,Vincent!M44=RESULTATS!M44),3,IF(OR(AND(Vincent!J44>Vincent!M44,RESULTATS!J44>RESULTATS!M44),AND(Vincent!J44<Vincent!M44,RESULTATS!J44<RESULTATS!M44),AND(Vincent!J44=Vincent!M44,RESULTATS!J44=RESULTATS!M44)),1,0)))","v":""},null,null,null,null,null,"Rg","Groupe G","MJ","G","N","P","BP","BC","+/-","Pts"]
[null,{"$f":"VLOOKUP($D45,TABLEAU_MATCHS[#All],2,FALSE)","v":"2018-06-26"},{"$f":"VLOOKUP($D45,TABLEAU_MATCHS[#All],3,FALSE)","v":"16:00:00"},38,{"$f":"\"Groupe \"&VLOOKUP($I45,TABLEAU_TEAMS[[#All],[TEAM]:[GROUP_INITIAL_RANK]],2,FALSE)","v":"Groupe C"},3.05,3,2.25,{"$f":"VLOOKUP($D45,TABLEAU_MATCHS[#All],4,FALSE)","v":"Australie"},1,null,{"$f":"VLOOKUP($D45,TABLEAU_MATCHS[#All],5,FALSE)","v":"Pérou"},2,{"$f":"IF(OR(ISBLANK(RESULTATS!J45),ISBLANK(J45)),\"\",IF(AND(Vincent!J45=RESULTATS!J45,Vincent!M45=RESULTATS!M45),3,IF(OR(AND(Vincent!J45>Vincent!M45,RESULTATS!J45>RESULTATS!M45),AND(Vincent!J45<Vincent!M45,RESULTATS!J45<RESULTATS!M45),AND(Vincent!J45=Vincent!M45,RESULTATS!J45=RESULTATS!M45)),1,0)))","v":""},null,null,null,{"$f":"INDEX($R96:$R99,MATCH(SMALL(COUNTIF($R96:$R99,\">=\"&$R96:$R99),ROW(INDIRECT(\"1:\"&ROWS($R96:$R99)))),COUNTIF($R96:$R99,\">=\"&$R96:$R99),0))","v":"09680Belgique"},{"$f":"INDEX($S96:$S99,MATCH(SMALL(COUNTIF($R96:$R99,\">=\"&$R96:$R99),ROW(INDIRECT(\"1:\"&ROWS($R96:$R99)))),COUNTIF($R96:$R99,\">=\"&$R96:$R99),0))","v":9680},{"$f":"INDEX($T96:$T99,MATCH(SMALL(COUNTIF($R96:$R99,\">=\"&$R96:$R99),ROW(INDIRECT(\"1:\"&ROWS($R96:$R99)))),COUNTIF($R96:$R99,\">=\"&$R96:$R99),0))","v":1},{"$f":"INDEX($U96:$U99,MATCH(SMALL(COUNTIF($R96:$R99,\">=\"&$R96:$R99),ROW(INDIRECT(\"1:\"&ROWS($R96:$R99)))),COUNTIF($R96:$R99,\">=\"&$R96:$R99),0))","v":"Belgique"},{"$f":"SUMPRODUCT((Teams1=U45)*(Teams1_Score<>\"\"))+SUMPRODUCT((Teams2=U45)*(Teams2_Score<>\"\"))","v":3},{"$f":"SUMPRODUCT((Teams1=U45)*(Teams1_Score>Teams2_Score))+SUMPRODUCT((Teams2=U45)*(Teams2_Score>Teams1_Score))","v":3},{"$f":"SUMPRODUCT((Teams1=U45)*(Teams1_Score=Teams2_Score)*(Teams1_Score<>\"\"))+SUMPRODUCT((Teams2=U45)*(Teams2_Score=Teams1_Score)*(Teams2_Score<>\"\"))","v":0},{"$f":"SUMPRODUCT((Teams1=U45)*(Teams1_Score<Teams2_Score))+SUMPRODUCT((Teams2=U45)*(Teams2_Score<Teams1_Score))","v":0},{"$f":"SUMPRODUCT((Teams1=U45)*(Teams1_Score))+SUMPRODUCT((Teams2=U45)*(Teams2_Score))","v":8},{"$f":"SUMPRODUCT((Teams1=U45)*(Teams2_Score))+SUMPRODUCT((Teams2=U45)*(Teams1_Score))","v":2},{"$f":"Z45-AA45","v":6},{"$f":"3*W45+X45","v":9},null,null,"2018-06-30",1,{"$f":"IF(SUM(V9:V12)=0,\"1er Groupe A\",IF(COUNTIF(T9:T12,1)=1,VLOOKUP(1,T9:U12,2,FALSE),IF(COUNTIF(T9:T12,1)>=2,\"Tirage au Sort A1\")))","v":"Uruguay"},{"$f":"AJ45*10+AL45","v":0},null,{"$f":"IF(AND(LEFT(AH45,3)<>\"1er\",LEFT(AH45,3)<>\"2nd\"),COUNTIF(RESULTATS!$AG$30:$AM$37,AH45),0)","v":1},null,null,{"$f":"IF(SUM(V15:V18)=0,\"2nd Groupe B\",IF(OR(COUNTIF(T15:T18,1)>1,COUNTIF(T15:T18,2)>1),\"Tirage au sort B2\",VLOOKUP(2,T15:U18,2,FALSE)))","v":"Portugal"},{"$f":"AP45*10+AR45","v":0},null,{"$f":"IF(AND(LEFT(AN45,3)<>\"1er\",LEFT(AN45,3)<>\"2nd\"),COUNTIF(RESULTATS!$AG$30:$AM$37,AN45),0)","v":0}]
[null,{"$f":"VLOOKUP($D46,TABLEAU_MATCHS[#All],2,FALSE)","v":"2018-06-26"},{"$f":"VLOOKUP($D46,TABLEAU_MATCHS[#All],3,FALSE)","v":"20:00:00"},39,{"$f":"\"Groupe \"&VLOOKUP($I46,TABLEAU_TEAMS[[#All],[TEAM]:[GROUP_INITIAL_RANK]],2,FALSE)","v":"Groupe D"},2.4,2.9,2.85,{"$f":"VLOOKUP($D46,TABLEAU_MATCHS[#All],4,FALSE)","v":"Nigeria"},3,null,{"$f":"VLOOKUP($D46,TABLEAU_MATCHS[#All],5,FALSE)","v":"Argentine"},1,{"$f":"IF(OR(ISBLANK(RESULTATS!J46),ISBLANK(J46)),\"\",IF(AND(Vincent!J46=RESULTATS!J46,Vincent!M46=RESULTATS!M46),3,IF(OR(AND(Vincent!J46>Vincent!M46,RESULTATS!J46>RESULTATS!M46),AND(Vincent!J46<Vincent!M46,RESULTATS!J46<RESULTATS!M46),AND(Vincent!J46=Vincent!M46,RESULTATS!J46=RESULTATS!M46)),1,0)))","v":""},null,null,null,"06260Angleterre",6260,2,"Angleterre",{"$f":"SUMPRODUCT((Teams1=U46)*(Teams1_Score<>\"\"))+SUMPRODUCT((Teams2=U46)*(Teams2_Score<>\"\"))","v":3},{"$f":"SUMPRODUCT((Teams1=U46)*(Teams1_Score>Teams2_Score))+SUMPRODUCT((Teams2=U46)*(Teams2_Score>Teams1_Score))","v":2},{"$f":"SUMPRODUCT((Teams1=U46)*(Teams1_Score=Teams2_Score)*(Teams1_Score<>\"\"))+SUMPRODUCT((Teams2=U46)*(Teams2_Score=Teams1_Score)*(Teams2_Score<>\"\"))","v":0},{"$f":"SUMPRODUCT((Teams1=U46)*(Teams1_Score<Teams2_Score))+SUMPRODUCT((Teams2=U46)*(Teams2_Score<Teams1_Score))","v":1},{"$f":"SUMPRODUCT((Teams1=U46)*(Teams1_Score))+SUMPRODUCT((Teams2=U46)*(Teams2_Score))","v":6},{"$f":"SUMPRODUCT((Teams1=U46)*(Teams2_Score))+SUMPRODUCT((Teams2=U46)*(Teams1_Score))","v":4},{"$f":"Z46-AA46","v":2},{"$f":"3*W46+X46","v":6},null,null,"2018-07-01",2,{"$f":"IF(SUM(V15:V18)=0,\"1er Groupe B\",IF(COUNTIF(T15:T18,1)=1,VLOOKUP(1,T15:U18,2,FALSE),IF(COUNTIF(T15:T18,1)>=2,\"Tirage au Sort B1\")))","v":"Espagne"},{"$f":"AJ46*10+AL46","v":0},null,{"$f":"IF(AND(LEFT(AH46,3)<>\"1er\",LEFT(AH46,3)<>\"2nd\"),COUNTIF(RESULTATS!$AG$30:$AM$37,AH46),0)","v":0},null,null,{"$f":"IF(SUM(V9:V12)=0,\"2nd Groupe A\",IF(OR(COUNTIF(T9:T12,1)>1,COUNTIF(T9:T12,2)>1),\"Tirage au sort A2\",VLOOKUP(2,T9:U12,2,FALSE)))","v":"Russie"},0,null,{"$f":"IF(AND(LEFT(AN46,3)<>\"1er\",LEFT(AN46,3)<>\"2nd\"),COUNTIF(RESULTATS!$AG$30:$AM$37,AN46),0)","v":1}]
[null,{"$f":"VLOOKUP($D47,TABLEAU_MATCHS[#All],2,FALSE)","v":"2018-06-26"},{"$f":"VLOOKUP($D47,TABLEAU_MATCHS[#All],3,FALSE)","v":"20:00:00"},40,{"$f":"\"Groupe \"&VLOOKUP($I47,TABLEAU_TEAMS[[#All],[TEAM]:[GROUP_INITIAL_RANK]],2,FALSE)","v":"Groupe D"},6.5,3.7,1.44,{"$f":"VLOOKUP($D47,TABLEAU_MATCHS[#All],4,FALSE)","v":"Islande"},2,null,{"$f":"VLOOKUP($D47,TABLEAU_MATCHS[#All],5,FALSE)","v":"Croatie"},2,{"$f":"IF(OR(ISBLANK(RESULTATS!J47),ISBLANK(J47)),\"\",IF(AND(Vincent!J47=RESULTATS!J47,Vincent!M47=RESULTATS!M47),3,IF(OR(AND(Vincent!J47>Vincent!M47,RESULTATS!J47>RESULTATS!M47),AND(Vincent!J47<Vincent!M47,RESULTATS!J47<RESULTATS!M47),AND(Vincent!J47=Vincent!M47,RESULTATS!J47=RESULTATS!M47)),1,0)))","v":""},null,null,null,"02930Tunisie",2930,3,"Tunisie",{"$f":"SUMPRODUCT((Teams1=U47)*(Teams1_Score<>\"\"))+SUMPRODUCT((Teams2=U47)*(Teams2_Score<>\"\"))","v":3},{"$f":"SUMPRODUCT((Teams1=U47)*(Teams1_Score>Teams2_Score))+SUMPRODUCT((Teams2=U47)*(Teams2_Score>Teams1_Score))","v":1},{"$f":"SUMPRODUCT((Teams1=U47)*(Teams1_Score=Teams2_Score)*(Teams1_Score<>\"\"))+SUMPRODUCT((Teams2=U47)*(Teams2_Score=Teams1_Score)*(Teams2_Score<>\"\"))","v":0},{"$f":"SUMPRODUCT((Teams1=U47)*(Teams1_Score<Teams2_Score))+SUMPRODUCT((Teams2=U47)*(Teams2_Score<Teams1_Score))","v":2},{"$f":"SUMPRODUCT((Teams1=U47)*(Teams1_Score))+SUMPRODUCT((Teams2=U47)*(Teams2_Score))","v":3},{"$f":"SUMPRODUCT((Teams1=U47)*(Teams2_Score))+SUMPRODUCT((Teams2=U47)*(Teams1_Score))","v":4},{"$f":"Z47-AA47","v":-1},{"$f":"3*W47+X47","v":3},null,null,"2017-06-30",3,{"$f":"IF(SUM(V21:V24)=0,\"1er Groupe C\",IF(COUNTIF(T21:T24,1)=1,VLOOKUP(1,T21:U24,2,FALSE),IF(COUNTIF(T21:T24,1)>=2,\"Tirage au Sort C1\")))","v":"France"},0,null,{"$f":"IF(AND(LEFT(AH47,3)<>\"1er\",LEFT(AH47,3)<>\"2nd\"),COUNTIF(RESULTATS!$AG$30:$AM$37,AH47),0)","v":0},null,null,{"$f":"IF(SUM(V27:V30)=0,\"2nd Groupe D\",IF(OR(COUNTIF(T27:T30,1)>1,COUNTIF(T27:T30,2)>1),\"Tirage au sort D2\",VLOOKUP(2,T27:U30,2,FALSE)))","v":"Argentine"},0,null,{"$f":"IF(AND(LEFT(AN47,3)<>\"1er\",LEFT(AN47,3)<>\"2nd\"),COUNTIF(RESULTATS!$AG$30:$AM$37,AN47),0)","v":0}]
[null,{"$f":"VLOOKUP($D48,TABLEAU_MATCHS[#All],2,FALSE)","v":"2018-06-27"},{"$f":"VLOOKUP($D48,TABLEAU_MATCHS[#All],3,FALSE)","v":"20:00:00"},41,{"$f":"\"Groupe \"&VLOOKUP($I48,TABLEAU_TEAMS[[#All],[TEAM]:[GROUP_INITIAL_RANK]],2,FALSE)","v":"Groupe E"},6.5,3.5,1.48,{"$f":"VLOOKUP($D48,TABLEAU_MATCHS[#All],4,FALSE)","v":"Serbie"},0,null,{"$f":"VLOOKUP($D48,TABLEAU_MATCHS[#All],5,FALSE)","v":"Brésil"},2,{"$f":"IF(OR(ISBLANK(RESULTATS!J48),ISBLANK(J48)),\"\",IF(AND(Vincent!J48=RESULTATS!J48,Vincent!M48=RESULTATS!M48),3,IF(OR(AND(Vincent!J48>Vincent!M48,RESULTATS!J48>RESULTATS!M48),AND(Vincent!J48<Vincent!M48,RESULTATS!J48<RESULTATS!M48),AND(Vincent!J48=Vincent!M48,RESULTATS!J48=RESULTATS!M48)),1,0)))","v":""},null,null,null,"-00700Panama",-700,4,"Panama",{"$f":"SUMPRODUCT((Teams1=U48)*(Teams1_Score<>\"\"))+SUMPRODUCT((Teams2=U48)*(Teams2_Score<>\"\"))","v":3},{"$f":"SUMPRODUCT((Teams1=U48)*(Teams1_Score>Teams2_Score))+SUMPRODUCT((Teams2=U48)*(Teams2_Score>Teams1_Score))","v":0},{"$f":"SUMPRODUCT((Teams1=U48)*(Teams1_Score=Teams2_Score)*(Teams1_Score<>\"\"))+SUMPRODUCT((Teams2=U48)*(Teams2_Score=Teams1_Score)*(Teams2_Score<>\"\"))","v":0},{"$f":"SUMPRODUCT((Teams1=U48)*(Teams1_Score<Teams2_Score))+SUMPRODUCT((Teams2=U48)*(Teams2_Score<Teams1_Score))","v":3},{"$f":"SUMPRODUCT((Teams1=U48)*(Teams1_Score))+SUMPRODUCT((Teams2=U48)*(Teams2_Score))","v":0},{"$f":"SUMPRODUCT((Teams1=U48)*(Teams2_Score))+SUMPRODUCT((Teams2=U48)*(Teams1_Score))","v":7},{"$f":"Z48-AA48","v":-7},{"$f":"3*W48+X48","v":0},null,null,"2018-07-01",4,{"$f":"IF(SUM(V27:V30)=0,\"1er Groupe D\",IF(COUNTIF(T27:T30,1)=1,VLOOKUP(1,T27:U30,2,FALSE),IF(COUNTIF(T27:T30,1)>=2,\"Tirage au Sort D1\")))","v":"Nigeria"},0,null,{"$f":"IF(AND(LEFT(AH48,3)<>\"1er\",LEFT(AH48,3)<>\"2nd\"),COUNTIF(RESULTATS!$AG$30:$AM$37,AH48),0)","v":0},null,null,{"$f":"IF(SUM(V21:V24)=0,\"2nd Groupe C\",IF(OR(COUNTIF(T21:T24,1)>1,COUNTIF(T21:T24,2)>1),\"Tirage au sort C2\",VLOOKUP(2,T21:U24,2,FALSE)))","v":"Danemark"},0,null,{"$f":"IF(AND(LEFT(AN48,3)<>\"1er\",LEFT(AN48,3)<>\"2nd\"),COUNTIF(RESULTATS!$AG$30:$AM$37,AN48),0)","v":0}]
[null,{"$f":"VLOOKUP($D49,TABLEAU_MATCHS[#All],2,FALSE)","v":"2018-06-27"},{"$f":"VLOOKUP($D49,TABLEAU_MATCHS[#All],3,FALSE)","v":"20:00:00"},42,{"$f":"\"Groupe \"&VLOOKUP($I49,TABLEAU_TEAMS[[#All],[TEAM]:[GROUP_INITIAL_RANK]],2,FALSE)","v":"Groupe E"},4,3.05,1.9,{"$f":"VLOOKUP($D49,TABLEAU_MATCHS[#All],4,FALSE)","v":"Suisse"},1,null,{"$f":"VLOOKUP($D49,TABLEAU_MATCHS[#All],5,FALSE)","v":"Costa Rica"},1,{"$f":"IF(OR(ISBLANK(RESULTATS!J49),ISBLANK(J49)),\"\",IF(AND(Vincent!J49=RESULTATS!J49,Vincent!M49=RESULTATS!M49),3,IF(OR(AND(Vincent!J49>Vincent!M49,RESULTATS!J49>RESULTATS!M49),AND(Vincent!J49<Vincent!M49,RESULTATS!J49<RESULTATS!M49),AND(Vincent!J49=Vincent!M49,RESULTATS!J49=RESULTATS!M49)),1,0)))","v":""},null,null,null,null,null,null,null,null,null,null,null,null,null,null,null,null,null,"2018-07-02",5,{"$f":"IF(SUM(V33:V36)=0,\"1er Groupe E\",IF(COUNTIF(T33:T36,1)=1,VLOOKUP(1,T33:U36,2,FALSE),IF(COUNTIF(T33:T36,1)>=2,\"Tirage au Sort E1\")))","v":"Brésil"},0,null,{"$f":"IF(AND(LEFT(AH49,3)<>\"1er\",LEFT(AH49,3)<>\"2nd\"),COUNTIF(RESULTATS!$AG$30:$AM$37,AH49),0)","v":0},null,null,{"$f":"IF(SUM(V39:V42)=0,\"2nd Groupe F\",IF(OR(COUNTIF(T39:T42,1)>1,COUNTIF(T39:T42,2)>1),\"Tirage au sort F2\",VLOOKUP(2,T39:U42,2,FALSE)))","v":"Mexique"},0,null,{"$f":"IF(AND(LEFT(AN49,3)<>\"1er\",LEFT(AN49,3)<>\"2nd\"),COUNTIF(RESULTATS!$AG$30:$AM$37,AN49),0)","v":0}]
[null,{"$f":"VLOOKUP($D50,TABLEAU_MATCHS[#All],2,FALSE)","v":"2018-06-27"},{"$f":"VLOOKUP($D50,TABLEAU_MATCHS[#All],3,FALSE)","v":"16:00:00"},43,{"$f":"\"Groupe \"&VLOOKUP($I50,TABLEAU_TEAMS[[#All],[TEAM]:[GROUP_INITIAL_RANK]],2,FALSE)","v":"Groupe F"},8.5,4.3,1.3,{"$f":"VLOOKUP($D50,TABLEAU_MATCHS[#All],4,FALSE)","v":"Mexique"},2,null,{"$f":"VLOOKUP($D50,TABLEAU_MATCHS[#All],5,FALSE)","v":"Suède"},2,{"$f":"IF(OR(ISBLANK(RESULTATS!J50),ISBLANK(J50)),\"\",IF(AND(Vincent!J50=RESULTATS!J50,Vincent!M50=RESULTATS!M50),3,IF(OR(AND(Vincent!J50>Vincent!M50,RESULTATS!J50>RESULTATS!M50),AND(Vincent!J50<Vincent!M50,RESULTATS!J50<RESULTATS!M50),AND(Vincent!J50=Vincent!M50,RESULTATS!J50=RESULTATS!M50)),1,0)))","v":""},null,null,null,null,null,"Rg","Groupe H","MJ","G","N","P","BP","BC","+/-","Pts",null,null,"2018-07-03",6,{"$f":"IF(SUM(V39:V42)=0,\"1er Groupe F\",IF(COUNTIF(T39:T42,1)=1,VLOOKUP(1,T39:U42,2,FALSE),IF(COUNTIF(T39:T42,1)>=2,\"Tirage au Sort F1\")))","v":"Allemagne"},0,null,{"$f":"IF(AND(LEFT(AH50,3)<>\"1er\",LEFT(AH50,3)<>\"2nd\"),COUNTIF(RESULTATS!$AG$30:$AM$37,AH50),0)","v":0},null,null,{"$f":"IF(SUM(V33:V36)=0,\"2nd Groupe E\",IF(OR(COUNTIF(T33:T36,1)>1,COUNTIF(T33:T36,2)>1),\"Tirage au sort E2\",VLOOKUP(2,T33:U36,2,FALSE)))","v":"Serbie"},0,null,{"$f":"IF(AND(LEFT(AN50,3)<>\"1er\",LEFT(AN50,3)<>\"2nd\"),COUNTIF(RESULTATS!$AG$30:$AM$37,AN50),0)","v":0}]
[null,{"$f":"VLOOKUP($D51,TABLEAU_MATCHS[#All],2,FALSE)","v":"2018-06-27"},{"$f":"VLOOKUP($D51,TABLEAU_MATCHS[#All],3,FALSE)","v":"16:00:00"},44,{"$f":"\"Groupe \"&VLOOKUP($I51,TABLEAU_TEAMS[[#All],[TEAM]:[GROUP_INITIAL_RANK]],2,FALSE)","v":"Groupe F"},1.48,3.6,6.25,{"$f":"VLOOKUP($D51,TABLEAU_MATCHS[#All],4,FALSE)","v":"République de Corée"},1,null,{"$f":"VLOOKUP($D51,TABLEAU_MATCHS[#All],5,FALSE)","v":"Allemagne"},3,{"$f":"IF(OR(ISBLANK(RESULTATS!J51),ISBLANK(J51)),\"\",IF(AND(Vincent!J51=RESULTATS!J51,Vincent!M51=RESULTATS!M51),3,IF(OR(AND(Vincent!J51>Vincent!M51,RESULTATS!J51>RESULTATS!M51),AND(Vincent!J51<Vincent!M51,RESULTATS!J51<RESULTATS!M51),AND(Vincent!J51=Vincent!M51,RESULTATS!J51=RESULTATS!M51)),1,0)))","v":""},null,null,null,{"$f":"INDEX($R102:$R105,MATCH(SMALL(COUNTIF($R102:$R105,\">=\"&$R102:$R105),ROW(INDIRECT(\"1:\"&ROWS($R102:$R105)))),COUNTIF($R102:$R105,\">=\"&$R102:$R105),0))","v":"06240Colombie"},{"$f":"INDEX($S102:$S105,MATCH(SMALL(COUNTIF($R102:$R105,\">=\"&$R102:$R105),ROW(INDIRECT(\"1:\"&ROWS($R102:$R105)))),COUNTIF($R102:$R105,\">=\"&$R102:$R105),0))","v":6240},{"$f":"INDEX($T102:$T105,MATCH(SMALL(COUNTIF($R102:$R105,\">=\"&$R102:$R105),ROW(INDIRECT(\"1:\"&ROWS($R102:$R105)))),COUNTIF($R102:$R105,\">=\"&$R102:$R105),0))","v":1},{"$f":"INDEX($U102:$U105,MATCH(SMALL(COUNTIF($R102:$R105,\">=\"&$R102:$R105),ROW(INDIRECT(\"1:\"&ROWS($R102:$R105)))),COUNTIF($R102:$R105,\">=\"&$R102:$R105),0))","v":"Colombie"},{"$f":"SUMPRODUCT((Teams1=U51)*(Teams1_Score<>\"\"))+SUMPRODUCT((Teams2=U51)*(Teams2_Score<>\"\"))","v":2},{"$f":"SUMPRODUCT((Teams1=U51)*(Teams1_Score>Teams2_Score))+SUMPRODUCT((Teams2=U51)*(Teams2_Score>Teams1_Score))","v":2},{"$f":"SUMPRODUCT((Teams1=U51)*(Teams1_Score=Teams2_Score)*(Teams1_Score<>\"\"))+SUMPRODUCT((Teams2=U51)*(Teams2_Score=Teams1_Score)*(Teams2_Score<>\"\"))","v":0},{"$f":"SUMPRODUCT((Teams1=U51)*(Teams1_Score<Teams2_Score))+SUMPRODUCT((Teams2=U51)*(Teams2_Score<Teams1_Score))","v":0},{"$f":"SUMPRODUCT((Teams1=U51)*(Teams1_Score))+SUMPRODUCT((Teams2=U51)*(Teams2_Score))","v":4},{"$f":"SUMPRODUCT((Teams1=U51)*(Teams2_Score))+SUMPRODUCT((Teams2=U51)*(Teams1_Score))","v":2},{"$f":"Z51-AA51","v":2},{"$f":"3*W51+X51","v":6},null,null,"2018-07-02",7,{"$f":"IF(SUM(V45:V48)=0,\"1er Groupe G\",IF(COUNTIF(T45:T48,1)=1,VLOOKUP(1,T45:U48,2,FALSE),IF(COUNTIF(T45:T48,1)>=2,\"Tirage au Sort G1\")))","v":"Belgique"},0,null,{"$f":"IF(AND(LEFT(AH51,3)<>\"1er\",LEFT(AH51,3)<>\"2nd\"),COUNTIF(RESULTATS!$AG$30:$AM$37,AH51),0)","v":0},null,null,{"$f":"IF(SUM(V51:V54)=0,\"2nd Groupe H\",IF(OR(COUNTIF(T51:T54,1)>1,COUNTIF(T51:T54,2)>1),\"Tirage au sort H2\",VLOOKUP(2,T51:U54,2,FALSE)))","v":"Japon"},0,null,{"$f":"IF(AND(LEFT(AN51,3)<>\"1er\",LEFT(AN51,3)<>\"2nd\"),COUNTIF(RESULTATS!$AG$30:$AM$37,AN51),0)","v":0}]
[null,{"$f":"VLOOKUP($D52,TABLEAU_MATCHS[#All],2,FALSE)","v":"2018-06-28"},{"$f":"VLOOKUP($D52,TABLEAU_MATCHS[#All],3,FALSE)","v":"20:00:00"},45,{"$f":"\"Groupe \"&VLOOKUP($I52,TABLEAU_TEAMS[[#All],[TEAM]:[GROUP_INITIAL_RANK]],2,FALSE)","v":"Groupe G"},8,4.2,1.32,{"$f":"VLOOKUP($D52,TABLEAU_MATCHS[#All],4,FALSE)","v":"Panama"},0,null,{"$f":"VLOOKUP($D52,TABLEAU_MATCHS[#All],5,FALSE)","v":"Tunisie"},2,{"$f":"IF(OR(ISBLANK(RESULTATS!J52),ISBLANK(J52)),\"\",IF(AND(Vincent!J52=RESULTATS!J52,Vincent!M52=RESULTATS!M52),3,IF(OR(AND(Vincent!J52>Vincent!M52,RESULTATS!J52>RESULTATS!M52),AND(Vincent!J52<Vincent!M52,RESULTATS!J52<RESULTATS!M52),AND(Vincent!J52=Vincent!M52,RESULTATS!J52=RESULTATS!M52)),1,0)))","v":""},null,null,null,"04140Japon",4140,2,"Japon",{"$f":"SUMPRODUCT((Teams1=U52)*(Teams1_Score<>\"\"))+SUMPRODUCT((Teams2=U52)*(Teams2_Score<>\"\"))","v":3},{"$f":"SUMPRODUCT((Teams1=U52)*(Teams1_Score>Teams2_Score))+SUMPRODUCT((Teams2=U52)*(Teams2_Score>Teams1_Score))","v":1},{"$f":"SUMPRODUCT((Teams1=U52)*(Teams1_Score=Teams2_Score)*(Teams1_Score<>\"\"))+SUMPRODUCT((Teams2=U52)*(Teams2_Score=Teams1_Score)*(Teams2_Score<>\"\"))","v":1},{"$f":"SUMPRODUCT((Teams1=U52)*(Teams1_Score<Teams2_Score))+SUMPRODUCT((Teams2=U52)*(Teams2_Score<Teams1_Score))","v":1},{"$f":"SUMPRODUCT((Teams1=U52)*(Teams1_Score))+SUMPRODUCT((Teams2=U52)*(Teams2_Score))","v":4},{"$f":"SUMPRODUCT((Teams1=U52)*(Teams2_Score))+SUMPRODUCT((Teams2=U52)*(Teams1_Score))","v":3},{"$f":"Z52-AA52","v":1},{"$f":"3*W52+X52","v":4},null,null,"2018-07-03",8,{"$f":"IF(SUM(V51:V54)=0,\"1er Groupe H\",IF(COUNTIF(T51:T54,1)=1,VLOOKUP(1,T51:U54,2,FALSE),IF(COUNTIF(T51:T54,1)>=2,\"Tirage au Sort H1\")))","v":"Colombie"},0,null,{"$f":"IF(AND(LEFT(AH52,3)<>\"1er\",LEFT(AH52,3)<>\"2nd\"),COUNTIF(RESULTATS!$AG$30:$AM$37,AH52),0)","v":0},null,null,{"$f":"IF(SUM(V45:V48)=0,\"2nd Groupe G\",IF(OR(COUNTIF(T45:T48,1)>1,COUNTIF(T45:T48,2)>1),\"Tirage au sort G2\",VLOOKUP(2,T45:U48,2,FALSE)))","v":"Angleterre"},0,null,{"$f":"IF(AND(LEFT(AN52,3)<>\"1er\",LEFT(AN52,3)<>\"2nd\"),COUNTIF(RESULTATS!$AG$30:$AM$37,AN52),0)","v":0}]
[null,{"$f":"VLOOKUP($D53,TABLEAU_MATCHS[#All],2,FALSE)","v":"2018-06-28"},{"$f":"VLOOKUP($D53,TABLEAU_MATCHS[#All],3,FALSE)","v":"20:00:00"},46,{"$f":"\"Groupe \"&VLOOKUP($I53,TABLEAU_TEAMS[[#All],[TEAM]:[GROUP_INITIAL_RANK]],2,FALSE)","v":"Groupe G"},1.74,3.2,4.0999999999999996,{"$f":"VLOOKUP($D53,TABLEAU_MATCHS[#All],4,FALSE)","v":"Angleterre"},2,null,{"$f":"VLOOKUP($D53,TABLEAU_MATCHS[#All],5,FALSE)","v":"Belgique"},3,{"$f":"IF(OR(ISBLANK(RESULTATS!J53),ISBLANK(J53)),\"\",IF(AND(Vincent!J53=RESULTATS!J53,Vincent!M53=RESULTATS!M53),3,IF(OR(AND(Vincent!J53>Vincent!M53,RESULTATS!J53>RESULTATS!M53),AND(Vincent!J53<Vincent!M53,RESULTATS!J53<RESULTATS!M53),AND(Vincent!J53=Vincent!M53,RESULTATS!J53=RESULTATS!M53)),1,0)))","v":""},null,null,null,"01930Pologne",1930,3,"Pologne",{"$f":"SUMPRODUCT((Teams1=U53)*(Teams1_Score<>\"\"))+SUMPRODUCT((Teams2=U53)*(Teams2_Score<>\"\"))","v":3},{"$f":"SUMPRODUCT((Teams1=U53)*(Teams1_Score>Teams2_Score))+SUMPRODUCT((Teams2=U53)*(Teams2_Score>Teams1_Score))","v":0},{"$f":"SUMPRODUCT((Teams1=U53)*(Teams1_Score=Teams2_Score)*(Teams1_Score<>\"\"))+SUMPRODUCT((Teams2=U53)*(Teams2_Score=Teams1_Score)*(Teams2_Score<>\"\"))","v":2},{"$f":"SUMPRODUCT((Teams1=U53)*(Teams1_Score<Teams2_Score))+SUMPRODUCT((Teams2=U53)*(Teams2_Score<Teams1_Score))","v":1},{"$f":"SUMPRODUCT((Teams1=U53)*(Teams1_Score))+SUMPRODUCT((Teams2=U53)*(Teams2_Score))","v":3},{"$f":"SUMPRODUCT((Teams1=U53)*(Teams2_Score))+SUMPRODUCT((Teams2=U53)*(Teams1_Score))","v":4},{"$f":"Z53-AA53","v":-1},{"$f":"3*W53+X53","v":2},null,null,null,null,null,null,null,{"$f":"SUM(AK45:AK52)","v":1},null,null,null,0,null,{"$f":"SUM(AQ45:AQ52)","v":1}]
[null,{"$f":"VLOOKUP($D54,TABLEAU_MATCHS[#All],2,FALSE)","v":"2018-06-28"},{"$f":"VLOOKUP($D54,TABLEAU_MATCHS[#All],3,FALSE)","v":"16:00:00"},47,{"$f":"\"Groupe \"&VLOOKUP($I54,TABLEAU_TEAMS[[#All],[TEAM]:[GROUP_INITIAL_RANK]],2,FALSE)","v":"Groupe H"},4.9000000000000004,3.25,1.62,{"$f":"VLOOKUP($D54,TABLEAU_MATCHS[#All],4,FALSE)","v":"Japon"},1,null,{"$f":"VLOOKUP($D54,TABLEAU_MATCHS[#All],5,FALSE)","v":"Pologne"},1,{"$f":"IF(OR(ISBLANK(RESULTATS!J54),ISBLANK(J54)),\"\",IF(AND(Vincent!J54=RESULTATS!J54,Vincent!M54=RESULTATS!M54),3,IF(OR(AND(Vincent!J54>Vincent!M54,RESULTATS!J54>RESULTATS!M54),AND(Vincent!J54<Vincent!M54,RESULTATS!J54<RESULTATS!M54),AND(Vincent!J54=Vincent!M54,RESULTATS!J54=RESULTATS!M54)),1,0)))","v":""},null,null,null,"00810Sénégal",810,4,"Sénégal",{"$f":"SUMPRODUCT((Teams1=U54)*(Teams1_Score<>\"\"))+SUMPRODUCT((Teams2=U54)*(Teams2_Score<>\"\"))","v":2},{"$f":"SUMPRODUCT((Teams1=U54)*(Teams1_Score>Teams2_Score))+SUMPRODUCT((Teams2=U54)*(Teams2_Score>Teams1_Score))","v":0},{"$f":"SUMPRODUCT((Teams1=U54)*(Teams1_Score=Teams2_Score)*(Teams1_Score<>\"\"))+SUMPRODUCT((Teams2=U54)*(Teams2_Score=Teams1_Score)*(Teams2_Score<>\"\"))","v":1},{"$f":"SUMPRODUCT((Teams1=U54)*(Teams1_Score<Teams2_Score))+SUMPRODUCT((Teams2=U54)*(Teams2_Score<Teams1_Score))","v":1},{"$f":"SUMPRODUCT((Teams1=U54)*(Teams1_Score))+SUMPRODUCT((Teams2=U54)*(Teams2_Score))","v":1},{"$f":"SUMPRODUCT((Teams1=U54)*(Teams2_Score))+SUMPRODUCT((Teams2=U54)*(Teams1_Score))","v":3},{"$f":"Z54-AA54","v":-2},{"$f":"3*W54+X54","v":1}]
[null,{"$f":"VLOOKUP($D55,TABLEAU_MATCHS[#All],2,FALSE)","v":"2018-06-28"},{"$f":"VLOOKUP($D55,TABLEAU_MATCHS[#All],3,FALSE)","v":"16:00:00"},48,{"$f":"\"Groupe \"&VLOOKUP($I55,TABLEAU_TEAMS[[#All],[TEAM]:[GROUP_INITIAL_RANK]],2,FALSE)","v":"Groupe H"},6,3.4,1.52,{"$f":"VLOOKUP($D55,TABLEAU_MATCHS[#All],4,FALSE)","v":"Sénégal"},null,null,{"$f":"VLOOKUP($D55,TABLEAU_MATCHS[#All],5,FALSE)","v":"Colombie"},null,{"$f":"IF(OR(ISBLANK(RESULTATS!J55),ISBLANK(J55)),\"\",IF(AND(Vincent!J55=RESULTATS!J55,Vincent!M55=RESULTATS!M55),3,IF(OR(AND(Vincent!J55>Vincent!M55,RESULTATS!J55>RESULTATS!M55),AND(Vincent!J55<Vincent!M55,RESULTATS!J55<RESULTATS!M55),AND(Vincent!J55=Vincent!M55,RESULTATS!J55=RESULTATS!M55)),1,0)))","v":""}]
[null,null,null,null,null,null,null,null,null,null,null,null,null,{"$f":"SUM(N8:N55)","v":5}]
[]
[]
[null,"Tirage au sort A1",null,null,null,null,null,null,null,null,null,null,null,null,null,null,null,null,null,"Rg","Groupe A","MJ","G","N","P","BP","BC","+/-","Pts"]
[null,{"$f":"IF(ROWS($1:1)<=COUNTIF($T$9:$T$12,1),INDEX($U$9:$U$12,SMALL(IF($T$9:$T$12=1,ROW(INDIRECT(\"1:\"&ROWS($T$9:$T$12)))),ROWS($1:1))),\"\")","v":"Uruguay"},null,null,null,null,null,null,null,null,null,null,null,null,null,null,"A_1",{"$f":"TEXT(S60,\"00000\")&U60","v":"07350Russie"},{"$f":"AC60*1000+AB60*100+Z60*10","v":7350},{"$f":"RANK(S60,$S60:$S64,0)","v":2},{"$f":"VLOOKUP(Q60,TABLEAU_TEAMS[#All],2,FALSE)","v":"Russie"},{"$f":"SUMPRODUCT((Teams1=U60)*(Teams1_Score<>\"\"))+SUMPRODUCT((Teams2=U60)*(Teams2_Score<>\"\"))","v":3},{"$f":"SUMPRODUCT((Teams1=U60)*(Teams1_Score>Teams2_Score))+SUMPRODUCT((Teams2=U60)*(Teams2_Score>Teams1_Score))","v":2},{"$f":"SUMPRODUCT((Teams1=U60)*(Teams1_Score=Teams2_Score)*(Teams1_Score<>\"\"))+SUMPRODUCT((Teams2=U60)*(Teams2_Score=Teams1_Score)*(Teams2_Score<>\"\"))","v":1},{"$f":"SUMPRODUCT((Teams1=U60)*(Teams1_Score<Teams2_Score))+SUMPRODUCT((Teams2=U60)*(Teams2_Score<Teams1_Score))","v":0},{"$f":"SUMPRODUCT((Teams1=U60)*(Teams1_Score))+SUMPRODUCT((Teams2=U60)*(Teams2_Score))","v":5},{"$f":"SUMPRODUCT((Teams1=U60)*(Teams2_Score))+SUMPRODUCT((Teams2=U60)*(Teams1_Score))","v":2},{"$f":"Z60-AA60","v":3},{"$f":"3*W60+X60","v":7}]
[null,{"$f":"IF(ROWS($1:2)<=COUNTIF($T$9:$T$12,1),INDEX($U$9:$U$12,SMALL(IF($T$9:$T$12=1,ROW(INDIRECT(\"1:\"&ROWS($T$9:$T$12)))),ROWS($1:2))),\"\")","v":""},null,null,null,null,null,null,null,null,null,null,null,null,null,null,"A_2",{"$f":"TEXT(S61,\"00000\")&U61","v":"-00800Arabie Saoudite"},{"$f":"AC61*1000+AB61*100+Z61*10","v":-800},{"$f":"RANK(S61,$S60:$S64,0)","v":4},{"$f":"VLOOKUP(Q61,TABLEAU_TEAMS[#All],2,FALSE)","v":"Arabie Saoudite"},{"$f":"SUMPRODUCT((Teams1=U61)*(Teams1_Score<>\"\"))+SUMPRODUCT((Teams2=U61)*(Teams2_Score<>\"\"))","v":3},{"$f":"SUMPRODUCT((Teams1=U61)*(Teams1_Score>Teams2_Score))+SUMPRODUCT((Teams2=U61)*(Teams2_Score>Teams1_Score))","v":0},{"$f":"SUMPRODUCT((Teams1=U61)*(Teams1_Score=Teams2_Score)*(Teams1_Score<>\"\"))+SUMPRODUCT((Teams2=U61)*(Teams2_Score=Teams1_Score)*(Teams2_Score<>\"\"))","v":0},{"$f":"SUMPRODUCT((Teams1=U61)*(Teams1_Score<Teams2_Score))+SUMPRODUCT((Teams2=U61)*(Teams2_Score<Teams1_Score))","v":3},{"$f":"SUMPRODUCT((Teams1=U61)*(Teams1_Score))+SUMPRODUCT((Teams2=U61)*(Teams2_Score))","v":0},{"$f":"SUMPRODUCT((Teams1=U61)*(Teams2_Score))+SUMPRODUCT((Teams2=U61)*(Teams1_Score))","v":8},{"$f":"Z61-AA61","v":-8},{"$f":"3*W61+X61","v":0}]
[null,{"$f":"IF(ROWS($1:3)<=COUNTIF($T$9:$T$12,1),INDEX($U$9:$U$12,SMALL(IF($T$9:$T$12=1,ROW(INDIRECT(\"1:\"&ROWS($T$9:$T$12)))),ROWS($1:3))),\"\")","v":""},null,null,null,null,null,null,null,null,null,null,null,null,null,null,"A_3",{"$f":"TEXT(S62,\"00000\")&U62","v":"03020Egypte"},{"$f":"AC62*1000+AB62*100+Z62*10","v":3020},{"$f":"RANK(S62,$S60:$S64,0)","v":3},{"$f":"VLOOKUP(Q62,TABLEAU_TEAMS[#All],2,FALSE)","v":"Egypte"},{"$f":"SUMPRODUCT((Teams1=U62)*(Teams1_Score<>\"\"))+SUMPRODUCT((Teams2=U62)*(Teams2_Score<>\"\"))","v":3},{"$f":"SUMPRODUCT((Teams1=U62)*(Teams1_Score>Teams2_Score))+SUMPRODUCT((Teams2=U62)*(Teams2_Score>Teams1_Score))","v":1},{"$f":"SUMPRODUCT((Teams1=U62)*(Teams1_Score=Teams2_Score)*(Teams1_Score<>\"\"))+SUMPRODUCT((Teams2=U62)*(Teams2_Score=Teams1_Score)*(Teams2_Score<>\"\"))","v":0},{"$f":"SUMPRODUCT((Teams1=U62)*(Teams1_Score<Teams2_Score))+SUMPRODUCT((Teams2=U62)*(Teams2_Score<Teams1_Score))","v":2},{"$f":"SUMPRODUCT((Teams1=U62)*(Teams1_Score))+SUMPRODUCT((Teams2=U62)*(Teams2_Score))","v":2},{"$f":"SUMPRODUCT((Teams1=U62)*(Teams2_Score))+SUMPRODUCT((Teams2=U62)*(Teams1_Score))","v":2},{"$f":"Z62-AA62","v":0},{"$f":"3*W62+X62","v":3}]
[null,{"$f":"IF(ROWS($1:4)<=COUNTIF($T$9:$T$12,1),INDEX($U$9:$U$12,SMALL(IF($T$9:$T$12=1,ROW(INDIRECT(\"1:\"&ROWS($T$9:$T$12)))),ROWS($1:4))),\"\")","v":""},null,null,null,null,null,null,null,null,null,null,null,null,null,null,"A_4",{"$f":"TEXT(S63,\"00000\")&U63","v":"07570Uruguay"},{"$f":"AC63*1000+AB63*100+Z63*10","v":7570},{"$f":"RANK(S63,$S60:$S64,0)","v":1},{"$f":"VLOOKUP(Q63,TABLEAU_TEAMS[#All],2,FALSE)","v":"Uruguay"},{"$f":"SUMPRODUCT((Teams1=U63)*(Teams1_Score<>\"\"))+SUMPRODUCT((Teams2=U63)*(Teams2_Score<>\"\"))","v":3},{"$f":"SUMPRODUCT((Teams1=U63)*(Teams1_Score>Teams2_Score))+SUMPRODUCT((Teams2=U63)*(Teams2_Score>Teams1_Score))","v":2},{"$f":"SUMPRODUCT((Teams1=U63)*(Teams1_Score=Teams2_Score)*(Teams1_Score<>\"\"))+SUMPRODUCT((Teams2=U63)*(Teams2_Score=Teams1_Score)*(Teams2_Score<>\"\"))","v":1},{"$f":"SUMPRODUCT((Teams1=U63)*(Teams1_Score<Teams2_Score))+SUMPRODUCT((Teams2=U63)*(Teams2_Score<Teams1_Score))","v":0},{"$f":"SUMPRODUCT((Teams1=U63)*(Teams1_Score))+SUMPRODUCT((Teams2=U63)*(Teams2_Score))","v":7},{"$f":"SUMPRODUCT((Teams1=U63)*(Teams2_Score))+SUMPRODUCT((Teams2=U63)*(Teams1_Score))","v":2},{"$f":"Z63-AA63","v":5},{"$f":"3*W63+X63","v":7}]
[null,"Tirage au sort A2"]
[null,{"$f":"IF(COUNTIF($T$9:$T$12,1)>1,IF(ROWS($1:1)<=COUNTIF($T$9:$T$12,1),INDEX($U$9:$U$12,SMALL(IF($T$9:$T$12=1,ROW(INDIRECT(\"1:\"&ROWS($T$9:$T$12)))),ROWS($1:1))),\"\"),IF(COUNTIF($T$9:$T$12,2)>1,IF(ROWS($1:1)<=COUNTIF($T$9:$T$12,2),INDEX($U$9:$U$12,SMALL(IF($T$9:$T$12=2,ROW(INDIRECT(\"1:\"&ROWS($T$9:$T$12)))),ROWS($1:1))),\"\")))","v":false},null,null,null,null,null,null,null,null,null,null,null,null,null,null,null,null,null,"Rg","Groupe B","MJ","G","N","P","BP","BC","Pts","Pts"]
[null,{"$f":"IF(COUNTIF($T$9:$T$12,1)>1,IF(ROWS($1:2)<=COUNTIF($T$9:$T$12,1),INDEX($U$9:$U$12,SMALL(IF($T$9:$T$12=1,ROW(INDIRECT(\"1:\"&ROWS($T$9:$T$12)))),ROWS($1:2))),\"\"),IF(COUNTIF($T$9:$T$12,2)>1,IF(ROWS($1:2)<=COUNTIF($T$9:$T$12,2),INDEX($U$9:$U$12,SMALL(IF($T$9:$T$12=2,ROW(INDIRECT(\"1:\"&ROWS($T$9:$T$12)))),ROWS($1:2))),\"\")))","v":false},null,null,null,null,null,null,null,null,null,null,null,null,null,null,"B_1",{"$f":"TEXT(S66,\"00000\")&U66","v":"02830Maroc"},{"$f":"AC66*1000+AB66*100+Z66*10","v":2830},{"$f":"RANK(S66,$S66:$S70,0)","v":3},{"$f":"VLOOKUP(Q66,TABLEAU_TEAMS[#All],2,FALSE)","v":"Maroc"},{"$f":"SUMPRODUCT((Teams1=U66)*(Teams1_Score<>\"\"))+SUMPRODUCT((Teams2=U66)*(Teams2_Score<>\"\"))","v":3},{"$f":"SUMPRODUCT((Teams1=U66)*(Teams1_Score>Teams2_Score))+SUMPRODUCT((Teams2=U66)*(Teams2_Score>Teams1_Score))","v":1},{"$f":"SUMPRODUCT((Teams1=U66)*(Teams1_Score=Teams2_Score)*(Teams1_Score<>\"\"))+SUMPRODUCT((Teams2=U66)*(Teams2_Score=Teams1_Score)*(Teams2_Score<>\"\"))","v":0},{"$f":"SUMPRODUCT((Teams1=U66)*(Teams1_Score<Teams2_Score))+SUMPRODUCT((Teams2=U66)*(Teams2_Score<Teams1_Score))","v":2},{"$f":"SUMPRODUCT((Teams1=U66)*(Teams1_Score))+SUMPRODUCT((Teams2=U66)*(Teams2_Score))","v":3},{"$f":"SUMPRODUCT((Teams1=U66)*(Teams2_Score))+SUMPRODUCT((Teams2=U66)*(Teams1_Score))","v":5},{"$f":"Z66-AA66","v":-2},{"$f":"3*W66+X66","v":3}]
[null,{"$f":"IF(COUNTIF($T$9:$T$12,1)>1,IF(ROWS($1:3)<=COUNTIF($T$9:$T$12,1),INDEX($U$9:$U$12,SMALL(IF($T$9:$T$12=1,ROW(INDIRECT(\"1:\"&ROWS($T$9:$T$12)))),ROWS($1:3))),\"\"),IF(COUNTIF($T$9:$T$12,2)>1,IF(ROWS($1:3)<=COUNTIF($T$9:$T$12,2),INDEX($U$9:$U$12,SMALL(IF($T$9:$T$12=2,ROW(INDIRECT(\"1:\"&ROWS($T$9:$T$12)))),ROWS($1:3))),\"\")))","v":false},null,null,null,null,null,null,null,null,null,null,null,null,null,null,"B_2",{"$f":"TEXT(S67,\"00000\")&U67","v":"-01000RI Iran"},{"$f":"AC67*1000+AB67*100+Z67*10","v":-1000},{"$f":"RANK(S67,$S66:$S70,0)","v":4},{"$f":"VLOOKUP(Q67,TABLEAU_TEAMS[#All],2,FALSE)","v":"RI Iran"},{"$f":"SUMPRODUCT((Teams1=U67)*(Teams1_Score<>\"\"))+SUMPRODUCT((Teams2=U67)*(Teams2_Score<>\"\"))","v":3},{"$f":"SUMPRODUCT((Teams1=U67)*(Teams1_Score>Teams2_Score))+SUMPRODUCT((Teams2=U67)*(Teams2_Score>Teams1_Score))","v":0},{"$f":"SUMPRODUCT((Teams1=U67)*(Teams1_Score=Teams2_Score)*(Teams1_Score<>\"\"))+SUMPRODUCT((Teams2=U67)*(Teams2_Score=Teams1_Score)*(Teams2_Score<>\"\"))","v":0},{"$f":"SUMPRODUCT((Teams1=U67)*(Teams1_Score<Teams2_Score))+SUMPRODUCT((Teams2=U67)*(Teams2_Score<Teams1_Score))","v":3},{"$f":"SUMPRODUCT((Teams1=U67)*(Teams1_Score))+SUMPRODUCT((Teams2=U67)*(Teams2_Score))","v":0},{"$f":"SUMPRODUCT((Teams1=U67)*(Teams2_Score))+SUMPRODUCT((Teams2=U67)*(Teams1_Score))","v":10},{"$f":"Z67-AA67","v":-10},{"$f":"3*W67+X67","v":0}]
[null,{"$f":"IF(COUNTIF($T$9:$T$12,1)>1,IF(ROWS($1:4)<=COUNTIF($T$9:$T$12,1),INDEX($U$9:$U$12,SMALL(IF($T$9:$T$12=1,ROW(INDIRECT(\"1:\"&ROWS($T$9:$T$12)))),ROWS($1:4))),\"\"),IF(COUNTIF($T$9:$T$12,2)>1,IF(ROWS($1:4)<=COUNTIF($T$9:$T$12,2),INDEX($U$9:$U$12,SMALL(IF($T$9:$T$12=2,ROW(INDIRECT(\"1:\"&ROWS($T$9:$T$12)))),ROWS($1:4))),\"\")))","v":false},null,null,null,null,null,null,null,null,null,null,null,null,null,null,"B_3",{"$f":"TEXT(S68,\"00000\")&U68","v":"07670Portugal"},{"$f":"AC68*1000+AB68*100+Z68*10","v":7670},{"$f":"RANK(S68,$S66:$S70,0)","v":2},{"$f":"VLOOKUP(Q68,TABLEAU_TEAMS[#All],2,FALSE)","v":"Portugal"},{"$f":"SUMPRODUCT((Teams1=U68)*(Teams1_Score<>\"\"))+SUMPRODUCT((Teams2=U68)*(Teams2_Score<>\"\"))","v":3},{"$f":"SUMPRODUCT((Teams1=U68)*(Teams1_Score>Teams2_Score))+SUMPRODUCT((Teams2=U68)*(Teams2_Score>Teams1_Score))","v":2},{"$f":"SUMPRODUCT((Teams1=U68)*(Teams1_Score=Teams2_Score)*(Teams1_Score<>\"\"))+SUMPRODUCT((Teams2=U68)*(Teams2_Score=Teams1_Score)*(Teams2_Score<>\"\"))","v":1},{"$f":"SUMPRODUCT((Teams1=U68)*(Teams1_Score<Teams2_Score))+SUMPRODUCT((Teams2=U68)*(Teams2_Score<Teams1_Score))","v":0},{"$f":"SUMPRODUCT((Teams1=U68)*(Teams1_Score))+SUMPRODUCT((Teams2=U68)*(Teams2_Score))","v":7},{"$f":"SUMPRODUCT((Teams1=U68)*(Teams2_Score))+SUMPRODUCT((Teams2=U68)*(Teams1_Score))","v":1},{"$f":"Z68-AA68","v":6},{"$f":"3*W68+X68","v":7}]
[null,"Tirage au sort B1",null,null,null,null,null,null,null,null,null,null,null,null,null,null,"B_4",{"$f":"TEXT(S69,\"00000\")&U69","v":"07680Espagne"},{"$f":"AC69*1000+AB69*100+Z69*10","v":7680},{"$f":"RANK(S69,$S66:$S70,0)","v":1},{"$f":"VLOOKUP(Q69,TABLEAU_TEAMS[#All],2,FALSE)","v":"Espagne"},{"$f":"SUMPRODUCT((Teams1=U69)*(Teams1_Score<>\"\"))+SUMPRODUCT((Teams2=U69)*(Teams2_Score<>\"\"))","v":3},{"$f":"SUMPRODUCT((Teams1=U69)*(Teams1_Score>Teams2_Score))+SUMPRODUCT((Teams2=U69)*(Teams2_Score>Teams1_Score))","v":2},{"$f":"SUMPRODUCT((Teams1=U69)*(Teams1_Score=Teams2_Score)*(Teams1_Score<>\"\"))+SUMPRODUCT((Teams2=U69)*(Teams2_Score=Teams1_Score)*(Teams2_Score<>\"\"))","v":1},{"$f":"SUMPRODUCT((Teams1=U69)*(Teams1_Score<Teams2_Score))+SUMPRODUCT((Teams2=U69)*(Teams2_Score<Teams1_Score))","v":0},{"$f":"SUMPRODUCT((Teams1=U69)*(Teams1_Score))+SUMPRODUCT((Teams2=U69)*(Teams2_Score))","v":8},{"$f":"SUMPRODUCT((Teams1=U69)*(Teams2_Score))+SUMPRODUCT((Teams2=U69)*(Teams1_Score))","v":2},{"$f":"Z69-AA69","v":6},{"$f":"3*W69+X69","v":7}]
[null,{"$f":"IF(ROWS($1:1)<=COUNTIF($T$15:$T$18,1),INDEX($U$15:$U$18,SMALL(IF($T$15:$T$18=1,ROW(INDIRECT(\"1:\"&ROWS($T$15:$T$18)))),ROWS($1:1))),\"\")","v":"Espagne"}]
[null,{"$f":"IF(ROWS($1:2)<=COUNTIF($T$15:$T$18,1),INDEX($U$15:$U$18,SMALL(IF($T$15:$T$18=1,ROW(INDIRECT(\"1:\"&ROWS($T$15:$T$18)))),ROWS($1:2))),\"\")","v":""},null,null,null,null,null,null,null,null,null,null,null,null,null,null,null,null,null,"Rg","Groupe C","MJ","G","N","P","BP","BC","Pts","Pts"]
[null,{"$f":"IF(ROWS($1:3)<=COUNTIF($T$15:$T$18,1),INDEX($U$15:$U$18,SMALL(IF($T$15:$T$18=1,ROW(INDIRECT(\"1:\"&ROWS($T$15:$T$18)))),ROWS($1:3))),\"\")","v":""},null,null,null,null,null,null,null,null,null,null,null,null,null,null,"C_1",{"$f":"TEXT(S72,\"00000\")&U72","v":"09670France"},{"$f":"AC72*1000+AB72*100+Z72*10","v":9670},{"$f":"RANK(S72,$S72:$S76,0)","v":1},{"$f":"VLOOKUP(Q72,TABLEAU_TEAMS[#All],2,FALSE)","v":"France"},{"$f":"SUMPRODUCT((Teams1=U72)*(Teams1_Score<>\"\"))+SUMPRODUCT((Teams2=U72)*(Teams2_Score<>\"\"))","v":3},{"$f":"SUMPRODUCT((Teams1=U72)*(Teams1_Score>Teams2_Score))+SUMPRODUCT((Teams2=U72)*(Teams2_Score>Teams1_Score))","v":3},{"$f":"SUMPRODUCT((Teams1=U72)*(Teams1_Score=Teams2_Score)*(Teams1_Score<>\"\"))+SUMPRODUCT((Teams2=U72)*(Teams2_Score=Teams1_Score)*(Teams2_Score<>\"\"))","v":0},{"$f":"SUMPRODUCT((Teams1=U72)*(Teams1_Score<Teams2_Score))+SUMPRODUCT((Teams2=U72)*(Teams2_Score<Teams1_Score))","v":0},{"$f":"SUMPRODUCT((Teams1=U72)*(Teams1_Score))+SUMPRODUCT((Teams2=U72)*(Teams2_Score))","v":7},{"$f":"SUMPRODUCT((Teams1=U72)*(Teams2_Score))+SUMPRODUCT((Teams2=U72)*(Teams1_Score))","v":1},{"$f":"Z72-AA72","v":6},{"$f":"3*W72+X72","v":9}]
[null,{"$f":"IF(ROWS($1:4)<=COUNTIF($T$15:$T$18,1),INDEX($U$15:$U$18,SMALL(IF($T$15:$T$18=1,ROW(INDIRECT(\"1:\"&ROWS($T$15:$T$18)))),ROWS($1:4))),\"\")","v":""},null,null,null,null,null,null,null,null,null,null,null,null,null,null,"C_2",{"$f":"TEXT(S73,\"00000\")&U73","v":"-00490Australie"},{"$f":"AC73*1000+AB73*100+Z73*10","v":-490},{"$f":"RANK(S73,$S72:$S76,0)","v":4},{"$f":"VLOOKUP(Q73,TABLEAU_TEAMS[#All],2,FALSE)","v":"Australie"},{"$f":"SUMPRODUCT((Teams1=U73)*(Teams1_Score<>\"\"))+SUMPRODUCT((Teams2=U73)*(Teams2_Score<>\"\"))","v":3},{"$f":"SUMPRODUCT((Teams1=U73)*(Teams1_Score>Teams2_Score))+SUMPRODUCT((Teams2=U73)*(Teams2_Score>Teams1_Score))","v":0},{"$f":"SUMPRODUCT((Teams1=U73)*(Teams1_Score=Teams2_Score)*(Teams1_Score<>\"\"))+SUMPRODUCT((Teams2=U73)*(Teams2_Score=Teams1_Score)*(Teams2_Score<>\"\"))","v":0},{"$f":"SUMPRODUCT((Teams1=U73)*(Teams1_Score<Teams2_Score))+SUMPRODUCT((Teams2=U73)*(Teams2_Score<Teams1_Score))","v":3},{"$f":"SUMPRODUCT((Teams1=U73)*(Teams1_Score))+SUMPRODUCT((Teams2=U73)*(Teams2_Score))","v":1},{"$f":"SUMPRODUCT((Teams1=U73)*(Teams2_Score))+SUMPRODUCT((Teams2=U73)*(Teams1_Score))","v":6},{"$f":"Z73-AA73","v":-5},{"$f":"3*W73+X73","v":0}]
[null,"Tirage au sort B2",null,null,null,null,null,null,null,null,null,null,null,null,null,null,"C_3",{"$f":"TEXT(S74,\"00000\")&U74","v":"02830Pérou"},{"$f":"AC74*1000+AB74*100+Z74*10","v":2830},{"$f":"RANK(S74,$S72:$S76,0)","v":3},{"$f":"VLOOKUP(Q74,TABLEAU_TEAMS[#All],2,FALSE)","v":"Pérou"},{"$f":"SUMPRODUCT((Teams1=U74)*(Teams1_Score<>\"\"))+SUMPRODUCT((Teams2=U74)*(Teams2_Score<>\"\"))","v":3},{"$f":"SUMPRODUCT((Teams1=U74)*(Teams1_Score>Teams2_Score))+SUMPRODUCT((Teams2=U74)*(Teams2_Score>Teams1_Score))","v":1},{"$f":"SUMPRODUCT((Teams1=U74)*(Teams1_Score=Teams2_Score)*(Teams1_Score<>\"\"))+SUMPRODUCT((Teams2=U74)*(Teams2_Score=Teams1_Score)*(Teams2_Score<>\"\"))","v":0},{"$f":"SUMPRODUCT((Teams1=U74)*(Teams1_Score<Teams2_Score))+SUMPRODUCT((Teams2=U74)*(Teams2_Score<Teams1_Score))","v":2},{"$f":"SUMPRODUCT((Teams1=U74)*(Teams1_Score))+SUMPRODUCT((Teams2=U74)*(Teams2_Score))","v":3},{"$f":"SUMPRODUCT((Teams1=U74)*(Teams2_Score))+SUMPRODUCT((Teams2=U74)*(Teams1_Score))","v":5},{"$f":"Z74-AA74","v":-2},{"$f":"3*W74+X74","v":3}]
[null,{"$f":"IF(COUNTIF($T$15:$T$18,1)>1,IF(ROWS($1:1)<=COUNTIF($T$15:$T$18,1),INDEX($U$15:$U$18,SMALL(IF($T$15:$T$18=1,ROW(INDIRECT(\"1:\"&ROWS($T$15:$T$18)))),ROWS($1:1))),\"\"),IF(COUNTIF($T$15:$T$18,2)>1,IF(ROWS($1:1)<=COUNTIF($T$15:$T$18,2),INDEX($U$15:$U$18,SMALL(IF($T$15:$T$18=2,ROW(INDIRECT(\"1:\"&ROWS($T$15:$T$18)))),ROWS($1:1))),\"\")))","v":false},null,null,null,null,null,null,null,null,null,null,null,null,null,null,"C_4",{"$f":"TEXT(S75,\"00000\")&U75","v":"06150Danemark"},{"$f":"AC75*1000+AB75*100+Z75*10","v":6150},{"$f":"RANK(S75,$S72:$S76,0)","v":2},{"$f":"VLOOKUP(Q75,TABLEAU_TEAMS[#All],2,FALSE)","v":"Danemark"},{"$f":"SUMPRODUCT((Teams1=U75)*(Teams1_Score<>\"\"))+SUMPRODUCT((Teams2=U75)*(Teams2_Score<>\"\"))","v":3},{"$f":"SUMPRODUCT((Teams1=U75)*(Teams1_Score>Teams2_Score))+SUMPRODUCT((Teams2=U75)*(Teams2_Score>Teams1_Score))","v":2},{"$f":"SUMPRODUCT((Teams1=U75)*(Teams1_Score=Teams2_Score)*(Teams1_Score<>\"\"))+SUMPRODUCT((Teams2=U75)*(Teams2_Score=Teams1_Score)*(Teams2_Score<>\"\"))","v":0},{"$f":"SUMPRODUCT((Teams1=U75)*(Teams1_Score<Teams2_Score))+SUMPRODUCT((Teams2=U75)*(Teams2_Score<Teams1_Score))","v":1},{"$f":"SUMPRODUCT((Teams1=U75)*(Teams1_Score))+SUMPRODUCT((Teams2=U75)*(Teams2_Score))","v":5},{"$f":"SUMPRODUCT((Teams1=U75)*(Teams2_Score))+SUMPRODUCT((Teams2=U75)*(Teams1_Score))","v":4},{"$f":"Z75-AA75","v":1},{"$f":"3*W75+X75","v":6}]
[null,{"$f":"IF(COUNTIF($T$15:$T$18,1)>1,IF(ROWS($1:2)<=COUNTIF($T$15:$T$18,1),INDEX($U$15:$U$18,SMALL(IF($T$15:$T$18=1,ROW(INDIRECT(\"1:\"&ROWS($T$15:$T$18)))),ROWS($1:2))),\"\"),IF(COUNTIF($T$15:$T$18,2)>1,IF(ROWS($1:2)<=COUNTIF($T$15:$T$18,2),INDEX($U$15:$U$18,SMALL(IF($T$15:$T$18=2,ROW(INDIRECT(\"1:\"&ROWS($T$15:$T$18)))),ROWS($1:2))),\"\")))","v":false}]
[null,{"$f":"IF(COUNTIF($T$15:$T$18,1)>1,IF(ROWS($1:3)<=COUNTIF($T$15:$T$18,1),INDEX($U$15:$U$18,SMALL(IF($T$15:$T$18=1,ROW(INDIRECT(\"1:\"&ROWS($T$15:$T$18)))),ROWS($1:3))),\"\"),IF(COUNTIF($T$15:$T$18,2)>1,IF(ROWS($1:3)<=COUNTIF($T$15:$T$18,2),INDEX($U$15:$U$18,SMALL(IF($T$15:$T$18=2,ROW(INDIRECT(\"1:\"&ROWS($T$15:$T$18)))),ROWS($1:3))),\"\")))","v":false},null,null,null,null,null,null,null,null,null,null,null,null,null,null,null,null,null,"Rg","Groupe D","MJ","G","N","P","BP","BC","Pts","Pts"]
[null,{"$f":"IF(COUNTIF($T$15:$T$18,1)>1,IF(ROWS($1:4)<=COUNTIF($T$15:$T$18,1),INDEX($U$15:$U$18,SMALL(IF($T$15:$T$18=1,ROW(INDIRECT(\"1:\"&ROWS($T$15:$T$18)))),ROWS($1:4))),\"\"),IF(COUNTIF($T$15:$T$18,2)>1,IF(ROWS($1:4)<=COUNTIF($T$15:$T$18,2),INDEX($U$15:$U$18,SMALL(IF($T$15:$T$18=2,ROW(INDIRECT(\"1:\"&ROWS($T$15:$T$18)))),ROWS($1:4))),\"\")))","v":false},null,null,null,null,null,null,null,null,null,null,null,null,null,null,"D_1",{"$f":"TEXT(S78,\"00000\")&U78","v":"06150Argentine"},{"$f":"AC78*1000+AB78*100+Z78*10","v":6150},{"$f":"RANK(S78,$S78:$S82,0)","v":2},{"$f":"VLOOKUP(Q78,TABLEAU_TEAMS[#All],2,FALSE)","v":"Argentine"},{"$f":"SUMPRODUCT((Teams1=U78)*(Teams1_Score<>\"\"))+SUMPRODUCT((Teams2=U78)*(Teams2_Score<>\"\"))","v":3},{"$f":"SUMPRODUCT((Teams1=U78)*(Teams1_Score>Teams2_Score))+SUMPRODUCT((Teams2=U78)*(Teams2_Score>Teams1_Score))","v":2},{"$f":"SUMPRODUCT((Teams1=U78)*(Teams1_Score=Teams2_Score)*(Teams1_Score<>\"\"))+SUMPRODUCT((Teams2=U78)*(Teams2_Score=Teams1_Score)*(Teams2_Score<>\"\"))","v":0},{"$f":"SUMPRODUCT((Teams1=U78)*(Teams1_Score<Teams2_Score))+SUMPRODUCT((Teams2=U78)*(Teams2_Score<Teams1_Score))","v":1},{"$f":"SUMPRODUCT((Teams1=U78)*(Teams1_Score))+SUMPRODUCT((Teams2=U78)*(Teams2_Score))","v":5},{"$f":"SUMPRODUCT((Teams1=U78)*(Teams2_Score))+SUMPRODUCT((Teams2=U78)*(Teams1_Score))","v":4},{"$f":"Z78-AA78","v":1},{"$f":"3*W78+X78","v":6}]
[null,"Tirage au sort C1",null,null,null,null,null,null,null,null,null,null,null,null,null,null,"D_2",{"$f":"TEXT(S79,\"00000\")&U79","v":"00620Islande"},{"$f":"AC79*1000+AB79*100+Z79*10","v":620},{"$f":"RANK(S79,$S78:$S82,0)","v":4},{"$f":"VLOOKUP(Q79,TABLEAU_TEAMS[#All],2,FALSE)","v":"Islande"},{"$f":"SUMPRODUCT((Teams1=U79)*(Teams1_Score<>\"\"))+SUMPRODUCT((Teams2=U79)*(Teams2_Score<>\"\"))","v":3},{"$f":"SUMPRODUCT((Teams1=U79)*(Teams1_Score>Teams2_Score))+SUMPRODUCT((Teams2=U79)*(Teams2_Score>Teams1_Score))","v":0},{"$f":"SUMPRODUCT((Teams1=U79)*(Teams1_Score=Teams2_Score)*(Teams1_Score<>\"\"))+SUMPRODUCT((Teams2=U79)*(Teams2_Score=Teams1_Score)*(Teams2_Score<>\"\"))","v":1},{"$f":"SUMPRODUCT((Teams1=U79)*(Teams1_Score<Teams2_Score))+SUMPRODUCT((Teams2=U79)*(Teams2_Score<Teams1_Score))","v":2},{"$f":"SUMPRODUCT((Teams1=U79)*(Teams1_Score))+SUMPRODUCT((Teams2=U79)*(Teams2_Score))","v":2},{"$f":"SUMPRODUCT((Teams1=U79)*(Teams2_Score))+SUMPRODUCT((Teams2=U79)*(Teams1_Score))","v":6},{"$f":"Z79-AA79","v":-4},{"$f":"3*W79+X79","v":1}]
[null,{"$f":"IF(ROWS($1:1)<=COUNTIF($T$21:$T$24,1),INDEX($U$21:$U$24,SMALL(IF($T$21:$T$24=1,ROW(INDIRECT(\"1:\"&ROWS($T$21:$T$24)))),ROWS($1:1))),\"\")","v":"France"},null,null,null,null,null,null,null,null,null,null,null,null,null,null,"D_3",{"$f":"TEXT(S80,\"00000\")&U80","v":"00850Croatie"},{"$f":"AC80*1000+AB80*100+Z80*10","v":850},{"$f":"RANK(S80,$S78:$S82,0)","v":3},{"$f":"VLOOKUP(Q80,TABLEAU_TEAMS[#All],2,FALSE)","v":"Croatie"},{"$f":"SUMPRODUCT((Teams1=U80)*(Teams1_Score<>\"\"))+SUMPRODUCT((Teams2=U80)*(Teams2_Score<>\"\"))","v":3},{"$f":"SUMPRODUCT((Teams1=U80)*(Teams1_Score>Teams2_Score))+SUMPRODUCT((Teams2=U80)*(Teams2_Score>Teams1_Score))","v":0},{"$f":"SUMPRODUCT((Teams1=U80)*(Teams1_Score=Teams2_Score)*(Teams1_Score<>\"\"))+SUMPRODUCT((Teams2=U80)*(Teams2_Score=Teams1_Score)*(Teams2_Score<>\"\"))","v":1},{"$f":"SUMPRODUCT((Teams1=U80)*(Teams1_Score<Teams2_Score))+SUMPRODUCT((Teams2=U80)*(Teams2_Score<Teams1_Score))","v":2},{"$f":"SUMPRODUCT((Teams1=U80)*(Teams1_Score))+SUMPRODUCT((Teams2=U80)*(Teams2_Score))","v":5},{"$f":"SUMPRODUCT((Teams1=U80)*(Teams2_Score))+SUMPRODUCT((Teams2=U80)*(Teams1_Score))","v":7},{"$f":"Z80-AA80","v":-2},{"$f":"3*W80+X80","v":1}]
[null,{"$f":"IF(ROWS($1:2)<=COUNTIF($T$21:$T$24,1),INDEX($U$21:$U$24,SMALL(IF($T$21:$T$24=1,ROW(INDIRECT(\"1:\"&ROWS($T$21:$T$24)))),ROWS($1:2))),\"\")","v":""},null,null,null,null,null,null,null,null,null,null,null,null,null,null,"D_4",{"$f":"TEXT(S81,\"00000\")&U81","v":"09580Nigeria"},{"$f":"AC81*1000+AB81*100+Z81*10","v":9580},{"$f":"RANK(S81,$S78:$S82,0)","v":1},{"$f":"VLOOKUP(Q81,TABLEAU_TEAMS[#All],2,FALSE)","v":"Nigeria"},{"$f":"SUMPRODUCT((Teams1=U81)*(Teams1_Score<>\"\"))+SUMPRODUCT((Teams2=U81)*(Teams2_Score<>\"\"))","v":3},{"$f":"SUMPRODUCT((Teams1=U81)*(Teams1_Score>Teams2_Score))+SUMPRODUCT((Teams2=U81)*(Teams2_Score>Teams1_Score))","v":3},{"$f":"SUMPRODUCT((Teams1=U81)*(Teams1_Score=Teams2_Score)*(Teams1_Score<>\"\"))+SUMPRODUCT((Teams2=U81)*(Teams2_Score=Teams1_Score)*(Teams2_Score<>\"\"))","v":0},{"$f":"SUMPRODUCT((Teams1=U81)*(Teams1_Score<Teams2_Score))+SUMPRODUCT((Teams2=U81)*(Teams2_Score<Teams1_Score))","v":0},{"$f":"SUMPRODUCT((Teams1=U81)*(Teams1_Score))+SUMPRODUCT((Teams2=U81)*(Teams2_Score))","v":8},{"$f":"SUMPRODUCT((Teams1=U81)*(Teams2_Score))+SUMPRODUCT((Teams2=U81)*(Teams1_Score))","v":3},{"$f":"Z81-AA81","v":5},{"$f":"3*W81+X81","v":9}]
[null,{"$f":"IF(ROWS($1:3)<=COUNTIF($T$21:$T$24,1),INDEX($U$21:$U$24,SMALL(IF($T$21:$T$24=1,ROW(INDIRECT(\"1:\"&ROWS($T$21:$T$24)))),ROWS($1:3))),\"\")","v":""}]
[null,{"$f":"IF(ROWS($1:4)<=COUNTIF($T$21:$T$24,1),INDEX($U$21:$U$24,SMALL(IF($T$21:$T$24=1,ROW(INDIRECT(\"1:\"&ROWS($T$21:$T$24)))),ROWS($1:4))),\"\")","v":""},null,null,null,null,null,null,null,null,null,null,null,null,null,null,null,null,null,"Rg","Groupe E","MJ","G","N","P","BP","BC","Pts","Pts"]
[null,"Tirage au sort C2",null,null,null,null,null,null,null,null,null,null,null,null,null,null,"E_1",{"$f":"TEXT(S84,\"00000\")&U84","v":"00830Costa Rica"},{"$f":"AC84*1000+AB84*100+Z84*10","v":830},{"$f":"RANK(S84,$S84:$S88,0)","v":4},{"$f":"VLOOKUP(Q84,TABLEAU_TEAMS[#All],2,FALSE)","v":"Costa Rica"},{"$f":"SUMPRODUCT((Teams1=U84)*(Teams1_Score<>\"\"))+SUMPRODUCT((Teams2=U84)*(Teams2_Score<>\"\"))","v":3},{"$f":"SUMPRODUCT((Teams1=U84)*(Teams1_Score>Teams2_Score))+SUMPRODUCT((Teams2=U84)*(Teams2_Score>Teams1_Score))","v":0},{"$f":"SUMPRODUCT((Teams1=U84)*(Teams1_Score=Teams2_Score)*(Teams1_Score<>\"\"))+SUMPRODUCT((Teams2=U84)*(Teams2_Score=Teams1_Score)*(Teams2_Score<>\"\"))","v":1},{"$f":"SUMPRODUCT((Teams1=U84)*(Teams1_Score<Teams2_Score))+SUMPRODUCT((Teams2=U84)*(Teams2_Score<Teams1_Score))","v":2},{"$f":"SUMPRODUCT((Teams1=U84)*(Teams1_Score))+SUMPRODUCT((Teams2=U84)*(Teams2_Score))","v":3},{"$f":"SUMPRODUCT((Teams1=U84)*(Teams2_Score))+SUMPRODUCT((Teams2=U84)*(Teams1_Score))","v":5},{"$f":"Z84-AA84","v":-2},{"$f":"3*W84+X84","v":1}]
[null,{"$f":"IF(COUNTIF($T$21:$T$24,1)>1,IF(ROWS($1:1)<=COUNTIF($T$21:$T$24,1),INDEX($U$21:$U$24,SMALL(IF($T$21:$T$24=1,ROW(INDIRECT(\"1:\"&ROWS($T$21:$T$24)))),ROWS($1:1))),\"\"),IF(COUNTIF($T$21:$T$24,2)>1,IF(ROWS($1:1)<=COUNTIF($T$21:$T$24,2),INDEX($U$21:$U$24,SMALL(IF($T$21:$T$24=2,ROW(INDIRECT(\"1:\"&ROWS($T$21:$T$24)))),ROWS($1:1))),\"\")))","v":false},null,null,null,null,null,null,null,null,null,null,null,null,null,null,"E_2",{"$f":"TEXT(S85,\"00000\")&U85","v":"03930Serbie"},{"$f":"AC85*1000+AB85*100+Z85*10","v":3930},{"$f":"RANK(S85,$S84:$S88,0)","v":2},{"$f":"VLOOKUP(Q85,TABLEAU_TEAMS[#All],2,FALSE)","v":"Serbie"},{"$f":"SUMPRODUCT((Teams1=U85)*(Teams1_Score<>\"\"))+SUMPRODUCT((Teams2=U85)*(Teams2_Score<>\"\"))","v":3},{"$f":"SUMPRODUCT((Teams1=U85)*(Teams1_Score>Teams2_Score))+SUMPRODUCT((Teams2=U85)*(Teams2_Score>Teams1_Score))","v":1},{"$f":"SUMPRODUCT((Teams1=U85)*(Teams1_Score=Teams2_Score)*(Teams1_Score<>\"\"))+SUMPRODUCT((Teams2=U85)*(Teams2_Score=Teams1_Score)*(Teams2_Score<>\"\"))","v":1},{"$f":"SUMPRODUCT((Teams1=U85)*(Teams1_Score<Teams2_Score))+SUMPRODUCT((Teams2=U85)*(Teams2_Score<Teams1_Score))","v":1},{"$f":"SUMPRODUCT((Teams1=U85)*(Teams1_Score))+SUMPRODUCT((Teams2=U85)*(Teams2_Score))","v":3},{"$f":"SUMPRODUCT((Teams1=U85)*(Teams2_Score))+SUMPRODUCT((Teams2=U85)*(Teams1_Score))","v":4},{"$f":"Z85-AA85","v":-1},{"$f":"3*W85+X85","v":4}]
[null,{"$f":"IF(COUNTIF($T$21:$T$24,1)>1,IF(ROWS($1:2)<=COUNTIF($T$21:$T$24,1),INDEX($U$21:$U$24,SMALL(IF($T$21:$T$24=1,ROW(INDIRECT(\"1:\"&ROWS($T$21:$T$24)))),ROWS($1:2))),\"\"),IF(COUNTIF($T$21:$T$24,2)>1,IF(ROWS($1:2)<=COUNTIF($T$21:$T$24,2),INDEX($U$21:$U$24,SMALL(IF($T$21:$T$24=2,ROW(INDIRECT(\"1:\"&ROWS($T$21:$T$24)))),ROWS($1:2))),\"\")))","v":false},null,null,null,null,null,null,null,null,null,null,null,null,null,null,"E_3",{"$f":"TEXT(S86,\"00000\")&U86","v":"09570Brésil"},{"$f":"AC86*1000+AB86*100+Z86*10","v":9570},{"$f":"RANK(S86,$S84:$S88,0)","v":1},{"$f":"VLOOKUP(Q86,TABLEAU_TEAMS[#All],2,FALSE)","v":"Brésil"},{"$f":"SUMPRODUCT((Teams1=U86)*(Teams1_Score<>\"\"))+SUMPRODUCT((Teams2=U86)*(Teams2_Score<>\"\"))","v":3},{"$f":"SUMPRODUCT((Teams1=U86)*(Teams1_Score>Teams2_Score))+SUMPRODUCT((Teams2=U86)*(Teams2_Score>Teams1_Score))","v":3},{"$f":"SUMPRODUCT((Teams1=U86)*(Teams1_Score=Teams2_Score)*(Teams1_Score<>\"\"))+SUMPRODUCT((Teams2=U86)*(Teams2_Score=Teams1_Score)*(Teams2_Score<>\"\"))","v":0},{"$f":"SUMPRODUCT((Teams1=U86)*(Teams1_Score<Teams2_Score))+SUMPRODUCT((Teams2=U86)*(Teams2_Score<Teams1_Score))","v":0},{"$f":"SUMPRODUCT((Teams1=U86)*(Teams1_Score))+SUMPRODUCT((Teams2=U86)*(Teams2_Score))","v":7},{"$f":"SUMPRODUCT((Teams1=U86)*(Teams2_Score))+SUMPRODUCT((Teams2=U86)*(Teams1_Score))","v":2},{"$f":"Z86-AA86","v":5},{"$f":"3*W86+X86","v":9}]
[null,{"$f":"IF(COUNTIF($T$21:$T$24,1)>1,IF(ROWS($1:3)<=COUNTIF($T$21:$T$24,1),INDEX($U$21:$U$24,SMALL(IF($T$21:$T$24=1,ROW(INDIRECT(\"1:\"&ROWS($T$21:$T$24)))),ROWS($1:3))),\"\"),IF(COUNTIF($T$21:$T$24,2)>1,IF(ROWS($1:3)<=COUNTIF($T$21:$T$24,2),INDEX($U$21:$U$24,SMALL(IF($T$21:$T$24=2,ROW(INDIRECT(\"1:\"&ROWS($T$21:$T$24)))),ROWS($1:3))),\"\")))","v":false},null,null,null,null,null,null,null,null,null,null,null,null,null,null,"E_4",{"$f":"TEXT(S87,\"00000\")&U87","v":"01830Suisse"},{"$f":"AC87*1000+AB87*100+Z87*10","v":1830},{"$f":"RANK(S87,$S84:$S88,0)","v":3},{"$f":"VLOOKUP(Q87,TABLEAU_TEAMS[#All],2,FALSE)","v":"Suisse"},{"$f":"SUMPRODUCT((Teams1=U87)*(Teams1_Score<>\"\"))+SUMPRODUCT((Teams2=U87)*(Teams2_Score<>\"\"))","v":3},{"$f":"SUMPRODUCT((Teams1=U87)*(Teams1_Score>Teams2_Score))+SUMPRODUCT((Teams2=U87)*(Teams2_Score>Teams1_Score))","v":0},{"$f":"SUMPRODUCT((Teams1=U87)*(Teams1_Score=Teams2_Score)*(Teams1_Score<>\"\"))+SUMPRODUCT((Teams2=U87)*(Teams2_Score=Teams1_Score)*(Teams2_Score<>\"\"))","v":2},{"$f":"SUMPRODUCT((Teams1=U87)*(Teams1_Score<Teams2_Score))+SUMPRODUCT((Teams2=U87)*(Teams2_Score<Teams1_Score))","v":1},{"$f":"SUMPRODUCT((Teams1=U87)*(Teams1_Score))+SUMPRODUCT((Teams2=U87)*(Teams2_Score))","v":3},{"$f":"SUMPRODUCT((Teams1=U87)*(Teams2_Score))+SUMPRODUCT((Teams2=U87)*(Teams1_Score))","v":5},{"$f":"Z87-AA87","v":-2},{"$f":"3*W87+X87","v":2}]
[null,{"$f":"IF(COUNTIF($T$21:$T$24,1)>1,IF(ROWS($1:4)<=COUNTIF($T$21:$T$24,1),INDEX($U$21:$U$24,SMALL(IF($T$21:$T$24=1,ROW(INDIRECT(\"1:\"&ROWS($T$21:$T$24)))),ROWS($1:4))),\"\"),IF(COUNTIF($T$21:$T$24,2)>1,IF(ROWS($1:4)<=COUNTIF($T$21:$T$24,2),INDEX($U$21:$U$24,SMALL(IF($T$21:$T$24=2,ROW(INDIRECT(\"1:\"&ROWS($T$21:$T$24)))),ROWS($1:4))),\"\")))","v":false}]
[null,"Tirage au sort D1",null,null,null,null,null,null,null,null,null,null,null,null,null,null,null,null,null,"Rg","Groupe F","MJ","G","N","P","BP","BC","Pts","Pts"]
[null,{"$f":"IF(ROWS($1:1)<=COUNTIF($T$27:$T$30,1),INDEX($U$27:$U$30,SMALL(IF($T$27:$T$30=1,ROW(INDIRECT(\"1:\"&ROWS($T$27:$T$30)))),ROWS($1:1))),\"\")","v":"Nigeria"},null,null,null,null,null,null,null,null,null,null,null,null,null,null,"F_1",{"$f":"TEXT(S90,\"00000\")&U90","v":"09800Allemagne"},{"$f":"AC90*1000+AB90*100+Z90*10","v":9800},{"$f":"RANK(S90,$S90:$S94,0)","v":1},{"$f":"VLOOKUP(Q90,TABLEAU_TEAMS[#All],2,FALSE)","v":"Allemagne"},{"$f":"SUMPRODUCT((Teams1=U90)*(Teams1_Score<>\"\"))+SUMPRODUCT((Teams2=U90)*(Teams2_Score<>\"\"))","v":3},{"$f":"SUMPRODUCT((Teams1=U90)*(Teams1_Score>Teams2_Score))+SUMPRODUCT((Teams2=U90)*(Teams2_Score>Teams1_Score))","v":3},{"$f":"SUMPRODUCT((Teams1=U90)*(Teams1_Score=Teams2_Score)*(Teams1_Score<>\"\"))+SUMPRODUCT((Teams2=U90)*(Teams2_Score=Teams1_Score)*(Teams2_Score<>\"\"))","v":0},{"$f":"SUMPRODUCT((Teams1=U90)*(Teams1_Score<Teams2_Score))+SUMPRODUCT((Teams2=U90)*(Teams2_Score<Teams1_Score))","v":0},{"$f":"SUMPRODUCT((Teams1=U90)*(Teams1_Score))+SUMPRODUCT((Teams2=U90)*(Teams2_Score))","v":10},{"$f":"SUMPRODUCT((Teams1=U90)*(Teams2_Score))+SUMPRODUCT((Teams2=U90)*(Teams1_Score))","v":3},{"$f":"Z90-AA90","v":7},{"$f":"3*W90+X90","v":9}]
[null,{"$f":"IF(ROWS($1:2)<=COUNTIF($T$27:$T$30,1),INDEX($U$27:$U$30,SMALL(IF($T$27:$T$30=1,ROW(INDIRECT(\"1:\"&ROWS($T$27:$T$30)))),ROWS($1:2))),\"\")","v":""},null,null,null,null,null,null,null,null,null,null,null,null,null,null,"F_2",{"$f":"TEXT(S91,\"00000\")&U91","v":"03950Mexique"},{"$f":"AC91*1000+AB91*100+Z91*10","v":3950},{"$f":"RANK(S91,$S90:$S94,0)","v":2},{"$f":"VLOOKUP(Q91,TABLEAU_TEAMS[#All],2,FALSE)","v":"Mexique"},{"$f":"SUMPRODUCT((Teams1=U91)*(Teams1_Score<>\"\"))+SUMPRODUCT((Teams2=U91)*(Teams2_Score<>\"\"))","v":3},{"$f":"SUMPRODUCT((Teams1=U91)*(Teams1_Score>Teams2_Score))+SUMPRODUCT((Teams2=U91)*(Teams2_Score>Teams1_Score))","v":1},{"$f":"SUMPRODUCT((Teams1=U91)*(Teams1_Score=Teams2_Score)*(Teams1_Score<>\"\"))+SUMPRODUCT((Teams2=U91)*(Teams2_Score=Teams1_Score)*(Teams2_Score<>\"\"))","v":1},{"$f":"SUMPRODUCT((Teams1=U91)*(Teams1_Score<Teams2_Score))+SUMPRODUCT((Teams2=U91)*(Teams2_Score<Teams1_Score))","v":1},{"$f":"SUMPRODUCT((Teams1=U91)*(Teams1_Score))+SUMPRODUCT((Teams2=U91)*(Teams2_Score))","v":5},{"$f":"SUMPRODUCT((Teams1=U91)*(Teams2_Score))+SUMPRODUCT((Teams2=U91)*(Teams1_Score))","v":6},{"$f":"Z91-AA91","v":-1},{"$f":"3*W91+X91","v":4}]
[null,{"$f":"IF(ROWS($1:3)<=COUNTIF($T$27:$T$30,1),INDEX($U$27:$U$30,SMALL(IF($T$27:$T$30=1,ROW(INDIRECT(\"1:\"&ROWS($T$27:$T$30)))),ROWS($1:3))),\"\")","v":""},null,null,null,null,null,null,null,null,null,null,null,null,null,null,"F_3",{"$f":"TEXT(S92,\"00000\")&U92","v":"01730Suède"},{"$f":"AC92*1000+AB92*100+Z92*10","v":1730},{"$f":"RANK(S92,$S90:$S94,0)","v":3},{"$f":"VLOOKUP(Q92,TABLEAU_TEAMS[#All],2,FALSE)","v":"Suède"},{"$f":"SUMPRODUCT((Teams1=U92)*(Teams1_Score<>\"\"))+SUMPRODUCT((Teams2=U92)*(Teams2_Score<>\"\"))","v":3},{"$f":"SUMPRODUCT((Teams1=U92)*(Teams1_Score>Teams2_Score))+SUMPRODUCT((Teams2=U92)*(Teams2_Score>Teams1_Score))","v":0},{"$f":"SUMPRODUCT((Teams1=U92)*(Teams1_Score=Teams2_Score)*(Teams1_Score<>\"\"))+SUMPRODUCT((Teams2=U92)*(Teams2_Score=Teams1_Score)*(Teams2_Score<>\"\"))","v":2},{"$f":"SUMPRODUCT((Teams1=U92)*(Teams1_Score<Teams2_Score))+SUMPRODUCT((Teams2=U92)*(Teams2_Score<Teams1_Score))","v":1},{"$f":"SUMPRODUCT((Teams1=U92)*(Teams1_Score))+SUMPRODUCT((Teams2=U92)*(Teams2_Score))","v":3},{"$f":"SUMPRODUCT((Teams1=U92)*(Teams2_Score))+SUMPRODUCT((Teams2=U92)*(Teams1_Score))","v":6},{"$f":"Z92-AA92","v":-3},{"$f":"3*W92+X92","v":2}]
[null,{"$f":"IF(ROWS($1:4)<=COUNTIF($T$27:$T$30,1),INDEX($U$27:$U$30,SMALL(IF($T$27:$T$30=1,ROW(INDIRECT(\"1:\"&ROWS($T$27:$T$30)))),ROWS($1:4))),\"\")","v":""},null,null,null,null,null,null,null,null,null,null,null,null,null,null,"F_4",{"$f":"TEXT(S93,\"00000\")&U93","v":"00720République de Corée"},{"$f":"AC93*1000+AB93*100+Z93*10","v":720},{"$f":"RANK(S93,$S90:$S94,0)","v":4},{"$f":"VLOOKUP(Q93,TABLEAU_TEAMS[#All],2,FALSE)","v":"République de Corée"},{"$f":"SUMPRODUCT((Teams1=U93)*(Teams1_Score<>\"\"))+SUMPRODUCT((Teams2=U93)*(Teams2_Score<>\"\"))","v":3},{"$f":"SUMPRODUCT((Teams1=U93)*(Teams1_Score>Teams2_Score))+SUMPRODUCT((Teams2=U93)*(Teams2_Score>Teams1_Score))","v":0},{"$f":"SUMPRODUCT((Teams1=U93)*(Teams1_Score=Teams2_Score)*(Teams1_Score<>\"\"))+SUMPRODUCT((Teams2=U93)*(Teams2_Score=Teams1_Score)*(Teams2_Score<>\"\"))","v":1},{"$f":"SUMPRODUCT((Teams1=U93)*(Teams1_Score<Teams2_Score))+SUMPRODUCT((Teams2=U93)*(Teams2_Score<Teams1_Score))","v":2},{"$f":"SUMPRODUCT((Teams1=U93)*(Teams1_Score))+SUMPRODUCT((Teams2=U93)*(Teams2_Score))","v":2},{"$f":"SUMPRODUCT((Teams1=U93)*(Teams2_Score))+SUMPRODUCT((Teams2=U93)*(Teams1_Score))","v":5},{"$f":"Z93-AA93","v":-3},{"$f":"3*W93+X93","v":1}]
[null,"Tirage au sort D2"]
[null,{"$f":"IF(COUNTIF($T$27:$T$30,1)>1,IF(ROWS($1:1)<=COUNTIF($T$27:$T$30,1),INDEX($U$27:$U$30,SMALL(IF($T$27:$T$30=1,ROW(INDIRECT(\"1:\"&ROWS($T$27:$T$30)))),ROWS($1:1))),\"\"),IF(COUNTIF($T$27:$T$30,2)>1,IF(ROWS($1:1)<=COUNTIF($T$27:$T$30,2),INDEX($U$27:$U$30,SMALL(IF($T$27:$T$30=2,ROW(INDIRECT(\"1:\"&ROWS($T$27:$T$30)))),ROWS($1:1))),\"\")))","v":false},null,null,null,null,null,null,null,null,null,null,null,null,null,null,null,null,null,"Rg","Groupe G","MJ","G","N","P","BP","BC","Pts","Pts"]
[null,{"$f":"IF(COUNTIF($T$27:$T$30,1)>1,IF(ROWS($1:2)<=COUNTIF($T$27:$T$30,1),INDEX($U$27:$U$30,SMALL(IF($T$27:$T$30=1,ROW(INDIRECT(\"1:\"&ROWS($T$27:$T$30)))),ROWS($1:2))),\"\"),IF(COUNTIF($T$27:$T$30,2)>1,IF(ROWS($1:2)<=COUNTIF($T$27:$T$30,2),INDEX($U$27:$U$30,SMALL(IF($T$27:$T$30=2,ROW(INDIRECT(\"1:\"&ROWS($T$27:$T$30)))),ROWS($1:2))),\"\")))","v":false},null,null,null,null,null,null,null,null,null,null,null,null,null,null,"G_1",{"$f":"TEXT(S96,\"00000\")&U96","v":"09680Belgique"},{"$f":"AC96*1000+AB96*100+Z96*10","v":9680},{"$f":"RANK(S96,$S96:$S100,0)","v":1},{"$f":"VLOOKUP(Q96,TABLEAU_TEAMS[#All],2,FALSE)","v":"Belgique"},{"$f":"SUMPRODUCT((Teams1=U96)*(Teams1_Score<>\"\"))+SUMPRODUCT((Teams2=U96)*(Teams2_Score<>\"\"))","v":3},{"$f":"SUMPRODUCT((Teams1=U96)*(Teams1_Score>Teams2_Score))+SUMPRODUCT((Teams2=U96)*(Teams2_Score>Teams1_Score))","v":3},{"$f":"SUMPRODUCT((Teams1=U96)*(Teams1_Score=Teams2_Score)*(Teams1_Score<>\"\"))+SUMPRODUCT((Teams2=U96)*(Teams2_Score=Teams1_Score)*(Teams2_Score<>\"\"))","v":0},{"$f":"SUMPRODUCT((Teams1=U96)*(Teams1_Score<Teams2_Score))+SUMPRODUCT((Teams2=U96)*(Teams2_Score<Teams1_Score))","v":0},{"$f":"SUMPRODUCT((Teams1=U96)*(Teams1_Score))+SUMPRODUCT((Teams2=U96)*(Teams2_Score))","v":8},{"$f":"SUMPRODUCT((Teams1=U96)*(Teams2_Score))+SUMPRODUCT((Teams2=U96)*(Teams1_Score))","v":2},{"$f":"Z96-AA96","v":6},{"$f":"3*W96+X96","v":9}]
[null,{"$f":"IF(COUNTIF($T$27:$T$30,1)>1,IF(ROWS($1:3)<=COUNTIF($T$27:$T$30,1),INDEX($U$27:$U$30,SMALL(IF($T$27:$T$30=1,ROW(INDIRECT(\"1:\"&ROWS($T$27:$T$30)))),ROWS($1:3))),\"\"),IF(COUNTIF($T$27:$T$30,2)>1,IF(ROWS($1:3)<=COUNTIF($T$27:$T$30,2),INDEX($U$27:$U$30,SMALL(IF($T$27:$T$30=2,ROW(INDIRECT(\"1:\"&ROWS($T$27:$T$30)))),ROWS($1:3))),\"\")))","v":false},null,null,null,null,null,null,null,null,null,null,null,null,null,null,"G_2",{"$f":"TEXT(S97,\"00000\")&U97","v":"-00700Panama"},{"$f":"AC97*1000+AB97*100+Z97*10","v":-700},{"$f":"RANK(S97,$S96:$S100,0)","v":4},{"$f":"VLOOKUP(Q97,TABLEAU_TEAMS[#All],2,FALSE)","v":"Panama"},{"$f":"SUMPRODUCT((Teams1=U97)*(Teams1_Score<>\"\"))+SUMPRODUCT((Teams2=U97)*(Teams2_Score<>\"\"))","v":3},{"$f":"SUMPRODUCT((Teams1=U97)*(Teams1_Score>Teams2_Score))+SUMPRODUCT((Teams2=U97)*(Teams2_Score>Teams1_Score))","v":0},{"$f":"SUMPRODUCT((Teams1=U97)*(Teams1_Score=Teams2_Score)*(Teams1_Score<>\"\"))+SUMPRODUCT((Teams2=U97)*(Teams2_Score=Teams1_Score)*(Teams2_Score<>\"\"))","v":0},{"$f":"SUMPRODUCT((Teams1=U97)*(Teams1_Score<Teams2_Score))+SUMPRODUCT((Teams2=U97)*(Teams2_Score<Teams1_Score))","v":3},{"$f":"SUMPRODUCT((Teams1=U97)*(Teams1_Score))+SUMPRODUCT((Teams2=U97)*(Teams2_Score))","v":0},{"$f":"SUMPRODUCT((Teams1=U97)*(Teams2_Score))+SUMPRODUCT((Teams2=U97)*(Teams1_Score))","v":7},{"$f":"Z97-AA97","v":-7},{"$f":"3*W97+X97","v":0}]
[null,{"$f":"IF(COUNTIF($T$27:$T$30,1)>1,IF(ROWS($1:4)<=COUNTIF($T$27:$T$30,1),INDEX($U$27:$U$30,SMALL(IF($T$27:$T$30=1,ROW(INDIRECT(\"1:\"&ROWS($T$27:$T$30)))),ROWS($1:4))),\"\"),IF(COUNTIF($T$27:$T$30,2)>1,IF(ROWS($1:4)<=COUNTIF($T$27:$T$30,2),INDEX($U$27:$U$30,SMALL(IF($T$27:$T$30=2,ROW(INDIRECT(\"1:\"&ROWS($T$27:$T$30)))),ROWS($1:4))),\"\")))","v":false},null,null,null,null,null,null,null,null,null,null,null,null,null,null,"G_3",{"$f":"TEXT(S98,\"00000\")&U98","v":"02930Tunisie"},{"$f":"AC98*1000+AB98*100+Z98*10","v":2930},{"$f":"RANK(S98,$S96:$S100,0)","v":3},{"$f":"VLOOKUP(Q98,TABLEAU_TEAMS[#All],2,FALSE)","v":"Tunisie"},{"$f":"SUMPRODUCT((Teams1=U98)*(Teams1_Score<>\"\"))+SUMPRODUCT((Teams2=U98)*(Teams2_Score<>\"\"))","v":3},{"$f":"SUMPRODUCT((Teams1=U98)*(Teams1_Score>Teams2_Score))+SUMPRODUCT((Teams2=U98)*(Teams2_Score>Teams1_Score))","v":1},{"$f":"SUMPRODUCT((Teams1=U98)*(Teams1_Score=Teams2_Score)*(Teams1_Score<>\"\"))+SUMPRODUCT((Teams2=U98)*(Teams2_Score=Teams1_Score)*(Teams2_Score<>\"\"))","v":0},{"$f":"SUMPRODUCT((Teams1=U98)*(Teams1_Score<Teams2_Score))+SUMPRODUCT((Teams2=U98)*(Teams2_Score<Teams1_Score))","v":2},{"$f":"SUMPRODUCT((Teams1=U98)*(Teams1_Score))+SUMPRODUCT((Teams2=U98)*(Teams2_Score))","v":3},{"$f":"SUMPRODUCT((Teams1=U98)*(Teams2_Score))+SUMPRODUCT((Teams2=U98)*(Teams1_Score))","v":4},{"$f":"Z98-AA98","v":-1},{"$f":"3*W98+X98","v":3}]
[null,"Tirage au sort E1",null,null,null,null,null,null,null,null,null,null,null,null,null,null,"G_4",{"$f":"TEXT(S99,\"00000\")&U99","v":"06260Angleterre"},{"$f":"AC99*1000+AB99*100+Z99*10","v":6260},{"$f":"RANK(S99,$S96:$S100,0)","v":2},{"$f":"VLOOKUP(Q99,TABLEAU_TEAMS[#All],2,FALSE)","v":"Angleterre"},{"$f":"SUMPRODUCT((Teams1=U99)*(Teams1_Score<>\"\"))+SUMPRODUCT((Teams2=U99)*(Teams2_Score<>\"\"))","v":3},{"$f":"SUMPRODUCT((Teams1=U99)*(Teams1_Score>Teams2_Score))+SUMPRODUCT((Teams2=U99)*(Teams2_Score>Teams1_Score))","v":2},{"$f":"SUMPRODUCT((Teams1=U99)*(Teams1_Score=Teams2_Score)*(Teams1_Score<>\"\"))+SUMPRODUCT((Teams2=U99)*(Teams2_Score=Teams1_Score)*(Teams2_Score<>\"\"))","v":0},{"$f":"SUMPRODUCT((Teams1=U99)*(Teams1_Score<Teams2_Score))+SUMPRODUCT((Teams2=U99)*(Teams2_Score<Teams1_Score))","v":1},{"$f":"SUMPRODUCT((Teams1=U99)*(Teams1_Score))+SUMPRODUCT((Teams2=U99)*(Teams2_Score))","v":6},{"$f":"SUMPRODUCT((Teams1=U99)*(Teams2_Score))+SUMPRODUCT((Teams2=U99)*(Teams1_Score))","v":4},{"$f":"Z99-AA99","v":2},{"$f":"3*W99+X99","v":6}]
[null,{"$f":"IF(ROWS($1:1)<=COUNTIF($T$33:$T$36,1),INDEX($U$33:$U$36,SMALL(IF($T$33:$T$36=1,ROW(INDIRECT(\"1:\"&ROWS($T$33:$T$36)))),ROWS($1:1))),\"\")","v":"Brésil"}]
[null,{"$f":"IF(ROWS($1:2)<=COUNTIF($T$33:$T$36,1),INDEX($U$33:$U$36,SMALL(IF($T$33:$T$36=1,ROW(INDIRECT(\"1:\"&ROWS($T$33:$T$36)))),ROWS($1:2))),\"\")","v":""},null,null,null,null,null,null,null,null,null,null,null,null,null,null,null,null,null,"Rg","Groupe H","MJ","G","N","P","BP","BC","Pts","Pts"]
[null,{"$f":"IF(ROWS($1:3)<=COUNTIF($T$33:$T$36,1),INDEX($U$33:$U$36,SMALL(IF($T$33:$T$36=1,ROW(INDIRECT(\"1:\"&ROWS($T$33:$T$36)))),ROWS($1:3))),\"\")","v":""},null,null,null,null,null,null,null,null,null,null,null,null,null,null,"H_1",{"$f":"TEXT(S102,\"00000\")&U102","v":"06240Colombie"},{"$f":"AC102*1000+AB102*100+Z102*10","v":6240},{"$f":"RANK(S102,$S102:$S106,0)","v":1},{"$f":"VLOOKUP(Q102,TABLEAU_TEAMS[#All],2,FALSE)","v":"Colombie"},{"$f":"SUMPRODUCT((Teams1=U102)*(Teams1_Score<>\"\"))+SUMPRODUCT((Teams2=U102)*(Teams2_Score<>\"\"))","v":2},{"$f":"SUMPRODUCT((Teams1=U102)*(Teams1_Score>Teams2_Score))+SUMPRODUCT((Teams2=U102)*(Teams2_Score>Teams1_Score))","v":2},{"$f":"SUMPRODUCT((Teams1=U102)*(Teams1_Score=Teams2_Score)*(Teams1_Score<>\"\"))+SUMPRODUCT((Teams2=U102)*(Teams2_Score=Teams1_Score)*(Teams2_Score<>\"\"))","v":0},{"$f":"SUMPRODUCT((Teams1=U102)*(Teams1_Score<Teams2_Score))+SUMPRODUCT((Teams2=U102)*(Teams2_Score<Teams1_Score))","v":0},{"$f":"SUMPRODUCT((Teams1=U102)*(Teams1_Score))+SUMPRODUCT((Teams2=U102)*(Teams2_Score))","v":4},{"$f":"SUMPRODUCT((Teams1=U102)*(Teams2_Score))+SUMPRODUCT((Teams2=U102)*(Teams1_Score))","v":2},{"$f":"Z102-AA102","v":2},{"$f":"3*W102+X102","v":6}]
[null,{"$f":"IF(ROWS($1:4)<=COUNTIF($T$33:$T$36,1),INDEX($U$33:$U$36,SMALL(IF($T$33:$T$36=1,ROW(INDIRECT(\"1:\"&ROWS($T$33:$T$36)))),ROWS($1:4))),\"\")","v":""},null,null,null,null,null,null,null,null,null,null,null,null,null,null,"H_2",{"$f":"TEXT(S103,\"00000\")&U103","v":"04140Japon"},{"$f":"AC103*1000+AB103*100+Z103*10","v":4140},{"$f":"RANK(S103,$S102:$S106,0)","v":2},{"$f":"VLOOKUP(Q103,TABLEAU_TEAMS[#All],2,FALSE)","v":"Japon"},{"$f":"SUMPRODUCT((Teams1=U103)*(Teams1_Score<>\"\"))+SUMPRODUCT((Teams2=U103)*(Teams2_Score<>\"\"))","v":3},{"$f":"SUMPRODUCT((Teams1=U103)*(Teams1_Score>Teams2_Score))+SUMPRODUCT((Teams2=U103)*(Teams2_Score>Teams1_Score))","v":1},{"$f":"SUMPRODUCT((Teams1=U103)*(Teams1_Score=Teams2_Score)*(Teams1_Score<>\"\"))+SUMPRODUCT((Teams2=U103)*(Teams2_Score=Teams1_Score)*(Teams2_Score<>\"\"))","v":1},{"$f":"SUMPRODUCT((Teams1=U103)*(Teams1_Score<Teams2_Score))+SUMPRODUCT((Teams2=U103)*(Teams2_Score<Teams1_Score))","v":1},{"$f":"SUMPRODUCT((Teams1=U103)*(Teams1_Score))+SUMPRODUCT((Teams2=U103)*(Teams2_Score))","v":4},{"$f":"SUMPRODUCT((Teams1=U103)*(Teams2_Score))+SUMPRODUCT((Teams2=U103)*(Teams1_Score))","v":3},{"$f":"Z103-AA103","v":1},{"$f":"3*W103+X103","v":4}]
[null,"Tirage au sort E2",null,null,null,null,null,null,null,null,null,null,null,null,null,null,"H_3",{"$f":"TEXT(S104,\"00000\")&U104","v":"01930Pologne"},{"$f":"AC104*1000+AB104*100+Z104*10","v":1930},{"$f":"RANK(S104,$S102:$S106,0)","v":3},{"$f":"VLOOKUP(Q104,TABLEAU_TEAMS[#All],2,FALSE)","v":"Pologne"},{"$f":"SUMPRODUCT((Teams1=U104)*(Teams1_Score<>\"\"))+SUMPRODUCT((Teams2=U104)*(Teams2_Score<>\"\"))","v":3},{"$f":"SUMPRODUCT((Teams1=U104)*(Teams1_Score>Teams2_Score))+SUMPRODUCT((Teams2=U104)*(Teams2_Score>Teams1_Score))","v":0},{"$f":"SUMPRODUCT((Teams1=U104)*(Teams1_Score=Teams2_Score)*(Teams1_Score<>\"\"))+SUMPRODUCT((Teams2=U104)*(Teams2_Score=Teams1_Score)*(Teams2_Score<>\"\"))","v":2},{"$f":"SUMPRODUCT((Teams1=U104)*(Teams1_Score<Teams2_Score))+SUMPRODUCT((Teams2=U104)*(Teams2_Score<Teams1_Score))","v":1},{"$f":"SUMPRODUCT((Teams1=U104)*(Teams1_Score))+SUMPRODUCT((Teams2=U104)*(Teams2_Score))","v":3},{"$f":"SUMPRODUCT((Teams1=U104)*(Teams2_Score))+SUMPRODUCT((Teams2=U104)*(Teams1_Score))","v":4},{"$f":"Z104-AA104","v":-1},{"$f":"3*W104+X104","v":2}]
[null,{"$f":"IF(COUNTIF($T$33:$T$36,1)>1,IF(ROWS($1:1)<=COUNTIF($T$33:$T$36,1),INDEX($U$33:$U$36,SMALL(IF($T$33:$T$36=1,ROW(INDIRECT(\"1:\"&ROWS($T$33:$T$36)))),ROWS($1:1))),\"\"),IF(COUNTIF($T$33:$T$36,2)>1,IF(ROWS($1:1)<=COUNTIF($T$33:$T$36,2),INDEX($U$33:$U$36,SMALL(IF($T$33:$T$36=2,ROW(INDIRECT(\"1:\"&ROWS($T$33:$T$36)))),ROWS($1:1))),\"\")))","v":false},null,null,null,null,null,null,null,null,null,null,null,null,null,null,"H_4",{"$f":"TEXT(S105,\"00000\")&U105","v":"00810Sénégal"},{"$f":"AC105*1000+AB105*100+Z105*10","v":810},{"$f":"RANK(S105,$S102:$S106,0)","v":4},{"$f":"VLOOKUP(Q105,TABLEAU_TEAMS[#All],2,FALSE)","v":"Sénégal"},{"$f":"SUMPRODUCT((Teams1=U105)*(Teams1_Score<>\"\"))+SUMPRODUCT((Teams2=U105)*(Teams2_Score<>\"\"))","v":2},{"$f":"SUMPRODUCT((Teams1=U105)*(Teams1_Score>Teams2_Score))+SUMPRODUCT((Teams2=U105)*(Teams2_Score>Teams1_Score))","v":0},{"$f":"SUMPRODUCT((Teams1=U105)*(Teams1_Score=Teams2_Score)*(Teams1_Score<>\"\"))+SUMPRODUCT((Teams2=U105)*(Teams2_Score=Teams1_Score)*(Teams2_Score<>\"\"))","v":1},{"$f":"SUMPRODUCT((Teams1=U105)*(Teams1_Score<Teams2_Score))+SUMPRODUCT((Teams2=U105)*(Teams2_Score<Teams1_Score))","v":1},{"$f":"SUMPRODUCT((Teams1=U105)*(Teams1_Score))+SUMPRODUCT((Teams2=U105)*(Teams2_Score))","v":1},{"$f":"SUMPRODUCT((Teams1=U105)*(Teams2_Score))+SUMPRODUCT((Teams2=U105)*(Teams1_Score))","v":3},{"$f":"Z105-AA105","v":-2},{"$f":"3*W105+X105","v":1}]
[null,{"$f":"IF(COUNTIF($T$33:$T$36,1)>1,IF(ROWS($1:2)<=COUNTIF($T$33:$T$36,1),INDEX($U$33:$U$36,SMALL(IF($T$33:$T$36=1,ROW(INDIRECT(\"1:\"&ROWS($T$33:$T$36)))),ROWS($1:2))),\"\"),IF(COUNTIF($T$33:$T$36,2)>1,IF(ROWS($1:2)<=COUNTIF($T$33:$T$36,2),INDEX($U$33:$U$36,SMALL(IF($T$33:$T$36=2,ROW(INDIRECT(\"1:\"&ROWS($T$33:$T$36)))),ROWS($1:2))),\"\")))","v":false}]
[null,{"$f":"IF(COUNTIF($T$33:$T$36,1)>1,IF(ROWS($1:3)<=COUNTIF($T$33:$T$36,1),INDEX($U$33:$U$36,SMALL(IF($T$33:$T$36=1,ROW(INDIRECT(\"1:\"&ROWS($T$33:$T$36)))),ROWS($1:3))),\"\"),IF(COUNTIF($T$33:$T$36,2)>1,IF(ROWS($1:3)<=COUNTIF($T$33:$T$36,2),INDEX($U$33:$U$36,SMALL(IF($T$33:$T$36=2,ROW(INDIRECT(\"1:\"&ROWS($T$33:$T$36)))),ROWS($1:3))),\"\")))","v":false}]
[null,{"$f":"IF(COUNTIF($T$33:$T$36,1)>1,IF(ROWS($1:4)<=COUNTIF($T$33:$T$36,1),INDEX($U$33:$U$36,SMALL(IF($T$33:$T$36=1,ROW(INDIRECT(\"1:\"&ROWS($T$33:$T$36)))),ROWS($1:4))),\"\"),IF(COUNTIF($T$33:$T$36,2)>1,IF(ROWS($1:4)<=COUNTIF($T$33:$T$36,2),INDEX($U$33:$U$36,SMALL(IF($T$33:$T$36=2,ROW(INDIRECT(\"1:\"&ROWS($T$33:$T$36)))),ROWS($1:4))),\"\")))","v":false}]
[null,"Tirage au sort F1"]
[null,{"$f":"IF(ROWS($1:1)<=COUNTIF($T$39:$T$42,1),INDEX($U$39:$U$42,SMALL(IF($T$39:$T$42=1,ROW(INDIRECT(\"1:\"&ROWS($T$39:$T$42)))),ROWS($1:1))),\"\")","v":"Allemagne"}]
[null,{"$f":"IF(ROWS($1:2)<=COUNTIF($T$39:$T$42,1),INDEX($U$39:$U$42,SMALL(IF($T$39:$T$42=1,ROW(INDIRECT(\"1:\"&ROWS($T$39:$T$42)))),ROWS($1:2))),\"\")","v":""}]
[null,{"$f":"IF(ROWS($1:3)<=COUNTIF($T$39:$T$42,1),INDEX($U$39:$U$42,SMALL(IF($T$39:$T$42=1,ROW(INDIRECT(\"1:\"&ROWS($T$39:$T$42)))),ROWS($1:3))),\"\")","v":""}]
[null,{"$f":"IF(ROWS($1:4)<=COUNTIF($T$39:$T$42,1),INDEX($U$39:$U$42,SMALL(IF($T$39:$T$42=1,ROW(INDIRECT(\"1:\"&ROWS($T$39:$T$42)))),ROWS($1:4))),\"\")","v":""}]
[null,"Tirage au sort F2"]
[null,{"$f":"IF(COUNTIF($T$39:$T$42,1)>1,IF(ROWS($1:1)<=COUNTIF($T$39:$T$42,1),INDEX($U$39:$U$42,SMALL(IF($T$39:$T$42=1,ROW(INDIRECT(\"1:\"&ROWS($T$39:$T$42)))),ROWS($1:1))),\"\"),IF(COUNTIF($T$39:$T$42,2)>1,IF(ROWS($1:1)<=COUNTIF($T$39:$T$42,2),INDEX($U$39:$U$42,SMALL(IF($T$39:$T$42=2,ROW(INDIRECT(\"1:\"&ROWS($T$39:$T$42)))),ROWS($1:1))),\"\")))","v":false}]
[null,{"$f":"IF(COUNTIF($T$39:$T$42,1)>1,IF(ROWS($1:2)<=COUNTIF($T$39:$T$42,1),INDEX($U$39:$U$42,SMALL(IF($T$39:$T$42=1,ROW(INDIRECT(\"1:\"&ROWS($T$39:$T$42)))),ROWS($1:2))),\"\"),IF(COUNTIF($T$39:$T$42,2)>1,IF(ROWS($1:2)<=COUNTIF($T$39:$T$42,2),INDEX($U$39:$U$42,SMALL(IF($T$39:$T$42=2,ROW(INDIRECT(\"1:\"&ROWS($T$39:$T$42)))),ROWS($1:2))),\"\")))","v":false}]
[null,{"$f":"IF(COUNTIF($T$39:$T$42,1)>1,IF(ROWS($1:3)<=COUNTIF($T$39:$T$42,1),INDEX($U$39:$U$42,SMALL(IF($T$39:$T$42=1,ROW(INDIRECT(\"1:\"&ROWS($T$39:$T$42)))),ROWS($1:3))),\"\"),IF(COUNTIF($T$39:$T$42,2)>1,IF(ROWS($1:3)<=COUNTIF($T$39:$T$42,2),INDEX($U$39:$U$42,SMALL(IF($T$39:$T$42=2,ROW(INDIRECT(\"1:\"&ROWS($T$39:$T$42)))),ROWS($1:3))),\"\")))","v":false}]
[null,{"$f":"IF(COUNTIF($T$39:$T$42,1)>1,IF(ROWS($1:4)<=COUNTIF($T$39:$T$42,1),INDEX($U$39:$U$42,SMALL(IF($T$39:$T$42=1,ROW(INDIRECT(\"1:\"&ROWS($T$39:$T$42)))),ROWS($1:4))),\"\"),IF(COUNTIF($T$39:$T$42,2)>1,IF(ROWS($1:4)<=COUNTIF($T$39:$T$42,2),INDEX($U$39:$U$42,SMALL(IF($T$39:$T$42=2,ROW(INDIRECT(\"1:\"&ROWS($T$39:$T$42)))),ROWS($1:4))),\"\")))","v":false}]
[null,"Tirage au sort G1"]
[null,{"$f":"IF(ROWS($1:1)<=COUNTIF($T$45:$T$48,1),INDEX($U$45:$U$48,SMALL(IF($T$45:$T$48=1,ROW(INDIRECT(\"1:\"&ROWS($T$45:$T$48)))),ROWS($1:1))),\"\")","v":"Belgique"}]
[null,{"$f":"IF(ROWS($1:2)<=COUNTIF($T$45:$T$48,1),INDEX($U$45:$U$48,SMALL(IF($T$45:$T$48=1,ROW(INDIRECT(\"1:\"&ROWS($T$45:$T$48)))),ROWS($1:2))),\"\")","v":""}]
[null,{"$f":"IF(ROWS($1:3)<=COUNTIF($T$45:$T$48,1),INDEX($U$45:$U$48,SMALL(IF($T$45:$T$48=1,ROW(INDIRECT(\"1:\"&ROWS($T$45:$T$48)))),ROWS($1:3))),\"\")","v":""}]
[null,{"$f":"IF(ROWS($1:4)<=COUNTIF($T$45:$T$48,1),INDEX($U$45:$U$48,SMALL(IF($T$45:$T$48=1,ROW(INDIRECT(\"1:\"&ROWS($T$45:$T$48)))),ROWS($1:4))),\"\")","v":""}]
[null,"Tirage au sort G2"]
[null,{"$f":"IF(COUNTIF($T$45:$T$48,1)>1,IF(ROWS($1:1)<=COUNTIF($T$45:$T$48,1),INDEX($U$45:$U$48,SMALL(IF($T$45:$T$48=1,ROW(INDIRECT(\"1:\"&ROWS($T$45:$T$48)))),ROWS($1:1))),\"\"),IF(COUNTIF($T$45:$T$48,2)>1,IF(ROWS($1:1)<=COUNTIF($T$45:$T$48,2),INDEX($U$45:$U$48,SMALL(IF($T$45:$T$48=2,ROW(INDIRECT(\"1:\"&ROWS($T$45:$T$48)))),ROWS($1:1))),\"\")))","v":false}]
[null,{"$f":"IF(COUNTIF($T$45:$T$48,1)>1,IF(ROWS($1:2)<=COUNTIF($T$45:$T$48,1),INDEX($U$45:$U$48,SMALL(IF($T$45:$T$48=1,ROW(INDIRECT(\"1:\"&ROWS($T$45:$T$48)))),ROWS($1:2))),\"\"),IF(COUNTIF($T$45:$T$48,2)>1,IF(ROWS($1:2)<=COUNTIF($T$45:$T$48,2),INDEX($U$45:$U$48,SMALL(IF($T$45:$T$48=2,ROW(INDIRECT(\"1:\"&ROWS($T$45:$T$48)))),ROWS($1:2))),\"\")))","v":false}]
[null,{"$f":"IF(COUNTIF($T$45:$T$48,1)>1,IF(ROWS($1:3)<=COUNTIF($T$45:$T$48,1),INDEX($U$45:$U$48,SMALL(IF($T$45:$T$48=1,ROW(INDIRECT(\"1:\"&ROWS($T$45:$T$48)))),ROWS($1:3))),\"\"),IF(COUNTIF($T$45:$T$48,2)>1,IF(ROWS($1:3)<=COUNTIF($T$45:$T$48,2),INDEX($U$45:$U$48,SMALL(IF($T$45:$T$48=2,ROW(INDIRECT(\"1:\"&ROWS($T$45:$T$48)))),ROWS($1:3))),\"\")))","v":false}]
[null,{"$f":"IF(COUNTIF($T$45:$T$48,1)>1,IF(ROWS($1:4)<=COUNTIF($T$45:$T$48,1),INDEX($U$45:$U$48,SMALL(IF($T$45:$T$48=1,ROW(INDIRECT(\"1:\"&ROWS($T$45:$T$48)))),ROWS($1:4))),\"\"),IF(COUNTIF($T$45:$T$48,2)>1,IF(ROWS($1:4)<=COUNTIF($T$45:$T$48,2),INDEX($U$45:$U$48,SMALL(IF($T$45:$T$48=2,ROW(INDIRECT(\"1:\"&ROWS($T$45:$T$48)))),ROWS($1:4))),\"\")))","v":false}]
[null,"Tirage au sort H1"]
[null,{"$f":"IF(ROWS($1:1)<=COUNTIF($T$51:$T$54,1),INDEX($U$51:$U$54,SMALL(IF($T$51:$T$54=1,ROW(INDIRECT(\"1:\"&ROWS($T$51:$T$54)))),ROWS($1:1))),\"\")","v":"Colombie"}]
[null,{"$f":"IF(ROWS($1:2)<=COUNTIF($T$51:$T$54,1),INDEX($U$51:$U$54,SMALL(IF($T$51:$T$54=1,ROW(INDIRECT(\"1:\"&ROWS($T$51:$T$54)))),ROWS($1:2))),\"\")","v":""}]
[null,{"$f":"IF(ROWS($1:3)<=COUNTIF($T$51:$T$54,1),INDEX($U$51:$U$54,SMALL(IF($T$51:$T$54=1,ROW(INDIRECT(\"1:\"&ROWS($T$51:$T$54)))),ROWS($1:3))),\"\")","v":""}]
[null,{"$f":"IF(ROWS($1:4)<=COUNTIF($T$51:$T$54,1),INDEX($U$51:$U$54,SMALL(IF($T$51:$T$54=1,ROW(INDIRECT(\"1:\"&ROWS($T$51:$T$54)))),ROWS($1:4))),\"\")","v":""}]
[null,"Tirage au sort H2"]
[null,{"$f":"IF(COUNTIF($T$51:$T$54,1)>1,IF(ROWS($1:1)<=COUNTIF($T$51:$T$54,1),INDEX($U$51:$U$54,SMALL(IF($T$51:$T$54=1,ROW(INDIRECT(\"1:\"&ROWS($T$51:$T$54)))),ROWS($1:1))),\"\"),IF(COUNTIF($T$51:$T$54,2)>1,IF(ROWS($1:1)<=COUNTIF($T$51:$T$54,2),INDEX($U$51:$U$54,SMALL(IF($T$51:$T$54=2,ROW(INDIRECT(\"1:\"&ROWS($T$51:$T$54)))),ROWS($1:1))),\"\")))","v":false}]
[null,{"$f":"IF(COUNTIF($T$51:$T$54,1)>1,IF(ROWS($1:2)<=COUNTIF($T$51:$T$54,1),INDEX($U$51:$U$54,SMALL(IF($T$51:$T$54=1,ROW(INDIRECT(\"1:\"&ROWS($T$51:$T$54)))),ROWS($1:2))),\"\"),IF(COUNTIF($T$51:$T$54,2)>1,IF(ROWS($1:2)<=COUNTIF($T$51:$T$54,2),INDEX($U$51:$U$54,SMALL(IF($T$51:$T$54=2,ROW(INDIRECT(\"1:\"&ROWS($T$51:$T$54)))),ROWS($1:2))),\"\")))","v":false}]
[null,{"$f":"IF(COUNTIF($T$51:$T$54,1)>1,IF(ROWS($1:3)<=COUNTIF($T$51:$T$54,1),INDEX($U$51:$U$54,SMALL(IF($T$51:$T$54=1,ROW(INDIRECT(\"1:\"&ROWS($T$51:$T$54)))),ROWS($1:3))),\"\"),IF(COUNTIF($T$51:$T$54,2)>1,IF(ROWS($1:3)<=COUNTIF($T$51:$T$54,2),INDEX($U$51:$U$54,SMALL(IF($T$51:$T$54=2,ROW(INDIRECT(\"1:\"&ROWS($T$51:$T$54)))),ROWS($1:3))),\"\")))","v":false}]
[null,{"$f":"IF(COUNTIF($T$51:$T$54,1)>1,IF(ROWS($1:4)<=COUNTIF($T$51:$T$54,1),INDEX($U$51:$U$54,SMALL(IF($T$51:$T$54=1,ROW(INDIRECT(\"1:\"&ROWS($T$51:$T$54)))),ROWS($1:4))),\"\"),IF(COUNTIF($T$51:$T$54,2)>1,IF(ROWS($1:4)<=COUNTIF($T$51:$T$54,2),INDEX($U$51:$U$54,SMALL(IF($T$51:$T$54=2,ROW(INDIRECT(\"1:\"&ROWS($T$51:$T$54)))),ROWS($1:4))),\"\")))","v":false}]

{"sheet":"Vildary","index":6,"n_rows":138,"n_cols":46,"rows_kept":138,"cut":false,"hidden":false,"merged":[[2,1,2,8],[3,1,3,8],[3,9,3,12]]}
[]
[null,"Pronostics de :"]
[]
[null,{"$f":"MID(CELL(\"filename\",A1),FIND(\"]\",CELL(\"filename\",A1))+1,32)","v":"Vildary"}]
[]
[null,"SAISIE DES PRONOSTICS",null,null,null,null,null,null,null,null,null,null,null,null,null,null,null,null,null,"GROUPES",null,null,null,null,null,null,null,null,null,null,null,null,"SCORE PRONOSTIQUEUR",null,null,null,null,null,null,null,null,{"$f":"AN8+AN12","v":2}]
[null,"Date","Heure","Match","Groupe",1,"N",2,null,"Buts",null,null,"Buts"]
[null,{"$f":"VLOOKUP($D8,TABLEAU_MATCHS[#All],2,FALSE)","v":"2018-06-14"},{"$f":"VLOOKUP($D8,TABLEAU_MATCHS[#All],3,FALSE)","v":"17:00:00"},1,{"$f":"\"Groupe \"&VLOOKUP($I8,TABLEAU_TEAMS[[#All],[TEAM]:[GROUP_INITIAL_RANK]],2,FALSE)","v":"Groupe A"},1.3,4.3,10,{"$f":"VLOOKUP($D8,TABLEAU_MATCHS[#All],4,FALSE)","v":"Russie"},2,null,{"$f":"VLOOKUP($D8,TABLEAU_MATCHS[#All],5,FALSE)","v":"Arabie Saoudite"},0,{"$f":"IF(OR(ISBLANK(RESULTATS!J8),ISBLANK(J8)),\"\",IF(AND(Vildary!J8=RESULTATS!J8,Vildary!M8=RESULTATS!M8),3,IF(OR(AND(Vildary!J8>Vildary!M8,RESULTATS!J8>RESULTATS!M8),AND(Vildary!J8<Vildary!M8,RESULTATS!J8<RESULTATS!M8),AND(Vildary!J8=Vildary!M8,RESULTATS!J8=RESULTATS!M8)),1,0)))","v":1},null,null,null,null,null,"Rg","Groupe A","MJ","G","N","P","BP","BC","+/-","Pts",null,null,null,"Phases de groupes",null,null,null,null,null,null,{"$f":"N56","v":2},null,"points"]
[null,{"$f":"VLOOKUP($D9,TABLEAU_MATCHS[#All],2,FALSE)","v":"2018-06-15"},{"$f":"VLOOKUP($D9,TABLEAU_MATCHS[#All],3,FALSE)","v":"14:00:00"},2,{"$f":"\"Groupe \"&VLOOKUP($I9,TABLEAU_TEAMS[[#All],[TEAM]:[GROUP_INITIAL_RANK]],2,FALSE)","v":"Groupe A"},2.2000000000000002,2.9,3.25,{"$f":"VLOOKUP($D9,TABLEAU_MATCHS[#All],4,FALSE)","v":"Egypte"},2,null,{"$f":"VLOOKUP($D9,TABLEAU_MATCHS[#All],5,FALSE)","v":"Uruguay"},0,{"$f":"IF(OR(ISBLANK(RESULTATS!J9),ISBLANK(J9)),\"\",IF(AND(Vildary!J9=RESULTATS!J9,Vildary!M9=RESULTATS!M9),3,IF(OR(AND(Vildary!J9>Vildary!M9,RESULTATS!J9>RESULTATS!M9),AND(Vildary!J9<Vildary!M9,RESULTATS!J9<RESULTATS!M9),AND(Vildary!J9=Vildary!M9,RESULTATS!J9=RESULTATS!M9)),1,0)))","v":0},null,null,null,{"$f":"INDEX($R60:$R63,MATCH(SMALL(COUNTIF($R60:$R63,\">=\"&$R60:$R63),ROW(INDIRECT(\"1:\"&ROWS($R60:$R63)))),COUNTIF($R60:$R63,\">=\"&$R60:$R63),0))","v":"09670Egypte"},{"$f":"INDEX($S60:$S63,MATCH(SMALL(COUNTIF($R60:$R63,\">=\"&$R60:$R63),ROW(INDIRECT(\"1:\"&ROWS($R60:$R63)))),COUNTIF($R60:$R63,\">=\"&$R60:$R63),0))","v":9670},{"$f":"INDEX($T60:$T63,MATCH(SMALL(COUNTIF($R60:$R63,\">=\"&$R60:$R63),ROW(INDIRECT(\"1:\"&ROWS($R60:$R63)))),COUNTIF($R60:$R63,\">=\"&$R60:$R63),0))","v":1},{"$f":"INDEX($U60:$U63,MATCH(SMALL(COUNTIF($R60:$R63,\">=\"&$R60:$R63),ROW(INDIRECT(\"1:\"&ROWS($R60:$R63)))),COUNTIF($R60:$R63,\">=\"&$R60:$R63),0))","v":"Egypte"},{"$f":"SUMPRODUCT((Teams1=U9)*(Teams1_Score<>\"\"))+SUMPRODUCT((Teams2=U9)*(Teams2_Score<>\"\"))","v":3},{"$f":"SUMPRODUCT((Teams1=U9)*(Teams1_Score>Teams2_Score))+SUMPRODUCT((Teams2=U9)*(Teams2_Score>Teams1_Score))","v":3},{"$f":"SUMPRODUCT((Teams1=U9)*(Teams1_Score=Teams2_Score)*(Teams1_Score<>\"\"))+SUMPRODUCT((Teams2=U9)*(Teams2_Score=Teams1_Score)*(Teams2_Score<>\"\"))","v":0},{"$f":"SUMPRODUCT((Teams1=U9)*(Teams1_Score<Teams2_Score))+SUMPRODUCT((Teams2=U9)*(Teams2_Score<Teams1_Score))","v":0},{"$f":"SUMPRODUCT((Teams1=U9)*(Teams1_Score))+SUMPRODUCT((Teams2=U9)*(Teams2_Score))","v":7},{"$f":"SUMPRODUCT((Teams1=U9)*(Teams2_Score))+SUMPRODUCT((Teams2=U9)*(Teams1_Score))","v":1},{"$f":"Z9-AA9","v":6},{"$f":"3*W9+X9","v":9},null,null,null,"Vainqueur ou nul trouvé (1 pt)",null,null,{"$f":"COUNTIF($N$8:$N$55,1)+COUNTIF($N$8:$N$55,3)","v":2},"matchs",null,null,{"$f":"AJ9","v":2},null,"points"]
[null,{"$f":"VLOOKUP($D10,TABLEAU_MATCHS[#All],2,FALSE)","v":"2018-06-15"},{"$f":"VLOOKUP($D10,TABLEAU_MATCHS[#All],3,FALSE)","v":"17:00:00"},3,{"$f":"\"Groupe \"&VLOOKUP($I10,TABLEAU_TEAMS[[#All],[TEAM]:[GROUP_INITIAL_RANK]],2,FALSE)","v":"Groupe B"},1.8,3.05,4.5,{"$f":"VLOOKUP($D10,TABLEAU_MATCHS[#All],4,FALSE)","v":"Maroc"},1,null,{"$f":"VLOOKUP($D10,TABLEAU_MATCHS[#All],5,FALSE)","v":"RI Iran"},0,{"$f":"IF(OR(ISBLANK(RESULTATS!J10),ISBLANK(J10)),\"\",IF(AND(Vildary!J10=RESULTATS!J10,Vildary!M10=RESULTATS!M10),3,IF(OR(AND(Vildary!J10>Vildary!M10,RESULTATS!J10>RESULTATS!M10),AND(Vildary!J10<Vildary!M10,RESULTATS!J10<RESULTATS!M10),AND(Vildary!J10=Vildary!M10,RESULTATS!J10=RESULTATS!M10)),1,0)))","v":0},null,null,null,"04140Russie",4140,2,"Russie",{"$f":"SUMPRODUCT((Teams1=U10)*(Teams1_Score<>\"\"))+SUMPRODUCT((Teams2=U10)*(Teams2_Score<>\"\"))","v":3},{"$f":"SUMPRODUCT((Teams1=U10)*(Teams1_Score>Teams2_Score))+SUMPRODUCT((Teams2=U10)*(Teams2_Score>Teams1_Score))","v":1},{"$f":"SUMPRODUCT((Teams1=U10)*(Teams1_Score=Teams2_Score)*(Teams1_Score<>\"\"))+SUMPRODUCT((Teams2=U10)*(Teams2_Score=Teams1_Score)*(Teams2_Score<>\"\"))","v":1},{"$f":"SUMPRODUCT((Teams1=U10)*(Teams1_Score<Teams2_Score))+SUMPRODUCT((Teams2=U10)*(Teams2_Score<Teams1_Score))","v":1},{"$f":"SUMPRODUCT((Teams1=U10)*(Teams1_Score))+SUMPRODUCT((Teams2=U10)*(Teams2_Score))","v":4},{"$f":"SUMPRODUCT((Teams1=U10)*(Teams2_Score))+SUMPRODUCT((Teams2=U10)*(Teams1_Score))","v":3},{"$f":"Z10-AA10","v":1},{"$f":"3*W10+X10","v":4},null,null,null,"Bonus score exact (2 pts)",null,null,{"$f":"+COUNTIF($N$8:$N$55,3)","v":0},"matchs",null,null,{"$f":"AJ10*2","v":0},null,"points"]
[null,{"$f":"VLOOKUP($D11,TABLEAU_MATCHS[#All],2,FALSE)","v":"2018-06-15"},{"$f":"VLOOKUP($D11,TABLEAU_MATCHS[#All],3,FALSE)","v":"20:00:00"},4,{"$f":"\"Groupe \"&VLOOKUP($I11,TABLEAU_TEAMS[[#All],[TEAM]:[GROUP_INITIAL_RANK]],2,FALSE)","v":"Groupe B"},1.42,3.9,7,{"$f":"VLOOKUP($D11,TABLEAU_MATCHS[#All],4,FALSE)","v":"Portugal"},2,null,{"$f":"VLOOKUP($D11,TABLEAU_MATCHS[#All],5,FALSE)","v":"Espagne"},2,{"$f":"IF(OR(ISBLANK(RESULTATS!J11),ISBLANK(J11)),\"\",IF(AND(Vildary!J11=RESULTATS!J11,Vildary!M11=RESULTATS!M11),3,IF(OR(AND(Vildary!J11>Vildary!M11,RESULTATS!J11>RESULTATS!M11),AND(Vildary!J11<Vildary!M11,RESULTATS!J11<RESULTATS!M11),AND(Vildary!J11=Vildary!M11,RESULTATS!J11=RESULTATS!M11)),1,0)))","v":1},null,null,null,"04030Uruguay",4030,3,"Uruguay",{"$f":"SUMPRODUCT((Teams1=U11)*(Teams1_Score<>\"\"))+SUMPRODUCT((Teams2=U11)*(Teams2_Score<>\"\"))","v":3},{"$f":"SUMPRODUCT((Teams1=U11)*(Teams1_Score>Teams2_Score))+SUMPRODUCT((Teams2=U11)*(Teams2_Score>Teams1_Score))","v":1},{"$f":"SUMPRODUCT((Teams1=U11)*(Teams1_Score=Teams2_Score)*(Teams1_Score<>\"\"))+SUMPRODUCT((Teams2=U11)*(Teams2_Score=Teams1_Score)*(Teams2_Score<>\"\"))","v":1},{"$f":"SUMPRODUCT((Teams1=U11)*(Teams1_Score<Teams2_Score))+SUMPRODUCT((Teams2=U11)*(Teams2_Score<Teams1_Score))","v":1},{"$f":"SUMPRODUCT((Teams1=U11)*(Teams1_Score))+SUMPRODUCT((Teams2=U11)*(Teams2_Score))","v":3},{"$f":"SUMPRODUCT((Teams1=U11)*(Teams2_Score))+SUMPRODUCT((Teams2=U11)*(Teams1_Score))","v":3},{"$f":"Z11-AA11","v":0},{"$f":"3*W11+X11","v":4}]
[null,{"$f":"VLOOKUP($D12,TABLEAU_MATCHS[#All],2,FALSE)","v":"2018-06-16"},{"$f":"VLOOKUP($D12,TABLEAU_MATCHS[#All],3,FALSE)","v":"12:00:00"},5,{"$f":"\"Groupe \"&VLOOKUP($I12,TABLEAU_TEAMS[[#All],[TEAM]:[GROUP_INITIAL_RANK]],2,FALSE)","v":"Groupe C"},1.7,3.1,5,{"$f":"VLOOKUP($D12,TABLEAU_MATCHS[#All],4,FALSE)","v":"France"},3,null,{"$f":"VLOOKUP($D12,TABLEAU_MATCHS[#All],5,FALSE)","v":"Australie"},0,{"$f":"IF(OR(ISBLANK(RESULTATS!J12),ISBLANK(J12)),\"\",IF(AND(Vildary!J12=RESULTATS!J12,Vildary!M12=RESULTATS!M12),3,IF(OR(AND(Vildary!J12>Vildary!M12,RESULTATS!J12>RESULTATS!M12),AND(Vildary!J12<Vildary!M12,RESULTATS!J12<RESULTATS!M12),AND(Vildary!J12=Vildary!M12,RESULTATS!J12=RESULTATS!M12)),1,0)))","v":""},null,null,null,"-00700Arabie Saoudite",-700,4,"Arabie Saoudite",{"$f":"SUMPRODUCT((Teams1=U12)*(Teams1_Score<>\"\"))+SUMPRODUCT((Teams2=U12)*(Teams2_Score<>\"\"))","v":3},{"$f":"SUMPRODUCT((Teams1=U12)*(Teams1_Score>Teams2_Score))+SUMPRODUCT((Teams2=U12)*(Teams2_Score>Teams1_Score))","v":0},{"$f":"SUMPRODUCT((Teams1=U12)*(Teams1_Score=Teams2_Score)*(Teams1_Score<>\"\"))+SUMPRODUCT((Teams2=U12)*(Teams2_Score=Teams1_Score)*(Teams2_Score<>\"\"))","v":0},{"$f":"SUMPRODUCT((Teams1=U12)*(Teams1_Score<Teams2_Score))+SUMPRODUCT((Teams2=U12)*(Teams2_Score<Teams1_Score))","v":3},{"$f":"SUMPRODUCT((Teams1=U12)*(Teams1_Score))+SUMPRODUCT((Teams2=U12)*(Teams2_Score))","v":0},{"$f":"SUMPRODUCT((Teams1=U12)*(Teams2_Score))+SUMPRODUCT((Teams2=U12)*(Teams1_Score))","v":7},{"$f":"Z12-AA12","v":-7},{"$f":"3*W12+X12","v":0},null,null,null,"Phases finales",null,null,null,null,null,null,{"$f":"SUM(AN13:AN17)","v":0},null,"points"]
[null,{"$f":"VLOOKUP($D13,TABLEAU_MATCHS[#All],2,FALSE)","v":"2018-06-16"},{"$f":"VLOOKUP($D13,TABLEAU_MATCHS[#All],3,FALSE)","v":"18:00:00"},6,{"$f":"\"Groupe \"&VLOOKUP($I13,TABLEAU_TEAMS[[#All],[TEAM]:[GROUP_INITIAL_RANK]],2,FALSE)","v":"Groupe C"},2.5499999999999998,2.9,2.7,{"$f":"VLOOKUP($D13,TABLEAU_MATCHS[#All],4,FALSE)","v":"Pérou"},2,null,{"$f":"VLOOKUP($D13,TABLEAU_MATCHS[#All],5,FALSE)","v":"Danemark"},2,{"$f":"IF(OR(ISBLANK(RESULTATS!J13),ISBLANK(J13)),\"\",IF(AND(Vildary!J13=RESULTATS!J13,Vildary!M13=RESULTATS!M13),3,IF(OR(AND(Vildary!J13>Vildary!M13,RESULTATS!J13>RESULTATS!M13),AND(Vildary!J13<Vildary!M13,RESULTATS!J13<RESULTATS!M13),AND(Vildary!J13=Vildary!M13,RESULTATS!J13=RESULTATS!M13)),1,0)))","v":""},null,null,null,null,null,null,null,null,null,null,null,null,null,null,null,null,null,null,"Huitièmes de finaliste trouvés (2 pts)",null,null,{"$f":"IF(CLASSEMENT!PHASES_FINALES=\"OUI\",$AK$53+$AQ$53,0)","v":0},"équipe(s) ",null,null,{"$f":"AJ13*2","v":0},null,"points"]
[null,{"$f":"VLOOKUP($D14,TABLEAU_MATCHS[#All],2,FALSE)","v":"2018-06-16"},{"$f":"VLOOKUP($D14,TABLEAU_MATCHS[#All],3,FALSE)","v":"15:00:00"},7,{"$f":"\"Groupe \"&VLOOKUP($I14,TABLEAU_TEAMS[[#All],[TEAM]:[GROUP_INITIAL_RANK]],2,FALSE)","v":"Groupe D"},1.4,4,7.25,{"$f":"VLOOKUP($D14,TABLEAU_MATCHS[#All],4,FALSE)","v":"Argentine"},3,null,{"$f":"VLOOKUP($D14,TABLEAU_MATCHS[#All],5,FALSE)","v":"Islande"},0,{"$f":"IF(OR(ISBLANK(RESULTATS!J14),ISBLANK(J14)),\"\",IF(AND(Vildary!J14=RESULTATS!J14,Vildary!M14=RESULTATS!M14),3,IF(OR(AND(Vildary!J14>Vildary!M14,RESULTATS!J14>RESULTATS!M14),AND(Vildary!J14<Vildary!M14,RESULTATS!J14<RESULTATS!M14),AND(Vildary!J14=Vildary!M14,RESULTATS!J14=RESULTATS!M14)),1,0)))","v":""},null,null,null,null,null,"Rg","Groupe B","MJ","G","N","P","BP","BC","+/-","Pts",null,null,null,"Quarts de finalistes trouvés (4 pts)",null,null,{"$f":"IF(CLASSEMENT!PHASES_FINALES=\"OUI\",$AK$42+$AQ$42,0)","v":0},"équipe(s) ",null,null,{"$f":"AJ14*4","v":0},null,"points"]
[null,{"$f":"VLOOKUP($D15,TABLEAU_MATCHS[#All],2,FALSE)","v":"2018-06-16"},{"$f":"VLOOKUP($D15,TABLEAU_MATCHS[#All],3,FALSE)","v":"21:00:00"},8,{"$f":"\"Groupe \"&VLOOKUP($I15,TABLEAU_TEAMS[[#All],[TEAM]:[GROUP_INITIAL_RANK]],2,FALSE)","v":"Groupe D"},2.95,2.7,2.5499999999999998,{"$f":"VLOOKUP($D15,TABLEAU_MATCHS[#All],4,FALSE)","v":"Croatie"},1,null,{"$f":"VLOOKUP($D15,TABLEAU_MATCHS[#All],5,FALSE)","v":"Nigeria"},1,{"$f":"IF(OR(ISBLANK(RESULTATS!J15),ISBLANK(J15)),\"\",IF(AND(Vildary!J15=RESULTATS!J15,Vildary!M15=RESULTATS!M15),3,IF(OR(AND(Vildary!J15>Vildary!M15,RESULTATS!J15>RESULTATS!M15),AND(Vildary!J15<Vildary!M15,RESULTATS!J15<RESULTATS!M15),AND(Vildary!J15=Vildary!M15,RESULTATS!J15=RESULTATS!M15)),1,0)))","v":""},null,null,null,{"$f":"INDEX($R66:$R69,MATCH(SMALL(COUNTIF($R66:$R69,\">=\"&$R66:$R69),ROW(INDIRECT(\"1:\"&ROWS($R66:$R69)))),COUNTIF($R66:$R69,\">=\"&$R66:$R69),0))","v":"07680Espagne"},{"$f":"INDEX($S66:$S69,MATCH(SMALL(COUNTIF($R66:$R69,\">=\"&$R66:$R69),ROW(INDIRECT(\"1:\"&ROWS($R66:$R69)))),COUNTIF($R66:$R69,\">=\"&$R66:$R69),0))","v":7680},{"$f":"INDEX($T66:$T69,MATCH(SMALL(COUNTIF($R66:$R69,\">=\"&$R66:$R69),ROW(INDIRECT(\"1:\"&ROWS($R66:$R69)))),COUNTIF($R66:$R69,\">=\"&$R66:$R69),0))","v":1},{"$f":"INDEX($U66:$U69,MATCH(SMALL(COUNTIF($R66:$R69,\">=\"&$R66:$R69),ROW(INDIRECT(\"1:\"&ROWS($R66:$R69)))),COUNTIF($R66:$R69,\">=\"&$R66:$R69),0))","v":"Espagne"},{"$f":"SUMPRODUCT((Teams1=U15)*(Teams1_Score<>\"\"))+SUMPRODUCT((Teams2=U15)*(Teams2_Score<>\"\"))","v":3},{"$f":"SUMPRODUCT((Teams1=U15)*(Teams1_Score>Teams2_Score))+SUMPRODUCT((Teams2=U15)*(Teams2_Score>Teams1_Score))","v":2},{"$f":"SUMPRODUCT((Teams1=U15)*(Teams1_Score=Teams2_Score)*(Teams1_Score<>\"\"))+SUMPRODUCT((Teams2=U15)*(Teams2_Score=Teams1_Score)*(Teams2_Score<>\"\"))","v":1},{"$f":"SUMPRODUCT((Teams1=U15)*(Teams1_Score<Teams2_Score))+SUMPRODUCT((Teams2=U15)*(Teams2_Score<Teams1_Score))","v":0},{"$f":"SUMPRODUCT((Teams1=U15)*(Teams1_Score))+SUMPRODUCT((Teams2=U15)*(Teams2_Score))","v":8},{"$f":"SUMPRODUCT((Teams1=U15)*(Teams2_Score))+SUMPRODUCT((Teams2=U15)*(Teams1_Score))","v":2},{"$f":"Z15-AA15","v":6},{"$f":"3*W15+X15","v":7},null,null,null,"Demi finalistes trouvés (5 pts)",null,null,{"$f":"IF(CLASSEMENT!PHASES_FINALES=\"OUI\",$AK$35+$AQ$35,0)","v":0},"équipe(s) ",null,null,{"$f":"AJ15*5","v":0},null,"points"]
[null,{"$f":"VLOOKUP($D16,TABLEAU_MATCHS[#All],2,FALSE)","v":"2018-06-17"},{"$f":"VLOOKUP($D16,TABLEAU_MATCHS[#All],3,FALSE)","v":"14:00:00"},9,{"$f":"\"Groupe \"&VLOOKUP($I16,TABLEAU_TEAMS[[#All],[TEAM]:[GROUP_INITIAL_RANK]],2,FALSE)","v":"Groupe E"},2.35,2.9,2.95,{"$f":"VLOOKUP($D16,TABLEAU_MATCHS[#All],4,FALSE)","v":"Costa Rica"},1,null,{"$f":"VLOOKUP($D16,TABLEAU_MATCHS[#All],5,FALSE)","v":"Serbie"},1,{"$f":"IF(OR(ISBLANK(RESULTATS!J16),ISBLANK(J16)),\"\",IF(AND(Vildary!J16=RESULTATS!J16,Vildary!M16=RESULTATS!M16),3,IF(OR(AND(Vildary!J16>Vildary!M16,RESULTATS!J16>RESULTATS!M16),AND(Vildary!J16<Vildary!M16,RESULTATS!J16<RESULTATS!M16),AND(Vildary!J16=Vildary!M16,RESULTATS!J16=RESULTATS!M16)),1,0)))","v":""},null,null,null,"07580Portugal",7580,2,"Portugal",{"$f":"SUMPRODUCT((Teams1=U16)*(Teams1_Score<>\"\"))+SUMPRODUCT((Teams2=U16)*(Teams2_Score<>\"\"))","v":3},{"$f":"SUMPRODUCT((Teams1=U16)*(Teams1_Score>Teams2_Score))+SUMPRODUCT((Teams2=U16)*(Teams2_Score>Teams1_Score))","v":2},{"$f":"SUMPRODUCT((Teams1=U16)*(Teams1_Score=Teams2_Score)*(Teams1_Score<>\"\"))+SUMPRODUCT((Teams2=U16)*(Teams2_Score=Teams1_Score)*(Teams2_Score<>\"\"))","v":1},{"$f":"SUMPRODUCT((Teams1=U16)*(Teams1_Score<Teams2_Score))+SUMPRODUCT((Teams2=U16)*(Teams2_Score<Teams1_Score))","v":0},{"$f":"SUMPRODUCT((Teams1=U16)*(Teams1_Score))+SUMPRODUCT((Teams2=U16)*(Teams2_Score))","v":8},{"$f":"SUMPRODUCT((Teams1=U16)*(Teams2_Score))+SUMPRODUCT((Teams2=U16)*(Teams1_Score))","v":3},{"$f":"Z16-AA16","v":5},{"$f":"3*W16+X16","v":7},null,null,null,"Finalistes trouvés (6 pts)",null,null,{"$f":"IF(CLASSEMENT!PHASES_FINALES=\"OUI\",$AK$25+$AQ$25,0)","v":0},"équipe(s) ",null,null,{"$f":"AJ16*6","v":0},null,"points"]
[null,{"$f":"VLOOKUP($D17,TABLEAU_MATCHS[#All],2,FALSE)","v":"2018-06-17"},{"$f":"VLOOKUP($D17,TABLEAU_MATCHS[#All],3,FALSE)","v":"20:00:00"},10,{"$f":"\"Groupe \"&VLOOKUP($I17,TABLEAU_TEAMS[[#All],[TEAM]:[GROUP_INITIAL_RANK]],2,FALSE)","v":"Groupe E"},1.28,4.7,9.5,{"$f":"VLOOKUP($D17,TABLEAU_MATCHS[#All],4,FALSE)","v":"Brésil"},3,null,{"$f":"VLOOKUP($D17,TABLEAU_MATCHS[#All],5,FALSE)","v":"Suisse"},0,{"$f":"IF(OR(ISBLANK(RESULTATS!J17),ISBLANK(J17)),\"\",IF(AND(Vildary!J17=RESULTATS!J17,Vildary!M17=RESULTATS!M17),3,IF(OR(AND(Vildary!J17>Vildary!M17,RESULTATS!J17>RESULTATS!M17),AND(Vildary!J17<Vildary!M17,RESULTATS!J17<RESULTATS!M17),AND(Vildary!J17=Vildary!M17,RESULTATS!J17=RESULTATS!M17)),1,0)))","v":""},null,null,null,"02720Maroc",2720,3,"Maroc",{"$f":"SUMPRODUCT((Teams1=U17)*(Teams1_Score<>\"\"))+SUMPRODUCT((Teams2=U17)*(Teams2_Score<>\"\"))","v":3},{"$f":"SUMPRODUCT((Teams1=U17)*(Teams1_Score>Teams2_Score))+SUMPRODUCT((Teams2=U17)*(Teams2_Score>Teams1_Score))","v":1},{"$f":"SUMPRODUCT((Teams1=U17)*(Teams1_Score=Teams2_Score)*(Teams1_Score<>\"\"))+SUMPRODUCT((Teams2=U17)*(Teams2_Score=Teams1_Score)*(Teams2_Score<>\"\"))","v":0},{"$f":"SUMPRODUCT((Teams1=U17)*(Teams1_Score<Teams2_Score))+SUMPRODUCT((Teams2=U17)*(Teams2_Score<Teams1_Score))","v":2},{"$f":"SUMPRODUCT((Teams1=U17)*(Teams1_Score))+SUMPRODUCT((Teams2=U17)*(Teams2_Score))","v":2},{"$f":"SUMPRODUCT((Teams1=U17)*(Teams2_Score))+SUMPRODUCT((Teams2=U17)*(Teams1_Score))","v":5},{"$f":"Z17-AA17","v":-3},{"$f":"3*W17+X17","v":3},null,null,null,"Champion du monde trouvé (7 pts)",null,null,{"$f":"IF(CLASSEMENT!PHASES_FINALES=\"OUI\",IF(AJ25<>\"\",IF($AT$25=RESULTATS!AS10,1,0),0),0)","v":0},"équipe",null,null,{"$f":"AJ17*7","v":0},null,"points"]
[null,{"$f":"VLOOKUP($D18,TABLEAU_MATCHS[#All],2,FALSE)","v":"2018-06-17"},{"$f":"VLOOKUP($D18,TABLEAU_MATCHS[#All],3,FALSE)","v":"17:00:00"},11,{"$f":"\"Groupe \"&VLOOKUP($I18,TABLEAU_TEAMS[[#All],[TEAM]:[GROUP_INITIAL_RANK]],2,FALSE)","v":"Groupe F"},1.34,4.3,7.5,{"$f":"VLOOKUP($D18,TABLEAU_MATCHS[#All],4,FALSE)","v":"Allemagne"},4,null,{"$f":"VLOOKUP($D18,TABLEAU_MATCHS[#All],5,FALSE)","v":"Mexique"},0,{"$f":"IF(OR(ISBLANK(RESULTATS!J18),ISBLANK(J18)),\"\",IF(AND(Vildary!J18=RESULTATS!J18,Vildary!M18=RESULTATS!M18),3,IF(OR(AND(Vildary!J18>Vildary!M18,RESULTATS!J18>RESULTATS!M18),AND(Vildary!J18<Vildary!M18,RESULTATS!J18<RESULTATS!M18),AND(Vildary!J18=Vildary!M18,RESULTATS!J18=RESULTATS!M18)),1,0)))","v":""},null,null,null,"-00800RI Iran",-800,4,"RI Iran",{"$f":"SUMPRODUCT((Teams1=U18)*(Teams1_Score<>\"\"))+SUMPRODUCT((Teams2=U18)*(Teams2_Score<>\"\"))","v":3},{"$f":"SUMPRODUCT((Teams1=U18)*(Teams1_Score>Teams2_Score))+SUMPRODUCT((Teams2=U18)*(Teams2_Score>Teams1_Score))","v":0},{"$f":"SUMPRODUCT((Teams1=U18)*(Teams1_Score=Teams2_Score)*(Teams1_Score<>\"\"))+SUMPRODUCT((Teams2=U18)*(Teams2_Score=Teams1_Score)*(Teams2_Score<>\"\"))","v":0},{"$f":"SUMPRODUCT((Teams1=U18)*(Teams1_Score<Teams2_Score))+SUMPRODUCT((Teams2=U18)*(Teams2_Score<Teams1_Score))","v":3},{"$f":"SUMPRODUCT((Teams1=U18)*(Teams1_Score))+SUMPRODUCT((Teams2=U18)*(Teams2_Score))","v":0},{"$f":"SUMPRODUCT((Teams1=U18)*(Teams2_Score))+SUMPRODUCT((Teams2=U18)*(Teams1_Score))","v":8},{"$f":"Z18-AA18","v":-8},{"$f":"3*W18+X18","v":0}]
[null,{"$f":"VLOOKUP($D19,TABLEAU_MATCHS[#All],2,FALSE)","v":"2018-06-18"},{"$f":"VLOOKUP($D19,TABLEAU_MATCHS[#All],3,FALSE)","v":"14:00:00"},12,{"$f":"\"Groupe \"&VLOOKUP($I19,TABLEAU_TEAMS[[#All],[TEAM]:[GROUP_INITIAL_RANK]],2,FALSE)","v":"Groupe F"},3.3,2.95,2.15,{"$f":"VLOOKUP($D19,TABLEAU_MATCHS[#All],4,FALSE)","v":"Suède"},2,null,{"$f":"VLOOKUP($D19,TABLEAU_MATCHS[#All],5,FALSE)","v":"République de Corée"},1,{"$f":"IF(OR(ISBLANK(RESULTATS!J19),ISBLANK(J19)),\"\",IF(AND(Vildary!J19=RESULTATS!J19,Vildary!M19=RESULTATS!M19),3,IF(OR(AND(Vildary!J19>Vildary!M19,RESULTATS!J19>RESULTATS!M19),AND(Vildary!J19<Vildary!M19,RESULTATS!J19<RESULTATS!M19),AND(Vildary!J19=Vildary!M19,RESULTATS!J19=RESULTATS!M19)),1,0)))","v":""}]
[null,{"$f":"VLOOKUP($D20,TABLEAU_MATCHS[#All],2,FALSE)","v":"2018-06-18"},{"$f":"VLOOKUP($D20,TABLEAU_MATCHS[#All],3,FALSE)","v":"17:00:00"},13,{"$f":"\"Groupe \"&VLOOKUP($I20,TABLEAU_TEAMS[[#All],[TEAM]:[GROUP_INITIAL_RANK]],2,FALSE)","v":"Groupe G"},1.95,2.95,4,{"$f":"VLOOKUP($D20,TABLEAU_MATCHS[#All],4,FALSE)","v":"Belgique"},3,null,{"$f":"VLOOKUP($D20,TABLEAU_MATCHS[#All],5,FALSE)","v":"Panama"},0,{"$f":"IF(OR(ISBLANK(RESULTATS!J20),ISBLANK(J20)),\"\",IF(AND(Vildary!J20=RESULTATS!J20,Vildary!M20=RESULTATS!M20),3,IF(OR(AND(Vildary!J20>Vildary!M20,RESULTATS!J20>RESULTATS!M20),AND(Vildary!J20<Vildary!M20,RESULTATS!J20<RESULTATS!M20),AND(Vildary!J20=Vildary!M20,RESULTATS!J20=RESULTATS!M20)),1,0)))","v":""},null,null,null,null,null,"Rg","Groupe C","MJ","G","N","P","BP","BC","+/-","Pts"]
[null,{"$f":"VLOOKUP($D21,TABLEAU_MATCHS[#All],2,FALSE)","v":"2018-06-18"},{"$f":"VLOOKUP($D21,TABLEAU_MATCHS[#All],3,FALSE)","v":"20:00:00"},14,{"$f":"\"Groupe \"&VLOOKUP($I21,TABLEAU_TEAMS[[#All],[TEAM]:[GROUP_INITIAL_RANK]],2,FALSE)","v":"Groupe G"},2.5499999999999998,2.9,2.7,{"$f":"VLOOKUP($D21,TABLEAU_MATCHS[#All],4,FALSE)","v":"Tunisie"},0,null,{"$f":"VLOOKUP($D21,TABLEAU_MATCHS[#All],5,FALSE)","v":"Angleterre"},3,{"$f":"IF(OR(ISBLANK(RESULTATS!J21),ISBLANK(J21)),\"\",IF(AND(Vildary!J21=RESULTATS!J21,Vildary!M21=RESULTATS!M21),3,IF(OR(AND(Vildary!J21>Vildary!M21,RESULTATS!J21>RESULTATS!M21),AND(Vildary!J21<Vildary!M21,RESULTATS!J21<RESULTATS!M21),AND(Vildary!J21=Vildary!M21,RESULTATS!J21=RESULTATS!M21)),1,0)))","v":""},null,null,null,{"$f":"INDEX($R72:$R75,MATCH(SMALL(COUNTIF($R72:$R75,\">=\"&$R72:$R75),ROW(INDIRECT(\"1:\"&ROWS($R72:$R75)))),COUNTIF($R72:$R75,\">=\"&$R72:$R75),0))","v":"09890France"},{"$f":"INDEX($S72:$S75,MATCH(SMALL(COUNTIF($R72:$R75,\">=\"&$R72:$R75),ROW(INDIRECT(\"1:\"&ROWS($R72:$R75)))),COUNTIF($R72:$R75,\">=\"&$R72:$R75),0))","v":9890},{"$f":"INDEX($T72:$T75,MATCH(SMALL(COUNTIF($R72:$R75,\">=\"&$R72:$R75),ROW(INDIRECT(\"1:\"&ROWS($R72:$R75)))),COUNTIF($R72:$R75,\">=\"&$R72:$R75),0))","v":1},{"$f":"INDEX($U72:$U75,MATCH(SMALL(COUNTIF($R72:$R75,\">=\"&$R72:$R75),ROW(INDIRECT(\"1:\"&ROWS($R72:$R75)))),COUNTIF($R72:$R75,\">=\"&$R72:$R75),0))","v":"France"},{"$f":"SUMPRODUCT((Teams1=U21)*(Teams1_Score<>\"\"))+SUMPRODUCT((Teams2=U21)*(Teams2_Score<>\"\"))","v":3},{"$f":"SUMPRODUCT((Teams1=U21)*(Teams1_Score>Teams2_Score))+SUMPRODUCT((Teams2=U21)*(Teams2_Score>Teams1_Score))","v":3},{"$f":"SUMPRODUCT((Teams1=U21)*(Teams1_Score=Teams2_Score)*(Teams1_Score<>\"\"))+SUMPRODUCT((Teams2=U21)*(Teams2_Score=Teams1_Score)*(Teams2_Score<>\"\"))","v":0},{"$f":"SUMPRODUCT((Teams1=U21)*(Teams1_Score<Teams2_Score))+SUMPRODUCT((Teams2=U21)*(Teams2_Score<Teams1_Score))","v":0},{"$f":"SUMPRODUCT((Teams1=U21)*(Teams1_Score))+SUMPRODUCT((Teams2=U21)*(Teams2_Score))","v":9},{"$f":"SUMPRODUCT((Teams1=U21)*(Teams2_Score))+SUMPRODUCT((Teams2=U21)*(Teams1_Score))","v":1},{"$f":"Z21-AA21","v":8},{"$f":"3*W21+X21","v":9},null,null,null,"PHASES FINALES"]
[null,{"$f":"VLOOKUP($D22,TABLEAU_MATCHS[#All],2,FALSE)","v":"2018-06-19"},{"$f":"VLOOKUP($D22,TABLEAU_MATCHS[#All],3,FALSE)","v":"17:00:00"},15,{"$f":"\"Groupe \"&VLOOKUP($I22,TABLEAU_TEAMS[[#All],[TEAM]:[GROUP_INITIAL_RANK]],2,FALSE)","v":"Groupe H"},1.38,3.9,8,{"$f":"VLOOKUP($D22,TABLEAU_MATCHS[#All],4,FALSE)","v":"Colombie"},1,null,{"$f":"VLOOKUP($D22,TABLEAU_MATCHS[#All],5,FALSE)","v":"Japon"},0,{"$f":"IF(OR(ISBLANK(RESULTATS!J22),ISBLANK(J22)),\"\",IF(AND(Vildary!J22=RESULTATS!J22,Vildary!M22=RESULTATS!M22),3,IF(OR(AND(Vildary!J22>Vildary!M22,RESULTATS!J22>RESULTATS!M22),AND(Vildary!J22<Vildary!M22,RESULTATS!J22<RESULTATS!M22),AND(Vildary!J22=Vildary!M22,RESULTATS!J22=RESULTATS!M22)),1,0)))","v":""},null,null,null,"04060Danemark",4060,2,"Danemark",{"$f":"SUMPRODUCT((Teams1=U22)*(Teams1_Score<>\"\"))+SUMPRODUCT((Teams2=U22)*(Teams2_Score<>\"\"))","v":3},{"$f":"SUMPRODUCT((Teams1=U22)*(Teams1_Score>Teams2_Score))+SUMPRODUCT((Teams2=U22)*(Teams2_Score>Teams1_Score))","v":1},{"$f":"SUMPRODUCT((Teams1=U22)*(Teams1_Score=Teams2_Score)*(Teams1_Score<>\"\"))+SUMPRODUCT((Teams2=U22)*(Teams2_Score=Teams1_Score)*(Teams2_Score<>\"\"))","v":1},{"$f":"SUMPRODUCT((Teams1=U22)*(Teams1_Score<Teams2_Score))+SUMPRODUCT((Teams2=U22)*(Teams2_Score<Teams1_Score))","v":1},{"$f":"SUMPRODUCT((Teams1=U22)*(Teams1_Score))+SUMPRODUCT((Teams2=U22)*(Teams2_Score))","v":6},{"$f":"SUMPRODUCT((Teams1=U22)*(Teams2_Score))+SUMPRODUCT((Teams2=U22)*(Teams1_Score))","v":6},{"$f":"Z22-AA22","v":0},{"$f":"3*W22+X22","v":4}]
[null,{"$f":"VLOOKUP($D23,TABLEAU_MATCHS[#All],2,FALSE)","v":"2018-06-19"},{"$f":"VLOOKUP($D23,TABLEAU_MATCHS[#All],3,FALSE)","v":"14:00:00"},16,{"$f":"\"Groupe \"&VLOOKUP($I23,TABLEAU_TEAMS[[#All],[TEAM]:[GROUP_INITIAL_RANK]],2,FALSE)","v":"Groupe H"},2.0499999999999998,2.9,3.5,{"$f":"VLOOKUP($D23,TABLEAU_MATCHS[#All],4,FALSE)","v":"Pologne"},2,null,{"$f":"VLOOKUP($D23,TABLEAU_MATCHS[#All],5,FALSE)","v":"Sénégal"},1,{"$f":"IF(OR(ISBLANK(RESULTATS!J23),ISBLANK(J23)),\"\",IF(AND(Vildary!J23=RESULTATS!J23,Vildary!M23=RESULTATS!M23),3,IF(OR(AND(Vildary!J23>Vildary!M23,RESULTATS!J23>RESULTATS!M23),AND(Vildary!J23<Vildary!M23,RESULTATS!J23<RESULTATS!M23),AND(Vildary!J23=Vildary!M23,RESULTATS!J23=RESULTATS!M23)),1,0)))","v":""},null,null,null,"03840Pérou",3840,3,"Pérou",{"$f":"SUMPRODUCT((Teams1=U23)*(Teams1_Score<>\"\"))+SUMPRODUCT((Teams2=U23)*(Teams2_Score<>\"\"))","v":3},{"$f":"SUMPRODUCT((Teams1=U23)*(Teams1_Score>Teams2_Score))+SUMPRODUCT((Teams2=U23)*(Teams2_Score>Teams1_Score))","v":1},{"$f":"SUMPRODUCT((Teams1=U23)*(Teams1_Score=Teams2_Score)*(Teams1_Score<>\"\"))+SUMPRODUCT((Teams2=U23)*(Teams2_Score=Teams1_Score)*(Teams2_Score<>\"\"))","v":1},{"$f":"SUMPRODUCT((Teams1=U23)*(Teams1_Score<Teams2_Score))+SUMPRODUCT((Teams2=U23)*(Teams2_Score<Teams1_Score))","v":1},{"$f":"SUMPRODUCT((Teams1=U23)*(Teams1_Score))+SUMPRODUCT((Teams2=U23)*(Teams2_Score))","v":4},{"$f":"SUMPRODUCT((Teams1=U23)*(Teams2_Score))+SUMPRODUCT((Teams2=U23)*(Teams1_Score))","v":6},{"$f":"Z23-AA23","v":-2},{"$f":"3*W23+X23","v":4},null,null,"Date","Finale",null,null,"Buts",null,"Pen",null,null,null,"Buts",null,"Pen"]
[null,{"$f":"VLOOKUP($D24,TABLEAU_MATCHS[#All],2,FALSE)","v":"2018-06-19"},{"$f":"VLOOKUP($D24,TABLEAU_MATCHS[#All],3,FALSE)","v":"20:00:00"},17,{"$f":"\"Groupe \"&VLOOKUP($I24,TABLEAU_TEAMS[[#All],[TEAM]:[GROUP_INITIAL_RANK]],2,FALSE)","v":"Groupe A"},1.26,4.8,9,{"$f":"VLOOKUP($D24,TABLEAU_MATCHS[#All],4,FALSE)","v":"Russie"},1,null,{"$f":"VLOOKUP($D24,TABLEAU_MATCHS[#All],5,FALSE)","v":"Egypte"},2,{"$f":"IF(OR(ISBLANK(RESULTATS!J24),ISBLANK(J24)),\"\",IF(AND(Vildary!J24=RESULTATS!J24,Vildary!M24=RESULTATS!M24),3,IF(OR(AND(Vildary!J24>Vildary!M24,RESULTATS!J24>RESULTATS!M24),AND(Vildary!J24<Vildary!M24,RESULTATS!J24<RESULTATS!M24),AND(Vildary!J24=Vildary!M24,RESULTATS!J24=RESULTATS!M24)),1,0)))","v":""},null,null,null,"-00580Australie",-580,4,"Australie",{"$f":"SUMPRODUCT((Teams1=U24)*(Teams1_Score<>\"\"))+SUMPRODUCT((Teams2=U24)*(Teams2_Score<>\"\"))","v":3},{"$f":"SUMPRODUCT((Teams1=U24)*(Teams1_Score>Teams2_Score))+SUMPRODUCT((Teams2=U24)*(Teams2_Score>Teams1_Score))","v":0},{"$f":"SUMPRODUCT((Teams1=U24)*(Teams1_Score=Teams2_Score)*(Teams1_Score<>\"\"))+SUMPRODUCT((Teams2=U24)*(Teams2_Score=Teams1_Score)*(Teams2_Score<>\"\"))","v":0},{"$f":"SUMPRODUCT((Teams1=U24)*(Teams1_Score<Teams2_Score))+SUMPRODUCT((Teams2=U24)*(Teams2_Score<Teams1_Score))","v":3},{"$f":"SUMPRODUCT((Teams1=U24)*(Teams1_Score))+SUMPRODUCT((Teams2=U24)*(Teams2_Score))","v":2},{"$f":"SUMPRODUCT((Teams1=U24)*(Teams2_Score))+SUMPRODUCT((Teams2=U24)*(Teams1_Score))","v":8},{"$f":"Z24-AA24","v":-6},{"$f":"3*W24+X24","v":0}]
[null,{"$f":"VLOOKUP($D25,TABLEAU_MATCHS[#All],2,FALSE)","v":"2018-06-20"},{"$f":"VLOOKUP($D25,TABLEAU_MATCHS[#All],3,FALSE)","v":"17:00:00"},18,{"$f":"\"Groupe \"&VLOOKUP($I25,TABLEAU_TEAMS[[#All],[TEAM]:[GROUP_INITIAL_RANK]],2,FALSE)","v":"Groupe A"},3.5,3,2,{"$f":"VLOOKUP($D25,TABLEAU_MATCHS[#All],4,FALSE)","v":"Uruguay"},2,null,{"$f":"VLOOKUP($D25,TABLEAU_MATCHS[#All],5,FALSE)","v":"Arabie Saoudite"},0,{"$f":"IF(OR(ISBLANK(RESULTATS!J25),ISBLANK(J25)),\"\",IF(AND(Vildary!J25=RESULTATS!J25,Vildary!M25=RESULTATS!M25),3,IF(OR(AND(Vildary!J25>Vildary!M25,RESULTATS!J25>RESULTATS!M25),AND(Vildary!J25<Vildary!M25,RESULTATS!J25<RESULTATS!M25),AND(Vildary!J25=Vildary!M25,RESULTATS!J25=RESULTATS!M25)),1,0)))","v":""},null,null,null,null,null,null,null,null,null,null,null,null,null,null,null,null,null,"2018-07-15",null,{"$f":"+IF(AJ33<>\"\",IF(AI33>AO33,AH33,AN33),\"Vainqueur 1\")","v":"Vainqueur 1"},{"$f":"AJ25*10+AL25","v":30},3,{"$f":"IF(LEFT(AH25,5)<>\"Vainq\",COUNTIF(RESULTATS!$AG$10:$AM$10,AH25),0)","v":0},null,null,{"$f":"+IF(AJ34<>\"\",IF(AI34>AO34,AH34,AN34),\"Vainqueur 2\")","v":"Vainqueur 2"},{"$f":"AP25*10+AR25","v":0},null,{"$f":"IF(LEFT(AN25,5)<>\"Vainq\",COUNTIF(RESULTATS!$AG$10:$AM$10,AN25),0)","v":0},null,null,{"$f":"IF(AJ25<>\"\",IF(AI25>AO25,AH25,AN25),\"\")","v":"Vainqueur 1"}]
[null,{"$f":"VLOOKUP($D26,TABLEAU_MATCHS[#All],2,FALSE)","v":"2018-06-20"},{"$f":"VLOOKUP($D26,TABLEAU_MATCHS[#All],3,FALSE)","v":"14:00:00"},19,{"$f":"\"Groupe \"&VLOOKUP($I26,TABLEAU_TEAMS[[#All],[TEAM]:[GROUP_INITIAL_RANK]],2,FALSE)","v":"Groupe B"},1.66,3.35,4.8,{"$f":"VLOOKUP($D26,TABLEAU_MATCHS[#All],4,FALSE)","v":"Portugal"},3,null,{"$f":"VLOOKUP($D26,TABLEAU_MATCHS[#All],5,FALSE)","v":"Maroc"},1,{"$f":"IF(OR(ISBLANK(RESULTATS!J26),ISBLANK(J26)),\"\",IF(AND(Vildary!J26=RESULTATS!J26,Vildary!M26=RESULTATS!M26),3,IF(OR(AND(Vildary!J26>Vildary!M26,RESULTATS!J26>RESULTATS!M26),AND(Vildary!J26<Vildary!M26,RESULTATS!J26<RESULTATS!M26),AND(Vildary!J26=Vildary!M26,RESULTATS!J26=RESULTATS!M26)),1,0)))","v":""},null,null,null,null,null,"Rg","Groupe D","MJ","G","N","P","BP","BC","+/-","Pts"]
[null,{"$f":"VLOOKUP($D27,TABLEAU_MATCHS[#All],2,FALSE)","v":"2018-06-20"},{"$f":"VLOOKUP($D27,TABLEAU_MATCHS[#All],3,FALSE)","v":"20:00:00"},20,{"$f":"\"Groupe \"&VLOOKUP($I27,TABLEAU_TEAMS[[#All],[TEAM]:[GROUP_INITIAL_RANK]],2,FALSE)","v":"Groupe B"},8.5,4.7,1.28,{"$f":"VLOOKUP($D27,TABLEAU_MATCHS[#All],4,FALSE)","v":"RI Iran"},0,null,{"$f":"VLOOKUP($D27,TABLEAU_MATCHS[#All],5,FALSE)","v":"Espagne"},4,{"$f":"IF(OR(ISBLANK(RESULTATS!J27),ISBLANK(J27)),\"\",IF(AND(Vildary!J27=RESULTATS!J27,Vildary!M27=RESULTATS!M27),3,IF(OR(AND(Vildary!J27>Vildary!M27,RESULTATS!J27>RESULTATS!M27),AND(Vildary!J27<Vildary!M27,RESULTATS!J27<RESULTATS!M27),AND(Vildary!J27=Vildary!M27,RESULTATS!J27=RESULTATS!M27)),1,0)))","v":""},null,null,null,{"$f":"INDEX($R78:$R81,MATCH(SMALL(COUNTIF($R78:$R81,\">=\"&$R78:$R81),ROW(INDIRECT(\"1:\"&ROWS($R78:$R81)))),COUNTIF($R78:$R81,\">=\"&$R78:$R81),0))","v":"09790Argentine"},{"$f":"INDEX($S78:$S81,MATCH(SMALL(COUNTIF($R78:$R81,\">=\"&$R78:$R81),ROW(INDIRECT(\"1:\"&ROWS($R78:$R81)))),COUNTIF($R78:$R81,\">=\"&$R78:$R81),0))","v":9790},{"$f":"INDEX($T78:$T81,MATCH(SMALL(COUNTIF($R78:$R81,\">=\"&$R78:$R81),ROW(INDIRECT(\"1:\"&ROWS($R78:$R81)))),COUNTIF($R78:$R81,\">=\"&$R78:$R81),0))","v":1},{"$f":"INDEX($U78:$U81,MATCH(SMALL(COUNTIF($R78:$R81,\">=\"&$R78:$R81),ROW(INDIRECT(\"1:\"&ROWS($R78:$R81)))),COUNTIF($R78:$R81,\">=\"&$R78:$R81),0))","v":"Argentine"},{"$f":"SUMPRODUCT((Teams1=U27)*(Teams1_Score<>\"\"))+SUMPRODUCT((Teams2=U27)*(Teams2_Score<>\"\"))","v":3},{"$f":"SUMPRODUCT((Teams1=U27)*(Teams1_Score>Teams2_Score))+SUMPRODUCT((Teams2=U27)*(Teams2_Score>Teams1_Score))","v":3},{"$f":"SUMPRODUCT((Teams1=U27)*(Teams1_Score=Teams2_Score)*(Teams1_Score<>\"\"))+SUMPRODUCT((Teams2=U27)*(Teams2_Score=Teams1_Score)*(Teams2_Score<>\"\"))","v":0},{"$f":"SUMPRODUCT((Teams1=U27)*(Teams1_Score<Teams2_Score))+SUMPRODUCT((Teams2=U27)*(Teams2_Score<Teams1_Score))","v":0},{"$f":"SUMPRODUCT((Teams1=U27)*(Teams1_Score))+SUMPRODUCT((Teams2=U27)*(Teams2_Score))","v":9},{"$f":"SUMPRODUCT((Teams1=U27)*(Teams2_Score))+SUMPRODUCT((Teams2=U27)*(Teams1_Score))","v":2},{"$f":"Z27-AA27","v":7},{"$f":"3*W27+X27","v":9},null,null,"Date","Petite Finale",null,null,"Buts",null,"Pen",null,null,null,"Buts",null,"Pen"]
[null,{"$f":"VLOOKUP($D28,TABLEAU_MATCHS[#All],2,FALSE)","v":"2018-06-21"},{"$f":"VLOOKUP($D28,TABLEAU_MATCHS[#All],3,FALSE)","v":"14:00:00"},21,{"$f":"\"Groupe \"&VLOOKUP($I28,TABLEAU_TEAMS[[#All],[TEAM]:[GROUP_INITIAL_RANK]],2,FALSE)","v":"Groupe C"},1.85,3,4,{"$f":"VLOOKUP($D28,TABLEAU_MATCHS[#All],4,FALSE)","v":"Danemark"},3,null,{"$f":"VLOOKUP($D28,TABLEAU_MATCHS[#All],5,FALSE)","v":"Australie"},1,{"$f":"IF(OR(ISBLANK(RESULTATS!J28),ISBLANK(J28)),\"\",IF(AND(Vildary!J28=RESULTATS!J28,Vildary!M28=RESULTATS!M28),3,IF(OR(AND(Vildary!J28>Vildary!M28,RESULTATS!J28>RESULTATS!M28),AND(Vildary!J28<Vildary!M28,RESULTATS!J28<RESULTATS!M28),AND(Vildary!J28=Vildary!M28,RESULTATS!J28=RESULTATS!M28)),1,0)))","v":""},null,null,null,"04040Croatie",4040,2,"Croatie",{"$f":"SUMPRODUCT((Teams1=U28)*(Teams1_Score<>\"\"))+SUMPRODUCT((Teams2=U28)*(Teams2_Score<>\"\"))","v":3},{"$f":"SUMPRODUCT((Teams1=U28)*(Teams1_Score>Teams2_Score))+SUMPRODUCT((Teams2=U28)*(Teams2_Score>Teams1_Score))","v":1},{"$f":"SUMPRODUCT((Teams1=U28)*(Teams1_Score=Teams2_Score)*(Teams1_Score<>\"\"))+SUMPRODUCT((Teams2=U28)*(Teams2_Score=Teams1_Score)*(Teams2_Score<>\"\"))","v":1},{"$f":"SUMPRODUCT((Teams1=U28)*(Teams1_Score<Teams2_Score))+SUMPRODUCT((Teams2=U28)*(Teams2_Score<Teams1_Score))","v":1},{"$f":"SUMPRODUCT((Teams1=U28)*(Teams1_Score))+SUMPRODUCT((Teams2=U28)*(Teams2_Score))","v":4},{"$f":"SUMPRODUCT((Teams1=U28)*(Teams2_Score))+SUMPRODUCT((Teams2=U28)*(Teams1_Score))","v":4},{"$f":"Z28-AA28","v":0},{"$f":"3*W28+X28","v":4}]
[null,{"$f":"VLOOKUP($D29,TABLEAU_MATCHS[#All],2,FALSE)","v":"2018-06-21"},{"$f":"VLOOKUP($D29,TABLEAU_MATCHS[#All],3,FALSE)","v":"17:00:00"},22,{"$f":"\"Groupe \"&VLOOKUP($I29,TABLEAU_TEAMS[[#All],[TEAM]:[GROUP_INITIAL_RANK]],2,FALSE)","v":"Groupe C"},2.2999999999999998,3,2.9,{"$f":"VLOOKUP($D29,TABLEAU_MATCHS[#All],4,FALSE)","v":"France"},3,null,{"$f":"VLOOKUP($D29,TABLEAU_MATCHS[#All],5,FALSE)","v":"Pérou"},0,{"$f":"IF(OR(ISBLANK(RESULTATS!J29),ISBLANK(J29)),\"\",IF(AND(Vildary!J29=RESULTATS!J29,Vildary!M29=RESULTATS!M29),3,IF(OR(AND(Vildary!J29>Vildary!M29,RESULTATS!J29>RESULTATS!M29),AND(Vildary!J29<Vildary!M29,RESULTATS!J29<RESULTATS!M29),AND(Vildary!J29=Vildary!M29,RESULTATS!J29=RESULTATS!M29)),1,0)))","v":""},null,null,null,"03930Nigeria",3930,3,"Nigeria",{"$f":"SUMPRODUCT((Teams1=U29)*(Teams1_Score<>\"\"))+SUMPRODUCT((Teams2=U29)*(Teams2_Score<>\"\"))","v":3},{"$f":"SUMPRODUCT((Teams1=U29)*(Teams1_Score>Teams2_Score))+SUMPRODUCT((Teams2=U29)*(Teams2_Score>Teams1_Score))","v":1},{"$f":"SUMPRODUCT((Teams1=U29)*(Teams1_Score=Teams2_Score)*(Teams1_Score<>\"\"))+SUMPRODUCT((Teams2=U29)*(Teams2_Score=Teams1_Score)*(Teams2_Score<>\"\"))","v":1},{"$f":"SUMPRODUCT((Teams1=U29)*(Teams1_Score<Teams2_Score))+SUMPRODUCT((Teams2=U29)*(Teams2_Score<Teams1_Score))","v":1},{"$f":"SUMPRODUCT((Teams1=U29)*(Teams1_Score))+SUMPRODUCT((Teams2=U29)*(Teams2_Score))","v":3},{"$f":"SUMPRODUCT((Teams1=U29)*(Teams2_Score))+SUMPRODUCT((Teams2=U29)*(Teams1_Score))","v":4},{"$f":"Z29-AA29","v":-1},{"$f":"3*W29+X29","v":4},null,null,"2018-07-14",null,{"$f":"+IF(AJ33<>\"\",IF(AI33>AO33,AN33,AH33),\"Perdant 1\")","v":"Perdant 1"},{"$f":"AJ29*10+AL29","v":0},null,null,null,null,{"$f":"+IF(AJ34<>\"\",IF(AI34>AO34,AN34,AH34),\"Perdant 2\")","v":"Perdant 2"},{"$f":"AP29*10+AR29","v":0}]
[null,{"$f":"VLOOKUP($D30,TABLEAU_MATCHS[#All],2,FALSE)","v":"2018-06-21"},{"$f":"VLOOKUP($D30,TABLEAU_MATCHS[#All],3,FALSE)","v":"20:00:00"},23,{"$f":"\"Groupe \"&VLOOKUP($I30,TABLEAU_TEAMS[[#All],[TEAM]:[GROUP_INITIAL_RANK]],2,FALSE)","v":"Groupe D"},2.4,3,2.8,{"$f":"VLOOKUP($D30,TABLEAU_MATCHS[#All],4,FALSE)","v":"Argentine"},3,null,{"$f":"VLOOKUP($D30,TABLEAU_MATCHS[#All],5,FALSE)","v":"Croatie"},1,{"$f":"IF(OR(ISBLANK(RESULTATS!J30),ISBLANK(J30)),\"\",IF(AND(Vildary!J30=RESULTATS!J30,Vildary!M30=RESULTATS!M30),3,IF(OR(AND(Vildary!J30>Vildary!M30,RESULTATS!J30>RESULTATS!M30),AND(Vildary!J30<Vildary!M30,RESULTATS!J30<RESULTATS!M30),AND(Vildary!J30=Vildary!M30,RESULTATS!J30=RESULTATS!M30)),1,0)))","v":""},null,null,null,"-00600Islande",-600,4,"Islande",{"$f":"SUMPRODUCT((Teams1=U30)*(Teams1_Score<>\"\"))+SUMPRODUCT((Teams2=U30)*(Teams2_Score<>\"\"))","v":3},{"$f":"SUMPRODUCT((Teams1=U30)*(Teams1_Score>Teams2_Score))+SUMPRODUCT((Teams2=U30)*(Teams2_Score>Teams1_Score))","v":0},{"$f":"SUMPRODUCT((Teams1=U30)*(Teams1_Score=Teams2_Score)*(Teams1_Score<>\"\"))+SUMPRODUCT((Teams2=U30)*(Teams2_Score=Teams1_Score)*(Teams2_Score<>\"\"))","v":0},{"$f":"SUMPRODUCT((Teams1=U30)*(Teams1_Score<Teams2_Score))+SUMPRODUCT((Teams2=U30)*(Teams2_Score<Teams1_Score))","v":3},{"$f":"SUMPRODUCT((Teams1=U30)*(Teams1_Score))+SUMPRODUCT((Teams2=U30)*(Teams2_Score))","v":0},{"$f":"SUMPRODUCT((Teams1=U30)*(Teams2_Score))+SUMPRODUCT((Teams2=U30)*(Teams1_Score))","v":6},{"$f":"Z30-AA30","v":-6},{"$f":"3*W30+X30","v":0}]
[null,{"$f":"VLOOKUP($D31,TABLEAU_MATCHS[#All],2,FALSE)","v":"2018-06-22"},{"$f":"VLOOKUP($D31,TABLEAU_MATCHS[#All],3,FALSE)","v":"17:00:00"},24,{"$f":"\"Groupe \"&VLOOKUP($I31,TABLEAU_TEAMS[[#All],[TEAM]:[GROUP_INITIAL_RANK]],2,FALSE)","v":"Groupe D"},1.26,4.5999999999999996,9.5,{"$f":"VLOOKUP($D31,TABLEAU_MATCHS[#All],4,FALSE)","v":"Nigeria"},1,null,{"$f":"VLOOKUP($D31,TABLEAU_MATCHS[#All],5,FALSE)","v":"Islande"},0,{"$f":"IF(OR(ISBLANK(RESULTATS!J31),ISBLANK(J31)),\"\",IF(AND(Vildary!J31=RESULTATS!J31,Vildary!M31=RESULTATS!M31),3,IF(OR(AND(Vildary!J31>Vildary!M31,RESULTATS!J31>RESULTATS!M31),AND(Vildary!J31<Vildary!M31,RESULTATS!J31<RESULTATS!M31),AND(Vildary!J31=Vildary!M31,RESULTATS!J31=RESULTATS!M31)),1,0)))","v":""},null,null,null,null,null,null,null,null,null,null,null,null,null,null,null,null,null,"Date","Demi Finale",null,null,"Buts",null,"Pen",null,null,null,"Buts",null,"Pen"]
[null,{"$f":"VLOOKUP($D32,TABLEAU_MATCHS[#All],2,FALSE)","v":"2018-06-22"},{"$f":"VLOOKUP($D32,TABLEAU_MATCHS[#All],3,FALSE)","v":"14:00:00"},25,{"$f":"\"Groupe \"&VLOOKUP($I32,TABLEAU_TEAMS[[#All],[TEAM]:[GROUP_INITIAL_RANK]],2,FALSE)","v":"Groupe E"},3.5,2.95,2.1,{"$f":"VLOOKUP($D32,TABLEAU_MATCHS[#All],4,FALSE)","v":"Brésil"},3,null,{"$f":"VLOOKUP($D32,TABLEAU_MATCHS[#All],5,FALSE)","v":"Costa Rica"},0,{"$f":"IF(OR(ISBLANK(RESULTATS!J32),ISBLANK(J32)),\"\",IF(AND(Vildary!J32=RESULTATS!J32,Vildary!M32=RESULTATS!M32),3,IF(OR(AND(Vildary!J32>Vildary!M32,RESULTATS!J32>RESULTATS!M32),AND(Vildary!J32<Vildary!M32,RESULTATS!J32<RESULTATS!M32),AND(Vildary!J32=Vildary!M32,RESULTATS!J32=RESULTATS!M32)),1,0)))","v":""},null,null,null,null,null,"Rg","Groupe E","MJ","G","N","P","BP","BC","+/-","Pts"]
[null,{"$f":"VLOOKUP($D33,TABLEAU_MATCHS[#All],2,FALSE)","v":"2018-06-22"},{"$f":"VLOOKUP($D33,TABLEAU_MATCHS[#All],3,FALSE)","v":"20:00:00"},26,{"$f":"\"Groupe \"&VLOOKUP($I33,TABLEAU_TEAMS[[#All],[TEAM]:[GROUP_INITIAL_RANK]],2,FALSE)","v":"Groupe E"},4.8,3.25,1.62,{"$f":"VLOOKUP($D33,TABLEAU_MATCHS[#All],4,FALSE)","v":"Serbie"},1,null,{"$f":"VLOOKUP($D33,TABLEAU_MATCHS[#All],5,FALSE)","v":"Suisse"},1,{"$f":"IF(OR(ISBLANK(RESULTATS!J33),ISBLANK(J33)),\"\",IF(AND(Vildary!J33=RESULTATS!J33,Vildary!M33=RESULTATS!M33),3,IF(OR(AND(Vildary!J33>Vildary!M33,RESULTATS!J33>RESULTATS!M33),AND(Vildary!J33<Vildary!M33,RESULTATS!J33<RESULTATS!M33),AND(Vildary!J33=Vildary!M33,RESULTATS!J33=RESULTATS!M33)),1,0)))","v":""},null,null,null,{"$f":"INDEX($R84:$R87,MATCH(SMALL(COUNTIF($R84:$R87,\">=\"&$R84:$R87),ROW(INDIRECT(\"1:\"&ROWS($R84:$R87)))),COUNTIF($R84:$R87,\">=\"&$R84:$R87),0))","v":"10000Brésil"},{"$f":"INDEX($S84:$S87,MATCH(SMALL(COUNTIF($R84:$R87,\">=\"&$R84:$R87),ROW(INDIRECT(\"1:\"&ROWS($R84:$R87)))),COUNTIF($R84:$R87,\">=\"&$R84:$R87),0))","v":10000},{"$f":"INDEX($T84:$T87,MATCH(SMALL(COUNTIF($R84:$R87,\">=\"&$R84:$R87),ROW(INDIRECT(\"1:\"&ROWS($R84:$R87)))),COUNTIF($R84:$R87,\">=\"&$R84:$R87),0))","v":1},{"$f":"INDEX($U84:$U87,MATCH(SMALL(COUNTIF($R84:$R87,\">=\"&$R84:$R87),ROW(INDIRECT(\"1:\"&ROWS($R84:$R87)))),COUNTIF($R84:$R87,\">=\"&$R84:$R87),0))","v":"Brésil"},{"$f":"SUMPRODUCT((Teams1=U33)*(Teams1_Score<>\"\"))+SUMPRODUCT((Teams2=U33)*(Teams2_Score<>\"\"))","v":3},{"$f":"SUMPRODUCT((Teams1=U33)*(Teams1_Score>Teams2_Score))+SUMPRODUCT((Teams2=U33)*(Teams2_Score>Teams1_Score))","v":3},{"$f":"SUMPRODUCT((Teams1=U33)*(Teams1_Score=Teams2_Score)*(Teams1_Score<>\"\"))+SUMPRODUCT((Teams2=U33)*(Teams2_Score=Teams1_Score)*(Teams2_Score<>\"\"))","v":0},{"$f":"SUMPRODUCT((Teams1=U33)*(Teams1_Score<Teams2_Score))+SUMPRODUCT((Teams2=U33)*(Teams2_Score<Teams1_Score))","v":0},{"$f":"SUMPRODUCT((Teams1=U33)*(Teams1_Score))+SUMPRODUCT((Teams2=U33)*(Teams2_Score))","v":10},{"$f":"SUMPRODUCT((Teams1=U33)*(Teams2_Score))+SUMPRODUCT((Teams2=U33)*(Teams1_Score))","v":1},{"$f":"Z33-AA33","v":9},{"$f":"3*W33+X33","v":9},null,null,"2018-07-10",1,{"$f":"+IF(AJ38<>\"\",IF(AI38>AO38,AH38,AN38),\"Vainqueur A\")","v":"Vainqueur A"},{"$f":"AJ33*10+AL33","v":0},null,{"$f":"IF(LEFT(AH33,5)<>\"Vainq\",COUNTIF(RESULTATS!$AG$18:$AM$19,AH33),0)","v":0},null,null,{"$f":"+IF(AJ40<>\"\",IF(AI40>AO40,AH40,AN40),\"Vainqueur C\")","v":"Vainqueur C"},{"$f":"AP33*10+AR33","v":0},null,{"$f":"IF(LEFT(AN33,5)<>\"Vainq\",COUNTIF(RESULTATS!$AG$18:$AM$19,AN33),0)","v":0}]
[null,{"$f":"VLOOKUP($D34,TABLEAU_MATCHS[#All],2,FALSE)","v":"2018-06-23"},{"$f":"VLOOKUP($D34,TABLEAU_MATCHS[#All],3,FALSE)","v":"20:00:00"},27,{"$f":"\"Groupe \"&VLOOKUP($I34,TABLEAU_TEAMS[[#All],[TEAM]:[GROUP_INITIAL_RANK]],2,FALSE)","v":"Groupe F"},1.1200000000000001,6.5,15,{"$f":"VLOOKUP($D34,TABLEAU_MATCHS[#All],4,FALSE)","v":"République de Corée"},0,null,{"$f":"VLOOKUP($D34,TABLEAU_MATCHS[#All],5,FALSE)","v":"Mexique"},2,{"$f":"IF(OR(ISBLANK(RESULTATS!J34),ISBLANK(J34)),\"\",IF(AND(Vildary!J34=RESULTATS!J34,Vildary!M34=RESULTATS!M34),3,IF(OR(AND(Vildary!J34>Vildary!M34,RESULTATS!J34>RESULTATS!M34),AND(Vildary!J34<Vildary!M34,RESULTATS!J34<RESULTATS!M34),AND(Vildary!J34=Vildary!M34,RESULTATS!J34=RESULTATS!M34)),1,0)))","v":""},null,null,null,"01730Suisse",1730,2,"Suisse",{"$f":"SUMPRODUCT((Teams1=U34)*(Teams1_Score<>\"\"))+SUMPRODUCT((Teams2=U34)*(Teams2_Score<>\"\"))","v":3},{"$f":"SUMPRODUCT((Teams1=U34)*(Teams1_Score>Teams2_Score))+SUMPRODUCT((Teams2=U34)*(Teams2_Score>Teams1_Score))","v":0},{"$f":"SUMPRODUCT((Teams1=U34)*(Teams1_Score=Teams2_Score)*(Teams1_Score<>\"\"))+SUMPRODUCT((Teams2=U34)*(Teams2_Score=Teams1_Score)*(Teams2_Score<>\"\"))","v":2},{"$f":"SUMPRODUCT((Teams1=U34)*(Teams1_Score<Teams2_Score))+SUMPRODUCT((Teams2=U34)*(Teams2_Score<Teams1_Score))","v":1},{"$f":"SUMPRODUCT((Teams1=U34)*(Teams1_Score))+SUMPRODUCT((Teams2=U34)*(Teams2_Score))","v":3},{"$f":"SUMPRODUCT((Teams1=U34)*(Teams2_Score))+SUMPRODUCT((Teams2=U34)*(Teams1_Score))","v":6},{"$f":"Z34-AA34","v":-3},{"$f":"3*W34+X34","v":2},null,null,"2018-07-11",2,{"$f":"+IF(AJ39<>\"\",IF(AI39>AO39,AH39,AN39),\"Vainqueur B\")","v":"Vainqueur B"},{"$f":"AJ34*10+AL34","v":0},null,{"$f":"IF(LEFT(AH34,5)<>\"Vainq\",COUNTIF(RESULTATS!$AG$18:$AM$19,AH34),0)","v":0},null,null,{"$f":"+IF(AJ41<>\"\",IF(AI41>AO41,AH41,AN41),\"Vainqueur D\")","v":"Vainqueur D"},{"$f":"AP34*10+AR34","v":0},null,{"$f":"IF(LEFT(AN34,5)<>\"Vainq\",COUNTIF(RESULTATS!$AG$18:$AM$19,AN34),0)","v":0}]
[null,{"$f":"VLOOKUP($D35,TABLEAU_MATCHS[#All],2,FALSE)","v":"2018-06-23"},{"$f":"VLOOKUP($D35,TABLEAU_MATCHS[#All],3,FALSE)","v":"17:00:00"},28,{"$f":"\"Groupe \"&VLOOKUP($I35,TABLEAU_TEAMS[[#All],[TEAM]:[GROUP_INITIAL_RANK]],2,FALSE)","v":"Groupe F"},2.8,2.95,2.4,{"$f":"VLOOKUP($D35,TABLEAU_MATCHS[#All],4,FALSE)","v":"Allemagne"},3,null,{"$f":"VLOOKUP($D35,TABLEAU_MATCHS[#All],5,FALSE)","v":"Suède"},0,{"$f":"IF(OR(ISBLANK(RESULTATS!J35),ISBLANK(J35)),\"\",IF(AND(Vildary!J35=RESULTATS!J35,Vildary!M35=RESULTATS!M35),3,IF(OR(AND(Vildary!J35>Vildary!M35,RESULTATS!J35>RESULTATS!M35),AND(Vildary!J35<Vildary!M35,RESULTATS!J35<RESULTATS!M35),AND(Vildary!J35=Vildary!M35,RESULTATS!J35=RESULTATS!M35)),1,0)))","v":""},null,null,null,"01730Serbie",1730,2,"Serbie",{"$f":"SUMPRODUCT((Teams1=U35)*(Teams1_Score<>\"\"))+SUMPRODUCT((Teams2=U35)*(Teams2_Score<>\"\"))","v":3},{"$f":"SUMPRODUCT((Teams1=U35)*(Teams1_Score>Teams2_Score))+SUMPRODUCT((Teams2=U35)*(Teams2_Score>Teams1_Score))","v":0},{"$f":"SUMPRODUCT((Teams1=U35)*(Teams1_Score=Teams2_Score)*(Teams1_Score<>\"\"))+SUMPRODUCT((Teams2=U35)*(Teams2_Score=Teams1_Score)*(Teams2_Score<>\"\"))","v":2},{"$f":"SUMPRODUCT((Teams1=U35)*(Teams1_Score<Teams2_Score))+SUMPRODUCT((Teams2=U35)*(Teams2_Score<Teams1_Score))","v":1},{"$f":"SUMPRODUCT((Teams1=U35)*(Teams1_Score))+SUMPRODUCT((Teams2=U35)*(Teams2_Score))","v":3},{"$f":"SUMPRODUCT((Teams1=U35)*(Teams2_Score))+SUMPRODUCT((Teams2=U35)*(Teams1_Score))","v":6},{"$f":"Z35-AA35","v":-3},{"$f":"3*W35+X35","v":2},null,null,null,null,null,null,null,{"$f":"SUM(AK33:AK34)","v":0},null,null,null,null,null,{"$f":"SUM(AQ33:AQ34)","v":0}]
[null,{"$f":"VLOOKUP($D36,TABLEAU_MATCHS[#All],2,FALSE)","v":"2018-06-23"},{"$f":"VLOOKUP($D36,TABLEAU_MATCHS[#All],3,FALSE)","v":"14:00:00"},29,{"$f":"\"Groupe \"&VLOOKUP($I36,TABLEAU_TEAMS[[#All],[TEAM]:[GROUP_INITIAL_RANK]],2,FALSE)","v":"Groupe G"},1.36,4,7.5,{"$f":"VLOOKUP($D36,TABLEAU_MATCHS[#All],4,FALSE)","v":"Belgique"},2,null,{"$f":"VLOOKUP($D36,TABLEAU_MATCHS[#All],5,FALSE)","v":"Tunisie"},0,{"$f":"IF(OR(ISBLANK(RESULTATS!J36),ISBLANK(J36)),\"\",IF(AND(Vildary!J36=RESULTATS!J36,Vildary!M36=RESULTATS!M36),3,IF(OR(AND(Vildary!J36>Vildary!M36,RESULTATS!J36>RESULTATS!M36),AND(Vildary!J36<Vildary!M36,RESULTATS!J36<RESULTATS!M36),AND(Vildary!J36=Vildary!M36,RESULTATS!J36=RESULTATS!M36)),1,0)))","v":""},null,null,null,"01730Costa Rica",1730,2,"Costa Rica",{"$f":"SUMPRODUCT((Teams1=U36)*(Teams1_Score<>\"\"))+SUMPRODUCT((Teams2=U36)*(Teams2_Score<>\"\"))","v":3},{"$f":"SUMPRODUCT((Teams1=U36)*(Teams1_Score>Teams2_Score))+SUMPRODUCT((Teams2=U36)*(Teams2_Score>Teams1_Score))","v":0},{"$f":"SUMPRODUCT((Teams1=U36)*(Teams1_Score=Teams2_Score)*(Teams1_Score<>\"\"))+SUMPRODUCT((Teams2=U36)*(Teams2_Score=Teams1_Score)*(Teams2_Score<>\"\"))","v":2},{"$f":"SUMPRODUCT((Teams1=U36)*(Teams1_Score<Teams2_Score))+SUMPRODUCT((Teams2=U36)*(Teams2_Score<Teams1_Score))","v":1},{"$f":"SUMPRODUCT((Teams1=U36)*(Teams1_Score))+SUMPRODUCT((Teams2=U36)*(Teams2_Score))","v":3},{"$f":"SUMPRODUCT((Teams1=U36)*(Teams2_Score))+SUMPRODUCT((Teams2=U36)*(Teams1_Score))","v":6},{"$f":"Z36-AA36","v":-3},{"$f":"3*W36+X36","v":2},null,null,"Date","Quart de Finale",null,null,"Buts",null,"Pen",null,null,null,"Buts",null,"Pen"]
[null,{"$f":"VLOOKUP($D37,TABLEAU_MATCHS[#All],2,FALSE)","v":"2018-06-24"},{"$f":"VLOOKUP($D37,TABLEAU_MATCHS[#All],3,FALSE)","v":"14:00:00"},30,{"$f":"\"Groupe \"&VLOOKUP($I37,TABLEAU_TEAMS[[#All],[TEAM]:[GROUP_INITIAL_RANK]],2,FALSE)","v":"Groupe G"},4.7,3.4,1.62,{"$f":"VLOOKUP($D37,TABLEAU_MATCHS[#All],4,FALSE)","v":"Angleterre"},2,null,{"$f":"VLOOKUP($D37,TABLEAU_MATCHS[#All],5,FALSE)","v":"Panama"},0,{"$f":"IF(OR(ISBLANK(RESULTATS!J37),ISBLANK(J37)),\"\",IF(AND(Vildary!J37=RESULTATS!J37,Vildary!M37=RESULTATS!M37),3,IF(OR(AND(Vildary!J37>Vildary!M37,RESULTATS!J37>RESULTATS!M37),AND(Vildary!J37<Vildary!M37,RESULTATS!J37<RESULTATS!M37),AND(Vildary!J37=Vildary!M37,RESULTATS!J37=RESULTATS!M37)),1,0)))","v":""}]
[null,{"$f":"VLOOKUP($D38,TABLEAU_MATCHS[#All],2,FALSE)","v":"2018-06-24"},{"$f":"VLOOKUP($D38,TABLEAU_MATCHS[#All],3,FALSE)","v":"17:00:00"},31,{"$f":"\"Groupe \"&VLOOKUP($I38,TABLEAU_TEAMS[[#All],[TEAM]:[GROUP_INITIAL_RANK]],2,FALSE)","v":"Groupe H"},2.1,2.95,3.35,{"$f":"VLOOKUP($D38,TABLEAU_MATCHS[#All],4,FALSE)","v":"Japon"},1,null,{"$f":"VLOOKUP($D38,TABLEAU_MATCHS[#All],5,FALSE)","v":"Sénégal"},0,{"$f":"IF(OR(ISBLANK(RESULTATS!J38),ISBLANK(J38)),\"\",IF(AND(Vildary!J38=RESULTATS!J38,Vildary!M38=RESULTATS!M38),3,IF(OR(AND(Vildary!J38>Vildary!M38,RESULTATS!J38>RESULTATS!M38),AND(Vildary!J38<Vildary!M38,RESULTATS!J38<RESULTATS!M38),AND(Vildary!J38=Vildary!M38,RESULTATS!J38=RESULTATS!M38)),1,0)))","v":""},null,null,null,null,null,"Rg","Groupe F","MJ","G","N","P","BP","BC","+/-","Pts",null,null,"2018-07-06","A",{"$f":"+IF(AJ45<>\"\",IF(AI45>AO45,AH45,AN45),\"Vainqueur 1\")","v":"Vainqueur 1"},{"$f":"AJ38*10+AL38","v":0},null,{"$f":"IF(LEFT(AH38,5)<>\"Vainq\",COUNTIF(RESULTATS!$AG$23:$AM$26,AH38),0)","v":0},null,null,{"$f":"+IF(AJ47<>\"\",IF(AI47>AO47,AH47,AN47),\"Vainqueur 3\")","v":"Vainqueur 3"},{"$f":"AP38*10+AR38","v":0},null,{"$f":"IF(LEFT(AN38,5)<>\"Vainq\",COUNTIF(RESULTATS!$AG$23:$AM$26,AN38),0)","v":0}]
[null,{"$f":"VLOOKUP($D39,TABLEAU_MATCHS[#All],2,FALSE)","v":"2018-06-24"},{"$f":"VLOOKUP($D39,TABLEAU_MATCHS[#All],3,FALSE)","v":"20:00:00"},32,{"$f":"\"Groupe \"&VLOOKUP($I39,TABLEAU_TEAMS[[#All],[TEAM]:[GROUP_INITIAL_RANK]],2,FALSE)","v":"Groupe H"},1.9,3,3.8,{"$f":"VLOOKUP($D39,TABLEAU_MATCHS[#All],4,FALSE)","v":"Pologne"},0,null,{"$f":"VLOOKUP($D39,TABLEAU_MATCHS[#All],5,FALSE)","v":"Colombie"},1,{"$f":"IF(OR(ISBLANK(RESULTATS!J39),ISBLANK(J39)),\"\",IF(AND(Vildary!J39=RESULTATS!J39,Vildary!M39=RESULTATS!M39),3,IF(OR(AND(Vildary!J39>Vildary!M39,RESULTATS!J39>RESULTATS!M39),AND(Vildary!J39<Vildary!M39,RESULTATS!J39<RESULTATS!M39),AND(Vildary!J39=Vildary!M39,RESULTATS!J39=RESULTATS!M39)),1,0)))","v":""},null,null,null,{"$f":"INDEX($R90:$R93,MATCH(SMALL(COUNTIF($R90:$R93,\">=\"&$R90:$R93),ROW(INDIRECT(\"1:\"&ROWS($R90:$R93)))),COUNTIF($R90:$R93,\">=\"&$R90:$R93),0))","v":"10210Allemagne"},{"$f":"INDEX($S90:$S93,MATCH(SMALL(COUNTIF($R90:$R93,\">=\"&$R90:$R93),ROW(INDIRECT(\"1:\"&ROWS($R90:$R93)))),COUNTIF($R90:$R93,\">=\"&$R90:$R93),0))","v":10210},{"$f":"INDEX($T90:$T93,MATCH(SMALL(COUNTIF($R90:$R93,\">=\"&$R90:$R93),ROW(INDIRECT(\"1:\"&ROWS($R90:$R93)))),COUNTIF($R90:$R93,\">=\"&$R90:$R93),0))","v":1},{"$f":"INDEX($U90:$U93,MATCH(SMALL(COUNTIF($R90:$R93,\">=\"&$R90:$R93),ROW(INDIRECT(\"1:\"&ROWS($R90:$R93)))),COUNTIF($R90:$R93,\">=\"&$R90:$R93),0))","v":"Allemagne"},{"$f":"SUMPRODUCT((Teams1=U39)*(Teams1_Score<>\"\"))+SUMPRODUCT((Teams2=U39)*(Teams2_Score<>\"\"))","v":3},{"$f":"SUMPRODUCT((Teams1=U39)*(Teams1_Score>Teams2_Score))+SUMPRODUCT((Teams2=U39)*(Teams2_Score>Teams1_Score))","v":3},{"$f":"SUMPRODUCT((Teams1=U39)*(Teams1_Score=Teams2_Score)*(Teams1_Score<>\"\"))+SUMPRODUCT((Teams2=U39)*(Teams2_Score=Teams1_Score)*(Teams2_Score<>\"\"))","v":0},{"$f":"SUMPRODUCT((Teams1=U39)*(Teams1_Score<Teams2_Score))+SUMPRODUCT((Teams2=U39)*(Teams2_Score<Teams1_Score))","v":0},{"$f":"SUMPRODUCT((Teams1=U39)*(Teams1_Score))+SUMPRODUCT((Teams2=U39)*(Teams2_Score))","v":11},{"$f":"SUMPRODUCT((Teams1=U39)*(Teams2_Score))+SUMPRODUCT((Teams2=U39)*(Teams1_Score))","v":0},{"$f":"Z39-AA39","v":11},{"$f":"3*W39+X39","v":9},null,null,"2018-07-07","B",{"$f":"+IF(AJ46<>\"\",IF(AI46>AO46,AH46,AN46),\"Vainqueur 2\")","v":"Vainqueur 2"},{"$f":"AJ39*10+AL39","v":0},null,{"$f":"IF(LEFT(AH39,5)<>\"Vainq\",COUNTIF(RESULTATS!$AG$23:$AM$26,AH39),0)","v":0},null,null,{"$f":"+IF(AJ48<>\"\",IF(AI48>AO48,AH48,AN48),\"Vainqueur 4\")","v":"Vainqueur 4"},{"$f":"AP39*10+AR39","v":0},null,{"$f":"IF(LEFT(AN39,5)<>\"Vainq\",COUNTIF(RESULTATS!$AG$23:$AM$26,AN39),0)","v":0}]
[null,{"$f":"VLOOKUP($D40,TABLEAU_MATCHS[#All],2,FALSE)","v":"2018-06-25"},{"$f":"VLOOKUP($D40,TABLEAU_MATCHS[#All],3,FALSE)","v":"16:00:00"},33,{"$f":"\"Groupe \"&VLOOKUP($I40,TABLEAU_TEAMS[[#All],[TEAM]:[GROUP_INITIAL_RANK]],2,FALSE)","v":"Groupe A"},11,6.5,1.17,{"$f":"VLOOKUP($D40,TABLEAU_MATCHS[#All],4,FALSE)","v":"Uruguay"},1,null,{"$f":"VLOOKUP($D40,TABLEAU_MATCHS[#All],5,FALSE)","v":"Russie"},1,{"$f":"IF(OR(ISBLANK(RESULTATS!J40),ISBLANK(J40)),\"\",IF(AND(Vildary!J40=RESULTATS!J40,Vildary!M40=RESULTATS!M40),3,IF(OR(AND(Vildary!J40>Vildary!M40,RESULTATS!J40>RESULTATS!M40),AND(Vildary!J40<Vildary!M40,RESULTATS!J40<RESULTATS!M40),AND(Vildary!J40=Vildary!M40,RESULTATS!J40=RESULTATS!M40)),1,0)))","v":""},null,null,null,"03840Suède",3840,2,"Suède",{"$f":"SUMPRODUCT((Teams1=U40)*(Teams1_Score<>\"\"))+SUMPRODUCT((Teams2=U40)*(Teams2_Score<>\"\"))","v":3},{"$f":"SUMPRODUCT((Teams1=U40)*(Teams1_Score>Teams2_Score))+SUMPRODUCT((Teams2=U40)*(Teams2_Score>Teams1_Score))","v":1},{"$f":"SUMPRODUCT((Teams1=U40)*(Teams1_Score=Teams2_Score)*(Teams1_Score<>\"\"))+SUMPRODUCT((Teams2=U40)*(Teams2_Score=Teams1_Score)*(Teams2_Score<>\"\"))","v":1},{"$f":"SUMPRODUCT((Teams1=U40)*(Teams1_Score<Teams2_Score))+SUMPRODUCT((Teams2=U40)*(Teams2_Score<Teams1_Score))","v":1},{"$f":"SUMPRODUCT((Teams1=U40)*(Teams1_Score))+SUMPRODUCT((Teams2=U40)*(Teams2_Score))","v":4},{"$f":"SUMPRODUCT((Teams1=U40)*(Teams2_Score))+SUMPRODUCT((Teams2=U40)*(Teams1_Score))","v":6},{"$f":"Z40-AA40","v":-2},{"$f":"3*W40+X40","v":4},null,null,"2018-07-06","C",{"$f":"+IF(AJ49<>\"\",IF(AI49>AO49,AH49,AN49),\"Vainqueur 5\")","v":"Vainqueur 5"},{"$f":"AJ40*10+AL40","v":0},null,{"$f":"IF(LEFT(AH40,5)<>\"Vainq\",COUNTIF(RESULTATS!$AG$23:$AM$26,AH40),0)","v":0},null,null,{"$f":"+IF(AJ51<>\"\",IF(AI51>AO51,AH51,AN51),\"Vainqueur 7\")","v":"Vainqueur 7"},{"$f":"AP40*10+AR40","v":0},null,{"$f":"IF(LEFT(AN40,5)<>\"Vainq\",COUNTIF(RESULTATS!$AG$23:$AM$26,AN40),0)","v":0}]
[null,{"$f":"VLOOKUP($D41,TABLEAU_MATCHS[#All],2,FALSE)","v":"2018-06-25"},{"$f":"VLOOKUP($D41,TABLEAU_MATCHS[#All],3,FALSE)","v":"16:00:00"},34,{"$f":"\"Groupe \"&VLOOKUP($I41,TABLEAU_TEAMS[[#All],[TEAM]:[GROUP_INITIAL_RANK]],2,FALSE)","v":"Groupe A"},2.4,2.95,2.75,{"$f":"VLOOKUP($D41,TABLEAU_MATCHS[#All],4,FALSE)","v":"Arabie Saoudite"},0,null,{"$f":"VLOOKUP($D41,TABLEAU_MATCHS[#All],5,FALSE)","v":"Egypte"},3,{"$f":"IF(OR(ISBLANK(RESULTATS!J41),ISBLANK(J41)),\"\",IF(AND(Vildary!J41=RESULTATS!J41,Vildary!M41=RESULTATS!M41),3,IF(OR(AND(Vildary!J41>Vildary!M41,RESULTATS!J41>RESULTATS!M41),AND(Vildary!J41<Vildary!M41,RESULTATS!J41<RESULTATS!M41),AND(Vildary!J41=Vildary!M41,RESULTATS!J41=RESULTATS!M41)),1,0)))","v":""},null,null,null,"03840Mexique",3840,2,"Mexique",{"$f":"SUMPRODUCT((Teams1=U41)*(Teams1_Score<>\"\"))+SUMPRODUCT((Teams2=U41)*(Teams2_Score<>\"\"))","v":3},{"$f":"SUMPRODUCT((Teams1=U41)*(Teams1_Score>Teams2_Score))+SUMPRODUCT((Teams2=U41)*(Teams2_Score>Teams1_Score))","v":1},{"$f":"SUMPRODUCT((Teams1=U41)*(Teams1_Score=Teams2_Score)*(Teams1_Score<>\"\"))+SUMPRODUCT((Teams2=U41)*(Teams2_Score=Teams1_Score)*(Teams2_Score<>\"\"))","v":1},{"$f":"SUMPRODUCT((Teams1=U41)*(Teams1_Score<Teams2_Score))+SUMPRODUCT((Teams2=U41)*(Teams2_Score<Teams1_Score))","v":1},{"$f":"SUMPRODUCT((Teams1=U41)*(Teams1_Score))+SUMPRODUCT((Teams2=U41)*(Teams2_Score))","v":4},{"$f":"SUMPRODUCT((Teams1=U41)*(Teams2_Score))+SUMPRODUCT((Teams2=U41)*(Teams1_Score))","v":6},{"$f":"Z41-AA41","v":-2},{"$f":"3*W41+X41","v":4},null,null,"2018-07-07","D",{"$f":"+IF(AJ50<>\"\",IF(AI50>AO50,AH50,AN50),\"Vainqueur 6\")","v":"Vainqueur 6"},{"$f":"AJ41*10+AL41","v":0},null,{"$f":"IF(LEFT(AH41,5)<>\"Vainq\",COUNTIF(RESULTATS!$AG$23:$AM$26,AH41),0)","v":0},null,null,{"$f":"+IF(AJ52<>\"\",IF(AI52>AO52,AH52,AN52),\"Vainqueur 8\")","v":"Vainqueur 8"},{"$f":"AP41*10+AR41","v":0},null,{"$f":"IF(LEFT(AN41,5)<>\"Vainq\",COUNTIF(RESULTATS!$AG$23:$AM$26,AN41),0)","v":0}]
[null,{"$f":"VLOOKUP($D42,TABLEAU_MATCHS[#All],2,FALSE)","v":"2018-06-25"},{"$f":"VLOOKUP($D42,TABLEAU_MATCHS[#All],3,FALSE)","v":"20:00:00"},35,{"$f":"\"Groupe \"&VLOOKUP($I42,TABLEAU_TEAMS[[#All],[TEAM]:[GROUP_INITIAL_RANK]],2,FALSE)","v":"Groupe B"},13,6.5,1.1399999999999999,{"$f":"VLOOKUP($D42,TABLEAU_MATCHS[#All],4,FALSE)","v":"RI Iran"},0,null,{"$f":"VLOOKUP($D42,TABLEAU_MATCHS[#All],5,FALSE)","v":"Portugal"},3,{"$f":"IF(OR(ISBLANK(RESULTATS!J42),ISBLANK(J42)),\"\",IF(AND(Vildary!J42=RESULTATS!J42,Vildary!M42=RESULTATS!M42),3,IF(OR(AND(Vildary!J42>Vildary!M42,RESULTATS!J42>RESULTATS!M42),AND(Vildary!J42<Vildary!M42,RESULTATS!J42<RESULTATS!M42),AND(Vildary!J42=Vildary!M42,RESULTATS!J42=RESULTATS!M42)),1,0)))","v":""},null,null,null,"-00690République de Corée",-690,4,"République de Corée",{"$f":"SUMPRODUCT((Teams1=U42)*(Teams1_Score<>\"\"))+SUMPRODUCT((Teams2=U42)*(Teams2_Score<>\"\"))","v":3},{"$f":"SUMPRODUCT((Teams1=U42)*(Teams1_Score>Teams2_Score))+SUMPRODUCT((Teams2=U42)*(Teams2_Score>Teams1_Score))","v":0},{"$f":"SUMPRODUCT((Teams1=U42)*(Teams1_Score=Teams2_Score)*(Teams1_Score<>\"\"))+SUMPRODUCT((Teams2=U42)*(Teams2_Score=Teams1_Score)*(Teams2_Score<>\"\"))","v":0},{"$f":"SUMPRODUCT((Teams1=U42)*(Teams1_Score<Teams2_Score))+SUMPRODUCT((Teams2=U42)*(Teams2_Score<Teams1_Score))","v":3},{"$f":"SUMPRODUCT((Teams1=U42)*(Teams1_Score))+SUMPRODUCT((Teams2=U42)*(Teams2_Score))","v":1},{"$f":"SUMPRODUCT((Teams1=U42)*(Teams2_Score))+SUMPRODUCT((Teams2=U42)*(Teams1_Score))","v":8},{"$f":"Z42-AA42","v":-7},{"$f":"3*W42+X42","v":0},null,null,null,null,null,null,null,{"$f":"SUM(AK38:AK41)","v":0},null,null,null,null,null,{"$f":"SUM(AQ38:AQ41)","v":0}]
[null,{"$f":"VLOOKUP($D43,TABLEAU_MATCHS[#All],2,FALSE)","v":"2018-06-25"},{"$f":"VLOOKUP($D43,TABLEAU_MATCHS[#All],3,FALSE)","v":"20:00:00"},36,{"$f":"\"Groupe \"&VLOOKUP($I43,TABLEAU_TEAMS[[#All],[TEAM]:[GROUP_INITIAL_RANK]],2,FALSE)","v":"Groupe B"},2.25,3.1,2.95,{"$f":"VLOOKUP($D43,TABLEAU_MATCHS[#All],4,FALSE)","v":"Espagne"},2,null,{"$f":"VLOOKUP($D43,TABLEAU_MATCHS[#All],5,FALSE)","v":"Maroc"},0,{"$f":"IF(OR(ISBLANK(RESULTATS!J43),ISBLANK(J43)),\"\",IF(AND(Vildary!J43=RESULTATS!J43,Vildary!M43=RESULTATS!M43),3,IF(OR(AND(Vildary!J43>Vildary!M43,RESULTATS!J43>RESULTATS!M43),AND(Vildary!J43<Vildary!M43,RESULTATS!J43<RESULTATS!M43),AND(Vildary!J43=Vildary!M43,RESULTATS!J43=RESULTATS!M43)),1,0)))","v":""},null,null,null,null,null,null,null,null,null,null,null,null,null,null,null,null,null,"Date","Huitième de Finale",null,null,"Buts",null,"Pen",null,null,null,"Buts",null,"Pen"]
[null,{"$f":"VLOOKUP($D44,TABLEAU_MATCHS[#All],2,FALSE)","v":"2018-06-26"},{"$f":"VLOOKUP($D44,TABLEAU_MATCHS[#All],3,FALSE)","v":"16:00:00"},37,{"$f":"\"Groupe \"&VLOOKUP($I44,TABLEAU_TEAMS[[#All],[TEAM]:[GROUP_INITIAL_RANK]],2,FALSE)","v":"Groupe C"},4.3,3.25,1.76,{"$f":"VLOOKUP($D44,TABLEAU_MATCHS[#All],4,FALSE)","v":"Danemark"},1,null,{"$f":"VLOOKUP($D44,TABLEAU_MATCHS[#All],5,FALSE)","v":"France"},3,{"$f":"IF(OR(ISBLANK(RESULTATS!J44),ISBLANK(J44)),\"\",IF(AND(Vildary!J44=RESULTATS!J44,Vildary!M44=RESULTATS!M44),3,IF(OR(AND(Vildary!J44>Vildary!M44,RESULTATS!J44>RESULTATS!M44),AND(Vildary!J44<Vildary!M44,RESULTATS!J44<RESULTATS!M44),AND(Vildary!J44=Vildary!M44,RESULTATS!J44=RESULTATS!M44)),1,0)))","v":""},null,null,null,null,null,"Rg","Groupe G","MJ","G","N","P","BP","BC","+/-","Pts"]
[null,{"$f":"VLOOKUP($D45,TABLEAU_MATCHS[#All],2,FALSE)","v":"2018-06-26"},{"$f":"VLOOKUP($D45,TABLEAU_MATCHS[#All],3,FALSE)","v":"16:00:00"},38,{"$f":"\"Groupe \"&VLOOKUP($I45,TABLEAU_TEAMS[[#All],[TEAM]:[GROUP_INITIAL_RANK]],2,FALSE)","v":"Groupe C"},3.05,3,2.25,{"$f":"VLOOKUP($D45,TABLEAU_MATCHS[#All],4,FALSE)","v":"Australie"},1,null,{"$f":"VLOOKUP($D45,TABLEAU_MATCHS[#All],5,FALSE)","v":"Pérou"},2,{"$f":"IF(OR(ISBLANK(RESULTATS!J45),ISBLANK(J45)),\"\",IF(AND(Vildary!J45=RESULTATS!J45,Vildary!M45=RESULTATS!M45),3,IF(OR(AND(Vildary!J45>Vildary!M45,RESULTATS!J45>RESULTATS!M45),AND(Vildary!J45<Vildary!M45,RESULTATS!J45<RESULTATS!M45),AND(Vildary!J45=Vildary!M45,RESULTATS!J45=RESULTATS!M45)),1,0)))","v":""},null,null,null,{"$f":"INDEX($R96:$R99,MATCH(SMALL(COUNTIF($R96:$R99,\">=\"&$R96:$R99),ROW(INDIRECT(\"1:\"&ROWS($R96:$R99)))),COUNTIF($R96:$R99,\">=\"&$R96:$R99),0))","v":"07560Belgique"},{"$f":"INDEX($S96:$S99,MATCH(SMALL(COUNTIF($R96:$R99,\">=\"&$R96:$R99),ROW(INDIRECT(\"1:\"&ROWS($R96:$R99)))),COUNTIF($R96:$R99,\">=\"&$R96:$R99),0))","v":7560},{"$f":"INDEX($T96:$T99,MATCH(SMALL(COUNTIF($R96:$R99,\">=\"&$R96:$R99),ROW(INDIRECT(\"1:\"&ROWS($R96:$R99)))),COUNTIF($R96:$R99,\">=\"&$R96:$R99),0))","v":1},{"$f":"INDEX($U96:$U99,MATCH(SMALL(COUNTIF($R96:$R99,\">=\"&$R96:$R99),ROW(INDIRECT(\"1:\"&ROWS($R96:$R99)))),COUNTIF($R96:$R99,\">=\"&$R96:$R99),0))","v":"Belgique"},{"$f":"SUMPRODUCT((Teams1=U45)*(Teams1_Score<>\"\"))+SUMPRODUCT((Teams2=U45)*(Teams2_Score<>\"\"))","v":3},{"$f":"SUMPRODUCT((Teams1=U45)*(Teams1_Score>Teams2_Score))+SUMPRODUCT((Teams2=U45)*(Teams2_Score>Teams1_Score))","v":2},{"$f":"SUMPRODUCT((Teams1=U45)*(Teams1_Score=Teams2_Score)*(Teams1_Score<>\"\"))+SUMPRODUCT((Teams2=U45)*(Teams2_Score=Teams1_Score)*(Teams2_Score<>\"\"))","v":1},{"$f":"SUMPRODUCT((Teams1=U45)*(Teams1_Score<Teams2_Score))+SUMPRODUCT((Teams2=U45)*(Teams2_Score<Teams1_Score))","v":0},{"$f":"SUMPRODUCT((Teams1=U45)*(Teams1_Score))+SUMPRODUCT((Teams2=U45)*(Teams2_Score))","v":6},{"$f":"SUMPRODUCT((Teams1=U45)*(Teams2_Score))+SUMPRODUCT((Teams2=U45)*(Teams1_Score))","v":1},{"$f":"Z45-AA45","v":5},{"$f":"3*W45+X45","v":7},null,null,"2018-06-30",1,{"$f":"IF(SUM(V9:V12)=0,\"1er Groupe A\",IF(COUNTIF(T9:T12,1)=1,VLOOKUP(1,T9:U12,2,FALSE),IF(COUNTIF(T9:T12,1)>=2,\"Tirage au Sort A1\")))","v":"Egypte"},{"$f":"AJ45*10+AL45","v":0},null,{"$f":"IF(AND(LEFT(AH45,3)<>\"1er\",LEFT(AH45,3)<>\"2nd\"),COUNTIF(RESULTATS!$AG$30:$AM$37,AH45),0)","v":0},null,null,{"$f":"IF(SUM(V15:V18)=0,\"2nd Groupe B\",IF(OR(COUNTIF(T15:T18,1)>1,COUNTIF(T15:T18,2)>1),\"Tirage au sort B2\",VLOOKUP(2,T15:U18,2,FALSE)))","v":"Portugal"},{"$f":"AP45*10+AR45","v":0},null,{"$f":"IF(AND(LEFT(AN45,3)<>\"1er\",LEFT(AN45,3)<>\"2nd\"),COUNTIF(RESULTATS!$AG$30:$AM$37,AN45),0)","v":0}]
[null,{"$f":"VLOOKUP($D46,TABLEAU_MATCHS[#All],2,FALSE)","v":"2018-06-26"},{"$f":"VLOOKUP($D46,TABLEAU_MATCHS[#All],3,FALSE)","v":"20:00:00"},39,{"$f":"\"Groupe \"&VLOOKUP($I46,TABLEAU_TEAMS[[#All],[TEAM]:[GROUP_INITIAL_RANK]],2,FALSE)","v":"Groupe D"},2.4,2.9,2.85,{"$f":"VLOOKUP($D46,TABLEAU_MATCHS[#All],4,FALSE)","v":"Nigeria"},1,null,{"$f":"VLOOKUP($D46,TABLEAU_MATCHS[#All],5,FALSE)","v":"Argentine"},3,{"$f":"IF(OR(ISBLANK(RESULTATS!J46),ISBLANK(J46)),\"\",IF(AND(Vildary!J46=RESULTATS!J46,Vildary!M46=RESULTATS!M46),3,IF(OR(AND(Vildary!J46>Vildary!M46,RESULTATS!J46>RESULTATS!M46),AND(Vildary!J46<Vildary!M46,RESULTATS!J46<RESULTATS!M46),AND(Vildary!J46=Vildary!M46,RESULTATS!J46=RESULTATS!M46)),1,0)))","v":""},null,null,null,"07560Angleterre",7560,1,"Angleterre",{"$f":"SUMPRODUCT((Teams1=U46)*(Teams1_Score<>\"\"))+SUMPRODUCT((Teams2=U46)*(Teams2_Score<>\"\"))","v":3},{"$f":"SUMPRODUCT((Teams1=U46)*(Teams1_Score>Teams2_Score))+SUMPRODUCT((Teams2=U46)*(Teams2_Score>Teams1_Score))","v":2},{"$f":"SUMPRODUCT((Teams1=U46)*(Teams1_Score=Teams2_Score)*(Teams1_Score<>\"\"))+SUMPRODUCT((Teams2=U46)*(Teams2_Score=Teams1_Score)*(Teams2_Score<>\"\"))","v":1},{"$f":"SUMPRODUCT((Teams1=U46)*(Teams1_Score<Teams2_Score))+SUMPRODUCT((Teams2=U46)*(Teams2_Score<Teams1_Score))","v":0},{"$f":"SUMPRODUCT((Teams1=U46)*(Teams1_Score))+SUMPRODUCT((Teams2=U46)*(Teams2_Score))","v":6},{"$f":"SUMPRODUCT((Teams1=U46)*(Teams2_Score))+SUMPRODUCT((Teams2=U46)*(Teams1_Score))","v":1},{"$f":"Z46-AA46","v":5},{"$f":"3*W46+X46","v":7},null,null,"2018-07-01",2,{"$f":"IF(SUM(V15:V18)=0,\"1er Groupe B\",IF(COUNTIF(T15:T18,1)=1,VLOOKUP(1,T15:U18,2,FALSE),IF(COUNTIF(T15:T18,1)>=2,\"Tirage au Sort B1\")))","v":"Espagne"},{"$f":"AJ46*10+AL46","v":0},null,{"$f":"IF(AND(LEFT(AH46,3)<>\"1er\",LEFT(AH46,3)<>\"2nd\"),COUNTIF(RESULTATS!$AG$30:$AM$37,AH46),0)","v":0},null,null,{"$f":"IF(SUM(V9:V12)=0,\"2nd Groupe A\",IF(OR(COUNTIF(T9:T12,1)>1,COUNTIF(T9:T12,2)>1),\"Tirage au sort A2\",VLOOKUP(2,T9:U12,2,FALSE)))","v":"Russie"},0,null,{"$f":"IF(AND(LEFT(AN46,3)<>\"1er\",LEFT(AN46,3)<>\"2nd\"),COUNTIF(RESULTATS!$AG$30:$AM$37,AN46),0)","v":1}]
[null,{"$f":"VLOOKUP($D47,TABLEAU_MATCHS[#All],2,FALSE)","v":"2018-06-26"},{"$f":"VLOOKUP($D47,TABLEAU_MATCHS[#All],3,FALSE)","v":"20:00:00"},40,{"$f":"\"Groupe \"&VLOOKUP($I47,TABLEAU_TEAMS[[#All],[TEAM]:[GROUP_INITIAL_RANK]],2,FALSE)","v":"Groupe D"},6.5,3.7,1.44,{"$f":"VLOOKUP($D47,TABLEAU_MATCHS[#All],4,FALSE)","v":"Islande"},0,null,{"$f":"VLOOKUP($D47,TABLEAU_MATCHS[#All],5,FALSE)","v":"Croatie"},2,{"$f":"IF(OR(ISBLANK(RESULTATS!J47),ISBLANK(J47)),\"\",IF(AND(Vildary!J47=RESULTATS!J47,Vildary!M47=RESULTATS!M47),3,IF(OR(AND(Vildary!J47>Vildary!M47,RESULTATS!J47>RESULTATS!M47),AND(Vildary!J47<Vildary!M47,RESULTATS!J47<RESULTATS!M47),AND(Vildary!J47=Vildary!M47,RESULTATS!J47=RESULTATS!M47)),1,0)))","v":""},null,null,null,"02620Tunisie",2620,3,"Tunisie",{"$f":"SUMPRODUCT((Teams1=U47)*(Teams1_Score<>\"\"))+SUMPRODUCT((Teams2=U47)*(Teams2_Score<>\"\"))","v":3},{"$f":"SUMPRODUCT((Teams1=U47)*(Teams1_Score>Teams2_Score))+SUMPRODUCT((Teams2=U47)*(Teams2_Score>Teams1_Score))","v":1},{"$f":"SUMPRODUCT((Teams1=U47)*(Teams1_Score=Teams2_Score)*(Teams1_Score<>\"\"))+SUMPRODUCT((Teams2=U47)*(Teams2_Score=Teams1_Score)*(Teams2_Score<>\"\"))","v":0},{"$f":"SUMPRODUCT((Teams1=U47)*(Teams1_Score<Teams2_Score))+SUMPRODUCT((Teams2=U47)*(Teams2_Score<Teams1_Score))","v":2},{"$f":"SUMPRODUCT((Teams1=U47)*(Teams1_Score))+SUMPRODUCT((Teams2=U47)*(Teams2_Score))","v":2},{"$f":"SUMPRODUCT((Teams1=U47)*(Teams2_Score))+SUMPRODUCT((Teams2=U47)*(Teams1_Score))","v":6},{"$f":"Z47-AA47","v":-4},{"$f":"3*W47+X47","v":3},null,null,"2017-06-30",3,{"$f":"IF(SUM(V21:V24)=0,\"1er Groupe C\",IF(COUNTIF(T21:T24,1)=1,VLOOKUP(1,T21:U24,2,FALSE),IF(COUNTIF(T21:T24,1)>=2,\"Tirage au Sort C1\")))","v":"France"},0,null,{"$f":"IF(AND(LEFT(AH47,3)<>\"1er\",LEFT(AH47,3)<>\"2nd\"),COUNTIF(RESULTATS!$AG$30:$AM$37,AH47),0)","v":0},null,null,{"$f":"IF(SUM(V27:V30)=0,\"2nd Groupe D\",IF(OR(COUNTIF(T27:T30,1)>1,COUNTIF(T27:T30,2)>1),\"Tirage au sort D2\",VLOOKUP(2,T27:U30,2,FALSE)))","v":"Croatie"},0,null,{"$f":"IF(AND(LEFT(AN47,3)<>\"1er\",LEFT(AN47,3)<>\"2nd\"),COUNTIF(RESULTATS!$AG$30:$AM$37,AN47),0)","v":0}]
[null,{"$f":"VLOOKUP($D48,TABLEAU_MATCHS[#All],2,FALSE)","v":"2018-06-27"},{"$f":"VLOOKUP($D48,TABLEAU_MATCHS[#All],3,FALSE)","v":"20:00:00"},41,{"$f":"\"Groupe \"&VLOOKUP($I48,TABLEAU_TEAMS[[#All],[TEAM]:[GROUP_INITIAL_RANK]],2,FALSE)","v":"Groupe E"},6.5,3.5,1.48,{"$f":"VLOOKUP($D48,TABLEAU_MATCHS[#All],4,FALSE)","v":"Serbie"},1,null,{"$f":"VLOOKUP($D48,TABLEAU_MATCHS[#All],5,FALSE)","v":"Brésil"},4,{"$f":"IF(OR(ISBLANK(RESULTATS!J48),ISBLANK(J48)),\"\",IF(AND(Vildary!J48=RESULTATS!J48,Vildary!M48=RESULTATS!M48),3,IF(OR(AND(Vildary!J48>Vildary!M48,RESULTATS!J48>RESULTATS!M48),AND(Vildary!J48<Vildary!M48,RESULTATS!J48<RESULTATS!M48),AND(Vildary!J48=Vildary!M48,RESULTATS!J48=RESULTATS!M48)),1,0)))","v":""},null,null,null,"-00590Panama",-590,4,"Panama",{"$f":"SUMPRODUCT((Teams1=U48)*(Teams1_Score<>\"\"))+SUMPRODUCT((Teams2=U48)*(Teams2_Score<>\"\"))","v":3},{"$f":"SUMPRODUCT((Teams1=U48)*(Teams1_Score>Teams2_Score))+SUMPRODUCT((Teams2=U48)*(Teams2_Score>Teams1_Score))","v":0},{"$f":"SUMPRODUCT((Teams1=U48)*(Teams1_Score=Teams2_Score)*(Teams1_Score<>\"\"))+SUMPRODUCT((Teams2=U48)*(Teams2_Score=Teams1_Score)*(Teams2_Score<>\"\"))","v":0},{"$f":"SUMPRODUCT((Teams1=U48)*(Teams1_Score<Teams2_Score))+SUMPRODUCT((Teams2=U48)*(Teams2_Score<Teams1_Score))","v":3},{"$f":"SUMPRODUCT((Teams1=U48)*(Teams1_Score))+SUMPRODUCT((Teams2=U48)*(Teams2_Score))","v":1},{"$f":"SUMPRODUCT((Teams1=U48)*(Teams2_Score))+SUMPRODUCT((Teams2=U48)*(Teams1_Score))","v":7},{"$f":"Z48-AA48","v":-6},{"$f":"3*W48+X48","v":0},null,null,"2018-07-01",4,{"$f":"IF(SUM(V27:V30)=0,\"1er Groupe D\",IF(COUNTIF(T27:T30,1)=1,VLOOKUP(1,T27:U30,2,FALSE),IF(COUNTIF(T27:T30,1)>=2,\"Tirage au Sort D1\")))","v":"Argentine"},0,null,{"$f":"IF(AND(LEFT(AH48,3)<>\"1er\",LEFT(AH48,3)<>\"2nd\"),COUNTIF(RESULTATS!$AG$30:$AM$37,AH48),0)","v":0},null,null,{"$f":"IF(SUM(V21:V24)=0,\"2nd Groupe C\",IF(OR(COUNTIF(T21:T24,1)>1,COUNTIF(T21:T24,2)>1),\"Tirage au sort C2\",VLOOKUP(2,T21:U24,2,FALSE)))","v":"Danemark"},0,null,{"$f":"IF(AND(LEFT(AN48,3)<>\"1er\",LEFT(AN48,3)<>\"2nd\"),COUNTIF(RESULTATS!$AG$30:$AM$37,AN48),0)","v":0}]
[null,{"$f":"VLOOKUP($D49,TABLEAU_MATCHS[#All],2,FALSE)","v":"2018-06-27"},{"$f":"VLOOKUP($D49,TABLEAU_MATCHS[#All],3,FALSE)","v":"20:00:00"},42,{"$f":"\"Groupe \"&VLOOKUP($I49,TABLEAU_TEAMS[[#All],[TEAM]:[GROUP_INITIAL_RANK]],2,FALSE)","v":"Groupe E"},4,3.05,1.9,{"$f":"VLOOKUP($D49,TABLEAU_MATCHS[#All],4,FALSE)","v":"Suisse"},2,null,{"$f":"VLOOKUP($D49,TABLEAU_MATCHS[#All],5,FALSE)","v":"Costa Rica"},2,{"$f":"IF(OR(ISBLANK(RESULTATS!J49),ISBLANK(J49)),\"\",IF(AND(Vildary!J49=RESULTATS!J49,Vildary!M49=RESULTATS!M49),3,IF(OR(AND(Vildary!J49>Vildary!M49,RESULTATS!J49>RESULTATS!M49),AND(Vildary!J49<Vildary!M49,RESULTATS!J49<RESULTATS!M49),AND(Vildary!J49=Vildary!M49,RESULTATS!J49=RESULTATS!M49)),1,0)))","v":""},null,null,null,null,null,null,null,null,null,null,null,null,null,null,null,null,null,"2018-07-02",5,{"$f":"IF(SUM(V33:V36)=0,\"1er Groupe E\",IF(COUNTIF(T33:T36,1)=1,VLOOKUP(1,T33:U36,2,FALSE),IF(COUNTIF(T33:T36,1)>=2,\"Tirage au Sort E1\")))","v":"Brésil"},0,null,{"$f":"IF(AND(LEFT(AH49,3)<>\"1er\",LEFT(AH49,3)<>\"2nd\"),COUNTIF(RESULTATS!$AG$30:$AM$37,AH49),0)","v":0},null,null,{"$f":"IF(SUM(V39:V42)=0,\"2nd Groupe F\",IF(OR(COUNTIF(T39:T42,1)>1,COUNTIF(T39:T42,2)>1),\"Tirage au sort F2\",VLOOKUP(2,T39:U42,2,FALSE)))","v":"Tirage au sort F2"},0,null,{"$f":"IF(AND(LEFT(AN49,3)<>\"1er\",LEFT(AN49,3)<>\"2nd\"),COUNTIF(RESULTATS!$AG$30:$AM$37,AN49),0)","v":0}]
[null,{"$f":"VLOOKUP($D50,TABLEAU_MATCHS[#All],2,FALSE)","v":"2018-06-27"},{"$f":"VLOOKUP($D50,TABLEAU_MATCHS[#All],3,FALSE)","v":"16:00:00"},43,{"$f":"\"Groupe \"&VLOOKUP($I50,TABLEAU_TEAMS[[#All],[TEAM]:[GROUP_INITIAL_RANK]],2,FALSE)","v":"Groupe F"},8.5,4.3,1.3,{"$f":"VLOOKUP($D50,TABLEAU_MATCHS[#All],4,FALSE)","v":"Mexique"},2,null,{"$f":"VLOOKUP($D50,TABLEAU_MATCHS[#All],5,FALSE)","v":"Suède"},2,{"$f":"IF(OR(ISBLANK(RESULTATS!J50),ISBLANK(J50)),\"\",IF(AND(Vildary!J50=RESULTATS!J50,Vildary!M50=RESULTATS!M50),3,IF(OR(AND(Vildary!J50>Vildary!M50,RESULTATS!J50>RESULTATS!M50),AND(Vildary!J50<Vildary!M50,RESULTATS!J50<RESULTATS!M50),AND(Vildary!J50=Vildary!M50,RESULTATS!J50=RESULTATS!M50)),1,0)))","v":""},null,null,null,null,null,"Rg","Groupe H","MJ","G","N","P","BP","BC","+/-","Pts",null,null,"2018-07-03",6,{"$f":"IF(SUM(V39:V42)=0,\"1er Groupe F\",IF(COUNTIF(T39:T42,1)=1,VLOOKUP(1,T39:U42,2,FALSE),IF(COUNTIF(T39:T42,1)>=2,\"Tirage au Sort F1\")))","v":"Allemagne"},0,null,{"$f":"IF(AND(LEFT(AH50,3)<>\"1er\",LEFT(AH50,3)<>\"2nd\"),COUNTIF(RESULTATS!$AG$30:$AM$37,AH50),0)","v":0},null,null,{"$f":"IF(SUM(V33:V36)=0,\"2nd Groupe E\",IF(OR(COUNTIF(T33:T36,1)>1,COUNTIF(T33:T36,2)>1),\"Tirage au sort E2\",VLOOKUP(2,T33:U36,2,FALSE)))","v":"Tirage au sort E2"},0,null,{"$f":"IF(AND(LEFT(AN50,3)<>\"1er\",LEFT(AN50,3)<>\"2nd\"),COUNTIF(RESULTATS!$AG$30:$AM$37,AN50),0)","v":0}]
[null,{"$f":"VLOOKUP($D51,TABLEAU_MATCHS[#All],2,FALSE)","v":"2018-06-27"},{"$f":"VLOOKUP($D51,TABLEAU_MATCHS[#All],3,FALSE)","v":"16:00:00"},44,{"$f":"\"Groupe \"&VLOOKUP($I51,TABLEAU_TEAMS[[#All],[TEAM]:[GROUP_INITIAL_RANK]],2,FALSE)","v":"Groupe F"},1.48,3.6,6.25,{"$f":"VLOOKUP($D51,TABLEAU_MATCHS[#All],4,FALSE)","v":"République de Corée"},0,null,{"$f":"VLOOKUP($D51,TABLEAU_MATCHS[#All],5,FALSE)","v":"Allemagne"},4,{"$f":"IF(OR(ISBLANK(RESULTATS!J51),ISBLANK(J51)),\"\",IF(AND(Vildary!J51=RESULTATS!J51,Vildary!M51=RESULTATS!M51),3,IF(OR(AND(Vildary!J51>Vildary!M51,RESULTATS!J51>RESULTATS!M51),AND(Vildary!J51<Vildary!M51,RESULTATS!J51<RESULTATS!M51),AND(Vildary!J51=Vildary!M51,RESULTATS!J51=RESULTATS!M51)),1,0)))","v":""},null,null,null,{"$f":"INDEX($R102:$R105,MATCH(SMALL(COUNTIF($R102:$R105,\">=\"&$R102:$R105),ROW(INDIRECT(\"1:\"&ROWS($R102:$R105)))),COUNTIF($R102:$R105,\">=\"&$R102:$R105),0))","v":"07230Colombie"},{"$f":"INDEX($S102:$S105,MATCH(SMALL(COUNTIF($R102:$R105,\">=\"&$R102:$R105),ROW(INDIRECT(\"1:\"&ROWS($R102:$R105)))),COUNTIF($R102:$R105,\">=\"&$R102:$R105),0))","v":7230},{"$f":"INDEX($T102:$T105,MATCH(SMALL(COUNTIF($R102:$R105,\">=\"&$R102:$R105),ROW(INDIRECT(\"1:\"&ROWS($R102:$R105)))),COUNTIF($R102:$R105,\">=\"&$R102:$R105),0))","v":1},{"$f":"INDEX($U102:$U105,MATCH(SMALL(COUNTIF($R102:$R105,\">=\"&$R102:$R105),ROW(INDIRECT(\"1:\"&ROWS($R102:$R105)))),COUNTIF($R102:$R105,\">=\"&$R102:$R105),0))","v":"Colombie"},{"$f":"SUMPRODUCT((Teams1=U51)*(Teams1_Score<>\"\"))+SUMPRODUCT((Teams2=U51)*(Teams2_Score<>\"\"))","v":3},{"$f":"SUMPRODUCT((Teams1=U51)*(Teams1_Score>Teams2_Score))+SUMPRODUCT((Teams2=U51)*(Teams2_Score>Teams1_Score))","v":2},{"$f":"SUMPRODUCT((Teams1=U51)*(Teams1_Score=Teams2_Score)*(Teams1_Score<>\"\"))+SUMPRODUCT((Teams2=U51)*(Teams2_Score=Teams1_Score)*(Teams2_Score<>\"\"))","v":1},{"$f":"SUMPRODUCT((Teams1=U51)*(Teams1_Score<Teams2_Score))+SUMPRODUCT((Teams2=U51)*(Teams2_Score<Teams1_Score))","v":0},{"$f":"SUMPRODUCT((Teams1=U51)*(Teams1_Score))+SUMPRODUCT((Teams2=U51)*(Teams2_Score))","v":3},{"$f":"SUMPRODUCT((Teams1=U51)*(Teams2_Score))+SUMPRODUCT((Teams2=U51)*(Teams1_Score))","v":1},{"$f":"Z51-AA51","v":2},{"$f":"3*W51+X51","v":7},null,null,"2018-07-02",7,{"$f":"IF(SUM(V45:V48)=0,\"1er Groupe G\",IF(COUNTIF(T45:T48,1)=1,VLOOKUP(1,T45:U48,2,FALSE),IF(COUNTIF(T45:T48,1)>=2,\"Tirage au Sort G1\")))","v":"Tirage au Sort G1"},0,null,{"$f":"IF(AND(LEFT(AH51,3)<>\"1er\",LEFT(AH51,3)<>\"2nd\"),COUNTIF(RESULTATS!$AG$30:$AM$37,AH51),0)","v":0},null,null,{"$f":"IF(SUM(V51:V54)=0,\"2nd Groupe H\",IF(OR(COUNTIF(T51:T54,1)>1,COUNTIF(T51:T54,2)>1),\"Tirage au sort H2\",VLOOKUP(2,T51:U54,2,FALSE)))","v":"Pologne"},0,null,{"$f":"IF(AND(LEFT(AN51,3)<>\"1er\",LEFT(AN51,3)<>\"2nd\"),COUNTIF(RESULTATS!$AG$30:$AM$37,AN51),0)","v":0}]
[null,{"$f":"VLOOKUP($D52,TABLEAU_MATCHS[#All],2,FALSE)","v":"2018-06-28"},{"$f":"VLOOKUP($D52,TABLEAU_MATCHS[#All],3,FALSE)","v":"20:00:00"},45,{"$f":"\"Groupe \"&VLOOKUP($I52,TABLEAU_TEAMS[[#All],[TEAM]:[GROUP_INITIAL_RANK]],2,FALSE)","v":"Groupe G"},8,4.2,1.32,{"$f":"VLOOKUP($D52,TABLEAU_MATCHS[#All],4,FALSE)","v":"Panama"},1,null,{"$f":"VLOOKUP($D52,TABLEAU_MATCHS[#All],5,FALSE)","v":"Tunisie"},2,{"$f":"IF(OR(ISBLANK(RESULTATS!J52),ISBLANK(J52)),\"\",IF(AND(Vildary!J52=RESULTATS!J52,Vildary!M52=RESULTATS!M52),3,IF(OR(AND(Vildary!J52>Vildary!M52,RESULTATS!J52>RESULTATS!M52),AND(Vildary!J52<Vildary!M52,RESULTATS!J52<RESULTATS!M52),AND(Vildary!J52=Vildary!M52,RESULTATS!J52=RESULTATS!M52)),1,0)))","v":""},null,null,null,"06130Pologne",6130,2,"Pologne",{"$f":"SUMPRODUCT((Teams1=U52)*(Teams1_Score<>\"\"))+SUMPRODUCT((Teams2=U52)*(Teams2_Score<>\"\"))","v":3},{"$f":"SUMPRODUCT((Teams1=U52)*(Teams1_Score>Teams2_Score))+SUMPRODUCT((Teams2=U52)*(Teams2_Score>Teams1_Score))","v":2},{"$f":"SUMPRODUCT((Teams1=U52)*(Teams1_Score=Teams2_Score)*(Teams1_Score<>\"\"))+SUMPRODUCT((Teams2=U52)*(Teams2_Score=Teams1_Score)*(Teams2_Score<>\"\"))","v":0},{"$f":"SUMPRODUCT((Teams1=U52)*(Teams1_Score<Teams2_Score))+SUMPRODUCT((Teams2=U52)*(Teams2_Score<Teams1_Score))","v":1},{"$f":"SUMPRODUCT((Teams1=U52)*(Teams1_Score))+SUMPRODUCT((Teams2=U52)*(Teams2_Score))","v":3},{"$f":"SUMPRODUCT((Teams1=U52)*(Teams2_Score))+SUMPRODUCT((Teams2=U52)*(Teams1_Score))","v":2},{"$f":"Z52-AA52","v":1},{"$f":"3*W52+X52","v":6},null,null,"2018-07-03",8,{"$f":"IF(SUM(V51:V54)=0,\"1er Groupe H\",IF(COUNTIF(T51:T54,1)=1,VLOOKUP(1,T51:U54,2,FALSE),IF(COUNTIF(T51:T54,1)>=2,\"Tirage au Sort H1\")))","v":"Colombie"},0,null,{"$f":"IF(AND(LEFT(AH52,3)<>\"1er\",LEFT(AH52,3)<>\"2nd\"),COUNTIF(RESULTATS!$AG$30:$AM$37,AH52),0)","v":0},null,null,{"$f":"IF(SUM(V45:V48)=0,\"2nd Groupe G\",IF(OR(COUNTIF(T45:T48,1)>1,COUNTIF(T45:T48,2)>1),\"Tirage au sort G2\",VLOOKUP(2,T45:U48,2,FALSE)))","v":"Tirage au sort G2"},0,null,{"$f":"IF(AND(LEFT(AN52,3)<>\"1er\",LEFT(AN52,3)<>\"2nd\"),COUNTIF(RESULTATS!$AG$30:$AM$37,AN52),0)","v":0}]
[null,{"$f":"VLOOKUP($D53,TABLEAU_MATCHS[#All],2,FALSE)","v":"2018-06-28"},{"$f":"VLOOKUP($D53,TABLEAU_MATCHS[#All],3,FALSE)","v":"20:00:00"},46,{"$f":"\"Groupe \"&VLOOKUP($I53,TABLEAU_TEAMS[[#All],[TEAM]:[GROUP_INITIAL_RANK]],2,FALSE)","v":"Groupe G"},1.74,3.2,4.0999999999999996,{"$f":"VLOOKUP($D53,TABLEAU_MATCHS[#All],4,FALSE)","v":"Angleterre"},1,null,{"$f":"VLOOKUP($D53,TABLEAU_MATCHS[#All],5,FALSE)","v":"Belgique"},1,{"$f":"IF(OR(ISBLANK(RESULTATS!J53),ISBLANK(J53)),\"\",IF(AND(Vildary!J53=RESULTATS!J53,Vildary!M53=RESULTATS!M53),3,IF(OR(AND(Vildary!J53>Vildary!M53,RESULTATS!J53>RESULTATS!M53),AND(Vildary!J53<Vildary!M53,RESULTATS!J53<RESULTATS!M53),AND(Vildary!J53=Vildary!M53,RESULTATS!J53=RESULTATS!M53)),1,0)))","v":""},null,null,null,"02910Japon",2910,3,"Japon",{"$f":"SUMPRODUCT((Teams1=U53)*(Teams1_Score<>\"\"))+SUMPRODUCT((Teams2=U53)*(Teams2_Score<>\"\"))","v":3},{"$f":"SUMPRODUCT((Teams1=U53)*(Teams1_Score>Teams2_Score))+SUMPRODUCT((Teams2=U53)*(Teams2_Score>Teams1_Score))","v":1},{"$f":"SUMPRODUCT((Teams1=U53)*(Teams1_Score=Teams2_Score)*(Teams1_Score<>\"\"))+SUMPRODUCT((Teams2=U53)*(Teams2_Score=Teams1_Score)*(Teams2_Score<>\"\"))","v":0},{"$f":"SUMPRODUCT((Teams1=U53)*(Teams1_Score<Teams2_Score))+SUMPRODUCT((Teams2=U53)*(Teams2_Score<Teams1_Score))","v":2},{"$f":"SUMPRODUCT((Teams1=U53)*(Teams1_Score))+SUMPRODUCT((Teams2=U53)*(Teams2_Score))","v":1},{"$f":"SUMPRODUCT((Teams1=U53)*(Teams2_Score))+SUMPRODUCT((Teams2=U53)*(Teams1_Score))","v":2},{"$f":"Z53-AA53","v":-1},{"$f":"3*W53+X53","v":3},null,null,null,null,null,null,null,{"$f":"SUM(AK45:AK52)","v":0},null,null,null,0,null,{"$f":"SUM(AQ45:AQ52)","v":1}]
[null,{"$f":"VLOOKUP($D54,TABLEAU_MATCHS[#All],2,FALSE)","v":"2018-06-28"},{"$f":"VLOOKUP($D54,TABLEAU_MATCHS[#All],3,FALSE)","v":"16:00:00"},47,{"$f":"\"Groupe \"&VLOOKUP($I54,TABLEAU_TEAMS[[#All],[TEAM]:[GROUP_INITIAL_RANK]],2,FALSE)","v":"Groupe H"},4.9000000000000004,3.25,1.62,{"$f":"VLOOKUP($D54,TABLEAU_MATCHS[#All],4,FALSE)","v":"Japon"},0,null,{"$f":"VLOOKUP($D54,TABLEAU_MATCHS[#All],5,FALSE)","v":"Pologne"},1,{"$f":"IF(OR(ISBLANK(RESULTATS!J54),ISBLANK(J54)),\"\",IF(AND(Vildary!J54=RESULTATS!J54,Vildary!M54=RESULTATS!M54),3,IF(OR(AND(Vildary!J54>Vildary!M54,RESULTATS!J54>RESULTATS!M54),AND(Vildary!J54<Vildary!M54,RESULTATS!J54<RESULTATS!M54),AND(Vildary!J54=Vildary!M54,RESULTATS!J54=RESULTATS!M54)),1,0)))","v":""},null,null,null,"00820Sénégal",820,4,"Sénégal",{"$f":"SUMPRODUCT((Teams1=U54)*(Teams1_Score<>\"\"))+SUMPRODUCT((Teams2=U54)*(Teams2_Score<>\"\"))","v":3},{"$f":"SUMPRODUCT((Teams1=U54)*(Teams1_Score>Teams2_Score))+SUMPRODUCT((Teams2=U54)*(Teams2_Score>Teams1_Score))","v":0},{"$f":"SUMPRODUCT((Teams1=U54)*(Teams1_Score=Teams2_Score)*(Teams1_Score<>\"\"))+SUMPRODUCT((Teams2=U54)*(Teams2_Score=Teams1_Score)*(Teams2_Score<>\"\"))","v":1},{"$f":"SUMPRODUCT((Teams1=U54)*(Teams1_Score<Teams2_Score))+SUMPRODUCT((Teams2=U54)*(Teams2_Score<Teams1_Score))","v":2},{"$f":"SUMPRODUCT((Teams1=U54)*(Teams1_Score))+SUMPRODUCT((Teams2=U54)*(Teams2_Score))","v":2},{"$f":"SUMPRODUCT((Teams1=U54)*(Teams2_Score))+SUMPRODUCT((Teams2=U54)*(Teams1_Score))","v":4},{"$f":"Z54-AA54","v":-2},{"$f":"3*W54+X54","v":1}]
[null,{"$f":"VLOOKUP($D55,TABLEAU_MATCHS[#All],2,FALSE)","v":"2018-06-28"},{"$f":"VLOOKUP($D55,TABLEAU_MATCHS[#All],3,FALSE)","v":"16:00:00"},48,{"$f":"\"Groupe \"&VLOOKUP($I55,TABLEAU_TEAMS[[#All],[TEAM]:[GROUP_INITIAL_RANK]],2,FALSE)","v":"Groupe H"},6,3.4,1.52,{"$f":"VLOOKUP($D55,TABLEAU_MATCHS[#All],4,FALSE)","v":"Sénégal"},1,null,{"$f":"VLOOKUP($D55,TABLEAU_MATCHS[#All],5,FALSE)","v":"Colombie"},1,{"$f":"IF(OR(ISBLANK(RESULTATS!J55),ISBLANK(J55)),\"\",IF(AND(Vildary!J55=RESULTATS!J55,Vildary!M55=RESULTATS!M55),3,IF(OR(AND(Vildary!J55>Vildary!M55,RESULTATS!J55>RESULTATS!M55),AND(Vildary!J55<Vildary!M55,RESULTATS!J55<RESULTATS!M55),AND(Vildary!J55=Vildary!M55,RESULTATS!J55=RESULTATS!M55)),1,0)))","v":""}]
[null,null,null,null,null,null,null,null,null,null,null,null,null,{"$f":"SUM(N8:N55)","v":2}]
[]
[]
[null,"Tirage au sort A1",null,null,null,null,null,null,null,null,null,null,null,null,null,null,null,null,null,"Rg","Groupe A","MJ","G","N","P","BP","BC","+/-","Pts"]
[null,{"$f":"IF(ROWS($1:1)<=COUNTIF($T$9:$T$12,1),INDEX($U$9:$U$12,SMALL(IF($T$9:$T$12=1,ROW(INDIRECT(\"1:\"&ROWS($T$9:$T$12)))),ROWS($1:1))),\"\")","v":"Egypte"},null,null,null,null,null,null,null,null,null,null,null,null,null,null,"A_1",{"$f":"TEXT(S60,\"00000\")&U60","v":"04140Russie"},{"$f":"AC60*1000+AB60*100+Z60*10","v":4140},{"$f":"RANK(S60,$S60:$S64,0)","v":2},{"$f":"VLOOKUP(Q60,TABLEAU_TEAMS[#All],2,FALSE)","v":"Russie"},{"$f":"SUMPRODUCT((Teams1=U60)*(Teams1_Score<>\"\"))+SUMPRODUCT((Teams2=U60)*(Teams2_Score<>\"\"))","v":3},{"$f":"SUMPRODUCT((Teams1=U60)*(Teams1_Score>Teams2_Score))+SUMPRODUCT((Teams2=U60)*(Teams2_Score>Teams1_Score))","v":1},{"$f":"SUMPRODUCT((Teams1=U60)*(Teams1_Score=Teams2_Score)*(Teams1_Score<>\"\"))+SUMPRODUCT((Teams2=U60)*(Teams2_Score=Teams1_Score)*(Teams2_Score<>\"\"))","v":1},{"$f":"SUMPRODUCT((Teams1=U60)*(Teams1_Score<Teams2_Score))+SUMPRODUCT((Teams2=U60)*(Teams2_Score<Teams1_Score))","v":1},{"$f":"SUMPRODUCT((Teams1=U60)*(Teams1_Score))+SUMPRODUCT((Teams2=U60)*(Teams2_Score))","v":4},{"$f":"SUMPRODUCT((Teams1=U60)*(Teams2_Score))+SUMPRODUCT((Teams2=U60)*(Teams1_Score))","v":3},{"$f":"Z60-AA60","v":1},{"$f":"3*W60+X60","v":4}]
[null,{"$f":"IF(ROWS($1:2)<=COUNTIF($T$9:$T$12,1),INDEX($U$9:$U$12,SMALL(IF($T$9:$T$12=1,ROW(INDIRECT(\"1:\"&ROWS($T$9:$T$12)))),ROWS($1:2))),\"\")","v":""},null,null,null,null,null,null,null,null,null,null,null,null,null,null,"A_2",{"$f":"TEXT(S61,\"00000\")&U61","v":"-00700Arabie Saoudite"},{"$f":"AC61*1000+AB61*100+Z61*10","v":-700},{"$f":"RANK(S61,$S60:$S64,0)","v":4},{"$f":"VLOOKUP(Q61,TABLEAU_TEAMS[#All],2,FALSE)","v":"Arabie Saoudite"},{"$f":"SUMPRODUCT((Teams1=U61)*(Teams1_Score<>\"\"))+SUMPRODUCT((Teams2=U61)*(Teams2_Score<>\"\"))","v":3},{"$f":"SUMPRODUCT((Teams1=U61)*(Teams1_Score>Teams2_Score))+SUMPRODUCT((Teams2=U61)*(Teams2_Score>Teams1_Score))","v":0},{"$f":"SUMPRODUCT((Teams1=U61)*(Teams1_Score=Teams2_Score)*(Teams1_Score<>\"\"))+SUMPRODUCT((Teams2=U61)*(Teams2_Score=Teams1_Score)*(Teams2_Score<>\"\"))","v":0},{"$f":"SUMPRODUCT((Teams1=U61)*(Teams1_Score<Teams2_Score))+SUMPRODUCT((Teams2=U61)*(Teams2_Score<Teams1_Score))","v":3},{"$f":"SUMPRODUCT((Teams1=U61)*(Teams1_Score))+SUMPRODUCT((Teams2=U61)*(Teams2_Score))","v":0},{"$f":"SUMPRODUCT((Teams1=U61)*(Teams2_Score))+SUMPRODUCT((Teams2=U61)*(Teams1_Score))","v":7},{"$f":"Z61-AA61","v":-7},{"$f":"3*W61+X61","v":0}]
[null,{"$f":"IF(ROWS($1:3)<=COUNTIF($T$9:$T$12,1),INDEX($U$9:$U$12,SMALL(IF($T$9:$T$12=1,ROW(INDIRECT(\"1:\"&ROWS($T$9:$T$12)))),ROWS($1:3))),\"\")","v":""},null,null,null,null,null,null,null,null,null,null,null,null,null,null,"A_3",{"$f":"TEXT(S62,\"00000\")&U62","v":"09670Egypte"},{"$f":"AC62*1000+AB62*100+Z62*10","v":9670},{"$f":"RANK(S62,$S60:$S64,0)","v":1},{"$f":"VLOOKUP(Q62,TABLEAU_TEAMS[#All],2,FALSE)","v":"Egypte"},{"$f":"SUMPRODUCT((Teams1=U62)*(Teams1_Score<>\"\"))+SUMPRODUCT((Teams2=U62)*(Teams2_Score<>\"\"))","v":3},{"$f":"SUMPRODUCT((Teams1=U62)*(Teams1_Score>Teams2_Score))+SUMPRODUCT((Teams2=U62)*(Teams2_Score>Teams1_Score))","v":3},{"$f":"SUMPRODUCT((Teams1=U62)*(Teams1_Score=Teams2_Score)*(Teams1_Score<>\"\"))+SUMPRODUCT((Teams2=U62)*(Teams2_Score=Teams1_Score)*(Teams2_Score<>\"\"))","v":0},{"$f":"SUMPRODUCT((Teams1=U62)*(Teams1_Score<Teams2_Score))+SUMPRODUCT((Teams2=U62)*(Teams2_Score<Teams1_Score))","v":0},{"$f":"SUMPRODUCT((Teams1=U62)*(Teams1_Score))+SUMPRODUCT((Teams2=U62)*(Teams2_Score))","v":7},{"$f":"SUMPRODUCT((Teams1=U62)*(Teams2_Score))+SUMPRODUCT((Teams2=U62)*(Teams1_Score))","v":1},{"$f":"Z62-AA62","v":6},{"$f":"3*W62+X62","v":9}]
[null,{"$f":"IF(ROWS($1:4)<=COUNTIF($T$9:$T$12,1),INDEX($U$9:$U$12,SMALL(IF($T$9:$T$12=1,ROW(INDIRECT(\"1:\"&ROWS($T$9:$T$12)))),ROWS($1:4))),\"\")","v":""},null,null,null,null,null,null,null,null,null,null,null,null,null,null,"A_4",{"$f":"TEXT(S63,\"00000\")&U63","v":"04030Uruguay"},{"$f":"AC63*1000+AB63*100+Z63*10","v":4030},{"$f":"RANK(S63,$S60:$S64,0)","v":3},{"$f":"VLOOKUP(Q63,TABLEAU_TEAMS[#All],2,FALSE)","v":"Uruguay"},{"$f":"SUMPRODUCT((Teams1=U63)*(Teams1_Score<>\"\"))+SUMPRODUCT((Teams2=U63)*(Teams2_Score<>\"\"))","v":3},{"$f":"SUMPRODUCT((Teams1=U63)*(Teams1_Score>Teams2_Score))+SUMPRODUCT((Teams2=U63)*(Teams2_Score>Teams1_Score))","v":1},{"$f":"SUMPRODUCT((Teams1=U63)*(Teams1_Score=Teams2_Score)*(Teams1_Score<>\"\"))+SUMPRODUCT((Teams2=U63)*(Teams2_Score=Teams1_Score)*(Teams2_Score<>\"\"))","v":1},{"$f":"SUMPRODUCT((Teams1=U63)*(Teams1_Score<Teams2_Score))+SUMPRODUCT((Teams2=U63)*(Teams2_Score<Teams1_Score))","v":1},{"$f":"SUMPRODUCT((Teams1=U63)*(Teams1_Score))+SUMPRODUCT((Teams2=U63)*(Teams2_Score))","v":3},{"$f":"SUMPRODUCT((Teams1=U63)*(Teams2_Score))+SUMPRODUCT((Teams2=U63)*(Teams1_Score))","v":3},{"$f":"Z63-AA63","v":0},{"$f":"3*W63+X63","v":4}]
[null,"Tirage au sort A2"]
[null,{"$f":"IF(COUNTIF($T$9:$T$12,1)>1,IF(ROWS($1:1)<=COUNTIF($T$9:$T$12,1),INDEX($U$9:$U$12,SMALL(IF($T$9:$T$12=1,ROW(INDIRECT(\"1:\"&ROWS($T$9:$T$12)))),ROWS($1:1))),\"\"),IF(COUNTIF($T$9:$T$12,2)>1,IF(ROWS($1:1)<=COUNTIF($T$9:$T$12,2),INDEX($U$9:$U$12,SMALL(IF($T$9:$T$12=2,ROW(INDIRECT(\"1:\"&ROWS($T$9:$T$12)))),ROWS($1:1))),\"\")))","v":false},null,null,null,null,null,null,null,null,null,null,null,null,null,null,null,null,null,"Rg","Groupe B","MJ","G","N","P","BP","BC","Pts","Pts"]
[null,{"$f":"IF(COUNTIF($T$9:$T$12,1)>1,IF(ROWS($1:2)<=COUNTIF($T$9:$T$12,1),INDEX($U$9:$U$12,SMALL(IF($T$9:$T$12=1,ROW(INDIRECT(\"1:\"&ROWS($T$9:$T$12)))),ROWS($1:2))),\"\"),IF(COUNTIF($T$9:$T$12,2)>1,IF(ROWS($1:2)<=COUNTIF($T$9:$T$12,2),INDEX($U$9:$U$12,SMALL(IF($T$9:$T$12=2,ROW(INDIRECT(\"1:\"&ROWS($T$9:$T$12)))),ROWS($1:2))),\"\")))","v":false},null,null,null,null,null,null,null,null,null,null,null,null,null,null,"B_1",{"$f":"TEXT(S66,\"00000\")&U66","v":"02720Maroc"},{"$f":"AC66*1000+AB66*100+Z66*10","v":2720},{"$f":"RANK(S66,$S66:$S70,0)","v":3},{"$f":"VLOOKUP(Q66,TABLEAU_TEAMS[#All],2,FALSE)","v":"Maroc"},{"$f":"SUMPRODUCT((Teams1=U66)*(Teams1_Score<>\"\"))+SUMPRODUCT((Teams2=U66)*(Teams2_Score<>\"\"))","v":3},{"$f":"SUMPRODUCT((Teams1=U66)*(Teams1_Score>Teams2_Score))+SUMPRODUCT((Teams2=U66)*(Teams2_Score>Teams1_Score))","v":1},{"$f":"SUMPRODUCT((Teams1=U66)*(Teams1_Score=Teams2_Score)*(Teams1_Score<>\"\"))+SUMPRODUCT((Teams2=U66)*(Teams2_Score=Teams1_Score)*(Teams2_Score<>\"\"))","v":0},{"$f":"SUMPRODUCT((Teams1=U66)*(Teams1_Score<Teams2_Score))+SUMPRODUCT((Teams2=U66)*(Teams2_Score<Teams1_Score))","v":2},{"$f":"SUMPRODUCT((Teams1=U66)*(Teams1_Score))+SUMPRODUCT((Teams2=U66)*(Teams2_Score))","v":2},{"$f":"SUMPRODUCT((Teams1=U66)*(Teams2_Score))+SUMPRODUCT((Teams2=U66)*(Teams1_Score))","v":5},{"$f":"Z66-AA66","v":-3},{"$f":"3*W66+X66","v":3}]
[null,{"$f":"IF(COUNTIF($T$9:$T$12,1)>1,IF(ROWS($1:3)<=COUNTIF($T$9:$T$12,1),INDEX($U$9:$U$12,SMALL(IF($T$9:$T$12=1,ROW(INDIRECT(\"1:\"&ROWS($T$9:$T$12)))),ROWS($1:3))),\"\"),IF(COUNTIF($T$9:$T$12,2)>1,IF(ROWS($1:3)<=COUNTIF($T$9:$T$12,2),INDEX($U$9:$U$12,SMALL(IF($T$9:$T$12=2,ROW(INDIRECT(\"1:\"&ROWS($T$9:$T$12)))),ROWS($1:3))),\"\")))","v":false},null,null,null,null,null,null,null,null,null,null,null,null,null,null,"B_2",{"$f":"TEXT(S67,\"00000\")&U67","v":"-00800RI Iran"},{"$f":"AC67*1000+AB67*100+Z67*10","v":-800},{"$f":"RANK(S67,$S66:$S70,0)","v":4},{"$f":"VLOOKUP(Q67,TABLEAU_TEAMS[#All],2,FALSE)","v":"RI Iran"},{"$f":"SUMPRODUCT((Teams1=U67)*(Teams1_Score<>\"\"))+SUMPRODUCT((Teams2=U67)*(Teams2_Score<>\"\"))","v":3},{"$f":"SUMPRODUCT((Teams1=U67)*(Teams1_Score>Teams2_Score))+SUMPRODUCT((Teams2=U67)*(Teams2_Score>Teams1_Score))","v":0},{"$f":"SUMPRODUCT((Teams1=U67)*(Teams1_Score=Teams2_Score)*(Teams1_Score<>\"\"))+SUMPRODUCT((Teams2=U67)*(Teams2_Score=Teams1_Score)*(Teams2_Score<>\"\"))","v":0},{"$f":"SUMPRODUCT((Teams1=U67)*(Teams1_Score<Teams2_Score))+SUMPRODUCT((Teams2=U67)*(Teams2_Score<Teams1_Score))","v":3},{"$f":"SUMPRODUCT((Teams1=U67)*(Teams1_Score))+SUMPRODUCT((Teams2=U67)*(Teams2_Score))","v":0},{"$f":"SUMPRODUCT((Teams1=U67)*(Teams2_Score))+SUMPRODUCT((Teams2=U67)*(Teams1_Score))","v":8},{"$f":"Z67-AA67","v":-8},{"$f":"3*W67+X67","v":0}]
[null,{"$f":"IF(COUNTIF($T$9:$T$12,1)>1,IF(ROWS($1:4)<=COUNTIF($T$9:$T$12,1),INDEX($U$9:$U$12,SMALL(IF($T$9:$T$12=1,ROW(INDIRECT(\"1:\"&ROWS($T$9:$T$12)))),ROWS($1:4))),\"\"),IF(COUNTIF($T$9:$T$12,2)>1,IF(ROWS($1:4)<=COUNTIF($T$9:$T$12,2),INDEX($U$9:$U$12,SMALL(IF($T$9:$T$12=2,ROW(INDIRECT(\"1:\"&ROWS($T$9:$T$12)))),ROWS($1:4))),\"\")))","v":false},null,null,null,null,null,null,null,null,null,null,null,null,null,null,"B_3",{"$f":"TEXT(S68,\"00000\")&U68","v":"07580Portugal"},{"$f":"AC68*1000+AB68*100+Z68*10","v":7580},{"$f":"RANK(S68,$S66:$S70,0)","v":2},{"$f":"VLOOKUP(Q68,TABLEAU_TEAMS[#All],2,FALSE)","v":"Portugal"},{"$f":"SUMPRODUCT((Teams1=U68)*(Teams1_Score<>\"\"))+SUMPRODUCT((Teams2=U68)*(Teams2_Score<>\"\"))","v":3},{"$f":"SUMPRODUCT((Teams1=U68)*(Teams1_Score>Teams2_Score))+SUMPRODUCT((Teams2=U68)*(Teams2_Score>Teams1_Score))","v":2},{"$f":"SUMPRODUCT((Teams1=U68)*(Teams1_Score=Teams2_Score)*(Teams1_Score<>\"\"))+SUMPRODUCT((Teams2=U68)*(Teams2_Score=Teams1_Score)*(Teams2_Score<>\"\"))","v":1},{"$f":"SUMPRODUCT((Teams1=U68)*(Teams1_Score<Teams2_Score))+SUMPRODUCT((Teams2=U68)*(Teams2_Score<Teams1_Score))","v":0},{"$f":"SUMPRODUCT((Teams1=U68)*(Teams1_Score))+SUMPRODUCT((Teams2=U68)*(Teams2_Score))","v":8},{"$f":"SUMPRODUCT((Teams1=U68)*(Teams2_Score))+SUMPRODUCT((Teams2=U68)*(Teams1_Score))","v":3},{"$f":"Z68-AA68","v":5},{"$f":"3*W68+X68","v":7}]
[null,"Tirage au sort B1",null,null,null,null,null,null,null,null,null,null,null,null,null,null,"B_4",{"$f":"TEXT(S69,\"00000\")&U69","v":"07680Espagne"},{"$f":"AC69*1000+AB69*100+Z69*10","v":7680},{"$f":"RANK(S69,$S66:$S70,0)","v":1},{"$f":"VLOOKUP(Q69,TABLEAU_TEAMS[#All],2,FALSE)","v":"Espagne"},{"$f":"SUMPRODUCT((Teams1=U69)*(Teams1_Score<>\"\"))+SUMPRODUCT((Teams2=U69)*(Teams2_Score<>\"\"))","v":3},{"$f":"SUMPRODUCT((Teams1=U69)*(Teams1_Score>Teams2_Score))+SUMPRODUCT((Teams2=U69)*(Teams2_Score>Teams1_Score))","v":2},{"$f":"SUMPRODUCT((Teams1=U69)*(Teams1_Score=Teams2_Score)*(Teams1_Score<>\"\"))+SUMPRODUCT((Teams2=U69)*(Teams2_Score=Teams1_Score)*(Teams2_Score<>\"\"))","v":1},{"$f":"SUMPRODUCT((Teams1=U69)*(Teams1_Score<Teams2_Score))+SUMPRODUCT((Teams2=U69)*(Teams2_Score<Teams1_Score))","v":0},{"$f":"SUMPRODUCT((Teams1=U69)*(Teams1_Score))+SUMPRODUCT((Teams2=U69)*(Teams2_Score))","v":8},{"$f":"SUMPRODUCT((Teams1=U69)*(Teams2_Score))+SUMPRODUCT((Teams2=U69)*(Teams1_Score))","v":2},{"$f":"Z69-AA69","v":6},{"$f":"3*W69+X69","v":7}]
[null,{"$f":"IF(ROWS($1:1)<=COUNTIF($T$15:$T$18,1),INDEX($U$15:$U$18,SMALL(IF($T$15:$T$18=1,ROW(INDIRECT(\"1:\"&ROWS($T$15:$T$18)))),ROWS($1:1))),\"\")","v":"Espagne"}]
[null,{"$f":"IF(ROWS($1:2)<=COUNTIF($T$15:$T$18,1),INDEX($U$15:$U$18,SMALL(IF($T$15:$T$18=1,ROW(INDIRECT(\"1:\"&ROWS($T$15:$T$18)))),ROWS($1:2))),\"\")","v":""},null,null,null,null,null,null,null,null,null,null,null,null,null,null,null,null,null,"Rg","Groupe C","MJ","G","N","P","BP","BC","Pts","Pts"]
[null,{"$f":"IF(ROWS($1:3)<=COUNTIF($T$15:$T$18,1),INDEX($U$15:$U$18,SMALL(IF($T$15:$T$18=1,ROW(INDIRECT(\"1:\"&ROWS($T$15:$T$18)))),ROWS($1:3))),\"\")","v":""},null,null,null,null,null,null,null,null,null,null,null,null,null,null,"C_1",{"$f":"TEXT(S72,\"00000\")&U72","v":"09890France"},{"$f":"AC72*1000+AB72*100+Z72*10","v":9890},{"$f":"RANK(S72,$S72:$S76,0)","v":1},{"$f":"VLOOKUP(Q72,TABLEAU_TEAMS[#All],2,FALSE)","v":"France"},{"$f":"SUMPRODUCT((Teams1=U72)*(Teams1_Score<>\"\"))+SUMPRODUCT((Teams2=U72)*(Teams2_Score<>\"\"))","v":3},{"$f":"SUMPRODUCT((Teams1=U72)*(Teams1_Score>Teams2_Score))+SUMPRODUCT((Teams2=U72)*(Teams2_Score>Teams1_Score))","v":3},{"$f":"SUMPRODUCT((Teams1=U72)*(Teams1_Score=Teams2_Score)*(Teams1_Score<>\"\"))+SUMPRODUCT((Teams2=U72)*(Teams2_Score=Teams1_Score)*(Teams2_Score<>\"\"))","v":0},{"$f":"SUMPRODUCT((Teams1=U72)*(Teams1_Score<Teams2_Score))+SUMPRODUCT((Teams2=U72)*(Teams2_Score<Teams1_Score))","v":0},{"$f":"SUMPRODUCT((Teams1=U72)*(Teams1_Score))+SUMPRODUCT((Teams2=U72)*(Teams2_Score))","v":9},{"$f":"SUMPRODUCT((Teams1=U72)*(Teams2_Score))+SUMPRODUCT((Teams2=U72)*(Teams1_Score))","v":1},{"$f":"Z72-AA72","v":8},{"$f":"3*W72+X72","v":9}]
[null,{"$f":"IF(ROWS($1:4)<=COUNTIF($T$15:$T$18,1),INDEX($U$15:$U$18,SMALL(IF($T$15:$T$18=1,ROW(INDIRECT(\"1:\"&ROWS($T$15:$T$18)))),ROWS($1:4))),\"\")","v":""},null,null,null,null,null,null,null,null,null,null,null,null,null,null,"C_2",{"$f":"TEXT(S73,\"00000\")&U73","v":"-00580Australie"},{"$f":"AC73*1000+AB73*100+Z73*10","v":-580},{"$f":"RANK(S73,$S72:$S76,0)","v":4},{"$f":"VLOOKUP(Q73,TABLEAU_TEAMS[#All],2,FALSE)","v":"Australie"},{"$f":"SUMPRODUCT((Teams1=U73)*(Teams1_Score<>\"\"))+SUMPRODUCT((Teams2=U73)*(Teams2_Score<>\"\"))","v":3},{"$f":"SUMPRODUCT((Teams1=U73)*(Teams1_Score>Teams2_Score))+SUMPRODUCT((Teams2=U73)*(Teams2_Score>Teams1_Score))","v":0},{"$f":"SUMPRODUCT((Teams1=U73)*(Teams1_Score=Teams2_Score)*(Teams1_Score<>\"\"))+SUMPRODUCT((Teams2=U73)*(Teams2_Score=Teams1_Score)*(Teams2_Score<>\"\"))","v":0},{"$f":"SUMPRODUCT((Teams1=U73)*(Teams1_Score<Teams2_Score))+SUMPRODUCT((Teams2=U73)*(Teams2_Score<Teams1_Score))","v":3},{"$f":"SUMPRODUCT((Teams1=U73)*(Teams1_Score))+SUMPRODUCT((Teams2=U73)*(Teams2_Score))","v":2},{"$f":"SUMPRODUCT((Teams1=U73)*(Teams2_Score))+SUMPRODUCT((Teams2=U73)*(Teams1_Score))","v":8},{"$f":"Z73-AA73","v":-6},{"$f":"3*W73+X73","v":0}]
[null,"Tirage au sort B2",null,null,null,null,null,null,null,null,null,null,null,null,null,null,"C_3",{"$f":"TEXT(S74,\"00000\")&U74","v":"03840Pérou"},{"$f":"AC74*1000+AB74*100+Z74*10","v":3840},{"$f":"RANK(S74,$S72:$S76,0)","v":3},{"$f":"VLOOKUP(Q74,TABLEAU_TEAMS[#All],2,FALSE)","v":"Pérou"},{"$f":"SUMPRODUCT((Teams1=U74)*(Teams1_Score<>\"\"))+SUMPRODUCT((Teams2=U74)*(Teams2_Score<>\"\"))","v":3},{"$f":"SUMPRODUCT((Teams1=U74)*(Teams1_Score>Teams2_Score))+SUMPRODUCT((Teams2=U74)*(Teams2_Score>Teams1_Score))","v":1},{"$f":"SUMPRODUCT((Teams1=U74)*(Teams1_Score=Teams2_Score)*(Teams1_Score<>\"\"))+SUMPRODUCT((Teams2=U74)*(Teams2_Score=Teams1_Score)*(Teams2_Score<>\"\"))","v":1},{"$f":"SUMPRODUCT((Teams1=U74)*(Teams1_Score<Teams2_Score))+SUMPRODUCT((Teams2=U74)*(Teams2_Score<Teams1_Score))","v":1},{"$f":"SUMPRODUCT((Teams1=U74)*(Teams1_Score))+SUMPRODUCT((Teams2=U74)*(Teams2_Score))","v":4},{"$f":"SUMPRODUCT((Teams1=U74)*(Teams2_Score))+SUMPRODUCT((Teams2=U74)*(Teams1_Score))","v":6},{"$f":"Z74-AA74","v":-2},{"$f":"3*W74+X74","v":4}]
[null,{"$f":"IF(COUNTIF($T$15:$T$18,1)>1,IF(ROWS($1:1)<=COUNTIF($T$15:$T$18,1),INDEX($U$15:$U$18,SMALL(IF($T$15:$T$18=1,ROW(INDIRECT(\"1:\"&ROWS($T$15:$T$18)))),ROWS($1:1))),\"\"),IF(COUNTIF($T$15:$T$18,2)>1,IF(ROWS($1:1)<=COUNTIF($T$15:$T$18,2),INDEX($U$15:$U$18,SMALL(IF($T$15:$T$18=2,ROW(INDIRECT(\"1:\"&ROWS($T$15:$T$18)))),ROWS($1:1))),\"\")))","v":false},null,null,null,null,null,null,null,null,null,null,null,null,null,null,"C_4",{"$f":"TEXT(S75,\"00000\")&U75","v":"04060Danemark"},{"$f":"AC75*1000+AB75*100+Z75*10","v":4060},{"$f":"RANK(S75,$S72:$S76,0)","v":2},{"$f":"VLOOKUP(Q75,TABLEAU_TEAMS[#All],2,FALSE)","v":"Danemark"},{"$f":"SUMPRODUCT((Teams1=U75)*(Teams1_Score<>\"\"))+SUMPRODUCT((Teams2=U75)*(Teams2_Score<>\"\"))","v":3},{"$f":"SUMPRODUCT((Teams1=U75)*(Teams1_Score>Teams2_Score))+SUMPRODUCT((Teams2=U75)*(Teams2_Score>Teams1_Score))","v":1},{"$f":"SUMPRODUCT((Teams1=U75)*(Teams1_Score=Teams2_Score)*(Teams1_Score<>\"\"))+SUMPRODUCT((Teams2=U75)*(Teams2_Score=Teams1_Score)*(Teams2_Score<>\"\"))","v":1},{"$f":"SUMPRODUCT((Teams1=U75)*(Teams1_Score<Teams2_Score))+SUMPRODUCT((Teams2=U75)*(Teams2_Score<Teams1_Score))","v":1},{"$f":"SUMPRODUCT((Teams1=U75)*(Teams1_Score))+SUMPRODUCT((Teams2=U75)*(Teams2_Score))","v":6},{"$f":"SUMPRODUCT((Teams1=U75)*(Teams2_Score))+SUMPRODUCT((Teams2=U75)*(Teams1_Score))","v":6},{"$f":"Z75-AA75","v":0},{"$f":"3*W75+X75","v":4}]
[null,{"$f":"IF(COUNTIF($T$15:$T$18,1)>1,IF(ROWS($1:2)<=COUNTIF($T$15:$T$18,1),INDEX($U$15:$U$18,SMALL(IF($T$15:$T$18=1,ROW(INDIRECT(\"1:\"&ROWS($T$15:$T$18)))),ROWS($1:2))),\"\"),IF(COUNTIF($T$15:$T$18,2)>1,IF(ROWS($1:2)<=COUNTIF($T$15:$T$18,2),INDEX($U$15:$U$18,SMALL(IF($T$15:$T$18=2,ROW(INDIRECT(\"1:\"&ROWS($T$15:$T$18)))),ROWS($1:2))),\"\")))","v":false}]
[null,{"$f":"IF(COUNTIF($T$15:$T$18,1)>1,IF(ROWS($1:3)<=COUNTIF($T$15:$T$18,1),INDEX($U$15:$U$18,SMALL(IF($T$15:$T$18=1,ROW(INDIRECT(\"1:\"&ROWS($T$15:$T$18)))),ROWS($1:3))),\"\"),IF(COUNTIF($T$15:$T$18,2)>1,IF(ROWS($1:3)<=COUNTIF($T$15:$T$18,2),INDEX($U$15:$U$18,SMALL(IF($T$15:$T$18=2,ROW(INDIRECT(\"1:\"&ROWS($T$15:$T$18)))),ROWS($1:3))),\"\")))","v":false},null,null,null,null,null,null,null,null,null,null,null,null,null,null,null,null,null,"Rg","Groupe D","MJ","G","N","P","BP","BC","Pts","Pts"]
[null,{"$f":"IF(COUNTIF($T$15:$T$18,1)>1,IF(ROWS($1:4)<=COUNTIF($T$15:$T$18,1),INDEX($U$15:$U$18,SMALL(IF($T$15:$T$18=1,ROW(INDIRECT(\"1:\"&ROWS($T$15:$T$18)))),ROWS($1:4))),\"\"),IF(COUNTIF($T$15:$T$18,2)>1,IF(ROWS($1:4)<=COUNTIF($T$15:$T$18,2),INDEX($U$15:$U$18,SMALL(IF($T$15:$T$18=2,ROW(INDIRECT(\"1:\"&ROWS($T$15:$T$18)))),ROWS($1:4))),\"\")))","v":false},null,null,null,null,null,null,null,null,null,null,null,null,null,null,"D_1",{"$f":"TEXT(S78,\"00000\")&U78","v":"09790Argentine"},{"$f":"AC78*1000+AB78*100+Z78*10","v":9790},{"$f":"RANK(S78,$S78:$S82,0)","v":1},{"$f":"VLOOKUP(Q78,TABLEAU_TEAMS[#All],2,FALSE)","v":"Argentine"},{"$f":"SUMPRODUCT((Teams1=U78)*(Teams1_Score<>\"\"))+SUMPRODUCT((Teams2=U78)*(Teams2_Score<>\"\"))","v":3},{"$f":"SUMPRODUCT((Teams1=U78)*(Teams1_Score>Teams2_Score))+SUMPRODUCT((Teams2=U78)*(Teams2_Score>Teams1_Score))","v":3},{"$f":"SUMPRODUCT((Teams1=U78)*(Teams1_Score=Teams2_Score)*(Teams1_Score<>\"\"))+SUMPRODUCT((Teams2=U78)*(Teams2_Score=Teams1_Score)*(Teams2_Score<>\"\"))","v":0},{"$f":"SUMPRODUCT((Teams1=U78)*(Teams1_Score<Teams2_Score))+SUMPRODUCT((Teams2=U78)*(Teams2_Score<Teams1_Score))","v":0},{"$f":"SUMPRODUCT((Teams1=U78)*(Teams1_Score))+SUMPRODUCT((Teams2=U78)*(Teams2_Score))","v":9},{"$f":"SUMPRODUCT((Teams1=U78)*(Teams2_Score))+SUMPRODUCT((Teams2=U78)*(Teams1_Score))","v":2},{"$f":"Z78-AA78","v":7},{"$f":"3*W78+X78","v":9}]
[null,"Tirage au sort C1",null,null,null,null,null,null,null,null,null,null,null,null,null,null,"D_2",{"$f":"TEXT(S79,\"00000\")&U79","v":"-00600Islande"},{"$f":"AC79*1000+AB79*100+Z79*10","v":-600},{"$f":"RANK(S79,$S78:$S82,0)","v":4},{"$f":"VLOOKUP(Q79,TABLEAU_TEAMS[#All],2,FALSE)","v":"Islande"},{"$f":"SUMPRODUCT((Teams1=U79)*(Teams1_Score<>\"\"))+SUMPRODUCT((Teams2=U79)*(Teams2_Score<>\"\"))","v":3},{"$f":"SUMPRODUCT((Teams1=U79)*(Teams1_Score>Teams2_Score))+SUMPRODUCT((Teams2=U79)*(Teams2_Score>Teams1_Score))","v":0},{"$f":"SUMPRODUCT((Teams1=U79)*(Teams1_Score=Teams2_Score)*(Teams1_Score<>\"\"))+SUMPRODUCT((Teams2=U79)*(Teams2_Score=Teams1_Score)*(Teams2_Score<>\"\"))","v":0},{"$f":"SUMPRODUCT((Teams1=U79)*(Teams1_Score<Teams2_Score))+SUMPRODUCT((Teams2=U79)*(Teams2_Score<Teams1_Score))","v":3},{"$f":"SUMPRODUCT((Teams1=U79)*(Teams1_Score))+SUMPRODUCT((Teams2=U79)*(Teams2_Score))","v":0},{"$f":"SUMPRODUCT((Teams1=U79)*(Teams2_Score))+SUMPRODUCT((Teams2=U79)*(Teams1_Score))","v":6},{"$f":"Z79-AA79","v":-6},{"$f":"3*W79+X79","v":0}]
[null,{"$f":"IF(ROWS($1:1)<=COUNTIF($T$21:$T$24,1),INDEX($U$21:$U$24,SMALL(IF($T$21:$T$24=1,ROW(INDIRECT(\"1:\"&ROWS($T$21:$T$24)))),ROWS($1:1))),\"\")","v":"France"},null,null,null,null,null,null,null,null,null,null,null,null,null,null,"D_3",{"$f":"TEXT(S80,\"00000\")&U80","v":"04040Croatie"},{"$f":"AC80*1000+AB80*100+Z80*10","v":4040},{"$f":"RANK(S80,$S78:$S82,0)","v":2},{"$f":"VLOOKUP(Q80,TABLEAU_TEAMS[#All],2,FALSE)","v":"Croatie"},{"$f":"SUMPRODUCT((Teams1=U80)*(Teams1_Score<>\"\"))+SUMPRODUCT((Teams2=U80)*(Teams2_Score<>\"\"))","v":3},{"$f":"SUMPRODUCT((Teams1=U80)*(Teams1_Score>Teams2_Score))+SUMPRODUCT((Teams2=U80)*(Teams2_Score>Teams1_Score))","v":1},{"$f":"SUMPRODUCT((Teams1=U80)*(Teams1_Score=Teams2_Score)*(Teams1_Score<>\"\"))+SUMPRODUCT((Teams2=U80)*(Teams2_Score=Teams1_Score)*(Teams2_Score<>\"\"))","v":1},{"$f":"SUMPRODUCT((Teams1=U80)*(Teams1_Score<Teams2_Score))+SUMPRODUCT((Teams2=U80)*(Teams2_Score<Teams1_Score))","v":1},{"$f":"SUMPRODUCT((Teams1=U80)*(Teams1_Score))+SUMPRODUCT((Teams2=U80)*(Teams2_Score))","v":4},{"$f":"SUMPRODUCT((Teams1=U80)*(Teams2_Score))+SUMPRODUCT((Teams2=U80)*(Teams1_Score))","v":4},{"$f":"Z80-AA80","v":0},{"$f":"3*W80+X80","v":4}]
[null,{"$f":"IF(ROWS($1:2)<=COUNTIF($T$21:$T$24,1),INDEX($U$21:$U$24,SMALL(IF($T$21:$T$24=1,ROW(INDIRECT(\"1:\"&ROWS($T$21:$T$24)))),ROWS($1:2))),\"\")","v":""},null,null,null,null,null,null,null,null,null,null,null,null,null,null,"D_4",{"$f":"TEXT(S81,\"00000\")&U81","v":"03930Nigeria"},{"$f":"AC81*1000+AB81*100+Z81*10","v":3930},{"$f":"RANK(S81,$S78:$S82,0)","v":3},{"$f":"VLOOKUP(Q81,TABLEAU_TEAMS[#All],2,FALSE)","v":"Nigeria"},{"$f":"SUMPRODUCT((Teams1=U81)*(Teams1_Score<>\"\"))+SUMPRODUCT((Teams2=U81)*(Teams2_Score<>\"\"))","v":3},{"$f":"SUMPRODUCT((Teams1=U81)*(Teams1_Score>Teams2_Score))+SUMPRODUCT((Teams2=U81)*(Teams2_Score>Teams1_Score))","v":1},{"$f":"SUMPRODUCT((Teams1=U81)*(Teams1_Score=Teams2_Score)*(Teams1_Score<>\"\"))+SUMPRODUCT((Teams2=U81)*(Teams2_Score=Teams1_Score)*(Teams2_Score<>\"\"))","v":1},{"$f":"SUMPRODUCT((Teams1=U81)*(Teams1_Score<Teams2_Score))+SUMPRODUCT((Teams2=U81)*(Teams2_Score<Teams1_Score))","v":1},{"$f":"SUMPRODUCT((Teams1=U81)*(Teams1_Score))+SUMPRODUCT((Teams2=U81)*(Teams2_Score))","v":3},{"$f":"SUMPRODUCT((Teams1=U81)*(Teams2_Score))+SUMPRODUCT((Teams2=U81)*(Teams1_Score))","v":4},{"$f":"Z81-AA81","v":-1},{"$f":"3*W81+X81","v":4}]
[null,{"$f":"IF(ROWS($1:3)<=COUNTIF($T$21:$T$24,1),INDEX($U$21:$U$24,SMALL(IF($T$21:$T$24=1,ROW(INDIRECT(\"1:\"&ROWS($T$21:$T$24)))),ROWS($1:3))),\"\")","v":""}]
[null,{"$f":"IF(ROWS($1:4)<=COUNTIF($T$21:$T$24,1),INDEX($U$21:$U$24,SMALL(IF($T$21:$T$24=1,ROW(INDIRECT(\"1:\"&ROWS($T$21:$T$24)))),ROWS($1:4))),\"\")","v":""},null,null,null,null,null,null,null,null,null,null,null,null,null,null,null,null,null,"Rg","Groupe E","MJ","G","N","P","BP","BC","Pts","Pts"]
[null,"Tirage au sort C2",null,null,null,null,null,null,null,null,null,null,null,null,null,null,"E_1",{"$f":"TEXT(S84,\"00000\")&U84","v":"01730Costa Rica"},{"$f":"AC84*1000+AB84*100+Z84*10","v":1730},{"$f":"RANK(S84,$S84:$S88,0)","v":2},{"$f":"VLOOKUP(Q84,TABLEAU_TEAMS[#All],2,FALSE)","v":"Costa Rica"},{"$f":"SUMPRODUCT((Teams1=U84)*(Teams1_Score<>\"\"))+SUMPRODUCT((Teams2=U84)*(Teams2_Score<>\"\"))","v":3},{"$f":"SUMPRODUCT((Teams1=U84)*(Teams1_Score>Teams2_Score))+SUMPRODUCT((Teams2=U84)*(Teams2_Score>Teams1_Score))","v":0},{"$f":"SUMPRODUCT((Teams1=U84)*(Teams1_Score=Teams2_Score)*(Teams1_Score<>\"\"))+SUMPRODUCT((Teams2=U84)*(Teams2_Score=Teams1_Score)*(Teams2_Score<>\"\"))","v":2},{"$f":"SUMPRODUCT((Teams1=U84)*(Teams1_Score<Teams2_Score))+SUMPRODUCT((Teams2=U84)*(Teams2_Score<Teams1_Score))","v":1},{"$f":"SUMPRODUCT((Teams1=U84)*(Teams1_Score))+SUMPRODUCT((Teams2=U84)*(Teams2_Score))","v":3},{"$f":"SUMPRODUCT((Teams1=U84)*(Teams2_Score))+SUMPRODUCT((Teams2=U84)*(Teams1_Score))","v":6},{"$f":"Z84-AA84","v":-3},{"$f":"3*W84+X84","v":2}]
[null,{"$f":"IF(COUNTIF($T$21:$T$24,1)>1,IF(ROWS($1:1)<=COUNTIF($T$21:$T$24,1),INDEX($U$21:$U$24,SMALL(IF($T$21:$T$24=1,ROW(INDIRECT(\"1:\"&ROWS($T$21:$T$24)))),ROWS($1:1))),\"\"),IF(COUNTIF($T$21:$T$24,2)>1,IF(ROWS($1:1)<=COUNTIF($T$21:$T$24,2),INDEX($U$21:$U$24,SMALL(IF($T$21:$T$24=2,ROW(INDIRECT(\"1:\"&ROWS($T$21:$T$24)))),ROWS($1:1))),\"\")))","v":false},null,null,null,null,null,null,null,null,null,null,null,null,null,null,"E_2",{"$f":"TEXT(S85,\"00000\")&U85","v":"01730Serbie"},{"$f":"AC85*1000+AB85*100+Z85*10","v":1730},{"$f":"RANK(S85,$S84:$S88,0)","v":2},{"$f":"VLOOKUP(Q85,TABLEAU_TEAMS[#All],2,FALSE)","v":"Serbie"},{"$f":"SUMPRODUCT((Teams1=U85)*(Teams1_Score<>\"\"))+SUMPRODUCT((Teams2=U85)*(Teams2_Score<>\"\"))","v":3},{"$f":"SUMPRODUCT((Teams1=U85)*(Teams1_Score>Teams2_Score))+SUMPRODUCT((Teams2=U85)*(Teams2_Score>Teams1_Score))","v":0},{"$f":"SUMPRODUCT((Teams1=U85)*(Teams1_Score=Teams2_Score)*(Teams1_Score<>\"\"))+SUMPRODUCT((Teams2=U85)*(Teams2_Score=Teams1_Score)*(Teams2_Score<>\"\"))","v":2},{"$f":"SUMPRODUCT((Teams1=U85)*(Teams1_Score<Teams2_Score))+SUMPRODUCT((Teams2=U85)*(Teams2_Score<Teams1_Score))","v":1},{"$f":"SUMPRODUCT((Teams1=U85)*(Teams1_Score))+SUMPRODUCT((Teams2=U85)*(Teams2_Score))","v":3},{"$f":"SUMPRODUCT((Teams1=U85)*(Teams2_Score))+SUMPRODUCT((Teams2=U85)*(Teams1_Score))","v":6},{"$f":"Z85-AA85","v":-3},{"$f":"3*W85+X85","v":2}]
[null,{"$f":"IF(COUNTIF($T$21:$T$24,1)>1,IF(ROWS($1:2)<=COUNTIF($T$21:$T$24,1),INDEX($U$21:$U$24,SMALL(IF($T$21:$T$24=1,ROW(INDIRECT(\"1:\"&ROWS($T$21:$T$24)))),ROWS($1:2))),\"\"),IF(COUNTIF($T$21:$T$24,2)>1,IF(ROWS($1:2)<=COUNTIF($T$21:$T$24,2),INDEX($U$21:$U$24,SMALL(IF($T$21:$T$24=2,ROW(INDIRECT(\"1:\"&ROWS($T$21:$T$24)))),ROWS($1:2))),\"\")))","v":false},null,null,null,null,null,null,null,null,null,null,null,null,null,null,"E_3",{"$f":"TEXT(S86,\"00000\")&U86","v":"10000Brésil"},{"$f":"AC86*1000+AB86*100+Z86*10","v":10000},{"$f":"RANK(S86,$S84:$S88,0)","v":1},{"$f":"VLOOKUP(Q86,TABLEAU_TEAMS[#All],2,FALSE)","v":"Brésil"},{"$f":"SUMPRODUCT((Teams1=U86)*(Teams1_Score<>\"\"))+SUMPRODUCT((Teams2=U86)*(Teams2_Score<>\"\"))","v":3},{"$f":"SUMPRODUCT((Teams1=U86)*(Teams1_Score>Teams2_Score))+SUMPRODUCT((Teams2=U86)*(Teams2_Score>Teams1_Score))","v":3},{"$f":"SUMPRODUCT((Teams1=U86)*(Teams1_Score=Teams2_Score)*(Teams1_Score<>\"\"))+SUMPRODUCT((Teams2=U86)*(Teams2_Score=Teams1_Score)*(Teams2_Score<>\"\"))","v":0},{"$f":"SUMPRODUCT((Teams1=U86)*(Teams1_Score<Teams2_Score))+SUMPRODUCT((Teams2=U86)*(Teams2_Score<Teams1_Score))","v":0},{"$f":"SUMPRODUCT((Teams1=U86)*(Teams1_Score))+SUMPRODUCT((Teams2=U86)*(Teams2_Score))","v":10},{"$f":"SUMPRODUCT((Teams1=U86)*(Teams2_Score))+SUMPRODUCT((Teams2=U86)*(Teams1_Score))","v":1},{"$f":"Z86-AA86","v":9},{"$f":"3*W86+X86","v":9}]
[null,{"$f":"IF(COUNTIF($T$21:$T$24,1)>1,IF(ROWS($1:3)<=COUNTIF($T$21:$T$24,1),INDEX($U$21:$U$24,SMALL(IF($T$21:$T$24=1,ROW(INDIRECT(\"1:\"&ROWS($T$21:$T$24)))),ROWS($1:3))),\"\"),IF(COUNTIF($T$21:$T$24,2)>1,IF(ROWS($1:3)<=COUNTIF($T$21:$T$24,2),INDEX($U$21:$U$24,SMALL(IF($T$21:$T$24=2,ROW(INDIRECT(\"1:\"&ROWS($T$21:$T$24)))),ROWS($1:3))),\"\")))","v":false},null,null,null,null,null,null,null,null,null,null,null,null,null,null,"E_4",{"$f":"TEXT(S87,\"00000\")&U87","v":"01730Suisse"},{"$f":"AC87*1000+AB87*100+Z87*10","v":1730},{"$f":"RANK(S87,$S84:$S88,0)","v":2},{"$f":"VLOOKUP(Q87,TABLEAU_TEAMS[#All],2,FALSE)","v":"Suisse"},{"$f":"SUMPRODUCT((Teams1=U87)*(Teams1_Score<>\"\"))+SUMPRODUCT((Teams2=U87)*(Teams2_Score<>\"\"))","v":3},{"$f":"SUMPRODUCT((Teams1=U87)*(Teams1_Score>Teams2_Score))+SUMPRODUCT((Teams2=U87)*(Teams2_Score>Teams1_Score))","v":0},{"$f":"SUMPRODUCT((Teams1=U87)*(Teams1_Score=Teams2_Score)*(Teams1_Score<>\"\"))+SUMPRODUCT((Teams2=U87)*(Teams2_Score=Teams1_Score)*(Teams2_Score<>\"\"))","v":2},{"$f":"SUMPRODUCT((Teams1=U87)*(Teams1_Score<Teams2_Score))+SUMPRODUCT((Teams2=U87)*(Teams2_Score<Teams1_Score))","v":1},{"$f":"SUMPRODUCT((Teams1=U87)*(Teams1_Score))+SUMPRODUCT((Teams2=U87)*(Teams2_Score))","v":3},{"$f":"SUMPRODUCT((Teams1=U87)*(Teams2_Score))+SUMPRODUCT((Teams2=U87)*(Teams1_Score))","v":6},{"$f":"Z87-AA87","v":-3},{"$f":"3*W87+X87","v":2}]
[null,{"$f":"IF(COUNTIF($T$21:$T$24,1)>1,IF(ROWS($1:4)<=COUNTIF($T$21:$T$24,1),INDEX($U$21:$U$24,SMALL(IF($T$21:$T$24=1,ROW(INDIRECT(\"1:\"&ROWS($T$21:$T$24)))),ROWS($1:4))),\"\"),IF(COUNTIF($T$21:$T$24,2)>1,IF(ROWS($1:4)<=COUNTIF($T$21:$T$24,2),INDEX($U$21:$U$24,SMALL(IF($T$21:$T$24=2,ROW(INDIRECT(\"1:\"&ROWS($T$21:$T$24)))),ROWS($1:4))),\"\")))","v":false}]
[null,"Tirage au sort D1",null,null,null,null,null,null,null,null,null,null,null,null,null,null,null,null,null,"Rg","Groupe F","MJ","G","N","P","BP","BC","Pts","Pts"]
[null,{"$f":"IF(ROWS($1:1)<=COUNTIF($T$27:$T$30,1),INDEX($U$27:$U$30,SMALL(IF($T$27:$T$30=1,ROW(INDIRECT(\"1:\"&ROWS($T$27:$T$30)))),ROWS($1:1))),\"\")","v":"Argentine"},null,null,null,null,null,null,null,null,null,null,null,null,null,null,"F_1",{"$f":"TEXT(S90,\"00000\")&U90","v":"10210Allemagne"},{"$f":"AC90*1000+AB90*100+Z90*10","v":10210},{"$f":"RANK(S90,$S90:$S94,0)","v":1},{"$f":"VLOOKUP(Q90,TABLEAU_TEAMS[#All],2,FALSE)","v":"Allemagne"},{"$f":"SUMPRODUCT((Teams1=U90)*(Teams1_Score<>\"\"))+SUMPRODUCT((Teams2=U90)*(Teams2_Score<>\"\"))","v":3},{"$f":"SUMPRODUCT((Teams1=U90)*(Teams1_Score>Teams2_Score))+SUMPRODUCT((Teams2=U90)*(Teams2_Score>Teams1_Score))","v":3},{"$f":"SUMPRODUCT((Teams1=U90)*(Teams1_Score=Teams2_Score)*(Teams1_Score<>\"\"))+SUMPRODUCT((Teams2=U90)*(Teams2_Score=Teams1_Score)*(Teams2_Score<>\"\"))","v":0},{"$f":"SUMPRODUCT((Teams1=U90)*(Teams1_Score<Teams2_Score))+SUMPRODUCT((Teams2=U90)*(Teams2_Score<Teams1_Score))","v":0},{"$f":"SUMPRODUCT((Teams1=U90)*(Teams1_Score))+SUMPRODUCT((Teams2=U90)*(Teams2_Score))","v":11},{"$f":"SUMPRODUCT((Teams1=U90)*(Teams2_Score))+SUMPRODUCT((Teams2=U90)*(Teams1_Score))","v":0},{"$f":"Z90-AA90","v":11},{"$f":"3*W90+X90","v":9}]
[null,{"$f":"IF(ROWS($1:2)<=COUNTIF($T$27:$T$30,1),INDEX($U$27:$U$30,SMALL(IF($T$27:$T$30=1,ROW(INDIRECT(\"1:\"&ROWS($T$27:$T$30)))),ROWS($1:2))),\"\")","v":""},null,null,null,null,null,null,null,null,null,null,null,null,null,null,"F_2",{"$f":"TEXT(S91,\"00000\")&U91","v":"03840Mexique"},{"$f":"AC91*1000+AB91*100+Z91*10","v":3840},{"$f":"RANK(S91,$S90:$S94,0)","v":2},{"$f":"VLOOKUP(Q91,TABLEAU_TEAMS[#All],2,FALSE)","v":"Mexique"},{"$f":"SUMPRODUCT((Teams1=U91)*(Teams1_Score<>\"\"))+SUMPRODUCT((Teams2=U91)*(Teams2_Score<>\"\"))","v":3},{"$f":"SUMPRODUCT((Teams1=U91)*(Teams1_Score>Teams2_Score))+SUMPRODUCT((Teams2=U91)*(Teams2_Score>Teams1_Score))","v":1},{"$f":"SUMPRODUCT((Teams1=U91)*(Teams1_Score=Teams2_Score)*(Teams1_Score<>\"\"))+SUMPRODUCT((Teams2=U91)*(Teams2_Score=Teams1_Score)*(Teams2_Score<>\"\"))","v":1},{"$f":"SUMPRODUCT((Teams1=U91)*(Teams1_Score<Teams2_Score))+SUMPRODUCT((Teams2=U91)*(Teams2_Score<Teams1_Score))","v":1},{"$f":"SUMPRODUCT((Teams1=U91)*(Teams1_Score))+SUMPRODUCT((Teams2=U91)*(Teams2_Score))","v":4},{"$f":"SUMPRODUCT((Teams1=U91)*(Teams2_Score))+SUMPRODUCT((Teams2=U91)*(Teams1_Score))","v":6},{"$f":"Z91-AA91","v":-2},{"$f":"3*W91+X91","v":4}]
[null,{"$f":"IF(ROWS($1:3)<=COUNTIF($T$27:$T$30,1),INDEX($U$27:$U$30,SMALL(IF($T$27:$T$30=1,ROW(INDIRECT(\"1:\"&ROWS($T$27:$T$30)))),ROWS($1:3))),\"\")","v":""},null,null,null,null,null,null,null,null,null,null,null,null,null,null,"F_3",{"$f":"TEXT(S92,\"00000\")&U92","v":"03840Suède"},{"$f":"AC92*1000+AB92*100+Z92*10","v":3840},{"$f":"RANK(S92,$S90:$S94,0)","v":2},{"$f":"VLOOKUP(Q92,TABLEAU_TEAMS[#All],2,FALSE)","v":"Suède"},{"$f":"SUMPRODUCT((Teams1=U92)*(Teams1_Score<>\"\"))+SUMPRODUCT((Teams2=U92)*(Teams2_Score<>\"\"))","v":3},{"$f":"SUMPRODUCT((Teams1=U92)*(Teams1_Score>Teams2_Score))+SUMPRODUCT((Teams2=U92)*(Teams2_Score>Teams1_Score))","v":1},{"$f":"SUMPRODUCT((Teams1=U92)*(Teams1_Score=Teams2_Score)*(Teams1_Score<>\"\"))+SUMPRODUCT((Teams2=U92)*(Teams2_Score=Teams1_Score)*(Teams2_Score<>\"\"))","v":1},{"$f":"SUMPRODUCT((Teams1=U92)*(Teams1_Score<Teams2_Score))+SUMPRODUCT((Teams2=U92)*(Teams2_Score<Teams1_Score))","v":1},{"$f":"SUMPRODUCT((Teams1=U92)*(Teams1_Score))+SUMPRODUCT((Teams2=U92)*(Teams2_Score))","v":4},{"$f":"SUMPRODUCT((Teams1=U92)*(Teams2_Score))+SUMPRODUCT((Teams2=U92)*(Teams1_Score))","v":6},{"$f":"Z92-AA92","v":-2},{"$f":"3*W92+X92","v":4}]
[null,{"$f":"IF(ROWS($1:4)<=COUNTIF($T$27:$T$30,1),INDEX($U$27:$U$30,SMALL(IF($T$27:$T$30=1,ROW(INDIRECT(\"1:\"&ROWS($T$27:$T$30)))),ROWS($1:4))),\"\")","v":""},null,null,null,null,null,null,null,null,null,null,null,null,null,null,"F_4",{"$f":"TEXT(S93,\"00000\")&U93","v":"-00690République de Corée"},{"$f":"AC93*1000+AB93*100+Z93*10","v":-690},{"$f":"RANK(S93,$S90:$S94,0)","v":4},{"$f":"VLOOKUP(Q93,TABLEAU_TEAMS[#All],2,FALSE)","v":"République de Corée"},{"$f":"SUMPRODUCT((Teams1=U93)*(Teams1_Score<>\"\"))+SUMPRODUCT((Teams2=U93)*(Teams2_Score<>\"\"))","v":3},{"$f":"SUMPRODUCT((Teams1=U93)*(Teams1_Score>Teams2_Score))+SUMPRODUCT((Teams2=U93)*(Teams2_Score>Teams1_Score))","v":0},{"$f":"SUMPRODUCT((Teams1=U93)*(Teams1_Score=Teams2_Score)*(Teams1_Score<>\"\"))+SUMPRODUCT((Teams2=U93)*(Teams2_Score=Teams1_Score)*(Teams2_Score<>\"\"))","v":0},{"$f":"SUMPRODUCT((Teams1=U93)*(Teams1_Score<Teams2_Score))+SUMPRODUCT((Teams2=U93)*(Teams2_Score<Teams1_Score))","v":3},{"$f":"SUMPRODUCT((Teams1=U93)*(Teams1_Score))+SUMPRODUCT((Teams2=U93)*(Teams2_Score))","v":1},{"$f":"SUMPRODUCT((Teams1=U93)*(Teams2_Score))+SUMPRODUCT((Teams2=U93)*(Teams1_Score))","v":8},{"$f":"Z93-AA93","v":-7},{"$f":"3*W93+X93","v":0}]
[null,"Tirage au sort D2"]
[null,{"$f":"IF(COUNTIF($T$27:$T$30,1)>1,IF(ROWS($1:1)<=COUNTIF($T$27:$T$30,1),INDEX($U$27:$U$30,SMALL(IF($T$27:$T$30=1,ROW(INDIRECT(\"1:\"&ROWS($T$27:$T$30)))),ROWS($1:1))),\"\"),IF(COUNTIF($T$27:$T$30,2)>1,IF(ROWS($1:1)<=COUNTIF($T$27:$T$30,2),INDEX($U$27:$U$30,SMALL(IF($T$27:$T$30=2,ROW(INDIRECT(\"1:\"&ROWS($T$27:$T$30)))),ROWS($1:1))),\"\")))","v":false},null,null,null,null,null,null,null,null,null,null,null,null,null,null,null,null,null,"Rg","Groupe G","MJ","G","N","P","BP","BC","Pts","Pts"]
[null,{"$f":"IF(COUNTIF($T$27:$T$30,1)>1,IF(ROWS($1:2)<=COUNTIF($T$27:$T$30,1),INDEX($U$27:$U$30,SMALL(IF($T$27:$T$30=1,ROW(INDIRECT(\"1:\"&ROWS($T$27:$T$30)))),ROWS($1:2))),\"\"),IF(COUNTIF($T$27:$T$30,2)>1,IF(ROWS($1:2)<=COUNTIF($T$27:$T$30,2),INDEX($U$27:$U$30,SMALL(IF($T$27:$T$30=2,ROW(INDIRECT(\"1:\"&ROWS($T$27:$T$30)))),ROWS($1:2))),\"\")))","v":false},null,null,null,null,null,null,null,null,null,null,null,null,null,null,"G_1",{"$f":"TEXT(S96,\"00000\")&U96","v":"07560Belgique"},{"$f":"AC96*1000+AB96*100+Z96*10","v":7560},{"$f":"RANK(S96,$S96:$S100,0)","v":1},{"$f":"VLOOKUP(Q96,TABLEAU_TEAMS[#All],2,FALSE)","v":"Belgique"},{"$f":"SUMPRODUCT((Teams1=U96)*(Teams1_Score<>\"\"))+SUMPRODUCT((Teams2=U96)*(Teams2_Score<>\"\"))","v":3},{"$f":"SUMPRODUCT((Teams1=U96)*(Teams1_Score>Teams2_Score))+SUMPRODUCT((Teams2=U96)*(Teams2_Score>Teams1_Score))","v":2},{"$f":"SUMPRODUCT((Teams1=U96)*(Teams1_Score=Teams2_Score)*(Teams1_Score<>\"\"))+SUMPRODUCT((Teams2=U96)*(Teams2_Score=Teams1_Score)*(Teams2_Score<>\"\"))","v":1},{"$f":"SUMPRODUCT((Teams1=U96)*(Teams1_Score<Teams2_Score))+SUMPRODUCT((Teams2=U96)*(Teams2_Score<Teams1_Score))","v":0},{"$f":"SUMPRODUCT((Teams1=U96)*(Teams1_Score))+SUMPRODUCT((Teams2=U96)*(Teams2_Score))","v":6},{"$f":"SUMPRODUCT((Teams1=U96)*(Teams2_Score))+SUMPRODUCT((Teams2=U96)*(Teams1_Score))","v":1},{"$f":"Z96-AA96","v":5},{"$f":"3*W96+X96","v":7}]
[null,{"$f":"IF(COUNTIF($T$27:$T$30,1)>1,IF(ROWS($1:3)<=COUNTIF($T$27:$T$30,1),INDEX($U$27:$U$30,SMALL(IF($T$27:$T$30=1,ROW(INDIRECT(\"1:\"&ROWS($T$27:$T$30)))),ROWS($1:3))),\"\"),IF(COUNTIF($T$27:$T$30,2)>1,IF(ROWS($1:3)<=COUNTIF($T$27:$T$30,2),INDEX($U$27:$U$30,SMALL(IF($T$27:$T$30=2,ROW(INDIRECT(\"1:\"&ROWS($T$27:$T$30)))),ROWS($1:3))),\"\")))","v":false},null,null,null,null,null,null,null,null,null,null,null,null,null,null,"G_2",{"$f":"TEXT(S97,\"00000\")&U97","v":"-00590Panama"},{"$f":"AC97*1000+AB97*100+Z97*10","v":-590},{"$f":"RANK(S97,$S96:$S100,0)","v":4},{"$f":"VLOOKUP(Q97,TABLEAU_TEAMS[#All],2,FALSE)","v":"Panama"},{"$f":"SUMPRODUCT((Teams1=U97)*(Teams1_Score<>\"\"))+SUMPRODUCT((Teams2=U97)*(Teams2_Score<>\"\"))","v":3},{"$f":"SUMPRODUCT((Teams1=U97)*(Teams1_Score>Teams2_Score))+SUMPRODUCT((Teams2=U97)*(Teams2_Score>Teams1_Score))","v":0},{"$f":"SUMPRODUCT((Teams1=U97)*(Teams1_Score=Teams2_Score)*(Teams1_Score<>\"\"))+SUMPRODUCT((Teams2=U97)*(Teams2_Score=Teams1_Score)*(Teams2_Score<>\"\"))","v":0},{"$f":"SUMPRODUCT((Teams1=U97)*(Teams1_Score<Teams2_Score))+SUMPRODUCT((Teams2=U97)*(Teams2_Score<Teams1_Score))","v":3},{"$f":"SUMPRODUCT((Teams1=U97)*(Teams1_Score))+SUMPRODUCT((Teams2=U97)*(Teams2_Score))","v":1},{"$f":"SUMPRODUCT((Teams1=U97)*(Teams2_Score))+SUMPRODUCT((Teams2=U97)*(Teams1_Score))","v":7},{"$f":"Z97-AA97","v":-6},{"$f":"3*W97+X97","v":0}]
[null,{"$f":"IF(COUNTIF($T$27:$T$30,1)>1,IF(ROWS($1:4)<=COUNTIF($T$27:$T$30,1),INDEX($U$27:$U$30,SMALL(IF($T$27:$T$30=1,ROW(INDIRECT(\"1:\"&ROWS($T$27:$T$30)))),ROWS($1:4))),\"\"),IF(COUNTIF($T$27:$T$30,2)>1,IF(ROWS($1:4)<=COUNTIF($T$27:$T$30,2),INDEX($U$27:$U$30,SMALL(IF($T$27:$T$30=2,ROW(INDIRECT(\"1:\"&ROWS($T$27:$T$30)))),ROWS($1:4))),\"\")))","v":false},null,null,null,null,null,null,null,null,null,null,null,null,null,null,"G_3",{"$f":"TEXT(S98,\"00000\")&U98","v":"02620Tunisie"},{"$f":"AC98*1000+AB98*100+Z98*10","v":2620},{"$f":"RANK(S98,$S96:$S100,0)","v":3},{"$f":"VLOOKUP(Q98,TABLEAU_TEAMS[#All],2,FALSE)","v":"Tunisie"},{"$f":"SUMPRODUCT((Teams1=U98)*(Teams1_Score<>\"\"))+SUMPRODUCT((Teams2=U98)*(Teams2_Score<>\"\"))","v":3},{"$f":"SUMPRODUCT((Teams1=U98)*(Teams1_Score>Teams2_Score))+SUMPRODUCT((Teams2=U98)*(Teams2_Score>Teams1_Score))","v":1},{"$f":"SUMPRODUCT((Teams1=U98)*(Teams1_Score=Teams2_Score)*(Teams1_Score<>\"\"))+SUMPRODUCT((Teams2=U98)*(Teams2_Score=Teams1_Score)*(Teams2_Score<>\"\"))","v":0},{"$f":"SUMPRODUCT((Teams1=U98)*(Teams1_Score<Teams2_Score))+SUMPRODUCT((Teams2=U98)*(Teams2_Score<Teams1_Score))","v":2},{"$f":"SUMPRODUCT((Teams1=U98)*(Teams1_Score))+SUMPRODUCT((Teams2=U98)*(Teams2_Score))","v":2},{"$f":"SUMPRODUCT((Teams1=U98)*(Teams2_Score))+SUMPRODUCT((Teams2=U98)*(Teams1_Score))","v":6},{"$f":"Z98-AA98","v":-4},{"$f":"3*W98+X98","v":3}]
[null,"Tirage au sort E1",null,null,null,null,null,null,null,null,null,null,null,null,null,null,"G_4",{"$f":"TEXT(S99,\"00000\")&U99","v":"07560Angleterre"},{"$f":"AC99*1000+AB99*100+Z99*10","v":7560},{"$f":"RANK(S99,$S96:$S100,0)","v":1},{"$f":"VLOOKUP(Q99,TABLEAU_TEAMS[#All],2,FALSE)","v":"Angleterre"},{"$f":"SUMPRODUCT((Teams1=U99)*(Teams1_Score<>\"\"))+SUMPRODUCT((Teams2=U99)*(Teams2_Score<>\"\"))","v":3},{"$f":"SUMPRODUCT((Teams1=U99)*(Teams1_Score>Teams2_Score))+SUMPRODUCT((Teams2=U99)*(Teams2_Score>Teams1_Score))","v":2},{"$f":"SUMPRODUCT((Teams1=U99)*(Teams1_Score=Teams2_Score)*(Teams1_Score<>\"\"))+SUMPRODUCT((Teams2=U99)*(Teams2_Score=Teams1_Score)*(Teams2_Score<>\"\"))","v":1},{"$f":"SUMPRODUCT((Teams1=U99)*(Teams1_Score<Teams2_Score))+SUMPRODUCT((Teams2=U99)*(Teams2_Score<Teams1_Score))","v":0},{"$f":"SUMPRODUCT((Teams1=U99)*(Teams1_Score))+SUMPRODUCT((Teams2=U99)*(Teams2_Score))","v":6},{"$f":"SUMPRODUCT((Teams1=U99)*(Teams2_Score))+SUMPRODUCT((Teams2=U99)*(Teams1_Score))","v":1},{"$f":"Z99-AA99","v":5},{"$f":"3*W99+X99","v":7}]
[null,{"$f":"IF(ROWS($1:1)<=COUNTIF($T$33:$T$36,1),INDEX($U$33:$U$36,SMALL(IF($T$33:$T$36=1,ROW(INDIRECT(\"1:\"&ROWS($T$33:$T$36)))),ROWS($1:1))),\"\")","v":"Brésil"}]
[null,{"$f":"IF(ROWS($1:2)<=COUNTIF($T$33:$T$36,1),INDEX($U$33:$U$36,SMALL(IF($T$33:$T$36=1,ROW(INDIRECT(\"1:\"&ROWS($T$33:$T$36)))),ROWS($1:2))),\"\")","v":""},null,null,null,null,null,null,null,null,null,null,null,null,null,null,null,null,null,"Rg","Groupe H","MJ","G","N","P","BP","BC","Pts","Pts"]
[null,{"$f":"IF(ROWS($1:3)<=COUNTIF($T$33:$T$36,1),INDEX($U$33:$U$36,SMALL(IF($T$33:$T$36=1,ROW(INDIRECT(\"1:\"&ROWS($T$33:$T$36)))),ROWS($1:3))),\"\")","v":""},null,null,null,null,null,null,null,null,null,null,null,null,null,null,"H_1",{"$f":"TEXT(S102,\"00000\")&U102","v":"07230Colombie"},{"$f":"AC102*1000+AB102*100+Z102*10","v":7230},{"$f":"RANK(S102,$S102:$S106,0)","v":1},{"$f":"VLOOKUP(Q102,TABLEAU_TEAMS[#All],2,FALSE)","v":"Colombie"},{"$f":"SUMPRODUCT((Teams1=U102)*(Teams1_Score<>\"\"))+SUMPRODUCT((Teams2=U102)*(Teams2_Score<>\"\"))","v":3},{"$f":"SUMPRODUCT((Teams1=U102)*(Teams1_Score>Teams2_Score))+SUMPRODUCT((Teams2=U102)*(Teams2_Score>Teams1_Score))","v":2},{"$f":"SUMPRODUCT((Teams1=U102)*(Teams1_Score=Teams2_Score)*(Teams1_Score<>\"\"))+SUMPRODUCT((Teams2=U102)*(Teams2_Score=Teams1_Score)*(Teams2_Score<>\"\"))","v":1},{"$f":"SUMPRODUCT((Teams1=U102)*(Teams1_Score<Teams2_Score))+SUMPRODUCT((Teams2=U102)*(Teams2_Score<Teams1_Score))","v":0},{"$f":"SUMPRODUCT((Teams1=U102)*(Teams1_Score))+SUMPRODUCT((Teams2=U102)*(Teams2_Score))","v":3},{"$f":"SUMPRODUCT((Teams1=U102)*(Teams2_Score))+SUMPRODUCT((Teams2=U102)*(Teams1_Score))","v":1},{"$f":"Z102-AA102","v":2},{"$f":"3*W102+X102","v":7}]
[null,{"$f":"IF(ROWS($1:4)<=COUNTIF($T$33:$T$36,1),INDEX($U$33:$U$36,SMALL(IF($T$33:$T$36=1,ROW(INDIRECT(\"1:\"&ROWS($T$33:$T$36)))),ROWS($1:4))),\"\")","v":""},null,null,null,null,null,null,null,null,null,null,null,null,null,null,"H_2",{"$f":"TEXT(S103,\"00000\")&U103","v":"02910Japon"},{"$f":"AC103*1000+AB103*100+Z103*10","v":2910},{"$f":"RANK(S103,$S102:$S106,0)","v":3},{"$f":"VLOOKUP(Q103,TABLEAU_TEAMS[#All],2,FALSE)","v":"Japon"},{"$f":"SUMPRODUCT((Teams1=U103)*(Teams1_Score<>\"\"))+SUMPRODUCT((Teams2=U103)*(Teams2_Score<>\"\"))","v":3},{"$f":"SUMPRODUCT((Teams1=U103)*(Teams1_Score>Teams2_Score))+SUMPRODUCT((Teams2=U103)*(Teams2_Score>Teams1_Score))","v":1},{"$f":"SUMPRODUCT((Teams1=U103)*(Teams1_Score=Teams2_Score)*(Teams1_Score<>\"\"))+SUMPRODUCT((Teams2=U103)*(Teams2_Score=Teams1_Score)*(Teams2_Score<>\"\"))","v":0},{"$f":"SUMPRODUCT((Teams1=U103)*(Teams1_Score<Teams2_Score))+SUMPRODUCT((Teams2=U103)*(Teams2_Score<Teams1_Score))","v":2},{"$f":"SUMPRODUCT((Teams1=U103)*(Teams1_Score))+SUMPRODUCT((Teams2=U103)*(Teams2_Score))","v":1},{"$f":"SUMPRODUCT((Teams1=U103)*(Teams2_Score))+SUMPRODUCT((Teams2=U103)*(Teams1_Score))","v":2},{"$f":"Z103-AA103","v":-1},{"$f":"3*W103+X103","v":3}]
[null,"Tirage au sort E2",null,null,null,null,null,null,null,null,null,null,null,null,null,null,"H_3",{"$f":"TEXT(S104,\"00000\")&U104","v":"06130Pologne"},{"$f":"AC104*1000+AB104*100+Z104*10","v":6130},{"$f":"RANK(S104,$S102:$S106,0)","v":2},{"$f":"VLOOKUP(Q104,TABLEAU_TEAMS[#All],2,FALSE)","v":"Pologne"},{"$f":"SUMPRODUCT((Teams1=U104)*(Teams1_Score<>\"\"))+SUMPRODUCT((Teams2=U104)*(Teams2_Score<>\"\"))","v":3},{"$f":"SUMPRODUCT((Teams1=U104)*(Teams1_Score>Teams2_Score))+SUMPRODUCT((Teams2=U104)*(Teams2_Score>Teams1_Score))","v":2},{"$f":"SUMPRODUCT((Teams1=U104)*(Teams1_Score=Teams2_Score)*(Teams1_Score<>\"\"))+SUMPRODUCT((Teams2=U104)*(Teams2_Score=Teams1_Score)*(Teams2_Score<>\"\"))","v":0},{"$f":"SUMPRODUCT((Teams1=U104)*(Teams1_Score<Teams2_Score))+SUMPRODUCT((Teams2=U104)*(Teams2_Score<Teams1_Score))","v":1},{"$f":"SUMPRODUCT((Teams1=U104)*(Teams1_Score))+SUMPRODUCT((Teams2=U104)*(Teams2_Score))","v":3},{"$f":"SUMPRODUCT((Teams1=U104)*(Teams2_Score))+SUMPRODUCT((Teams2=U104)*(Teams1_Score))","v":2},{"$f":"Z104-AA104","v":1},{"$f":"3*W104+X104","v":6}]
[null,{"$f":"IF(COUNTIF($T$33:$T$36,1)>1,IF(ROWS($1:1)<=COUNTIF($T$33:$T$36,1),INDEX($U$33:$U$36,SMALL(IF($T$33:$T$36=1,ROW(INDIRECT(\"1:\"&ROWS($T$33:$T$36)))),ROWS($1:1))),\"\"),IF(COUNTIF($T$33:$T$36,2)>1,IF(ROWS($1:1)<=COUNTIF($T$33:$T$36,2),INDEX($U$33:$U$36,SMALL(IF($T$33:$T$36=2,ROW(INDIRECT(\"1:\"&ROWS($T$33:$T$36)))),ROWS($1:1))),\"\")))","v":"Suisse"},null,null,null,null,null,null,null,null,null,null,null,null,null,null,"H_4",{"$f":"TEXT(S105,\"00000\")&U105","v":"00820Sénégal"},{"$f":"AC105*1000+AB105*100+Z105*10","v":820},{"$f":"RANK(S105,$S102:$S106,0)","v":4},{"$f":"VLOOKUP(Q105,TABLEAU_TEAMS[#All],2,FALSE)","v":"Sénégal"},{"$f":"SUMPRODUCT((Teams1=U105)*(Teams1_Score<>\"\"))+SUMPRODUCT((Teams2=U105)*(Teams2_Score<>\"\"))","v":3},{"$f":"SUMPRODUCT((Teams1=U105)*(Teams1_Score>Teams2_Score))+SUMPRODUCT((Teams2=U105)*(Teams2_Score>Teams1_Score))","v":0},{"$f":"SUMPRODUCT((Teams1=U105)*(Teams1_Score=Teams2_Score)*(Teams1_Score<>\"\"))+SUMPRODUCT((Teams2=U105)*(Teams2_Score=Teams1_Score)*(Teams2_Score<>\"\"))","v":1},{"$f":"SUMPRODUCT((Teams1=U105)*(Teams1_Score<Teams2_Score))+SUMPRODUCT((Teams2=U105)*(Teams2_Score<Teams1_Score))","v":2},{"$f":"SUMPRODUCT((Teams1=U105)*(Teams1_Score))+SUMPRODUCT((Teams2=U105)*(Teams2_Score))","v":2},{"$f":"SUMPRODUCT((Teams1=U105)*(Teams2_Score))+SUMPRODUCT((Teams2=U105)*(Teams1_Score))","v":4},{"$f":"Z105-AA105","v":-2},{"$f":"3*W105+X105","v":1}]
[null,{"$f":"IF(COUNTIF($T$33:$T$36,1)>1,IF(ROWS($1:2)<=COUNTIF($T$33:$T$36,1),INDEX($U$33:$U$36,SMALL(IF($T$33:$T$36=1,ROW(INDIRECT(\"1:\"&ROWS($T$33:$T$36)))),ROWS($1:2))),\"\"),IF(COUNTIF($T$33:$T$36,2)>1,IF(ROWS($1:2)<=COUNTIF($T$33:$T$36,2),INDEX($U$33:$U$36,SMALL(IF($T$33:$T$36=2,ROW(INDIRECT(\"1:\"&ROWS($T$33:$T$36)))),ROWS($1:2))),\"\")))","v":"Serbie"}]
[null,{"$f":"IF(COUNTIF($T$33:$T$36,1)>1,IF(ROWS($1:3)<=COUNTIF($T$33:$T$36,1),INDEX($U$33:$U$36,SMALL(IF($T$33:$T$36=1,ROW(INDIRECT(\"1:\"&ROWS($T$33:$T$36)))),ROWS($1:3))),\"\"),IF(COUNTIF($T$33:$T$36,2)>1,IF(ROWS($1:3)<=COUNTIF($T$33:$T$36,2),INDEX($U$33:$U$36,SMALL(IF($T$33:$T$36=2,ROW(INDIRECT(\"1:\"&ROWS($T$33:$T$36)))),ROWS($1:3))),\"\")))","v":"Costa Rica"}]
[null,{"$f":"IF(COUNTIF($T$33:$T$36,1)>1,IF(ROWS($1:4)<=COUNTIF($T$33:$T$36,1),INDEX($U$33:$U$36,SMALL(IF($T$33:$T$36=1,ROW(INDIRECT(\"1:\"&ROWS($T$33:$T$36)))),ROWS($1:4))),\"\"),IF(COUNTIF($T$33:$T$36,2)>1,IF(ROWS($1:4)<=COUNTIF($T$33:$T$36,2),INDEX($U$33:$U$36,SMALL(IF($T$33:$T$36=2,ROW(INDIRECT(\"1:\"&ROWS($T$33:$T$36)))),ROWS($1:4))),\"\")))","v":""}]
[null,"Tirage au sort F1"]
[null,{"$f":"IF(ROWS($1:1)<=COUNTIF($T$39:$T$42,1),INDEX($U$39:$U$42,SMALL(IF($T$39:$T$42=1,ROW(INDIRECT(\"1:\"&ROWS($T$39:$T$42)))),ROWS($1:1))),\"\")","v":"Allemagne"}]
[null,{"$f":"IF(ROWS($1:2)<=COUNTIF($T$39:$T$42,1),INDEX($U$39:$U$42,SMALL(IF($T$39:$T$42=1,ROW(INDIRECT(\"1:\"&ROWS($T$39:$T$42)))),ROWS($1:2))),\"\")","v":""}]
[null,{"$f":"IF(ROWS($1:3)<=COUNTIF($T$39:$T$42,1),INDEX($U$39:$U$42,SMALL(IF($T$39:$T$42=1,ROW(INDIRECT(\"1:\"&ROWS($T$39:$T$42)))),ROWS($1:3))),\"\")","v":""}]
[null,{"$f":"IF(ROWS($1:4)<=COUNTIF($T$39:$T$42,1),INDEX($U$39:$U$42,SMALL(IF($T$39:$T$42=1,ROW(INDIRECT(\"1:\"&ROWS($T$39:$T$42)))),ROWS($1:4))),\"\")","v":""}]
[null,"Tirage au sort F2"]
[null,{"$f":"IF(COUNTIF($T$39:$T$42,1)>1,IF(ROWS($1:1)<=COUNTIF($T$39:$T$42,1),INDEX($U$39:$U$42,SMALL(IF($T$39:$T$42=1,ROW(INDIRECT(\"1:\"&ROWS($T$39:$T$42)))),ROWS($1:1))),\"\"),IF(COUNTIF($T$39:$T$42,2)>1,IF(ROWS($1:1)<=COUNTIF($T$39:$T$42,2),INDEX($U$39:$U$42,SMALL(IF($T$39:$T$42=2,ROW(INDIRECT(\"1:\"&ROWS($T$39:$T$42)))),ROWS($1:1))),\"\")))","v":"Suède"}]
[null,{"$f":"IF(COUNTIF($T$39:$T$42,1)>1,IF(ROWS($1:2)<=COUNTIF($T$39:$T$42,1),INDEX($U$39:$U$42,SMALL(IF($T$39:$T$42=1,ROW(INDIRECT(\"1:\"&ROWS($T$39:$T$42)))),ROWS($1:2))),\"\"),IF(COUNTIF($T$39:$T$42,2)>1,IF(ROWS($1:2)<=COUNTIF($T$39:$T$42,2),INDEX($U$39:$U$42,SMALL(IF($T$39:$T$42=2,ROW(INDIRECT(\"1:\"&ROWS($T$39:$T$42)))),ROWS($1:2))),\"\")))","v":"Mexique"}]
[null,{"$f":"IF(COUNTIF($T$39:$T$42,1)>1,IF(ROWS($1:3)<=COUNTIF($T$39:$T$42,1),INDEX($U$39:$U$42,SMALL(IF($T$39:$T$42=1,ROW(INDIRECT(\"1:\"&ROWS($T$39:$T$42)))),ROWS($1:3))),\"\"),IF(COUNTIF($T$39:$T$42,2)>1,IF(ROWS($1:3)<=COUNTIF($T$39:$T$42,2),INDEX($U$39:$U$42,SMALL(IF($T$39:$T$42=2,ROW(INDIRECT(\"1:\"&ROWS($T$39:$T$42)))),ROWS($1:3))),\"\")))","v":""}]
[null,{"$f":"IF(COUNTIF($T$39:$T$42,1)>1,IF(ROWS($1:4)<=COUNTIF($T$39:$T$42,1),INDEX($U$39:$U$42,SMALL(IF($T$39:$T$42=1,ROW(INDIRECT(\"1:\"&ROWS($T$39:$T$42)))),ROWS($1:4))),\"\"),IF(COUNTIF($T$39:$T$42,2)>1,IF(ROWS($1:4)<=COUNTIF($T$39:$T$42,2),INDEX($U$39:$U$42,SMALL(IF($T$39:$T$42=2,ROW(INDIRECT(\"1:\"&ROWS($T$39:$T$42)))),ROWS($1:4))),\"\")))","v":""}]
[null,"Tirage au sort G1"]
[null,{"$f":"IF(ROWS($1:1)<=COUNTIF($T$45:$T$48,1),INDEX($U$45:$U$48,SMALL(IF($T$45:$T$48=1,ROW(INDIRECT(\"1:\"&ROWS($T$45:$T$48)))),ROWS($1:1))),\"\")","v":"Belgique"}]
[null,{"$f":"IF(ROWS($1:2)<=COUNTIF($T$45:$T$48,1),INDEX($U$45:$U$48,SMALL(IF($T$45:$T$48=1,ROW(INDIRECT(\"1:\"&ROWS($T$45:$T$48)))),ROWS($1:2))),\"\")","v":"Angleterre"}]
[null,{"$f":"IF(ROWS($1:3)<=COUNTIF($T$45:$T$48,1),INDEX($U$45:$U$48,SMALL(IF($T$45:$T$48=1,ROW(INDIRECT(\"1:\"&ROWS($T$45:$T$48)))),ROWS($1:3))),\"\")","v":""}]
[null,{"$f":"IF(ROWS($1:4)<=COUNTIF($T$45:$T$48,1),INDEX($U$45:$U$48,SMALL(IF($T$45:$T$48=1,ROW(INDIRECT(\"1:\"&ROWS($T$45:$T$48)))),ROWS($1:4))),\"\")","v":""}]
[null,"Tirage au sort G2"]
[null,{"$f":"IF(COUNTIF($T$45:$T$48,1)>1,IF(ROWS($1:1)<=COUNTIF($T$45:$T$48,1),INDEX($U$45:$U$48,SMALL(IF($T$45:$T$48=1,ROW(INDIRECT(\"1:\"&ROWS($T$45:$T$48)))),ROWS($1:1))),\"\"),IF(COUNTIF($T$45:$T$48,2)>1,IF(ROWS($1:1)<=COUNTIF($T$45:$T$48,2),INDEX($U$45:$U$48,SMALL(IF($T$45:$T$48=2,ROW(INDIRECT(\"1:\"&ROWS($T$45:$T$48)))),ROWS($1:1))),\"\")))","v":"Belgique"}]
[null,{"$f":"IF(COUNTIF($T$45:$T$48,1)>1,IF(ROWS($1:2)<=COUNTIF($T$45:$T$48,1),INDEX($U$45:$U$48,SMALL(IF($T$45:$T$48=1,ROW(INDIRECT(\"1:\"&ROWS($T$45:$T$48)))),ROWS($1:2))),\"\"),IF(COUNTIF($T$45:$T$48,2)>1,IF(ROWS($1:2)<=COUNTIF($T$45:$T$48,2),INDEX($U$45:$U$48,SMALL(IF($T$45:$T$48=2,ROW(INDIRECT(\"1:\"&ROWS($T$45:$T$48)))),ROWS($1:2))),\"\")))","v":"Angleterre"}]
[null,{"$f":"IF(COUNTIF($T$45:$T$48,1)>1,IF(ROWS($1:3)<=COUNTIF($T$45:$T$48,1),INDEX($U$45:$U$48,SMALL(IF($T$45:$T$48=1,ROW(INDIRECT(\"1:\"&ROWS($T$45:$T$48)))),ROWS($1:3))),\"\"),IF(COUNTIF($T$45:$T$48,2)>1,IF(ROWS($1:3)<=COUNTIF($T$45:$T$48,2),INDEX($U$45:$U$48,SMALL(IF($T$45:$T$48=2,ROW(INDIRECT(\"1:\"&ROWS($T$45:$T$48)))),ROWS($1:3))),\"\")))","v":""}]
[null,{"$f":"IF(COUNTIF($T$45:$T$48,1)>1,IF(ROWS($1:4)<=COUNTIF($T$45:$T$48,1),INDEX($U$45:$U$48,SMALL(IF($T$45:$T$48=1,ROW(INDIRECT(\"1:\"&ROWS($T$45:$T$48)))),ROWS($1:4))),\"\"),IF(COUNTIF($T$45:$T$48,2)>1,IF(ROWS($1:4)<=COUNTIF($T$45:$T$48,2),INDEX($U$45:$U$48,SMALL(IF($T$45:$T$48=2,ROW(INDIRECT(\"1:\"&ROWS($T$45:$T$48)))),ROWS($1:4))),\"\")))","v":""}]
[null,"Tirage au sort H1"]
[null,{"$f":"IF(ROWS($1:1)<=COUNTIF($T$51:$T$54,1),INDEX($U$51:$U$54,SMALL(IF($T$51:$T$54=1,ROW(INDIRECT(\"1:\"&ROWS($T$51:$T$54)))),ROWS($1:1))),\"\")","v":"Colombie"}]
[null,{"$f":"IF(ROWS($1:2)<=COUNTIF($T$51:$T$54,1),INDEX($U$51:$U$54,SMALL(IF($T$51:$T$54=1,ROW(INDIRECT(\"1:\"&ROWS($T$51:$T$54)))),ROWS($1:2))),\"\")","v":""}]
[null,{"$f":"IF(ROWS($1:3)<=COUNTIF($T$51:$T$54,1),INDEX($U$51:$U$54,SMALL(IF($T$51:$T$54=1,ROW(INDIRECT(\"1:\"&ROWS($T$51:$T$54)))),ROWS($1:3))),\"\")","v":""}]
[null,{"$f":"IF(ROWS($1:4)<=COUNTIF($T$51:$T$54,1),INDEX($U$51:$U$54,SMALL(IF($T$51:$T$54=1,ROW(INDIRECT(\"1:\"&ROWS($T$51:$T$54)))),ROWS($1:4))),\"\")","v":""}]
[null,"Tirage au sort H2"]
[null,{"$f":"IF(COUNTIF($T$51:$T$54,1)>1,IF(ROWS($1:1)<=COUNTIF($T$51:$T$54,1),INDEX($U$51:$U$54,SMALL(IF($T$51:$T$54=1,ROW(INDIRECT(\"1:\"&ROWS($T$51:$T$54)))),ROWS($1:1))),\"\"),IF(COUNTIF($T$51:$T$54,2)>1,IF(ROWS($1:1)<=COUNTIF($T$51:$T$54,2),INDEX($U$51:$U$54,SMALL(IF($T$51:$T$54=2,ROW(INDIRECT(\"1:\"&ROWS($T$51:$T$54)))),ROWS($1:1))),\"\")))","v":false}]
[null,{"$f":"IF(COUNTIF($T$51:$T$54,1)>1,IF(ROWS($1:2)<=COUNTIF($T$51:$T$54,1),INDEX($U$51:$U$54,SMALL(IF($T$51:$T$54=1,ROW(INDIRECT(\"1:\"&ROWS($T$51:$T$54)))),ROWS($1:2))),\"\"),IF(COUNTIF($T$51:$T$54,2)>1,IF(ROWS($1:2)<=COUNTIF($T$51:$T$54,2),INDEX($U$51:$U$54,SMALL(IF($T$51:$T$54=2,ROW(INDIRECT(\"1:\"&ROWS($T$51:$T$54)))),ROWS($1:2))),\"\")))","v":false}]
[null,{"$f":"IF(COUNTIF($T$51:$T$54,1)>1,IF(ROWS($1:3)<=COUNTIF($T$51:$T$54,1),INDEX($U$51:$U$54,SMALL(IF($T$51:$T$54=1,ROW(INDIRECT(\"1:\"&ROWS($T$51:$T$54)))),ROWS($1:3))),\"\"),IF(COUNTIF($T$51:$T$54,2)>1,IF(ROWS($1:3)<=COUNTIF($T$51:$T$54,2),INDEX($U$51:$U$54,SMALL(IF($T$51:$T$54=2,ROW(INDIRECT(\"1:\"&ROWS($T$51:$T$54)))),ROWS($1:3))),\"\")))","v":false}]
[null,{"$f":"IF(COUNTIF($T$51:$T$54,1)>1,IF(ROWS($1:4)<=COUNTIF($T$51:$T$54,1),INDEX($U$51:$U$54,SMALL(IF($T$51:$T$54=1,ROW(INDIRECT(\"1:\"&ROWS($T$51:$T$54)))),ROWS($1:4))),\"\"),IF(COUNTIF($T$51:$T$54,2)>1,IF(ROWS($1:4)<=COUNTIF($T$51:$T$54,2),INDEX($U$51:$U$54,SMALL(IF($T$51:$T$54=2,ROW(INDIRECT(\"1:\"&ROWS($T$51:$T$54)))),ROWS($1:4))),\"\")))","v":false}]

{"sheet":"Alexis","index":7,"n_rows":138,"n_cols":46,"rows_kept":138,"cut":false,"hidden":false,"merged":[[2,1,2,8],[3,1,3,8],[3,9,3,12]]}
[]
[null,"Pronostics de :"]
[]
[null,{"$f":"MID(CELL(\"filename\",A1),FIND(\"]\",CELL(\"filename\",A1))+1,32)","v":"Alexis"}]
[]
[null,"SAISIE DES PRONOSTICS",null,null,null,null,null,null,null,null,null,null,null,null,null,null,null,null,null,"GROUPES",null,null,null,null,null,null,null,null,null,null,null,null,"SCORE PRONOSTIQUEUR",null,null,null,null,null,null,null,null,{"$f":"AN8+AN12","v":2}]
[null,"Date","Heure","Match","Groupe",1,"N",2,null,"Buts",null,null,"Buts"]
[null,{"$f":"VLOOKUP($D8,TABLEAU_MATCHS[#All],2,FALSE)","v":"2018-06-14"},{"$f":"VLOOKUP($D8,TABLEAU_MATCHS[#All],3,FALSE)","v":"17:00:00"},1,{"$f":"\"Groupe \"&VLOOKUP($I8,TABLEAU_TEAMS[[#All],[TEAM]:[GROUP_INITIAL_RANK]],2,FALSE)","v":"Groupe A"},1.3,4.3,10,{"$f":"VLOOKUP($D8,TABLEAU_MATCHS[#All],4,FALSE)","v":"Russie"},2,null,{"$f":"VLOOKUP($D8,TABLEAU_MATCHS[#All],5,FALSE)","v":"Arabie Saoudite"},1,{"$f":"IF(OR(ISBLANK(RESULTATS!J8),ISBLANK(J8)),\"\",IF(AND(Alexis!J8=RESULTATS!J8,Alexis!M8=RESULTATS!M8),3,IF(OR(AND(Alexis!J8>Alexis!M8,RESULTATS!J8>RESULTATS!M8),AND(Alexis!J8<Alexis!M8,RESULTATS!J8<RESULTATS!M8),AND(Alexis!J8=Alexis!M8,RESULTATS!J8=RESULTATS!M8)),1,0)))","v":1},null,null,null,null,null,"Rg","Groupe A","MJ","G","N","P","BP","BC","+/-","Pts",null,null,null,"Phases de groupes",null,null,null,null,null,null,{"$f":"N56","v":2},null,"points"]
[null,{"$f":"VLOOKUP($D9,TABLEAU_MATCHS[#All],2,FALSE)","v":"2018-06-15"},{"$f":"VLOOKUP($D9,TABLEAU_MATCHS[#All],3,FALSE)","v":"14:00:00"},2,{"$f":"\"Groupe \"&VLOOKUP($I9,TABLEAU_TEAMS[[#All],[TEAM]:[GROUP_INITIAL_RANK]],2,FALSE)","v":"Groupe A"},2.2000000000000002,2.9,3.25,{"$f":"VLOOKUP($D9,TABLEAU_MATCHS[#All],4,FALSE)","v":"Egypte"},0,null,{"$f":"VLOOKUP($D9,TABLEAU_MATCHS[#All],5,FALSE)","v":"Uruguay"},0,{"$f":"IF(OR(ISBLANK(RESULTATS!J9),ISBLANK(J9)),\"\",IF(AND(Alexis!J9=RESULTATS!J9,Alexis!M9=RESULTATS!M9),3,IF(OR(AND(Alexis!J9>Alexis!M9,RESULTATS!J9>RESULTATS!M9),AND(Alexis!J9<Alexis!M9,RESULTATS!J9<RESULTATS!M9),AND(Alexis!J9=Alexis!M9,RESULTATS!J9=RESULTATS!M9)),1,0)))","v":0},null,null,null,{"$f":"INDEX($R60:$R63,MATCH(SMALL(COUNTIF($R60:$R63,\">=\"&$R60:$R63),ROW(INDIRECT(\"1:\"&ROWS($R60:$R63)))),COUNTIF($R60:$R63,\">=\"&$R60:$R63),0))","v":"05440Egypte"},{"$f":"INDEX($S60:$S63,MATCH(SMALL(COUNTIF($R60:$R63,\">=\"&$R60:$R63),ROW(INDIRECT(\"1:\"&ROWS($R60:$R63)))),COUNTIF($R60:$R63,\">=\"&$R60:$R63),0))","v":5440},{"$f":"INDEX($T60:$T63,MATCH(SMALL(COUNTIF($R60:$R63,\">=\"&$R60:$R63),ROW(INDIRECT(\"1:\"&ROWS($R60:$R63)))),COUNTIF($R60:$R63,\">=\"&$R60:$R63),0))","v":1},{"$f":"INDEX($U60:$U63,MATCH(SMALL(COUNTIF($R60:$R63,\">=\"&$R60:$R63),ROW(INDIRECT(\"1:\"&ROWS($R60:$R63)))),COUNTIF($R60:$R63,\">=\"&$R60:$R63),0))","v":"Egypte"},{"$f":"SUMPRODUCT((Teams1=U9)*(Teams1_Score<>\"\"))+SUMPRODUCT((Teams2=U9)*(Teams2_Score<>\"\"))","v":3},{"$f":"SUMPRODUCT((Teams1=U9)*(Teams1_Score>Teams2_Score))+SUMPRODUCT((Teams2=U9)*(Teams2_Score>Teams1_Score))","v":1},{"$f":"SUMPRODUCT((Teams1=U9)*(Teams1_Score=Teams2_Score)*(Teams1_Score<>\"\"))+SUMPRODUCT((Teams2=U9)*(Teams2_Score=Teams1_Score)*(Teams2_Score<>\"\"))","v":2},{"$f":"SUMPRODUCT((Teams1=U9)*(Teams1_Score<Teams2_Score))+SUMPRODUCT((Teams2=U9)*(Teams2_Score<Teams1_Score))","v":0},{"$f":"SUMPRODUCT((Teams1=U9)*(Teams1_Score))+SUMPRODUCT((Teams2=U9)*(Teams2_Score))","v":4},{"$f":"SUMPRODUCT((Teams1=U9)*(Teams2_Score))+SUMPRODUCT((Teams2=U9)*(Teams1_Score))","v":0},{"$f":"Z9-AA9","v":4},{"$f":"3*W9+X9","v":5},null,null,null,"Vainqueur ou nul trouvé (1 pt)",null,null,{"$f":"COUNTIF($N$8:$N$55,1)+COUNTIF($N$8:$N$55,3)","v":2},"matchs",null,null,{"$f":"AJ9","v":2},null,"points"]
[null,{"$f":"VLOOKUP($D10,TABLEAU_MATCHS[#All],2,FALSE)","v":"2018-06-15"},{"$f":"VLOOKUP($D10,TABLEAU_MATCHS[#All],3,FALSE)","v":"17:00:00"},3,{"$f":"\"Groupe \"&VLOOKUP($I10,TABLEAU_TEAMS[[#All],[TEAM]:[GROUP_INITIAL_RANK]],2,FALSE)","v":"Groupe B"},1.8,3.05,4.5,{"$f":"VLOOKUP($D10,TABLEAU_MATCHS[#All],4,FALSE)","v":"Maroc"},1,null,{"$f":"VLOOKUP($D10,TABLEAU_MATCHS[#All],5,FALSE)","v":"RI Iran"},1,{"$f":"IF(OR(ISBLANK(RESULTATS!J10),ISBLANK(J10)),\"\",IF(AND(Alexis!J10=RESULTATS!J10,Alexis!M10=RESULTATS!M10),3,IF(OR(AND(Alexis!J10>Alexis!M10,RESULTATS!J10>RESULTATS!M10),AND(Alexis!J10<Alexis!M10,RESULTATS!J10<RESULTATS!M10),AND(Alexis!J10=Alexis!M10,RESULTATS!J10=RESULTATS!M10)),1,0)))","v":0},null,null,null,"05230Uruguay",5230,2,"Uruguay",{"$f":"SUMPRODUCT((Teams1=U10)*(Teams1_Score<>\"\"))+SUMPRODUCT((Teams2=U10)*(Teams2_Score<>\"\"))","v":3},{"$f":"SUMPRODUCT((Teams1=U10)*(Teams1_Score>Teams2_Score))+SUMPRODUCT((Teams2=U10)*(Teams2_Score>Teams1_Score))","v":1},{"$f":"SUMPRODUCT((Teams1=U10)*(Teams1_Score=Teams2_Score)*(Teams1_Score<>\"\"))+SUMPRODUCT((Teams2=U10)*(Teams2_Score=Teams1_Score)*(Teams2_Score<>\"\"))","v":2},{"$f":"SUMPRODUCT((Teams1=U10)*(Teams1_Score<Teams2_Score))+SUMPRODUCT((Teams2=U10)*(Teams2_Score<Teams1_Score))","v":0},{"$f":"SUMPRODUCT((Teams1=U10)*(Teams1_Score))+SUMPRODUCT((Teams2=U10)*(Teams2_Score))","v":3},{"$f":"SUMPRODUCT((Teams1=U10)*(Teams2_Score))+SUMPRODUCT((Teams2=U10)*(Teams1_Score))","v":1},{"$f":"Z10-AA10","v":2},{"$f":"3*W10+X10","v":5},null,null,null,"Bonus score exact (2 pts)",null,null,{"$f":"+COUNTIF($N$8:$N$55,3)","v":0},"matchs",null,null,{"$f":"AJ10*2","v":0},null,"points"]
[null,{"$f":"VLOOKUP($D11,TABLEAU_MATCHS[#All],2,FALSE)","v":"2018-06-15"},{"$f":"VLOOKUP($D11,TABLEAU_MATCHS[#All],3,FALSE)","v":"20:00:00"},4,{"$f":"\"Groupe \"&VLOOKUP($I11,TABLEAU_TEAMS[[#All],[TEAM]:[GROUP_INITIAL_RANK]],2,FALSE)","v":"Groupe B"},1.42,3.9,7,{"$f":"VLOOKUP($D11,TABLEAU_MATCHS[#All],4,FALSE)","v":"Portugal"},2,null,{"$f":"VLOOKUP($D11,TABLEAU_MATCHS[#All],5,FALSE)","v":"Espagne"},2,{"$f":"IF(OR(ISBLANK(RESULTATS!J11),ISBLANK(J11)),\"\",IF(AND(Alexis!J11=RESULTATS!J11,Alexis!M11=RESULTATS!M11),3,IF(OR(AND(Alexis!J11>Alexis!M11,RESULTATS!J11>RESULTATS!M11),AND(Alexis!J11<Alexis!M11,RESULTATS!J11<RESULTATS!M11),AND(Alexis!J11=Alexis!M11,RESULTATS!J11=RESULTATS!M11)),1,0)))","v":1},null,null,null,"05130Russie",5130,3,"Russie",{"$f":"SUMPRODUCT((Teams1=U11)*(Teams1_Score<>\"\"))+SUMPRODUCT((Teams2=U11)*(Teams2_Score<>\"\"))","v":3},{"$f":"SUMPRODUCT((Teams1=U11)*(Teams1_Score>Teams2_Score))+SUMPRODUCT((Teams2=U11)*(Teams2_Score>Teams1_Score))","v":1},{"$f":"SUMPRODUCT((Teams1=U11)*(Teams1_Score=Teams2_Score)*(Teams1_Score<>\"\"))+SUMPRODUCT((Teams2=U11)*(Teams2_Score=Teams1_Score)*(Teams2_Score<>\"\"))","v":2},{"$f":"SUMPRODUCT((Teams1=U11)*(Teams1_Score<Teams2_Score))+SUMPRODUCT((Teams2=U11)*(Teams2_Score<Teams1_Score))","v":0},{"$f":"SUMPRODUCT((Teams1=U11)*(Teams1_Score))+SUMPRODUCT((Teams2=U11)*(Teams2_Score))","v":3},{"$f":"SUMPRODUCT((Teams1=U11)*(Teams2_Score))+SUMPRODUCT((Teams2=U11)*(Teams1_Score))","v":2},{"$f":"Z11-AA11","v":1},{"$f":"3*W11+X11","v":5}]
[null,{"$f":"VLOOKUP($D12,TABLEAU_MATCHS[#All],2,FALSE)","v":"2018-06-16"},{"$f":"VLOOKUP($D12,TABLEAU_MATCHS[#All],3,FALSE)","v":"12:00:00"},5,{"$f":"\"Groupe \"&VLOOKUP($I12,TABLEAU_TEAMS[[#All],[TEAM]:[GROUP_INITIAL_RANK]],2,FALSE)","v":"Groupe C"},1.7,3.1,5,{"$f":"VLOOKUP($D12,TABLEAU_MATCHS[#All],4,FALSE)","v":"France"},1,null,{"$f":"VLOOKUP($D12,TABLEAU_MATCHS[#All],5,FALSE)","v":"Australie"},1,{"$f":"IF(OR(ISBLANK(RESULTATS!J12),ISBLANK(J12)),\"\",IF(AND(Alexis!J12=RESULTATS!J12,Alexis!M12=RESULTATS!M12),3,IF(OR(AND(Alexis!J12>Alexis!M12,RESULTATS!J12>RESULTATS!M12),AND(Alexis!J12<Alexis!M12,RESULTATS!J12<RESULTATS!M12),AND(Alexis!J12=Alexis!M12,RESULTATS!J12=RESULTATS!M12)),1,0)))","v":""},null,null,null,"-00690Arabie Saoudite",-690,4,"Arabie Saoudite",{"$f":"SUMPRODUCT((Teams1=U12)*(Teams1_Score<>\"\"))+SUMPRODUCT((Teams2=U12)*(Teams2_Score<>\"\"))","v":3},{"$f":"SUMPRODUCT((Teams1=U12)*(Teams1_Score>Teams2_Score))+SUMPRODUCT((Teams2=U12)*(Teams2_Score>Teams1_Score))","v":0},{"$f":"SUMPRODUCT((Teams1=U12)*(Teams1_Score=Teams2_Score)*(Teams1_Score<>\"\"))+SUMPRODUCT((Teams2=U12)*(Teams2_Score=Teams1_Score)*(Teams2_Score<>\"\"))","v":0},{"$f":"SUMPRODUCT((Teams1=U12)*(Teams1_Score<Teams2_Score))+SUMPRODUCT((Teams2=U12)*(Teams2_Score<Teams1_Score))","v":3},{"$f":"SUMPRODUCT((Teams1=U12)*(Teams1_Score))+SUMPRODUCT((Teams2=U12)*(Teams2_Score))","v":1},{"$f":"SUMPRODUCT((Teams1=U12)*(Teams2_Score))+SUMPRODUCT((Teams2=U12)*(Teams1_Score))","v":8},{"$f":"Z12-AA12","v":-7},{"$f":"3*W12+X12","v":0},null,null,null,"Phases finales",null,null,null,null,null,null,{"$f":"SUM(AN13:AN17)","v":0},null,"points"]
[null,{"$f":"VLOOKUP($D13,TABLEAU_MATCHS[#All],2,FALSE)","v":"2018-06-16"},{"$f":"VLOOKUP($D13,TABLEAU_MATCHS[#All],3,FALSE)","v":"18:00:00"},6,{"$f":"\"Groupe \"&VLOOKUP($I13,TABLEAU_TEAMS[[#All],[TEAM]:[GROUP_INITIAL_RANK]],2,FALSE)","v":"Groupe C"},2.5499999999999998,2.9,2.7,{"$f":"VLOOKUP($D13,TABLEAU_MATCHS[#All],4,FALSE)","v":"Pérou"},1,null,{"$f":"VLOOKUP($D13,TABLEAU_MATCHS[#All],5,FALSE)","v":"Danemark"},2,{"$f":"IF(OR(ISBLANK(RESULTATS!J13),ISBLANK(J13)),\"\",IF(AND(Alexis!J13=RESULTATS!J13,Alexis!M13=RESULTATS!M13),3,IF(OR(AND(Alexis!J13>Alexis!M13,RESULTATS!J13>RESULTATS!M13),AND(Alexis!J13<Alexis!M13,RESULTATS!J13<RESULTATS!M13),AND(Alexis!J13=Alexis!M13,RESULTATS!J13=RESULTATS!M13)),1,0)))","v":""},null,null,null,null,null,null,null,null,null,null,null,null,null,null,null,null,null,null,"Huitièmes de finaliste trouvés (2 pts)",null,null,{"$f":"IF(CLASSEMENT!PHASES_FINALES=\"OUI\",$AK$53+$AQ$53,0)","v":0},"équipe(s) ",null,null,{"$f":"AJ13*2","v":0},null,"points"]
[null,{"$f":"VLOOKUP($D14,TABLEAU_MATCHS[#All],2,FALSE)","v":"2018-06-16"},{"$f":"VLOOKUP($D14,TABLEAU_MATCHS[#All],3,FALSE)","v":"15:00:00"},7,{"$f":"\"Groupe \"&VLOOKUP($I14,TABLEAU_TEAMS[[#All],[TEAM]:[GROUP_INITIAL_RANK]],2,FALSE)","v":"Groupe D"},1.4,4,7.25,{"$f":"VLOOKUP($D14,TABLEAU_MATCHS[#All],4,FALSE)","v":"Argentine"},3,null,{"$f":"VLOOKUP($D14,TABLEAU_MATCHS[#All],5,FALSE)","v":"Islande"},1,{"$f":"IF(OR(ISBLANK(RESULTATS!J14),ISBLANK(J14)),\"\",IF(AND(Alexis!J14=RESULTATS!J14,Alexis!M14=RESULTATS!M14),3,IF(OR(AND(Alexis!J14>Alexis!M14,RESULTATS!J14>RESULTATS!M14),AND(Alexis!J14<Alexis!M14,RESULTATS!J14<RESULTATS!M14),AND(Alexis!J14=Alexis!M14,RESULTATS!J14=RESULTATS!M14)),1,0)))","v":""},null,null,null,null,null,"Rg","Groupe B","MJ","G","N","P","BP","BC","+/-","Pts",null,null,null,"Quarts de finalistes trouvés (4 pts)",null,null,{"$f":"IF(CLASSEMENT!PHASES_FINALES=\"OUI\",$AK$42+$AQ$42,0)","v":0},"équipe(s) ",null,null,{"$f":"AJ14*4","v":0},null,"points"]
[null,{"$f":"VLOOKUP($D15,TABLEAU_MATCHS[#All],2,FALSE)","v":"2018-06-16"},{"$f":"VLOOKUP($D15,TABLEAU_MATCHS[#All],3,FALSE)","v":"21:00:00"},8,{"$f":"\"Groupe \"&VLOOKUP($I15,TABLEAU_TEAMS[[#All],[TEAM]:[GROUP_INITIAL_RANK]],2,FALSE)","v":"Groupe D"},2.95,2.7,2.5499999999999998,{"$f":"VLOOKUP($D15,TABLEAU_MATCHS[#All],4,FALSE)","v":"Croatie"},2,null,{"$f":"VLOOKUP($D15,TABLEAU_MATCHS[#All],5,FALSE)","v":"Nigeria"},0,{"$f":"IF(OR(ISBLANK(RESULTATS!J15),ISBLANK(J15)),\"\",IF(AND(Alexis!J15=RESULTATS!J15,Alexis!M15=RESULTATS!M15),3,IF(OR(AND(Alexis!J15>Alexis!M15,RESULTATS!J15>RESULTATS!M15),AND(Alexis!J15<Alexis!M15,RESULTATS!J15<RESULTATS!M15),AND(Alexis!J15=Alexis!M15,RESULTATS!J15=RESULTATS!M15)),1,0)))","v":""},null,null,null,{"$f":"INDEX($R66:$R69,MATCH(SMALL(COUNTIF($R66:$R69,\">=\"&$R66:$R69),ROW(INDIRECT(\"1:\"&ROWS($R66:$R69)))),COUNTIF($R66:$R69,\">=\"&$R66:$R69),0))","v":"07570Espagne"},{"$f":"INDEX($S66:$S69,MATCH(SMALL(COUNTIF($R66:$R69,\">=\"&$R66:$R69),ROW(INDIRECT(\"1:\"&ROWS($R66:$R69)))),COUNTIF($R66:$R69,\">=\"&$R66:$R69),0))","v":7570},{"$f":"INDEX($T66:$T69,MATCH(SMALL(COUNTIF($R66:$R69,\">=\"&$R66:$R69),ROW(INDIRECT(\"1:\"&ROWS($R66:$R69)))),COUNTIF($R66:$R69,\">=\"&$R66:$R69),0))","v":1},{"$f":"INDEX($U66:$U69,MATCH(SMALL(COUNTIF($R66:$R69,\">=\"&$R66:$R69),ROW(INDIRECT(\"1:\"&ROWS($R66:$R69)))),COUNTIF($R66:$R69,\">=\"&$R66:$R69),0))","v":"Espagne"},{"$f":"SUMPRODUCT((Teams1=U15)*(Teams1_Score<>\"\"))+SUMPRODUCT((Teams2=U15)*(Teams2_Score<>\"\"))","v":3},{"$f":"SUMPRODUCT((Teams1=U15)*(Teams1_Score>Teams2_Score))+SUMPRODUCT((Teams2=U15)*(Teams2_Score>Teams1_Score))","v":2},{"$f":"SUMPRODUCT((Teams1=U15)*(Teams1_Score=Teams2_Score)*(Teams1_Score<>\"\"))+SUMPRODUCT((Teams2=U15)*(Teams2_Score=Teams1_Score)*(Teams2_Score<>\"\"))","v":1},{"$f":"SUMPRODUCT((Teams1=U15)*(Teams1_Score<Teams2_Score))+SUMPRODUCT((Teams2=U15)*(Teams2_Score<Teams1_Score))","v":0},{"$f":"SUMPRODUCT((Teams1=U15)*(Teams1_Score))+SUMPRODUCT((Teams2=U15)*(Teams2_Score))","v":7},{"$f":"SUMPRODUCT((Teams1=U15)*(Teams2_Score))+SUMPRODUCT((Teams2=U15)*(Teams1_Score))","v":2},{"$f":"Z15-AA15","v":5},{"$f":"3*W15+X15","v":7},null,null,null,"Demi finalistes trouvés (5 pts)",null,null,{"$f":"IF(CLASSEMENT!PHASES_FINALES=\"OUI\",$AK$35+$AQ$35,0)","v":0},"équipe(s) ",null,null,{"$f":"AJ15*5","v":0},null,"points"]
[null,{"$f":"VLOOKUP($D16,TABLEAU_MATCHS[#All],2,FALSE)","v":"2018-06-17"},{"$f":"VLOOKUP($D16,TABLEAU_MATCHS[#All],3,FALSE)","v":"14:00:00"},9,{"$f":"\"Groupe \"&VLOOKUP($I16,TABLEAU_TEAMS[[#All],[TEAM]:[GROUP_INITIAL_RANK]],2,FALSE)","v":"Groupe E"},2.35,2.9,2.95,{"$f":"VLOOKUP($D16,TABLEAU_MATCHS[#All],4,FALSE)","v":"Costa Rica"},0,null,{"$f":"VLOOKUP($D16,TABLEAU_MATCHS[#All],5,FALSE)","v":"Serbie"},1,{"$f":"IF(OR(ISBLANK(RESULTATS!J16),ISBLANK(J16)),\"\",IF(AND(Alexis!J16=RESULTATS!J16,Alexis!M16=RESULTATS!M16),3,IF(OR(AND(Alexis!J16>Alexis!M16,RESULTATS!J16>RESULTATS!M16),AND(Alexis!J16<Alexis!M16,RESULTATS!J16<RESULTATS!M16),AND(Alexis!J16=Alexis!M16,RESULTATS!J16=RESULTATS!M16)),1,0)))","v":""},null,null,null,"05280Portugal",5280,2,"Portugal",{"$f":"SUMPRODUCT((Teams1=U16)*(Teams1_Score<>\"\"))+SUMPRODUCT((Teams2=U16)*(Teams2_Score<>\"\"))","v":3},{"$f":"SUMPRODUCT((Teams1=U16)*(Teams1_Score>Teams2_Score))+SUMPRODUCT((Teams2=U16)*(Teams2_Score>Teams1_Score))","v":1},{"$f":"SUMPRODUCT((Teams1=U16)*(Teams1_Score=Teams2_Score)*(Teams1_Score<>\"\"))+SUMPRODUCT((Teams2=U16)*(Teams2_Score=Teams1_Score)*(Teams2_Score<>\"\"))","v":2},{"$f":"SUMPRODUCT((Teams1=U16)*(Teams1_Score<Teams2_Score))+SUMPRODUCT((Teams2=U16)*(Teams2_Score<Teams1_Score))","v":0},{"$f":"SUMPRODUCT((Teams1=U16)*(Teams1_Score))+SUMPRODUCT((Teams2=U16)*(Teams2_Score))","v":8},{"$f":"SUMPRODUCT((Teams1=U16)*(Teams2_Score))+SUMPRODUCT((Teams2=U16)*(Teams1_Score))","v":6},{"$f":"Z16-AA16","v":2},{"$f":"3*W16+X16","v":5},null,null,null,"Finalistes trouvés (6 pts)",null,null,{"$f":"IF(CLASSEMENT!PHASES_FINALES=\"OUI\",$AK$25+$AQ$25,0)","v":0},"équipe(s) ",null,null,{"$f":"AJ16*6","v":0},null,"points"]
[null,{"$f":"VLOOKUP($D17,TABLEAU_MATCHS[#All],2,FALSE)","v":"2018-06-17"},{"$f":"VLOOKUP($D17,TABLEAU_MATCHS[#All],3,FALSE)","v":"20:00:00"},10,{"$f":"\"Groupe \"&VLOOKUP($I17,TABLEAU_TEAMS[[#All],[TEAM]:[GROUP_INITIAL_RANK]],2,FALSE)","v":"Groupe E"},1.28,4.7,9.5,{"$f":"VLOOKUP($D17,TABLEAU_MATCHS[#All],4,FALSE)","v":"Brésil"},0,null,{"$f":"VLOOKUP($D17,TABLEAU_MATCHS[#All],5,FALSE)","v":"Suisse"},1,{"$f":"IF(OR(ISBLANK(RESULTATS!J17),ISBLANK(J17)),\"\",IF(AND(Alexis!J17=RESULTATS!J17,Alexis!M17=RESULTATS!M17),3,IF(OR(AND(Alexis!J17>Alexis!M17,RESULTATS!J17>RESULTATS!M17),AND(Alexis!J17<Alexis!M17,RESULTATS!J17<RESULTATS!M17),AND(Alexis!J17=Alexis!M17,RESULTATS!J17=RESULTATS!M17)),1,0)))","v":""},null,null,null,"01730RI Iran",1730,3,"RI Iran",{"$f":"SUMPRODUCT((Teams1=U17)*(Teams1_Score<>\"\"))+SUMPRODUCT((Teams2=U17)*(Teams2_Score<>\"\"))","v":3},{"$f":"SUMPRODUCT((Teams1=U17)*(Teams1_Score>Teams2_Score))+SUMPRODUCT((Teams2=U17)*(Teams2_Score>Teams1_Score))","v":0},{"$f":"SUMPRODUCT((Teams1=U17)*(Teams1_Score=Teams2_Score)*(Teams1_Score<>\"\"))+SUMPRODUCT((Teams2=U17)*(Teams2_Score=Teams1_Score)*(Teams2_Score<>\"\"))","v":2},{"$f":"SUMPRODUCT((Teams1=U17)*(Teams1_Score<Teams2_Score))+SUMPRODUCT((Teams2=U17)*(Teams2_Score<Teams1_Score))","v":1},{"$f":"SUMPRODUCT((Teams1=U17)*(Teams1_Score))+SUMPRODUCT((Teams2=U17)*(Teams2_Score))","v":3},{"$f":"SUMPRODUCT((Teams1=U17)*(Teams2_Score))+SUMPRODUCT((Teams2=U17)*(Teams1_Score))","v":6},{"$f":"Z17-AA17","v":-3},{"$f":"3*W17+X17","v":2},null,null,null,"Champion du monde trouvé (7 pts)",null,null,{"$f":"IF(CLASSEMENT!PHASES_FINALES=\"OUI\",IF(AJ25<>\"\",IF($AT$25=RESULTATS!AS10,1,0),0),0)","v":0},"équipe",null,null,{"$f":"AJ17*7","v":0},null,"points"]
[null,{"$f":"VLOOKUP($D18,TABLEAU_MATCHS[#All],2,FALSE)","v":"2018-06-17"},{"$f":"VLOOKUP($D18,TABLEAU_MATCHS[#All],3,FALSE)","v":"17:00:00"},11,{"$f":"\"Groupe \"&VLOOKUP($I18,TABLEAU_TEAMS[[#All],[TEAM]:[GROUP_INITIAL_RANK]],2,FALSE)","v":"Groupe F"},1.34,4.3,7.5,{"$f":"VLOOKUP($D18,TABLEAU_MATCHS[#All],4,FALSE)","v":"Allemagne"},1,null,{"$f":"VLOOKUP($D18,TABLEAU_MATCHS[#All],5,FALSE)","v":"Mexique"},0,{"$f":"IF(OR(ISBLANK(RESULTATS!J18),ISBLANK(J18)),\"\",IF(AND(Alexis!J18=RESULTATS!J18,Alexis!M18=RESULTATS!M18),3,IF(OR(AND(Alexis!J18>Alexis!M18,RESULTATS!J18>RESULTATS!M18),AND(Alexis!J18<Alexis!M18,RESULTATS!J18<RESULTATS!M18),AND(Alexis!J18=Alexis!M18,RESULTATS!J18=RESULTATS!M18)),1,0)))","v":""},null,null,null,"00630Maroc",630,4,"Maroc",{"$f":"SUMPRODUCT((Teams1=U18)*(Teams1_Score<>\"\"))+SUMPRODUCT((Teams2=U18)*(Teams2_Score<>\"\"))","v":3},{"$f":"SUMPRODUCT((Teams1=U18)*(Teams1_Score>Teams2_Score))+SUMPRODUCT((Teams2=U18)*(Teams2_Score>Teams1_Score))","v":0},{"$f":"SUMPRODUCT((Teams1=U18)*(Teams1_Score=Teams2_Score)*(Teams1_Score<>\"\"))+SUMPRODUCT((Teams2=U18)*(Teams2_Score=Teams1_Score)*(Teams2_Score<>\"\"))","v":1},{"$f":"SUMPRODUCT((Teams1=U18)*(Teams1_Score<Teams2_Score))+SUMPRODUCT((Teams2=U18)*(Teams2_Score<Teams1_Score))","v":2},{"$f":"SUMPRODUCT((Teams1=U18)*(Teams1_Score))+SUMPRODUCT((Teams2=U18)*(Teams2_Score))","v":3},{"$f":"SUMPRODUCT((Teams1=U18)*(Teams2_Score))+SUMPRODUCT((Teams2=U18)*(Teams1_Score))","v":7},{"$f":"Z18-AA18","v":-4},{"$f":"3*W18+X18","v":1}]
[null,{"$f":"VLOOKUP($D19,TABLEAU_MATCHS[#All],2,FALSE)","v":"2018-06-18"},{"$f":"VLOOKUP($D19,TABLEAU_MATCHS[#All],3,FALSE)","v":"14:00:00"},12,{"$f":"\"Groupe \"&VLOOKUP($I19,TABLEAU_TEAMS[[#All],[TEAM]:[GROUP_INITIAL_RANK]],2,FALSE)","v":"Groupe F"},3.3,2.95,2.15,{"$f":"VLOOKUP($D19,TABLEAU_MATCHS[#All],4,FALSE)","v":"Suède"},2,null,{"$f":"VLOOKUP($D19,TABLEAU_MATCHS[#All],5,FALSE)","v":"République de Corée"},0,{"$f":"IF(OR(ISBLANK(RESULTATS!J19),ISBLANK(J19)),\"\",IF(AND(Alexis!J19=RESULTATS!J19,Alexis!M19=RESULTATS!M19),3,IF(OR(AND(Alexis!J19>Alexis!M19,RESULTATS!J19>RESULTATS!M19),AND(Alexis!J19<Alexis!M19,RESULTATS!J19<RESULTATS!M19),AND(Alexis!J19=Alexis!M19,RESULTATS!J19=RESULTATS!M19)),1,0)))","v":""}]
[null,{"$f":"VLOOKUP($D20,TABLEAU_MATCHS[#All],2,FALSE)","v":"2018-06-18"},{"$f":"VLOOKUP($D20,TABLEAU_MATCHS[#All],3,FALSE)","v":"17:00:00"},13,{"$f":"\"Groupe \"&VLOOKUP($I20,TABLEAU_TEAMS[[#All],[TEAM]:[GROUP_INITIAL_RANK]],2,FALSE)","v":"Groupe G"},1.95,2.95,4,{"$f":"VLOOKUP($D20,TABLEAU_MATCHS[#All],4,FALSE)","v":"Belgique"},3,null,{"$f":"VLOOKUP($D20,TABLEAU_MATCHS[#All],5,FALSE)","v":"Panama"},0,{"$f":"IF(OR(ISBLANK(RESULTATS!J20),ISBLANK(J20)),\"\",IF(AND(Alexis!J20=RESULTATS!J20,Alexis!M20=RESULTATS!M20),3,IF(OR(AND(Alexis!J20>Alexis!M20,RESULTATS!J20>RESULTATS!M20),AND(Alexis!J20<Alexis!M20,RESULTATS!J20<RESULTATS!M20),AND(Alexis!J20=Alexis!M20,RESULTATS!J20=RESULTATS!M20)),1,0)))","v":""},null,null,null,null,null,"Rg","Groupe C","MJ","G","N","P","BP","BC","+/-","Pts"]
[null,{"$f":"VLOOKUP($D21,TABLEAU_MATCHS[#All],2,FALSE)","v":"2018-06-18"},{"$f":"VLOOKUP($D21,TABLEAU_MATCHS[#All],3,FALSE)","v":"20:00:00"},14,{"$f":"\"Groupe \"&VLOOKUP($I21,TABLEAU_TEAMS[[#All],[TEAM]:[GROUP_INITIAL_RANK]],2,FALSE)","v":"Groupe G"},2.5499999999999998,2.9,2.7,{"$f":"VLOOKUP($D21,TABLEAU_MATCHS[#All],4,FALSE)","v":"Tunisie"},0,null,{"$f":"VLOOKUP($D21,TABLEAU_MATCHS[#All],5,FALSE)","v":"Angleterre"},2,{"$f":"IF(OR(ISBLANK(RESULTATS!J21),ISBLANK(J21)),\"\",IF(AND(Alexis!J21=RESULTATS!J21,Alexis!M21=RESULTATS!M21),3,IF(OR(AND(Alexis!J21>Alexis!M21,RESULTATS!J21>RESULTATS!M21),AND(Alexis!J21<Alexis!M21,RESULTATS!J21<RESULTATS!M21),AND(Alexis!J21=Alexis!M21,RESULTATS!J21=RESULTATS!M21)),1,0)))","v":""},null,null,null,{"$f":"INDEX($R72:$R75,MATCH(SMALL(COUNTIF($R72:$R75,\">=\"&$R72:$R75),ROW(INDIRECT(\"1:\"&ROWS($R72:$R75)))),COUNTIF($R72:$R75,\">=\"&$R72:$R75),0))","v":"07270Danemark"},{"$f":"INDEX($S72:$S75,MATCH(SMALL(COUNTIF($R72:$R75,\">=\"&$R72:$R75),ROW(INDIRECT(\"1:\"&ROWS($R72:$R75)))),COUNTIF($R72:$R75,\">=\"&$R72:$R75),0))","v":7270},{"$f":"INDEX($T72:$T75,MATCH(SMALL(COUNTIF($R72:$R75,\">=\"&$R72:$R75),ROW(INDIRECT(\"1:\"&ROWS($R72:$R75)))),COUNTIF($R72:$R75,\">=\"&$R72:$R75),0))","v":1},{"$f":"INDEX($U72:$U75,MATCH(SMALL(COUNTIF($R72:$R75,\">=\"&$R72:$R75),ROW(INDIRECT(\"1:\"&ROWS($R72:$R75)))),COUNTIF($R72:$R75,\">=\"&$R72:$R75),0))","v":"Danemark"},{"$f":"SUMPRODUCT((Teams1=U21)*(Teams1_Score<>\"\"))+SUMPRODUCT((Teams2=U21)*(Teams2_Score<>\"\"))","v":3},{"$f":"SUMPRODUCT((Teams1=U21)*(Teams1_Score>Teams2_Score))+SUMPRODUCT((Teams2=U21)*(Teams2_Score>Teams1_Score))","v":2},{"$f":"SUMPRODUCT((Teams1=U21)*(Teams1_Score=Teams2_Score)*(Teams1_Score<>\"\"))+SUMPRODUCT((Teams2=U21)*(Teams2_Score=Teams1_Score)*(Teams2_Score<>\"\"))","v":1},{"$f":"SUMPRODUCT((Teams1=U21)*(Teams1_Score<Teams2_Score))+SUMPRODUCT((Teams2=U21)*(Teams2_Score<Teams1_Score))","v":0},{"$f":"SUMPRODUCT((Teams1=U21)*(Teams1_Score))+SUMPRODUCT((Teams2=U21)*(Teams2_Score))","v":7},{"$f":"SUMPRODUCT((Teams1=U21)*(Teams2_Score))+SUMPRODUCT((Teams2=U21)*(Teams1_Score))","v":5},{"$f":"Z21-AA21","v":2},{"$f":"3*W21+X21","v":7},null,null,null,"PHASES FINALES"]
[null,{"$f":"VLOOKUP($D22,TABLEAU_MATCHS[#All],2,FALSE)","v":"2018-06-19"},{"$f":"VLOOKUP($D22,TABLEAU_MATCHS[#All],3,FALSE)","v":"17:00:00"},15,{"$f":"\"Groupe \"&VLOOKUP($I22,TABLEAU_TEAMS[[#All],[TEAM]:[GROUP_INITIAL_RANK]],2,FALSE)","v":"Groupe H"},1.38,3.9,8,{"$f":"VLOOKUP($D22,TABLEAU_MATCHS[#All],4,FALSE)","v":"Colombie"},2,null,{"$f":"VLOOKUP($D22,TABLEAU_MATCHS[#All],5,FALSE)","v":"Japon"},1,{"$f":"IF(OR(ISBLANK(RESULTATS!J22),ISBLANK(J22)),\"\",IF(AND(Alexis!J22=RESULTATS!J22,Alexis!M22=RESULTATS!M22),3,IF(OR(AND(Alexis!J22>Alexis!M22,RESULTATS!J22>RESULTATS!M22),AND(Alexis!J22<Alexis!M22,RESULTATS!J22<RESULTATS!M22),AND(Alexis!J22=Alexis!M22,RESULTATS!J22=RESULTATS!M22)),1,0)))","v":""},null,null,null,"05260France",5260,2,"France",{"$f":"SUMPRODUCT((Teams1=U22)*(Teams1_Score<>\"\"))+SUMPRODUCT((Teams2=U22)*(Teams2_Score<>\"\"))","v":3},{"$f":"SUMPRODUCT((Teams1=U22)*(Teams1_Score>Teams2_Score))+SUMPRODUCT((Teams2=U22)*(Teams2_Score>Teams1_Score))","v":1},{"$f":"SUMPRODUCT((Teams1=U22)*(Teams1_Score=Teams2_Score)*(Teams1_Score<>\"\"))+SUMPRODUCT((Teams2=U22)*(Teams2_Score=Teams1_Score)*(Teams2_Score<>\"\"))","v":2},{"$f":"SUMPRODUCT((Teams1=U22)*(Teams1_Score<Teams2_Score))+SUMPRODUCT((Teams2=U22)*(Teams2_Score<Teams1_Score))","v":0},{"$f":"SUMPRODUCT((Teams1=U22)*(Teams1_Score))+SUMPRODUCT((Teams2=U22)*(Teams2_Score))","v":6},{"$f":"SUMPRODUCT((Teams1=U22)*(Teams2_Score))+SUMPRODUCT((Teams2=U22)*(Teams1_Score))","v":4},{"$f":"Z22-AA22","v":2},{"$f":"3*W22+X22","v":5}]
[null,{"$f":"VLOOKUP($D23,TABLEAU_MATCHS[#All],2,FALSE)","v":"2018-06-19"},{"$f":"VLOOKUP($D23,TABLEAU_MATCHS[#All],3,FALSE)","v":"14:00:00"},16,{"$f":"\"Groupe \"&VLOOKUP($I23,TABLEAU_TEAMS[[#All],[TEAM]:[GROUP_INITIAL_RANK]],2,FALSE)","v":"Groupe H"},2.0499999999999998,2.9,3.5,{"$f":"VLOOKUP($D23,TABLEAU_MATCHS[#All],4,FALSE)","v":"Pologne"},3,null,{"$f":"VLOOKUP($D23,TABLEAU_MATCHS[#All],5,FALSE)","v":"Sénégal"},1,{"$f":"IF(OR(ISBLANK(RESULTATS!J23),ISBLANK(J23)),\"\",IF(AND(Alexis!J23=RESULTATS!J23,Alexis!M23=RESULTATS!M23),3,IF(OR(AND(Alexis!J23>Alexis!M23,RESULTATS!J23>RESULTATS!M23),AND(Alexis!J23<Alexis!M23,RESULTATS!J23<RESULTATS!M23),AND(Alexis!J23=Alexis!M23,RESULTATS!J23=RESULTATS!M23)),1,0)))","v":""},null,null,null,"04040Australie",4040,3,"Australie",{"$f":"SUMPRODUCT((Teams1=U23)*(Teams1_Score<>\"\"))+SUMPRODUCT((Teams2=U23)*(Teams2_Score<>\"\"))","v":3},{"$f":"SUMPRODUCT((Teams1=U23)*(Teams1_Score>Teams2_Score))+SUMPRODUCT((Teams2=U23)*(Teams2_Score>Teams1_Score))","v":1},{"$f":"SUMPRODUCT((Teams1=U23)*(Teams1_Score=Teams2_Score)*(Teams1_Score<>\"\"))+SUMPRODUCT((Teams2=U23)*(Teams2_Score=Teams1_Score)*(Teams2_Score<>\"\"))","v":1},{"$f":"SUMPRODUCT((Teams1=U23)*(Teams1_Score<Teams2_Score))+SUMPRODUCT((Teams2=U23)*(Teams2_Score<Teams1_Score))","v":1},{"$f":"SUMPRODUCT((Teams1=U23)*(Teams1_Score))+SUMPRODUCT((Teams2=U23)*(Teams2_Score))","v":4},{"$f":"SUMPRODUCT((Teams1=U23)*(Teams2_Score))+SUMPRODUCT((Teams2=U23)*(Teams1_Score))","v":4},{"$f":"Z23-AA23","v":0},{"$f":"3*W23+X23","v":4},null,null,"Date","Finale",null,null,"Buts",null,"Pen",null,null,null,"Buts",null,"Pen"]
[null,{"$f":"VLOOKUP($D24,TABLEAU_MATCHS[#All],2,FALSE)","v":"2018-06-19"},{"$f":"VLOOKUP($D24,TABLEAU_MATCHS[#All],3,FALSE)","v":"20:00:00"},17,{"$f":"\"Groupe \"&VLOOKUP($I24,TABLEAU_TEAMS[[#All],[TEAM]:[GROUP_INITIAL_RANK]],2,FALSE)","v":"Groupe A"},1.26,4.8,9,{"$f":"VLOOKUP($D24,TABLEAU_MATCHS[#All],4,FALSE)","v":"Russie"},0,null,{"$f":"VLOOKUP($D24,TABLEAU_MATCHS[#All],5,FALSE)","v":"Egypte"},0,{"$f":"IF(OR(ISBLANK(RESULTATS!J24),ISBLANK(J24)),\"\",IF(AND(Alexis!J24=RESULTATS!J24,Alexis!M24=RESULTATS!M24),3,IF(OR(AND(Alexis!J24>Alexis!M24,RESULTATS!J24>RESULTATS!M24),AND(Alexis!J24<Alexis!M24,RESULTATS!J24<RESULTATS!M24),AND(Alexis!J24=Alexis!M24,RESULTATS!J24=RESULTATS!M24)),1,0)))","v":""},null,null,null,"-00380Pérou",-380,4,"Pérou",{"$f":"SUMPRODUCT((Teams1=U24)*(Teams1_Score<>\"\"))+SUMPRODUCT((Teams2=U24)*(Teams2_Score<>\"\"))","v":3},{"$f":"SUMPRODUCT((Teams1=U24)*(Teams1_Score>Teams2_Score))+SUMPRODUCT((Teams2=U24)*(Teams2_Score>Teams1_Score))","v":0},{"$f":"SUMPRODUCT((Teams1=U24)*(Teams1_Score=Teams2_Score)*(Teams1_Score<>\"\"))+SUMPRODUCT((Teams2=U24)*(Teams2_Score=Teams1_Score)*(Teams2_Score<>\"\"))","v":0},{"$f":"SUMPRODUCT((Teams1=U24)*(Teams1_Score<Teams2_Score))+SUMPRODUCT((Teams2=U24)*(Teams2_Score<Teams1_Score))","v":3},{"$f":"SUMPRODUCT((Teams1=U24)*(Teams1_Score))+SUMPRODUCT((Teams2=U24)*(Teams2_Score))","v":2},{"$f":"SUMPRODUCT((Teams1=U24)*(Teams2_Score))+SUMPRODUCT((Teams2=U24)*(Teams1_Score))","v":6},{"$f":"Z24-AA24","v":-4},{"$f":"3*W24+X24","v":0}]
[null,{"$f":"VLOOKUP($D25,TABLEAU_MATCHS[#All],2,FALSE)","v":"2018-06-20"},{"$f":"VLOOKUP($D25,TABLEAU_MATCHS[#All],3,FALSE)","v":"17:00:00"},18,{"$f":"\"Groupe \"&VLOOKUP($I25,TABLEAU_TEAMS[[#All],[TEAM]:[GROUP_INITIAL_RANK]],2,FALSE)","v":"Groupe A"},3.5,3,2,{"$f":"VLOOKUP($D25,TABLEAU_MATCHS[#All],4,FALSE)","v":"Uruguay"},2,null,{"$f":"VLOOKUP($D25,TABLEAU_MATCHS[#All],5,FALSE)","v":"Arabie Saoudite"},0,{"$f":"IF(OR(ISBLANK(RESULTATS!J25),ISBLANK(J25)),\"\",IF(AND(Alexis!J25=RESULTATS!J25,Alexis!M25=RESULTATS!M25),3,IF(OR(AND(Alexis!J25>Alexis!M25,RESULTATS!J25>RESULTATS!M25),AND(Alexis!J25<Alexis!M25,RESULTATS!J25<RESULTATS!M25),AND(Alexis!J25=Alexis!M25,RESULTATS!J25=RESULTATS!M25)),1,0)))","v":""},null,null,null,null,null,null,null,null,null,null,null,null,null,null,null,null,null,"2018-07-15",null,{"$f":"+IF(AJ33<>\"\",IF(AI33>AO33,AH33,AN33),\"Vainqueur 1\")","v":"Angleterre"},{"$f":"AJ25*10+AL25","v":30},3,{"$f":"IF(LEFT(AH25,5)<>\"Vainq\",COUNTIF(RESULTATS!$AG$10:$AM$10,AH25),0)","v":0},null,null,{"$f":"+IF(AJ34<>\"\",IF(AI34>AO34,AH34,AN34),\"Vainqueur 2\")","v":"France"},{"$f":"AP25*10+AR25","v":0},0,{"$f":"IF(LEFT(AN25,5)<>\"Vainq\",COUNTIF(RESULTATS!$AG$10:$AM$10,AN25),0)","v":0},null,null,{"$f":"IF(AJ25<>\"\",IF(AI25>AO25,AH25,AN25),\"\")","v":"Angleterre"}]
[null,{"$f":"VLOOKUP($D26,TABLEAU_MATCHS[#All],2,FALSE)","v":"2018-06-20"},{"$f":"VLOOKUP($D26,TABLEAU_MATCHS[#All],3,FALSE)","v":"14:00:00"},19,{"$f":"\"Groupe \"&VLOOKUP($I26,TABLEAU_TEAMS[[#All],[TEAM]:[GROUP_INITIAL_RANK]],2,FALSE)","v":"Groupe B"},1.66,3.35,4.8,{"$f":"VLOOKUP($D26,TABLEAU_MATCHS[#All],4,FALSE)","v":"Portugal"},4,null,{"$f":"VLOOKUP($D26,TABLEAU_MATCHS[#All],5,FALSE)","v":"Maroc"},2,{"$f":"IF(OR(ISBLANK(RESULTATS!J26),ISBLANK(J26)),\"\",IF(AND(Alexis!J26=RESULTATS!J26,Alexis!M26=RESULTATS!M26),3,IF(OR(AND(Alexis!J26>Alexis!M26,RESULTATS!J26>RESULTATS!M26),AND(Alexis!J26<Alexis!M26,RESULTATS!J26<RESULTATS!M26),AND(Alexis!J26=Alexis!M26,RESULTATS!J26=RESULTATS!M26)),1,0)))","v":""},null,null,null,null,null,"Rg","Groupe D","MJ","G","N","P","BP","BC","+/-","Pts"]
[null,{"$f":"VLOOKUP($D27,TABLEAU_MATCHS[#All],2,FALSE)","v":"2018-06-20"},{"$f":"VLOOKUP($D27,TABLEAU_MATCHS[#All],3,FALSE)","v":"20:00:00"},20,{"$f":"\"Groupe \"&VLOOKUP($I27,TABLEAU_TEAMS[[#All],[TEAM]:[GROUP_INITIAL_RANK]],2,FALSE)","v":"Groupe B"},8.5,4.7,1.28,{"$f":"VLOOKUP($D27,TABLEAU_MATCHS[#All],4,FALSE)","v":"RI Iran"},0,null,{"$f":"VLOOKUP($D27,TABLEAU_MATCHS[#All],5,FALSE)","v":"Espagne"},3,{"$f":"IF(OR(ISBLANK(RESULTATS!J27),ISBLANK(J27)),\"\",IF(AND(Alexis!J27=RESULTATS!J27,Alexis!M27=RESULTATS!M27),3,IF(OR(AND(Alexis!J27>Alexis!M27,RESULTATS!J27>RESULTATS!M27),AND(Alexis!J27<Alexis!M27,RESULTATS!J27<RESULTATS!M27),AND(Alexis!J27=Alexis!M27,RESULTATS!J27=RESULTATS!M27)),1,0)))","v":""},null,null,null,{"$f":"INDEX($R78:$R81,MATCH(SMALL(COUNTIF($R78:$R81,\">=\"&$R78:$R81),ROW(INDIRECT(\"1:\"&ROWS($R78:$R81)))),COUNTIF($R78:$R81,\">=\"&$R78:$R81),0))","v":"07670Argentine"},{"$f":"INDEX($S78:$S81,MATCH(SMALL(COUNTIF($R78:$R81,\">=\"&$R78:$R81),ROW(INDIRECT(\"1:\"&ROWS($R78:$R81)))),COUNTIF($R78:$R81,\">=\"&$R78:$R81),0))","v":7670},{"$f":"INDEX($T78:$T81,MATCH(SMALL(COUNTIF($R78:$R81,\">=\"&$R78:$R81),ROW(INDIRECT(\"1:\"&ROWS($R78:$R81)))),COUNTIF($R78:$R81,\">=\"&$R78:$R81),0))","v":1},{"$f":"INDEX($U78:$U81,MATCH(SMALL(COUNTIF($R78:$R81,\">=\"&$R78:$R81),ROW(INDIRECT(\"1:\"&ROWS($R78:$R81)))),COUNTIF($R78:$R81,\">=\"&$R78:$R81),0))","v":"Argentine"},{"$f":"SUMPRODUCT((Teams1=U27)*(Teams1_Score<>\"\"))+SUMPRODUCT((Teams2=U27)*(Teams2_Score<>\"\"))","v":3},{"$f":"SUMPRODUCT((Teams1=U27)*(Teams1_Score>Teams2_Score))+SUMPRODUCT((Teams2=U27)*(Teams2_Score>Teams1_Score))","v":2},{"$f":"SUMPRODUCT((Teams1=U27)*(Teams1_Score=Teams2_Score)*(Teams1_Score<>\"\"))+SUMPRODUCT((Teams2=U27)*(Teams2_Score=Teams1_Score)*(Teams2_Score<>\"\"))","v":1},{"$f":"SUMPRODUCT((Teams1=U27)*(Teams1_Score<Teams2_Score))+SUMPRODUCT((Teams2=U27)*(Teams2_Score<Teams1_Score))","v":0},{"$f":"SUMPRODUCT((Teams1=U27)*(Teams1_Score))+SUMPRODUCT((Teams2=U27)*(Teams2_Score))","v":7},{"$f":"SUMPRODUCT((Teams1=U27)*(Teams2_Score))+SUMPRODUCT((Teams2=U27)*(Teams1_Score))","v":1},{"$f":"Z27-AA27","v":6},{"$f":"3*W27+X27","v":7},null,null,"Date","Petite Finale",null,null,"Buts",null,"Pen",null,null,null,"Buts",null,"Pen"]
[null,{"$f":"VLOOKUP($D28,TABLEAU_MATCHS[#All],2,FALSE)","v":"2018-06-21"},{"$f":"VLOOKUP($D28,TABLEAU_MATCHS[#All],3,FALSE)","v":"14:00:00"},21,{"$f":"\"Groupe \"&VLOOKUP($I28,TABLEAU_TEAMS[[#All],[TEAM]:[GROUP_INITIAL_RANK]],2,FALSE)","v":"Groupe C"},1.85,3,4,{"$f":"VLOOKUP($D28,TABLEAU_MATCHS[#All],4,FALSE)","v":"Danemark"},2,null,{"$f":"VLOOKUP($D28,TABLEAU_MATCHS[#All],5,FALSE)","v":"Australie"},1,{"$f":"IF(OR(ISBLANK(RESULTATS!J28),ISBLANK(J28)),\"\",IF(AND(Alexis!J28=RESULTATS!J28,Alexis!M28=RESULTATS!M28),3,IF(OR(AND(Alexis!J28>Alexis!M28,RESULTATS!J28>RESULTATS!M28),AND(Alexis!J28<Alexis!M28,RESULTATS!J28<RESULTATS!M28),AND(Alexis!J28=Alexis!M28,RESULTATS!J28=RESULTATS!M28)),1,0)))","v":""},null,null,null,"04040Islande",4040,2,"Islande",{"$f":"SUMPRODUCT((Teams1=U28)*(Teams1_Score<>\"\"))+SUMPRODUCT((Teams2=U28)*(Teams2_Score<>\"\"))","v":3},{"$f":"SUMPRODUCT((Teams1=U28)*(Teams1_Score>Teams2_Score))+SUMPRODUCT((Teams2=U28)*(Teams2_Score>Teams1_Score))","v":1},{"$f":"SUMPRODUCT((Teams1=U28)*(Teams1_Score=Teams2_Score)*(Teams1_Score<>\"\"))+SUMPRODUCT((Teams2=U28)*(Teams2_Score=Teams1_Score)*(Teams2_Score<>\"\"))","v":1},{"$f":"SUMPRODUCT((Teams1=U28)*(Teams1_Score<Teams2_Score))+SUMPRODUCT((Teams2=U28)*(Teams2_Score<Teams1_Score))","v":1},{"$f":"SUMPRODUCT((Teams1=U28)*(Teams1_Score))+SUMPRODUCT((Teams2=U28)*(Teams2_Score))","v":4},{"$f":"SUMPRODUCT((Teams1=U28)*(Teams2_Score))+SUMPRODUCT((Teams2=U28)*(Teams1_Score))","v":4},{"$f":"Z28-AA28","v":0},{"$f":"3*W28+X28","v":4}]
[null,{"$f":"VLOOKUP($D29,TABLEAU_MATCHS[#All],2,FALSE)","v":"2018-06-21"},{"$f":"VLOOKUP($D29,TABLEAU_MATCHS[#All],3,FALSE)","v":"17:00:00"},22,{"$f":"\"Groupe \"&VLOOKUP($I29,TABLEAU_TEAMS[[#All],[TEAM]:[GROUP_INITIAL_RANK]],2,FALSE)","v":"Groupe C"},2.2999999999999998,3,2.9,{"$f":"VLOOKUP($D29,TABLEAU_MATCHS[#All],4,FALSE)","v":"France"},2,null,{"$f":"VLOOKUP($D29,TABLEAU_MATCHS[#All],5,FALSE)","v":"Pérou"},0,{"$f":"IF(OR(ISBLANK(RESULTATS!J29),ISBLANK(J29)),\"\",IF(AND(Alexis!J29=RESULTATS!J29,Alexis!M29=RESULTATS!M29),3,IF(OR(AND(Alexis!J29>Alexis!M29,RESULTATS!J29>RESULTATS!M29),AND(Alexis!J29<Alexis!M29,RESULTATS!J29<RESULTATS!M29),AND(Alexis!J29=Alexis!M29,RESULTATS!J29=RESULTATS!M29)),1,0)))","v":""},null,null,null,"04020Croatie",4020,3,"Croatie",{"$f":"SUMPRODUCT((Teams1=U29)*(Teams1_Score<>\"\"))+SUMPRODUCT((Teams2=U29)*(Teams2_Score<>\"\"))","v":3},{"$f":"SUMPRODUCT((Teams1=U29)*(Teams1_Score>Teams2_Score))+SUMPRODUCT((Teams2=U29)*(Teams2_Score>Teams1_Score))","v":1},{"$f":"SUMPRODUCT((Teams1=U29)*(Teams1_Score=Teams2_Score)*(Teams1_Score<>\"\"))+SUMPRODUCT((Teams2=U29)*(Teams2_Score=Teams1_Score)*(Teams2_Score<>\"\"))","v":1},{"$f":"SUMPRODUCT((Teams1=U29)*(Teams1_Score<Teams2_Score))+SUMPRODUCT((Teams2=U29)*(Teams2_Score<Teams1_Score))","v":1},{"$f":"SUMPRODUCT((Teams1=U29)*(Teams1_Score))+SUMPRODUCT((Teams2=U29)*(Teams2_Score))","v":2},{"$f":"SUMPRODUCT((Teams1=U29)*(Teams2_Score))+SUMPRODUCT((Teams2=U29)*(Teams1_Score))","v":2},{"$f":"Z29-AA29","v":0},{"$f":"3*W29+X29","v":4},null,null,"2018-07-14",null,{"$f":"+IF(AJ33<>\"\",IF(AI33>AO33,AN33,AH33),\"Perdant 1\")","v":"Egypte"},{"$f":"AJ29*10+AL29","v":10},1,null,null,null,{"$f":"+IF(AJ34<>\"\",IF(AI34>AO34,AN34,AH34),\"Perdant 2\")","v":"Allemagne"},{"$f":"AP29*10+AR29","v":40},4]
[null,{"$f":"VLOOKUP($D30,TABLEAU_MATCHS[#All],2,FALSE)","v":"2018-06-21"},{"$f":"VLOOKUP($D30,TABLEAU_MATCHS[#All],3,FALSE)","v":"20:00:00"},23,{"$f":"\"Groupe \"&VLOOKUP($I30,TABLEAU_TEAMS[[#All],[TEAM]:[GROUP_INITIAL_RANK]],2,FALSE)","v":"Groupe D"},2.4,3,2.8,{"$f":"VLOOKUP($D30,TABLEAU_MATCHS[#All],4,FALSE)","v":"Argentine"},0,null,{"$f":"VLOOKUP($D30,TABLEAU_MATCHS[#All],5,FALSE)","v":"Croatie"},0,{"$f":"IF(OR(ISBLANK(RESULTATS!J30),ISBLANK(J30)),\"\",IF(AND(Alexis!J30=RESULTATS!J30,Alexis!M30=RESULTATS!M30),3,IF(OR(AND(Alexis!J30>Alexis!M30,RESULTATS!J30>RESULTATS!M30),AND(Alexis!J30<Alexis!M30,RESULTATS!J30<RESULTATS!M30),AND(Alexis!J30=Alexis!M30,RESULTATS!J30=RESULTATS!M30)),1,0)))","v":""},null,null,null,"00410Nigeria",410,4,"Nigeria",{"$f":"SUMPRODUCT((Teams1=U30)*(Teams1_Score<>\"\"))+SUMPRODUCT((Teams2=U30)*(Teams2_Score<>\"\"))","v":3},{"$f":"SUMPRODUCT((Teams1=U30)*(Teams1_Score>Teams2_Score))+SUMPRODUCT((Teams2=U30)*(Teams2_Score>Teams1_Score))","v":0},{"$f":"SUMPRODUCT((Teams1=U30)*(Teams1_Score=Teams2_Score)*(Teams1_Score<>\"\"))+SUMPRODUCT((Teams2=U30)*(Teams2_Score=Teams1_Score)*(Teams2_Score<>\"\"))","v":1},{"$f":"SUMPRODUCT((Teams1=U30)*(Teams1_Score<Teams2_Score))+SUMPRODUCT((Teams2=U30)*(Teams2_Score<Teams1_Score))","v":2},{"$f":"SUMPRODUCT((Teams1=U30)*(Teams1_Score))+SUMPRODUCT((Teams2=U30)*(Teams2_Score))","v":1},{"$f":"SUMPRODUCT((Teams1=U30)*(Teams2_Score))+SUMPRODUCT((Teams2=U30)*(Teams1_Score))","v":7},{"$f":"Z30-AA30","v":-6},{"$f":"3*W30+X30","v":1}]
[null,{"$f":"VLOOKUP($D31,TABLEAU_MATCHS[#All],2,FALSE)","v":"2018-06-22"},{"$f":"VLOOKUP($D31,TABLEAU_MATCHS[#All],3,FALSE)","v":"17:00:00"},24,{"$f":"\"Groupe \"&VLOOKUP($I31,TABLEAU_TEAMS[[#All],[TEAM]:[GROUP_INITIAL_RANK]],2,FALSE)","v":"Groupe D"},1.26,4.5999999999999996,9.5,{"$f":"VLOOKUP($D31,TABLEAU_MATCHS[#All],4,FALSE)","v":"Nigeria"},1,null,{"$f":"VLOOKUP($D31,TABLEAU_MATCHS[#All],5,FALSE)","v":"Islande"},1,{"$f":"IF(OR(ISBLANK(RESULTATS!J31),ISBLANK(J31)),\"\",IF(AND(Alexis!J31=RESULTATS!J31,Alexis!M31=RESULTATS!M31),3,IF(OR(AND(Alexis!J31>Alexis!M31,RESULTATS!J31>RESULTATS!M31),AND(Alexis!J31<Alexis!M31,RESULTATS!J31<RESULTATS!M31),AND(Alexis!J31=Alexis!M31,RESULTATS!J31=RESULTATS!M31)),1,0)))","v":""},null,null,null,null,null,null,null,null,null,null,null,null,null,null,null,null,null,"Date","Demi Finale",null,null,"Buts",null,"Pen",null,null,null,"Buts",null,"Pen"]
[null,{"$f":"VLOOKUP($D32,TABLEAU_MATCHS[#All],2,FALSE)","v":"2018-06-22"},{"$f":"VLOOKUP($D32,TABLEAU_MATCHS[#All],3,FALSE)","v":"14:00:00"},25,{"$f":"\"Groupe \"&VLOOKUP($I32,TABLEAU_TEAMS[[#All],[TEAM]:[GROUP_INITIAL_RANK]],2,FALSE)","v":"Groupe E"},3.5,2.95,2.1,{"$f":"VLOOKUP($D32,TABLEAU_MATCHS[#All],4,FALSE)","v":"Brésil"},5,null,{"$f":"VLOOKUP($D32,TABLEAU_MATCHS[#All],5,FALSE)","v":"Costa Rica"},3,{"$f":"IF(OR(ISBLANK(RESULTATS!J32),ISBLANK(J32)),\"\",IF(AND(Alexis!J32=RESULTATS!J32,Alexis!M32=RESULTATS!M32),3,IF(OR(AND(Alexis!J32>Alexis!M32,RESULTATS!J32>RESULTATS!M32),AND(Alexis!J32<Alexis!M32,RESULTATS!J32<RESULTATS!M32),AND(Alexis!J32=Alexis!M32,RESULTATS!J32=RESULTATS!M32)),1,0)))","v":""},null,null,null,null,null,"Rg","Groupe E","MJ","G","N","P","BP","BC","+/-","Pts"]
[null,{"$f":"VLOOKUP($D33,TABLEAU_MATCHS[#All],2,FALSE)","v":"2018-06-22"},{"$f":"VLOOKUP($D33,TABLEAU_MATCHS[#All],3,FALSE)","v":"20:00:00"},26,{"$f":"\"Groupe \"&VLOOKUP($I33,TABLEAU_TEAMS[[#All],[TEAM]:[GROUP_INITIAL_RANK]],2,FALSE)","v":"Groupe E"},4.8,3.25,1.62,{"$f":"VLOOKUP($D33,TABLEAU_MATCHS[#All],4,FALSE)","v":"Serbie"},1,null,{"$f":"VLOOKUP($D33,TABLEAU_MATCHS[#All],5,FALSE)","v":"Suisse"},0,{"$f":"IF(OR(ISBLANK(RESULTATS!J33),ISBLANK(J33)),\"\",IF(AND(Alexis!J33=RESULTATS!J33,Alexis!M33=RESULTATS!M33),3,IF(OR(AND(Alexis!J33>Alexis!M33,RESULTATS!J33>RESULTATS!M33),AND(Alexis!J33<Alexis!M33,RESULTATS!J33<RESULTATS!M33),AND(Alexis!J33=Alexis!M33,RESULTATS!J33=RESULTATS!M33)),1,0)))","v":""},null,null,null,{"$f":"INDEX($R84:$R87,MATCH(SMALL(COUNTIF($R84:$R87,\">=\"&$R84:$R87),ROW(INDIRECT(\"1:\"&ROWS($R84:$R87)))),COUNTIF($R84:$R87,\">=\"&$R84:$R87),0))","v":"06370Brésil"},{"$f":"INDEX($S84:$S87,MATCH(SMALL(COUNTIF($R84:$R87,\">=\"&$R84:$R87),ROW(INDIRECT(\"1:\"&ROWS($R84:$R87)))),COUNTIF($R84:$R87,\">=\"&$R84:$R87),0))","v":6370},{"$f":"INDEX($T84:$T87,MATCH(SMALL(COUNTIF($R84:$R87,\">=\"&$R84:$R87),ROW(INDIRECT(\"1:\"&ROWS($R84:$R87)))),COUNTIF($R84:$R87,\">=\"&$R84:$R87),0))","v":1},{"$f":"INDEX($U84:$U87,MATCH(SMALL(COUNTIF($R84:$R87,\">=\"&$R84:$R87),ROW(INDIRECT(\"1:\"&ROWS($R84:$R87)))),COUNTIF($R84:$R87,\">=\"&$R84:$R87),0))","v":"Brésil"},{"$f":"SUMPRODUCT((Teams1=U33)*(Teams1_Score<>\"\"))+SUMPRODUCT((Teams2=U33)*(Teams2_Score<>\"\"))","v":3},{"$f":"SUMPRODUCT((Teams1=U33)*(Teams1_Score>Teams2_Score))+SUMPRODUCT((Teams2=U33)*(Teams2_Score>Teams1_Score))","v":2},{"$f":"SUMPRODUCT((Teams1=U33)*(Teams1_Score=Teams2_Score)*(Teams1_Score<>\"\"))+SUMPRODUCT((Teams2=U33)*(Teams2_Score=Teams1_Score)*(Teams2_Score<>\"\"))","v":0},{"$f":"SUMPRODUCT((Teams1=U33)*(Teams1_Score<Teams2_Score))+SUMPRODUCT((Teams2=U33)*(Teams2_Score<Teams1_Score))","v":1},{"$f":"SUMPRODUCT((Teams1=U33)*(Teams1_Score))+SUMPRODUCT((Teams2=U33)*(Teams2_Score))","v":7},{"$f":"SUMPRODUCT((Teams1=U33)*(Teams2_Score))+SUMPRODUCT((Teams2=U33)*(Teams1_Score))","v":4},{"$f":"Z33-AA33","v":3},{"$f":"3*W33+X33","v":6},null,null,"2018-07-10",1,{"$f":"+IF(AJ38<>\"\",IF(AI38>AO38,AH38,AN38),\"Vainqueur A\")","v":"Egypte"},{"$f":"AJ33*10+AL33","v":17},1,{"$f":"IF(LEFT(AH33,5)<>\"Vainq\",COUNTIF(RESULTATS!$AG$18:$AM$19,AH33),0)","v":0},7,null,{"$f":"+IF(AJ40<>\"\",IF(AI40>AO40,AH40,AN40),\"Vainqueur C\")","v":"Angleterre"},{"$f":"AP33*10+AR33","v":18},1,{"$f":"IF(LEFT(AN33,5)<>\"Vainq\",COUNTIF(RESULTATS!$AG$18:$AM$19,AN33),0)","v":0},8]
[null,{"$f":"VLOOKUP($D34,TABLEAU_MATCHS[#All],2,FALSE)","v":"2018-06-23"},{"$f":"VLOOKUP($D34,TABLEAU_MATCHS[#All],3,FALSE)","v":"20:00:00"},27,{"$f":"\"Groupe \"&VLOOKUP($I34,TABLEAU_TEAMS[[#All],[TEAM]:[GROUP_INITIAL_RANK]],2,FALSE)","v":"Groupe F"},1.1200000000000001,6.5,15,{"$f":"VLOOKUP($D34,TABLEAU_MATCHS[#All],4,FALSE)","v":"République de Corée"},1,null,{"$f":"VLOOKUP($D34,TABLEAU_MATCHS[#All],5,FALSE)","v":"Mexique"},2,{"$f":"IF(OR(ISBLANK(RESULTATS!J34),ISBLANK(J34)),\"\",IF(AND(Alexis!J34=RESULTATS!J34,Alexis!M34=RESULTATS!M34),3,IF(OR(AND(Alexis!J34>Alexis!M34,RESULTATS!J34>RESULTATS!M34),AND(Alexis!J34<Alexis!M34,RESULTATS!J34<RESULTATS!M34),AND(Alexis!J34=Alexis!M34,RESULTATS!J34=RESULTATS!M34)),1,0)))","v":""},null,null,null,"06120Suisse",6120,2,"Suisse",{"$f":"SUMPRODUCT((Teams1=U34)*(Teams1_Score<>\"\"))+SUMPRODUCT((Teams2=U34)*(Teams2_Score<>\"\"))","v":3},{"$f":"SUMPRODUCT((Teams1=U34)*(Teams1_Score>Teams2_Score))+SUMPRODUCT((Teams2=U34)*(Teams2_Score>Teams1_Score))","v":2},{"$f":"SUMPRODUCT((Teams1=U34)*(Teams1_Score=Teams2_Score)*(Teams1_Score<>\"\"))+SUMPRODUCT((Teams2=U34)*(Teams2_Score=Teams1_Score)*(Teams2_Score<>\"\"))","v":0},{"$f":"SUMPRODUCT((Teams1=U34)*(Teams1_Score<Teams2_Score))+SUMPRODUCT((Teams2=U34)*(Teams2_Score<Teams1_Score))","v":1},{"$f":"SUMPRODUCT((Teams1=U34)*(Teams1_Score))+SUMPRODUCT((Teams2=U34)*(Teams2_Score))","v":2},{"$f":"SUMPRODUCT((Teams1=U34)*(Teams2_Score))+SUMPRODUCT((Teams2=U34)*(Teams1_Score))","v":1},{"$f":"Z34-AA34","v":1},{"$f":"3*W34+X34","v":6},null,null,"2018-07-11",2,{"$f":"+IF(AJ39<>\"\",IF(AI39>AO39,AH39,AN39),\"Vainqueur B\")","v":"France"},{"$f":"AJ34*10+AL34","v":10},1,{"$f":"IF(LEFT(AH34,5)<>\"Vainq\",COUNTIF(RESULTATS!$AG$18:$AM$19,AH34),0)","v":0},null,null,{"$f":"+IF(AJ41<>\"\",IF(AI41>AO41,AH41,AN41),\"Vainqueur D\")","v":"Allemagne"},{"$f":"AP34*10+AR34","v":0},0,{"$f":"IF(LEFT(AN34,5)<>\"Vainq\",COUNTIF(RESULTATS!$AG$18:$AM$19,AN34),0)","v":0}]
[null,{"$f":"VLOOKUP($D35,TABLEAU_MATCHS[#All],2,FALSE)","v":"2018-06-23"},{"$f":"VLOOKUP($D35,TABLEAU_MATCHS[#All],3,FALSE)","v":"17:00:00"},28,{"$f":"\"Groupe \"&VLOOKUP($I35,TABLEAU_TEAMS[[#All],[TEAM]:[GROUP_INITIAL_RANK]],2,FALSE)","v":"Groupe F"},2.8,2.95,2.4,{"$f":"VLOOKUP($D35,TABLEAU_MATCHS[#All],4,FALSE)","v":"Allemagne"},1,null,{"$f":"VLOOKUP($D35,TABLEAU_MATCHS[#All],5,FALSE)","v":"Suède"},1,{"$f":"IF(OR(ISBLANK(RESULTATS!J35),ISBLANK(J35)),\"\",IF(AND(Alexis!J35=RESULTATS!J35,Alexis!M35=RESULTATS!M35),3,IF(OR(AND(Alexis!J35>Alexis!M35,RESULTATS!J35>RESULTATS!M35),AND(Alexis!J35<Alexis!M35,RESULTATS!J35<RESULTATS!M35),AND(Alexis!J35=Alexis!M35,RESULTATS!J35=RESULTATS!M35)),1,0)))","v":""},null,null,null,"06020Serbie",6020,3,"Serbie",{"$f":"SUMPRODUCT((Teams1=U35)*(Teams1_Score<>\"\"))+SUMPRODUCT((Teams2=U35)*(Teams2_Score<>\"\"))","v":3},{"$f":"SUMPRODUCT((Teams1=U35)*(Teams1_Score>Teams2_Score))+SUMPRODUCT((Teams2=U35)*(Teams2_Score>Teams1_Score))","v":2},{"$f":"SUMPRODUCT((Teams1=U35)*(Teams1_Score=Teams2_Score)*(Teams1_Score<>\"\"))+SUMPRODUCT((Teams2=U35)*(Teams2_Score=Teams1_Score)*(Teams2_Score<>\"\"))","v":0},{"$f":"SUMPRODUCT((Teams1=U35)*(Teams1_Score<Teams2_Score))+SUMPRODUCT((Teams2=U35)*(Teams2_Score<Teams1_Score))","v":1},{"$f":"SUMPRODUCT((Teams1=U35)*(Teams1_Score))+SUMPRODUCT((Teams2=U35)*(Teams2_Score))","v":2},{"$f":"SUMPRODUCT((Teams1=U35)*(Teams2_Score))+SUMPRODUCT((Teams2=U35)*(Teams1_Score))","v":2},{"$f":"Z35-AA35","v":0},{"$f":"3*W35+X35","v":6},null,null,null,null,null,null,null,{"$f":"SUM(AK33:AK34)","v":0},null,null,null,null,null,{"$f":"SUM(AQ33:AQ34)","v":0}]
[null,{"$f":"VLOOKUP($D36,TABLEAU_MATCHS[#All],2,FALSE)","v":"2018-06-23"},{"$f":"VLOOKUP($D36,TABLEAU_MATCHS[#All],3,FALSE)","v":"14:00:00"},29,{"$f":"\"Groupe \"&VLOOKUP($I36,TABLEAU_TEAMS[[#All],[TEAM]:[GROUP_INITIAL_RANK]],2,FALSE)","v":"Groupe G"},1.36,4,7.5,{"$f":"VLOOKUP($D36,TABLEAU_MATCHS[#All],4,FALSE)","v":"Belgique"},2,null,{"$f":"VLOOKUP($D36,TABLEAU_MATCHS[#All],5,FALSE)","v":"Tunisie"},1,{"$f":"IF(OR(ISBLANK(RESULTATS!J36),ISBLANK(J36)),\"\",IF(AND(Alexis!J36=RESULTATS!J36,Alexis!M36=RESULTATS!M36),3,IF(OR(AND(Alexis!J36>Alexis!M36,RESULTATS!J36>RESULTATS!M36),AND(Alexis!J36<Alexis!M36,RESULTATS!J36<RESULTATS!M36),AND(Alexis!J36=Alexis!M36,RESULTATS!J36=RESULTATS!M36)),1,0)))","v":""},null,null,null,"-00370Costa Rica",-370,4,"Costa Rica",{"$f":"SUMPRODUCT((Teams1=U36)*(Teams1_Score<>\"\"))+SUMPRODUCT((Teams2=U36)*(Teams2_Score<>\"\"))","v":3},{"$f":"SUMPRODUCT((Teams1=U36)*(Teams1_Score>Teams2_Score))+SUMPRODUCT((Teams2=U36)*(Teams2_Score>Teams1_Score))","v":0},{"$f":"SUMPRODUCT((Teams1=U36)*(Teams1_Score=Teams2_Score)*(Teams1_Score<>\"\"))+SUMPRODUCT((Teams2=U36)*(Teams2_Score=Teams1_Score)*(Teams2_Score<>\"\"))","v":0},{"$f":"SUMPRODUCT((Teams1=U36)*(Teams1_Score<Teams2_Score))+SUMPRODUCT((Teams2=U36)*(Teams2_Score<Teams1_Score))","v":3},{"$f":"SUMPRODUCT((Teams1=U36)*(Teams1_Score))+SUMPRODUCT((Teams2=U36)*(Teams2_Score))","v":3},{"$f":"SUMPRODUCT((Teams1=U36)*(Teams2_Score))+SUMPRODUCT((Teams2=U36)*(Teams1_Score))","v":7},{"$f":"Z36-AA36","v":-4},{"$f":"3*W36+X36","v":0},null,null,"Date","Quart de Finale",null,null,"Buts",null,"Pen",null,null,null,"Buts",null,"Pen"]
[null,{"$f":"VLOOKUP($D37,TABLEAU_MATCHS[#All],2,FALSE)","v":"2018-06-24"},{"$f":"VLOOKUP($D37,TABLEAU_MATCHS[#All],3,FALSE)","v":"14:00:00"},30,{"$f":"\"Groupe \"&VLOOKUP($I37,TABLEAU_TEAMS[[#All],[TEAM]:[GROUP_INITIAL_RANK]],2,FALSE)","v":"Groupe G"},4.7,3.4,1.62,{"$f":"VLOOKUP($D37,TABLEAU_MATCHS[#All],4,FALSE)","v":"Angleterre"},4,null,{"$f":"VLOOKUP($D37,TABLEAU_MATCHS[#All],5,FALSE)","v":"Panama"},1,{"$f":"IF(OR(ISBLANK(RESULTATS!J37),ISBLANK(J37)),\"\",IF(AND(Alexis!J37=RESULTATS!J37,Alexis!M37=RESULTATS!M37),3,IF(OR(AND(Alexis!J37>Alexis!M37,RESULTATS!J37>RESULTATS!M37),AND(Alexis!J37<Alexis!M37,RESULTATS!J37<RESULTATS!M37),AND(Alexis!J37=Alexis!M37,RESULTATS!J37=RESULTATS!M37)),1,0)))","v":""}]
[null,{"$f":"VLOOKUP($D38,TABLEAU_MATCHS[#All],2,FALSE)","v":"2018-06-24"},{"$f":"VLOOKUP($D38,TABLEAU_MATCHS[#All],3,FALSE)","v":"17:00:00"},31,{"$f":"\"Groupe \"&VLOOKUP($I38,TABLEAU_TEAMS[[#All],[TEAM]:[GROUP_INITIAL_RANK]],2,FALSE)","v":"Groupe H"},2.1,2.95,3.35,{"$f":"VLOOKUP($D38,TABLEAU_MATCHS[#All],4,FALSE)","v":"Japon"},0,null,{"$f":"VLOOKUP($D38,TABLEAU_MATCHS[#All],5,FALSE)","v":"Sénégal"},0,{"$f":"IF(OR(ISBLANK(RESULTATS!J38),ISBLANK(J38)),\"\",IF(AND(Alexis!J38=RESULTATS!J38,Alexis!M38=RESULTATS!M38),3,IF(OR(AND(Alexis!J38>Alexis!M38,RESULTATS!J38>RESULTATS!M38),AND(Alexis!J38<Alexis!M38,RESULTATS!J38<RESULTATS!M38),AND(Alexis!J38=Alexis!M38,RESULTATS!J38=RESULTATS!M38)),1,0)))","v":""},null,null,null,null,null,"Rg","Groupe F","MJ","G","N","P","BP","BC","+/-","Pts",null,null,"2018-07-06","A",{"$f":"+IF(AJ45<>\"\",IF(AI45>AO45,AH45,AN45),\"Vainqueur 1\")","v":"Egypte"},{"$f":"AJ38*10+AL38","v":10},1,{"$f":"IF(LEFT(AH38,5)<>\"Vainq\",COUNTIF(RESULTATS!$AG$23:$AM$26,AH38),0)","v":0},null,null,{"$f":"+IF(AJ47<>\"\",IF(AI47>AO47,AH47,AN47),\"Vainqueur 3\")","v":"Danemark"},{"$f":"AP38*10+AR38","v":0},0,{"$f":"IF(LEFT(AN38,5)<>\"Vainq\",COUNTIF(RESULTATS!$AG$23:$AM$26,AN38),0)","v":0}]
[null,{"$f":"VLOOKUP($D39,TABLEAU_MATCHS[#All],2,FALSE)","v":"2018-06-24"},{"$f":"VLOOKUP($D39,TABLEAU_MATCHS[#All],3,FALSE)","v":"20:00:00"},32,{"$f":"\"Groupe \"&VLOOKUP($I39,TABLEAU_TEAMS[[#All],[TEAM]:[GROUP_INITIAL_RANK]],2,FALSE)","v":"Groupe H"},1.9,3,3.8,{"$f":"VLOOKUP($D39,TABLEAU_MATCHS[#All],4,FALSE)","v":"Pologne"},1,null,{"$f":"VLOOKUP($D39,TABLEAU_MATCHS[#All],5,FALSE)","v":"Colombie"},0,{"$f":"IF(OR(ISBLANK(RESULTATS!J39),ISBLANK(J39)),\"\",IF(AND(Alexis!J39=RESULTATS!J39,Alexis!M39=RESULTATS!M39),3,IF(OR(AND(Alexis!J39>Alexis!M39,RESULTATS!J39>RESULTATS!M39),AND(Alexis!J39<Alexis!M39,RESULTATS!J39<RESULTATS!M39),AND(Alexis!J39=Alexis!M39,RESULTATS!J39=RESULTATS!M39)),1,0)))","v":""},null,null,null,{"$f":"INDEX($R90:$R93,MATCH(SMALL(COUNTIF($R90:$R93,\">=\"&$R90:$R93),ROW(INDIRECT(\"1:\"&ROWS($R90:$R93)))),COUNTIF($R90:$R93,\">=\"&$R90:$R93),0))","v":"07230Allemagne"},{"$f":"INDEX($S90:$S93,MATCH(SMALL(COUNTIF($R90:$R93,\">=\"&$R90:$R93),ROW(INDIRECT(\"1:\"&ROWS($R90:$R93)))),COUNTIF($R90:$R93,\">=\"&$R90:$R93),0))","v":7230},{"$f":"INDEX($T90:$T93,MATCH(SMALL(COUNTIF($R90:$R93,\">=\"&$R90:$R93),ROW(INDIRECT(\"1:\"&ROWS($R90:$R93)))),COUNTIF($R90:$R93,\">=\"&$R90:$R93),0))","v":1},{"$f":"INDEX($U90:$U93,MATCH(SMALL(COUNTIF($R90:$R93,\">=\"&$R90:$R93),ROW(INDIRECT(\"1:\"&ROWS($R90:$R93)))),COUNTIF($R90:$R93,\">=\"&$R90:$R93),0))","v":"Allemagne"},{"$f":"SUMPRODUCT((Teams1=U39)*(Teams1_Score<>\"\"))+SUMPRODUCT((Teams2=U39)*(Teams2_Score<>\"\"))","v":3},{"$f":"SUMPRODUCT((Teams1=U39)*(Teams1_Score>Teams2_Score))+SUMPRODUCT((Teams2=U39)*(Teams2_Score>Teams1_Score))","v":2},{"$f":"SUMPRODUCT((Teams1=U39)*(Teams1_Score=Teams2_Score)*(Teams1_Score<>\"\"))+SUMPRODUCT((Teams2=U39)*(Teams2_Score=Teams1_Score)*(Teams2_Score<>\"\"))","v":1},{"$f":"SUMPRODUCT((Teams1=U39)*(Teams1_Score<Teams2_Score))+SUMPRODUCT((Teams2=U39)*(Teams2_Score<Teams1_Score))","v":0},{"$f":"SUMPRODUCT((Teams1=U39)*(Teams1_Score))+SUMPRODUCT((Teams2=U39)*(Teams2_Score))","v":3},{"$f":"SUMPRODUCT((Teams1=U39)*(Teams2_Score))+SUMPRODUCT((Teams2=U39)*(Teams1_Score))","v":1},{"$f":"Z39-AA39","v":2},{"$f":"3*W39+X39","v":7},null,null,"2018-07-07","B",{"$f":"+IF(AJ46<>\"\",IF(AI46>AO46,AH46,AN46),\"Vainqueur 2\")","v":"Espagne"},{"$f":"AJ39*10+AL39","v":10},1,{"$f":"IF(LEFT(AH39,5)<>\"Vainq\",COUNTIF(RESULTATS!$AG$23:$AM$26,AH39),0)","v":0},null,null,{"$f":"+IF(AJ48<>\"\",IF(AI48>AO48,AH48,AN48),\"Vainqueur 4\")","v":"France"},{"$f":"AP39*10+AR39","v":20},2,{"$f":"IF(LEFT(AN39,5)<>\"Vainq\",COUNTIF(RESULTATS!$AG$23:$AM$26,AN39),0)","v":0}]
[null,{"$f":"VLOOKUP($D40,TABLEAU_MATCHS[#All],2,FALSE)","v":"2018-06-25"},{"$f":"VLOOKUP($D40,TABLEAU_MATCHS[#All],3,FALSE)","v":"16:00:00"},33,{"$f":"\"Groupe \"&VLOOKUP($I40,TABLEAU_TEAMS[[#All],[TEAM]:[GROUP_INITIAL_RANK]],2,FALSE)","v":"Groupe A"},11,6.5,1.17,{"$f":"VLOOKUP($D40,TABLEAU_MATCHS[#All],4,FALSE)","v":"Uruguay"},1,null,{"$f":"VLOOKUP($D40,TABLEAU_MATCHS[#All],5,FALSE)","v":"Russie"},1,{"$f":"IF(OR(ISBLANK(RESULTATS!J40),ISBLANK(J40)),\"\",IF(AND(Alexis!J40=RESULTATS!J40,Alexis!M40=RESULTATS!M40),3,IF(OR(AND(Alexis!J40>Alexis!M40,RESULTATS!J40>RESULTATS!M40),AND(Alexis!J40<Alexis!M40,RESULTATS!J40<RESULTATS!M40),AND(Alexis!J40=Alexis!M40,RESULTATS!J40=RESULTATS!M40)),1,0)))","v":""},null,null,null,"06140Mexique",6140,2,"Mexique",{"$f":"SUMPRODUCT((Teams1=U40)*(Teams1_Score<>\"\"))+SUMPRODUCT((Teams2=U40)*(Teams2_Score<>\"\"))","v":3},{"$f":"SUMPRODUCT((Teams1=U40)*(Teams1_Score>Teams2_Score))+SUMPRODUCT((Teams2=U40)*(Teams2_Score>Teams1_Score))","v":2},{"$f":"SUMPRODUCT((Teams1=U40)*(Teams1_Score=Teams2_Score)*(Teams1_Score<>\"\"))+SUMPRODUCT((Teams2=U40)*(Teams2_Score=Teams1_Score)*(Teams2_Score<>\"\"))","v":0},{"$f":"SUMPRODUCT((Teams1=U40)*(Teams1_Score<Teams2_Score))+SUMPRODUCT((Teams2=U40)*(Teams2_Score<Teams1_Score))","v":1},{"$f":"SUMPRODUCT((Teams1=U40)*(Teams1_Score))+SUMPRODUCT((Teams2=U40)*(Teams2_Score))","v":4},{"$f":"SUMPRODUCT((Teams1=U40)*(Teams2_Score))+SUMPRODUCT((Teams2=U40)*(Teams1_Score))","v":3},{"$f":"Z40-AA40","v":1},{"$f":"3*W40+X40","v":6},null,null,"2018-07-06","C",{"$f":"+IF(AJ49<>\"\",IF(AI49>AO49,AH49,AN49),\"Vainqueur 5\")","v":"Brésil"},{"$f":"AJ40*10+AL40","v":0},0,{"$f":"IF(LEFT(AH40,5)<>\"Vainq\",COUNTIF(RESULTATS!$AG$23:$AM$26,AH40),0)","v":0},null,null,{"$f":"+IF(AJ51<>\"\",IF(AI51>AO51,AH51,AN51),\"Vainqueur 7\")","v":"Angleterre"},{"$f":"AP40*10+AR40","v":10},1,{"$f":"IF(LEFT(AN40,5)<>\"Vainq\",COUNTIF(RESULTATS!$AG$23:$AM$26,AN40),0)","v":0}]
[null,{"$f":"VLOOKUP($D41,TABLEAU_MATCHS[#All],2,FALSE)","v":"2018-06-25"},{"$f":"VLOOKUP($D41,TABLEAU_MATCHS[#All],3,FALSE)","v":"16:00:00"},34,{"$f":"\"Groupe \"&VLOOKUP($I41,TABLEAU_TEAMS[[#All],[TEAM]:[GROUP_INITIAL_RANK]],2,FALSE)","v":"Groupe A"},2.4,2.95,2.75,{"$f":"VLOOKUP($D41,TABLEAU_MATCHS[#All],4,FALSE)","v":"Arabie Saoudite"},0,null,{"$f":"VLOOKUP($D41,TABLEAU_MATCHS[#All],5,FALSE)","v":"Egypte"},4,{"$f":"IF(OR(ISBLANK(RESULTATS!J41),ISBLANK(J41)),\"\",IF(AND(Alexis!J41=RESULTATS!J41,Alexis!M41=RESULTATS!M41),3,IF(OR(AND(Alexis!J41>Alexis!M41,RESULTATS!J41>RESULTATS!M41),AND(Alexis!J41<Alexis!M41,RESULTATS!J41<RESULTATS!M41),AND(Alexis!J41=Alexis!M41,RESULTATS!J41=RESULTATS!M41)),1,0)))","v":""},null,null,null,"04140Suède",4140,3,"Suède",{"$f":"SUMPRODUCT((Teams1=U41)*(Teams1_Score<>\"\"))+SUMPRODUCT((Teams2=U41)*(Teams2_Score<>\"\"))","v":3},{"$f":"SUMPRODUCT((Teams1=U41)*(Teams1_Score>Teams2_Score))+SUMPRODUCT((Teams2=U41)*(Teams2_Score>Teams1_Score))","v":1},{"$f":"SUMPRODUCT((Teams1=U41)*(Teams1_Score=Teams2_Score)*(Teams1_Score<>\"\"))+SUMPRODUCT((Teams2=U41)*(Teams2_Score=Teams1_Score)*(Teams2_Score<>\"\"))","v":1},{"$f":"SUMPRODUCT((Teams1=U41)*(Teams1_Score<Teams2_Score))+SUMPRODUCT((Teams2=U41)*(Teams2_Score<Teams1_Score))","v":1},{"$f":"SUMPRODUCT((Teams1=U41)*(Teams1_Score))+SUMPRODUCT((Teams2=U41)*(Teams2_Score))","v":4},{"$f":"SUMPRODUCT((Teams1=U41)*(Teams2_Score))+SUMPRODUCT((Teams2=U41)*(Teams1_Score))","v":3},{"$f":"Z41-AA41","v":1},{"$f":"3*W41+X41","v":4},null,null,"2018-07-07","D",{"$f":"+IF(AJ50<>\"\",IF(AI50>AO50,AH50,AN50),\"Vainqueur 6\")","v":"Allemagne"},{"$f":"AJ41*10+AL41","v":20},2,{"$f":"IF(LEFT(AH41,5)<>\"Vainq\",COUNTIF(RESULTATS!$AG$23:$AM$26,AH41),0)","v":0},null,null,{"$f":"+IF(AJ52<>\"\",IF(AI52>AO52,AH52,AN52),\"Vainqueur 8\")","v":"Belgique"},{"$f":"AP41*10+AR41","v":10},1,{"$f":"IF(LEFT(AN41,5)<>\"Vainq\",COUNTIF(RESULTATS!$AG$23:$AM$26,AN41),0)","v":0}]
[null,{"$f":"VLOOKUP($D42,TABLEAU_MATCHS[#All],2,FALSE)","v":"2018-06-25"},{"$f":"VLOOKUP($D42,TABLEAU_MATCHS[#All],3,FALSE)","v":"20:00:00"},35,{"$f":"\"Groupe \"&VLOOKUP($I42,TABLEAU_TEAMS[[#All],[TEAM]:[GROUP_INITIAL_RANK]],2,FALSE)","v":"Groupe B"},13,6.5,1.1399999999999999,{"$f":"VLOOKUP($D42,TABLEAU_MATCHS[#All],4,FALSE)","v":"RI Iran"},2,null,{"$f":"VLOOKUP($D42,TABLEAU_MATCHS[#All],5,FALSE)","v":"Portugal"},2,{"$f":"IF(OR(ISBLANK(RESULTATS!J42),ISBLANK(J42)),\"\",IF(AND(Alexis!J42=RESULTATS!J42,Alexis!M42=RESULTATS!M42),3,IF(OR(AND(Alexis!J42>Alexis!M42,RESULTATS!J42>RESULTATS!M42),AND(Alexis!J42<Alexis!M42,RESULTATS!J42<RESULTATS!M42),AND(Alexis!J42=Alexis!M42,RESULTATS!J42=RESULTATS!M42)),1,0)))","v":""},null,null,null,"-00390République de Corée",-390,4,"République de Corée",{"$f":"SUMPRODUCT((Teams1=U42)*(Teams1_Score<>\"\"))+SUMPRODUCT((Teams2=U42)*(Teams2_Score<>\"\"))","v":3},{"$f":"SUMPRODUCT((Teams1=U42)*(Teams1_Score>Teams2_Score))+SUMPRODUCT((Teams2=U42)*(Teams2_Score>Teams1_Score))","v":0},{"$f":"SUMPRODUCT((Teams1=U42)*(Teams1_Score=Teams2_Score)*(Teams1_Score<>\"\"))+SUMPRODUCT((Teams2=U42)*(Teams2_Score=Teams1_Score)*(Teams2_Score<>\"\"))","v":0},{"$f":"SUMPRODUCT((Teams1=U42)*(Teams1_Score<Teams2_Score))+SUMPRODUCT((Teams2=U42)*(Teams2_Score<Teams1_Score))","v":3},{"$f":"SUMPRODUCT((Teams1=U42)*(Teams1_Score))+SUMPRODUCT((Teams2=U42)*(Teams2_Score))","v":1},{"$f":"SUMPRODUCT((Teams1=U42)*(Teams2_Score))+SUMPRODUCT((Teams2=U42)*(Teams1_Score))","v":5},{"$f":"Z42-AA42","v":-4},{"$f":"3*W42+X42","v":0},null,null,null,null,null,null,null,{"$f":"SUM(AK38:AK41)","v":0},null,null,null,null,null,{"$f":"SUM(AQ38:AQ41)","v":0}]
[null,{"$f":"VLOOKUP($D43,TABLEAU_MATCHS[#All],2,FALSE)","v":"2018-06-25"},{"$f":"VLOOKUP($D43,TABLEAU_MATCHS[#All],3,FALSE)","v":"20:00:00"},36,{"$f":"\"Groupe \"&VLOOKUP($I43,TABLEAU_TEAMS[[#All],[TEAM]:[GROUP_INITIAL_RANK]],2,FALSE)","v":"Groupe B"},2.25,3.1,2.95,{"$f":"VLOOKUP($D43,TABLEAU_MATCHS[#All],4,FALSE)","v":"Espagne"},2,null,{"$f":"VLOOKUP($D43,TABLEAU_MATCHS[#All],5,FALSE)","v":"Maroc"},0,{"$f":"IF(OR(ISBLANK(RESULTATS!J43),ISBLANK(J43)),\"\",IF(AND(Alexis!J43=RESULTATS!J43,Alexis!M43=RESULTATS!M43),3,IF(OR(AND(Alexis!J43>Alexis!M43,RESULTATS!J43>RESULTATS!M43),AND(Alexis!J43<Alexis!M43,RESULTATS!J43<RESULTATS!M43),AND(Alexis!J43=Alexis!M43,RESULTATS!J43=RESULTATS!M43)),1,0)))","v":""},null,null,null,null,null,null,null,null,null,null,null,null,null,null,null,null,null,"Date","Huitième de Finale",null,null,"Buts",null,"Pen",null,null,null,"Buts",null,"Pen"]
[null,{"$f":"VLOOKUP($D44,TABLEAU_MATCHS[#All],2,FALSE)","v":"2018-06-26"},{"$f":"VLOOKUP($D44,TABLEAU_MATCHS[#All],3,FALSE)","v":"16:00:00"},37,{"$f":"\"Groupe \"&VLOOKUP($I44,TABLEAU_TEAMS[[#All],[TEAM]:[GROUP_INITIAL_RANK]],2,FALSE)","v":"Groupe C"},4.3,3.25,1.76,{"$f":"VLOOKUP($D44,TABLEAU_MATCHS[#All],4,FALSE)","v":"Danemark"},3,null,{"$f":"VLOOKUP($D44,TABLEAU_MATCHS[#All],5,FALSE)","v":"France"},3,{"$f":"IF(OR(ISBLANK(RESULTATS!J44),ISBLANK(J44)),\"\",IF(AND(Alexis!J44=RESULTATS!J44,Alexis!M44=RESULTATS!M44),3,IF(OR(AND(Alexis!J44>Alexis!M44,RESULTATS!J44>RESULTATS!M44),AND(Alexis!J44<Alexis!M44,RESULTATS!J44<RESULTATS!M44),AND(Alexis!J44=Alexis!M44,RESULTATS!J44=RESULTATS!M44)),1,0)))","v":""},null,null,null,null,null,"Rg","Groupe G","MJ","G","N","P","BP","BC","+/-","Pts"]
[null,{"$f":"VLOOKUP($D45,TABLEAU_MATCHS[#All],2,FALSE)","v":"2018-06-26"},{"$f":"VLOOKUP($D45,TABLEAU_MATCHS[#All],3,FALSE)","v":"16:00:00"},38,{"$f":"\"Groupe \"&VLOOKUP($I45,TABLEAU_TEAMS[[#All],[TEAM]:[GROUP_INITIAL_RANK]],2,FALSE)","v":"Groupe C"},3.05,3,2.25,{"$f":"VLOOKUP($D45,TABLEAU_MATCHS[#All],4,FALSE)","v":"Australie"},2,null,{"$f":"VLOOKUP($D45,TABLEAU_MATCHS[#All],5,FALSE)","v":"Pérou"},1,{"$f":"IF(OR(ISBLANK(RESULTATS!J45),ISBLANK(J45)),\"\",IF(AND(Alexis!J45=RESULTATS!J45,Alexis!M45=RESULTATS!M45),3,IF(OR(AND(Alexis!J45>Alexis!M45,RESULTATS!J45>RESULTATS!M45),AND(Alexis!J45<Alexis!M45,RESULTATS!J45<RESULTATS!M45),AND(Alexis!J45=Alexis!M45,RESULTATS!J45=RESULTATS!M45)),1,0)))","v":""},null,null,null,{"$f":"INDEX($R96:$R99,MATCH(SMALL(COUNTIF($R96:$R99,\">=\"&$R96:$R99),ROW(INDIRECT(\"1:\"&ROWS($R96:$R99)))),COUNTIF($R96:$R99,\">=\"&$R96:$R99),0))","v":"09680Angleterre"},{"$f":"INDEX($S96:$S99,MATCH(SMALL(COUNTIF($R96:$R99,\">=\"&$R96:$R99),ROW(INDIRECT(\"1:\"&ROWS($R96:$R99)))),COUNTIF($R96:$R99,\">=\"&$R96:$R99),0))","v":9680},{"$f":"INDEX($T96:$T99,MATCH(SMALL(COUNTIF($R96:$R99,\">=\"&$R96:$R99),ROW(INDIRECT(\"1:\"&ROWS($R96:$R99)))),COUNTIF($R96:$R99,\">=\"&$R96:$R99),0))","v":1},{"$f":"INDEX($U96:$U99,MATCH(SMALL(COUNTIF($R96:$R99,\">=\"&$R96:$R99),ROW(INDIRECT(\"1:\"&ROWS($R96:$R99)))),COUNTIF($R96:$R99,\">=\"&$R96:$R99),0))","v":"Angleterre"},{"$f":"SUMPRODUCT((Teams1=U45)*(Teams1_Score<>\"\"))+SUMPRODUCT((Teams2=U45)*(Teams2_Score<>\"\"))","v":3},{"$f":"SUMPRODUCT((Teams1=U45)*(Teams1_Score>Teams2_Score))+SUMPRODUCT((Teams2=U45)*(Teams2_Score>Teams1_Score))","v":3},{"$f":"SUMPRODUCT((Teams1=U45)*(Teams1_Score=Teams2_Score)*(Teams1_Score<>\"\"))+SUMPRODUCT((Teams2=U45)*(Teams2_Score=Teams1_Score)*(Teams2_Score<>\"\"))","v":0},{"$f":"SUMPRODUCT((Teams1=U45)*(Teams1_Score<Teams2_Score))+SUMPRODUCT((Teams2=U45)*(Teams2_Score<Teams1_Score))","v":0},{"$f":"SUMPRODUCT((Teams1=U45)*(Teams1_Score))+SUMPRODUCT((Teams2=U45)*(Teams2_Score))","v":8},{"$f":"SUMPRODUCT((Teams1=U45)*(Teams2_Score))+SUMPRODUCT((Teams2=U45)*(Teams1_Score))","v":2},{"$f":"Z45-AA45","v":6},{"$f":"3*W45+X45","v":9},null,null,"2018-06-30",1,{"$f":"IF(SUM(V9:V12)=0,\"1er Groupe A\",IF(COUNTIF(T9:T12,1)=1,VLOOKUP(1,T9:U12,2,FALSE),IF(COUNTIF(T9:T12,1)>=2,\"Tirage au Sort A1\")))","v":"Egypte"},{"$f":"AJ45*10+AL45","v":7},0,{"$f":"IF(AND(LEFT(AH45,3)<>\"1er\",LEFT(AH45,3)<>\"2nd\"),COUNTIF(RESULTATS!$AG$30:$AM$37,AH45),0)","v":0},7,null,{"$f":"IF(SUM(V15:V18)=0,\"2nd Groupe B\",IF(OR(COUNTIF(T15:T18,1)>1,COUNTIF(T15:T18,2)>1),\"Tirage au sort B2\",VLOOKUP(2,T15:U18,2,FALSE)))","v":"Portugal"},{"$f":"AP45*10+AR45","v":6},0,{"$f":"IF(AND(LEFT(AN45,3)<>\"1er\",LEFT(AN45,3)<>\"2nd\"),COUNTIF(RESULTATS!$AG$30:$AM$37,AN45),0)","v":0},6]
[null,{"$f":"VLOOKUP($D46,TABLEAU_MATCHS[#All],2,FALSE)","v":"2018-06-26"},{"$f":"VLOOKUP($D46,TABLEAU_MATCHS[#All],3,FALSE)","v":"20:00:00"},39,{"$f":"\"Groupe \"&VLOOKUP($I46,TABLEAU_TEAMS[[#All],[TEAM]:[GROUP_INITIAL_RANK]],2,FALSE)","v":"Groupe D"},2.4,2.9,2.85,{"$f":"VLOOKUP($D46,TABLEAU_MATCHS[#All],4,FALSE)","v":"Nigeria"},0,null,{"$f":"VLOOKUP($D46,TABLEAU_MATCHS[#All],5,FALSE)","v":"Argentine"},4,{"$f":"IF(OR(ISBLANK(RESULTATS!J46),ISBLANK(J46)),\"\",IF(AND(Alexis!J46=RESULTATS!J46,Alexis!M46=RESULTATS!M46),3,IF(OR(AND(Alexis!J46>Alexis!M46,RESULTATS!J46>RESULTATS!M46),AND(Alexis!J46<Alexis!M46,RESULTATS!J46<RESULTATS!M46),AND(Alexis!J46=Alexis!M46,RESULTATS!J46=RESULTATS!M46)),1,0)))","v":""},null,null,null,"06360Belgique",6360,2,"Belgique",{"$f":"SUMPRODUCT((Teams1=U46)*(Teams1_Score<>\"\"))+SUMPRODUCT((Teams2=U46)*(Teams2_Score<>\"\"))","v":3},{"$f":"SUMPRODUCT((Teams1=U46)*(Teams1_Score>Teams2_Score))+SUMPRODUCT((Teams2=U46)*(Teams2_Score>Teams1_Score))","v":2},{"$f":"SUMPRODUCT((Teams1=U46)*(Teams1_Score=Teams2_Score)*(Teams1_Score<>\"\"))+SUMPRODUCT((Teams2=U46)*(Teams2_Score=Teams1_Score)*(Teams2_Score<>\"\"))","v":0},{"$f":"SUMPRODUCT((Teams1=U46)*(Teams1_Score<Teams2_Score))+SUMPRODUCT((Teams2=U46)*(Teams2_Score<Teams1_Score))","v":1},{"$f":"SUMPRODUCT((Teams1=U46)*(Teams1_Score))+SUMPRODUCT((Teams2=U46)*(Teams2_Score))","v":6},{"$f":"SUMPRODUCT((Teams1=U46)*(Teams2_Score))+SUMPRODUCT((Teams2=U46)*(Teams1_Score))","v":3},{"$f":"Z46-AA46","v":3},{"$f":"3*W46+X46","v":6},null,null,"2018-07-01",2,{"$f":"IF(SUM(V15:V18)=0,\"1er Groupe B\",IF(COUNTIF(T15:T18,1)=1,VLOOKUP(1,T15:U18,2,FALSE),IF(COUNTIF(T15:T18,1)>=2,\"Tirage au Sort B1\")))","v":"Espagne"},{"$f":"AJ46*10+AL46","v":15},1,{"$f":"IF(AND(LEFT(AH46,3)<>\"1er\",LEFT(AH46,3)<>\"2nd\"),COUNTIF(RESULTATS!$AG$30:$AM$37,AH46),0)","v":0},5,null,{"$f":"IF(SUM(V9:V12)=0,\"2nd Groupe A\",IF(OR(COUNTIF(T9:T12,1)>1,COUNTIF(T9:T12,2)>1),\"Tirage au sort A2\",VLOOKUP(2,T9:U12,2,FALSE)))","v":"Uruguay"},14,1,{"$f":"IF(AND(LEFT(AN46,3)<>\"1er\",LEFT(AN46,3)<>\"2nd\"),COUNTIF(RESULTATS!$AG$30:$AM$37,AN46),0)","v":1},4]
[null,{"$f":"VLOOKUP($D47,TABLEAU_MATCHS[#All],2,FALSE)","v":"2018-06-26"},{"$f":"VLOOKUP($D47,TABLEAU_MATCHS[#All],3,FALSE)","v":"20:00:00"},40,{"$f":"\"Groupe \"&VLOOKUP($I47,TABLEAU_TEAMS[[#All],[TEAM]:[GROUP_INITIAL_RANK]],2,FALSE)","v":"Groupe D"},6.5,3.7,1.44,{"$f":"VLOOKUP($D47,TABLEAU_MATCHS[#All],4,FALSE)","v":"Islande"},2,null,{"$f":"VLOOKUP($D47,TABLEAU_MATCHS[#All],5,FALSE)","v":"Croatie"},0,{"$f":"IF(OR(ISBLANK(RESULTATS!J47),ISBLANK(J47)),\"\",IF(AND(Alexis!J47=RESULTATS!J47,Alexis!M47=RESULTATS!M47),3,IF(OR(AND(Alexis!J47>Alexis!M47,RESULTATS!J47>RESULTATS!M47),AND(Alexis!J47<Alexis!M47,RESULTATS!J47<RESULTATS!M47),AND(Alexis!J47=Alexis!M47,RESULTATS!J47=RESULTATS!M47)),1,0)))","v":""},null,null,null,"03150Tunisie",3150,3,"Tunisie",{"$f":"SUMPRODUCT((Teams1=U47)*(Teams1_Score<>\"\"))+SUMPRODUCT((Teams2=U47)*(Teams2_Score<>\"\"))","v":3},{"$f":"SUMPRODUCT((Teams1=U47)*(Teams1_Score>Teams2_Score))+SUMPRODUCT((Teams2=U47)*(Teams2_Score>Teams1_Score))","v":1},{"$f":"SUMPRODUCT((Teams1=U47)*(Teams1_Score=Teams2_Score)*(Teams1_Score<>\"\"))+SUMPRODUCT((Teams2=U47)*(Teams2_Score=Teams1_Score)*(Teams2_Score<>\"\"))","v":0},{"$f":"SUMPRODUCT((Teams1=U47)*(Teams1_Score<Teams2_Score))+SUMPRODUCT((Teams2=U47)*(Teams2_Score<Teams1_Score))","v":2},{"$f":"SUMPRODUCT((Teams1=U47)*(Teams1_Score))+SUMPRODUCT((Teams2=U47)*(Teams2_Score))","v":5},{"$f":"SUMPRODUCT((Teams1=U47)*(Teams2_Score))+SUMPRODUCT((Teams2=U47)*(Teams1_Score))","v":4},{"$f":"Z47-AA47","v":1},{"$f":"3*W47+X47","v":3},null,null,"2017-06-30",3,{"$f":"IF(SUM(V21:V24)=0,\"1er Groupe C\",IF(COUNTIF(T21:T24,1)=1,VLOOKUP(1,T21:U24,2,FALSE),IF(COUNTIF(T21:T24,1)>=2,\"Tirage au Sort C1\")))","v":"Danemark"},20,2,{"$f":"IF(AND(LEFT(AH47,3)<>\"1er\",LEFT(AH47,3)<>\"2nd\"),COUNTIF(RESULTATS!$AG$30:$AM$37,AH47),0)","v":0},null,null,{"$f":"IF(SUM(V27:V30)=0,\"2nd Groupe D\",IF(OR(COUNTIF(T27:T30,1)>1,COUNTIF(T27:T30,2)>1),\"Tirage au sort D2\",VLOOKUP(2,T27:U30,2,FALSE)))","v":"Islande"},0,0,{"$f":"IF(AND(LEFT(AN47,3)<>\"1er\",LEFT(AN47,3)<>\"2nd\"),COUNTIF(RESULTATS!$AG$30:$AM$37,AN47),0)","v":0}]
[null,{"$f":"VLOOKUP($D48,TABLEAU_MATCHS[#All],2,FALSE)","v":"2018-06-27"},{"$f":"VLOOKUP($D48,TABLEAU_MATCHS[#All],3,FALSE)","v":"20:00:00"},41,{"$f":"\"Groupe \"&VLOOKUP($I48,TABLEAU_TEAMS[[#All],[TEAM]:[GROUP_INITIAL_RANK]],2,FALSE)","v":"Groupe E"},6.5,3.5,1.48,{"$f":"VLOOKUP($D48,TABLEAU_MATCHS[#All],4,FALSE)","v":"Serbie"},0,null,{"$f":"VLOOKUP($D48,TABLEAU_MATCHS[#All],5,FALSE)","v":"Brésil"},2,{"$f":"IF(OR(ISBLANK(RESULTATS!J48),ISBLANK(J48)),\"\",IF(AND(Alexis!J48=RESULTATS!J48,Alexis!M48=RESULTATS!M48),3,IF(OR(AND(Alexis!J48>Alexis!M48,RESULTATS!J48>RESULTATS!M48),AND(Alexis!J48<Alexis!M48,RESULTATS!J48<RESULTATS!M48),AND(Alexis!J48=Alexis!M48,RESULTATS!J48=RESULTATS!M48)),1,0)))","v":""},null,null,null,"-00990Panama",-990,4,"Panama",{"$f":"SUMPRODUCT((Teams1=U48)*(Teams1_Score<>\"\"))+SUMPRODUCT((Teams2=U48)*(Teams2_Score<>\"\"))","v":3},{"$f":"SUMPRODUCT((Teams1=U48)*(Teams1_Score>Teams2_Score))+SUMPRODUCT((Teams2=U48)*(Teams2_Score>Teams1_Score))","v":0},{"$f":"SUMPRODUCT((Teams1=U48)*(Teams1_Score=Teams2_Score)*(Teams1_Score<>\"\"))+SUMPRODUCT((Teams2=U48)*(Teams2_Score=Teams1_Score)*(Teams2_Score<>\"\"))","v":0},{"$f":"SUMPRODUCT((Teams1=U48)*(Teams1_Score<Teams2_Score))+SUMPRODUCT((Teams2=U48)*(Teams2_Score<Teams1_Score))","v":3},{"$f":"SUMPRODUCT((Teams1=U48)*(Teams1_Score))+SUMPRODUCT((Teams2=U48)*(Teams2_Score))","v":1},{"$f":"SUMPRODUCT((Teams1=U48)*(Teams2_Score))+SUMPRODUCT((Teams2=U48)*(Teams1_Score))","v":11},{"$f":"Z48-AA48","v":-10},{"$f":"3*W48+X48","v":0},null,null,"2018-07-01",4,{"$f":"IF(SUM(V27:V30)=0,\"1er Groupe D\",IF(COUNTIF(T27:T30,1)=1,VLOOKUP(1,T27:U30,2,FALSE),IF(COUNTIF(T27:T30,1)>=2,\"Tirage au Sort D1\")))","v":"Argentine"},10,1,{"$f":"IF(AND(LEFT(AH48,3)<>\"1er\",LEFT(AH48,3)<>\"2nd\"),COUNTIF(RESULTATS!$AG$30:$AM$37,AH48),0)","v":0},null,null,{"$f":"IF(SUM(V21:V24)=0,\"2nd Groupe C\",IF(OR(COUNTIF(T21:T24,1)>1,COUNTIF(T21:T24,2)>1),\"Tirage au sort C2\",VLOOKUP(2,T21:U24,2,FALSE)))","v":"France"},30,3,{"$f":"IF(AND(LEFT(AN48,3)<>\"1er\",LEFT(AN48,3)<>\"2nd\"),COUNTIF(RESULTATS!$AG$30:$AM$37,AN48),0)","v":0}]
[null,{"$f":"VLOOKUP($D49,TABLEAU_MATCHS[#All],2,FALSE)","v":"2018-06-27"},{"$f":"VLOOKUP($D49,TABLEAU_MATCHS[#All],3,FALSE)","v":"20:00:00"},42,{"$f":"\"Groupe \"&VLOOKUP($I49,TABLEAU_TEAMS[[#All],[TEAM]:[GROUP_INITIAL_RANK]],2,FALSE)","v":"Groupe E"},4,3.05,1.9,{"$f":"VLOOKUP($D49,TABLEAU_MATCHS[#All],4,FALSE)","v":"Suisse"},1,null,{"$f":"VLOOKUP($D49,TABLEAU_MATCHS[#All],5,FALSE)","v":"Costa Rica"},0,{"$f":"IF(OR(ISBLANK(RESULTATS!J49),ISBLANK(J49)),\"\",IF(AND(Alexis!J49=RESULTATS!J49,Alexis!M49=RESULTATS!M49),3,IF(OR(AND(Alexis!J49>Alexis!M49,RESULTATS!J49>RESULTATS!M49),AND(Alexis!J49<Alexis!M49,RESULTATS!J49<RESULTATS!M49),AND(Alexis!J49=Alexis!M49,RESULTATS!J49=RESULTATS!M49)),1,0)))","v":""},null,null,null,null,null,null,null,null,null,null,null,null,null,null,null,null,null,"2018-07-02",5,{"$f":"IF(SUM(V33:V36)=0,\"1er Groupe E\",IF(COUNTIF(T33:T36,1)=1,VLOOKUP(1,T33:U36,2,FALSE),IF(COUNTIF(T33:T36,1)>=2,\"Tirage au Sort E1\")))","v":"Brésil"},10,1,{"$f":"IF(AND(LEFT(AH49,3)<>\"1er\",LEFT(AH49,3)<>\"2nd\"),COUNTIF(RESULTATS!$AG$30:$AM$37,AH49),0)","v":0},null,null,{"$f":"IF(SUM(V39:V42)=0,\"2nd Groupe F\",IF(OR(COUNTIF(T39:T42,1)>1,COUNTIF(T39:T42,2)>1),\"Tirage au sort F2\",VLOOKUP(2,T39:U42,2,FALSE)))","v":"Mexique"},0,0,{"$f":"IF(AND(LEFT(AN49,3)<>\"1er\",LEFT(AN49,3)<>\"2nd\"),COUNTIF(RESULTATS!$AG$30:$AM$37,AN49),0)","v":0}]
[null,{"$f":"VLOOKUP($D50,TABLEAU_MATCHS[#All],2,FALSE)","v":"2018-06-27"},{"$f":"VLOOKUP($D50,TABLEAU_MATCHS[#All],3,FALSE)","v":"16:00:00"},43,{"$f":"\"Groupe \"&VLOOKUP($I50,TABLEAU_TEAMS[[#All],[TEAM]:[GROUP_INITIAL_RANK]],2,FALSE)","v":"Groupe F"},8.5,4.3,1.3,{"$f":"VLOOKUP($D50,TABLEAU_MATCHS[#All],4,FALSE)","v":"Mexique"},2,null,{"$f":"VLOOKUP($D50,TABLEAU_MATCHS[#All],5,FALSE)","v":"Suède"},1,{"$f":"IF(OR(ISBLANK(RESULTATS!J50),ISBLANK(J50)),\"\",IF(AND(Alexis!J50=RESULTATS!J50,Alexis!M50=RESULTATS!M50),3,IF(OR(AND(Alexis!J50>Alexis!M50,RESULTATS!J50>RESULTATS!M50),AND(Alexis!J50<Alexis!M50,RESULTATS!J50<RESULTATS!M50),AND(Alexis!J50=Alexis!M50,RESULTATS!J50=RESULTATS!M50)),1,0)))","v":""},null,null,null,null,null,"Rg","Groupe H","MJ","G","N","P","BP","BC","+/-","Pts",null,null,"2018-07-03",6,{"$f":"IF(SUM(V39:V42)=0,\"1er Groupe F\",IF(COUNTIF(T39:T42,1)=1,VLOOKUP(1,T39:U42,2,FALSE),IF(COUNTIF(T39:T42,1)>=2,\"Tirage au Sort F1\")))","v":"Allemagne"},16,1,{"$f":"IF(AND(LEFT(AH50,3)<>\"1er\",LEFT(AH50,3)<>\"2nd\"),COUNTIF(RESULTATS!$AG$30:$AM$37,AH50),0)","v":0},6,null,{"$f":"IF(SUM(V33:V36)=0,\"2nd Groupe E\",IF(OR(COUNTIF(T33:T36,1)>1,COUNTIF(T33:T36,2)>1),\"Tirage au sort E2\",VLOOKUP(2,T33:U36,2,FALSE)))","v":"Suisse"},15,1,{"$f":"IF(AND(LEFT(AN50,3)<>\"1er\",LEFT(AN50,3)<>\"2nd\"),COUNTIF(RESULTATS!$AG$30:$AM$37,AN50),0)","v":0},5]
[null,{"$f":"VLOOKUP($D51,TABLEAU_MATCHS[#All],2,FALSE)","v":"2018-06-27"},{"$f":"VLOOKUP($D51,TABLEAU_MATCHS[#All],3,FALSE)","v":"16:00:00"},44,{"$f":"\"Groupe \"&VLOOKUP($I51,TABLEAU_TEAMS[[#All],[TEAM]:[GROUP_INITIAL_RANK]],2,FALSE)","v":"Groupe F"},1.48,3.6,6.25,{"$f":"VLOOKUP($D51,TABLEAU_MATCHS[#All],4,FALSE)","v":"République de Corée"},0,null,{"$f":"VLOOKUP($D51,TABLEAU_MATCHS[#All],5,FALSE)","v":"Allemagne"},1,{"$f":"IF(OR(ISBLANK(RESULTATS!J51),ISBLANK(J51)),\"\",IF(AND(Alexis!J51=RESULTATS!J51,Alexis!M51=RESULTATS!M51),3,IF(OR(AND(Alexis!J51>Alexis!M51,RESULTATS!J51>RESULTATS!M51),AND(Alexis!J51<Alexis!M51,RESULTATS!J51<RESULTATS!M51),AND(Alexis!J51=Alexis!M51,RESULTATS!J51=RESULTATS!M51)),1,0)))","v":""},null,null,null,{"$f":"INDEX($R102:$R105,MATCH(SMALL(COUNTIF($R102:$R105,\">=\"&$R102:$R105),ROW(INDIRECT(\"1:\"&ROWS($R102:$R105)))),COUNTIF($R102:$R105,\">=\"&$R102:$R105),0))","v":"06240Pologne"},{"$f":"INDEX($S102:$S105,MATCH(SMALL(COUNTIF($R102:$R105,\">=\"&$R102:$R105),ROW(INDIRECT(\"1:\"&ROWS($R102:$R105)))),COUNTIF($R102:$R105,\">=\"&$R102:$R105),0))","v":6240},{"$f":"INDEX($T102:$T105,MATCH(SMALL(COUNTIF($R102:$R105,\">=\"&$R102:$R105),ROW(INDIRECT(\"1:\"&ROWS($R102:$R105)))),COUNTIF($R102:$R105,\">=\"&$R102:$R105),0))","v":1},{"$f":"INDEX($U102:$U105,MATCH(SMALL(COUNTIF($R102:$R105,\">=\"&$R102:$R105),ROW(INDIRECT(\"1:\"&ROWS($R102:$R105)))),COUNTIF($R102:$R105,\">=\"&$R102:$R105),0))","v":"Pologne"},{"$f":"SUMPRODUCT((Teams1=U51)*(Teams1_Score<>\"\"))+SUMPRODUCT((Teams2=U51)*(Teams2_Score<>\"\"))","v":3},{"$f":"SUMPRODUCT((Teams1=U51)*(Teams1_Score>Teams2_Score))+SUMPRODUCT((Teams2=U51)*(Teams2_Score>Teams1_Score))","v":2},{"$f":"SUMPRODUCT((Teams1=U51)*(Teams1_Score=Teams2_Score)*(Teams1_Score<>\"\"))+SUMPRODUCT((Teams2=U51)*(Teams2_Score=Teams1_Score)*(Teams2_Score<>\"\"))","v":0},{"$f":"SUMPRODUCT((Teams1=U51)*(Teams1_Score<Teams2_Score))+SUMPRODUCT((Teams2=U51)*(Teams2_Score<Teams1_Score))","v":1},{"$f":"SUMPRODUCT((Teams1=U51)*(Teams1_Score))+SUMPRODUCT((Teams2=U51)*(Teams2_Score))","v":4},{"$f":"SUMPRODUCT((Teams1=U51)*(Teams2_Score))+SUMPRODUCT((Teams2=U51)*(Teams1_Score))","v":2},{"$f":"Z51-AA51","v":2},{"$f":"3*W51+X51","v":6},null,null,"2018-07-02",7,{"$f":"IF(SUM(V45:V48)=0,\"1er Groupe G\",IF(COUNTIF(T45:T48,1)=1,VLOOKUP(1,T45:U48,2,FALSE),IF(COUNTIF(T45:T48,1)>=2,\"Tirage au Sort G1\")))","v":"Angleterre"},20,2,{"$f":"IF(AND(LEFT(AH51,3)<>\"1er\",LEFT(AH51,3)<>\"2nd\"),COUNTIF(RESULTATS!$AG$30:$AM$37,AH51),0)","v":0},null,null,{"$f":"IF(SUM(V51:V54)=0,\"2nd Groupe H\",IF(OR(COUNTIF(T51:T54,1)>1,COUNTIF(T51:T54,2)>1),\"Tirage au sort H2\",VLOOKUP(2,T51:U54,2,FALSE)))","v":"Colombie"},10,1,{"$f":"IF(AND(LEFT(AN51,3)<>\"1er\",LEFT(AN51,3)<>\"2nd\"),COUNTIF(RESULTATS!$AG$30:$AM$37,AN51),0)","v":0}]
[null,{"$f":"VLOOKUP($D52,TABLEAU_MATCHS[#All],2,FALSE)","v":"2018-06-28"},{"$f":"VLOOKUP($D52,TABLEAU_MATCHS[#All],3,FALSE)","v":"20:00:00"},45,{"$f":"\"Groupe \"&VLOOKUP($I52,TABLEAU_TEAMS[[#All],[TEAM]:[GROUP_INITIAL_RANK]],2,FALSE)","v":"Groupe G"},8,4.2,1.32,{"$f":"VLOOKUP($D52,TABLEAU_MATCHS[#All],4,FALSE)","v":"Panama"},0,null,{"$f":"VLOOKUP($D52,TABLEAU_MATCHS[#All],5,FALSE)","v":"Tunisie"},4,{"$f":"IF(OR(ISBLANK(RESULTATS!J52),ISBLANK(J52)),\"\",IF(AND(Alexis!J52=RESULTATS!J52,Alexis!M52=RESULTATS!M52),3,IF(OR(AND(Alexis!J52>Alexis!M52,RESULTATS!J52>RESULTATS!M52),AND(Alexis!J52<Alexis!M52,RESULTATS!J52<RESULTATS!M52),AND(Alexis!J52=Alexis!M52,RESULTATS!J52=RESULTATS!M52)),1,0)))","v":""},null,null,null,"06140Colombie",6140,2,"Colombie",{"$f":"SUMPRODUCT((Teams1=U52)*(Teams1_Score<>\"\"))+SUMPRODUCT((Teams2=U52)*(Teams2_Score<>\"\"))","v":3},{"$f":"SUMPRODUCT((Teams1=U52)*(Teams1_Score>Teams2_Score))+SUMPRODUCT((Teams2=U52)*(Teams2_Score>Teams1_Score))","v":2},{"$f":"SUMPRODUCT((Teams1=U52)*(Teams1_Score=Teams2_Score)*(Teams1_Score<>\"\"))+SUMPRODUCT((Teams2=U52)*(Teams2_Score=Teams1_Score)*(Teams2_Score<>\"\"))","v":0},{"$f":"SUMPRODUCT((Teams1=U52)*(Teams1_Score<Teams2_Score))+SUMPRODUCT((Teams2=U52)*(Teams2_Score<Teams1_Score))","v":1},{"$f":"SUMPRODUCT((Teams1=U52)*(Teams1_Score))+SUMPRODUCT((Teams2=U52)*(Teams2_Score))","v":4},{"$f":"SUMPRODUCT((Teams1=U52)*(Teams2_Score))+SUMPRODUCT((Teams2=U52)*(Teams1_Score))","v":3},{"$f":"Z52-AA52","v":1},{"$f":"3*W52+X52","v":6},null,null,"2018-07-03",8,{"$f":"IF(SUM(V51:V54)=0,\"1er Groupe H\",IF(COUNTIF(T51:T54,1)=1,VLOOKUP(1,T51:U54,2,FALSE),IF(COUNTIF(T51:T54,1)>=2,\"Tirage au Sort H1\")))","v":"Pologne"},10,1,{"$f":"IF(AND(LEFT(AH52,3)<>\"1er\",LEFT(AH52,3)<>\"2nd\"),COUNTIF(RESULTATS!$AG$30:$AM$37,AH52),0)","v":0},null,null,{"$f":"IF(SUM(V45:V48)=0,\"2nd Groupe G\",IF(OR(COUNTIF(T45:T48,1)>1,COUNTIF(T45:T48,2)>1),\"Tirage au sort G2\",VLOOKUP(2,T45:U48,2,FALSE)))","v":"Belgique"},30,3,{"$f":"IF(AND(LEFT(AN52,3)<>\"1er\",LEFT(AN52,3)<>\"2nd\"),COUNTIF(RESULTATS!$AG$30:$AM$37,AN52),0)","v":0}]
[null,{"$f":"VLOOKUP($D53,TABLEAU_MATCHS[#All],2,FALSE)","v":"2018-06-28"},{"$f":"VLOOKUP($D53,TABLEAU_MATCHS[#All],3,FALSE)","v":"20:00:00"},46,{"$f":"\"Groupe \"&VLOOKUP($I53,TABLEAU_TEAMS[[#All],[TEAM]:[GROUP_INITIAL_RANK]],2,FALSE)","v":"Groupe G"},1.74,3.2,4.0999999999999996,{"$f":"VLOOKUP($D53,TABLEAU_MATCHS[#All],4,FALSE)","v":"Angleterre"},2,null,{"$f":"VLOOKUP($D53,TABLEAU_MATCHS[#All],5,FALSE)","v":"Belgique"},1,{"$f":"IF(OR(ISBLANK(RESULTATS!J53),ISBLANK(J53)),\"\",IF(AND(Alexis!J53=RESULTATS!J53,Alexis!M53=RESULTATS!M53),3,IF(OR(AND(Alexis!J53>Alexis!M53,RESULTATS!J53>RESULTATS!M53),AND(Alexis!J53<Alexis!M53,RESULTATS!J53<RESULTATS!M53),AND(Alexis!J53=Alexis!M53,RESULTATS!J53=RESULTATS!M53)),1,0)))","v":""},null,null,null,"04020Japon",4020,3,"Japon",{"$f":"SUMPRODUCT((Teams1=U53)*(Teams1_Score<>\"\"))+SUMPRODUCT((Teams2=U53)*(Teams2_Score<>\"\"))","v":3},{"$f":"SUMPRODUCT((Teams1=U53)*(Teams1_Score>Teams2_Score))+SUMPRODUCT((Teams2=U53)*(Teams2_Score>Teams1_Score))","v":1},{"$f":"SUMPRODUCT((Teams1=U53)*(Teams1_Score=Teams2_Score)*(Teams1_Score<>\"\"))+SUMPRODUCT((Teams2=U53)*(Teams2_Score=Teams1_Score)*(Teams2_Score<>\"\"))","v":1},{"$f":"SUMPRODUCT((Teams1=U53)*(Teams1_Score<Teams2_Score))+SUMPRODUCT((Teams2=U53)*(Teams2_Score<Teams1_Score))","v":1},{"$f":"SUMPRODUCT((Teams1=U53)*(Teams1_Score))+SUMPRODUCT((Teams2=U53)*(Teams2_Score))","v":2},{"$f":"SUMPRODUCT((Teams1=U53)*(Teams2_Score))+SUMPRODUCT((Teams2=U53)*(Teams1_Score))","v":2},{"$f":"Z53-AA53","v":0},{"$f":"3*W53+X53","v":4},null,null,null,null,null,null,null,{"$f":"SUM(AK45:AK52)","v":0},null,null,null,0,null,{"$f":"SUM(AQ45:AQ52)","v":1}]
[null,{"$f":"VLOOKUP($D54,TABLEAU_MATCHS[#All],2,FALSE)","v":"2018-06-28"},{"$f":"VLOOKUP($D54,TABLEAU_MATCHS[#All],3,FALSE)","v":"16:00:00"},47,{"$f":"\"Groupe \"&VLOOKUP($I54,TABLEAU_TEAMS[[#All],[TEAM]:[GROUP_INITIAL_RANK]],2,FALSE)","v":"Groupe H"},4.9000000000000004,3.25,1.62,{"$f":"VLOOKUP($D54,TABLEAU_MATCHS[#All],4,FALSE)","v":"Japon"},1,null,{"$f":"VLOOKUP($D54,TABLEAU_MATCHS[#All],5,FALSE)","v":"Pologne"},0,{"$f":"IF(OR(ISBLANK(RESULTATS!J54),ISBLANK(J54)),\"\",IF(AND(Alexis!J54=RESULTATS!J54,Alexis!M54=RESULTATS!M54),3,IF(OR(AND(Alexis!J54>Alexis!M54,RESULTATS!J54>RESULTATS!M54),AND(Alexis!J54<Alexis!M54,RESULTATS!J54<RESULTATS!M54),AND(Alexis!J54=Alexis!M54,RESULTATS!J54=RESULTATS!M54)),1,0)))","v":""},null,null,null,"00720Sénégal",720,4,"Sénégal",{"$f":"SUMPRODUCT((Teams1=U54)*(Teams1_Score<>\"\"))+SUMPRODUCT((Teams2=U54)*(Teams2_Score<>\"\"))","v":3},{"$f":"SUMPRODUCT((Teams1=U54)*(Teams1_Score>Teams2_Score))+SUMPRODUCT((Teams2=U54)*(Teams2_Score>Teams1_Score))","v":0},{"$f":"SUMPRODUCT((Teams1=U54)*(Teams1_Score=Teams2_Score)*(Teams1_Score<>\"\"))+SUMPRODUCT((Teams2=U54)*(Teams2_Score=Teams1_Score)*(Teams2_Score<>\"\"))","v":1},{"$f":"SUMPRODUCT((Teams1=U54)*(Teams1_Score<Teams2_Score))+SUMPRODUCT((Teams2=U54)*(Teams2_Score<Teams1_Score))","v":2},{"$f":"SUMPRODUCT((Teams1=U54)*(Teams1_Score))+SUMPRODUCT((Teams2=U54)*(Teams2_Score))","v":2},{"$f":"SUMPRODUCT((Teams1=U54)*(Teams2_Score))+SUMPRODUCT((Teams2=U54)*(Teams1_Score))","v":5},{"$f":"Z54-AA54","v":-3},{"$f":"3*W54+X54","v":1}]
[null,{"$f":"VLOOKUP($D55,TABLEAU_MATCHS[#All],2,FALSE)","v":"2018-06-28"},{"$f":"VLOOKUP($D55,TABLEAU_MATCHS[#All],3,FALSE)","v":"16:00:00"},48,{"$f":"\"Groupe \"&VLOOKUP($I55,TABLEAU_TEAMS[[#All],[TEAM]:[GROUP_INITIAL_RANK]],2,FALSE)","v":"Groupe H"},6,3.4,1.52,{"$f":"VLOOKUP($D55,TABLEAU_MATCHS[#All],4,FALSE)","v":"Sénégal"},1,null,{"$f":"VLOOKUP($D55,TABLEAU_MATCHS[#All],5,FALSE)","v":"Colombie"},2,{"$f":"IF(OR(ISBLANK(RESULTATS!J55),ISBLANK(J55)),\"\",IF(AND(Alexis!J55=RESULTATS!J55,Alexis!M55=RESULTATS!M55),3,IF(OR(AND(Alexis!J55>Alexis!M55,RESULTATS!J55>RESULTATS!M55),AND(Alexis!J55<Alexis!M55,RESULTATS!J55<RESULTATS!M55),AND(Alexis!J55=Alexis!M55,RESULTATS!J55=RESULTATS!M55)),1,0)))","v":""}]
[null,null,null,null,null,null,null,null,null,null,null,null,null,{"$f":"SUM(N8:N55)","v":2}]
[]
[]
[null,"Tirage au sort A1",null,null,null,null,null,null,null,null,null,null,null,null,null,null,null,null,null,"Rg","Groupe A","MJ","G","N","P","BP","BC","+/-","Pts"]
[null,{"$f":"IF(ROWS($1:1)<=COUNTIF($T$9:$T$12,1),INDEX($U$9:$U$12,SMALL(IF($T$9:$T$12=1,ROW(INDIRECT(\"1:\"&ROWS($T$9:$T$12)))),ROWS($1:1))),\"\")","v":"Egypte"},null,null,null,null,null,null,null,null,null,null,null,null,null,null,"A_1",{"$f":"TEXT(S60,\"00000\")&U60","v":"05130Russie"},{"$f":"AC60*1000+AB60*100+Z60*10","v":5130},{"$f":"RANK(S60,$S60:$S64,0)","v":3},{"$f":"VLOOKUP(Q60,TABLEAU_TEAMS[#All],2,FALSE)","v":"Russie"},{"$f":"SUMPRODUCT((Teams1=U60)*(Teams1_Score<>\"\"))+SUMPRODUCT((Teams2=U60)*(Teams2_Score<>\"\"))","v":3},{"$f":"SUMPRODUCT((Teams1=U60)*(Teams1_Score>Teams2_Score))+SUMPRODUCT((Teams2=U60)*(Teams2_Score>Teams1_Score))","v":1},{"$f":"SUMPRODUCT((Teams1=U60)*(Teams1_Score=Teams2_Score)*(Teams1_Score<>\"\"))+SUMPRODUCT((Teams2=U60)*(Teams2_Score=Teams1_Score)*(Teams2_Score<>\"\"))","v":2},{"$f":"SUMPRODUCT((Teams1=U60)*(Teams1_Score<Teams2_Score))+SUMPRODUCT((Teams2=U60)*(Teams2_Score<Teams1_Score))","v":0},{"$f":"SUMPRODUCT((Teams1=U60)*(Teams1_Score))+SUMPRODUCT((Teams2=U60)*(Teams2_Score))","v":3},{"$f":"SUMPRODUCT((Teams1=U60)*(Teams2_Score))+SUMPRODUCT((Teams2=U60)*(Teams1_Score))","v":2},{"$f":"Z60-AA60","v":1},{"$f":"3*W60+X60","v":5}]
[null,{"$f":"IF(ROWS($1:2)<=COUNTIF($T$9:$T$12,1),INDEX($U$9:$U$12,SMALL(IF($T$9:$T$12=1,ROW(INDIRECT(\"1:\"&ROWS($T$9:$T$12)))),ROWS($1:2))),\"\")","v":""},null,null,null,null,null,null,null,null,null,null,null,null,null,null,"A_2",{"$f":"TEXT(S61,\"00000\")&U61","v":"-00690Arabie Saoudite"},{"$f":"AC61*1000+AB61*100+Z61*10","v":-690},{"$f":"RANK(S61,$S60:$S64,0)","v":4},{"$f":"VLOOKUP(Q61,TABLEAU_TEAMS[#All],2,FALSE)","v":"Arabie Saoudite"},{"$f":"SUMPRODUCT((Teams1=U61)*(Teams1_Score<>\"\"))+SUMPRODUCT((Teams2=U61)*(Teams2_Score<>\"\"))","v":3},{"$f":"SUMPRODUCT((Teams1=U61)*(Teams1_Score>Teams2_Score))+SUMPRODUCT((Teams2=U61)*(Teams2_Score>Teams1_Score))","v":0},{"$f":"SUMPRODUCT((Teams1=U61)*(Teams1_Score=Teams2_Score)*(Teams1_Score<>\"\"))+SUMPRODUCT((Teams2=U61)*(Teams2_Score=Teams1_Score)*(Teams2_Score<>\"\"))","v":0},{"$f":"SUMPRODUCT((Teams1=U61)*(Teams1_Score<Teams2_Score))+SUMPRODUCT((Teams2=U61)*(Teams2_Score<Teams1_Score))","v":3},{"$f":"SUMPRODUCT((Teams1=U61)*(Teams1_Score))+SUMPRODUCT((Teams2=U61)*(Teams2_Score))","v":1},{"$f":"SUMPRODUCT((Teams1=U61)*(Teams2_Score))+SUMPRODUCT((Teams2=U61)*(Teams1_Score))","v":8},{"$f":"Z61-AA61","v":-7},{"$f":"3*W61+X61","v":0}]
[null,{"$f":"IF(ROWS($1:3)<=COUNTIF($T$9:$T$12,1),INDEX($U$9:$U$12,SMALL(IF($T$9:$T$12=1,ROW(INDIRECT(\"1:\"&ROWS($T$9:$T$12)))),ROWS($1:3))),\"\")","v":""},null,null,null,null,null,null,null,null,null,null,null,null,null,null,"A_3",{"$f":"TEXT(S62,\"00000\")&U62","v":"05440Egypte"},{"$f":"AC62*1000+AB62*100+Z62*10","v":5440},{"$f":"RANK(S62,$S60:$S64,0)","v":1},{"$f":"VLOOKUP(Q62,TABLEAU_TEAMS[#All],2,FALSE)","v":"Egypte"},{"$f":"SUMPRODUCT((Teams1=U62)*(Teams1_Score<>\"\"))+SUMPRODUCT((Teams2=U62)*(Teams2_Score<>\"\"))","v":3},{"$f":"SUMPRODUCT((Teams1=U62)*(Teams1_Score>Teams2_Score))+SUMPRODUCT((Teams2=U62)*(Teams2_Score>Teams1_Score))","v":1},{"$f":"SUMPRODUCT((Teams1=U62)*(Teams1_Score=Teams2_Score)*(Teams1_Score<>\"\"))+SUMPRODUCT((Teams2=U62)*(Teams2_Score=Teams1_Score)*(Teams2_Score<>\"\"))","v":2},{"$f":"SUMPRODUCT((Teams1=U62)*(Teams1_Score<Teams2_Score))+SUMPRODUCT((Teams2=U62)*(Teams2_Score<Teams1_Score))","v":0},{"$f":"SUMPRODUCT((Teams1=U62)*(Teams1_Score))+SUMPRODUCT((Teams2=U62)*(Teams2_Score))","v":4},{"$f":"SUMPRODUCT((Teams1=U62)*(Teams2_Score))+SUMPRODUCT((Teams2=U62)*(Teams1_Score))","v":0},{"$f":"Z62-AA62","v":4},{"$f":"3*W62+X62","v":5}]
[null,{"$f":"IF(ROWS($1:4)<=COUNTIF($T$9:$T$12,1),INDEX($U$9:$U$12,SMALL(IF($T$9:$T$12=1,ROW(INDIRECT(\"1:\"&ROWS($T$9:$T$12)))),ROWS($1:4))),\"\")","v":""},null,null,null,null,null,null,null,null,null,null,null,null,null,null,"A_4",{"$f":"TEXT(S63,\"00000\")&U63","v":"05230Uruguay"},{"$f":"AC63*1000+AB63*100+Z63*10","v":5230},{"$f":"RANK(S63,$S60:$S64,0)","v":2},{"$f":"VLOOKUP(Q63,TABLEAU_TEAMS[#All],2,FALSE)","v":"Uruguay"},{"$f":"SUMPRODUCT((Teams1=U63)*(Teams1_Score<>\"\"))+SUMPRODUCT((Teams2=U63)*(Teams2_Score<>\"\"))","v":3},{"$f":"SUMPRODUCT((Teams1=U63)*(Teams1_Score>Teams2_Score))+SUMPRODUCT((Teams2=U63)*(Teams2_Score>Teams1_Score))","v":1},{"$f":"SUMPRODUCT((Teams1=U63)*(Teams1_Score=Teams2_Score)*(Teams1_Score<>\"\"))+SUMPRODUCT((Teams2=U63)*(Teams2_Score=Teams1_Score)*(Teams2_Score<>\"\"))","v":2},{"$f":"SUMPRODUCT((Teams1=U63)*(Teams1_Score<Teams2_Score))+SUMPRODUCT((Teams2=U63)*(Teams2_Score<Teams1_Score))","v":0},{"$f":"SUMPRODUCT((Teams1=U63)*(Teams1_Score))+SUMPRODUCT((Teams2=U63)*(Teams2_Score))","v":3},{"$f":"SUMPRODUCT((Teams1=U63)*(Teams2_Score))+SUMPRODUCT((Teams2=U63)*(Teams1_Score))","v":1},{"$f":"Z63-AA63","v":2},{"$f":"3*W63+X63","v":5}]
[null,"Tirage au sort A2"]
[null,{"$f":"IF(COUNTIF($T$9:$T$12,1)>1,IF(ROWS($1:1)<=COUNTIF($T$9:$T$12,1),INDEX($U$9:$U$12,SMALL(IF($T$9:$T$12=1,ROW(INDIRECT(\"1:\"&ROWS($T$9:$T$12)))),ROWS($1:1))),\"\"),IF(COUNTIF($T$9:$T$12,2)>1,IF(ROWS($1:1)<=COUNTIF($T$9:$T$12,2),INDEX($U$9:$U$12,SMALL(IF($T$9:$T$12=2,ROW(INDIRECT(\"1:\"&ROWS($T$9:$T$12)))),ROWS($1:1))),\"\")))","v":false},null,null,null,null,null,null,null,null,null,null,null,null,null,null,null,null,null,"Rg","Groupe B","MJ","G","N","P","BP","BC","Pts","Pts"]
[null,{"$f":"IF(COUNTIF($T$9:$T$12,1)>1,IF(ROWS($1:2)<=COUNTIF($T$9:$T$12,1),INDEX($U$9:$U$12,SMALL(IF($T$9:$T$12=1,ROW(INDIRECT(\"1:\"&ROWS($T$9:$T$12)))),ROWS($1:2))),\"\"),IF(COUNTIF($T$9:$T$12,2)>1,IF(ROWS($1:2)<=COUNTIF($T$9:$T$12,2),INDEX($U$9:$U$12,SMALL(IF($T$9:$T$12=2,ROW(INDIRECT(\"1:\"&ROWS($T$9:$T$12)))),ROWS($1:2))),\"\")))","v":false},null,null,null,null,null,null,null,null,null,null,null,null,null,null,"B_1",{"$f":"TEXT(S66,\"00000\")&U66","v":"00630Maroc"},{"$f":"AC66*1000+AB66*100+Z66*10","v":630},{"$f":"RANK(S66,$S66:$S70,0)","v":4},{"$f":"VLOOKUP(Q66,TABLEAU_TEAMS[#All],2,FALSE)","v":"Maroc"},{"$f":"SUMPRODUCT((Teams1=U66)*(Teams1_Score<>\"\"))+SUMPRODUCT((Teams2=U66)*(Teams2_Score<>\"\"))","v":3},{"$f":"SUMPRODUCT((Teams1=U66)*(Teams1_Score>Teams2_Score))+SUMPRODUCT((Teams2=U66)*(Teams2_Score>Teams1_Score))","v":0},{"$f":"SUMPRODUCT((Teams1=U66)*(Teams1_Score=Teams2_Score)*(Teams1_Score<>\"\"))+SUMPRODUCT((Teams2=U66)*(Teams2_Score=Teams1_Score)*(Teams2_Score<>\"\"))","v":1},{"$f":"SUMPRODUCT((Teams1=U66)*(Teams1_Score<Teams2_Score))+SUMPRODUCT((Teams2=U66)*(Teams2_Score<Teams1_Score))","v":2},{"$f":"SUMPRODUCT((Teams1=U66)*(Teams1_Score))+SUMPRODUCT((Teams2=U66)*(Teams2_Score))","v":3},{"$f":"SUMPRODUCT((Teams1=U66)*(Teams2_Score))+SUMPRODUCT((Teams2=U66)*(Teams1_Score))","v":7},{"$f":"Z66-AA66","v":-4},{"$f":"3*W66+X66","v":1}]
[null,{"$f":"IF(COUNTIF($T$9:$T$12,1)>1,IF(ROWS($1:3)<=COUNTIF($T$9:$T$12,1),INDEX($U$9:$U$12,SMALL(IF($T$9:$T$12=1,ROW(INDIRECT(\"1:\"&ROWS($T$9:$T$12)))),ROWS($1:3))),\"\"),IF(COUNTIF($T$9:$T$12,2)>1,IF(ROWS($1:3)<=COUNTIF($T$9:$T$12,2),INDEX($U$9:$U$12,SMALL(IF($T$9:$T$12=2,ROW(INDIRECT(\"1:\"&ROWS($T$9:$T$12)))),ROWS($1:3))),\"\")))","v":false},null,null,null,null,null,null,null,null,null,null,null,null,null,null,"B_2",{"$f":"TEXT(S67,\"00000\")&U67","v":"01730RI Iran"},{"$f":"AC67*1000+AB67*100+Z67*10","v":1730},{"$f":"RANK(S67,$S66:$S70,0)","v":3},{"$f":"VLOOKUP(Q67,TABLEAU_TEAMS[#All],2,FALSE)","v":"RI Iran"},{"$f":"SUMPRODUCT((Teams1=U67)*(Teams1_Score<>\"\"))+SUMPRODUCT((Teams2=U67)*(Teams2_Score<>\"\"))","v":3},{"$f":"SUMPRODUCT((Teams1=U67)*(Teams1_Score>Teams2_Score))+SUMPRODUCT((Teams2=U67)*(Teams2_Score>Teams1_Score))","v":0},{"$f":"SUMPRODUCT((Teams1=U67)*(Teams1_Score=Teams2_Score)*(Teams1_Score<>\"\"))+SUMPRODUCT((Teams2=U67)*(Teams2_Score=Teams1_Score)*(Teams2_Score<>\"\"))","v":2},{"$f":"SUMPRODUCT((Teams1=U67)*(Teams1_Score<Teams2_Score))+SUMPRODUCT((Teams2=U67)*(Teams2_Score<Teams1_Score))","v":1},{"$f":"SUMPRODUCT((Teams1=U67)*(Teams1_Score))+SUMPRODUCT((Teams2=U67)*(Teams2_Score))","v":3},{"$f":"SUMPRODUCT((Teams1=U67)*(Teams2_Score))+SUMPRODUCT((Teams2=U67)*(Teams1_Score))","v":6},{"$f":"Z67-AA67","v":-3},{"$f":"3*W67+X67","v":2}]
[null,{"$f":"IF(COUNTIF($T$9:$T$12,1)>1,IF(ROWS($1:4)<=COUNTIF($T$9:$T$12,1),INDEX($U$9:$U$12,SMALL(IF($T$9:$T$12=1,ROW(INDIRECT(\"1:\"&ROWS($T$9:$T$12)))),ROWS($1:4))),\"\"),IF(COUNTIF($T$9:$T$12,2)>1,IF(ROWS($1:4)<=COUNTIF($T$9:$T$12,2),INDEX($U$9:$U$12,SMALL(IF($T$9:$T$12=2,ROW(INDIRECT(\"1:\"&ROWS($T$9:$T$12)))),ROWS($1:4))),\"\")))","v":false},null,null,null,null,null,null,null,null,null,null,null,null,null,null,"B_3",{"$f":"TEXT(S68,\"00000\")&U68","v":"05280Portugal"},{"$f":"AC68*1000+AB68*100+Z68*10","v":5280},{"$f":"RANK(S68,$S66:$S70,0)","v":2},{"$f":"VLOOKUP(Q68,TABLEAU_TEAMS[#All],2,FALSE)","v":"Portugal"},{"$f":"SUMPRODUCT((Teams1=U68)*(Teams1_Score<>\"\"))+SUMPRODUCT((Teams2=U68)*(Teams2_Score<>\"\"))","v":3},{"$f":"SUMPRODUCT((Teams1=U68)*(Teams1_Score>Teams2_Score))+SUMPRODUCT((Teams2=U68)*(Teams2_Score>Teams1_Score))","v":1},{"$f":"SUMPRODUCT((Teams1=U68)*(Teams1_Score=Teams2_Score)*(Teams1_Score<>\"\"))+SUMPRODUCT((Teams2=U68)*(Teams2_Score=Teams1_Score)*(Teams2_Score<>\"\"))","v":2},{"$f":"SUMPRODUCT((Teams1=U68)*(Teams1_Score<Teams2_Score))+SUMPRODUCT((Teams2=U68)*(Teams2_Score<Teams1_Score))","v":0},{"$f":"SUMPRODUCT((Teams1=U68)*(Teams1_Score))+SUMPRODUCT((Teams2=U68)*(Teams2_Score))","v":8},{"$f":"SUMPRODUCT((Teams1=U68)*(Teams2_Score))+SUMPRODUCT((Teams2=U68)*(Teams1_Score))","v":6},{"$f":"Z68-AA68","v":2},{"$f":"3*W68+X68","v":5}]
[null,"Tirage au sort B1",null,null,null,null,null,null,null,null,null,null,null,null,null,null,"B_4",{"$f":"TEXT(S69,\"00000\")&U69","v":"07570Espagne"},{"$f":"AC69*1000+AB69*100+Z69*10","v":7570},{"$f":"RANK(S69,$S66:$S70,0)","v":1},{"$f":"VLOOKUP(Q69,TABLEAU_TEAMS[#All],2,FALSE)","v":"Espagne"},{"$f":"SUMPRODUCT((Teams1=U69)*(Teams1_Score<>\"\"))+SUMPRODUCT((Teams2=U69)*(Teams2_Score<>\"\"))","v":3},{"$f":"SUMPRODUCT((Teams1=U69)*(Teams1_Score>Teams2_Score))+SUMPRODUCT((Teams2=U69)*(Teams2_Score>Teams1_Score))","v":2},{"$f":"SUMPRODUCT((Teams1=U69)*(Teams1_Score=Teams2_Score)*(Teams1_Score<>\"\"))+SUMPRODUCT((Teams2=U69)*(Teams2_Score=Teams1_Score)*(Teams2_Score<>\"\"))","v":1},{"$f":"SUMPRODUCT((Teams1=U69)*(Teams1_Score<Teams2_Score))+SUMPRODUCT((Teams2=U69)*(Teams2_Score<Teams1_Score))","v":0},{"$f":"SUMPRODUCT((Teams1=U69)*(Teams1_Score))+SUMPRODUCT((Teams2=U69)*(Teams2_Score))","v":7},{"$f":"SUMPRODUCT((Teams1=U69)*(Teams2_Score))+SUMPRODUCT((Teams2=U69)*(Teams1_Score))","v":2},{"$f":"Z69-AA69","v":5},{"$f":"3*W69+X69","v":7}]
[null,{"$f":"IF(ROWS($1:1)<=COUNTIF($T$15:$T$18,1),INDEX($U$15:$U$18,SMALL(IF($T$15:$T$18=1,ROW(INDIRECT(\"1:\"&ROWS($T$15:$T$18)))),ROWS($1:1))),\"\")","v":"Espagne"}]
[null,{"$f":"IF(ROWS($1:2)<=COUNTIF($T$15:$T$18,1),INDEX($U$15:$U$18,SMALL(IF($T$15:$T$18=1,ROW(INDIRECT(\"1:\"&ROWS($T$15:$T$18)))),ROWS($1:2))),\"\")","v":""},null,null,null,null,null,null,null,null,null,null,null,null,null,null,null,null,null,"Rg","Groupe C","MJ","G","N","P","BP","BC","Pts","Pts"]
[null,{"$f":"IF(ROWS($1:3)<=COUNTIF($T$15:$T$18,1),INDEX($U$15:$U$18,SMALL(IF($T$15:$T$18=1,ROW(INDIRECT(\"1:\"&ROWS($T$15:$T$18)))),ROWS($1:3))),\"\")","v":""},null,null,null,null,null,null,null,null,null,null,null,null,null,null,"C_1",{"$f":"TEXT(S72,\"00000\")&U72","v":"05260France"},{"$f":"AC72*1000+AB72*100+Z72*10","v":5260},{"$f":"RANK(S72,$S72:$S76,0)","v":2},{"$f":"VLOOKUP(Q72,TABLEAU_TEAMS[#All],2,FALSE)","v":"France"},{"$f":"SUMPRODUCT((Teams1=U72)*(Teams1_Score<>\"\"))+SUMPRODUCT((Teams2=U72)*(Teams2_Score<>\"\"))","v":3},{"$f":"SUMPRODUCT((Teams1=U72)*(Teams1_Score>Teams2_Score))+SUMPRODUCT((Teams2=U72)*(Teams2_Score>Teams1_Score))","v":1},{"$f":"SUMPRODUCT((Teams1=U72)*(Teams1_Score=Teams2_Score)*(Teams1_Score<>\"\"))+SUMPRODUCT((Teams2=U72)*(Teams2_Score=Teams1_Score)*(Teams2_Score<>\"\"))","v":2},{"$f":"SUMPRODUCT((Teams1=U72)*(Teams1_Score<Teams2_Score))+SUMPRODUCT((Teams2=U72)*(Teams2_Score<Teams1_Score))","v":0},{"$f":"SUMPRODUCT((Teams1=U72)*(Teams1_Score))+SUMPRODUCT((Teams2=U72)*(Teams2_Score))","v":6},{"$f":"SUMPRODUCT((Teams1=U72)*(Teams2_Score))+SUMPRODUCT((Teams2=U72)*(Teams1_Score))","v":4},{"$f":"Z72-AA72","v":2},{"$f":"3*W72+X72","v":5}]
[null,{"$f":"IF(ROWS($1:4)<=COUNTIF($T$15:$T$18,1),INDEX($U$15:$U$18,SMALL(IF($T$15:$T$18=1,ROW(INDIRECT(\"1:\"&ROWS($T$15:$T$18)))),ROWS($1:4))),\"\")","v":""},null,null,null,null,null,null,null,null,null,null,null,null,null,null,"C_2",{"$f":"TEXT(S73,\"00000\")&U73","v":"04040Australie"},{"$f":"AC73*1000+AB73*100+Z73*10","v":4040},{"$f":"RANK(S73,$S72:$S76,0)","v":3},{"$f":"VLOOKUP(Q73,TABLEAU_TEAMS[#All],2,FALSE)","v":"Australie"},{"$f":"SUMPRODUCT((Teams1=U73)*(Teams1_Score<>\"\"))+SUMPRODUCT((Teams2=U73)*(Teams2_Score<>\"\"))","v":3},{"$f":"SUMPRODUCT((Teams1=U73)*(Teams1_Score>Teams2_Score))+SUMPRODUCT((Teams2=U73)*(Teams2_Score>Teams1_Score))","v":1},{"$f":"SUMPRODUCT((Teams1=U73)*(Teams1_Score=Teams2_Score)*(Teams1_Score<>\"\"))+SUMPRODUCT((Teams2=U73)*(Teams2_Score=Teams1_Score)*(Teams2_Score<>\"\"))","v":1},{"$f":"SUMPRODUCT((Teams1=U73)*(Teams1_Score<Teams2_Score))+SUMPRODUCT((Teams2=U73)*(Teams2_Score<Teams1_Score))","v":1},{"$f":"SUMPRODUCT((Teams1=U73)*(Teams1_Score))+SUMPRODUCT((Teams2=U73)*(Teams2_Score))","v":4},{"$f":"SUMPRODUCT((Teams1=U73)*(Teams2_Score))+SUMPRODUCT((Teams2=U73)*(Teams1_Score))","v":4},{"$f":"Z73-AA73","v":0},{"$f":"3*W73+X73","v":4}]
[null,"Tirage au sort B2",null,null,null,null,null,null,null,null,null,null,null,null,null,null,"C_3",{"$f":"TEXT(S74,\"00000\")&U74","v":"-00380Pérou"},{"$f":"AC74*1000+AB74*100+Z74*10","v":-380},{"$f":"RANK(S74,$S72:$S76,0)","v":4},{"$f":"VLOOKUP(Q74,TABLEAU_TEAMS[#All],2,FALSE)","v":"Pérou"},{"$f":"SUMPRODUCT((Teams1=U74)*(Teams1_Score<>\"\"))+SUMPRODUCT((Teams2=U74)*(Teams2_Score<>\"\"))","v":3},{"$f":"SUMPRODUCT((Teams1=U74)*(Teams1_Score>Teams2_Score))+SUMPRODUCT((Teams2=U74)*(Teams2_Score>Teams1_Score))","v":0},{"$f":"SUMPRODUCT((Teams1=U74)*(Teams1_Score=Teams2_Score)*(Teams1_Score<>\"\"))+SUMPRODUCT((Teams2=U74)*(Teams2_Score=Teams1_Score)*(Teams2_Score<>\"\"))","v":0},{"$f":"SUMPRODUCT((Teams1=U74)*(Teams1_Score<Teams2_Score))+SUMPRODUCT((Teams2=U74)*(Teams2_Score<Teams1_Score))","v":3},{"$f":"SUMPRODUCT((Teams1=U74)*(Teams1_Score))+SUMPRODUCT((Teams2=U74)*(Teams2_Score))","v":2},{"$f":"SUMPRODUCT((Teams1=U74)*(Teams2_Score))+SUMPRODUCT((Teams2=U74)*(Teams1_Score))","v":6},{"$f":"Z74-AA74","v":-4},{"$f":"3*W74+X74","v":0}]
[null,{"$f":"IF(COUNTIF($T$15:$T$18,1)>1,IF(ROWS($1:1)<=COUNTIF($T$15:$T$18,1),INDEX($U$15:$U$18,SMALL(IF($T$15:$T$18=1,ROW(INDIRECT(\"1:\"&ROWS($T$15:$T$18)))),ROWS($1:1))),\"\"),IF(COUNTIF($T$15:$T$18,2)>1,IF(ROWS($1:1)<=COUNTIF($T$15:$T$18,2),INDEX($U$15:$U$18,SMALL(IF($T$15:$T$18=2,ROW(INDIRECT(\"1:\"&ROWS($T$15:$T$18)))),ROWS($1:1))),\"\")))","v":false},null,null,null,null,null,null,null,null,null,null,null,null,null,null,"C_4",{"$f":"TEXT(S75,\"00000\")&U75","v":"07270Danemark"},{"$f":"AC75*1000+AB75*100+Z75*10","v":7270},{"$f":"RANK(S75,$S72:$S76,0)","v":1},{"$f":"VLOOKUP(Q75,TABLEAU_TEAMS[#All],2,FALSE)","v":"Danemark"},{"$f":"SUMPRODUCT((Teams1=U75)*(Teams1_Score<>\"\"))+SUMPRODUCT((Teams2=U75)*(Teams2_Score<>\"\"))","v":3},{"$f":"SUMPRODUCT((Teams1=U75)*(Teams1_Score>Teams2_Score))+SUMPRODUCT((Teams2=U75)*(Teams2_Score>Teams1_Score))","v":2},{"$f":"SUMPRODUCT((Teams1=U75)*(Teams1_Score=Teams2_Score)*(Teams1_Score<>\"\"))+SUMPRODUCT((Teams2=U75)*(Teams2_Score=Teams1_Score)*(Teams2_Score<>\"\"))","v":1},{"$f":"SUMPRODUCT((Teams1=U75)*(Teams1_Score<Teams2_Score))+SUMPRODUCT((Teams2=U75)*(Teams2_Score<Teams1_Score))","v":0},{"$f":"SUMPRODUCT((Teams1=U75)*(Teams1_Score))+SUMPRODUCT((Teams2=U75)*(Teams2_Score))","v":7},{"$f":"SUMPRODUCT((Teams1=U75)*(Teams2_Score))+SUMPRODUCT((Teams2=U75)*(Teams1_Score))","v":5},{"$f":"Z75-AA75","v":2},{"$f":"3*W75+X75","v":7}]
[null,{"$f":"IF(COUNTIF($T$15:$T$18,1)>1,IF(ROWS($1:2)<=COUNTIF($T$15:$T$18,1),INDEX($U$15:$U$18,SMALL(IF($T$15:$T$18=1,ROW(INDIRECT(\"1:\"&ROWS($T$15:$T$18)))),ROWS($1:2))),\"\"),IF(COUNTIF($T$15:$T$18,2)>1,IF(ROWS($1:2)<=COUNTIF($T$15:$T$18,2),INDEX($U$15:$U$18,SMALL(IF($T$15:$T$18=2,ROW(INDIRECT(\"1:\"&ROWS($T$15:$T$18)))),ROWS($1:2))),\"\")))","v":false}]
[null,{"$f":"IF(COUNTIF($T$15:$T$18,1)>1,IF(ROWS($1:3)<=COUNTIF($T$15:$T$18,1),INDEX($U$15:$U$18,SMALL(IF($T$15:$T$18=1,ROW(INDIRECT(\"1:\"&ROWS($T$15:$T$18)))),ROWS($1:3))),\"\"),IF(COUNTIF($T$15:$T$18,2)>1,IF(ROWS($1:3)<=COUNTIF($T$15:$T$18,2),INDEX($U$15:$U$18,SMALL(IF($T$15:$T$18=2,ROW(INDIRECT(\"1:\"&ROWS($T$15:$T$18)))),ROWS($1:3))),\"\")))","v":false},null,null,null,null,null,null,null,null,null,null,null,null,null,null,null,null,null,"Rg","Groupe D","MJ","G","N","P","BP","BC","Pts","Pts"]
[null,{"$f":"IF(COUNTIF($T$15:$T$18,1)>1,IF(ROWS($1:4)<=COUNTIF($T$15:$T$18,1),INDEX($U$15:$U$18,SMALL(IF($T$15:$T$18=1,ROW(INDIRECT(\"1:\"&ROWS($T$15:$T$18)))),ROWS($1:4))),\"\"),IF(COUNTIF($T$15:$T$18,2)>1,IF(ROWS($1:4)<=COUNTIF($T$15:$T$18,2),INDEX($U$15:$U$18,SMALL(IF($T$15:$T$18=2,ROW(INDIRECT(\"1:\"&ROWS($T$15:$T$18)))),ROWS($1:4))),\"\")))","v":false},null,null,null,null,null,null,null,null,null,null,null,null,null,null,"D_1",{"$f":"TEXT(S78,\"00000\")&U78","v":"07670Argentine"},{"$f":"AC78*1000+AB78*100+Z78*10","v":7670},{"$f":"RANK(S78,$S78:$S82,0)","v":1},{"$f":"VLOOKUP(Q78,TABLEAU_TEAMS[#All],2,FALSE)","v":"Argentine"},{"$f":"SUMPRODUCT((Teams1=U78)*(Teams1_Score<>\"\"))+SUMPRODUCT((Teams2=U78)*(Teams2_Score<>\"\"))","v":3},{"$f":"SUMPRODUCT((Teams1=U78)*(Teams1_Score>Teams2_Score))+SUMPRODUCT((Teams2=U78)*(Teams2_Score>Teams1_Score))","v":2},{"$f":"SUMPRODUCT((Teams1=U78)*(Teams1_Score=Teams2_Score)*(Teams1_Score<>\"\"))+SUMPRODUCT((Teams2=U78)*(Teams2_Score=Teams1_Score)*(Teams2_Score<>\"\"))","v":1},{"$f":"SUMPRODUCT((Teams1=U78)*(Teams1_Score<Teams2_Score))+SUMPRODUCT((Teams2=U78)*(Teams2_Score<Teams1_Score))","v":0},{"$f":"SUMPRODUCT((Teams1=U78)*(Teams1_Score))+SUMPRODUCT((Teams2=U78)*(Teams2_Score))","v":7},{"$f":"SUMPRODUCT((Teams1=U78)*(Teams2_Score))+SUMPRODUCT((Teams2=U78)*(Teams1_Score))","v":1},{"$f":"Z78-AA78","v":6},{"$f":"3*W78+X78","v":7}]
[null,"Tirage au sort C1",null,null,null,null,null,null,null,null,null,null,null,null,null,null,"D_2",{"$f":"TEXT(S79,\"00000\")&U79","v":"04040Islande"},{"$f":"AC79*1000+AB79*100+Z79*10","v":4040},{"$f":"RANK(S79,$S78:$S82,0)","v":2},{"$f":"VLOOKUP(Q79,TABLEAU_TEAMS[#All],2,FALSE)","v":"Islande"},{"$f":"SUMPRODUCT((Teams1=U79)*(Teams1_Score<>\"\"))+SUMPRODUCT((Teams2=U79)*(Teams2_Score<>\"\"))","v":3},{"$f":"SUMPRODUCT((Teams1=U79)*(Teams1_Score>Teams2_Score))+SUMPRODUCT((Teams2=U79)*(Teams2_Score>Teams1_Score))","v":1},{"$f":"SUMPRODUCT((Teams1=U79)*(Teams1_Score=Teams2_Score)*(Teams1_Score<>\"\"))+SUMPRODUCT((Teams2=U79)*(Teams2_Score=Teams1_Score)*(Teams2_Score<>\"\"))","v":1},{"$f":"SUMPRODUCT((Teams1=U79)*(Teams1_Score<Teams2_Score))+SUMPRODUCT((Teams2=U79)*(Teams2_Score<Teams1_Score))","v":1},{"$f":"SUMPRODUCT((Teams1=U79)*(Teams1_Score))+SUMPRODUCT((Teams2=U79)*(Teams2_Score))","v":4},{"$f":"SUMPRODUCT((Teams1=U79)*(Teams2_Score))+SUMPRODUCT((Teams2=U79)*(Teams1_Score))","v":4},{"$f":"Z79-AA79","v":0},{"$f":"3*W79+X79","v":4}]
[null,{"$f":"IF(ROWS($1:1)<=COUNTIF($T$21:$T$24,1),INDEX($U$21:$U$24,SMALL(IF($T$21:$T$24=1,ROW(INDIRECT(\"1:\"&ROWS($T$21:$T$24)))),ROWS($1:1))),\"\")","v":"Danemark"},null,null,null,null,null,null,null,null,null,null,null,null,null,null,"D_3",{"$f":"TEXT(S80,\"00000\")&U80","v":"04020Croatie"},{"$f":"AC80*1000+AB80*100+Z80*10","v":4020},{"$f":"RANK(S80,$S78:$S82,0)","v":3},{"$f":"VLOOKUP(Q80,TABLEAU_TEAMS[#All],2,FALSE)","v":"Croatie"},{"$f":"SUMPRODUCT((Teams1=U80)*(Teams1_Score<>\"\"))+SUMPRODUCT((Teams2=U80)*(Teams2_Score<>\"\"))","v":3},{"$f":"SUMPRODUCT((Teams1=U80)*(Teams1_Score>Teams2_Score))+SUMPRODUCT((Teams2=U80)*(Teams2_Score>Teams1_Score))","v":1},{"$f":"SUMPRODUCT((Teams1=U80)*(Teams1_Score=Teams2_Score)*(Teams1_Score<>\"\"))+SUMPRODUCT((Teams2=U80)*(Teams2_Score=Teams1_Score)*(Teams2_Score<>\"\"))","v":1},{"$f":"SUMPRODUCT((Teams1=U80)*(Teams1_Score<Teams2_Score))+SUMPRODUCT((Teams2=U80)*(Teams2_Score<Teams1_Score))","v":1},{"$f":"SUMPRODUCT((Teams1=U80)*(Teams1_Score))+SUMPRODUCT((Teams2=U80)*(Teams2_Score))","v":2},{"$f":"SUMPRODUCT((Teams1=U80)*(Teams2_Score))+SUMPRODUCT((Teams2=U80)*(Teams1_Score))","v":2},{"$f":"Z80-AA80","v":0},{"$f":"3*W80+X80","v":4}]
[null,{"$f":"IF(ROWS($1:2)<=COUNTIF($T$21:$T$24,1),INDEX($U$21:$U$24,SMALL(IF($T$21:$T$24=1,ROW(INDIRECT(\"1:\"&ROWS($T$21:$T$24)))),ROWS($1:2))),\"\")","v":""},null,null,null,null,null,null,null,null,null,null,null,null,null,null,"D_4",{"$f":"TEXT(S81,\"00000\")&U81","v":"00410Nigeria"},{"$f":"AC81*1000+AB81*100+Z81*10","v":410},{"$f":"RANK(S81,$S78:$S82,0)","v":4},{"$f":"VLOOKUP(Q81,TABLEAU_TEAMS[#All],2,FALSE)","v":"Nigeria"},{"$f":"SUMPRODUCT((Teams1=U81)*(Teams1_Score<>\"\"))+SUMPRODUCT((Teams2=U81)*(Teams2_Score<>\"\"))","v":3},{"$f":"SUMPRODUCT((Teams1=U81)*(Teams1_Score>Teams2_Score))+SUMPRODUCT((Teams2=U81)*(Teams2_Score>Teams1_Score))","v":0},{"$f":"SUMPRODUCT((Teams1=U81)*(Teams1_Score=Teams2_Score)*(Teams1_Score<>\"\"))+SUMPRODUCT((Teams2=U81)*(Teams2_Score=Teams1_Score)*(Teams2_Score<>\"\"))","v":1},{"$f":"SUMPRODUCT((Teams1=U81)*(Teams1_Score<Teams2_Score))+SUMPRODUCT((Teams2=U81)*(Teams2_Score<Teams1_Score))","v":2},{"$f":"SUMPRODUCT((Teams1=U81)*(Teams1_Score))+SUMPRODUCT((Teams2=U81)*(Teams2_Score))","v":1},{"$f":"SUMPRODUCT((Teams1=U81)*(Teams2_Score))+SUMPRODUCT((Teams2=U81)*(Teams1_Score))","v":7},{"$f":"Z81-AA81","v":-6},{"$f":"3*W81+X81","v":1}]
[null,{"$f":"IF(ROWS($1:3)<=COUNTIF($T$21:$T$24,1),INDEX($U$21:$U$24,SMALL(IF($T$21:$T$24=1,ROW(INDIRECT(\"1:\"&ROWS($T$21:$T$24)))),ROWS($1:3))),\"\")","v":""}]
[null,{"$f":"IF(ROWS($1:4)<=COUNTIF($T$21:$T$24,1),INDEX($U$21:$U$24,SMALL(IF($T$21:$T$24=1,ROW(INDIRECT(\"1:\"&ROWS($T$21:$T$24)))),ROWS($1:4))),\"\")","v":""},null,null,null,null,null,null,null,null,null,null,null,null,null,null,null,null,null,"Rg","Groupe E","MJ","G","N","P","BP","BC","Pts","Pts"]
[null,"Tirage au sort C2",null,null,null,null,null,null,null,null,null,null,null,null,null,null,"E_1",{"$f":"TEXT(S84,\"00000\")&U84","v":"-00370Costa Rica"},{"$f":"AC84*1000+AB84*100+Z84*10","v":-370},{"$f":"RANK(S84,$S84:$S88,0)","v":4},{"$f":"VLOOKUP(Q84,TABLEAU_TEAMS[#All],2,FALSE)","v":"Costa Rica"},{"$f":"SUMPRODUCT((Teams1=U84)*(Teams1_Score<>\"\"))+SUMPRODUCT((Teams2=U84)*(Teams2_Score<>\"\"))","v":3},{"$f":"SUMPRODUCT((Teams1=U84)*(Teams1_Score>Teams2_Score))+SUMPRODUCT((Teams2=U84)*(Teams2_Score>Teams1_Score))","v":0},{"$f":"SUMPRODUCT((Teams1=U84)*(Teams1_Score=Teams2_Score)*(Teams1_Score<>\"\"))+SUMPRODUCT((Teams2=U84)*(Teams2_Score=Teams1_Score)*(Teams2_Score<>\"\"))","v":0},{"$f":"SUMPRODUCT((Teams1=U84)*(Teams1_Score<Teams2_Score))+SUMPRODUCT((Teams2=U84)*(Teams2_Score<Teams1_Score))","v":3},{"$f":"SUMPRODUCT((Teams1=U84)*(Teams1_Score))+SUMPRODUCT((Teams2=U84)*(Teams2_Score))","v":3},{"$f":"SUMPRODUCT((Teams1=U84)*(Teams2_Score))+SUMPRODUCT((Teams2=U84)*(Teams1_Score))","v":7},{"$f":"Z84-AA84","v":-4},{"$f":"3*W84+X84","v":0}]
[null,{"$f":"IF(COUNTIF($T$21:$T$24,1)>1,IF(ROWS($1:1)<=COUNTIF($T$21:$T$24,1),INDEX($U$21:$U$24,SMALL(IF($T$21:$T$24=1,ROW(INDIRECT(\"1:\"&ROWS($T$21:$T$24)))),ROWS($1:1))),\"\"),IF(COUNTIF($T$21:$T$24,2)>1,IF(ROWS($1:1)<=COUNTIF($T$21:$T$24,2),INDEX($U$21:$U$24,SMALL(IF($T$21:$T$24=2,ROW(INDIRECT(\"1:\"&ROWS($T$21:$T$24)))),ROWS($1:1))),\"\")))","v":false},null,null,null,null,null,null,null,null,null,null,null,null,null,null,"E_2",{"$f":"TEXT(S85,\"00000\")&U85","v":"06020Serbie"},{"$f":"AC85*1000+AB85*100+Z85*10","v":6020},{"$f":"RANK(S85,$S84:$S88,0)","v":3},{"$f":"VLOOKUP(Q85,TABLEAU_TEAMS[#All],2,FALSE)","v":"Serbie"},{"$f":"SUMPRODUCT((Teams1=U85)*(Teams1_Score<>\"\"))+SUMPRODUCT((Teams2=U85)*(Teams2_Score<>\"\"))","v":3},{"$f":"SUMPRODUCT((Teams1=U85)*(Teams1_Score>Teams2_Score))+SUMPRODUCT((Teams2=U85)*(Teams2_Score>Teams1_Score))","v":2},{"$f":"SUMPRODUCT((Teams1=U85)*(Teams1_Score=Teams2_Score)*(Teams1_Score<>\"\"))+SUMPRODUCT((Teams2=U85)*(Teams2_Score=Teams1_Score)*(Teams2_Score<>\"\"))","v":0},{"$f":"SUMPRODUCT((Teams1=U85)*(Teams1_Score<Teams2_Score))+SUMPRODUCT((Teams2=U85)*(Teams2_Score<Teams1_Score))","v":1},{"$f":"SUMPRODUCT((Teams1=U85)*(Teams1_Score))+SUMPRODUCT((Teams2=U85)*(Teams2_Score))","v":2},{"$f":"SUMPRODUCT((Teams1=U85)*(Teams2_Score))+SUMPRODUCT((Teams2=U85)*(Teams1_Score))","v":2},{"$f":"Z85-AA85","v":0},{"$f":"3*W85+X85","v":6}]
[null,{"$f":"IF(COUNTIF($T$21:$T$24,1)>1,IF(ROWS($1:2)<=COUNTIF($T$21:$T$24,1),INDEX($U$21:$U$24,SMALL(IF($T$21:$T$24=1,ROW(INDIRECT(\"1:\"&ROWS($T$21:$T$24)))),ROWS($1:2))),\"\"),IF(COUNTIF($T$21:$T$24,2)>1,IF(ROWS($1:2)<=COUNTIF($T$21:$T$24,2),INDEX($U$21:$U$24,SMALL(IF($T$21:$T$24=2,ROW(INDIRECT(\"1:\"&ROWS($T$21:$T$24)))),ROWS($1:2))),\"\")))","v":false},null,null,null,null,null,null,null,null,null,null,null,null,null,null,"E_3",{"$f":"TEXT(S86,\"00000\")&U86","v":"06370Brésil"},{"$f":"AC86*1000+AB86*100+Z86*10","v":6370},{"$f":"RANK(S86,$S84:$S88,0)","v":1},{"$f":"VLOOKUP(Q86,TABLEAU_TEAMS[#All],2,FALSE)","v":"Brésil"},{"$f":"SUMPRODUCT((Teams1=U86)*(Teams1_Score<>\"\"))+SUMPRODUCT((Teams2=U86)*(Teams2_Score<>\"\"))","v":3},{"$f":"SUMPRODUCT((Teams1=U86)*(Teams1_Score>Teams2_Score))+SUMPRODUCT((Teams2=U86)*(Teams2_Score>Teams1_Score))","v":2},{"$f":"SUMPRODUCT((Teams1=U86)*(Teams1_Score=Teams2_Score)*(Teams1_Score<>\"\"))+SUMPRODUCT((Teams2=U86)*(Teams2_Score=Teams1_Score)*(Teams2_Score<>\"\"))","v":0},{"$f":"SUMPRODUCT((Teams1=U86)*(Teams1_Score<Teams2_Score))+SUMPRODUCT((Teams2=U86)*(Teams2_Score<Teams1_Score))","v":1},{"$f":"SUMPRODUCT((Teams1=U86)*(Teams1_Score))+SUMPRODUCT((Teams2=U86)*(Teams2_Score))","v":7},{"$f":"SUMPRODUCT((Teams1=U86)*(Teams2_Score))+SUMPRODUCT((Teams2=U86)*(Teams1_Score))","v":4},{"$f":"Z86-AA86","v":3},{"$f":"3*W86+X86","v":6}]
[null,{"$f":"IF(COUNTIF($T$21:$T$24,1)>1,IF(ROWS($1:3)<=COUNTIF($T$21:$T$24,1),INDEX($U$21:$U$24,SMALL(IF($T$21:$T$24=1,ROW(INDIRECT(\"1:\"&ROWS($T$21:$T$24)))),ROWS($1:3))),\"\"),IF(COUNTIF($T$21:$T$24,2)>1,IF(ROWS($1:3)<=COUNTIF($T$21:$T$24,2),INDEX($U$21:$U$24,SMALL(IF($T$21:$T$24=2,ROW(INDIRECT(\"1:\"&ROWS($T$21:$T$24)))),ROWS($1:3))),\"\")))","v":false},null,null,null,null,null,null,null,null,null,null,null,null,null,null,"E_4",{"$f":"TEXT(S87,\"00000\")&U87","v":"06120Suisse"},{"$f":"AC87*1000+AB87*100+Z87*10","v":6120},{"$f":"RANK(S87,$S84:$S88,0)","v":2},{"$f":"VLOOKUP(Q87,TABLEAU_TEAMS[#All],2,FALSE)","v":"Suisse"},{"$f":"SUMPRODUCT((Teams1=U87)*(Teams1_Score<>\"\"))+SUMPRODUCT((Teams2=U87)*(Teams2_Score<>\"\"))","v":3},{"$f":"SUMPRODUCT((Teams1=U87)*(Teams1_Score>Teams2_Score))+SUMPRODUCT((Teams2=U87)*(Teams2_Score>Teams1_Score))","v":2},{"$f":"SUMPRODUCT((Teams1=U87)*(Teams1_Score=Teams2_Score)*(Teams1_Score<>\"\"))+SUMPRODUCT((Teams2=U87)*(Teams2_Score=Teams1_Score)*(Teams2_Score<>\"\"))","v":0},{"$f":"SUMPRODUCT((Teams1=U87)*(Teams1_Score<Teams2_Score))+SUMPRODUCT((Teams2=U87)*(Teams2_Score<Teams1_Score))","v":1},{"$f":"SUMPRODUCT((Teams1=U87)*(Teams1_Score))+SUMPRODUCT((Teams2=U87)*(Teams2_Score))","v":2},{"$f":"SUMPRODUCT((Teams1=U87)*(Teams2_Score))+SUMPRODUCT((Teams2=U87)*(Teams1_Score))","v":1},{"$f":"Z87-AA87","v":1},{"$f":"3*W87+X87","v":6}]
[null,{"$f":"IF(COUNTIF($T$21:$T$24,1)>1,IF(ROWS($1:4)<=COUNTIF($T$21:$T$24,1),INDEX($U$21:$U$24,SMALL(IF($T$21:$T$24=1,ROW(INDIRECT(\"1:\"&ROWS($T$21:$T$24)))),ROWS($1:4))),\"\"),IF(COUNTIF($T$21:$T$24,2)>1,IF(ROWS($1:4)<=COUNTIF($T$21:$T$24,2),INDEX($U$21:$U$24,SMALL(IF($T$21:$T$24=2,ROW(INDIRECT(\"1:\"&ROWS($T$21:$T$24)))),ROWS($1:4))),\"\")))","v":false}]
[null,"Tirage au sort D1",null,null,null,null,null,null,null,null,null,null,null,null,null,null,null,null,null,"Rg","Groupe F","MJ","G","N","P","BP","BC","Pts","Pts"]
[null,{"$f":"IF(ROWS($1:1)<=COUNTIF($T$27:$T$30,1),INDEX($U$27:$U$30,SMALL(IF($T$27:$T$30=1,ROW(INDIRECT(\"1:\"&ROWS($T$27:$T$30)))),ROWS($1:1))),\"\")","v":"Argentine"},null,null,null,null,null,null,null,null,null,null,null,null,null,null,"F_1",{"$f":"TEXT(S90,\"00000\")&U90","v":"07230Allemagne"},{"$f":"AC90*1000+AB90*100+Z90*10","v":7230},{"$f":"RANK(S90,$S90:$S94,0)","v":1},{"$f":"VLOOKUP(Q90,TABLEAU_TEAMS[#All],2,FALSE)","v":"Allemagne"},{"$f":"SUMPRODUCT((Teams1=U90)*(Teams1_Score<>\"\"))+SUMPRODUCT((Teams2=U90)*(Teams2_Score<>\"\"))","v":3},{"$f":"SUMPRODUCT((Teams1=U90)*(Teams1_Score>Teams2_Score))+SUMPRODUCT((Teams2=U90)*(Teams2_Score>Teams1_Score))","v":2},{"$f":"SUMPRODUCT((Teams1=U90)*(Teams1_Score=Teams2_Score)*(Teams1_Score<>\"\"))+SUMPRODUCT((Teams2=U90)*(Teams2_Score=Teams1_Score)*(Teams2_Score<>\"\"))","v":1},{"$f":"SUMPRODUCT((Teams1=U90)*(Teams1_Score<Teams2_Score))+SUMPRODUCT((Teams2=U90)*(Teams2_Score<Teams1_Score))","v":0},{"$f":"SUMPRODUCT((Teams1=U90)*(Teams1_Score))+SUMPRODUCT((Teams2=U90)*(Teams2_Score))","v":3},{"$f":"SUMPRODUCT((Teams1=U90)*(Teams2_Score))+SUMPRODUCT((Teams2=U90)*(Teams1_Score))","v":1},{"$f":"Z90-AA90","v":2},{"$f":"3*W90+X90","v":7}]
[null,{"$f":"IF(ROWS($1:2)<=COUNTIF($T$27:$T$30,1),INDEX($U$27:$U$30,SMALL(IF($T$27:$T$30=1,ROW(INDIRECT(\"1:\"&ROWS($T$27:$T$30)))),ROWS($1:2))),\"\")","v":""},null,null,null,null,null,null,null,null,null,null,null,null,null,null,"F_2",{"$f":"TEXT(S91,\"00000\")&U91","v":"06140Mexique"},{"$f":"AC91*1000+AB91*100+Z91*10","v":6140},{"$f":"RANK(S91,$S90:$S94,0)","v":2},{"$f":"VLOOKUP(Q91,TABLEAU_TEAMS[#All],2,FALSE)","v":"Mexique"},{"$f":"SUMPRODUCT((Teams1=U91)*(Teams1_Score<>\"\"))+SUMPRODUCT((Teams2=U91)*(Teams2_Score<>\"\"))","v":3},{"$f":"SUMPRODUCT((Teams1=U91)*(Teams1_Score>Teams2_Score))+SUMPRODUCT((Teams2=U91)*(Teams2_Score>Teams1_Score))","v":2},{"$f":"SUMPRODUCT((Teams1=U91)*(Teams1_Score=Teams2_Score)*(Teams1_Score<>\"\"))+SUMPRODUCT((Teams2=U91)*(Teams2_Score=Teams1_Score)*(Teams2_Score<>\"\"))","v":0},{"$f":"SUMPRODUCT((Teams1=U91)*(Teams1_Score<Teams2_Score))+SUMPRODUCT((Teams2=U91)*(Teams2_Score<Teams1_Score))","v":1},{"$f":"SUMPRODUCT((Teams1=U91)*(Teams1_Score))+SUMPRODUCT((Teams2=U91)*(Teams2_Score))","v":4},{"$f":"SUMPRODUCT((Teams1=U91)*(Teams2_Score))+SUMPRODUCT((Teams2=U91)*(Teams1_Score))","v":3},{"$f":"Z91-AA91","v":1},{"$f":"3*W91+X91","v":6}]
[null,{"$f":"IF(ROWS($1:3)<=COUNTIF($T$27:$T$30,1),INDEX($U$27:$U$30,SMALL(IF($T$27:$T$30=1,ROW(INDIRECT(\"1:\"&ROWS($T$27:$T$30)))),ROWS($1:3))),\"\")","v":""},null,null,null,null,null,null,null,null,null,null,null,null,null,null,"F_3",{"$f":"TEXT(S92,\"00000\")&U92","v":"04140Suède"},{"$f":"AC92*1000+AB92*100+Z92*10","v":4140},{"$f":"RANK(S92,$S90:$S94,0)","v":3},{"$f":"VLOOKUP(Q92,TABLEAU_TEAMS[#All],2,FALSE)","v":"Suède"},{"$f":"SUMPRODUCT((Teams1=U92)*(Teams1_Score<>\"\"))+SUMPRODUCT((Teams2=U92)*(Teams2_Score<>\"\"))","v":3},{"$f":"SUMPRODUCT((Teams1=U92)*(Teams1_Score>Teams2_Score))+SUMPRODUCT((Teams2=U92)*(Teams2_Score>Teams1_Score))","v":1},{"$f":"SUMPRODUCT((Teams1=U92)*(Teams1_Score=Teams2_Score)*(Teams1_Score<>\"\"))+SUMPRODUCT((Teams2=U92)*(Teams2_Score=Teams1_Score)*(Teams2_Score<>\"\"))","v":1},{"$f":"SUMPRODUCT((Teams1=U92)*(Teams1_Score<Teams2_Score))+SUMPRODUCT((Teams2=U92)*(Teams2_Score<Teams1_Score))","v":1},{"$f":"SUMPRODUCT((Teams1=U92)*(Teams1_Score))+SUMPRODUCT((Teams2=U92)*(Teams2_Score))","v":4},{"$f":"SUMPRODUCT((Teams1=U92)*(Teams2_Score))+SUMPRODUCT((Teams2=U92)*(Teams1_Score))","v":3},{"$f":"Z92-AA92","v":1},{"$f":"3*W92+X92","v":4}]
[null,{"$f":"IF(ROWS($1:4)<=COUNTIF($T$27:$T$30,1),INDEX($U$27:$U$30,SMALL(IF($T$27:$T$30=1,ROW(INDIRECT(\"1:\"&ROWS($T$27:$T$30)))),ROWS($1:4))),\"\")","v":""},null,null,null,null,null,null,null,null,null,null,null,null,null,null,"F_4",{"$f":"TEXT(S93,\"00000\")&U93","v":"-00390République de Corée"},{"$f":"AC93*1000+AB93*100+Z93*10","v":-390},{"$f":"RANK(S93,$S90:$S94,0)","v":4},{"$f":"VLOOKUP(Q93,TABLEAU_TEAMS[#All],2,FALSE)","v":"République de Corée"},{"$f":"SUMPRODUCT((Teams1=U93)*(Teams1_Score<>\"\"))+SUMPRODUCT((Teams2=U93)*(Teams2_Score<>\"\"))","v":3},{"$f":"SUMPRODUCT((Teams1=U93)*(Teams1_Score>Teams2_Score))+SUMPRODUCT((Teams2=U93)*(Teams2_Score>Teams1_Score))","v":0},{"$f":"SUMPRODUCT((Teams1=U93)*(Teams1_Score=Teams2_Score)*(Teams1_Score<>\"\"))+SUMPRODUCT((Teams2=U93)*(Teams2_Score=Teams1_Score)*(Teams2_Score<>\"\"))","v":0},{"$f":"SUMPRODUCT((Teams1=U93)*(Teams1_Score<Teams2_Score))+SUMPRODUCT((Teams2=U93)*(Teams2_Score<Teams1_Score))","v":3},{"$f":"SUMPRODUCT((Teams1=U93)*(Teams1_Score))+SUMPRODUCT((Teams2=U93)*(Teams2_Score))","v":1},{"$f":"SUMPRODUCT((Teams1=U93)*(Teams2_Score))+SUMPRODUCT((Teams2=U93)*(Teams1_Score))","v":5},{"$f":"Z93-AA93","v":-4},{"$f":"3*W93+X93","v":0}]
[null,"Tirage au sort D2"]
[null,{"$f":"IF(COUNTIF($T$27:$T$30,1)>1,IF(ROWS($1:1)<=COUNTIF($T$27:$T$30,1),INDEX($U$27:$U$30,SMALL(IF($T$27:$T$30=1,ROW(INDIRECT(\"1:\"&ROWS($T$27:$T$30)))),ROWS($1:1))),\"\"),IF(COUNTIF($T$27:$T$30,2)>1,IF(ROWS($1:1)<=COUNTIF($T$27:$T$30,2),INDEX($U$27:$U$30,SMALL(IF($T$27:$T$30=2,ROW(INDIRECT(\"1:\"&ROWS($T$27:$T$30)))),ROWS($1:1))),\"\")))","v":false},null,null,null,null,null,null,null,null,null,null,null,null,null,null,null,null,null,"Rg","Groupe G","MJ","G","N","P","BP","BC","Pts","Pts"]
[null,{"$f":"IF(COUNTIF($T$27:$T$30,1)>1,IF(ROWS($1:2)<=COUNTIF($T$27:$T$30,1),INDEX($U$27:$U$30,SMALL(IF($T$27:$T$30=1,ROW(INDIRECT(\"1:\"&ROWS($T$27:$T$30)))),ROWS($1:2))),\"\"),IF(COUNTIF($T$27:$T$30,2)>1,IF(ROWS($1:2)<=COUNTIF($T$27:$T$30,2),INDEX($U$27:$U$30,SMALL(IF($T$27:$T$30=2,ROW(INDIRECT(\"1:\"&ROWS($T$27:$T$30)))),ROWS($1:2))),\"\")))","v":false},null,null,null,null,null,null,null,null,null,null,null,null,null,null,"G_1",{"$f":"TEXT(S96,\"00000\")&U96","v":"06360Belgique"},{"$f":"AC96*1000+AB96*100+Z96*10","v":6360},{"$f":"RANK(S96,$S96:$S100,0)","v":2},{"$f":"VLOOKUP(Q96,TABLEAU_TEAMS[#All],2,FALSE)","v":"Belgique"},{"$f":"SUMPRODUCT((Teams1=U96)*(Teams1_Score<>\"\"))+SUMPRODUCT((Teams2=U96)*(Teams2_Score<>\"\"))","v":3},{"$f":"SUMPRODUCT((Teams1=U96)*(Teams1_Score>Teams2_Score))+SUMPRODUCT((Teams2=U96)*(Teams2_Score>Teams1_Score))","v":2},{"$f":"SUMPRODUCT((Teams1=U96)*(Teams1_Score=Teams2_Score)*(Teams1_Score<>\"\"))+SUMPRODUCT((Teams2=U96)*(Teams2_Score=Teams1_Score)*(Teams2_Score<>\"\"))","v":0},{"$f":"SUMPRODUCT((Teams1=U96)*(Teams1_Score<Teams2_Score))+SUMPRODUCT((Teams2=U96)*(Teams2_Score<Teams1_Score))","v":1},{"$f":"SUMPRODUCT((Teams1=U96)*(Teams1_Score))+SUMPRODUCT((Teams2=U96)*(Teams2_Score))","v":6},{"$f":"SUMPRODUCT((Teams1=U96)*(Teams2_Score))+SUMPRODUCT((Teams2=U96)*(Teams1_Score))","v":3},{"$f":"Z96-AA96","v":3},{"$f":"3*W96+X96","v":6}]
[null,{"$f":"IF(COUNTIF($T$27:$T$30,1)>1,IF(ROWS($1:3)<=COUNTIF($T$27:$T$30,1),INDEX($U$27:$U$30,SMALL(IF($T$27:$T$30=1,ROW(INDIRECT(\"1:\"&ROWS($T$27:$T$30)))),ROWS($1:3))),\"\"),IF(COUNTIF($T$27:$T$30,2)>1,IF(ROWS($1:3)<=COUNTIF($T$27:$T$30,2),INDEX($U$27:$U$30,SMALL(IF($T$27:$T$30=2,ROW(INDIRECT(\"1:\"&ROWS($T$27:$T$30)))),ROWS($1:3))),\"\")))","v":false},null,null,null,null,null,null,null,null,null,null,null,null,null,null,"G_2",{"$f":"TEXT(S97,\"00000\")&U97","v":"-00990Panama"},{"$f":"AC97*1000+AB97*100+Z97*10","v":-990},{"$f":"RANK(S97,$S96:$S100,0)","v":4},{"$f":"VLOOKUP(Q97,TABLEAU_TEAMS[#All],2,FALSE)","v":"Panama"},{"$f":"SUMPRODUCT((Teams1=U97)*(Teams1_Score<>\"\"))+SUMPRODUCT((Teams2=U97)*(Teams2_Score<>\"\"))","v":3},{"$f":"SUMPRODUCT((Teams1=U97)*(Teams1_Score>Teams2_Score))+SUMPRODUCT((Teams2=U97)*(Teams2_Score>Teams1_Score))","v":0},{"$f":"SUMPRODUCT((Teams1=U97)*(Teams1_Score=Teams2_Score)*(Teams1_Score<>\"\"))+SUMPRODUCT((Teams2=U97)*(Teams2_Score=Teams1_Score)*(Teams2_Score<>\"\"))","v":0},{"$f":"SUMPRODUCT((Teams1=U97)*(Teams1_Score<Teams2_Score))+SUMPRODUCT((Teams2=U97)*(Teams2_Score<Teams1_Score))","v":3},{"$f":"SUMPRODUCT((Teams1=U97)*(Teams1_Score))+SUMPRODUCT((Teams2=U97)*(Teams2_Score))","v":1},{"$f":"SUMPRODUCT((Teams1=U97)*(Teams2_Score))+SUMPRODUCT((Teams2=U97)*(Teams1_Score))","v":11},{"$f":"Z97-AA97","v":-10},{"$f":"3*W97+X97","v":0}]
[null,{"$f":"IF(COUNTIF($T$27:$T$30,1)>1,IF(ROWS($1:4)<=COUNTIF($T$27:$T$30,1),INDEX($U$27:$U$30,SMALL(IF($T$27:$T$30=1,ROW(INDIRECT(\"1:\"&ROWS($T$27:$T$30)))),ROWS($1:4))),\"\"),IF(COUNTIF($T$27:$T$30,2)>1,IF(ROWS($1:4)<=COUNTIF($T$27:$T$30,2),INDEX($U$27:$U$30,SMALL(IF($T$27:$T$30=2,ROW(INDIRECT(\"1:\"&ROWS($T$27:$T$30)))),ROWS($1:4))),\"\")))","v":false},null,null,null,null,null,null,null,null,null,null,null,null,null,null,"G_3",{"$f":"TEXT(S98,\"00000\")&U98","v":"03150Tunisie"},{"$f":"AC98*1000+AB98*100+Z98*10","v":3150},{"$f":"RANK(S98,$S96:$S100,0)","v":3},{"$f":"VLOOKUP(Q98,TABLEAU_TEAMS[#All],2,FALSE)","v":"Tunisie"},{"$f":"SUMPRODUCT((Teams1=U98)*(Teams1_Score<>\"\"))+SUMPRODUCT((Teams2=U98)*(Teams2_Score<>\"\"))","v":3},{"$f":"SUMPRODUCT((Teams1=U98)*(Teams1_Score>Teams2_Score))+SUMPRODUCT((Teams2=U98)*(Teams2_Score>Teams1_Score))","v":1},{"$f":"SUMPRODUCT((Teams1=U98)*(Teams1_Score=Teams2_Score)*(Teams1_Score<>\"\"))+SUMPRODUCT((Teams2=U98)*(Teams2_Score=Teams1_Score)*(Teams2_Score<>\"\"))","v":0},{"$f":"SUMPRODUCT((Teams1=U98)*(Teams1_Score<Teams2_Score))+SUMPRODUCT((Teams2=U98)*(Teams2_Score<Teams1_Score))","v":2},{"$f":"SUMPRODUCT((Teams1=U98)*(Teams1_Score))+SUMPRODUCT((Teams2=U98)*(Teams2_Score))","v":5},{"$f":"SUMPRODUCT((Teams1=U98)*(Teams2_Score))+SUMPRODUCT((Teams2=U98)*(Teams1_Score))","v":4},{"$f":"Z98-AA98","v":1},{"$f":"3*W98+X98","v":3}]
[null,"Tirage au sort E1",null,null,null,null,null,null,null,null,null,null,null,null,null,null,"G_4",{"$f":"TEXT(S99,\"00000\")&U99","v":"09680Angleterre"},{"$f":"AC99*1000+AB99*100+Z99*10","v":9680},{"$f":"RANK(S99,$S96:$S100,0)","v":1},{"$f":"VLOOKUP(Q99,TABLEAU_TEAMS[#All],2,FALSE)","v":"Angleterre"},{"$f":"SUMPRODUCT((Teams1=U99)*(Teams1_Score<>\"\"))+SUMPRODUCT((Teams2=U99)*(Teams2_Score<>\"\"))","v":3},{"$f":"SUMPRODUCT((Teams1=U99)*(Teams1_Score>Teams2_Score))+SUMPRODUCT((Teams2=U99)*(Teams2_Score>Teams1_Score))","v":3},{"$f":"SUMPRODUCT((Teams1=U99)*(Teams1_Score=Teams2_Score)*(Teams1_Score<>\"\"))+SUMPRODUCT((Teams2=U99)*(Teams2_Score=Teams1_Score)*(Teams2_Score<>\"\"))","v":0},{"$f":"SUMPRODUCT((Teams1=U99)*(Teams1_Score<Teams2_Score))+SUMPRODUCT((Teams2=U99)*(Teams2_Score<Teams1_Score))","v":0},{"$f":"SUMPRODUCT((Teams1=U99)*(Teams1_Score))+SUMPRODUCT((Teams2=U99)*(Teams2_Score))","v":8},{"$f":"SUMPRODUCT((Teams1=U99)*(Teams2_Score))+SUMPRODUCT((Teams2=U99)*(Teams1_Score))","v":2},{"$f":"Z99-AA99","v":6},{"$f":"3*W99+X99","v":9}]
[null,{"$f":"IF(ROWS($1:1)<=COUNTIF($T$33:$T$36,1),INDEX($U$33:$U$36,SMALL(IF($T$33:$T$36=1,ROW(INDIRECT(\"1:\"&ROWS($T$33:$T$36)))),ROWS($1:1))),\"\")","v":"Brésil"}]
[null,{"$f":"IF(ROWS($1:2)<=COUNTIF($T$33:$T$36,1),INDEX($U$33:$U$36,SMALL(IF($T$33:$T$36=1,ROW(INDIRECT(\"1:\"&ROWS($T$33:$T$36)))),ROWS($1:2))),\"\")","v":""},null,null,null,null,null,null,null,null,null,null,null,null,null,null,null,null,null,"Rg","Groupe H","MJ","G","N","P","BP","BC","Pts","Pts"]
[null,{"$f":"IF(ROWS($1:3)<=COUNTIF($T$33:$T$36,1),INDEX($U$33:$U$36,SMALL(IF($T$33:$T$36=1,ROW(INDIRECT(\"1:\"&ROWS($T$33:$T$36)))),ROWS($1:3))),\"\")","v":""},null,null,null,null,null,null,null,null,null,null,null,null,null,null,"H_1",{"$f":"TEXT(S102,\"00000\")&U102","v":"06140Colombie"},{"$f":"AC102*1000+AB102*100+Z102*10","v":6140},{"$f":"RANK(S102,$S102:$S106,0)","v":2},{"$f":"VLOOKUP(Q102,TABLEAU_TEAMS[#All],2,FALSE)","v":"Colombie"},{"$f":"SUMPRODUCT((Teams1=U102)*(Teams1_Score<>\"\"))+SUMPRODUCT((Teams2=U102)*(Teams2_Score<>\"\"))","v":3},{"$f":"SUMPRODUCT((Teams1=U102)*(Teams1_Score>Teams2_Score))+SUMPRODUCT((Teams2=U102)*(Teams2_Score>Teams1_Score))","v":2},{"$f":"SUMPRODUCT((Teams1=U102)*(Teams1_Score=Teams2_Score)*(Teams1_Score<>\"\"))+SUMPRODUCT((Teams2=U102)*(Teams2_Score=Teams1_Score)*(Teams2_Score<>\"\"))","v":0},{"$f":"SUMPRODUCT((Teams1=U102)*(Teams1_Score<Teams2_Score))+SUMPRODUCT((Teams2=U102)*(Teams2_Score<Teams1_Score))","v":1},{"$f":"SUMPRODUCT((Teams1=U102)*(Teams1_Score))+SUMPRODUCT((Teams2=U102)*(Teams2_Score))","v":4},{"$f":"SUMPRODUCT((Teams1=U102)*(Teams2_Score))+SUMPRODUCT((Teams2=U102)*(Teams1_Score))","v":3},{"$f":"Z102-AA102","v":1},{"$f":"3*W102+X102","v":6}]
[null,{"$f":"IF(ROWS($1:4)<=COUNTIF($T$33:$T$36,1),INDEX($U$33:$U$36,SMALL(IF($T$33:$T$36=1,ROW(INDIRECT(\"1:\"&ROWS($T$33:$T$36)))),ROWS($1:4))),\"\")","v":""},null,null,null,null,null,null,null,null,null,null,null,null,null,null,"H_2",{"$f":"TEXT(S103,\"00000\")&U103","v":"04020Japon"},{"$f":"AC103*1000+AB103*100+Z103*10","v":4020},{"$f":"RANK(S103,$S102:$S106,0)","v":3},{"$f":"VLOOKUP(Q103,TABLEAU_TEAMS[#All],2,FALSE)","v":"Japon"},{"$f":"SUMPRODUCT((Teams1=U103)*(Teams1_Score<>\"\"))+SUMPRODUCT((Teams2=U103)*(Teams2_Score<>\"\"))","v":3},{"$f":"SUMPRODUCT((Teams1=U103)*(Teams1_Score>Teams2_Score))+SUMPRODUCT((Teams2=U103)*(Teams2_Score>Teams1_Score))","v":1},{"$f":"SUMPRODUCT((Teams1=U103)*(Teams1_Score=Teams2_Score)*(Teams1_Score<>\"\"))+SUMPRODUCT((Teams2=U103)*(Teams2_Score=Teams1_Score)*(Teams2_Score<>\"\"))","v":1},{"$f":"SUMPRODUCT((Teams1=U103)*(Teams1_Score<Teams2_Score))+SUMPRODUCT((Teams2=U103)*(Teams2_Score<Teams1_Score))","v":1},{"$f":"SUMPRODUCT((Teams1=U103)*(Teams1_Score))+SUMPRODUCT((Teams2=U103)*(Teams2_Score))","v":2},{"$f":"SUMPRODUCT((Teams1=U103)*(Teams2_Score))+SUMPRODUCT((Teams2=U103)*(Teams1_Score))","v":2},{"$f":"Z103-AA103","v":0},{"$f":"3*W103+X103","v":4}]
[null,"Tirage au sort E2",null,null,null,null,null,null,null,null,null,null,null,null,null,null,"H_3",{"$f":"TEXT(S104,\"00000\")&U104","v":"06240Pologne"},{"$f":"AC104*1000+AB104*100+Z104*10","v":6240},{"$f":"RANK(S104,$S102:$S106,0)","v":1},{"$f":"VLOOKUP(Q104,TABLEAU_TEAMS[#All],2,FALSE)","v":"Pologne"},{"$f":"SUMPRODUCT((Teams1=U104)*(Teams1_Score<>\"\"))+SUMPRODUCT((Teams2=U104)*(Teams2_Score<>\"\"))","v":3},{"$f":"SUMPRODUCT((Teams1=U104)*(Teams1_Score>Teams2_Score))+SUMPRODUCT((Teams2=U104)*(Teams2_Score>Teams1_Score))","v":2},{"$f":"SUMPRODUCT((Teams1=U104)*(Teams1_Score=Teams2_Score)*(Teams1_Score<>\"\"))+SUMPRODUCT((Teams2=U104)*(Teams2_Score=Teams1_Score)*(Teams2_Score<>\"\"))","v":0},{"$f":"SUMPRODUCT((Teams1=U104)*(Teams1_Score<Teams2_Score))+SUMPRODUCT((Teams2=U104)*(Teams2_Score<Teams1_Score))","v":1},{"$f":"SUMPRODUCT((Teams1=U104)*(Teams1_Score))+SUMPRODUCT((Teams2=U104)*(Teams2_Score))","v":4},{"$f":"SUMPRODUCT((Teams1=U104)*(Teams2_Score))+SUMPRODUCT((Teams2=U104)*(Teams1_Score))","v":2},{"$f":"Z104-AA104","v":2},{"$f":"3*W104+X104","v":6}]
[null,{"$f":"IF(COUNTIF($T$33:$T$36,1)>1,IF(ROWS($1:1)<=COUNTIF($T$33:$T$36,1),INDEX($U$33:$U$36,SMALL(IF($T$33:$T$36=1,ROW(INDIRECT(\"1:\"&ROWS($T$33:$T$36)))),ROWS($1:1))),\"\"),IF(COUNTIF($T$33:$T$36,2)>1,IF(ROWS($1:1)<=COUNTIF($T$33:$T$36,2),INDEX($U$33:$U$36,SMALL(IF($T$33:$T$36=2,ROW(INDIRECT(\"1:\"&ROWS($T$33:$T$36)))),ROWS($1:1))),\"\")))","v":false},null,null,null,null,null,null,null,null,null,null,null,null,null,null,"H_4",{"$f":"TEXT(S105,\"00000\")&U105","v":"00720Sénégal"},{"$f":"AC105*1000+AB105*100+Z105*10","v":720},{"$f":"RANK(S105,$S102:$S106,0)","v":4},{"$f":"VLOOKUP(Q105,TABLEAU_TEAMS[#All],2,FALSE)","v":"Sénégal"},{"$f":"SUMPRODUCT((Teams1=U105)*(Teams1_Score<>\"\"))+SUMPRODUCT((Teams2=U105)*(Teams2_Score<>\"\"))","v":3},{"$f":"SUMPRODUCT((Teams1=U105)*(Teams1_Score>Teams2_Score))+SUMPRODUCT((Teams2=U105)*(Teams2_Score>Teams1_Score))","v":0},{"$f":"SUMPRODUCT((Teams1=U105)*(Teams1_Score=Teams2_Score)*(Teams1_Score<>\"\"))+SUMPRODUCT((Teams2=U105)*(Teams2_Score=Teams1_Score)*(Teams2_Score<>\"\"))","v":1},{"$f":"SUMPRODUCT((Teams1=U105)*(Teams1_Score<Teams2_Score))+SUMPRODUCT((Teams2=U105)*(Teams2_Score<Teams1_Score))","v":2},{"$f":"SUMPRODUCT((Teams1=U105)*(Teams1_Score))+SUMPRODUCT((Teams2=U105)*(Teams2_Score))","v":2},{"$f":"SUMPRODUCT((Teams1=U105)*(Teams2_Score))+SUMPRODUCT((Teams2=U105)*(Teams1_Score))","v":5},{"$f":"Z105-AA105","v":-3},{"$f":"3*W105+X105","v":1}]
[null,{"$f":"IF(COUNTIF($T$33:$T$36,1)>1,IF(ROWS($1:2)<=COUNTIF($T$33:$T$36,1),INDEX($U$33:$U$36,SMALL(IF($T$33:$T$36=1,ROW(INDIRECT(\"1:\"&ROWS($T$33:$T$36)))),ROWS($1:2))),\"\"),IF(COUNTIF($T$33:$T$36,2)>1,IF(ROWS($1:2)<=COUNTIF($T$33:$T$36,2),INDEX($U$33:$U$36,SMALL(IF($T$33:$T$36=2,ROW(INDIRECT(\"1:\"&ROWS($T$33:$T$36)))),ROWS($1:2))),\"\")))","v":false}]
[null,{"$f":"IF(COUNTIF($T$33:$T$36,1)>1,IF(ROWS($1:3)<=COUNTIF($T$33:$T$36,1),INDEX($U$33:$U$36,SMALL(IF($T$33:$T$36=1,ROW(INDIRECT(\"1:\"&ROWS($T$33:$T$36)))),ROWS($1:3))),\"\"),IF(COUNTIF($T$33:$T$36,2)>1,IF(ROWS($1:3)<=COUNTIF($T$33:$T$36,2),INDEX($U$33:$U$36,SMALL(IF($T$33:$T$36=2,ROW(INDIRECT(\"1:\"&ROWS($T$33:$T$36)))),ROWS($1:3))),\"\")))","v":false}]
[null,{"$f":"IF(COUNTIF($T$33:$T$36,1)>1,IF(ROWS($1:4)<=COUNTIF($T$33:$T$36,1),INDEX($U$33:$U$36,SMALL(IF($T$33:$T$36=1,ROW(INDIRECT(\"1:\"&ROWS($T$33:$T$36)))),ROWS($1:4))),\"\"),IF(COUNTIF($T$33:$T$36,2)>1,IF(ROWS($1:4)<=COUNTIF($T$33:$T$36,2),INDEX($U$33:$U$36,SMALL(IF($T$33:$T$36=2,ROW(INDIRECT(\"1:\"&ROWS($T$33:$T$36)))),ROWS($1:4))),\"\")))","v":false}]
[null,"Tirage au sort F1"]
[null,{"$f":"IF(ROWS($1:1)<=COUNTIF($T$39:$T$42,1),INDEX($U$39:$U$42,SMALL(IF($T$39:$T$42=1,ROW(INDIRECT(\"1:\"&ROWS($T$39:$T$42)))),ROWS($1:1))),\"\")","v":"Allemagne"}]
[null,{"$f":"IF(ROWS($1:2)<=COUNTIF($T$39:$T$42,1),INDEX($U$39:$U$42,SMALL(IF($T$39:$T$42=1,ROW(INDIRECT(\"1:\"&ROWS($T$39:$T$42)))),ROWS($1:2))),\"\")","v":""}]
[null,{"$f":"IF(ROWS($1:3)<=COUNTIF($T$39:$T$42,1),INDEX($U$39:$U$42,SMALL(IF($T$39:$T$42=1,ROW(INDIRECT(\"1:\"&ROWS($T$39:$T$42)))),ROWS($1:3))),\"\")","v":""}]
[null,{"$f":"IF(ROWS($1:4)<=COUNTIF($T$39:$T$42,1),INDEX($U$39:$U$42,SMALL(IF($T$39:$T$42=1,ROW(INDIRECT(\"1:\"&ROWS($T$39:$T$42)))),ROWS($1:4))),\"\")","v":""}]
[null,"Tirage au sort F2"]
[null,{"$f":"IF(COUNTIF($T$39:$T$42,1)>1,IF(ROWS($1:1)<=COUNTIF($T$39:$T$42,1),INDEX($U$39:$U$42,SMALL(IF($T$39:$T$42=1,ROW(INDIRECT(\"1:\"&ROWS($T$39:$T$42)))),ROWS($1:1))),\"\"),IF(COUNTIF($T$39:$T$42,2)>1,IF(ROWS($1:1)<=COUNTIF($T$39:$T$42,2),INDEX($U$39:$U$42,SMALL(IF($T$39:$T$42=2,ROW(INDIRECT(\"1:\"&ROWS($T$39:$T$42)))),ROWS($1:1))),\"\")))","v":false}]
[null,{"$f":"IF(COUNTIF($T$39:$T$42,1)>1,IF(ROWS($1:2)<=COUNTIF($T$39:$T$42,1),INDEX($U$39:$U$42,SMALL(IF($T$39:$T$42=1,ROW(INDIRECT(\"1:\"&ROWS($T$39:$T$42)))),ROWS($1:2))),\"\"),IF(COUNTIF($T$39:$T$42,2)>1,IF(ROWS($1:2)<=COUNTIF($T$39:$T$42,2),INDEX($U$39:$U$42,SMALL(IF($T$39:$T$42=2,ROW(INDIRECT(\"1:\"&ROWS($T$39:$T$42)))),ROWS($1:2))),\"\")))","v":false}]
[null,{"$f":"IF(COUNTIF($T$39:$T$42,1)>1,IF(ROWS($1:3)<=COUNTIF($T$39:$T$42,1),INDEX($U$39:$U$42,SMALL(IF($T$39:$T$42=1,ROW(INDIRECT(\"1:\"&ROWS($T$39:$T$42)))),ROWS($1:3))),\"\"),IF(COUNTIF($T$39:$T$42,2)>1,IF(ROWS($1:3)<=COUNTIF($T$39:$T$42,2),INDEX($U$39:$U$42,SMALL(IF($T$39:$T$42=2,ROW(INDIRECT(\"1:\"&ROWS($T$39:$T$42)))),ROWS($1:3))),\"\")))","v":false}]
[null,{"$f":"IF(COUNTIF($T$39:$T$42,1)>1,IF(ROWS($1:4)<=COUNTIF($T$39:$T$42,1),INDEX($U$39:$U$42,SMALL(IF($T$39:$T$42=1,ROW(INDIRECT(\"1:\"&ROWS($T$39:$T$42)))),ROWS($1:4))),\"\"),IF(COUNTIF($T$39:$T$42,2)>1,IF(ROWS($1:4)<=COUNTIF($T$39:$T$42,2),INDEX($U$39:$U$42,SMALL(IF($T$39:$T$42=2,ROW(INDIRECT(\"1:\"&ROWS($T$39:$T$42)))),ROWS($1:4))),\"\")))","v":false}]
[null,"Tirage au sort G1"]
[null,{"$f":"IF(ROWS($1:1)<=COUNTIF($T$45:$T$48,1),INDEX($U$45:$U$48,SMALL(IF($T$45:$T$48=1,ROW(INDIRECT(\"1:\"&ROWS($T$45:$T$48)))),ROWS($1:1))),\"\")","v":"Angleterre"}]
[null,{"$f":"IF(ROWS($1:2)<=COUNTIF($T$45:$T$48,1),INDEX($U$45:$U$48,SMALL(IF($T$45:$T$48=1,ROW(INDIRECT(\"1:\"&ROWS($T$45:$T$48)))),ROWS($1:2))),\"\")","v":""}]
[null,{"$f":"IF(ROWS($1:3)<=COUNTIF($T$45:$T$48,1),INDEX($U$45:$U$48,SMALL(IF($T$45:$T$48=1,ROW(INDIRECT(\"1:\"&ROWS($T$45:$T$48)))),ROWS($1:3))),\"\")","v":""}]
[null,{"$f":"IF(ROWS($1:4)<=COUNTIF($T$45:$T$48,1),INDEX($U$45:$U$48,SMALL(IF($T$45:$T$48=1,ROW(INDIRECT(\"1:\"&ROWS($T$45:$T$48)))),ROWS($1:4))),\"\")","v":""}]
[null,"Tirage au sort G2"]
[null,{"$f":"IF(COUNTIF($T$45:$T$48,1)>1,IF(ROWS($1:1)<=COUNTIF($T$45:$T$48,1),INDEX($U$45:$U$48,SMALL(IF($T$45:$T$48=1,ROW(INDIRECT(\"1:\"&ROWS($T$45:$T$48)))),ROWS($1:1))),\"\"),IF(COUNTIF($T$45:$T$48,2)>1,IF(ROWS($1:1)<=COUNTIF($T$45:$T$48,2),INDEX($U$45:$U$48,SMALL(IF($T$45:$T$48=2,ROW(INDIRECT(\"1:\"&ROWS($T$45:$T$48)))),ROWS($1:1))),\"\")))","v":false}]
[null,{"$f":"IF(COUNTIF($T$45:$T$48,1)>1,IF(ROWS($1:2)<=COUNTIF($T$45:$T$48,1),INDEX($U$45:$U$48,SMALL(IF($T$45:$T$48=1,ROW(INDIRECT(\"1:\"&ROWS($T$45:$T$48)))),ROWS($1:2))),\"\"),IF(COUNTIF($T$45:$T$48,2)>1,IF(ROWS($1:2)<=COUNTIF($T$45:$T$48,2),INDEX($U$45:$U$48,SMALL(IF($T$45:$T$48=2,ROW(INDIRECT(\"1:\"&ROWS($T$45:$T$48)))),ROWS($1:2))),\"\")))","v":false}]
[null,{"$f":"IF(COUNTIF($T$45:$T$48,1)>1,IF(ROWS($1:3)<=COUNTIF($T$45:$T$48,1),INDEX($U$45:$U$48,SMALL(IF($T$45:$T$48=1,ROW(INDIRECT(\"1:\"&ROWS($T$45:$T$48)))),ROWS($1:3))),\"\"),IF(COUNTIF($T$45:$T$48,2)>1,IF(ROWS($1:3)<=COUNTIF($T$45:$T$48,2),INDEX($U$45:$U$48,SMALL(IF($T$45:$T$48=2,ROW(INDIRECT(\"1:\"&ROWS($T$45:$T$48)))),ROWS($1:3))),\"\")))","v":false}]
[null,{"$f":"IF(COUNTIF($T$45:$T$48,1)>1,IF(ROWS($1:4)<=COUNTIF($T$45:$T$48,1),INDEX($U$45:$U$48,SMALL(IF($T$45:$T$48=1,ROW(INDIRECT(\"1:\"&ROWS($T$45:$T$48)))),ROWS($1:4))),\"\"),IF(COUNTIF($T$45:$T$48,2)>1,IF(ROWS($1:4)<=COUNTIF($T$45:$T$48,2),INDEX($U$45:$U$48,SMALL(IF($T$45:$T$48=2,ROW(INDIRECT(\"1:\"&ROWS($T$45:$T$48)))),ROWS($1:4))),\"\")))","v":false}]
[null,"Tirage au sort H1"]
[null,{"$f":"IF(ROWS($1:1)<=COUNTIF($T$51:$T$54,1),INDEX($U$51:$U$54,SMALL(IF($T$51:$T$54=1,ROW(INDIRECT(\"1:\"&ROWS($T$51:$T$54)))),ROWS($1:1))),\"\")","v":"Pologne"}]
[null,{"$f":"IF(ROWS($1:2)<=COUNTIF($T$51:$T$54,1),INDEX($U$51:$U$54,SMALL(IF($T$51:$T$54=1,ROW(INDIRECT(\"1:\"&ROWS($T$51:$T$54)))),ROWS($1:2))),\"\")","v":""}]
[null,{"$f":"IF(ROWS($1:3)<=COUNTIF($T$51:$T$54,1),INDEX($U$51:$U$54,SMALL(IF($T$51:$T$54=1,ROW(INDIRECT(\"1:\"&ROWS($T$51:$T$54)))),ROWS($1:3))),\"\")","v":""}]
[null,{"$f":"IF(ROWS($1:4)<=COUNTIF($T$51:$T$54,1),INDEX($U$51:$U$54,SMALL(IF($T$51:$T$54=1,ROW(INDIRECT(\"1:\"&ROWS($T$51:$T$54)))),ROWS($1:4))),\"\")","v":""}]
[null,"Tirage au sort H2"]
[null,{"$f":"IF(COUNTIF($T$51:$T$54,1)>1,IF(ROWS($1:1)<=COUNTIF($T$51:$T$54,1),INDEX($U$51:$U$54,SMALL(IF($T$51:$T$54=1,ROW(INDIRECT(\"1:\"&ROWS($T$51:$T$54)))),ROWS($1:1))),\"\"),IF(COUNTIF($T$51:$T$54,2)>1,IF(ROWS($1:1)<=COUNTIF($T$51:$T$54,2),INDEX($U$51:$U$54,SMALL(IF($T$51:$T$54=2,ROW(INDIRECT(\"1:\"&ROWS($T$51:$T$54)))),ROWS($1:1))),\"\")))","v":false}]
[null,{"$f":"IF(COUNTIF($T$51:$T$54,1)>1,IF(ROWS($1:2)<=COUNTIF($T$51:$T$54,1),INDEX($U$51:$U$54,SMALL(IF($T$51:$T$54=1,ROW(INDIRECT(\"1:\"&ROWS($T$51:$T$54)))),ROWS($1:2))),\"\"),IF(COUNTIF($T$51:$T$54,2)>1,IF(ROWS($1:2)<=COUNTIF($T$51:$T$54,2),INDEX($U$51:$U$54,SMALL(IF($T$51:$T$54=2,ROW(INDIRECT(\"1:\"&ROWS($T$51:$T$54)))),ROWS($1:2))),\"\")))","v":false}]
[null,{"$f":"IF(COUNTIF($T$51:$T$54,1)>1,IF(ROWS($1:3)<=COUNTIF($T$51:$T$54,1),INDEX($U$51:$U$54,SMALL(IF($T$51:$T$54=1,ROW(INDIRECT(\"1:\"&ROWS($T$51:$T$54)))),ROWS($1:3))),\"\"),IF(COUNTIF($T$51:$T$54,2)>1,IF(ROWS($1:3)<=COUNTIF($T$51:$T$54,2),INDEX($U$51:$U$54,SMALL(IF($T$51:$T$54=2,ROW(INDIRECT(\"1:\"&ROWS($T$51:$T$54)))),ROWS($1:3))),\"\")))","v":false}]
[null,{"$f":"IF(COUNTIF($T$51:$T$54,1)>1,IF(ROWS($1:4)<=COUNTIF($T$51:$T$54,1),INDEX($U$51:$U$54,SMALL(IF($T$51:$T$54=1,ROW(INDIRECT(\"1:\"&ROWS($T$51:$T$54)))),ROWS($1:4))),\"\"),IF(COUNTIF($T$51:$T$54,2)>1,IF(ROWS($1:4)<=COUNTIF($T$51:$T$54,2),INDEX($U$51:$U$54,SMALL(IF($T$51:$T$54=2,ROW(INDIRECT(\"1:\"&ROWS($T$51:$T$54)))),ROWS($1:4))),\"\")))","v":false}]

{"sheet":"Tiphaine","index":8,"n_rows":138,"n_cols":46,"rows_kept":138,"cut":false,"hidden":false,"merged":[[2,1,2,8],[3,1,3,8],[3,9,3,12]]}
[]
[null,"Pronostics de :"]
[]
[null,{"$f":"MID(CELL(\"filename\",A1),FIND(\"]\",CELL(\"filename\",A1))+1,32)","v":"Tiphaine"}]
[]
[null,"SAISIE DES PRONOSTICS",null,null,null,null,null,null,null,null,null,null,null,null,null,null,null,null,null,"GROUPES",null,null,null,null,null,null,null,null,null,null,null,null,"SCORE PRONOSTIQUEUR",null,null,null,null,null,null,null,null,{"$f":"AN8+AN12","v":2}]
[null,"Date","Heure","Match","Groupe",1,"N",2,null,"Buts",null,null,"Buts"]
[null,{"$f":"VLOOKUP($D8,TABLEAU_MATCHS[#All],2,FALSE)","v":"2018-06-14"},{"$f":"VLOOKUP($D8,TABLEAU_MATCHS[#All],3,FALSE)","v":"17:00:00"},1,{"$f":"\"Groupe \"&VLOOKUP($I8,TABLEAU_TEAMS[[#All],[TEAM]:[GROUP_INITIAL_RANK]],2,FALSE)","v":"Groupe A"},1.3,4.3,10,{"$f":"VLOOKUP($D8,TABLEAU_MATCHS[#All],4,FALSE)","v":"Russie"},2,null,{"$f":"VLOOKUP($D8,TABLEAU_MATCHS[#All],5,FALSE)","v":"Arabie Saoudite"},0,{"$f":"IF(OR(ISBLANK(RESULTATS!J8),ISBLANK(J8)),\"\",IF(AND(Tiphaine!J8=RESULTATS!J8,Tiphaine!M8=RESULTATS!M8),3,IF(OR(AND(Tiphaine!J8>Tiphaine!M8,RESULTATS!J8>RESULTATS!M8),AND(Tiphaine!J8<Tiphaine!M8,RESULTATS!J8<RESULTATS!M8),AND(Tiphaine!J8=Tiphaine!M8,RESULTATS!J8=RESULTATS!M8)),1,0)))","v":1},null,null,null,null,null,"Rg","Groupe A","MJ","G","N","P","BP","BC","+/-","Pts",null,null,null,"Phases de groupes",null,null,null,null,null,null,{"$f":"N56","v":2},null,"points"]
[null,{"$f":"VLOOKUP($D9,TABLEAU_MATCHS[#All],2,FALSE)","v":"2018-06-15"},{"$f":"VLOOKUP($D9,TABLEAU_MATCHS[#All],3,FALSE)","v":"14:00:00"},2,{"$f":"\"Groupe \"&VLOOKUP($I9,TABLEAU_TEAMS[[#All],[TEAM]:[GROUP_INITIAL_RANK]],2,FALSE)","v":"Groupe A"},2.2000000000000002,2.9,3.25,{"$f":"VLOOKUP($D9,TABLEAU_MATCHS[#All],4,FALSE)","v":"Egypte"},1,null,{"$f":"VLOOKUP($D9,TABLEAU_MATCHS[#All],5,FALSE)","v":"Uruguay"},2,{"$f":"IF(OR(ISBLANK(RESULTATS!J9),ISBLANK(J9)),\"\",IF(AND(Tiphaine!J9=RESULTATS!J9,Tiphaine!M9=RESULTATS!M9),3,IF(OR(AND(Tiphaine!J9>Tiphaine!M9,RESULTATS!J9>RESULTATS!M9),AND(Tiphaine!J9<Tiphaine!M9,RESULTATS!J9<RESULTATS!M9),AND(Tiphaine!J9=Tiphaine!M9,RESULTATS!J9=RESULTATS!M9)),1,0)))","v":1},null,null,null,{"$f":"INDEX($R60:$R63,MATCH(SMALL(COUNTIF($R60:$R63,\">=\"&$R60:$R63),ROW(INDIRECT(\"1:\"&ROWS($R60:$R63)))),COUNTIF($R60:$R63,\">=\"&$R60:$R63),0))","v":"09450Uruguay"},{"$f":"INDEX($S60:$S63,MATCH(SMALL(COUNTIF($R60:$R63,\">=\"&$R60:$R63),ROW(INDIRECT(\"1:\"&ROWS($R60:$R63)))),COUNTIF($R60:$R63,\">=\"&$R60:$R63),0))","v":9450},{"$f":"INDEX($T60:$T63,MATCH(SMALL(COUNTIF($R60:$R63,\">=\"&$R60:$R63),ROW(INDIRECT(\"1:\"&ROWS($R60:$R63)))),COUNTIF($R60:$R63,\">=\"&$R60:$R63),0))","v":1},{"$f":"INDEX($U60:$U63,MATCH(SMALL(COUNTIF($R60:$R63,\">=\"&$R60:$R63),ROW(INDIRECT(\"1:\"&ROWS($R60:$R63)))),COUNTIF($R60:$R63,\">=\"&$R60:$R63),0))","v":"Uruguay"},{"$f":"SUMPRODUCT((Teams1=U9)*(Teams1_Score<>\"\"))+SUMPRODUCT((Teams2=U9)*(Teams2_Score<>\"\"))","v":3},{"$f":"SUMPRODUCT((Teams1=U9)*(Teams1_Score>Teams2_Score))+SUMPRODUCT((Teams2=U9)*(Teams2_Score>Teams1_Score))","v":3},{"$f":"SUMPRODUCT((Teams1=U9)*(Teams1_Score=Teams2_Score)*(Teams1_Score<>\"\"))+SUMPRODUCT((Teams2=U9)*(Teams2_Score=Teams1_Score)*(Teams2_Score<>\"\"))","v":0},{"$f":"SUMPRODUCT((Teams1=U9)*(Teams1_Score<Teams2_Score))+SUMPRODUCT((Teams2=U9)*(Teams2_Score<Teams1_Score))","v":0},{"$f":"SUMPRODUCT((Teams1=U9)*(Teams1_Score))+SUMPRODUCT((Teams2=U9)*(Teams2_Score))","v":5},{"$f":"SUMPRODUCT((Teams1=U9)*(Teams2_Score))+SUMPRODUCT((Teams2=U9)*(Teams1_Score))","v":1},{"$f":"Z9-AA9","v":4},{"$f":"3*W9+X9","v":9},null,null,null,"Vainqueur ou nul trouvé (1 pt)",null,null,{"$f":"COUNTIF($N$8:$N$55,1)+COUNTIF($N$8:$N$55,3)","v":2},"matchs",null,null,{"$f":"AJ9","v":2},null,"points"]
[null,{"$f":"VLOOKUP($D10,TABLEAU_MATCHS[#All],2,FALSE)","v":"2018-06-15"},{"$f":"VLOOKUP($D10,TABLEAU_MATCHS[#All],3,FALSE)","v":"17:00:00"},3,{"$f":"\"Groupe \"&VLOOKUP($I10,TABLEAU_TEAMS[[#All],[TEAM]:[GROUP_INITIAL_RANK]],2,FALSE)","v":"Groupe B"},1.8,3.05,4.5,{"$f":"VLOOKUP($D10,TABLEAU_MATCHS[#All],4,FALSE)","v":"Maroc"},2,null,{"$f":"VLOOKUP($D10,TABLEAU_MATCHS[#All],5,FALSE)","v":"RI Iran"},0,{"$f":"IF(OR(ISBLANK(RESULTATS!J10),ISBLANK(J10)),\"\",IF(AND(Tiphaine!J10=RESULTATS!J10,Tiphaine!M10=RESULTATS!M10),3,IF(OR(AND(Tiphaine!J10>Tiphaine!M10,RESULTATS!J10>RESULTATS!M10),AND(Tiphaine!J10<Tiphaine!M10,RESULTATS!J10<RESULTATS!M10),AND(Tiphaine!J10=Tiphaine!M10,RESULTATS!J10=RESULTATS!M10)),1,0)))","v":0},null,null,null,"04040Russie",4040,2,"Russie",{"$f":"SUMPRODUCT((Teams1=U10)*(Teams1_Score<>\"\"))+SUMPRODUCT((Teams2=U10)*(Teams2_Score<>\"\"))","v":3},{"$f":"SUMPRODUCT((Teams1=U10)*(Teams1_Score>Teams2_Score))+SUMPRODUCT((Teams2=U10)*(Teams2_Score>Teams1_Score))","v":1},{"$f":"SUMPRODUCT((Teams1=U10)*(Teams1_Score=Teams2_Score)*(Teams1_Score<>\"\"))+SUMPRODUCT((Teams2=U10)*(Teams2_Score=Teams1_Score)*(Teams2_Score<>\"\"))","v":1},{"$f":"SUMPRODUCT((Teams1=U10)*(Teams1_Score<Teams2_Score))+SUMPRODUCT((Teams2=U10)*(Teams2_Score<Teams1_Score))","v":1},{"$f":"SUMPRODUCT((Teams1=U10)*(Teams1_Score))+SUMPRODUCT((Teams2=U10)*(Teams2_Score))","v":4},{"$f":"SUMPRODUCT((Teams1=U10)*(Teams2_Score))+SUMPRODUCT((Teams2=U10)*(Teams1_Score))","v":4},{"$f":"Z10-AA10","v":0},{"$f":"3*W10+X10","v":4},null,null,null,"Bonus score exact (2 pts)",null,null,{"$f":"+COUNTIF($N$8:$N$55,3)","v":0},"matchs",null,null,{"$f":"AJ10*2","v":0},null,"points"]
[null,{"$f":"VLOOKUP($D11,TABLEAU_MATCHS[#All],2,FALSE)","v":"2018-06-15"},{"$f":"VLOOKUP($D11,TABLEAU_MATCHS[#All],3,FALSE)","v":"20:00:00"},4,{"$f":"\"Groupe \"&VLOOKUP($I11,TABLEAU_TEAMS[[#All],[TEAM]:[GROUP_INITIAL_RANK]],2,FALSE)","v":"Groupe B"},1.42,3.9,7,{"$f":"VLOOKUP($D11,TABLEAU_MATCHS[#All],4,FALSE)","v":"Portugal"},2,null,{"$f":"VLOOKUP($D11,TABLEAU_MATCHS[#All],5,FALSE)","v":"Espagne"},3,{"$f":"IF(OR(ISBLANK(RESULTATS!J11),ISBLANK(J11)),\"\",IF(AND(Tiphaine!J11=RESULTATS!J11,Tiphaine!M11=RESULTATS!M11),3,IF(OR(AND(Tiphaine!J11>Tiphaine!M11,RESULTATS!J11>RESULTATS!M11),AND(Tiphaine!J11<Tiphaine!M11,RESULTATS!J11<RESULTATS!M11),AND(Tiphaine!J11=Tiphaine!M11,RESULTATS!J11=RESULTATS!M11)),1,0)))","v":0},null,null,null,"01940Egypte",1940,3,"Egypte",{"$f":"SUMPRODUCT((Teams1=U11)*(Teams1_Score<>\"\"))+SUMPRODUCT((Teams2=U11)*(Teams2_Score<>\"\"))","v":3},{"$f":"SUMPRODUCT((Teams1=U11)*(Teams1_Score>Teams2_Score))+SUMPRODUCT((Teams2=U11)*(Teams2_Score>Teams1_Score))","v":0},{"$f":"SUMPRODUCT((Teams1=U11)*(Teams1_Score=Teams2_Score)*(Teams1_Score<>\"\"))+SUMPRODUCT((Teams2=U11)*(Teams2_Score=Teams1_Score)*(Teams2_Score<>\"\"))","v":2},{"$f":"SUMPRODUCT((Teams1=U11)*(Teams1_Score<Teams2_Score))+SUMPRODUCT((Teams2=U11)*(Teams2_Score<Teams1_Score))","v":1},{"$f":"SUMPRODUCT((Teams1=U11)*(Teams1_Score))+SUMPRODUCT((Teams2=U11)*(Teams2_Score))","v":4},{"$f":"SUMPRODUCT((Teams1=U11)*(Teams2_Score))+SUMPRODUCT((Teams2=U11)*(Teams1_Score))","v":5},{"$f":"Z11-AA11","v":-1},{"$f":"3*W11+X11","v":2}]
[null,{"$f":"VLOOKUP($D12,TABLEAU_MATCHS[#All],2,FALSE)","v":"2018-06-16"},{"$f":"VLOOKUP($D12,TABLEAU_MATCHS[#All],3,FALSE)","v":"12:00:00"},5,{"$f":"\"Groupe \"&VLOOKUP($I12,TABLEAU_TEAMS[[#All],[TEAM]:[GROUP_INITIAL_RANK]],2,FALSE)","v":"Groupe C"},1.7,3.1,5,{"$f":"VLOOKUP($D12,TABLEAU_MATCHS[#All],4,FALSE)","v":"France"},2,null,{"$f":"VLOOKUP($D12,TABLEAU_MATCHS[#All],5,FALSE)","v":"Australie"},0,{"$f":"IF(OR(ISBLANK(RESULTATS!J12),ISBLANK(J12)),\"\",IF(AND(Tiphaine!J12=RESULTATS!J12,Tiphaine!M12=RESULTATS!M12),3,IF(OR(AND(Tiphaine!J12>Tiphaine!M12,RESULTATS!J12>RESULTATS!M12),AND(Tiphaine!J12<Tiphaine!M12,RESULTATS!J12<RESULTATS!M12),AND(Tiphaine!J12=Tiphaine!M12,RESULTATS!J12=RESULTATS!M12)),1,0)))","v":""},null,null,null,"00710Arabie Saoudite",710,4,"Arabie Saoudite",{"$f":"SUMPRODUCT((Teams1=U12)*(Teams1_Score<>\"\"))+SUMPRODUCT((Teams2=U12)*(Teams2_Score<>\"\"))","v":3},{"$f":"SUMPRODUCT((Teams1=U12)*(Teams1_Score>Teams2_Score))+SUMPRODUCT((Teams2=U12)*(Teams2_Score>Teams1_Score))","v":0},{"$f":"SUMPRODUCT((Teams1=U12)*(Teams1_Score=Teams2_Score)*(Teams1_Score<>\"\"))+SUMPRODUCT((Teams2=U12)*(Teams2_Score=Teams1_Score)*(Teams2_Score<>\"\"))","v":1},{"$f":"SUMPRODUCT((Teams1=U12)*(Teams1_Score<Teams2_Score))+SUMPRODUCT((Teams2=U12)*(Teams2_Score<Teams1_Score))","v":2},{"$f":"SUMPRODUCT((Teams1=U12)*(Teams1_Score))+SUMPRODUCT((Teams2=U12)*(Teams2_Score))","v":1},{"$f":"SUMPRODUCT((Teams1=U12)*(Teams2_Score))+SUMPRODUCT((Teams2=U12)*(Teams1_Score))","v":4},{"$f":"Z12-AA12","v":-3},{"$f":"3*W12+X12","v":1},null,null,null,"Phases finales",null,null,null,null,null,null,{"$f":"SUM(AN13:AN17)","v":0},null,"points"]
[null,{"$f":"VLOOKUP($D13,TABLEAU_MATCHS[#All],2,FALSE)","v":"2018-06-16"},{"$f":"VLOOKUP($D13,TABLEAU_MATCHS[#All],3,FALSE)","v":"18:00:00"},6,{"$f":"\"Groupe \"&VLOOKUP($I13,TABLEAU_TEAMS[[#All],[TEAM]:[GROUP_INITIAL_RANK]],2,FALSE)","v":"Groupe C"},2.5499999999999998,2.9,2.7,{"$f":"VLOOKUP($D13,TABLEAU_MATCHS[#All],4,FALSE)","v":"Pérou"},2,null,{"$f":"VLOOKUP($D13,TABLEAU_MATCHS[#All],5,FALSE)","v":"Danemark"},0,{"$f":"IF(OR(ISBLANK(RESULTATS!J13),ISBLANK(J13)),\"\",IF(AND(Tiphaine!J13=RESULTATS!J13,Tiphaine!M13=RESULTATS!M13),3,IF(OR(AND(Tiphaine!J13>Tiphaine!M13,RESULTATS!J13>RESULTATS!M13),AND(Tiphaine!J13<Tiphaine!M13,RESULTATS!J13<RESULTATS!M13),AND(Tiphaine!J13=Tiphaine!M13,RESULTATS!J13=RESULTATS!M13)),1,0)))","v":""},null,null,null,null,null,null,null,null,null,null,null,null,null,null,null,null,null,null,"Huitièmes de finaliste trouvés (2 pts)",null,null,{"$f":"IF(CLASSEMENT!PHASES_FINALES=\"OUI\",$AK$53+$AQ$53,0)","v":0},"équipe(s) ",null,null,{"$f":"AJ13*2","v":0},null,"points"]
[null,{"$f":"VLOOKUP($D14,TABLEAU_MATCHS[#All],2,FALSE)","v":"2018-06-16"},{"$f":"VLOOKUP($D14,TABLEAU_MATCHS[#All],3,FALSE)","v":"15:00:00"},7,{"$f":"\"Groupe \"&VLOOKUP($I14,TABLEAU_TEAMS[[#All],[TEAM]:[GROUP_INITIAL_RANK]],2,FALSE)","v":"Groupe D"},1.4,4,7.25,{"$f":"VLOOKUP($D14,TABLEAU_MATCHS[#All],4,FALSE)","v":"Argentine"},4,null,{"$f":"VLOOKUP($D14,TABLEAU_MATCHS[#All],5,FALSE)","v":"Islande"},0,{"$f":"IF(OR(ISBLANK(RESULTATS!J14),ISBLANK(J14)),\"\",IF(AND(Tiphaine!J14=RESULTATS!J14,Tiphaine!M14=RESULTATS!M14),3,IF(OR(AND(Tiphaine!J14>Tiphaine!M14,RESULTATS!J14>RESULTATS!M14),AND(Tiphaine!J14<Tiphaine!M14,RESULTATS!J14<RESULTATS!M14),AND(Tiphaine!J14=Tiphaine!M14,RESULTATS!J14=RESULTATS!M14)),1,0)))","v":""},null,null,null,null,null,"Rg","Groupe B","MJ","G","N","P","BP","BC","+/-","Pts",null,null,null,"Quarts de finalistes trouvés (4 pts)",null,null,{"$f":"IF(CLASSEMENT!PHASES_FINALES=\"OUI\",$AK$42+$AQ$42,0)","v":0},"équipe(s) ",null,null,{"$f":"AJ14*4","v":0},null,"points"]
[null,{"$f":"VLOOKUP($D15,TABLEAU_MATCHS[#All],2,FALSE)","v":"2018-06-16"},{"$f":"VLOOKUP($D15,TABLEAU_MATCHS[#All],3,FALSE)","v":"21:00:00"},8,{"$f":"\"Groupe \"&VLOOKUP($I15,TABLEAU_TEAMS[[#All],[TEAM]:[GROUP_INITIAL_RANK]],2,FALSE)","v":"Groupe D"},2.95,2.7,2.5499999999999998,{"$f":"VLOOKUP($D15,TABLEAU_MATCHS[#All],4,FALSE)","v":"Croatie"},2,null,{"$f":"VLOOKUP($D15,TABLEAU_MATCHS[#All],5,FALSE)","v":"Nigeria"},1,{"$f":"IF(OR(ISBLANK(RESULTATS!J15),ISBLANK(J15)),\"\",IF(AND(Tiphaine!J15=RESULTATS!J15,Tiphaine!M15=RESULTATS!M15),3,IF(OR(AND(Tiphaine!J15>Tiphaine!M15,RESULTATS!J15>RESULTATS!M15),AND(Tiphaine!J15<Tiphaine!M15,RESULTATS!J15<RESULTATS!M15),AND(Tiphaine!J15=Tiphaine!M15,RESULTATS!J15=RESULTATS!M15)),1,0)))","v":""},null,null,null,{"$f":"INDEX($R66:$R69,MATCH(SMALL(COUNTIF($R66:$R69,\">=\"&$R66:$R69),ROW(INDIRECT(\"1:\"&ROWS($R66:$R69)))),COUNTIF($R66:$R69,\">=\"&$R66:$R69),0))","v":"09900Espagne"},{"$f":"INDEX($S66:$S69,MATCH(SMALL(COUNTIF($R66:$R69,\">=\"&$R66:$R69),ROW(INDIRECT(\"1:\"&ROWS($R66:$R69)))),COUNTIF($R66:$R69,\">=\"&$R66:$R69),0))","v":9900},{"$f":"INDEX($T66:$T69,MATCH(SMALL(COUNTIF($R66:$R69,\">=\"&$R66:$R69),ROW(INDIRECT(\"1:\"&ROWS($R66:$R69)))),COUNTIF($R66:$R69,\">=\"&$R66:$R69),0))","v":1},{"$f":"INDEX($U66:$U69,MATCH(SMALL(COUNTIF($R66:$R69,\">=\"&$R66:$R69),ROW(INDIRECT(\"1:\"&ROWS($R66:$R69)))),COUNTIF($R66:$R69,\">=\"&$R66:$R69),0))","v":"Espagne"},{"$f":"SUMPRODUCT((Teams1=U15)*(Teams1_Score<>\"\"))+SUMPRODUCT((Teams2=U15)*(Teams2_Score<>\"\"))","v":3},{"$f":"SUMPRODUCT((Teams1=U15)*(Teams1_Score>Teams2_Score))+SUMPRODUCT((Teams2=U15)*(Teams2_Score>Teams1_Score))","v":3},{"$f":"SUMPRODUCT((Teams1=U15)*(Teams1_Score=Teams2_Score)*(Teams1_Score<>\"\"))+SUMPRODUCT((Teams2=U15)*(Teams2_Score=Teams1_Score)*(Teams2_Score<>\"\"))","v":0},{"$f":"SUMPRODUCT((Teams1=U15)*(Teams1_Score<Teams2_Score))+SUMPRODUCT((Teams2=U15)*(Teams2_Score<Teams1_Score))","v":0},{"$f":"SUMPRODUCT((Teams1=U15)*(Teams1_Score))+SUMPRODUCT((Teams2=U15)*(Teams2_Score))","v":10},{"$f":"SUMPRODUCT((Teams1=U15)*(Teams2_Score))+SUMPRODUCT((Teams2=U15)*(Teams1_Score))","v":2},{"$f":"Z15-AA15","v":8},{"$f":"3*W15+X15","v":9},null,null,null,"Demi finalistes trouvés (5 pts)",null,null,{"$f":"IF(CLASSEMENT!PHASES_FINALES=\"OUI\",$AK$35+$AQ$35,0)","v":0},"équipe(s) ",null,null,{"$f":"AJ15*5","v":0},null,"points"]
[null,{"$f":"VLOOKUP($D16,TABLEAU_MATCHS[#All],2,FALSE)","v":"2018-06-17"},{"$f":"VLOOKUP($D16,TABLEAU_MATCHS[#All],3,FALSE)","v":"14:00:00"},9,{"$f":"\"Groupe \"&VLOOKUP($I16,TABLEAU_TEAMS[[#All],[TEAM]:[GROUP_INITIAL_RANK]],2,FALSE)","v":"Groupe E"},2.35,2.9,2.95,{"$f":"VLOOKUP($D16,TABLEAU_MATCHS[#All],4,FALSE)","v":"Costa Rica"},2,null,{"$f":"VLOOKUP($D16,TABLEAU_MATCHS[#All],5,FALSE)","v":"Serbie"},1,{"$f":"IF(OR(ISBLANK(RESULTATS!J16),ISBLANK(J16)),\"\",IF(AND(Tiphaine!J16=RESULTATS!J16,Tiphaine!M16=RESULTATS!M16),3,IF(OR(AND(Tiphaine!J16>Tiphaine!M16,RESULTATS!J16>RESULTATS!M16),AND(Tiphaine!J16<Tiphaine!M16,RESULTATS!J16<RESULTATS!M16),AND(Tiphaine!J16=Tiphaine!M16,RESULTATS!J16=RESULTATS!M16)),1,0)))","v":""},null,null,null,"06590Portugal",6590,2,"Portugal",{"$f":"SUMPRODUCT((Teams1=U16)*(Teams1_Score<>\"\"))+SUMPRODUCT((Teams2=U16)*(Teams2_Score<>\"\"))","v":3},{"$f":"SUMPRODUCT((Teams1=U16)*(Teams1_Score>Teams2_Score))+SUMPRODUCT((Teams2=U16)*(Teams2_Score>Teams1_Score))","v":2},{"$f":"SUMPRODUCT((Teams1=U16)*(Teams1_Score=Teams2_Score)*(Teams1_Score<>\"\"))+SUMPRODUCT((Teams2=U16)*(Teams2_Score=Teams1_Score)*(Teams2_Score<>\"\"))","v":0},{"$f":"SUMPRODUCT((Teams1=U16)*(Teams1_Score<Teams2_Score))+SUMPRODUCT((Teams2=U16)*(Teams2_Score<Teams1_Score))","v":1},{"$f":"SUMPRODUCT((Teams1=U16)*(Teams1_Score))+SUMPRODUCT((Teams2=U16)*(Teams2_Score))","v":9},{"$f":"SUMPRODUCT((Teams1=U16)*(Teams2_Score))+SUMPRODUCT((Teams2=U16)*(Teams1_Score))","v":4},{"$f":"Z16-AA16","v":5},{"$f":"3*W16+X16","v":6},null,null,null,"Finalistes trouvés (6 pts)",null,null,{"$f":"IF(CLASSEMENT!PHASES_FINALES=\"OUI\",$AK$25+$AQ$25,0)","v":0},"équipe(s) ",null,null,{"$f":"AJ16*6","v":0},null,"points"]
[null,{"$f":"VLOOKUP($D17,TABLEAU_MATCHS[#All],2,FALSE)","v":"2018-06-17"},{"$f":"VLOOKUP($D17,TABLEAU_MATCHS[#All],3,FALSE)","v":"20:00:00"},10,{"$f":"\"Groupe \"&VLOOKUP($I17,TABLEAU_TEAMS[[#All],[TEAM]:[GROUP_INITIAL_RANK]],2,FALSE)","v":"Groupe E"},1.28,4.7,9.5,{"$f":"VLOOKUP($D17,TABLEAU_MATCHS[#All],4,FALSE)","v":"Brésil"},3,null,{"$f":"VLOOKUP($D17,TABLEAU_MATCHS[#All],5,FALSE)","v":"Suisse"},1,{"$f":"IF(OR(ISBLANK(RESULTATS!J17),ISBLANK(J17)),\"\",IF(AND(Tiphaine!J17=RESULTATS!J17,Tiphaine!M17=RESULTATS!M17),3,IF(OR(AND(Tiphaine!J17>Tiphaine!M17,RESULTATS!J17>RESULTATS!M17),AND(Tiphaine!J17<Tiphaine!M17,RESULTATS!J17<RESULTATS!M17),AND(Tiphaine!J17=Tiphaine!M17,RESULTATS!J17=RESULTATS!M17)),1,0)))","v":""},null,null,null,"02620Maroc",2620,3,"Maroc",{"$f":"SUMPRODUCT((Teams1=U17)*(Teams1_Score<>\"\"))+SUMPRODUCT((Teams2=U17)*(Teams2_Score<>\"\"))","v":3},{"$f":"SUMPRODUCT((Teams1=U17)*(Teams1_Score>Teams2_Score))+SUMPRODUCT((Teams2=U17)*(Teams2_Score>Teams1_Score))","v":1},{"$f":"SUMPRODUCT((Teams1=U17)*(Teams1_Score=Teams2_Score)*(Teams1_Score<>\"\"))+SUMPRODUCT((Teams2=U17)*(Teams2_Score=Teams1_Score)*(Teams2_Score<>\"\"))","v":0},{"$f":"SUMPRODUCT((Teams1=U17)*(Teams1_Score<Teams2_Score))+SUMPRODUCT((Teams2=U17)*(Teams2_Score<Teams1_Score))","v":2},{"$f":"SUMPRODUCT((Teams1=U17)*(Teams1_Score))+SUMPRODUCT((Teams2=U17)*(Teams2_Score))","v":2},{"$f":"SUMPRODUCT((Teams1=U17)*(Teams2_Score))+SUMPRODUCT((Teams2=U17)*(Teams1_Score))","v":6},{"$f":"Z17-AA17","v":-4},{"$f":"3*W17+X17","v":3},null,null,null,"Champion du monde trouvé (7 pts)",null,null,{"$f":"IF(CLASSEMENT!PHASES_FINALES=\"OUI\",IF(AJ25<>\"\",IF($AT$25=RESULTATS!AS10,1,0),0),0)","v":0},"équipe",null,null,{"$f":"AJ17*7","v":0},null,"points"]
[null,{"$f":"VLOOKUP($D18,TABLEAU_MATCHS[#All],2,FALSE)","v":"2018-06-17"},{"$f":"VLOOKUP($D18,TABLEAU_MATCHS[#All],3,FALSE)","v":"17:00:00"},11,{"$f":"\"Groupe \"&VLOOKUP($I18,TABLEAU_TEAMS[[#All],[TEAM]:[GROUP_INITIAL_RANK]],2,FALSE)","v":"Groupe F"},1.34,4.3,7.5,{"$f":"VLOOKUP($D18,TABLEAU_MATCHS[#All],4,FALSE)","v":"Allemagne"},4,null,{"$f":"VLOOKUP($D18,TABLEAU_MATCHS[#All],5,FALSE)","v":"Mexique"},2,{"$f":"IF(OR(ISBLANK(RESULTATS!J18),ISBLANK(J18)),\"\",IF(AND(Tiphaine!J18=RESULTATS!J18,Tiphaine!M18=RESULTATS!M18),3,IF(OR(AND(Tiphaine!J18>Tiphaine!M18,RESULTATS!J18>RESULTATS!M18),AND(Tiphaine!J18<Tiphaine!M18,RESULTATS!J18<RESULTATS!M18),AND(Tiphaine!J18=Tiphaine!M18,RESULTATS!J18=RESULTATS!M18)),1,0)))","v":""},null,null,null,"-00890RI Iran",-890,4,"RI Iran",{"$f":"SUMPRODUCT((Teams1=U18)*(Teams1_Score<>\"\"))+SUMPRODUCT((Teams2=U18)*(Teams2_Score<>\"\"))","v":3},{"$f":"SUMPRODUCT((Teams1=U18)*(Teams1_Score>Teams2_Score))+SUMPRODUCT((Teams2=U18)*(Teams2_Score>Teams1_Score))","v":0},{"$f":"SUMPRODUCT((Teams1=U18)*(Teams1_Score=Teams2_Score)*(Teams1_Score<>\"\"))+SUMPRODUCT((Teams2=U18)*(Teams2_Score=Teams1_Score)*(Teams2_Score<>\"\"))","v":0},{"$f":"SUMPRODUCT((Teams1=U18)*(Teams1_Score<Teams2_Score))+SUMPRODUCT((Teams2=U18)*(Teams2_Score<Teams1_Score))","v":3},{"$f":"SUMPRODUCT((Teams1=U18)*(Teams1_Score))+SUMPRODUCT((Teams2=U18)*(Teams2_Score))","v":1},{"$f":"SUMPRODUCT((Teams1=U18)*(Teams2_Score))+SUMPRODUCT((Teams2=U18)*(Teams1_Score))","v":10},{"$f":"Z18-AA18","v":-9},{"$f":"3*W18+X18","v":0}]
[null,{"$f":"VLOOKUP($D19,TABLEAU_MATCHS[#All],2,FALSE)","v":"2018-06-18"},{"$f":"VLOOKUP($D19,TABLEAU_MATCHS[#All],3,FALSE)","v":"14:00:00"},12,{"$f":"\"Groupe \"&VLOOKUP($I19,TABLEAU_TEAMS[[#All],[TEAM]:[GROUP_INITIAL_RANK]],2,FALSE)","v":"Groupe F"},3.3,2.95,2.15,{"$f":"VLOOKUP($D19,TABLEAU_MATCHS[#All],4,FALSE)","v":"Suède"},3,null,{"$f":"VLOOKUP($D19,TABLEAU_MATCHS[#All],5,FALSE)","v":"République de Corée"},0,{"$f":"IF(OR(ISBLANK(RESULTATS!J19),ISBLANK(J19)),\"\",IF(AND(Tiphaine!J19=RESULTATS!J19,Tiphaine!M19=RESULTATS!M19),3,IF(OR(AND(Tiphaine!J19>Tiphaine!M19,RESULTATS!J19>RESULTATS!M19),AND(Tiphaine!J19<Tiphaine!M19,RESULTATS!J19<RESULTATS!M19),AND(Tiphaine!J19=Tiphaine!M19,RESULTATS!J19=RESULTATS!M19)),1,0)))","v":""}]
[null,{"$f":"VLOOKUP($D20,TABLEAU_MATCHS[#All],2,FALSE)","v":"2018-06-18"},{"$f":"VLOOKUP($D20,TABLEAU_MATCHS[#All],3,FALSE)","v":"17:00:00"},13,{"$f":"\"Groupe \"&VLOOKUP($I20,TABLEAU_TEAMS[[#All],[TEAM]:[GROUP_INITIAL_RANK]],2,FALSE)","v":"Groupe G"},1.95,2.95,4,{"$f":"VLOOKUP($D20,TABLEAU_MATCHS[#All],4,FALSE)","v":"Belgique"},2,null,{"$f":"VLOOKUP($D20,TABLEAU_MATCHS[#All],5,FALSE)","v":"Panama"},1,{"$f":"IF(OR(ISBLANK(RESULTATS!J20),ISBLANK(J20)),\"\",IF(AND(Tiphaine!J20=RESULTATS!J20,Tiphaine!M20=RESULTATS!M20),3,IF(OR(AND(Tiphaine!J20>Tiphaine!M20,RESULTATS!J20>RESULTATS!M20),AND(Tiphaine!J20<Tiphaine!M20,RESULTATS!J20<RESULTATS!M20),AND(Tiphaine!J20=Tiphaine!M20,RESULTATS!J20=RESULTATS!M20)),1,0)))","v":""},null,null,null,null,null,"Rg","Groupe C","MJ","G","N","P","BP","BC","+/-","Pts"]
[null,{"$f":"VLOOKUP($D21,TABLEAU_MATCHS[#All],2,FALSE)","v":"2018-06-18"},{"$f":"VLOOKUP($D21,TABLEAU_MATCHS[#All],3,FALSE)","v":"20:00:00"},14,{"$f":"\"Groupe \"&VLOOKUP($I21,TABLEAU_TEAMS[[#All],[TEAM]:[GROUP_INITIAL_RANK]],2,FALSE)","v":"Groupe G"},2.5499999999999998,2.9,2.7,{"$f":"VLOOKUP($D21,TABLEAU_MATCHS[#All],4,FALSE)","v":"Tunisie"},1,null,{"$f":"VLOOKUP($D21,TABLEAU_MATCHS[#All],5,FALSE)","v":"Angleterre"},3,{"$f":"IF(OR(ISBLANK(RESULTATS!J21),ISBLANK(J21)),\"\",IF(AND(Tiphaine!J21=RESULTATS!J21,Tiphaine!M21=RESULTATS!M21),3,IF(OR(AND(Tiphaine!J21>Tiphaine!M21,RESULTATS!J21>RESULTATS!M21),AND(Tiphaine!J21<Tiphaine!M21,RESULTATS!J21<RESULTATS!M21),AND(Tiphaine!J21=Tiphaine!M21,RESULTATS!J21=RESULTATS!M21)),1,0)))","v":""},null,null,null,{"$f":"INDEX($R72:$R75,MATCH(SMALL(COUNTIF($R72:$R75,\">=\"&$R72:$R75),ROW(INDIRECT(\"1:\"&ROWS($R72:$R75)))),COUNTIF($R72:$R75,\">=\"&$R72:$R75),0))","v":"09570France"},{"$f":"INDEX($S72:$S75,MATCH(SMALL(COUNTIF($R72:$R75,\">=\"&$R72:$R75),ROW(INDIRECT(\"1:\"&ROWS($R72:$R75)))),COUNTIF($R72:$R75,\">=\"&$R72:$R75),0))","v":9570},{"$f":"INDEX($T72:$T75,MATCH(SMALL(COUNTIF($R72:$R75,\">=\"&$R72:$R75),ROW(INDIRECT(\"1:\"&ROWS($R72:$R75)))),COUNTIF($R72:$R75,\">=\"&$R72:$R75),0))","v":1},{"$f":"INDEX($U72:$U75,MATCH(SMALL(COUNTIF($R72:$R75,\">=\"&$R72:$R75),ROW(INDIRECT(\"1:\"&ROWS($R72:$R75)))),COUNTIF($R72:$R75,\">=\"&$R72:$R75),0))","v":"France"},{"$f":"SUMPRODUCT((Teams1=U21)*(Teams1_Score<>\"\"))+SUMPRODUCT((Teams2=U21)*(Teams2_Score<>\"\"))","v":3},{"$f":"SUMPRODUCT((Teams1=U21)*(Teams1_Score>Teams2_Score))+SUMPRODUCT((Teams2=U21)*(Teams2_Score>Teams1_Score))","v":3},{"$f":"SUMPRODUCT((Teams1=U21)*(Teams1_Score=Teams2_Score)*(Teams1_Score<>\"\"))+SUMPRODUCT((Teams2=U21)*(Teams2_Score=Teams1_Score)*(Teams2_Score<>\"\"))","v":0},{"$f":"SUMPRODUCT((Teams1=U21)*(Teams1_Score<Teams2_Score))+SUMPRODUCT((Teams2=U21)*(Teams2_Score<Teams1_Score))","v":0},{"$f":"SUMPRODUCT((Teams1=U21)*(Teams1_Score))+SUMPRODUCT((Teams2=U21)*(Teams2_Score))","v":7},{"$f":"SUMPRODUCT((Teams1=U21)*(Teams2_Score))+SUMPRODUCT((Teams2=U21)*(Teams1_Score))","v":2},{"$f":"Z21-AA21","v":5},{"$f":"3*W21+X21","v":9},null,null,null,"PHASES FINALES"]
[null,{"$f":"VLOOKUP($D22,TABLEAU_MATCHS[#All],2,FALSE)","v":"2018-06-19"},{"$f":"VLOOKUP($D22,TABLEAU_MATCHS[#All],3,FALSE)","v":"17:00:00"},15,{"$f":"\"Groupe \"&VLOOKUP($I22,TABLEAU_TEAMS[[#All],[TEAM]:[GROUP_INITIAL_RANK]],2,FALSE)","v":"Groupe H"},1.38,3.9,8,{"$f":"VLOOKUP($D22,TABLEAU_MATCHS[#All],4,FALSE)","v":"Colombie"},2,null,{"$f":"VLOOKUP($D22,TABLEAU_MATCHS[#All],5,FALSE)","v":"Japon"},0,{"$f":"IF(OR(ISBLANK(RESULTATS!J22),ISBLANK(J22)),\"\",IF(AND(Tiphaine!J22=RESULTATS!J22,Tiphaine!M22=RESULTATS!M22),3,IF(OR(AND(Tiphaine!J22>Tiphaine!M22,RESULTATS!J22>RESULTATS!M22),AND(Tiphaine!J22<Tiphaine!M22,RESULTATS!J22<RESULTATS!M22),AND(Tiphaine!J22=Tiphaine!M22,RESULTATS!J22=RESULTATS!M22)),1,0)))","v":""},null,null,null,"06260Pérou",6260,2,"Pérou",{"$f":"SUMPRODUCT((Teams1=U22)*(Teams1_Score<>\"\"))+SUMPRODUCT((Teams2=U22)*(Teams2_Score<>\"\"))","v":3},{"$f":"SUMPRODUCT((Teams1=U22)*(Teams1_Score>Teams2_Score))+SUMPRODUCT((Teams2=U22)*(Teams2_Score>Teams1_Score))","v":2},{"$f":"SUMPRODUCT((Teams1=U22)*(Teams1_Score=Teams2_Score)*(Teams1_Score<>\"\"))+SUMPRODUCT((Teams2=U22)*(Teams2_Score=Teams1_Score)*(Teams2_Score<>\"\"))","v":0},{"$f":"SUMPRODUCT((Teams1=U22)*(Teams1_Score<Teams2_Score))+SUMPRODUCT((Teams2=U22)*(Teams2_Score<Teams1_Score))","v":1},{"$f":"SUMPRODUCT((Teams1=U22)*(Teams1_Score))+SUMPRODUCT((Teams2=U22)*(Teams2_Score))","v":6},{"$f":"SUMPRODUCT((Teams1=U22)*(Teams2_Score))+SUMPRODUCT((Teams2=U22)*(Teams1_Score))","v":4},{"$f":"Z22-AA22","v":2},{"$f":"3*W22+X22","v":6}]
[null,{"$f":"VLOOKUP($D23,TABLEAU_MATCHS[#All],2,FALSE)","v":"2018-06-19"},{"$f":"VLOOKUP($D23,TABLEAU_MATCHS[#All],3,FALSE)","v":"14:00:00"},16,{"$f":"\"Groupe \"&VLOOKUP($I23,TABLEAU_TEAMS[[#All],[TEAM]:[GROUP_INITIAL_RANK]],2,FALSE)","v":"Groupe H"},2.0499999999999998,2.9,3.5,{"$f":"VLOOKUP($D23,TABLEAU_MATCHS[#All],4,FALSE)","v":"Pologne"},1,null,{"$f":"VLOOKUP($D23,TABLEAU_MATCHS[#All],5,FALSE)","v":"Sénégal"},2,{"$f":"IF(OR(ISBLANK(RESULTATS!J23),ISBLANK(J23)),\"\",IF(AND(Tiphaine!J23=RESULTATS!J23,Tiphaine!M23=RESULTATS!M23),3,IF(OR(AND(Tiphaine!J23>Tiphaine!M23,RESULTATS!J23>RESULTATS!M23),AND(Tiphaine!J23<Tiphaine!M23,RESULTATS!J23<RESULTATS!M23),AND(Tiphaine!J23=Tiphaine!M23,RESULTATS!J23=RESULTATS!M23)),1,0)))","v":""},null,null,null,"02830Danemark",2830,3,"Danemark",{"$f":"SUMPRODUCT((Teams1=U23)*(Teams1_Score<>\"\"))+SUMPRODUCT((Teams2=U23)*(Teams2_Score<>\"\"))","v":3},{"$f":"SUMPRODUCT((Teams1=U23)*(Teams1_Score>Teams2_Score))+SUMPRODUCT((Teams2=U23)*(Teams2_Score>Teams1_Score))","v":1},{"$f":"SUMPRODUCT((Teams1=U23)*(Teams1_Score=Teams2_Score)*(Teams1_Score<>\"\"))+SUMPRODUCT((Teams2=U23)*(Teams2_Score=Teams1_Score)*(Teams2_Score<>\"\"))","v":0},{"$f":"SUMPRODUCT((Teams1=U23)*(Teams1_Score<Teams2_Score))+SUMPRODUCT((Teams2=U23)*(Teams2_Score<Teams1_Score))","v":2},{"$f":"SUMPRODUCT((Teams1=U23)*(Teams1_Score))+SUMPRODUCT((Teams2=U23)*(Teams2_Score))","v":3},{"$f":"SUMPRODUCT((Teams1=U23)*(Teams2_Score))+SUMPRODUCT((Teams2=U23)*(Teams1_Score))","v":5},{"$f":"Z23-AA23","v":-2},{"$f":"3*W23+X23","v":3},null,null,"Date","Finale",null,null,"Buts",null,"Pen",null,null,null,"Buts",null,"Pen"]
[null,{"$f":"VLOOKUP($D24,TABLEAU_MATCHS[#All],2,FALSE)","v":"2018-06-19"},{"$f":"VLOOKUP($D24,TABLEAU_MATCHS[#All],3,FALSE)","v":"20:00:00"},17,{"$f":"\"Groupe \"&VLOOKUP($I24,TABLEAU_TEAMS[[#All],[TEAM]:[GROUP_INITIAL_RANK]],2,FALSE)","v":"Groupe A"},1.26,4.8,9,{"$f":"VLOOKUP($D24,TABLEAU_MATCHS[#All],4,FALSE)","v":"Russie"},2,null,{"$f":"VLOOKUP($D24,TABLEAU_MATCHS[#All],5,FALSE)","v":"Egypte"},2,{"$f":"IF(OR(ISBLANK(RESULTATS!J24),ISBLANK(J24)),\"\",IF(AND(Tiphaine!J24=RESULTATS!J24,Tiphaine!M24=RESULTATS!M24),3,IF(OR(AND(Tiphaine!J24>Tiphaine!M24,RESULTATS!J24>RESULTATS!M24),AND(Tiphaine!J24<Tiphaine!M24,RESULTATS!J24<RESULTATS!M24),AND(Tiphaine!J24=Tiphaine!M24,RESULTATS!J24=RESULTATS!M24)),1,0)))","v":""},null,null,null,"-00480Australie",-480,4,"Australie",{"$f":"SUMPRODUCT((Teams1=U24)*(Teams1_Score<>\"\"))+SUMPRODUCT((Teams2=U24)*(Teams2_Score<>\"\"))","v":3},{"$f":"SUMPRODUCT((Teams1=U24)*(Teams1_Score>Teams2_Score))+SUMPRODUCT((Teams2=U24)*(Teams2_Score>Teams1_Score))","v":0},{"$f":"SUMPRODUCT((Teams1=U24)*(Teams1_Score=Teams2_Score)*(Teams1_Score<>\"\"))+SUMPRODUCT((Teams2=U24)*(Teams2_Score=Teams1_Score)*(Teams2_Score<>\"\"))","v":0},{"$f":"SUMPRODUCT((Teams1=U24)*(Teams1_Score<Teams2_Score))+SUMPRODUCT((Teams2=U24)*(Teams2_Score<Teams1_Score))","v":3},{"$f":"SUMPRODUCT((Teams1=U24)*(Teams1_Score))+SUMPRODUCT((Teams2=U24)*(Teams2_Score))","v":2},{"$f":"SUMPRODUCT((Teams1=U24)*(Teams2_Score))+SUMPRODUCT((Teams2=U24)*(Teams1_Score))","v":7},{"$f":"Z24-AA24","v":-5},{"$f":"3*W24+X24","v":0}]
[null,{"$f":"VLOOKUP($D25,TABLEAU_MATCHS[#All],2,FALSE)","v":"2018-06-20"},{"$f":"VLOOKUP($D25,TABLEAU_MATCHS[#All],3,FALSE)","v":"17:00:00"},18,{"$f":"\"Groupe \"&VLOOKUP($I25,TABLEAU_TEAMS[[#All],[TEAM]:[GROUP_INITIAL_RANK]],2,FALSE)","v":"Groupe A"},3.5,3,2,{"$f":"VLOOKUP($D25,TABLEAU_MATCHS[#All],4,FALSE)","v":"Uruguay"},1,null,{"$f":"VLOOKUP($D25,TABLEAU_MATCHS[#All],5,FALSE)","v":"Arabie Saoudite"},0,{"$f":"IF(OR(ISBLANK(RESULTATS!J25),ISBLANK(J25)),\"\",IF(AND(Tiphaine!J25=RESULTATS!J25,Tiphaine!M25=RESULTATS!M25),3,IF(OR(AND(Tiphaine!J25>Tiphaine!M25,RESULTATS!J25>RESULTATS!M25),AND(Tiphaine!J25<Tiphaine!M25,RESULTATS!J25<RESULTATS!M25),AND(Tiphaine!J25=Tiphaine!M25,RESULTATS!J25=RESULTATS!M25)),1,0)))","v":""},null,null,null,null,null,null,null,null,null,null,null,null,null,null,null,null,null,"2018-07-15",null,{"$f":"+IF(AJ33<>\"\",IF(AI33>AO33,AH33,AN33),\"Vainqueur 1\")","v":"Belgique"},{"$f":"AJ25*10+AL25","v":24},2,{"$f":"IF(LEFT(AH25,5)<>\"Vainq\",COUNTIF(RESULTATS!$AG$10:$AM$10,AH25),0)","v":0},4,null,{"$f":"+IF(AJ34<>\"\",IF(AI34>AO34,AH34,AN34),\"Vainqueur 2\")","v":"Allemagne"},{"$f":"AP25*10+AR25","v":25},2,{"$f":"IF(LEFT(AN25,5)<>\"Vainq\",COUNTIF(RESULTATS!$AG$10:$AM$10,AN25),0)","v":0},5,null,{"$f":"IF(AJ25<>\"\",IF(AI25>AO25,AH25,AN25),\"\")","v":"Allemagne"}]
[null,{"$f":"VLOOKUP($D26,TABLEAU_MATCHS[#All],2,FALSE)","v":"2018-06-20"},{"$f":"VLOOKUP($D26,TABLEAU_MATCHS[#All],3,FALSE)","v":"14:00:00"},19,{"$f":"\"Groupe \"&VLOOKUP($I26,TABLEAU_TEAMS[[#All],[TEAM]:[GROUP_INITIAL_RANK]],2,FALSE)","v":"Groupe B"},1.66,3.35,4.8,{"$f":"VLOOKUP($D26,TABLEAU_MATCHS[#All],4,FALSE)","v":"Portugal"},4,null,{"$f":"VLOOKUP($D26,TABLEAU_MATCHS[#All],5,FALSE)","v":"Maroc"},0,{"$f":"IF(OR(ISBLANK(RESULTATS!J26),ISBLANK(J26)),\"\",IF(AND(Tiphaine!J26=RESULTATS!J26,Tiphaine!M26=RESULTATS!M26),3,IF(OR(AND(Tiphaine!J26>Tiphaine!M26,RESULTATS!J26>RESULTATS!M26),AND(Tiphaine!J26<Tiphaine!M26,RESULTATS!J26<RESULTATS!M26),AND(Tiphaine!J26=Tiphaine!M26,RESULTATS!J26=RESULTATS!M26)),1,0)))","v":""},null,null,null,null,null,"Rg","Groupe D","MJ","G","N","P","BP","BC","+/-","Pts"]
[null,{"$f":"VLOOKUP($D27,TABLEAU_MATCHS[#All],2,FALSE)","v":"2018-06-20"},{"$f":"VLOOKUP($D27,TABLEAU_MATCHS[#All],3,FALSE)","v":"20:00:00"},20,{"$f":"\"Groupe \"&VLOOKUP($I27,TABLEAU_TEAMS[[#All],[TEAM]:[GROUP_INITIAL_RANK]],2,FALSE)","v":"Groupe B"},8.5,4.7,1.28,{"$f":"VLOOKUP($D27,TABLEAU_MATCHS[#All],4,FALSE)","v":"RI Iran"},0,null,{"$f":"VLOOKUP($D27,TABLEAU_MATCHS[#All],5,FALSE)","v":"Espagne"},5,{"$f":"IF(OR(ISBLANK(RESULTATS!J27),ISBLANK(J27)),\"\",IF(AND(Tiphaine!J27=RESULTATS!J27,Tiphaine!M27=RESULTATS!M27),3,IF(OR(AND(Tiphaine!J27>Tiphaine!M27,RESULTATS!J27>RESULTATS!M27),AND(Tiphaine!J27<Tiphaine!M27,RESULTATS!J27<RESULTATS!M27),AND(Tiphaine!J27=Tiphaine!M27,RESULTATS!J27=RESULTATS!M27)),1,0)))","v":""},null,null,null,{"$f":"INDEX($R78:$R81,MATCH(SMALL(COUNTIF($R78:$R81,\">=\"&$R78:$R81),ROW(INDIRECT(\"1:\"&ROWS($R78:$R81)))),COUNTIF($R78:$R81,\">=\"&$R78:$R81),0))","v":"07810Argentine"},{"$f":"INDEX($S78:$S81,MATCH(SMALL(COUNTIF($R78:$R81,\">=\"&$R78:$R81),ROW(INDIRECT(\"1:\"&ROWS($R78:$R81)))),COUNTIF($R78:$R81,\">=\"&$R78:$R81),0))","v":7810},{"$f":"INDEX($T78:$T81,MATCH(SMALL(COUNTIF($R78:$R81,\">=\"&$R78:$R81),ROW(INDIRECT(\"1:\"&ROWS($R78:$R81)))),COUNTIF($R78:$R81,\">=\"&$R78:$R81),0))","v":1},{"$f":"INDEX($U78:$U81,MATCH(SMALL(COUNTIF($R78:$R81,\">=\"&$R78:$R81),ROW(INDIRECT(\"1:\"&ROWS($R78:$R81)))),COUNTIF($R78:$R81,\">=\"&$R78:$R81),0))","v":"Argentine"},{"$f":"SUMPRODUCT((Teams1=U27)*(Teams1_Score<>\"\"))+SUMPRODUCT((Teams2=U27)*(Teams2_Score<>\"\"))","v":3},{"$f":"SUMPRODUCT((Teams1=U27)*(Teams1_Score>Teams2_Score))+SUMPRODUCT((Teams2=U27)*(Teams2_Score>Teams1_Score))","v":2},{"$f":"SUMPRODUCT((Teams1=U27)*(Teams1_Score=Teams2_Score)*(Teams1_Score<>\"\"))+SUMPRODUCT((Teams2=U27)*(Teams2_Score=Teams1_Score)*(Teams2_Score<>\"\"))","v":1},{"$f":"SUMPRODUCT((Teams1=U27)*(Teams1_Score<Teams2_Score))+SUMPRODUCT((Teams2=U27)*(Teams2_Score<Teams1_Score))","v":0},{"$f":"SUMPRODUCT((Teams1=U27)*(Teams1_Score))+SUMPRODUCT((Teams2=U27)*(Teams2_Score))","v":11},{"$f":"SUMPRODUCT((Teams1=U27)*(Teams2_Score))+SUMPRODUCT((Teams2=U27)*(Teams1_Score))","v":4},{"$f":"Z27-AA27","v":7},{"$f":"3*W27+X27","v":7},null,null,"Date","Petite Finale",null,null,"Buts",null,"Pen",null,null,null,"Buts",null,"Pen"]
[null,{"$f":"VLOOKUP($D28,TABLEAU_MATCHS[#All],2,FALSE)","v":"2018-06-21"},{"$f":"VLOOKUP($D28,TABLEAU_MATCHS[#All],3,FALSE)","v":"14:00:00"},21,{"$f":"\"Groupe \"&VLOOKUP($I28,TABLEAU_TEAMS[[#All],[TEAM]:[GROUP_INITIAL_RANK]],2,FALSE)","v":"Groupe C"},1.85,3,4,{"$f":"VLOOKUP($D28,TABLEAU_MATCHS[#All],4,FALSE)","v":"Danemark"},2,null,{"$f":"VLOOKUP($D28,TABLEAU_MATCHS[#All],5,FALSE)","v":"Australie"},1,{"$f":"IF(OR(ISBLANK(RESULTATS!J28),ISBLANK(J28)),\"\",IF(AND(Tiphaine!J28=RESULTATS!J28,Tiphaine!M28=RESULTATS!M28),3,IF(OR(AND(Tiphaine!J28>Tiphaine!M28,RESULTATS!J28>RESULTATS!M28),AND(Tiphaine!J28<Tiphaine!M28,RESULTATS!J28<RESULTATS!M28),AND(Tiphaine!J28=Tiphaine!M28,RESULTATS!J28=RESULTATS!M28)),1,0)))","v":""},null,null,null,"07270Croatie",7270,2,"Croatie",{"$f":"SUMPRODUCT((Teams1=U28)*(Teams1_Score<>\"\"))+SUMPRODUCT((Teams2=U28)*(Teams2_Score<>\"\"))","v":3},{"$f":"SUMPRODUCT((Teams1=U28)*(Teams1_Score>Teams2_Score))+SUMPRODUCT((Teams2=U28)*(Teams2_Score>Teams1_Score))","v":2},{"$f":"SUMPRODUCT((Teams1=U28)*(Teams1_Score=Teams2_Score)*(Teams1_Score<>\"\"))+SUMPRODUCT((Teams2=U28)*(Teams2_Score=Teams1_Score)*(Teams2_Score<>\"\"))","v":1},{"$f":"SUMPRODUCT((Teams1=U28)*(Teams1_Score<Teams2_Score))+SUMPRODUCT((Teams2=U28)*(Teams2_Score<Teams1_Score))","v":0},{"$f":"SUMPRODUCT((Teams1=U28)*(Teams1_Score))+SUMPRODUCT((Teams2=U28)*(Teams2_Score))","v":7},{"$f":"SUMPRODUCT((Teams1=U28)*(Teams2_Score))+SUMPRODUCT((Teams2=U28)*(Teams1_Score))","v":5},{"$f":"Z28-AA28","v":2},{"$f":"3*W28+X28","v":7}]
[null,{"$f":"VLOOKUP($D29,TABLEAU_MATCHS[#All],2,FALSE)","v":"2018-06-21"},{"$f":"VLOOKUP($D29,TABLEAU_MATCHS[#All],3,FALSE)","v":"17:00:00"},22,{"$f":"\"Groupe \"&VLOOKUP($I29,TABLEAU_TEAMS[[#All],[TEAM]:[GROUP_INITIAL_RANK]],2,FALSE)","v":"Groupe C"},2.2999999999999998,3,2.9,{"$f":"VLOOKUP($D29,TABLEAU_MATCHS[#All],4,FALSE)","v":"France"},3,null,{"$f":"VLOOKUP($D29,TABLEAU_MATCHS[#All],5,FALSE)","v":"Pérou"},1,{"$f":"IF(OR(ISBLANK(RESULTATS!J29),ISBLANK(J29)),\"\",IF(AND(Tiphaine!J29=RESULTATS!J29,Tiphaine!M29=RESULTATS!M29),3,IF(OR(AND(Tiphaine!J29>Tiphaine!M29,RESULTATS!J29>RESULTATS!M29),AND(Tiphaine!J29<Tiphaine!M29,RESULTATS!J29<RESULTATS!M29),AND(Tiphaine!J29=Tiphaine!M29,RESULTATS!J29=RESULTATS!M29)),1,0)))","v":""},null,null,null,"02740Nigeria",2740,3,"Nigeria",{"$f":"SUMPRODUCT((Teams1=U29)*(Teams1_Score<>\"\"))+SUMPRODUCT((Teams2=U29)*(Teams2_Score<>\"\"))","v":3},{"$f":"SUMPRODUCT((Teams1=U29)*(Teams1_Score>Teams2_Score))+SUMPRODUCT((Teams2=U29)*(Teams2_Score>Teams1_Score))","v":1},{"$f":"SUMPRODUCT((Teams1=U29)*(Teams1_Score=Teams2_Score)*(Teams1_Score<>\"\"))+SUMPRODUCT((Teams2=U29)*(Teams2_Score=Teams1_Score)*(Teams2_Score<>\"\"))","v":0},{"$f":"SUMPRODUCT((Teams1=U29)*(Teams1_Score<Teams2_Score))+SUMPRODUCT((Teams2=U29)*(Teams2_Score<Teams1_Score))","v":2},{"$f":"SUMPRODUCT((Teams1=U29)*(Teams1_Score))+SUMPRODUCT((Teams2=U29)*(Teams2_Score))","v":4},{"$f":"SUMPRODUCT((Teams1=U29)*(Teams2_Score))+SUMPRODUCT((Teams2=U29)*(Teams1_Score))","v":7},{"$f":"Z29-AA29","v":-3},{"$f":"3*W29+X29","v":3},null,null,"2018-07-14",null,{"$f":"+IF(AJ33<>\"\",IF(AI33>AO33,AN33,AH33),\"Perdant 1\")","v":"France"},{"$f":"AJ29*10+AL29","v":20},2,null,null,null,{"$f":"+IF(AJ34<>\"\",IF(AI34>AO34,AN34,AH34),\"Perdant 2\")","v":"Espagne"},{"$f":"AP29*10+AR29","v":10},1]
[null,{"$f":"VLOOKUP($D30,TABLEAU_MATCHS[#All],2,FALSE)","v":"2018-06-21"},{"$f":"VLOOKUP($D30,TABLEAU_MATCHS[#All],3,FALSE)","v":"20:00:00"},23,{"$f":"\"Groupe \"&VLOOKUP($I30,TABLEAU_TEAMS[[#All],[TEAM]:[GROUP_INITIAL_RANK]],2,FALSE)","v":"Groupe D"},2.4,3,2.8,{"$f":"VLOOKUP($D30,TABLEAU_MATCHS[#All],4,FALSE)","v":"Argentine"},3,null,{"$f":"VLOOKUP($D30,TABLEAU_MATCHS[#All],5,FALSE)","v":"Croatie"},3,{"$f":"IF(OR(ISBLANK(RESULTATS!J30),ISBLANK(J30)),\"\",IF(AND(Tiphaine!J30=RESULTATS!J30,Tiphaine!M30=RESULTATS!M30),3,IF(OR(AND(Tiphaine!J30>Tiphaine!M30,RESULTATS!J30>RESULTATS!M30),AND(Tiphaine!J30<Tiphaine!M30,RESULTATS!J30<RESULTATS!M30),AND(Tiphaine!J30=Tiphaine!M30,RESULTATS!J30=RESULTATS!M30)),1,0)))","v":""},null,null,null,"-00580Islande",-580,4,"Islande",{"$f":"SUMPRODUCT((Teams1=U30)*(Teams1_Score<>\"\"))+SUMPRODUCT((Teams2=U30)*(Teams2_Score<>\"\"))","v":3},{"$f":"SUMPRODUCT((Teams1=U30)*(Teams1_Score>Teams2_Score))+SUMPRODUCT((Teams2=U30)*(Teams2_Score>Teams1_Score))","v":0},{"$f":"SUMPRODUCT((Teams1=U30)*(Teams1_Score=Teams2_Score)*(Teams1_Score<>\"\"))+SUMPRODUCT((Teams2=U30)*(Teams2_Score=Teams1_Score)*(Teams2_Score<>\"\"))","v":0},{"$f":"SUMPRODUCT((Teams1=U30)*(Teams1_Score<Teams2_Score))+SUMPRODUCT((Teams2=U30)*(Teams2_Score<Teams1_Score))","v":3},{"$f":"SUMPRODUCT((Teams1=U30)*(Teams1_Score))+SUMPRODUCT((Teams2=U30)*(Teams2_Score))","v":2},{"$f":"SUMPRODUCT((Teams1=U30)*(Teams2_Score))+SUMPRODUCT((Teams2=U30)*(Teams1_Score))","v":8},{"$f":"Z30-AA30","v":-6},{"$f":"3*W30+X30","v":0}]
[null,{"$f":"VLOOKUP($D31,TABLEAU_MATCHS[#All],2,FALSE)","v":"2018-06-22"},{"$f":"VLOOKUP($D31,TABLEAU_MATCHS[#All],3,FALSE)","v":"17:00:00"},24,{"$f":"\"Groupe \"&VLOOKUP($I31,TABLEAU_TEAMS[[#All],[TEAM]:[GROUP_INITIAL_RANK]],2,FALSE)","v":"Groupe D"},1.26,4.5999999999999996,9.5,{"$f":"VLOOKUP($D31,TABLEAU_MATCHS[#All],4,FALSE)","v":"Nigeria"},2,null,{"$f":"VLOOKUP($D31,TABLEAU_MATCHS[#All],5,FALSE)","v":"Islande"},1,{"$f":"IF(OR(ISBLANK(RESULTATS!J31),ISBLANK(J31)),\"\",IF(AND(Tiphaine!J31=RESULTATS!J31,Tiphaine!M31=RESULTATS!M31),3,IF(OR(AND(Tiphaine!J31>Tiphaine!M31,RESULTATS!J31>RESULTATS!M31),AND(Tiphaine!J31<Tiphaine!M31,RESULTATS!J31<RESULTATS!M31),AND(Tiphaine!J31=Tiphaine!M31,RESULTATS!J31=RESULTATS!M31)),1,0)))","v":""},null,null,null,null,null,null,null,null,null,null,null,null,null,null,null,null,null,"Date","Demi Finale",null,null,"Buts",null,"Pen",null,null,null,"Buts",null,"Pen"]
[null,{"$f":"VLOOKUP($D32,TABLEAU_MATCHS[#All],2,FALSE)","v":"2018-06-22"},{"$f":"VLOOKUP($D32,TABLEAU_MATCHS[#All],3,FALSE)","v":"14:00:00"},25,{"$f":"\"Groupe \"&VLOOKUP($I32,TABLEAU_TEAMS[[#All],[TEAM]:[GROUP_INITIAL_RANK]],2,FALSE)","v":"Groupe E"},3.5,2.95,2.1,{"$f":"VLOOKUP($D32,TABLEAU_MATCHS[#All],4,FALSE)","v":"Brésil"},3,null,{"$f":"VLOOKUP($D32,TABLEAU_MATCHS[#All],5,FALSE)","v":"Costa Rica"},2,{"$f":"IF(OR(ISBLANK(RESULTATS!J32),ISBLANK(J32)),\"\",IF(AND(Tiphaine!J32=RESULTATS!J32,Tiphaine!M32=RESULTATS!M32),3,IF(OR(AND(Tiphaine!J32>Tiphaine!M32,RESULTATS!J32>RESULTATS!M32),AND(Tiphaine!J32<Tiphaine!M32,RESULTATS!J32<RESULTATS!M32),AND(Tiphaine!J32=Tiphaine!M32,RESULTATS!J32=RESULTATS!M32)),1,0)))","v":""},null,null,null,null,null,"Rg","Groupe E","MJ","G","N","P","BP","BC","+/-","Pts"]
[null,{"$f":"VLOOKUP($D33,TABLEAU_MATCHS[#All],2,FALSE)","v":"2018-06-22"},{"$f":"VLOOKUP($D33,TABLEAU_MATCHS[#All],3,FALSE)","v":"20:00:00"},26,{"$f":"\"Groupe \"&VLOOKUP($I33,TABLEAU_TEAMS[[#All],[TEAM]:[GROUP_INITIAL_RANK]],2,FALSE)","v":"Groupe E"},4.8,3.25,1.62,{"$f":"VLOOKUP($D33,TABLEAU_MATCHS[#All],4,FALSE)","v":"Serbie"},1,null,{"$f":"VLOOKUP($D33,TABLEAU_MATCHS[#All],5,FALSE)","v":"Suisse"},2,{"$f":"IF(OR(ISBLANK(RESULTATS!J33),ISBLANK(J33)),\"\",IF(AND(Tiphaine!J33=RESULTATS!J33,Tiphaine!M33=RESULTATS!M33),3,IF(OR(AND(Tiphaine!J33>Tiphaine!M33,RESULTATS!J33>RESULTATS!M33),AND(Tiphaine!J33<Tiphaine!M33,RESULTATS!J33<RESULTATS!M33),AND(Tiphaine!J33=Tiphaine!M33,RESULTATS!J33=RESULTATS!M33)),1,0)))","v":""},null,null,null,{"$f":"INDEX($R84:$R87,MATCH(SMALL(COUNTIF($R84:$R87,\">=\"&$R84:$R87),ROW(INDIRECT(\"1:\"&ROWS($R84:$R87)))),COUNTIF($R84:$R87,\">=\"&$R84:$R87),0))","v":"09590Brésil"},{"$f":"INDEX($S84:$S87,MATCH(SMALL(COUNTIF($R84:$R87,\">=\"&$R84:$R87),ROW(INDIRECT(\"1:\"&ROWS($R84:$R87)))),COUNTIF($R84:$R87,\">=\"&$R84:$R87),0))","v":9590},{"$f":"INDEX($T84:$T87,MATCH(SMALL(COUNTIF($R84:$R87,\">=\"&$R84:$R87),ROW(INDIRECT(\"1:\"&ROWS($R84:$R87)))),COUNTIF($R84:$R87,\">=\"&$R84:$R87),0))","v":1},{"$f":"INDEX($U84:$U87,MATCH(SMALL(COUNTIF($R84:$R87,\">=\"&$R84:$R87),ROW(INDIRECT(\"1:\"&ROWS($R84:$R87)))),COUNTIF($R84:$R87,\">=\"&$R84:$R87),0))","v":"Brésil"},{"$f":"SUMPRODUCT((Teams1=U33)*(Teams1_Score<>\"\"))+SUMPRODUCT((Teams2=U33)*(Teams2_Score<>\"\"))","v":3},{"$f":"SUMPRODUCT((Teams1=U33)*(Teams1_Score>Teams2_Score))+SUMPRODUCT((Teams2=U33)*(Teams2_Score>Teams1_Score))","v":3},{"$f":"SUMPRODUCT((Teams1=U33)*(Teams1_Score=Teams2_Score)*(Teams1_Score<>\"\"))+SUMPRODUCT((Teams2=U33)*(Teams2_Score=Teams1_Score)*(Teams2_Score<>\"\"))","v":0},{"$f":"SUMPRODUCT((Teams1=U33)*(Teams1_Score<Teams2_Score))+SUMPRODUCT((Teams2=U33)*(Teams2_Score<Teams1_Score))","v":0},{"$f":"SUMPRODUCT((Teams1=U33)*(Teams1_Score))+SUMPRODUCT((Teams2=U33)*(Teams2_Score))","v":9},{"$f":"SUMPRODUCT((Teams1=U33)*(Teams2_Score))+SUMPRODUCT((Teams2=U33)*(Teams1_Score))","v":4},{"$f":"Z33-AA33","v":5},{"$f":"3*W33+X33","v":9},null,null,"2018-07-10",1,{"$f":"+IF(AJ38<>\"\",IF(AI38>AO38,AH38,AN38),\"Vainqueur A\")","v":"France"},{"$f":"AJ33*10+AL33","v":10},1,{"$f":"IF(LEFT(AH33,5)<>\"Vainq\",COUNTIF(RESULTATS!$AG$18:$AM$19,AH33),0)","v":0},null,null,{"$f":"+IF(AJ40<>\"\",IF(AI40>AO40,AH40,AN40),\"Vainqueur C\")","v":"Belgique"},{"$f":"AP33*10+AR33","v":20},2,{"$f":"IF(LEFT(AN33,5)<>\"Vainq\",COUNTIF(RESULTATS!$AG$18:$AM$19,AN33),0)","v":0}]
[null,{"$f":"VLOOKUP($D34,TABLEAU_MATCHS[#All],2,FALSE)","v":"2018-06-23"},{"$f":"VLOOKUP($D34,TABLEAU_MATCHS[#All],3,FALSE)","v":"20:00:00"},27,{"$f":"\"Groupe \"&VLOOKUP($I34,TABLEAU_TEAMS[[#All],[TEAM]:[GROUP_INITIAL_RANK]],2,FALSE)","v":"Groupe F"},1.1200000000000001,6.5,15,{"$f":"VLOOKUP($D34,TABLEAU_MATCHS[#All],4,FALSE)","v":"République de Corée"},1,null,{"$f":"VLOOKUP($D34,TABLEAU_MATCHS[#All],5,FALSE)","v":"Mexique"},4,{"$f":"IF(OR(ISBLANK(RESULTATS!J34),ISBLANK(J34)),\"\",IF(AND(Tiphaine!J34=RESULTATS!J34,Tiphaine!M34=RESULTATS!M34),3,IF(OR(AND(Tiphaine!J34>Tiphaine!M34,RESULTATS!J34>RESULTATS!M34),AND(Tiphaine!J34<Tiphaine!M34,RESULTATS!J34<RESULTATS!M34),AND(Tiphaine!J34=Tiphaine!M34,RESULTATS!J34=RESULTATS!M34)),1,0)))","v":""},null,null,null,"04060Costa Rica",4060,2,"Costa Rica",{"$f":"SUMPRODUCT((Teams1=U34)*(Teams1_Score<>\"\"))+SUMPRODUCT((Teams2=U34)*(Teams2_Score<>\"\"))","v":3},{"$f":"SUMPRODUCT((Teams1=U34)*(Teams1_Score>Teams2_Score))+SUMPRODUCT((Teams2=U34)*(Teams2_Score>Teams1_Score))","v":1},{"$f":"SUMPRODUCT((Teams1=U34)*(Teams1_Score=Teams2_Score)*(Teams1_Score<>\"\"))+SUMPRODUCT((Teams2=U34)*(Teams2_Score=Teams1_Score)*(Teams2_Score<>\"\"))","v":1},{"$f":"SUMPRODUCT((Teams1=U34)*(Teams1_Score<Teams2_Score))+SUMPRODUCT((Teams2=U34)*(Teams2_Score<Teams1_Score))","v":1},{"$f":"SUMPRODUCT((Teams1=U34)*(Teams1_Score))+SUMPRODUCT((Teams2=U34)*(Teams2_Score))","v":6},{"$f":"SUMPRODUCT((Teams1=U34)*(Teams2_Score))+SUMPRODUCT((Teams2=U34)*(Teams1_Score))","v":6},{"$f":"Z34-AA34","v":0},{"$f":"3*W34+X34","v":4},null,null,"2018-07-11",2,{"$f":"+IF(AJ39<>\"\",IF(AI39>AO39,AH39,AN39),\"Vainqueur B\")","v":"Espagne"},{"$f":"AJ34*10+AL34","v":0},0,{"$f":"IF(LEFT(AH34,5)<>\"Vainq\",COUNTIF(RESULTATS!$AG$18:$AM$19,AH34),0)","v":0},null,null,{"$f":"+IF(AJ41<>\"\",IF(AI41>AO41,AH41,AN41),\"Vainqueur D\")","v":"Allemagne"},{"$f":"AP34*10+AR34","v":20},2,{"$f":"IF(LEFT(AN34,5)<>\"Vainq\",COUNTIF(RESULTATS!$AG$18:$AM$19,AN34),0)","v":0}]
[null,{"$f":"VLOOKUP($D35,TABLEAU_MATCHS[#All],2,FALSE)","v":"2018-06-23"},{"$f":"VLOOKUP($D35,TABLEAU_MATCHS[#All],3,FALSE)","v":"17:00:00"},28,{"$f":"\"Groupe \"&VLOOKUP($I35,TABLEAU_TEAMS[[#All],[TEAM]:[GROUP_INITIAL_RANK]],2,FALSE)","v":"Groupe F"},2.8,2.95,2.4,{"$f":"VLOOKUP($D35,TABLEAU_MATCHS[#All],4,FALSE)","v":"Allemagne"},2,null,{"$f":"VLOOKUP($D35,TABLEAU_MATCHS[#All],5,FALSE)","v":"Suède"},2,{"$f":"IF(OR(ISBLANK(RESULTATS!J35),ISBLANK(J35)),\"\",IF(AND(Tiphaine!J35=RESULTATS!J35,Tiphaine!M35=RESULTATS!M35),3,IF(OR(AND(Tiphaine!J35>Tiphaine!M35,RESULTATS!J35>RESULTATS!M35),AND(Tiphaine!J35<Tiphaine!M35,RESULTATS!J35<RESULTATS!M35),AND(Tiphaine!J35=Tiphaine!M35,RESULTATS!J35=RESULTATS!M35)),1,0)))","v":""},null,null,null,"03950Suisse",3950,3,"Suisse",{"$f":"SUMPRODUCT((Teams1=U35)*(Teams1_Score<>\"\"))+SUMPRODUCT((Teams2=U35)*(Teams2_Score<>\"\"))","v":3},{"$f":"SUMPRODUCT((Teams1=U35)*(Teams1_Score>Teams2_Score))+SUMPRODUCT((Teams2=U35)*(Teams2_Score>Teams1_Score))","v":1},{"$f":"SUMPRODUCT((Teams1=U35)*(Teams1_Score=Teams2_Score)*(Teams1_Score<>\"\"))+SUMPRODUCT((Teams2=U35)*(Teams2_Score=Teams1_Score)*(Teams2_Score<>\"\"))","v":1},{"$f":"SUMPRODUCT((Teams1=U35)*(Teams1_Score<Teams2_Score))+SUMPRODUCT((Teams2=U35)*(Teams2_Score<Teams1_Score))","v":1},{"$f":"SUMPRODUCT((Teams1=U35)*(Teams1_Score))+SUMPRODUCT((Teams2=U35)*(Teams2_Score))","v":5},{"$f":"SUMPRODUCT((Teams1=U35)*(Teams2_Score))+SUMPRODUCT((Teams2=U35)*(Teams1_Score))","v":6},{"$f":"Z35-AA35","v":-1},{"$f":"3*W35+X35","v":4},null,null,null,null,null,null,null,{"$f":"SUM(AK33:AK34)","v":0},null,null,null,null,null,{"$f":"SUM(AQ33:AQ34)","v":0}]
[null,{"$f":"VLOOKUP($D36,TABLEAU_MATCHS[#All],2,FALSE)","v":"2018-06-23"},{"$f":"VLOOKUP($D36,TABLEAU_MATCHS[#All],3,FALSE)","v":"14:00:00"},29,{"$f":"\"Groupe \"&VLOOKUP($I36,TABLEAU_TEAMS[[#All],[TEAM]:[GROUP_INITIAL_RANK]],2,FALSE)","v":"Groupe G"},1.36,4,7.5,{"$f":"VLOOKUP($D36,TABLEAU_MATCHS[#All],4,FALSE)","v":"Belgique"},3,null,{"$f":"VLOOKUP($D36,TABLEAU_MATCHS[#All],5,FALSE)","v":"Tunisie"},0,{"$f":"IF(OR(ISBLANK(RESULTATS!J36),ISBLANK(J36)),\"\",IF(AND(Tiphaine!J36=RESULTATS!J36,Tiphaine!M36=RESULTATS!M36),3,IF(OR(AND(Tiphaine!J36>Tiphaine!M36,RESULTATS!J36>RESULTATS!M36),AND(Tiphaine!J36<Tiphaine!M36,RESULTATS!J36<RESULTATS!M36),AND(Tiphaine!J36=Tiphaine!M36,RESULTATS!J36=RESULTATS!M36)),1,0)))","v":""},null,null,null,"-00370Serbie",-370,4,"Serbie",{"$f":"SUMPRODUCT((Teams1=U36)*(Teams1_Score<>\"\"))+SUMPRODUCT((Teams2=U36)*(Teams2_Score<>\"\"))","v":3},{"$f":"SUMPRODUCT((Teams1=U36)*(Teams1_Score>Teams2_Score))+SUMPRODUCT((Teams2=U36)*(Teams2_Score>Teams1_Score))","v":0},{"$f":"SUMPRODUCT((Teams1=U36)*(Teams1_Score=Teams2_Score)*(Teams1_Score<>\"\"))+SUMPRODUCT((Teams2=U36)*(Teams2_Score=Teams1_Score)*(Teams2_Score<>\"\"))","v":0},{"$f":"SUMPRODUCT((Teams1=U36)*(Teams1_Score<Teams2_Score))+SUMPRODUCT((Teams2=U36)*(Teams2_Score<Teams1_Score))","v":3},{"$f":"SUMPRODUCT((Teams1=U36)*(Teams1_Score))+SUMPRODUCT((Teams2=U36)*(Teams2_Score))","v":3},{"$f":"SUMPRODUCT((Teams1=U36)*(Teams2_Score))+SUMPRODUCT((Teams2=U36)*(Teams1_Score))","v":7},{"$f":"Z36-AA36","v":-4},{"$f":"3*W36+X36","v":0},null,null,"Date","Quart de Finale",null,null,"Buts",null,"Pen",null,null,null,"Buts",null,"Pen"]
[null,{"$f":"VLOOKUP($D37,TABLEAU_MATCHS[#All],2,FALSE)","v":"2018-06-24"},{"$f":"VLOOKUP($D37,TABLEAU_MATCHS[#All],3,FALSE)","v":"14:00:00"},30,{"$f":"\"Groupe \"&VLOOKUP($I37,TABLEAU_TEAMS[[#All],[TEAM]:[GROUP_INITIAL_RANK]],2,FALSE)","v":"Groupe G"},4.7,3.4,1.62,{"$f":"VLOOKUP($D37,TABLEAU_MATCHS[#All],4,FALSE)","v":"Angleterre"},2,null,{"$f":"VLOOKUP($D37,TABLEAU_MATCHS[#All],5,FALSE)","v":"Panama"},1,{"$f":"IF(OR(ISBLANK(RESULTATS!J37),ISBLANK(J37)),\"\",IF(AND(Tiphaine!J37=RESULTATS!J37,Tiphaine!M37=RESULTATS!M37),3,IF(OR(AND(Tiphaine!J37>Tiphaine!M37,RESULTATS!J37>RESULTATS!M37),AND(Tiphaine!J37<Tiphaine!M37,RESULTATS!J37<RESULTATS!M37),AND(Tiphaine!J37=Tiphaine!M37,RESULTATS!J37=RESULTATS!M37)),1,0)))","v":""}]
[null,{"$f":"VLOOKUP($D38,TABLEAU_MATCHS[#All],2,FALSE)","v":"2018-06-24"},{"$f":"VLOOKUP($D38,TABLEAU_MATCHS[#All],3,FALSE)","v":"17:00:00"},31,{"$f":"\"Groupe \"&VLOOKUP($I38,TABLEAU_TEAMS[[#All],[TEAM]:[GROUP_INITIAL_RANK]],2,FALSE)","v":"Groupe H"},2.1,2.95,3.35,{"$f":"VLOOKUP($D38,TABLEAU_MATCHS[#All],4,FALSE)","v":"Japon"},1,null,{"$f":"VLOOKUP($D38,TABLEAU_MATCHS[#All],5,FALSE)","v":"Sénégal"},2,{"$f":"IF(OR(ISBLANK(RESULTATS!J38),ISBLANK(J38)),\"\",IF(AND(Tiphaine!J38=RESULTATS!J38,Tiphaine!M38=RESULTATS!M38),3,IF(OR(AND(Tiphaine!J38>Tiphaine!M38,RESULTATS!J38>RESULTATS!M38),AND(Tiphaine!J38<Tiphaine!M38,RESULTATS!J38<RESULTATS!M38),AND(Tiphaine!J38=Tiphaine!M38,RESULTATS!J38=RESULTATS!M38)),1,0)))","v":""},null,null,null,null,null,"Rg","Groupe F","MJ","G","N","P","BP","BC","+/-","Pts",null,null,"2018-07-06","A",{"$f":"+IF(AJ45<>\"\",IF(AI45>AO45,AH45,AN45),\"Vainqueur 1\")","v":"Portugal"},{"$f":"AJ38*10+AL38","v":26},2,{"$f":"IF(LEFT(AH38,5)<>\"Vainq\",COUNTIF(RESULTATS!$AG$23:$AM$26,AH38),0)","v":0},6,null,{"$f":"+IF(AJ47<>\"\",IF(AI47>AO47,AH47,AN47),\"Vainqueur 3\")","v":"France"},{"$f":"AP38*10+AR38","v":27},2,{"$f":"IF(LEFT(AN38,5)<>\"Vainq\",COUNTIF(RESULTATS!$AG$23:$AM$26,AN38),0)","v":0},7]
[null,{"$f":"VLOOKUP($D39,TABLEAU_MATCHS[#All],2,FALSE)","v":"2018-06-24"},{"$f":"VLOOKUP($D39,TABLEAU_MATCHS[#All],3,FALSE)","v":"20:00:00"},32,{"$f":"\"Groupe \"&VLOOKUP($I39,TABLEAU_TEAMS[[#All],[TEAM]:[GROUP_INITIAL_RANK]],2,FALSE)","v":"Groupe H"},1.9,3,3.8,{"$f":"VLOOKUP($D39,TABLEAU_MATCHS[#All],4,FALSE)","v":"Pologne"},1,null,{"$f":"VLOOKUP($D39,TABLEAU_MATCHS[#All],5,FALSE)","v":"Colombie"},2,{"$f":"IF(OR(ISBLANK(RESULTATS!J39),ISBLANK(J39)),\"\",IF(AND(Tiphaine!J39=RESULTATS!J39,Tiphaine!M39=RESULTATS!M39),3,IF(OR(AND(Tiphaine!J39>Tiphaine!M39,RESULTATS!J39>RESULTATS!M39),AND(Tiphaine!J39<Tiphaine!M39,RESULTATS!J39<RESULTATS!M39),AND(Tiphaine!J39=Tiphaine!M39,RESULTATS!J39=RESULTATS!M39)),1,0)))","v":""},null,null,null,{"$f":"INDEX($R90:$R93,MATCH(SMALL(COUNTIF($R90:$R93,\">=\"&$R90:$R93),ROW(INDIRECT(\"1:\"&ROWS($R90:$R93)))),COUNTIF($R90:$R93,\">=\"&$R90:$R93),0))","v":"07600Allemagne"},{"$f":"INDEX($S90:$S93,MATCH(SMALL(COUNTIF($R90:$R93,\">=\"&$R90:$R93),ROW(INDIRECT(\"1:\"&ROWS($R90:$R93)))),COUNTIF($R90:$R93,\">=\"&$R90:$R93),0))","v":7600},{"$f":"INDEX($T90:$T93,MATCH(SMALL(COUNTIF($R90:$R93,\">=\"&$R90:$R93),ROW(INDIRECT(\"1:\"&ROWS($R90:$R93)))),COUNTIF($R90:$R93,\">=\"&$R90:$R93),0))","v":1},{"$f":"INDEX($U90:$U93,MATCH(SMALL(COUNTIF($R90:$R93,\">=\"&$R90:$R93),ROW(INDIRECT(\"1:\"&ROWS($R90:$R93)))),COUNTIF($R90:$R93,\">=\"&$R90:$R93),0))","v":"Allemagne"},{"$f":"SUMPRODUCT((Teams1=U39)*(Teams1_Score<>\"\"))+SUMPRODUCT((Teams2=U39)*(Teams2_Score<>\"\"))","v":3},{"$f":"SUMPRODUCT((Teams1=U39)*(Teams1_Score>Teams2_Score))+SUMPRODUCT((Teams2=U39)*(Teams2_Score>Teams1_Score))","v":2},{"$f":"SUMPRODUCT((Teams1=U39)*(Teams1_Score=Teams2_Score)*(Teams1_Score<>\"\"))+SUMPRODUCT((Teams2=U39)*(Teams2_Score=Teams1_Score)*(Teams2_Score<>\"\"))","v":1},{"$f":"SUMPRODUCT((Teams1=U39)*(Teams1_Score<Teams2_Score))+SUMPRODUCT((Teams2=U39)*(Teams2_Score<Teams1_Score))","v":0},{"$f":"SUMPRODUCT((Teams1=U39)*(Teams1_Score))+SUMPRODUCT((Teams2=U39)*(Teams2_Score))","v":10},{"$f":"SUMPRODUCT((Teams1=U39)*(Teams2_Score))+SUMPRODUCT((Teams2=U39)*(Teams1_Score))","v":5},{"$f":"Z39-AA39","v":5},{"$f":"3*W39+X39","v":7},null,null,"2018-07-07","B",{"$f":"+IF(AJ46<>\"\",IF(AI46>AO46,AH46,AN46),\"Vainqueur 2\")","v":"Espagne"},{"$f":"AJ39*10+AL39","v":30},3,{"$f":"IF(LEFT(AH39,5)<>\"Vainq\",COUNTIF(RESULTATS!$AG$23:$AM$26,AH39),0)","v":0},null,null,{"$f":"+IF(AJ48<>\"\",IF(AI48>AO48,AH48,AN48),\"Vainqueur 4\")","v":"Argentine"},{"$f":"AP39*10+AR39","v":20},2,{"$f":"IF(LEFT(AN39,5)<>\"Vainq\",COUNTIF(RESULTATS!$AG$23:$AM$26,AN39),0)","v":0}]
[null,{"$f":"VLOOKUP($D40,TABLEAU_MATCHS[#All],2,FALSE)","v":"2018-06-25"},{"$f":"VLOOKUP($D40,TABLEAU_MATCHS[#All],3,FALSE)","v":"16:00:00"},33,{"$f":"\"Groupe \"&VLOOKUP($I40,TABLEAU_TEAMS[[#All],[TEAM]:[GROUP_INITIAL_RANK]],2,FALSE)","v":"Groupe A"},11,6.5,1.17,{"$f":"VLOOKUP($D40,TABLEAU_MATCHS[#All],4,FALSE)","v":"Uruguay"},2,null,{"$f":"VLOOKUP($D40,TABLEAU_MATCHS[#All],5,FALSE)","v":"Russie"},0,{"$f":"IF(OR(ISBLANK(RESULTATS!J40),ISBLANK(J40)),\"\",IF(AND(Tiphaine!J40=RESULTATS!J40,Tiphaine!M40=RESULTATS!M40),3,IF(OR(AND(Tiphaine!J40>Tiphaine!M40,RESULTATS!J40>RESULTATS!M40),AND(Tiphaine!J40<Tiphaine!M40,RESULTATS!J40<RESULTATS!M40),AND(Tiphaine!J40=Tiphaine!M40,RESULTATS!J40=RESULTATS!M40)),1,0)))","v":""},null,null,null,"07480Suède",7480,2,"Suède",{"$f":"SUMPRODUCT((Teams1=U40)*(Teams1_Score<>\"\"))+SUMPRODUCT((Teams2=U40)*(Teams2_Score<>\"\"))","v":3},{"$f":"SUMPRODUCT((Teams1=U40)*(Teams1_Score>Teams2_Score))+SUMPRODUCT((Teams2=U40)*(Teams2_Score>Teams1_Score))","v":2},{"$f":"SUMPRODUCT((Teams1=U40)*(Teams1_Score=Teams2_Score)*(Teams1_Score<>\"\"))+SUMPRODUCT((Teams2=U40)*(Teams2_Score=Teams1_Score)*(Teams2_Score<>\"\"))","v":1},{"$f":"SUMPRODUCT((Teams1=U40)*(Teams1_Score<Teams2_Score))+SUMPRODUCT((Teams2=U40)*(Teams2_Score<Teams1_Score))","v":0},{"$f":"SUMPRODUCT((Teams1=U40)*(Teams1_Score))+SUMPRODUCT((Teams2=U40)*(Teams2_Score))","v":8},{"$f":"SUMPRODUCT((Teams1=U40)*(Teams2_Score))+SUMPRODUCT((Teams2=U40)*(Teams1_Score))","v":4},{"$f":"Z40-AA40","v":4},{"$f":"3*W40+X40","v":7},null,null,"2018-07-06","C",{"$f":"+IF(AJ49<>\"\",IF(AI49>AO49,AH49,AN49),\"Vainqueur 5\")","v":"Brésil"},{"$f":"AJ40*10+AL40","v":10},1,{"$f":"IF(LEFT(AH40,5)<>\"Vainq\",COUNTIF(RESULTATS!$AG$23:$AM$26,AH40),0)","v":0},null,null,{"$f":"+IF(AJ51<>\"\",IF(AI51>AO51,AH51,AN51),\"Vainqueur 7\")","v":"Belgique"},{"$f":"AP40*10+AR40","v":30},3,{"$f":"IF(LEFT(AN40,5)<>\"Vainq\",COUNTIF(RESULTATS!$AG$23:$AM$26,AN40),0)","v":0}]
[null,{"$f":"VLOOKUP($D41,TABLEAU_MATCHS[#All],2,FALSE)","v":"2018-06-25"},{"$f":"VLOOKUP($D41,TABLEAU_MATCHS[#All],3,FALSE)","v":"16:00:00"},34,{"$f":"\"Groupe \"&VLOOKUP($I41,TABLEAU_TEAMS[[#All],[TEAM]:[GROUP_INITIAL_RANK]],2,FALSE)","v":"Groupe A"},2.4,2.95,2.75,{"$f":"VLOOKUP($D41,TABLEAU_MATCHS[#All],4,FALSE)","v":"Arabie Saoudite"},1,null,{"$f":"VLOOKUP($D41,TABLEAU_MATCHS[#All],5,FALSE)","v":"Egypte"},1,{"$f":"IF(OR(ISBLANK(RESULTATS!J41),ISBLANK(J41)),\"\",IF(AND(Tiphaine!J41=RESULTATS!J41,Tiphaine!M41=RESULTATS!M41),3,IF(OR(AND(Tiphaine!J41>Tiphaine!M41,RESULTATS!J41>RESULTATS!M41),AND(Tiphaine!J41<Tiphaine!M41,RESULTATS!J41<RESULTATS!M41),AND(Tiphaine!J41=Tiphaine!M41,RESULTATS!J41=RESULTATS!M41)),1,0)))","v":""},null,null,null,"03080Mexique",3080,3,"Mexique",{"$f":"SUMPRODUCT((Teams1=U41)*(Teams1_Score<>\"\"))+SUMPRODUCT((Teams2=U41)*(Teams2_Score<>\"\"))","v":3},{"$f":"SUMPRODUCT((Teams1=U41)*(Teams1_Score>Teams2_Score))+SUMPRODUCT((Teams2=U41)*(Teams2_Score>Teams1_Score))","v":1},{"$f":"SUMPRODUCT((Teams1=U41)*(Teams1_Score=Teams2_Score)*(Teams1_Score<>\"\"))+SUMPRODUCT((Teams2=U41)*(Teams2_Score=Teams1_Score)*(Teams2_Score<>\"\"))","v":0},{"$f":"SUMPRODUCT((Teams1=U41)*(Teams1_Score<Teams2_Score))+SUMPRODUCT((Teams2=U41)*(Teams2_Score<Teams1_Score))","v":2},{"$f":"SUMPRODUCT((Teams1=U41)*(Teams1_Score))+SUMPRODUCT((Teams2=U41)*(Teams2_Score))","v":8},{"$f":"SUMPRODUCT((Teams1=U41)*(Teams2_Score))+SUMPRODUCT((Teams2=U41)*(Teams1_Score))","v":8},{"$f":"Z41-AA41","v":0},{"$f":"3*W41+X41","v":3},null,null,"2018-07-07","D",{"$f":"+IF(AJ50<>\"\",IF(AI50>AO50,AH50,AN50),\"Vainqueur 6\")","v":"Allemagne"},{"$f":"AJ41*10+AL41","v":20},2,{"$f":"IF(LEFT(AH41,5)<>\"Vainq\",COUNTIF(RESULTATS!$AG$23:$AM$26,AH41),0)","v":0},null,null,{"$f":"+IF(AJ52<>\"\",IF(AI52>AO52,AH52,AN52),\"Vainqueur 8\")","v":"Angleterre"},{"$f":"AP41*10+AR41","v":0},0,{"$f":"IF(LEFT(AN41,5)<>\"Vainq\",COUNTIF(RESULTATS!$AG$23:$AM$26,AN41),0)","v":0}]
[null,{"$f":"VLOOKUP($D42,TABLEAU_MATCHS[#All],2,FALSE)","v":"2018-06-25"},{"$f":"VLOOKUP($D42,TABLEAU_MATCHS[#All],3,FALSE)","v":"20:00:00"},35,{"$f":"\"Groupe \"&VLOOKUP($I42,TABLEAU_TEAMS[[#All],[TEAM]:[GROUP_INITIAL_RANK]],2,FALSE)","v":"Groupe B"},13,6.5,1.1399999999999999,{"$f":"VLOOKUP($D42,TABLEAU_MATCHS[#All],4,FALSE)","v":"RI Iran"},1,null,{"$f":"VLOOKUP($D42,TABLEAU_MATCHS[#All],5,FALSE)","v":"Portugal"},3,{"$f":"IF(OR(ISBLANK(RESULTATS!J42),ISBLANK(J42)),\"\",IF(AND(Tiphaine!J42=RESULTATS!J42,Tiphaine!M42=RESULTATS!M42),3,IF(OR(AND(Tiphaine!J42>Tiphaine!M42,RESULTATS!J42>RESULTATS!M42),AND(Tiphaine!J42<Tiphaine!M42,RESULTATS!J42<RESULTATS!M42),AND(Tiphaine!J42=Tiphaine!M42,RESULTATS!J42=RESULTATS!M42)),1,0)))","v":""},null,null,null,"-00880République de Corée",-880,4,"République de Corée",{"$f":"SUMPRODUCT((Teams1=U42)*(Teams1_Score<>\"\"))+SUMPRODUCT((Teams2=U42)*(Teams2_Score<>\"\"))","v":3},{"$f":"SUMPRODUCT((Teams1=U42)*(Teams1_Score>Teams2_Score))+SUMPRODUCT((Teams2=U42)*(Teams2_Score>Teams1_Score))","v":0},{"$f":"SUMPRODUCT((Teams1=U42)*(Teams1_Score=Teams2_Score)*(Teams1_Score<>\"\"))+SUMPRODUCT((Teams2=U42)*(Teams2_Score=Teams1_Score)*(Teams2_Score<>\"\"))","v":0},{"$f":"SUMPRODUCT((Teams1=U42)*(Teams1_Score<Teams2_Score))+SUMPRODUCT((Teams2=U42)*(Teams2_Score<Teams1_Score))","v":3},{"$f":"SUMPRODUCT((Teams1=U42)*(Teams1_Score))+SUMPRODUCT((Teams2=U42)*(Teams2_Score))","v":2},{"$f":"SUMPRODUCT((Teams1=U42)*(Teams2_Score))+SUMPRODUCT((Teams2=U42)*(Teams1_Score))","v":11},{"$f":"Z42-AA42","v":-9},{"$f":"3*W42+X42","v":0},null,null,null,null,null,null,null,{"$f":"SUM(AK38:AK41)","v":0},null,null,null,null,null,{"$f":"SUM(AQ38:AQ41)","v":0}]
[null,{"$f":"VLOOKUP($D43,TABLEAU_MATCHS[#All],2,FALSE)","v":"2018-06-25"},{"$f":"VLOOKUP($D43,TABLEAU_MATCHS[#All],3,FALSE)","v":"20:00:00"},36,{"$f":"\"Groupe \"&VLOOKUP($I43,TABLEAU_TEAMS[[#All],[TEAM]:[GROUP_INITIAL_RANK]],2,FALSE)","v":"Groupe B"},2.25,3.1,2.95,{"$f":"VLOOKUP($D43,TABLEAU_MATCHS[#All],4,FALSE)","v":"Espagne"},2,null,{"$f":"VLOOKUP($D43,TABLEAU_MATCHS[#All],5,FALSE)","v":"Maroc"},0,{"$f":"IF(OR(ISBLANK(RESULTATS!J43),ISBLANK(J43)),\"\",IF(AND(Tiphaine!J43=RESULTATS!J43,Tiphaine!M43=RESULTATS!M43),3,IF(OR(AND(Tiphaine!J43>Tiphaine!M43,RESULTATS!J43>RESULTATS!M43),AND(Tiphaine!J43<Tiphaine!M43,RESULTATS!J43<RESULTATS!M43),AND(Tiphaine!J43=Tiphaine!M43,RESULTATS!J43=RESULTATS!M43)),1,0)))","v":""},null,null,null,null,null,null,null,null,null,null,null,null,null,null,null,null,null,"Date","Huitième de Finale",null,null,"Buts",null,"Pen",null,null,null,"Buts",null,"Pen"]
[null,{"$f":"VLOOKUP($D44,TABLEAU_MATCHS[#All],2,FALSE)","v":"2018-06-26"},{"$f":"VLOOKUP($D44,TABLEAU_MATCHS[#All],3,FALSE)","v":"16:00:00"},37,{"$f":"\"Groupe \"&VLOOKUP($I44,TABLEAU_TEAMS[[#All],[TEAM]:[GROUP_INITIAL_RANK]],2,FALSE)","v":"Groupe C"},4.3,3.25,1.76,{"$f":"VLOOKUP($D44,TABLEAU_MATCHS[#All],4,FALSE)","v":"Danemark"},1,null,{"$f":"VLOOKUP($D44,TABLEAU_MATCHS[#All],5,FALSE)","v":"France"},2,{"$f":"IF(OR(ISBLANK(RESULTATS!J44),ISBLANK(J44)),\"\",IF(AND(Tiphaine!J44=RESULTATS!J44,Tiphaine!M44=RESULTATS!M44),3,IF(OR(AND(Tiphaine!J44>Tiphaine!M44,RESULTATS!J44>RESULTATS!M44),AND(Tiphaine!J44<Tiphaine!M44,RESULTATS!J44<RESULTATS!M44),AND(Tiphaine!J44=Tiphaine!M44,RESULTATS!J44=RESULTATS!M44)),1,0)))","v":""},null,null,null,null,null,"Rg","Groupe G","MJ","G","N","P","BP","BC","+/-","Pts"]
[null,{"$f":"VLOOKUP($D45,TABLEAU_MATCHS[#All],2,FALSE)","v":"2018-06-26"},{"$f":"VLOOKUP($D45,TABLEAU_MATCHS[#All],3,FALSE)","v":"16:00:00"},38,{"$f":"\"Groupe \"&VLOOKUP($I45,TABLEAU_TEAMS[[#All],[TEAM]:[GROUP_INITIAL_RANK]],2,FALSE)","v":"Groupe C"},3.05,3,2.25,{"$f":"VLOOKUP($D45,TABLEAU_MATCHS[#All],4,FALSE)","v":"Australie"},1,null,{"$f":"VLOOKUP($D45,TABLEAU_MATCHS[#All],5,FALSE)","v":"Pérou"},3,{"$f":"IF(OR(ISBLANK(RESULTATS!J45),ISBLANK(J45)),\"\",IF(AND(Tiphaine!J45=RESULTATS!J45,Tiphaine!M45=RESULTATS!M45),3,IF(OR(AND(Tiphaine!J45>Tiphaine!M45,RESULTATS!J45>RESULTATS!M45),AND(Tiphaine!J45<Tiphaine!M45,RESULTATS!J45<RESULTATS!M45),AND(Tiphaine!J45=Tiphaine!M45,RESULTATS!J45=RESULTATS!M45)),1,0)))","v":""},null,null,null,{"$f":"INDEX($R96:$R99,MATCH(SMALL(COUNTIF($R96:$R99,\">=\"&$R96:$R99),ROW(INDIRECT(\"1:\"&ROWS($R96:$R99)))),COUNTIF($R96:$R99,\">=\"&$R96:$R99),0))","v":"07470Belgique"},{"$f":"INDEX($S96:$S99,MATCH(SMALL(COUNTIF($R96:$R99,\">=\"&$R96:$R99),ROW(INDIRECT(\"1:\"&ROWS($R96:$R99)))),COUNTIF($R96:$R99,\">=\"&$R96:$R99),0))","v":7470},{"$f":"INDEX($T96:$T99,MATCH(SMALL(COUNTIF($R96:$R99,\">=\"&$R96:$R99),ROW(INDIRECT(\"1:\"&ROWS($R96:$R99)))),COUNTIF($R96:$R99,\">=\"&$R96:$R99),0))","v":1},{"$f":"INDEX($U96:$U99,MATCH(SMALL(COUNTIF($R96:$R99,\">=\"&$R96:$R99),ROW(INDIRECT(\"1:\"&ROWS($R96:$R99)))),COUNTIF($R96:$R99,\">=\"&$R96:$R99),0))","v":"Belgique"},{"$f":"SUMPRODUCT((Teams1=U45)*(Teams1_Score<>\"\"))+SUMPRODUCT((Teams2=U45)*(Teams2_Score<>\"\"))","v":3},{"$f":"SUMPRODUCT((Teams1=U45)*(Teams1_Score>Teams2_Score))+SUMPRODUCT((Teams2=U45)*(Teams2_Score>Teams1_Score))","v":2},{"$f":"SUMPRODUCT((Teams1=U45)*(Teams1_Score=Teams2_Score)*(Teams1_Score<>\"\"))+SUMPRODUCT((Teams2=U45)*(Teams2_Score=Teams1_Score)*(Teams2_Score<>\"\"))","v":1},{"$f":"SUMPRODUCT((Teams1=U45)*(Teams1_Score<Teams2_Score))+SUMPRODUCT((Teams2=U45)*(Teams2_Score<Teams1_Score))","v":0},{"$f":"SUMPRODUCT((Teams1=U45)*(Teams1_Score))+SUMPRODUCT((Teams2=U45)*(Teams2_Score))","v":7},{"$f":"SUMPRODUCT((Teams1=U45)*(Teams2_Score))+SUMPRODUCT((Teams2=U45)*(Teams1_Score))","v":3},{"$f":"Z45-AA45","v":4},{"$f":"3*W45+X45","v":7},null,null,"2018-06-30",1,{"$f":"IF(SUM(V9:V12)=0,\"1er Groupe A\",IF(COUNTIF(T9:T12,1)=1,VLOOKUP(1,T9:U12,2,FALSE),IF(COUNTIF(T9:T12,1)>=2,\"Tirage au Sort A1\")))","v":"Uruguay"},{"$f":"AJ45*10+AL45","v":10},1,{"$f":"IF(AND(LEFT(AH45,3)<>\"1er\",LEFT(AH45,3)<>\"2nd\"),COUNTIF(RESULTATS!$AG$30:$AM$37,AH45),0)","v":1},null,null,{"$f":"IF(SUM(V15:V18)=0,\"2nd Groupe B\",IF(OR(COUNTIF(T15:T18,1)>1,COUNTIF(T15:T18,2)>1),\"Tirage au sort B2\",VLOOKUP(2,T15:U18,2,FALSE)))","v":"Portugal"},{"$f":"AP45*10+AR45","v":20},2,{"$f":"IF(AND(LEFT(AN45,3)<>\"1er\",LEFT(AN45,3)<>\"2nd\"),COUNTIF(RESULTATS!$AG$30:$AM$37,AN45),0)","v":0}]
[null,{"$f":"VLOOKUP($D46,TABLEAU_MATCHS[#All],2,FALSE)","v":"2018-06-26"},{"$f":"VLOOKUP($D46,TABLEAU_MATCHS[#All],3,FALSE)","v":"20:00:00"},39,{"$f":"\"Groupe \"&VLOOKUP($I46,TABLEAU_TEAMS[[#All],[TEAM]:[GROUP_INITIAL_RANK]],2,FALSE)","v":"Groupe D"},2.4,2.9,2.85,{"$f":"VLOOKUP($D46,TABLEAU_MATCHS[#All],4,FALSE)","v":"Nigeria"},1,null,{"$f":"VLOOKUP($D46,TABLEAU_MATCHS[#All],5,FALSE)","v":"Argentine"},4,{"$f":"IF(OR(ISBLANK(RESULTATS!J46),ISBLANK(J46)),\"\",IF(AND(Tiphaine!J46=RESULTATS!J46,Tiphaine!M46=RESULTATS!M46),3,IF(OR(AND(Tiphaine!J46>Tiphaine!M46,RESULTATS!J46>RESULTATS!M46),AND(Tiphaine!J46<Tiphaine!M46,RESULTATS!J46<RESULTATS!M46),AND(Tiphaine!J46=Tiphaine!M46,RESULTATS!J46=RESULTATS!M46)),1,0)))","v":""},null,null,null,"07370Angleterre",7370,2,"Angleterre",{"$f":"SUMPRODUCT((Teams1=U46)*(Teams1_Score<>\"\"))+SUMPRODUCT((Teams2=U46)*(Teams2_Score<>\"\"))","v":3},{"$f":"SUMPRODUCT((Teams1=U46)*(Teams1_Score>Teams2_Score))+SUMPRODUCT((Teams2=U46)*(Teams2_Score>Teams1_Score))","v":2},{"$f":"SUMPRODUCT((Teams1=U46)*(Teams1_Score=Teams2_Score)*(Teams1_Score<>\"\"))+SUMPRODUCT((Teams2=U46)*(Teams2_Score=Teams1_Score)*(Teams2_Score<>\"\"))","v":1},{"$f":"SUMPRODUCT((Teams1=U46)*(Teams1_Score<Teams2_Score))+SUMPRODUCT((Teams2=U46)*(Teams2_Score<Teams1_Score))","v":0},{"$f":"SUMPRODUCT((Teams1=U46)*(Teams1_Score))+SUMPRODUCT((Teams2=U46)*(Teams2_Score))","v":7},{"$f":"SUMPRODUCT((Teams1=U46)*(Teams2_Score))+SUMPRODUCT((Teams2=U46)*(Teams1_Score))","v":4},{"$f":"Z46-AA46","v":3},{"$f":"3*W46+X46","v":7},null,null,"2018-07-01",2,{"$f":"IF(SUM(V15:V18)=0,\"1er Groupe B\",IF(COUNTIF(T15:T18,1)=1,VLOOKUP(1,T15:U18,2,FALSE),IF(COUNTIF(T15:T18,1)>=2,\"Tirage au Sort B1\")))","v":"Espagne"},{"$f":"AJ46*10+AL46","v":30},3,{"$f":"IF(AND(LEFT(AH46,3)<>\"1er\",LEFT(AH46,3)<>\"2nd\"),COUNTIF(RESULTATS!$AG$30:$AM$37,AH46),0)","v":0},null,null,{"$f":"IF(SUM(V9:V12)=0,\"2nd Groupe A\",IF(OR(COUNTIF(T9:T12,1)>1,COUNTIF(T9:T12,2)>1),\"Tirage au sort A2\",VLOOKUP(2,T9:U12,2,FALSE)))","v":"Russie"},0,0,{"$f":"IF(AND(LEFT(AN46,3)<>\"1er\",LEFT(AN46,3)<>\"2nd\"),COUNTIF(RESULTATS!$AG$30:$AM$37,AN46),0)","v":1}]
[null,{"$f":"VLOOKUP($D47,TABLEAU_MATCHS[#All],2,FALSE)","v":"2018-06-26"},{"$f":"VLOOKUP($D47,TABLEAU_MATCHS[#All],3,FALSE)","v":"20:00:00"},40,{"$f":"\"Groupe \"&VLOOKUP($I47,TABLEAU_TEAMS[[#All],[TEAM]:[GROUP_INITIAL_RANK]],2,FALSE)","v":"Groupe D"},6.5,3.7,1.44,{"$f":"VLOOKUP($D47,TABLEAU_MATCHS[#All],4,FALSE)","v":"Islande"},1,null,{"$f":"VLOOKUP($D47,TABLEAU_MATCHS[#All],5,FALSE)","v":"Croatie"},2,{"$f":"IF(OR(ISBLANK(RESULTATS!J47),ISBLANK(J47)),\"\",IF(AND(Tiphaine!J47=RESULTATS!J47,Tiphaine!M47=RESULTATS!M47),3,IF(OR(AND(Tiphaine!J47>Tiphaine!M47,RESULTATS!J47>RESULTATS!M47),AND(Tiphaine!J47<Tiphaine!M47,RESULTATS!J47<RESULTATS!M47),AND(Tiphaine!J47=Tiphaine!M47,RESULTATS!J47=RESULTATS!M47)),1,0)))","v":""},null,null,null,"02940Panama",2940,3,"Panama",{"$f":"SUMPRODUCT((Teams1=U47)*(Teams1_Score<>\"\"))+SUMPRODUCT((Teams2=U47)*(Teams2_Score<>\"\"))","v":3},{"$f":"SUMPRODUCT((Teams1=U47)*(Teams1_Score>Teams2_Score))+SUMPRODUCT((Teams2=U47)*(Teams2_Score>Teams1_Score))","v":1},{"$f":"SUMPRODUCT((Teams1=U47)*(Teams1_Score=Teams2_Score)*(Teams1_Score<>\"\"))+SUMPRODUCT((Teams2=U47)*(Teams2_Score=Teams1_Score)*(Teams2_Score<>\"\"))","v":0},{"$f":"SUMPRODUCT((Teams1=U47)*(Teams1_Score<Teams2_Score))+SUMPRODUCT((Teams2=U47)*(Teams2_Score<Teams1_Score))","v":2},{"$f":"SUMPRODUCT((Teams1=U47)*(Teams1_Score))+SUMPRODUCT((Teams2=U47)*(Teams2_Score))","v":4},{"$f":"SUMPRODUCT((Teams1=U47)*(Teams2_Score))+SUMPRODUCT((Teams2=U47)*(Teams1_Score))","v":5},{"$f":"Z47-AA47","v":-1},{"$f":"3*W47+X47","v":3},null,null,"2017-06-30",3,{"$f":"IF(SUM(V21:V24)=0,\"1er Groupe C\",IF(COUNTIF(T21:T24,1)=1,VLOOKUP(1,T21:U24,2,FALSE),IF(COUNTIF(T21:T24,1)>=2,\"Tirage au Sort C1\")))","v":"France"},20,2,{"$f":"IF(AND(LEFT(AH47,3)<>\"1er\",LEFT(AH47,3)<>\"2nd\"),COUNTIF(RESULTATS!$AG$30:$AM$37,AH47),0)","v":0},null,null,{"$f":"IF(SUM(V27:V30)=0,\"2nd Groupe D\",IF(OR(COUNTIF(T27:T30,1)>1,COUNTIF(T27:T30,2)>1),\"Tirage au sort D2\",VLOOKUP(2,T27:U30,2,FALSE)))","v":"Croatie"},0,0,{"$f":"IF(AND(LEFT(AN47,3)<>\"1er\",LEFT(AN47,3)<>\"2nd\"),COUNTIF(RESULTATS!$AG$30:$AM$37,AN47),0)","v":0}]
[null,{"$f":"VLOOKUP($D48,TABLEAU_MATCHS[#All],2,FALSE)","v":"2018-06-27"},{"$f":"VLOOKUP($D48,TABLEAU_MATCHS[#All],3,FALSE)","v":"20:00:00"},41,{"$f":"\"Groupe \"&VLOOKUP($I48,TABLEAU_TEAMS[[#All],[TEAM]:[GROUP_INITIAL_RANK]],2,FALSE)","v":"Groupe E"},6.5,3.5,1.48,{"$f":"VLOOKUP($D48,TABLEAU_MATCHS[#All],4,FALSE)","v":"Serbie"},1,null,{"$f":"VLOOKUP($D48,TABLEAU_MATCHS[#All],5,FALSE)","v":"Brésil"},3,{"$f":"IF(OR(ISBLANK(RESULTATS!J48),ISBLANK(J48)),\"\",IF(AND(Tiphaine!J48=RESULTATS!J48,Tiphaine!M48=RESULTATS!M48),3,IF(OR(AND(Tiphaine!J48>Tiphaine!M48,RESULTATS!J48>RESULTATS!M48),AND(Tiphaine!J48<Tiphaine!M48,RESULTATS!J48<RESULTATS!M48),AND(Tiphaine!J48=Tiphaine!M48,RESULTATS!J48=RESULTATS!M48)),1,0)))","v":""},null,null,null,"-00580Tunisie",-580,4,"Tunisie",{"$f":"SUMPRODUCT((Teams1=U48)*(Teams1_Score<>\"\"))+SUMPRODUCT((Teams2=U48)*(Teams2_Score<>\"\"))","v":3},{"$f":"SUMPRODUCT((Teams1=U48)*(Teams1_Score>Teams2_Score))+SUMPRODUCT((Teams2=U48)*(Teams2_Score>Teams1_Score))","v":0},{"$f":"SUMPRODUCT((Teams1=U48)*(Teams1_Score=Teams2_Score)*(Teams1_Score<>\"\"))+SUMPRODUCT((Teams2=U48)*(Teams2_Score=Teams1_Score)*(Teams2_Score<>\"\"))","v":0},{"$f":"SUMPRODUCT((Teams1=U48)*(Teams1_Score<Teams2_Score))+SUMPRODUCT((Teams2=U48)*(Teams2_Score<Teams1_Score))","v":3},{"$f":"SUMPRODUCT((Teams1=U48)*(Teams1_Score))+SUMPRODUCT((Teams2=U48)*(Teams2_Score))","v":2},{"$f":"SUMPRODUCT((Teams1=U48)*(Teams2_Score))+SUMPRODUCT((Teams2=U48)*(Teams1_Score))","v":8},{"$f":"Z48-AA48","v":-6},{"$f":"3*W48+X48","v":0},null,null,"2018-07-01",4,{"$f":"IF(SUM(V27:V30)=0,\"1er Groupe D\",IF(COUNTIF(T27:T30,1)=1,VLOOKUP(1,T27:U30,2,FALSE),IF(COUNTIF(T27:T30,1)>=2,\"Tirage au Sort D1\")))","v":"Argentine"},30,3,{"$f":"IF(AND(LEFT(AH48,3)<>\"1er\",LEFT(AH48,3)<>\"2nd\"),COUNTIF(RESULTATS!$AG$30:$AM$37,AH48),0)","v":0},null,null,{"$f":"IF(SUM(V21:V24)=0,\"2nd Groupe C\",IF(OR(COUNTIF(T21:T24,1)>1,COUNTIF(T21:T24,2)>1),\"Tirage au sort C2\",VLOOKUP(2,T21:U24,2,FALSE)))","v":"Pérou"},10,1,{"$f":"IF(AND(LEFT(AN48,3)<>\"1er\",LEFT(AN48,3)<>\"2nd\"),COUNTIF(RESULTATS!$AG$30:$AM$37,AN48),0)","v":0}]
[null,{"$f":"VLOOKUP($D49,TABLEAU_MATCHS[#All],2,FALSE)","v":"2018-06-27"},{"$f":"VLOOKUP($D49,TABLEAU_MATCHS[#All],3,FALSE)","v":"20:00:00"},42,{"$f":"\"Groupe \"&VLOOKUP($I49,TABLEAU_TEAMS[[#All],[TEAM]:[GROUP_INITIAL_RANK]],2,FALSE)","v":"Groupe E"},4,3.05,1.9,{"$f":"VLOOKUP($D49,TABLEAU_MATCHS[#All],4,FALSE)","v":"Suisse"},2,null,{"$f":"VLOOKUP($D49,TABLEAU_MATCHS[#All],5,FALSE)","v":"Costa Rica"},2,{"$f":"IF(OR(ISBLANK(RESULTATS!J49),ISBLANK(J49)),\"\",IF(AND(Tiphaine!J49=RESULTATS!J49,Tiphaine!M49=RESULTATS!M49),3,IF(OR(AND(Tiphaine!J49>Tiphaine!M49,RESULTATS!J49>RESULTATS!M49),AND(Tiphaine!J49<Tiphaine!M49,RESULTATS!J49<RESULTATS!M49),AND(Tiphaine!J49=Tiphaine!M49,RESULTATS!J49=RESULTATS!M49)),1,0)))","v":""},null,null,null,null,null,null,null,null,null,null,null,null,null,null,null,null,null,"2018-07-02",5,{"$f":"IF(SUM(V33:V36)=0,\"1er Groupe E\",IF(COUNTIF(T33:T36,1)=1,VLOOKUP(1,T33:U36,2,FALSE),IF(COUNTIF(T33:T36,1)>=2,\"Tirage au Sort E1\")))","v":"Brésil"},20,2,{"$f":"IF(AND(LEFT(AH49,3)<>\"1er\",LEFT(AH49,3)<>\"2nd\"),COUNTIF(RESULTATS!$AG$30:$AM$37,AH49),0)","v":0},null,null,{"$f":"IF(SUM(V39:V42)=0,\"2nd Groupe F\",IF(OR(COUNTIF(T39:T42,1)>1,COUNTIF(T39:T42,2)>1),\"Tirage au sort F2\",VLOOKUP(2,T39:U42,2,FALSE)))","v":"Suède"},10,1,{"$f":"IF(AND(LEFT(AN49,3)<>\"1er\",LEFT(AN49,3)<>\"2nd\"),COUNTIF(RESULTATS!$AG$30:$AM$37,AN49),0)","v":0}]
[null,{"$f":"VLOOKUP($D50,TABLEAU_MATCHS[#All],2,FALSE)","v":"2018-06-27"},{"$f":"VLOOKUP($D50,TABLEAU_MATCHS[#All],3,FALSE)","v":"16:00:00"},43,{"$f":"\"Groupe \"&VLOOKUP($I50,TABLEAU_TEAMS[[#All],[TEAM]:[GROUP_INITIAL_RANK]],2,FALSE)","v":"Groupe F"},8.5,4.3,1.3,{"$f":"VLOOKUP($D50,TABLEAU_MATCHS[#All],4,FALSE)","v":"Mexique"},2,null,{"$f":"VLOOKUP($D50,TABLEAU_MATCHS[#All],5,FALSE)","v":"Suède"},3,{"$f":"IF(OR(ISBLANK(RESULTATS!J50),ISBLANK(J50)),\"\",IF(AND(Tiphaine!J50=RESULTATS!J50,Tiphaine!M50=RESULTATS!M50),3,IF(OR(AND(Tiphaine!J50>Tiphaine!M50,RESULTATS!J50>RESULTATS!M50),AND(Tiphaine!J50<Tiphaine!M50,RESULTATS!J50<RESULTATS!M50),AND(Tiphaine!J50=Tiphaine!M50,RESULTATS!J50=RESULTATS!M50)),1,0)))","v":""},null,null,null,null,null,"Rg","Groupe H","MJ","G","N","P","BP","BC","+/-","Pts",null,null,"2018-07-03",6,{"$f":"IF(SUM(V39:V42)=0,\"1er Groupe F\",IF(COUNTIF(T39:T42,1)=1,VLOOKUP(1,T39:U42,2,FALSE),IF(COUNTIF(T39:T42,1)>=2,\"Tirage au Sort F1\")))","v":"Allemagne"},20,2,{"$f":"IF(AND(LEFT(AH50,3)<>\"1er\",LEFT(AH50,3)<>\"2nd\"),COUNTIF(RESULTATS!$AG$30:$AM$37,AH50),0)","v":0},null,null,{"$f":"IF(SUM(V33:V36)=0,\"2nd Groupe E\",IF(OR(COUNTIF(T33:T36,1)>1,COUNTIF(T33:T36,2)>1),\"Tirage au sort E2\",VLOOKUP(2,T33:U36,2,FALSE)))","v":"Costa Rica"},0,0,{"$f":"IF(AND(LEFT(AN50,3)<>\"1er\",LEFT(AN50,3)<>\"2nd\"),COUNTIF(RESULTATS!$AG$30:$AM$37,AN50),0)","v":0}]
[null,{"$f":"VLOOKUP($D51,TABLEAU_MATCHS[#All],2,FALSE)","v":"2018-06-27"},{"$f":"VLOOKUP($D51,TABLEAU_MATCHS[#All],3,FALSE)","v":"16:00:00"},44,{"$f":"\"Groupe \"&VLOOKUP($I51,TABLEAU_TEAMS[[#All],[TEAM]:[GROUP_INITIAL_RANK]],2,FALSE)","v":"Groupe F"},1.48,3.6,6.25,{"$f":"VLOOKUP($D51,TABLEAU_MATCHS[#All],4,FALSE)","v":"République de Corée"},1,null,{"$f":"VLOOKUP($D51,TABLEAU_MATCHS[#All],5,FALSE)","v":"Allemagne"},4,{"$f":"IF(OR(ISBLANK(RESULTATS!J51),ISBLANK(J51)),\"\",IF(AND(Tiphaine!J51=RESULTATS!J51,Tiphaine!M51=RESULTATS!M51),3,IF(OR(AND(Tiphaine!J51>Tiphaine!M51,RESULTATS!J51>RESULTATS!M51),AND(Tiphaine!J51<Tiphaine!M51,RESULTATS!J51<RESULTATS!M51),AND(Tiphaine!J51=Tiphaine!M51,RESULTATS!J51=RESULTATS!M51)),1,0)))","v":""},null,null,null,{"$f":"INDEX($R102:$R105,MATCH(SMALL(COUNTIF($R102:$R105,\">=\"&$R102:$R105),ROW(INDIRECT(\"1:\"&ROWS($R102:$R105)))),COUNTIF($R102:$R105,\">=\"&$R102:$R105),0))","v":"09580Colombie"},{"$f":"INDEX($S102:$S105,MATCH(SMALL(COUNTIF($R102:$R105,\">=\"&$R102:$R105),ROW(INDIRECT(\"1:\"&ROWS($R102:$R105)))),COUNTIF($R102:$R105,\">=\"&$R102:$R105),0))","v":9580},{"$f":"INDEX($T102:$T105,MATCH(SMALL(COUNTIF($R102:$R105,\">=\"&$R102:$R105),ROW(INDIRECT(\"1:\"&ROWS($R102:$R105)))),COUNTIF($R102:$R105,\">=\"&$R102:$R105),0))","v":1},{"$f":"INDEX($U102:$U105,MATCH(SMALL(COUNTIF($R102:$R105,\">=\"&$R102:$R105),ROW(INDIRECT(\"1:\"&ROWS($R102:$R105)))),COUNTIF($R102:$R105,\">=\"&$R102:$R105),0))","v":"Colombie"},{"$f":"SUMPRODUCT((Teams1=U51)*(Teams1_Score<>\"\"))+SUMPRODUCT((Teams2=U51)*(Teams2_Score<>\"\"))","v":3},{"$f":"SUMPRODUCT((Teams1=U51)*(Teams1_Score>Teams2_Score))+SUMPRODUCT((Teams2=U51)*(Teams2_Score>Teams1_Score))","v":3},{"$f":"SUMPRODUCT((Teams1=U51)*(Teams1_Score=Teams2_Score)*(Teams1_Score<>\"\"))+SUMPRODUCT((Teams2=U51)*(Teams2_Score=Teams1_Score)*(Teams2_Score<>\"\"))","v":0},{"$f":"SUMPRODUCT((Teams1=U51)*(Teams1_Score<Teams2_Score))+SUMPRODUCT((Teams2=U51)*(Teams2_Score<Teams1_Score))","v":0},{"$f":"SUMPRODUCT((Teams1=U51)*(Teams1_Score))+SUMPRODUCT((Teams2=U51)*(Teams2_Score))","v":8},{"$f":"SUMPRODUCT((Teams1=U51)*(Teams2_Score))+SUMPRODUCT((Teams2=U51)*(Teams1_Score))","v":3},{"$f":"Z51-AA51","v":5},{"$f":"3*W51+X51","v":9},null,null,"2018-07-02",7,{"$f":"IF(SUM(V45:V48)=0,\"1er Groupe G\",IF(COUNTIF(T45:T48,1)=1,VLOOKUP(1,T45:U48,2,FALSE),IF(COUNTIF(T45:T48,1)>=2,\"Tirage au Sort G1\")))","v":"Belgique"},30,3,{"$f":"IF(AND(LEFT(AH51,3)<>\"1er\",LEFT(AH51,3)<>\"2nd\"),COUNTIF(RESULTATS!$AG$30:$AM$37,AH51),0)","v":0},null,null,{"$f":"IF(SUM(V51:V54)=0,\"2nd Groupe H\",IF(OR(COUNTIF(T51:T54,1)>1,COUNTIF(T51:T54,2)>1),\"Tirage au sort H2\",VLOOKUP(2,T51:U54,2,FALSE)))","v":"Sénégal"},10,1,{"$f":"IF(AND(LEFT(AN51,3)<>\"1er\",LEFT(AN51,3)<>\"2nd\"),COUNTIF(RESULTATS!$AG$30:$AM$37,AN51),0)","v":0}]
[null,{"$f":"VLOOKUP($D52,TABLEAU_MATCHS[#All],2,FALSE)","v":"2018-06-28"},{"$f":"VLOOKUP($D52,TABLEAU_MATCHS[#All],3,FALSE)","v":"20:00:00"},45,{"$f":"\"Groupe \"&VLOOKUP($I52,TABLEAU_TEAMS[[#All],[TEAM]:[GROUP_INITIAL_RANK]],2,FALSE)","v":"Groupe G"},8,4.2,1.32,{"$f":"VLOOKUP($D52,TABLEAU_MATCHS[#All],4,FALSE)","v":"Panama"},2,null,{"$f":"VLOOKUP($D52,TABLEAU_MATCHS[#All],5,FALSE)","v":"Tunisie"},1,{"$f":"IF(OR(ISBLANK(RESULTATS!J52),ISBLANK(J52)),\"\",IF(AND(Tiphaine!J52=RESULTATS!J52,Tiphaine!M52=RESULTATS!M52),3,IF(OR(AND(Tiphaine!J52>Tiphaine!M52,RESULTATS!J52>RESULTATS!M52),AND(Tiphaine!J52<Tiphaine!M52,RESULTATS!J52<RESULTATS!M52),AND(Tiphaine!J52=Tiphaine!M52,RESULTATS!J52=RESULTATS!M52)),1,0)))","v":""},null,null,null,"06060Sénégal",6060,2,"Sénégal",{"$f":"SUMPRODUCT((Teams1=U52)*(Teams1_Score<>\"\"))+SUMPRODUCT((Teams2=U52)*(Teams2_Score<>\"\"))","v":3},{"$f":"SUMPRODUCT((Teams1=U52)*(Teams1_Score>Teams2_Score))+SUMPRODUCT((Teams2=U52)*(Teams2_Score>Teams1_Score))","v":2},{"$f":"SUMPRODUCT((Teams1=U52)*(Teams1_Score=Teams2_Score)*(Teams1_Score<>\"\"))+SUMPRODUCT((Teams2=U52)*(Teams2_Score=Teams1_Score)*(Teams2_Score<>\"\"))","v":0},{"$f":"SUMPRODUCT((Teams1=U52)*(Teams1_Score<Teams2_Score))+SUMPRODUCT((Teams2=U52)*(Teams2_Score<Teams1_Score))","v":1},{"$f":"SUMPRODUCT((Teams1=U52)*(Teams1_Score))+SUMPRODUCT((Teams2=U52)*(Teams2_Score))","v":6},{"$f":"SUMPRODUCT((Teams1=U52)*(Teams2_Score))+SUMPRODUCT((Teams2=U52)*(Teams1_Score))","v":6},{"$f":"Z52-AA52","v":0},{"$f":"3*W52+X52","v":6},null,null,"2018-07-03",8,{"$f":"IF(SUM(V51:V54)=0,\"1er Groupe H\",IF(COUNTIF(T51:T54,1)=1,VLOOKUP(1,T51:U54,2,FALSE),IF(COUNTIF(T51:T54,1)>=2,\"Tirage au Sort H1\")))","v":"Colombie"},25,2,{"$f":"IF(AND(LEFT(AH52,3)<>\"1er\",LEFT(AH52,3)<>\"2nd\"),COUNTIF(RESULTATS!$AG$30:$AM$37,AH52),0)","v":0},5,null,{"$f":"IF(SUM(V45:V48)=0,\"2nd Groupe G\",IF(OR(COUNTIF(T45:T48,1)>1,COUNTIF(T45:T48,2)>1),\"Tirage au sort G2\",VLOOKUP(2,T45:U48,2,FALSE)))","v":"Angleterre"},26,2,{"$f":"IF(AND(LEFT(AN52,3)<>\"1er\",LEFT(AN52,3)<>\"2nd\"),COUNTIF(RESULTATS!$AG$30:$AM$37,AN52),0)","v":0},6]
[null,{"$f":"VLOOKUP($D53,TABLEAU_MATCHS[#All],2,FALSE)","v":"2018-06-28"},{"$f":"VLOOKUP($D53,TABLEAU_MATCHS[#All],3,FALSE)","v":"20:00:00"},46,{"$f":"\"Groupe \"&VLOOKUP($I53,TABLEAU_TEAMS[[#All],[TEAM]:[GROUP_INITIAL_RANK]],2,FALSE)","v":"Groupe G"},1.74,3.2,4.0999999999999996,{"$f":"VLOOKUP($D53,TABLEAU_MATCHS[#All],4,FALSE)","v":"Angleterre"},2,null,{"$f":"VLOOKUP($D53,TABLEAU_MATCHS[#All],5,FALSE)","v":"Belgique"},2,{"$f":"IF(OR(ISBLANK(RESULTATS!J53),ISBLANK(J53)),\"\",IF(AND(Tiphaine!J53=RESULTATS!J53,Tiphaine!M53=RESULTATS!M53),3,IF(OR(AND(Tiphaine!J53>Tiphaine!M53,RESULTATS!J53>RESULTATS!M53),AND(Tiphaine!J53<Tiphaine!M53,RESULTATS!J53<RESULTATS!M53),AND(Tiphaine!J53=Tiphaine!M53,RESULTATS!J53=RESULTATS!M53)),1,0)))","v":""},null,null,null,"02930Pologne",2930,3,"Pologne",{"$f":"SUMPRODUCT((Teams1=U53)*(Teams1_Score<>\"\"))+SUMPRODUCT((Teams2=U53)*(Teams2_Score<>\"\"))","v":3},{"$f":"SUMPRODUCT((Teams1=U53)*(Teams1_Score>Teams2_Score))+SUMPRODUCT((Teams2=U53)*(Teams2_Score>Teams1_Score))","v":1},{"$f":"SUMPRODUCT((Teams1=U53)*(Teams1_Score=Teams2_Score)*(Teams1_Score<>\"\"))+SUMPRODUCT((Teams2=U53)*(Teams2_Score=Teams1_Score)*(Teams2_Score<>\"\"))","v":0},{"$f":"SUMPRODUCT((Teams1=U53)*(Teams1_Score<Teams2_Score))+SUMPRODUCT((Teams2=U53)*(Teams2_Score<Teams1_Score))","v":2},{"$f":"SUMPRODUCT((Teams1=U53)*(Teams1_Score))+SUMPRODUCT((Teams2=U53)*(Teams2_Score))","v":3},{"$f":"SUMPRODUCT((Teams1=U53)*(Teams2_Score))+SUMPRODUCT((Teams2=U53)*(Teams1_Score))","v":4},{"$f":"Z53-AA53","v":-1},{"$f":"3*W53+X53","v":3},null,null,null,null,null,null,null,{"$f":"SUM(AK45:AK52)","v":1},null,null,null,0,null,{"$f":"SUM(AQ45:AQ52)","v":1}]
[null,{"$f":"VLOOKUP($D54,TABLEAU_MATCHS[#All],2,FALSE)","v":"2018-06-28"},{"$f":"VLOOKUP($D54,TABLEAU_MATCHS[#All],3,FALSE)","v":"16:00:00"},47,{"$f":"\"Groupe \"&VLOOKUP($I54,TABLEAU_TEAMS[[#All],[TEAM]:[GROUP_INITIAL_RANK]],2,FALSE)","v":"Groupe H"},4.9000000000000004,3.25,1.62,{"$f":"VLOOKUP($D54,TABLEAU_MATCHS[#All],4,FALSE)","v":"Japon"},0,null,{"$f":"VLOOKUP($D54,TABLEAU_MATCHS[#All],5,FALSE)","v":"Pologne"},1,{"$f":"IF(OR(ISBLANK(RESULTATS!J54),ISBLANK(J54)),\"\",IF(AND(Tiphaine!J54=RESULTATS!J54,Tiphaine!M54=RESULTATS!M54),3,IF(OR(AND(Tiphaine!J54>Tiphaine!M54,RESULTATS!J54>RESULTATS!M54),AND(Tiphaine!J54<Tiphaine!M54,RESULTATS!J54<RESULTATS!M54),AND(Tiphaine!J54=Tiphaine!M54,RESULTATS!J54=RESULTATS!M54)),1,0)))","v":""},null,null,null,"-00390Japon",-390,4,"Japon",{"$f":"SUMPRODUCT((Teams1=U54)*(Teams1_Score<>\"\"))+SUMPRODUCT((Teams2=U54)*(Teams2_Score<>\"\"))","v":3},{"$f":"SUMPRODUCT((Teams1=U54)*(Teams1_Score>Teams2_Score))+SUMPRODUCT((Teams2=U54)*(Teams2_Score>Teams1_Score))","v":0},{"$f":"SUMPRODUCT((Teams1=U54)*(Teams1_Score=Teams2_Score)*(Teams1_Score<>\"\"))+SUMPRODUCT((Teams2=U54)*(Teams2_Score=Teams1_Score)*(Teams2_Score<>\"\"))","v":0},{"$f":"SUMPRODUCT((Teams1=U54)*(Teams1_Score<Teams2_Score))+SUMPRODUCT((Teams2=U54)*(Teams2_Score<Teams1_Score))","v":3},{"$f":"SUMPRODUCT((Teams1=U54)*(Teams1_Score))+SUMPRODUCT((Teams2=U54)*(Teams2_Score))","v":1},{"$f":"SUMPRODUCT((Teams1=U54)*(Teams2_Score))+SUMPRODUCT((Teams2=U54)*(Teams1_Score))","v":5},{"$f":"Z54-AA54","v":-4},{"$f":"3*W54+X54","v":0}]
[null,{"$f":"VLOOKUP($D55,TABLEAU_MATCHS[#All],2,FALSE)","v":"2018-06-28"},{"$f":"VLOOKUP($D55,TABLEAU_MATCHS[#All],3,FALSE)","v":"16:00:00"},48,{"$f":"\"Groupe \"&VLOOKUP($I55,TABLEAU_TEAMS[[#All],[TEAM]:[GROUP_INITIAL_RANK]],2,FALSE)","v":"Groupe H"},6,3.4,1.52,{"$f":"VLOOKUP($D55,TABLEAU_MATCHS[#All],4,FALSE)","v":"Sénégal"},2,null,{"$f":"VLOOKUP($D55,TABLEAU_MATCHS[#All],5,FALSE)","v":"Colombie"},4,{"$f":"IF(OR(ISBLANK(RESULTATS!J55),ISBLANK(J55)),\"\",IF(AND(Tiphaine!J55=RESULTATS!J55,Tiphaine!M55=RESULTATS!M55),3,IF(OR(AND(Tiphaine!J55>Tiphaine!M55,RESULTATS!J55>RESULTATS!M55),AND(Tiphaine!J55<Tiphaine!M55,RESULTATS!J55<RESULTATS!M55),AND(Tiphaine!J55=Tiphaine!M55,RESULTATS!J55=RESULTATS!M55)),1,0)))","v":""}]
[null,null,null,null,null,null,null,null,null,null,null,null,null,{"$f":"SUM(N8:N55)","v":2}]
[]
[]
[null,"Tirage au sort A1",null,null,null,null,null,null,null,null,null,null,null,null,null,null,null,null,null,"Rg","Groupe A","MJ","G","N","P","BP","BC","+/-","Pts"]
[null,{"$f":"IF(ROWS($1:1)<=COUNTIF($T$9:$T$12,1),INDEX($U$9:$U$12,SMALL(IF($T$9:$T$12=1,ROW(INDIRECT(\"1:\"&ROWS($T$9:$T$12)))),ROWS($1:1))),\"\")","v":"Uruguay"},null,null,null,null,null,null,null,null,null,null,null,null,null,null,"A_1",{"$f":"TEXT(S60,\"00000\")&U60","v":"04040Russie"},{"$f":"AC60*1000+AB60*100+Z60*10","v":4040},{"$f":"RANK(S60,$S60:$S64,0)","v":2},{"$f":"VLOOKUP(Q60,TABLEAU_TEAMS[#All],2,FALSE)","v":"Russie"},{"$f":"SUMPRODUCT((Teams1=U60)*(Teams1_Score<>\"\"))+SUMPRODUCT((Teams2=U60)*(Teams2_Score<>\"\"))","v":3},{"$f":"SUMPRODUCT((Teams1=U60)*(Teams1_Score>Teams2_Score))+SUMPRODUCT((Teams2=U60)*(Teams2_Score>Teams1_Score))","v":1},{"$f":"SUMPRODUCT((Teams1=U60)*(Teams1_Score=Teams2_Score)*(Teams1_Score<>\"\"))+SUMPRODUCT((Teams2=U60)*(Teams2_Score=Teams1_Score)*(Teams2_Score<>\"\"))","v":1},{"$f":"SUMPRODUCT((Teams1=U60)*(Teams1_Score<Teams2_Score))+SUMPRODUCT((Teams2=U60)*(Teams2_Score<Teams1_Score))","v":1},{"$f":"SUMPRODUCT((Teams1=U60)*(Teams1_Score))+SUMPRODUCT((Teams2=U60)*(Teams2_Score))","v":4},{"$f":"SUMPRODUCT((Teams1=U60)*(Teams2_Score))+SUMPRODUCT((Teams2=U60)*(Teams1_Score))","v":4},{"$f":"Z60-AA60","v":0},{"$f":"3*W60+X60","v":4}]
[null,{"$f":"IF(ROWS($1:2)<=COUNTIF($T$9:$T$12,1),INDEX($U$9:$U$12,SMALL(IF($T$9:$T$12=1,ROW(INDIRECT(\"1:\"&ROWS($T$9:$T$12)))),ROWS($1:2))),\"\")","v":""},null,null,null,null,null,null,null,null,null,null,null,null,null,null,"A_2",{"$f":"TEXT(S61,\"00000\")&U61","v":"00710Arabie Saoudite"},{"$f":"AC61*1000+AB61*100+Z61*10","v":710},{"$f":"RANK(S61,$S60:$S64,0)","v":4},{"$f":"VLOOKUP(Q61,TABLEAU_TEAMS[#All],2,FALSE)","v":"Arabie Saoudite"},{"$f":"SUMPRODUCT((Teams1=U61)*(Teams1_Score<>\"\"))+SUMPRODUCT((Teams2=U61)*(Teams2_Score<>\"\"))","v":3},{"$f":"SUMPRODUCT((Teams1=U61)*(Teams1_Score>Teams2_Score))+SUMPRODUCT((Teams2=U61)*(Teams2_Score>Teams1_Score))","v":0},{"$f":"SUMPRODUCT((Teams1=U61)*(Teams1_Score=Teams2_Score)*(Teams1_Score<>\"\"))+SUMPRODUCT((Teams2=U61)*(Teams2_Score=Teams1_Score)*(Teams2_Score<>\"\"))","v":1},{"$f":"SUMPRODUCT((Teams1=U61)*(Teams1_Score<Teams2_Score))+SUMPRODUCT((Teams2=U61)*(Teams2_Score<Teams1_Score))","v":2},{"$f":"SUMPRODUCT((Teams1=U61)*(Teams1_Score))+SUMPRODUCT((Teams2=U61)*(Teams2_Score))","v":1},{"$f":"SUMPRODUCT((Teams1=U61)*(Teams2_Score))+SUMPRODUCT((Teams2=U61)*(Teams1_Score))","v":4},{"$f":"Z61-AA61","v":-3},{"$f":"3*W61+X61","v":1}]
[null,{"$f":"IF(ROWS($1:3)<=COUNTIF($T$9:$T$12,1),INDEX($U$9:$U$12,SMALL(IF($T$9:$T$12=1,ROW(INDIRECT(\"1:\"&ROWS($T$9:$T$12)))),ROWS($1:3))),\"\")","v":""},null,null,null,null,null,null,null,null,null,null,null,null,null,null,"A_3",{"$f":"TEXT(S62,\"00000\")&U62","v":"01940Egypte"},{"$f":"AC62*1000+AB62*100+Z62*10","v":1940},{"$f":"RANK(S62,$S60:$S64,0)","v":3},{"$f":"VLOOKUP(Q62,TABLEAU_TEAMS[#All],2,FALSE)","v":"Egypte"},{"$f":"SUMPRODUCT((Teams1=U62)*(Teams1_Score<>\"\"))+SUMPRODUCT((Teams2=U62)*(Teams2_Score<>\"\"))","v":3},{"$f":"SUMPRODUCT((Teams1=U62)*(Teams1_Score>Teams2_Score))+SUMPRODUCT((Teams2=U62)*(Teams2_Score>Teams1_Score))","v":0},{"$f":"SUMPRODUCT((Teams1=U62)*(Teams1_Score=Teams2_Score)*(Teams1_Score<>\"\"))+SUMPRODUCT((Teams2=U62)*(Teams2_Score=Teams1_Score)*(Teams2_Score<>\"\"))","v":2},{"$f":"SUMPRODUCT((Teams1=U62)*(Teams1_Score<Teams2_Score))+SUMPRODUCT((Teams2=U62)*(Teams2_Score<Teams1_Score))","v":1},{"$f":"SUMPRODUCT((Teams1=U62)*(Teams1_Score))+SUMPRODUCT((Teams2=U62)*(Teams2_Score))","v":4},{"$f":"SUMPRODUCT((Teams1=U62)*(Teams2_Score))+SUMPRODUCT((Teams2=U62)*(Teams1_Score))","v":5},{"$f":"Z62-AA62","v":-1},{"$f":"3*W62+X62","v":2}]
[null,{"$f":"IF(ROWS($1:4)<=COUNTIF($T$9:$T$12,1),INDEX($U$9:$U$12,SMALL(IF($T$9:$T$12=1,ROW(INDIRECT(\"1:\"&ROWS($T$9:$T$12)))),ROWS($1:4))),\"\")","v":""},null,null,null,null,null,null,null,null,null,null,null,null,null,null,"A_4",{"$f":"TEXT(S63,\"00000\")&U63","v":"09450Uruguay"},{"$f":"AC63*1000+AB63*100+Z63*10","v":9450},{"$f":"RANK(S63,$S60:$S64,0)","v":1},{"$f":"VLOOKUP(Q63,TABLEAU_TEAMS[#All],2,FALSE)","v":"Uruguay"},{"$f":"SUMPRODUCT((Teams1=U63)*(Teams1_Score<>\"\"))+SUMPRODUCT((Teams2=U63)*(Teams2_Score<>\"\"))","v":3},{"$f":"SUMPRODUCT((Teams1=U63)*(Teams1_Score>Teams2_Score))+SUMPRODUCT((Teams2=U63)*(Teams2_Score>Teams1_Score))","v":3},{"$f":"SUMPRODUCT((Teams1=U63)*(Teams1_Score=Teams2_Score)*(Teams1_Score<>\"\"))+SUMPRODUCT((Teams2=U63)*(Teams2_Score=Teams1_Score)*(Teams2_Score<>\"\"))","v":0},{"$f":"SUMPRODUCT((Teams1=U63)*(Teams1_Score<Teams2_Score))+SUMPRODUCT((Teams2=U63)*(Teams2_Score<Teams1_Score))","v":0},{"$f":"SUMPRODUCT((Teams1=U63)*(Teams1_Score))+SUMPRODUCT((Teams2=U63)*(Teams2_Score))","v":5},{"$f":"SUMPRODUCT((Teams1=U63)*(Teams2_Score))+SUMPRODUCT((Teams2=U63)*(Teams1_Score))","v":1},{"$f":"Z63-AA63","v":4},{"$f":"3*W63+X63","v":9}]
[null,"Tirage au sort A2"]
[null,{"$f":"IF(COUNTIF($T$9:$T$12,1)>1,IF(ROWS($1:1)<=COUNTIF($T$9:$T$12,1),INDEX($U$9:$U$12,SMALL(IF($T$9:$T$12=1,ROW(INDIRECT(\"1:\"&ROWS($T$9:$T$12)))),ROWS($1:1))),\"\"),IF(COUNTIF($T$9:$T$12,2)>1,IF(ROWS($1:1)<=COUNTIF($T$9:$T$12,2),INDEX($U$9:$U$12,SMALL(IF($T$9:$T$12=2,ROW(INDIRECT(\"1:\"&ROWS($T$9:$T$12)))),ROWS($1:1))),\"\")))","v":false},null,null,null,null,null,null,null,null,null,null,null,null,null,null,null,null,null,"Rg","Groupe B","MJ","G","N","P","BP","BC","Pts","Pts"]
[null,{"$f":"IF(COUNTIF($T$9:$T$12,1)>1,IF(ROWS($1:2)<=COUNTIF($T$9:$T$12,1),INDEX($U$9:$U$12,SMALL(IF($T$9:$T$12=1,ROW(INDIRECT(\"1:\"&ROWS($T$9:$T$12)))),ROWS($1:2))),\"\"),IF(COUNTIF($T$9:$T$12,2)>1,IF(ROWS($1:2)<=COUNTIF($T$9:$T$12,2),INDEX($U$9:$U$12,SMALL(IF($T$9:$T$12=2,ROW(INDIRECT(\"1:\"&ROWS($T$9:$T$12)))),ROWS($1:2))),\"\")))","v":false},null,null,null,null,null,null,null,null,null,null,null,null,null,null,"B_1",{"$f":"TEXT(S66,\"00000\")&U66","v":"02620Maroc"},{"$f":"AC66*1000+AB66*100+Z66*10","v":2620},{"$f":"RANK(S66,$S66:$S70,0)","v":3},{"$f":"VLOOKUP(Q66,TABLEAU_TEAMS[#All],2,FALSE)","v":"Maroc"},{"$f":"SUMPRODUCT((Teams1=U66)*(Teams1_Score<>\"\"))+SUMPRODUCT((Teams2=U66)*(Teams2_Score<>\"\"))","v":3},{"$f":"SUMPRODUCT((Teams1=U66)*(Teams1_Score>Teams2_Score))+SUMPRODUCT((Teams2=U66)*(Teams2_Score>Teams1_Score))","v":1},{"$f":"SUMPRODUCT((Teams1=U66)*(Teams1_Score=Teams2_Score)*(Teams1_Score<>\"\"))+SUMPRODUCT((Teams2=U66)*(Teams2_Score=Teams1_Score)*(Teams2_Score<>\"\"))","v":0},{"$f":"SUMPRODUCT((Teams1=U66)*(Teams1_Score<Teams2_Score))+SUMPRODUCT((Teams2=U66)*(Teams2_Score<Teams1_Score))","v":2},{"$f":"SUMPRODUCT((Teams1=U66)*(Teams1_Score))+SUMPRODUCT((Teams2=U66)*(Teams2_Score))","v":2},{"$f":"SUMPRODUCT((Teams1=U66)*(Teams2_Score))+SUMPRODUCT((Teams2=U66)*(Teams1_Score))","v":6},{"$f":"Z66-AA66","v":-4},{"$f":"3*W66+X66","v":3}]
[null,{"$f":"IF(COUNTIF($T$9:$T$12,1)>1,IF(ROWS($1:3)<=COUNTIF($T$9:$T$12,1),INDEX($U$9:$U$12,SMALL(IF($T$9:$T$12=1,ROW(INDIRECT(\"1:\"&ROWS($T$9:$T$12)))),ROWS($1:3))),\"\"),IF(COUNTIF($T$9:$T$12,2)>1,IF(ROWS($1:3)<=COUNTIF($T$9:$T$12,2),INDEX($U$9:$U$12,SMALL(IF($T$9:$T$12=2,ROW(INDIRECT(\"1:\"&ROWS($T$9:$T$12)))),ROWS($1:3))),\"\")))","v":false},null,null,null,null,null,null,null,null,null,null,null,null,null,null,"B_2",{"$f":"TEXT(S67,\"00000\")&U67","v":"-00890RI Iran"},{"$f":"AC67*1000+AB67*100+Z67*10","v":-890},{"$f":"RANK(S67,$S66:$S70,0)","v":4},{"$f":"VLOOKUP(Q67,TABLEAU_TEAMS[#All],2,FALSE)","v":"RI Iran"},{"$f":"SUMPRODUCT((Teams1=U67)*(Teams1_Score<>\"\"))+SUMPRODUCT((Teams2=U67)*(Teams2_Score<>\"\"))","v":3},{"$f":"SUMPRODUCT((Teams1=U67)*(Teams1_Score>Teams2_Score))+SUMPRODUCT((Teams2=U67)*(Teams2_Score>Teams1_Score))","v":0},{"$f":"SUMPRODUCT((Teams1=U67)*(Teams1_Score=Teams2_Score)*(Teams1_Score<>\"\"))+SUMPRODUCT((Teams2=U67)*(Teams2_Score=Teams1_Score)*(Teams2_Score<>\"\"))","v":0},{"$f":"SUMPRODUCT((Teams1=U67)*(Teams1_Score<Teams2_Score))+SUMPRODUCT((Teams2=U67)*(Teams2_Score<Teams1_Score))","v":3},{"$f":"SUMPRODUCT((Teams1=U67)*(Teams1_Score))+SUMPRODUCT((Teams2=U67)*(Teams2_Score))","v":1},{"$f":"SUMPRODUCT((Teams1=U67)*(Teams2_Score))+SUMPRODUCT((Teams2=U67)*(Teams1_Score))","v":10},{"$f":"Z67-AA67","v":-9},{"$f":"3*W67+X67","v":0}]
[null,{"$f":"IF(COUNTIF($T$9:$T$12,1)>1,IF(ROWS($1:4)<=COUNTIF($T$9:$T$12,1),INDEX($U$9:$U$12,SMALL(IF($T$9:$T$12=1,ROW(INDIRECT(\"1:\"&ROWS($T$9:$T$12)))),ROWS($1:4))),\"\"),IF(COUNTIF($T$9:$T$12,2)>1,IF(ROWS($1:4)<=COUNTIF($T$9:$T$12,2),INDEX($U$9:$U$12,SMALL(IF($T$9:$T$12=2,ROW(INDIRECT(\"1:\"&ROWS($T$9:$T$12)))),ROWS($1:4))),\"\")))","v":false},null,null,null,null,null,null,null,null,null,null,null,null,null,null,"B_3",{"$f":"TEXT(S68,\"00000\")&U68","v":"06590Portugal"},{"$f":"AC68*1000+AB68*100+Z68*10","v":6590},{"$f":"RANK(S68,$S66:$S70,0)","v":2},{"$f":"VLOOKUP(Q68,TABLEAU_TEAMS[#All],2,FALSE)","v":"Portugal"},{"$f":"SUMPRODUCT((Teams1=U68)*(Teams1_Score<>\"\"))+SUMPRODUCT((Teams2=U68)*(Teams2_Score<>\"\"))","v":3},{"$f":"SUMPRODUCT((Teams1=U68)*(Teams1_Score>Teams2_Score))+SUMPRODUCT((Teams2=U68)*(Teams2_Score>Teams1_Score))","v":2},{"$f":"SUMPRODUCT((Teams1=U68)*(Teams1_Score=Teams2_Score)*(Teams1_Score<>\"\"))+SUMPRODUCT((Teams2=U68)*(Teams2_Score=Teams1_Score)*(Teams2_Score<>\"\"))","v":0},{"$f":"SUMPRODUCT((Teams1=U68)*(Teams1_Score<Teams2_Score))+SUMPRODUCT((Teams2=U68)*(Teams2_Score<Teams1_Score))","v":1},{"$f":"SUMPRODUCT((Teams1=U68)*(Teams1_Score))+SUMPRODUCT((Teams2=U68)*(Teams2_Score))","v":9},{"$f":"SUMPRODUCT((Teams1=U68)*(Teams2_Score))+SUMPRODUCT((Teams2=U68)*(Teams1_Score))","v":4},{"$f":"Z68-AA68","v":5},{"$f":"3*W68+X68","v":6}]
[null,"Tirage au sort B1",null,null,null,null,null,null,null,null,null,null,null,null,null,null,"B_4",{"$f":"TEXT(S69,\"00000\")&U69","v":"09900Espagne"},{"$f":"AC69*1000+AB69*100+Z69*10","v":9900},{"$f":"RANK(S69,$S66:$S70,0)","v":1},{"$f":"VLOOKUP(Q69,TABLEAU_TEAMS[#All],2,FALSE)","v":"Espagne"},{"$f":"SUMPRODUCT((Teams1=U69)*(Teams1_Score<>\"\"))+SUMPRODUCT((Teams2=U69)*(Teams2_Score<>\"\"))","v":3},{"$f":"SUMPRODUCT((Teams1=U69)*(Teams1_Score>Teams2_Score))+SUMPRODUCT((Teams2=U69)*(Teams2_Score>Teams1_Score))","v":3},{"$f":"SUMPRODUCT((Teams1=U69)*(Teams1_Score=Teams2_Score)*(Teams1_Score<>\"\"))+SUMPRODUCT((Teams2=U69)*(Teams2_Score=Teams1_Score)*(Teams2_Score<>\"\"))","v":0},{"$f":"SUMPRODUCT((Teams1=U69)*(Teams1_Score<Teams2_Score))+SUMPRODUCT((Teams2=U69)*(Teams2_Score<Teams1_Score))","v":0},{"$f":"SUMPRODUCT((Teams1=U69)*(Teams1_Score))+SUMPRODUCT((Teams2=U69)*(Teams2_Score))","v":10},{"$f":"SUMPRODUCT((Teams1=U69)*(Teams2_Score))+SUMPRODUCT((Teams2=U69)*(Teams1_Score))","v":2},{"$f":"Z69-AA69","v":8},{"$f":"3*W69+X69","v":9}]
[null,{"$f":"IF(ROWS($1:1)<=COUNTIF($T$15:$T$18,1),INDEX($U$15:$U$18,SMALL(IF($T$15:$T$18=1,ROW(INDIRECT(\"1:\"&ROWS($T$15:$T$18)))),ROWS($1:1))),\"\")","v":"Espagne"}]
[null,{"$f":"IF(ROWS($1:2)<=COUNTIF($T$15:$T$18,1),INDEX($U$15:$U$18,SMALL(IF($T$15:$T$18=1,ROW(INDIRECT(\"1:\"&ROWS($T$15:$T$18)))),ROWS($1:2))),\"\")","v":""},null,null,null,null,null,null,null,null,null,null,null,null,null,null,null,null,null,"Rg","Groupe C","MJ","G","N","P","BP","BC","Pts","Pts"]
[null,{"$f":"IF(ROWS($1:3)<=COUNTIF($T$15:$T$18,1),INDEX($U$15:$U$18,SMALL(IF($T$15:$T$18=1,ROW(INDIRECT(\"1:\"&ROWS($T$15:$T$18)))),ROWS($1:3))),\"\")","v":""},null,null,null,null,null,null,null,null,null,null,null,null,null,null,"C_1",{"$f":"TEXT(S72,\"00000\")&U72","v":"09570France"},{"$f":"AC72*1000+AB72*100+Z72*10","v":9570},{"$f":"RANK(S72,$S72:$S76,0)","v":1},{"$f":"VLOOKUP(Q72,TABLEAU_TEAMS[#All],2,FALSE)","v":"France"},{"$f":"SUMPRODUCT((Teams1=U72)*(Teams1_Score<>\"\"))+SUMPRODUCT((Teams2=U72)*(Teams2_Score<>\"\"))","v":3},{"$f":"SUMPRODUCT((Teams1=U72)*(Teams1_Score>Teams2_Score))+SUMPRODUCT((Teams2=U72)*(Teams2_Score>Teams1_Score))","v":3},{"$f":"SUMPRODUCT((Teams1=U72)*(Teams1_Score=Teams2_Score)*(Teams1_Score<>\"\"))+SUMPRODUCT((Teams2=U72)*(Teams2_Score=Teams1_Score)*(Teams2_Score<>\"\"))","v":0},{"$f":"SUMPRODUCT((Teams1=U72)*(Teams1_Score<Teams2_Score))+SUMPRODUCT((Teams2=U72)*(Teams2_Score<Teams1_Score))","v":0},{"$f":"SUMPRODUCT((Teams1=U72)*(Teams1_Score))+SUMPRODUCT((Teams2=U72)*(Teams2_Score))","v":7},{"$f":"SUMPRODUCT((Teams1=U72)*(Teams2_Score))+SUMPRODUCT((Teams2=U72)*(Teams1_Score))","v":2},{"$f":"Z72-AA72","v":5},{"$f":"3*W72+X72","v":9}]
[null,{"$f":"IF(ROWS($1:4)<=COUNTIF($T$15:$T$18,1),INDEX($U$15:$U$18,SMALL(IF($T$15:$T$18=1,ROW(INDIRECT(\"1:\"&ROWS($T$15:$T$18)))),ROWS($1:4))),\"\")","v":""},null,null,null,null,null,null,null,null,null,null,null,null,null,null,"C_2",{"$f":"TEXT(S73,\"00000\")&U73","v":"-00480Australie"},{"$f":"AC73*1000+AB73*100+Z73*10","v":-480},{"$f":"RANK(S73,$S72:$S76,0)","v":4},{"$f":"VLOOKUP(Q73,TABLEAU_TEAMS[#All],2,FALSE)","v":"Australie"},{"$f":"SUMPRODUCT((Teams1=U73)*(Teams1_Score<>\"\"))+SUMPRODUCT((Teams2=U73)*(Teams2_Score<>\"\"))","v":3},{"$f":"SUMPRODUCT((Teams1=U73)*(Teams1_Score>Teams2_Score))+SUMPRODUCT((Teams2=U73)*(Teams2_Score>Teams1_Score))","v":0},{"$f":"SUMPRODUCT((Teams1=U73)*(Teams1_Score=Teams2_Score)*(Teams1_Score<>\"\"))+SUMPRODUCT((Teams2=U73)*(Teams2_Score=Teams1_Score)*(Teams2_Score<>\"\"))","v":0},{"$f":"SUMPRODUCT((Teams1=U73)*(Teams1_Score<Teams2_Score))+SUMPRODUCT((Teams2=U73)*(Teams2_Score<Teams1_Score))","v":3},{"$f":"SUMPRODUCT((Teams1=U73)*(Teams1_Score))+SUMPRODUCT((Teams2=U73)*(Teams2_Score))","v":2},{"$f":"SUMPRODUCT((Teams1=U73)*(Teams2_Score))+SUMPRODUCT((Teams2=U73)*(Teams1_Score))","v":7},{"$f":"Z73-AA73","v":-5},{"$f":"3*W73+X73","v":0}]
[null,"Tirage au sort B2",null,null,null,null,null,null,null,null,null,null,null,null,null,null,"C_3",{"$f":"TEXT(S74,\"00000\")&U74","v":"06260Pérou"},{"$f":"AC74*1000+AB74*100+Z74*10","v":6260},{"$f":"RANK(S74,$S72:$S76,0)","v":2},{"$f":"VLOOKUP(Q74,TABLEAU_TEAMS[#All],2,FALSE)","v":"Pérou"},{"$f":"SUMPRODUCT((Teams1=U74)*(Teams1_Score<>\"\"))+SUMPRODUCT((Teams2=U74)*(Teams2_Score<>\"\"))","v":3},{"$f":"SUMPRODUCT((Teams1=U74)*(Teams1_Score>Teams2_Score))+SUMPRODUCT((Teams2=U74)*(Teams2_Score>Teams1_Score))","v":2},{"$f":"SUMPRODUCT((Teams1=U74)*(Teams1_Score=Teams2_Score)*(Teams1_Score<>\"\"))+SUMPRODUCT((Teams2=U74)*(Teams2_Score=Teams1_Score)*(Teams2_Score<>\"\"))","v":0},{"$f":"SUMPRODUCT((Teams1=U74)*(Teams1_Score<Teams2_Score))+SUMPRODUCT((Teams2=U74)*(Teams2_Score<Teams1_Score))","v":1},{"$f":"SUMPRODUCT((Teams1=U74)*(Teams1_Score))+SUMPRODUCT((Teams2=U74)*(Teams2_Score))","v":6},{"$f":"SUMPRODUCT((Teams1=U74)*(Teams2_Score))+SUMPRODUCT((Teams2=U74)*(Teams1_Score))","v":4},{"$f":"Z74-AA74","v":2},{"$f":"3*W74+X74","v":6}]
[null,{"$f":"IF(COUNTIF($T$15:$T$18,1)>1,IF(ROWS($1:1)<=COUNTIF($T$15:$T$18,1),INDEX($U$15:$U$18,SMALL(IF($T$15:$T$18=1,ROW(INDIRECT(\"1:\"&ROWS($T$15:$T$18)))),ROWS($1:1))),\"\"),IF(COUNTIF($T$15:$T$18,2)>1,IF(ROWS($1:1)<=COUNTIF($T$15:$T$18,2),INDEX($U$15:$U$18,SMALL(IF($T$15:$T$18=2,ROW(INDIRECT(\"1:\"&ROWS($T$15:$T$18)))),ROWS($1:1))),\"\")))","v":false},null,null,null,null,null,null,null,null,null,null,null,null,null,null,"C_4",{"$f":"TEXT(S75,\"00000\")&U75","v":"02830Danemark"},{"$f":"AC75*1000+AB75*100+Z75*10","v":2830},{"$f":"RANK(S75,$S72:$S76,0)","v":3},{"$f":"VLOOKUP(Q75,TABLEAU_TEAMS[#All],2,FALSE)","v":"Danemark"},{"$f":"SUMPRODUCT((Teams1=U75)*(Teams1_Score<>\"\"))+SUMPRODUCT((Teams2=U75)*(Teams2_Score<>\"\"))","v":3},{"$f":"SUMPRODUCT((Teams1=U75)*(Teams1_Score>Teams2_Score))+SUMPRODUCT((Teams2=U75)*(Teams2_Score>Teams1_Score))","v":1},{"$f":"SUMPRODUCT((Teams1=U75)*(Teams1_Score=Teams2_Score)*(Teams1_Score<>\"\"))+SUMPRODUCT((Teams2=U75)*(Teams2_Score=Teams1_Score)*(Teams2_Score<>\"\"))","v":0},{"$f":"SUMPRODUCT((Teams1=U75)*(Teams1_Score<Teams2_Score))+SUMPRODUCT((Teams2=U75)*(Teams2_Score<Teams1_Score))","v":2},{"$f":"SUMPRODUCT((Teams1=U75)*(Teams1_Score))+SUMPRODUCT((Teams2=U75)*(Teams2_Score))","v":3},{"$f":"SUMPRODUCT((Teams1=U75)*(Teams2_Score))+SUMPRODUCT((Teams2=U75)*(Teams1_Score))","v":5},{"$f":"Z75-AA75","v":-2},{"$f":"3*W75+X75","v":3}]
[null,{"$f":"IF(COUNTIF($T$15:$T$18,1)>1,IF(ROWS($1:2)<=COUNTIF($T$15:$T$18,1),INDEX($U$15:$U$18,SMALL(IF($T$15:$T$18=1,ROW(INDIRECT(\"1:\"&ROWS($T$15:$T$18)))),ROWS($1:2))),\"\"),IF(COUNTIF($T$15:$T$18,2)>1,IF(ROWS($1:2)<=COUNTIF($T$15:$T$18,2),INDEX($U$15:$U$18,SMALL(IF($T$15:$T$18=2,ROW(INDIRECT(\"1:\"&ROWS($T$15:$T$18)))),ROWS($1:2))),\"\")))","v":false}]
[null,{"$f":"IF(COUNTIF($T$15:$T$18,1)>1,IF(ROWS($1:3)<=COUNTIF($T$15:$T$18,1),INDEX($U$15:$U$18,SMALL(IF($T$15:$T$18=1,ROW(INDIRECT(\"1:\"&ROWS($T$15:$T$18)))),ROWS($1:3))),\"\"),IF(COUNTIF($T$15:$T$18,2)>1,IF(ROWS($1:3)<=COUNTIF($T$15:$T$18,2),INDEX($U$15:$U$18,SMALL(IF($T$15:$T$18=2,ROW(INDIRECT(\"1:\"&ROWS($T$15:$T$18)))),ROWS($1:3))),\"\")))","v":false},null,null,null,null,null,null,null,null,null,null,null,null,null,null,null,null,null,"Rg","Groupe D","MJ","G","N","P","BP","BC","Pts","Pts"]
[null,{"$f":"IF(COUNTIF($T$15:$T$18,1)>1,IF(ROWS($1:4)<=COUNTIF($T$15:$T$18,1),INDEX($U$15:$U$18,SMALL(IF($T$15:$T$18=1,ROW(INDIRECT(\"1:\"&ROWS($T$15:$T$18)))),ROWS($1:4))),\"\"),IF(COUNTIF($T$15:$T$18,2)>1,IF(ROWS($1:4)<=COUNTIF($T$15:$T$18,2),INDEX($U$15:$U$18,SMALL(IF($T$15:$T$18=2,ROW(INDIRECT(\"1:\"&ROWS($T$15:$T$18)))),ROWS($1:4))),\"\")))","v":false},null,null,null,null,null,null,null,null,null,null,null,null,null,null,"D_1",{"$f":"TEXT(S78,\"00000\")&U78","v":"07810Argentine"},{"$f":"AC78*1000+AB78*100+Z78*10","v":7810},{"$f":"RANK(S78,$S78:$S82,0)","v":1},{"$f":"VLOOKUP(Q78,TABLEAU_TEAMS[#All],2,FALSE)","v":"Argentine"},{"$f":"SUMPRODUCT((Teams1=U78)*(Teams1_Score<>\"\"))+SUMPRODUCT((Teams2=U78)*(Teams2_Score<>\"\"))","v":3},{"$f":"SUMPRODUCT((Teams1=U78)*(Teams1_Score>Teams2_Score))+SUMPRODUCT((Teams2=U78)*(Teams2_Score>Teams1_Score))","v":2},{"$f":"SUMPRODUCT((Teams1=U78)*(Teams1_Score=Teams2_Score)*(Teams1_Score<>\"\"))+SUMPRODUCT((Teams2=U78)*(Teams2_Score=Teams1_Score)*(Teams2_Score<>\"\"))","v":1},{"$f":"SUMPRODUCT((Teams1=U78)*(Teams1_Score<Teams2_Score))+SUMPRODUCT((Teams2=U78)*(Teams2_Score<Teams1_Score))","v":0},{"$f":"SUMPRODUCT((Teams1=U78)*(Teams1_Score))+SUMPRODUCT((Teams2=U78)*(Teams2_Score))","v":11},{"$f":"SUMPRODUCT((Teams1=U78)*(Teams2_Score))+SUMPRODUCT((Teams2=U78)*(Teams1_Score))","v":4},{"$f":"Z78-AA78","v":7},{"$f":"3*W78+X78","v":7}]
[null,"Tirage au sort C1",null,null,null,null,null,null,null,null,null,null,null,null,null,null,"D_2",{"$f":"TEXT(S79,\"00000\")&U79","v":"-00580Islande"},{"$f":"AC79*1000+AB79*100+Z79*10","v":-580},{"$f":"RANK(S79,$S78:$S82,0)","v":4},{"$f":"VLOOKUP(Q79,TABLEAU_TEAMS[#All],2,FALSE)","v":"Islande"},{"$f":"SUMPRODUCT((Teams1=U79)*(Teams1_Score<>\"\"))+SUMPRODUCT((Teams2=U79)*(Teams2_Score<>\"\"))","v":3},{"$f":"SUMPRODUCT((Teams1=U79)*(Teams1_Score>Teams2_Score))+SUMPRODUCT((Teams2=U79)*(Teams2_Score>Teams1_Score))","v":0},{"$f":"SUMPRODUCT((Teams1=U79)*(Teams1_Score=Teams2_Score)*(Teams1_Score<>\"\"))+SUMPRODUCT((Teams2=U79)*(Teams2_Score=Teams1_Score)*(Teams2_Score<>\"\"))","v":0},{"$f":"SUMPRODUCT((Teams1=U79)*(Teams1_Score<Teams2_Score))+SUMPRODUCT((Teams2=U79)*(Teams2_Score<Teams1_Score))","v":3},{"$f":"SUMPRODUCT((Teams1=U79)*(Teams1_Score))+SUMPRODUCT((Teams2=U79)*(Teams2_Score))","v":2},{"$f":"SUMPRODUCT((Teams1=U79)*(Teams2_Score))+SUMPRODUCT((Teams2=U79)*(Teams1_Score))","v":8},{"$f":"Z79-AA79","v":-6},{"$f":"3*W79+X79","v":0}]
[null,{"$f":"IF(ROWS($1:1)<=COUNTIF($T$21:$T$24,1),INDEX($U$21:$U$24,SMALL(IF($T$21:$T$24=1,ROW(INDIRECT(\"1:\"&ROWS($T$21:$T$24)))),ROWS($1:1))),\"\")","v":"France"},null,null,null,null,null,null,null,null,null,null,null,null,null,null,"D_3",{"$f":"TEXT(S80,\"00000\")&U80","v":"07270Croatie"},{"$f":"AC80*1000+AB80*100+Z80*10","v":7270},{"$f":"RANK(S80,$S78:$S82,0)","v":2},{"$f":"VLOOKUP(Q80,TABLEAU_TEAMS[#All],2,FALSE)","v":"Croatie"},{"$f":"SUMPRODUCT((Teams1=U80)*(Teams1_Score<>\"\"))+SUMPRODUCT((Teams2=U80)*(Teams2_Score<>\"\"))","v":3},{"$f":"SUMPRODUCT((Teams1=U80)*(Teams1_Score>Teams2_Score))+SUMPRODUCT((Teams2=U80)*(Teams2_Score>Teams1_Score))","v":2},{"$f":"SUMPRODUCT((Teams1=U80)*(Teams1_Score=Teams2_Score)*(Teams1_Score<>\"\"))+SUMPRODUCT((Teams2=U80)*(Teams2_Score=Teams1_Score)*(Teams2_Score<>\"\"))","v":1},{"$f":"SUMPRODUCT((Teams1=U80)*(Teams1_Score<Teams2_Score))+SUMPRODUCT((Teams2=U80)*(Teams2_Score<Teams1_Score))","v":0},{"$f":"SUMPRODUCT((Teams1=U80)*(Teams1_Score))+SUMPRODUCT((Teams2=U80)*(Teams2_Score))","v":7},{"$f":"SUMPRODUCT((Teams1=U80)*(Teams2_Score))+SUMPRODUCT((Teams2=U80)*(Teams1_Score))","v":5},{"$f":"Z80-AA80","v":2},{"$f":"3*W80+X80","v":7}]
[null,{"$f":"IF(ROWS($1:2)<=COUNTIF($T$21:$T$24,1),INDEX($U$21:$U$24,SMALL(IF($T$21:$T$24=1,ROW(INDIRECT(\"1:\"&ROWS($T$21:$T$24)))),ROWS($1:2))),\"\")","v":""},null,null,null,null,null,null,null,null,null,null,null,null,null,null,"D_4",{"$f":"TEXT(S81,\"00000\")&U81","v":"02740Nigeria"},{"$f":"AC81*1000+AB81*100+Z81*10","v":2740},{"$f":"RANK(S81,$S78:$S82,0)","v":3},{"$f":"VLOOKUP(Q81,TABLEAU_TEAMS[#All],2,FALSE)","v":"Nigeria"},{"$f":"SUMPRODUCT((Teams1=U81)*(Teams1_Score<>\"\"))+SUMPRODUCT((Teams2=U81)*(Teams2_Score<>\"\"))","v":3},{"$f":"SUMPRODUCT((Teams1=U81)*(Teams1_Score>Teams2_Score))+SUMPRODUCT((Teams2=U81)*(Teams2_Score>Teams1_Score))","v":1},{"$f":"SUMPRODUCT((Teams1=U81)*(Teams1_Score=Teams2_Score)*(Teams1_Score<>\"\"))+SUMPRODUCT((Teams2=U81)*(Teams2_Score=Teams1_Score)*(Teams2_Score<>\"\"))","v":0},{"$f":"SUMPRODUCT((Teams1=U81)*(Teams1_Score<Teams2_Score))+SUMPRODUCT((Teams2=U81)*(Teams2_Score<Teams1_Score))","v":2},{"$f":"SUMPRODUCT((Teams1=U81)*(Teams1_Score))+SUMPRODUCT((Teams2=U81)*(Teams2_Score))","v":4},{"$f":"SUMPRODUCT((Teams1=U81)*(Teams2_Score))+SUMPRODUCT((Teams2=U81)*(Teams1_Score))","v":7},{"$f":"Z81-AA81","v":-3},{"$f":"3*W81+X81","v":3}]
[null,{"$f":"IF(ROWS($1:3)<=COUNTIF($T$21:$T$24,1),INDEX($U$21:$U$24,SMALL(IF($T$21:$T$24=1,ROW(INDIRECT(\"1:\"&ROWS($T$21:$T$24)))),ROWS($1:3))),\"\")","v":""}]
[null,{"$f":"IF(ROWS($1:4)<=COUNTIF($T$21:$T$24,1),INDEX($U$21:$U$24,SMALL(IF($T$21:$T$24=1,ROW(INDIRECT(\"1:\"&ROWS($T$21:$T$24)))),ROWS($1:4))),\"\")","v":""},null,null,null,null,null,null,null,null,null,null,null,null,null,null,null,null,null,"Rg","Groupe E","MJ","G","N","P","BP","BC","Pts","Pts"]
[null,"Tirage au sort C2",null,null,null,null,null,null,null,null,null,null,null,null,null,null,"E_1",{"$f":"TEXT(S84,\"00000\")&U84","v":"04060Costa Rica"},{"$f":"AC84*1000+AB84*100+Z84*10","v":4060},{"$f":"RANK(S84,$S84:$S88,0)","v":2},{"$f":"VLOOKUP(Q84,TABLEAU_TEAMS[#All],2,FALSE)","v":"Costa Rica"},{"$f":"SUMPRODUCT((Teams1=U84)*(Teams1_Score<>\"\"))+SUMPRODUCT((Teams2=U84)*(Teams2_Score<>\"\"))","v":3},{"$f":"SUMPRODUCT((Teams1=U84)*(Teams1_Score>Teams2_Score))+SUMPRODUCT((Teams2=U84)*(Teams2_Score>Teams1_Score))","v":1},{"$f":"SUMPRODUCT((Teams1=U84)*(Teams1_Score=Teams2_Score)*(Teams1_Score<>\"\"))+SUMPRODUCT((Teams2=U84)*(Teams2_Score=Teams1_Score)*(Teams2_Score<>\"\"))","v":1},{"$f":"SUMPRODUCT((Teams1=U84)*(Teams1_Score<Teams2_Score))+SUMPRODUCT((Teams2=U84)*(Teams2_Score<Teams1_Score))","v":1},{"$f":"SUMPRODUCT((Teams1=U84)*(Teams1_Score))+SUMPRODUCT((Teams2=U84)*(Teams2_Score))","v":6},{"$f":"SUMPRODUCT((Teams1=U84)*(Teams2_Score))+SUMPRODUCT((Teams2=U84)*(Teams1_Score))","v":6},{"$f":"Z84-AA84","v":0},{"$f":"3*W84+X84","v":4}]
[null,{"$f":"IF(COUNTIF($T$21:$T$24,1)>1,IF(ROWS($1:1)<=COUNTIF($T$21:$T$24,1),INDEX($U$21:$U$24,SMALL(IF($T$21:$T$24=1,ROW(INDIRECT(\"1:\"&ROWS($T$21:$T$24)))),ROWS($1:1))),\"\"),IF(COUNTIF($T$21:$T$24,2)>1,IF(ROWS($1:1)<=COUNTIF($T$21:$T$24,2),INDEX($U$21:$U$24,SMALL(IF($T$21:$T$24=2,ROW(INDIRECT(\"1:\"&ROWS($T$21:$T$24)))),ROWS($1:1))),\"\")))","v":false},null,null,null,null,null,null,null,null,null,null,null,null,null,null,"E_2",{"$f":"TEXT(S85,\"00000\")&U85","v":"-00370Serbie"},{"$f":"AC85*1000+AB85*100+Z85*10","v":-370},{"$f":"RANK(S85,$S84:$S88,0)","v":4},{"$f":"VLOOKUP(Q85,TABLEAU_TEAMS[#All],2,FALSE)","v":"Serbie"},{"$f":"SUMPRODUCT((Teams1=U85)*(Teams1_Score<>\"\"))+SUMPRODUCT((Teams2=U85)*(Teams2_Score<>\"\"))","v":3},{"$f":"SUMPRODUCT((Teams1=U85)*(Teams1_Score>Teams2_Score))+SUMPRODUCT((Teams2=U85)*(Teams2_Score>Teams1_Score))","v":0},{"$f":"SUMPRODUCT((Teams1=U85)*(Teams1_Score=Teams2_Score)*(Teams1_Score<>\"\"))+SUMPRODUCT((Teams2=U85)*(Teams2_Score=Teams1_Score)*(Teams2_Score<>\"\"))","v":0},{"$f":"SUMPRODUCT((Teams1=U85)*(Teams1_Score<Teams2_Score))+SUMPRODUCT((Teams2=U85)*(Teams2_Score<Teams1_Score))","v":3},{"$f":"SUMPRODUCT((Teams1=U85)*(Teams1_Score))+SUMPRODUCT((Teams2=U85)*(Teams2_Score))","v":3},{"$f":"SUMPRODUCT((Teams1=U85)*(Teams2_Score))+SUMPRODUCT((Teams2=U85)*(Teams1_Score))","v":7},{"$f":"Z85-AA85","v":-4},{"$f":"3*W85+X85","v":0}]
[null,{"$f":"IF(COUNTIF($T$21:$T$24,1)>1,IF(ROWS($1:2)<=COUNTIF($T$21:$T$24,1),INDEX($U$21:$U$24,SMALL(IF($T$21:$T$24=1,ROW(INDIRECT(\"1:\"&ROWS($T$21:$T$24)))),ROWS($1:2))),\"\"),IF(COUNTIF($T$21:$T$24,2)>1,IF(ROWS($1:2)<=COUNTIF($T$21:$T$24,2),INDEX($U$21:$U$24,SMALL(IF($T$21:$T$24=2,ROW(INDIRECT(\"1:\"&ROWS($T$21:$T$24)))),ROWS($1:2))),\"\")))","v":false},null,null,null,null,null,null,null,null,null,null,null,null,null,null,"E_3",{"$f":"TEXT(S86,\"00000\")&U86","v":"09590Brésil"},{"$f":"AC86*1000+AB86*100+Z86*10","v":9590},{"$f":"RANK(S86,$S84:$S88,0)","v":1},{"$f":"VLOOKUP(Q86,TABLEAU_TEAMS[#All],2,FALSE)","v":"Brésil"},{"$f":"SUMPRODUCT((Teams1=U86)*(Teams1_Score<>\"\"))+SUMPRODUCT((Teams2=U86)*(Teams2_Score<>\"\"))","v":3},{"$f":"SUMPRODUCT((Teams1=U86)*(Teams1_Score>Teams2_Score))+SUMPRODUCT((Teams2=U86)*(Teams2_Score>Teams1_Score))","v":3},{"$f":"SUMPRODUCT((Teams1=U86)*(Teams1_Score=Teams2_Score)*(Teams1_Score<>\"\"))+SUMPRODUCT((Teams2=U86)*(Teams2_Score=Teams1_Score)*(Teams2_Score<>\"\"))","v":0},{"$f":"SUMPRODUCT((Teams1=U86)*(Teams1_Score<Teams2_Score))+SUMPRODUCT((Teams2=U86)*(Teams2_Score<Teams1_Score))","v":0},{"$f":"SUMPRODUCT((Teams1=U86)*(Teams1_Score))+SUMPRODUCT((Teams2=U86)*(Teams2_Score))","v":9},{"$f":"SUMPRODUCT((Teams1=U86)*(Teams2_Score))+SUMPRODUCT((Teams2=U86)*(Teams1_Score))","v":4},{"$f":"Z86-AA86","v":5},{"$f":"3*W86+X86","v":9}]
[null,{"$f":"IF(COUNTIF($T$21:$T$24,1)>1,IF(ROWS($1:3)<=COUNTIF($T$21:$T$24,1),INDEX($U$21:$U$24,SMALL(IF($T$21:$T$24=1,ROW(INDIRECT(\"1:\"&ROWS($T$21:$T$24)))),ROWS($1:3))),\"\"),IF(COUNTIF($T$21:$T$24,2)>1,IF(ROWS($1:3)<=COUNTIF($T$21:$T$24,2),INDEX($U$21:$U$24,SMALL(IF($T$21:$T$24=2,ROW(INDIRECT(\"1:\"&ROWS($T$21:$T$24)))),ROWS($1:3))),\"\")))","v":false},null,null,null,null,null,null,null,null,null,null,null,null,null,null,"E_4",{"$f":"TEXT(S87,\"00000\")&U87","v":"03950Suisse"},{"$f":"AC87*1000+AB87*100+Z87*10","v":3950},{"$f":"RANK(S87,$S84:$S88,0)","v":3},{"$f":"VLOOKUP(Q87,TABLEAU_TEAMS[#All],2,FALSE)","v":"Suisse"},{"$f":"SUMPRODUCT((Teams1=U87)*(Teams1_Score<>\"\"))+SUMPRODUCT((Teams2=U87)*(Teams2_Score<>\"\"))","v":3},{"$f":"SUMPRODUCT((Teams1=U87)*(Teams1_Score>Teams2_Score))+SUMPRODUCT((Teams2=U87)*(Teams2_Score>Teams1_Score))","v":1},{"$f":"SUMPRODUCT((Teams1=U87)*(Teams1_Score=Teams2_Score)*(Teams1_Score<>\"\"))+SUMPRODUCT((Teams2=U87)*(Teams2_Score=Teams1_Score)*(Teams2_Score<>\"\"))","v":1},{"$f":"SUMPRODUCT((Teams1=U87)*(Teams1_Score<Teams2_Score))+SUMPRODUCT((Teams2=U87)*(Teams2_Score<Teams1_Score))","v":1},{"$f":"SUMPRODUCT((Teams1=U87)*(Teams1_Score))+SUMPRODUCT((Teams2=U87)*(Teams2_Score))","v":5},{"$f":"SUMPRODUCT((Teams1=U87)*(Teams2_Score))+SUMPRODUCT((Teams2=U87)*(Teams1_Score))","v":6},{"$f":"Z87-AA87","v":-1},{"$f":"3*W87+X87","v":4}]
[null,{"$f":"IF(COUNTIF($T$21:$T$24,1)>1,IF(ROWS($1:4)<=COUNTIF($T$21:$T$24,1),INDEX($U$21:$U$24,SMALL(IF($T$21:$T$24=1,ROW(INDIRECT(\"1:\"&ROWS($T$21:$T$24)))),ROWS($1:4))),\"\"),IF(COUNTIF($T$21:$T$24,2)>1,IF(ROWS($1:4)<=COUNTIF($T$21:$T$24,2),INDEX($U$21:$U$24,SMALL(IF($T$21:$T$24=2,ROW(INDIRECT(\"1:\"&ROWS($T$21:$T$24)))),ROWS($1:4))),\"\")))","v":false}]
[null,"Tirage au sort D1",null,null,null,null,null,null,null,null,null,null,null,null,null,null,null,null,null,"Rg","Groupe F","MJ","G","N","P","BP","BC","Pts","Pts"]
[null,{"$f":"IF(ROWS($1:1)<=COUNTIF($T$27:$T$30,1),INDEX($U$27:$U$30,SMALL(IF($T$27:$T$30=1,ROW(INDIRECT(\"1:\"&ROWS($T$27:$T$30)))),ROWS($1:1))),\"\")","v":"Argentine"},null,null,null,null,null,null,null,null,null,null,null,null,null,null,"F_1",{"$f":"TEXT(S90,\"00000\")&U90","v":"07600Allemagne"},{"$f":"AC90*1000+AB90*100+Z90*10","v":7600},{"$f":"RANK(S90,$S90:$S94,0)","v":1},{"$f":"VLOOKUP(Q90,TABLEAU_TEAMS[#All],2,FALSE)","v":"Allemagne"},{"$f":"SUMPRODUCT((Teams1=U90)*(Teams1_Score<>\"\"))+SUMPRODUCT((Teams2=U90)*(Teams2_Score<>\"\"))","v":3},{"$f":"SUMPRODUCT((Teams1=U90)*(Teams1_Score>Teams2_Score))+SUMPRODUCT((Teams2=U90)*(Teams2_Score>Teams1_Score))","v":2},{"$f":"SUMPRODUCT((Teams1=U90)*(Teams1_Score=Teams2_Score)*(Teams1_Score<>\"\"))+SUMPRODUCT((Teams2=U90)*(Teams2_Score=Teams1_Score)*(Teams2_Score<>\"\"))","v":1},{"$f":"SUMPRODUCT((Teams1=U90)*(Teams1_Score<Teams2_Score))+SUMPRODUCT((Teams2=U90)*(Teams2_Score<Teams1_Score))","v":0},{"$f":"SUMPRODUCT((Teams1=U90)*(Teams1_Score))+SUMPRODUCT((Teams2=U90)*(Teams2_Score))","v":10},{"$f":"SUMPRODUCT((Teams1=U90)*(Teams2_Score))+SUMPRODUCT((Teams2=U90)*(Teams1_Score))","v":5},{"$f":"Z90-AA90","v":5},{"$f":"3*W90+X90","v":7}]
[null,{"$f":"IF(ROWS($1:2)<=COUNTIF($T$27:$T$30,1),INDEX($U$27:$U$30,SMALL(IF($T$27:$T$30=1,ROW(INDIRECT(\"1:\"&ROWS($T$27:$T$30)))),ROWS($1:2))),\"\")","v":""},null,null,null,null,null,null,null,null,null,null,null,null,null,null,"F_2",{"$f":"TEXT(S91,\"00000\")&U91","v":"03080Mexique"},{"$f":"AC91*1000+AB91*100+Z91*10","v":3080},{"$f":"RANK(S91,$S90:$S94,0)","v":3},{"$f":"VLOOKUP(Q91,TABLEAU_TEAMS[#All],2,FALSE)","v":"Mexique"},{"$f":"SUMPRODUCT((Teams1=U91)*(Teams1_Score<>\"\"))+SUMPRODUCT((Teams2=U91)*(Teams2_Score<>\"\"))","v":3},{"$f":"SUMPRODUCT((Teams1=U91)*(Teams1_Score>Teams2_Score))+SUMPRODUCT((Teams2=U91)*(Teams2_Score>Teams1_Score))","v":1},{"$f":"SUMPRODUCT((Teams1=U91)*(Teams1_Score=Teams2_Score)*(Teams1_Score<>\"\"))+SUMPRODUCT((Teams2=U91)*(Teams2_Score=Teams1_Score)*(Teams2_Score<>\"\"))","v":0},{"$f":"SUMPRODUCT((Teams1=U91)*(Teams1_Score<Teams2_Score))+SUMPRODUCT((Teams2=U91)*(Teams2_Score<Teams1_Score))","v":2},{"$f":"SUMPRODUCT((Teams1=U91)*(Teams1_Score))+SUMPRODUCT((Teams2=U91)*(Teams2_Score))","v":8},{"$f":"SUMPRODUCT((Teams1=U91)*(Teams2_Score))+SUMPRODUCT((Teams2=U91)*(Teams1_Score))","v":8},{"$f":"Z91-AA91","v":0},{"$f":"3*W91+X91","v":3}]
[null,{"$f":"IF(ROWS($1:3)<=COUNTIF($T$27:$T$30,1),INDEX($U$27:$U$30,SMALL(IF($T$27:$T$30=1,ROW(INDIRECT(\"1:\"&ROWS($T$27:$T$30)))),ROWS($1:3))),\"\")","v":""},null,null,null,null,null,null,null,null,null,null,null,null,null,null,"F_3",{"$f":"TEXT(S92,\"00000\")&U92","v":"07480Suède"},{"$f":"AC92*1000+AB92*100+Z92*10","v":7480},{"$f":"RANK(S92,$S90:$S94,0)","v":2},{"$f":"VLOOKUP(Q92,TABLEAU_TEAMS[#All],2,FALSE)","v":"Suède"},{"$f":"SUMPRODUCT((Teams1=U92)*(Teams1_Score<>\"\"))+SUMPRODUCT((Teams2=U92)*(Teams2_Score<>\"\"))","v":3},{"$f":"SUMPRODUCT((Teams1=U92)*(Teams1_Score>Teams2_Score))+SUMPRODUCT((Teams2=U92)*(Teams2_Score>Teams1_Score))","v":2},{"$f":"SUMPRODUCT((Teams1=U92)*(Teams1_Score=Teams2_Score)*(Teams1_Score<>\"\"))+SUMPRODUCT((Teams2=U92)*(Teams2_Score=Teams1_Score)*(Teams2_Score<>\"\"))","v":1},{"$f":"SUMPRODUCT((Teams1=U92)*(Teams1_Score<Teams2_Score))+SUMPRODUCT((Teams2=U92)*(Teams2_Score<Teams1_Score))","v":0},{"$f":"SUMPRODUCT((Teams1=U92)*(Teams1_Score))+SUMPRODUCT((Teams2=U92)*(Teams2_Score))","v":8},{"$f":"SUMPRODUCT((Teams1=U92)*(Teams2_Score))+SUMPRODUCT((Teams2=U92)*(Teams1_Score))","v":4},{"$f":"Z92-AA92","v":4},{"$f":"3*W92+X92","v":7}]
[null,{"$f":"IF(ROWS($1:4)<=COUNTIF($T$27:$T$30,1),INDEX($U$27:$U$30,SMALL(IF($T$27:$T$30=1,ROW(INDIRECT(\"1:\"&ROWS($T$27:$T$30)))),ROWS($1:4))),\"\")","v":""},null,null,null,null,null,null,null,null,null,null,null,null,null,null,"F_4",{"$f":"TEXT(S93,\"00000\")&U93","v":"-00880République de Corée"},{"$f":"AC93*1000+AB93*100+Z93*10","v":-880},{"$f":"RANK(S93,$S90:$S94,0)","v":4},{"$f":"VLOOKUP(Q93,TABLEAU_TEAMS[#All],2,FALSE)","v":"République de Corée"},{"$f":"SUMPRODUCT((Teams1=U93)*(Teams1_Score<>\"\"))+SUMPRODUCT((Teams2=U93)*(Teams2_Score<>\"\"))","v":3},{"$f":"SUMPRODUCT((Teams1=U93)*(Teams1_Score>Teams2_Score))+SUMPRODUCT((Teams2=U93)*(Teams2_Score>Teams1_Score))","v":0},{"$f":"SUMPRODUCT((Teams1=U93)*(Teams1_Score=Teams2_Score)*(Teams1_Score<>\"\"))+SUMPRODUCT((Teams2=U93)*(Teams2_Score=Teams1_Score)*(Teams2_Score<>\"\"))","v":0},{"$f":"SUMPRODUCT((Teams1=U93)*(Teams1_Score<Teams2_Score))+SUMPRODUCT((Teams2=U93)*(Teams2_Score<Teams1_Score))","v":3},{"$f":"SUMPRODUCT((Teams1=U93)*(Teams1_Score))+SUMPRODUCT((Teams2=U93)*(Teams2_Score))","v":2},{"$f":"SUMPRODUCT((Teams1=U93)*(Teams2_Score))+SUMPRODUCT((Teams2=U93)*(Teams1_Score))","v":11},{"$f":"Z93-AA93","v":-9},{"$f":"3*W93+X93","v":0}]
[null,"Tirage au sort D2"]
[null,{"$f":"IF(COUNTIF($T$27:$T$30,1)>1,IF(ROWS($1:1)<=COUNTIF($T$27:$T$30,1),INDEX($U$27:$U$30,SMALL(IF($T$27:$T$30=1,ROW(INDIRECT(\"1:\"&ROWS($T$27:$T$30)))),ROWS($1:1))),\"\"),IF(COUNTIF($T$27:$T$30,2)>1,IF(ROWS($1:1)<=COUNTIF($T$27:$T$30,2),INDEX($U$27:$U$30,SMALL(IF($T$27:$T$30=2,ROW(INDIRECT(\"1:\"&ROWS($T$27:$T$30)))),ROWS($1:1))),\"\")))","v":false},null,null,null,null,null,null,null,null,null,null,null,null,null,null,null,null,null,"Rg","Groupe G","MJ","G","N","P","BP","BC","Pts","Pts"]
[null,{"$f":"IF(COUNTIF($T$27:$T$30,1)>1,IF(ROWS($1:2)<=COUNTIF($T$27:$T$30,1),INDEX($U$27:$U$30,SMALL(IF($T$27:$T$30=1,ROW(INDIRECT(\"1:\"&ROWS($T$27:$T$30)))),ROWS($1:2))),\"\"),IF(COUNTIF($T$27:$T$30,2)>1,IF(ROWS($1:2)<=COUNTIF($T$27:$T$30,2),INDEX($U$27:$U$30,SMALL(IF($T$27:$T$30=2,ROW(INDIRECT(\"1:\"&ROWS($T$27:$T$30)))),ROWS($1:2))),\"\")))","v":false},null,null,null,null,null,null,null,null,null,null,null,null,null,null,"G_1",{"$f":"TEXT(S96,\"00000\")&U96","v":"07470Belgique"},{"$f":"AC96*1000+AB96*100+Z96*10","v":7470},{"$f":"RANK(S96,$S96:$S100,0)","v":1},{"$f":"VLOOKUP(Q96,TABLEAU_TEAMS[#All],2,FALSE)","v":"Belgique"},{"$f":"SUMPRODUCT((Teams1=U96)*(Teams1_Score<>\"\"))+SUMPRODUCT((Teams2=U96)*(Teams2_Score<>\"\"))","v":3},{"$f":"SUMPRODUCT((Teams1=U96)*(Teams1_Score>Teams2_Score))+SUMPRODUCT((Teams2=U96)*(Teams2_Score>Teams1_Score))","v":2},{"$f":"SUMPRODUCT((Teams1=U96)*(Teams1_Score=Teams2_Score)*(Teams1_Score<>\"\"))+SUMPRODUCT((Teams2=U96)*(Teams2_Score=Teams1_Score)*(Teams2_Score<>\"\"))","v":1},{"$f":"SUMPRODUCT((Teams1=U96)*(Teams1_Score<Teams2_Score))+SUMPRODUCT((Teams2=U96)*(Teams2_Score<Teams1_Score))","v":0},{"$f":"SUMPRODUCT((Teams1=U96)*(Teams1_Score))+SUMPRODUCT((Teams2=U96)*(Teams2_Score))","v":7},{"$f":"SUMPRODUCT((Teams1=U96)*(Teams2_Score))+SUMPRODUCT((Teams2=U96)*(Teams1_Score))","v":3},{"$f":"Z96-AA96","v":4},{"$f":"3*W96+X96","v":7}]
[null,{"$f":"IF(COUNTIF($T$27:$T$30,1)>1,IF(ROWS($1:3)<=COUNTIF($T$27:$T$30,1),INDEX($U$27:$U$30,SMALL(IF($T$27:$T$30=1,ROW(INDIRECT(\"1:\"&ROWS($T$27:$T$30)))),ROWS($1:3))),\"\"),IF(COUNTIF($T$27:$T$30,2)>1,IF(ROWS($1:3)<=COUNTIF($T$27:$T$30,2),INDEX($U$27:$U$30,SMALL(IF($T$27:$T$30=2,ROW(INDIRECT(\"1:\"&ROWS($T$27:$T$30)))),ROWS($1:3))),\"\")))","v":false},null,null,null,null,null,null,null,null,null,null,null,null,null,null,"G_2",{"$f":"TEXT(S97,\"00000\")&U97","v":"02940Panama"},{"$f":"AC97*1000+AB97*100+Z97*10","v":2940},{"$f":"RANK(S97,$S96:$S100,0)","v":3},{"$f":"VLOOKUP(Q97,TABLEAU_TEAMS[#All],2,FALSE)","v":"Panama"},{"$f":"SUMPRODUCT((Teams1=U97)*(Teams1_Score<>\"\"))+SUMPRODUCT((Teams2=U97)*(Teams2_Score<>\"\"))","v":3},{"$f":"SUMPRODUCT((Teams1=U97)*(Teams1_Score>Teams2_Score))+SUMPRODUCT((Teams2=U97)*(Teams2_Score>Teams1_Score))","v":1},{"$f":"SUMPRODUCT((Teams1=U97)*(Teams1_Score=Teams2_Score)*(Teams1_Score<>\"\"))+SUMPRODUCT((Teams2=U97)*(Teams2_Score=Teams1_Score)*(Teams2_Score<>\"\"))","v":0},{"$f":"SUMPRODUCT((Teams1=U97)*(Teams1_Score<Teams2_Score))+SUMPRODUCT((Teams2=U97)*(Teams2_Score<Teams1_Score))","v":2},{"$f":"SUMPRODUCT((Teams1=U97)*(Teams1_Score))+SUMPRODUCT((Teams2=U97)*(Teams2_Score))","v":4},{"$f":"SUMPRODUCT((Teams1=U97)*(Teams2_Score))+SUMPRODUCT((Teams2=U97)*(Teams1_Score))","v":5},{"$f":"Z97-AA97","v":-1},{"$f":"3*W97+X97","v":3}]
[null,{"$f":"IF(COUNTIF($T$27:$T$30,1)>1,IF(ROWS($1:4)<=COUNTIF($T$27:$T$30,1),INDEX($U$27:$U$30,SMALL(IF($T$27:$T$30=1,ROW(INDIRECT(\"1:\"&ROWS($T$27:$T$30)))),ROWS($1:4))),\"\"),IF(COUNTIF($T$27:$T$30,2)>1,IF(ROWS($1:4)<=COUNTIF($T$27:$T$30,2),INDEX($U$27:$U$30,SMALL(IF($T$27:$T$30=2,ROW(INDIRECT(\"1:\"&ROWS($T$27:$T$30)))),ROWS($1:4))),\"\")))","v":false},null,null,null,null,null,null,null,null,null,null,null,null,null,null,"G_3",{"$f":"TEXT(S98,\"00000\")&U98","v":"-00580Tunisie"},{"$f":"AC98*1000+AB98*100+Z98*10","v":-580},{"$f":"RANK(S98,$S96:$S100,0)","v":4},{"$f":"VLOOKUP(Q98,TABLEAU_TEAMS[#All],2,FALSE)","v":"Tunisie"},{"$f":"SUMPRODUCT((Teams1=U98)*(Teams1_Score<>\"\"))+SUMPRODUCT((Teams2=U98)*(Teams2_Score<>\"\"))","v":3},{"$f":"SUMPRODUCT((Teams1=U98)*(Teams1_Score>Teams2_Score))+SUMPRODUCT((Teams2=U98)*(Teams2_Score>Teams1_Score))","v":0},{"$f":"SUMPRODUCT((Teams1=U98)*(Teams1_Score=Teams2_Score)*(Teams1_Score<>\"\"))+SUMPRODUCT((Teams2=U98)*(Teams2_Score=Teams1_Score)*(Teams2_Score<>\"\"))","v":0},{"$f":"SUMPRODUCT((Teams1=U98)*(Teams1_Score<Teams2_Score))+SUMPRODUCT((Teams2=U98)*(Teams2_Score<Teams1_Score))","v":3},{"$f":"SUMPRODUCT((Teams1=U98)*(Teams1_Score))+SUMPRODUCT((Teams2=U98)*(Teams2_Score))","v":2},{"$f":"SUMPRODUCT((Teams1=U98)*(Teams2_Score))+SUMPRODUCT((Teams2=U98)*(Teams1_Score))","v":8},{"$f":"Z98-AA98","v":-6},{"$f":"3*W98+X98","v":0}]
[null,"Tirage au sort E1",null,null,null,null,null,null,null,null,null,null,null,null,null,null,"G_4",{"$f":"TEXT(S99,\"00000\")&U99","v":"07370Angleterre"},{"$f":"AC99*1000+AB99*100+Z99*10","v":7370},{"$f":"RANK(S99,$S96:$S100,0)","v":2},{"$f":"VLOOKUP(Q99,TABLEAU_TEAMS[#All],2,FALSE)","v":"Angleterre"},{"$f":"SUMPRODUCT((Teams1=U99)*(Teams1_Score<>\"\"))+SUMPRODUCT((Teams2=U99)*(Teams2_Score<>\"\"))","v":3},{"$f":"SUMPRODUCT((Teams1=U99)*(Teams1_Score>Teams2_Score))+SUMPRODUCT((Teams2=U99)*(Teams2_Score>Teams1_Score))","v":2},{"$f":"SUMPRODUCT((Teams1=U99)*(Teams1_Score=Teams2_Score)*(Teams1_Score<>\"\"))+SUMPRODUCT((Teams2=U99)*(Teams2_Score=Teams1_Score)*(Teams2_Score<>\"\"))","v":1},{"$f":"SUMPRODUCT((Teams1=U99)*(Teams1_Score<Teams2_Score))+SUMPRODUCT((Teams2=U99)*(Teams2_Score<Teams1_Score))","v":0},{"$f":"SUMPRODUCT((Teams1=U99)*(Teams1_Score))+SUMPRODUCT((Teams2=U99)*(Teams2_Score))","v":7},{"$f":"SUMPRODUCT((Teams1=U99)*(Teams2_Score))+SUMPRODUCT((Teams2=U99)*(Teams1_Score))","v":4},{"$f":"Z99-AA99","v":3},{"$f":"3*W99+X99","v":7}]
[null,{"$f":"IF(ROWS($1:1)<=COUNTIF($T$33:$T$36,1),INDEX($U$33:$U$36,SMALL(IF($T$33:$T$36=1,ROW(INDIRECT(\"1:\"&ROWS($T$33:$T$36)))),ROWS($1:1))),\"\")","v":"Brésil"}]
[null,{"$f":"IF(ROWS($1:2)<=COUNTIF($T$33:$T$36,1),INDEX($U$33:$U$36,SMALL(IF($T$33:$T$36=1,ROW(INDIRECT(\"1:\"&ROWS($T$33:$T$36)))),ROWS($1:2))),\"\")","v":""},null,null,null,null,null,null,null,null,null,null,null,null,null,null,null,null,null,"Rg","Groupe H","MJ","G","N","P","BP","BC","Pts","Pts"]
[null,{"$f":"IF(ROWS($1:3)<=COUNTIF($T$33:$T$36,1),INDEX($U$33:$U$36,SMALL(IF($T$33:$T$36=1,ROW(INDIRECT(\"1:\"&ROWS($T$33:$T$36)))),ROWS($1:3))),\"\")","v":""},null,null,null,null,null,null,null,null,null,null,null,null,null,null,"H_1",{"$f":"TEXT(S102,\"00000\")&U102","v":"09580Colombie"},{"$f":"AC102*1000+AB102*100+Z102*10","v":9580},{"$f":"RANK(S102,$S102:$S106,0)","v":1},{"$f":"VLOOKUP(Q102,TABLEAU_TEAMS[#All],2,FALSE)","v":"Colombie"},{"$f":"SUMPRODUCT((Teams1=U102)*(Teams1_Score<>\"\"))+SUMPRODUCT((Teams2=U102)*(Teams2_Score<>\"\"))","v":3},{"$f":"SUMPRODUCT((Teams1=U102)*(Teams1_Score>Teams2_Score))+SUMPRODUCT((Teams2=U102)*(Teams2_Score>Teams1_Score))","v":3},{"$f":"SUMPRODUCT((Teams1=U102)*(Teams1_Score=Teams2_Score)*(Teams1_Score<>\"\"))+SUMPRODUCT((Teams2=U102)*(Teams2_Score=Teams1_Score)*(Teams2_Score<>\"\"))","v":0},{"$f":"SUMPRODUCT((Teams1=U102)*(Teams1_Score<Teams2_Score))+SUMPRODUCT((Teams2=U102)*(Teams2_Score<Teams1_Score))","v":0},{"$f":"SUMPRODUCT((Teams1=U102)*(Teams1_Score))+SUMPRODUCT((Teams2=U102)*(Teams2_Score))","v":8},{"$f":"SUMPRODUCT((Teams1=U102)*(Teams2_Score))+SUMPRODUCT((Teams2=U102)*(Teams1_Score))","v":3},{"$f":"Z102-AA102","v":5},{"$f":"3*W102+X102","v":9}]
[null,{"$f":"IF(ROWS($1:4)<=COUNTIF($T$33:$T$36,1),INDEX($U$33:$U$36,SMALL(IF($T$33:$T$36=1,ROW(INDIRECT(\"1:\"&ROWS($T$33:$T$36)))),ROWS($1:4))),\"\")","v":""},null,null,null,null,null,null,null,null,null,null,null,null,null,null,"H_2",{"$f":"TEXT(S103,\"00000\")&U103","v":"-00390Japon"},{"$f":"AC103*1000+AB103*100+Z103*10","v":-390},{"$f":"RANK(S103,$S102:$S106,0)","v":4},{"$f":"VLOOKUP(Q103,TABLEAU_TEAMS[#All],2,FALSE)","v":"Japon"},{"$f":"SUMPRODUCT((Teams1=U103)*(Teams1_Score<>\"\"))+SUMPRODUCT((Teams2=U103)*(Teams2_Score<>\"\"))","v":3},{"$f":"SUMPRODUCT((Teams1=U103)*(Teams1_Score>Teams2_Score))+SUMPRODUCT((Teams2=U103)*(Teams2_Score>Teams1_Score))","v":0},{"$f":"SUMPRODUCT((Teams1=U103)*(Teams1_Score=Teams2_Score)*(Teams1_Score<>\"\"))+SUMPRODUCT((Teams2=U103)*(Teams2_Score=Teams1_Score)*(Teams2_Score<>\"\"))","v":0},{"$f":"SUMPRODUCT((Teams1=U103)*(Teams1_Score<Teams2_Score))+SUMPRODUCT((Teams2=U103)*(Teams2_Score<Teams1_Score))","v":3},{"$f":"SUMPRODUCT((Teams1=U103)*(Teams1_Score))+SUMPRODUCT((Teams2=U103)*(Teams2_Score))","v":1},{"$f":"SUMPRODUCT((Teams1=U103)*(Teams2_Score))+SUMPRODUCT((Teams2=U103)*(Teams1_Score))","v":5},{"$f":"Z103-AA103","v":-4},{"$f":"3*W103+X103","v":0}]
[null,"Tirage au sort E2",null,null,null,null,null,null,null,null,null,null,null,null,null,null,"H_3",{"$f":"TEXT(S104,\"00000\")&U104","v":"02930Pologne"},{"$f":"AC104*1000+AB104*100+Z104*10","v":2930},{"$f":"RANK(S104,$S102:$S106,0)","v":3},{"$f":"VLOOKUP(Q104,TABLEAU_TEAMS[#All],2,FALSE)","v":"Pologne"},{"$f":"SUMPRODUCT((Teams1=U104)*(Teams1_Score<>\"\"))+SUMPRODUCT((Teams2=U104)*(Teams2_Score<>\"\"))","v":3},{"$f":"SUMPRODUCT((Teams1=U104)*(Teams1_Score>Teams2_Score))+SUMPRODUCT((Teams2=U104)*(Teams2_Score>Teams1_Score))","v":1},{"$f":"SUMPRODUCT((Teams1=U104)*(Teams1_Score=Teams2_Score)*(Teams1_Score<>\"\"))+SUMPRODUCT((Teams2=U104)*(Teams2_Score=Teams1_Score)*(Teams2_Score<>\"\"))","v":0},{"$f":"SUMPRODUCT((Teams1=U104)*(Teams1_Score<Teams2_Score))+SUMPRODUCT((Teams2=U104)*(Teams2_Score<Teams1_Score))","v":2},{"$f":"SUMPRODUCT((Teams1=U104)*(Teams1_Score))+SUMPRODUCT((Teams2=U104)*(Teams2_Score))","v":3},{"$f":"SUMPRODUCT((Teams1=U104)*(Teams2_Score))+SUMPRODUCT((Teams2=U104)*(Teams1_Score))","v":4},{"$f":"Z104-AA104","v":-1},{"$f":"3*W104+X104","v":3}]
[null,{"$f":"IF(COUNTIF($T$33:$T$36,1)>1,IF(ROWS($1:1)<=COUNTIF($T$33:$T$36,1),INDEX($U$33:$U$36,SMALL(IF($T$33:$T$36=1,ROW(INDIRECT(\"1:\"&ROWS($T$33:$T$36)))),ROWS($1:1))),\"\"),IF(COUNTIF($T$33:$T$36,2)>1,IF(ROWS($1:1)<=COUNTIF($T$33:$T$36,2),INDEX($U$33:$U$36,SMALL(IF($T$33:$T$36=2,ROW(INDIRECT(\"1:\"&ROWS($T$33:$T$36)))),ROWS($1:1))),\"\")))","v":false},null,null,null,null,null,null,null,null,null,null,null,null,null,null,"H_4",{"$f":"TEXT(S105,\"00000\")&U105","v":"06060Sénégal"},{"$f":"AC105*1000+AB105*100+Z105*10","v":6060},{"$f":"RANK(S105,$S102:$S106,0)","v":2},{"$f":"VLOOKUP(Q105,TABLEAU_TEAMS[#All],2,FALSE)","v":"Sénégal"},{"$f":"SUMPRODUCT((Teams1=U105)*(Teams1_Score<>\"\"))+SUMPRODUCT((Teams2=U105)*(Teams2_Score<>\"\"))","v":3},{"$f":"SUMPRODUCT((Teams1=U105)*(Teams1_Score>Teams2_Score))+SUMPRODUCT((Teams2=U105)*(Teams2_Score>Teams1_Score))","v":2},{"$f":"SUMPRODUCT((Teams1=U105)*(Teams1_Score=Teams2_Score)*(Teams1_Score<>\"\"))+SUMPRODUCT((Teams2=U105)*(Teams2_Score=Teams1_Score)*(Teams2_Score<>\"\"))","v":0},{"$f":"SUMPRODUCT((Teams1=U105)*(Teams1_Score<Teams2_Score))+SUMPRODUCT((Teams2=U105)*(Teams2_Score<Teams1_Score))","v":1},{"$f":"SUMPRODUCT((Teams1=U105)*(Teams1_Score))+SUMPRODUCT((Teams2=U105)*(Teams2_Score))","v":6},{"$f":"SUMPRODUCT((Teams1=U105)*(Teams2_Score))+SUMPRODUCT((Teams2=U105)*(Teams1_Score))","v":6},{"$f":"Z105-AA105","v":0},{"$f":"3*W105+X105","v":6}]
[null,{"$f":"IF(COUNTIF($T$33:$T$36,1)>1,IF(ROWS($1:2)<=COUNTIF($T$33:$T$36,1),INDEX($U$33:$U$36,SMALL(IF($T$33:$T$36=1,ROW(INDIRECT(\"1:\"&ROWS($T$33:$T$36)))),ROWS($1:2))),\"\"),IF(COUNTIF($T$33:$T$36,2)>1,IF(ROWS($1:2)<=COUNTIF($T$33:$T$36,2),INDEX($U$33:$U$36,SMALL(IF($T$33:$T$36=2,ROW(INDIRECT(\"1:\"&ROWS($T$33:$T$36)))),ROWS($1:2))),\"\")))","v":false}]
[null,{"$f":"IF(COUNTIF($T$33:$T$36,1)>1,IF(ROWS($1:3)<=COUNTIF($T$33:$T$36,1),INDEX($U$33:$U$36,SMALL(IF($T$33:$T$36=1,ROW(INDIRECT(\"1:\"&ROWS($T$33:$T$36)))),ROWS($1:3))),\"\"),IF(COUNTIF($T$33:$T$36,2)>1,IF(ROWS($1:3)<=COUNTIF($T$33:$T$36,2),INDEX($U$33:$U$36,SMALL(IF($T$33:$T$36=2,ROW(INDIRECT(\"1:\"&ROWS($T$33:$T$36)))),ROWS($1:3))),\"\")))","v":false}]
[null,{"$f":"IF(COUNTIF($T$33:$T$36,1)>1,IF(ROWS($1:4)<=COUNTIF($T$33:$T$36,1),INDEX($U$33:$U$36,SMALL(IF($T$33:$T$36=1,ROW(INDIRECT(\"1:\"&ROWS($T$33:$T$36)))),ROWS($1:4))),\"\"),IF(COUNTIF($T$33:$T$36,2)>1,IF(ROWS($1:4)<=COUNTIF($T$33:$T$36,2),INDEX($U$33:$U$36,SMALL(IF($T$33:$T$36=2,ROW(INDIRECT(\"1:\"&ROWS($T$33:$T$36)))),ROWS($1:4))),\"\")))","v":false}]
[null,"Tirage au sort F1"]
[null,{"$f":"IF(ROWS($1:1)<=COUNTIF($T$39:$T$42,1),INDEX($U$39:$U$42,SMALL(IF($T$39:$T$42=1,ROW(INDIRECT(\"1:\"&ROWS($T$39:$T$42)))),ROWS($1:1))),\"\")","v":"Allemagne"}]
[null,{"$f":"IF(ROWS($1:2)<=COUNTIF($T$39:$T$42,1),INDEX($U$39:$U$42,SMALL(IF($T$39:$T$42=1,ROW(INDIRECT(\"1:\"&ROWS($T$39:$T$42)))),ROWS($1:2))),\"\")","v":""}]
[null,{"$f":"IF(ROWS($1:3)<=COUNTIF($T$39:$T$42,1),INDEX($U$39:$U$42,SMALL(IF($T$39:$T$42=1,ROW(INDIRECT(\"1:\"&ROWS($T$39:$T$42)))),ROWS($1:3))),\"\")","v":""}]
[null,{"$f":"IF(ROWS($1:4)<=COUNTIF($T$39:$T$42,1),INDEX($U$39:$U$42,SMALL(IF($T$39:$T$42=1,ROW(INDIRECT(\"1:\"&ROWS($T$39:$T$42)))),ROWS($1:4))),\"\")","v":""}]
[null,"Tirage au sort F2"]
[null,{"$f":"IF(COUNTIF($T$39:$T$42,1)>1,IF(ROWS($1:1)<=COUNTIF($T$39:$T$42,1),INDEX($U$39:$U$42,SMALL(IF($T$39:$T$42=1,ROW(INDIRECT(\"1:\"&ROWS($T$39:$T$42)))),ROWS($1:1))),\"\"),IF(COUNTIF($T$39:$T$42,2)>1,IF(ROWS($1:1)<=COUNTIF($T$39:$T$42,2),INDEX($U$39:$U$42,SMALL(IF($T$39:$T$42=2,ROW(INDIRECT(\"1:\"&ROWS($T$39:$T$42)))),ROWS($1:1))),\"\")))","v":false}]
[null,{"$f":"IF(COUNTIF($T$39:$T$42,1)>1,IF(ROWS($1:2)<=COUNTIF($T$39:$T$42,1),INDEX($U$39:$U$42,SMALL(IF($T$39:$T$42=1,ROW(INDIRECT(\"1:\"&ROWS($T$39:$T$42)))),ROWS($1:2))),\"\"),IF(COUNTIF($T$39:$T$42,2)>1,IF(ROWS($1:2)<=COUNTIF($T$39:$T$42,2),INDEX($U$39:$U$42,SMALL(IF($T$39:$T$42=2,ROW(INDIRECT(\"1:\"&ROWS($T$39:$T$42)))),ROWS($1:2))),\"\")))","v":false}]
[null,{"$f":"IF(COUNTIF($T$39:$T$42,1)>1,IF(ROWS($1:3)<=COUNTIF($T$39:$T$42,1),INDEX($U$39:$U$42,SMALL(IF($T$39:$T$42=1,ROW(INDIRECT(\"1:\"&ROWS($T$39:$T$42)))),ROWS($1:3))),\"\"),IF(COUNTIF($T$39:$T$42,2)>1,IF(ROWS($1:3)<=COUNTIF($T$39:$T$42,2),INDEX($U$39:$U$42,SMALL(IF($T$39:$T$42=2,ROW(INDIRECT(\"1:\"&ROWS($T$39:$T$42)))),ROWS($1:3))),\"\")))","v":false}]
[null,{"$f":"IF(COUNTIF($T$39:$T$42,1)>1,IF(ROWS($1:4)<=COUNTIF($T$39:$T$42,1),INDEX($U$39:$U$42,SMALL(IF($T$39:$T$42=1,ROW(INDIRECT(\"1:\"&ROWS($T$39:$T$42)))),ROWS($1:4))),\"\"),IF(COUNTIF($T$39:$T$42,2)>1,IF(ROWS($1:4)<=COUNTIF($T$39:$T$42,2),INDEX($U$39:$U$42,SMALL(IF($T$39:$T$42=2,ROW(INDIRECT(\"1:\"&ROWS($T$39:$T$42)))),ROWS($1:4))),\"\")))","v":false}]
[null,"Tirage au sort G1"]
[null,{"$f":"IF(ROWS($1:1)<=COUNTIF($T$45:$T$48,1),INDEX($U$45:$U$48,SMALL(IF($T$45:$T$48=1,ROW(INDIRECT(\"1:\"&ROWS($T$45:$T$48)))),ROWS($1:1))),\"\")","v":"Belgique"}]
[null,{"$f":"IF(ROWS($1:2)<=COUNTIF($T$45:$T$48,1),INDEX($U$45:$U$48,SMALL(IF($T$45:$T$48=1,ROW(INDIRECT(\"1:\"&ROWS($T$45:$T$48)))),ROWS($1:2))),\"\")","v":""}]
[null,{"$f":"IF(ROWS($1:3)<=COUNTIF($T$45:$T$48,1),INDEX($U$45:$U$48,SMALL(IF($T$45:$T$48=1,ROW(INDIRECT(\"1:\"&ROWS($T$45:$T$48)))),ROWS($1:3))),\"\")","v":""}]
[null,{"$f":"IF(ROWS($1:4)<=COUNTIF($T$45:$T$48,1),INDEX($U$45:$U$48,SMALL(IF($T$45:$T$48=1,ROW(INDIRECT(\"1:\"&ROWS($T$45:$T$48)))),ROWS($1:4))),\"\")","v":""}]
[null,"Tirage au sort G2"]
[null,{"$f":"IF(COUNTIF($T$45:$T$48,1)>1,IF(ROWS($1:1)<=COUNTIF($T$45:$T$48,1),INDEX($U$45:$U$48,SMALL(IF($T$45:$T$48=1,ROW(INDIRECT(\"1:\"&ROWS($T$45:$T$48)))),ROWS($1:1))),\"\"),IF(COUNTIF($T$45:$T$48,2)>1,IF(ROWS($1:1)<=COUNTIF($T$45:$T$48,2),INDEX($U$45:$U$48,SMALL(IF($T$45:$T$48=2,ROW(INDIRECT(\"1:\"&ROWS($T$45:$T$48)))),ROWS($1:1))),\"\")))","v":false}]
[null,{"$f":"IF(COUNTIF($T$45:$T$48,1)>1,IF(ROWS($1:2)<=COUNTIF($T$45:$T$48,1),INDEX($U$45:$U$48,SMALL(IF($T$45:$T$48=1,ROW(INDIRECT(\"1:\"&ROWS($T$45:$T$48)))),ROWS($1:2))),\"\"),IF(COUNTIF($T$45:$T$48,2)>1,IF(ROWS($1:2)<=COUNTIF($T$45:$T$48,2),INDEX($U$45:$U$48,SMALL(IF($T$45:$T$48=2,ROW(INDIRECT(\"1:\"&ROWS($T$45:$T$48)))),ROWS($1:2))),\"\")))","v":false}]
[null,{"$f":"IF(COUNTIF($T$45:$T$48,1)>1,IF(ROWS($1:3)<=COUNTIF($T$45:$T$48,1),INDEX($U$45:$U$48,SMALL(IF($T$45:$T$48=1,ROW(INDIRECT(\"1:\"&ROWS($T$45:$T$48)))),ROWS($1:3))),\"\"),IF(COUNTIF($T$45:$T$48,2)>1,IF(ROWS($1:3)<=COUNTIF($T$45:$T$48,2),INDEX($U$45:$U$48,SMALL(IF($T$45:$T$48=2,ROW(INDIRECT(\"1:\"&ROWS($T$45:$T$48)))),ROWS($1:3))),\"\")))","v":false}]
[null,{"$f":"IF(COUNTIF($T$45:$T$48,1)>1,IF(ROWS($1:4)<=COUNTIF($T$45:$T$48,1),INDEX($U$45:$U$48,SMALL(IF($T$45:$T$48=1,ROW(INDIRECT(\"1:\"&ROWS($T$45:$T$48)))),ROWS($1:4))),\"\"),IF(COUNTIF($T$45:$T$48,2)>1,IF(ROWS($1:4)<=COUNTIF($T$45:$T$48,2),INDEX($U$45:$U$48,SMALL(IF($T$45:$T$48=2,ROW(INDIRECT(\"1:\"&ROWS($T$45:$T$48)))),ROWS($1:4))),\"\")))","v":false}]
[null,"Tirage au sort H1"]
[null,{"$f":"IF(ROWS($1:1)<=COUNTIF($T$51:$T$54,1),INDEX($U$51:$U$54,SMALL(IF($T$51:$T$54=1,ROW(INDIRECT(\"1:\"&ROWS($T$51:$T$54)))),ROWS($1:1))),\"\")","v":"Colombie"}]
[null,{"$f":"IF(ROWS($1:2)<=COUNTIF($T$51:$T$54,1),INDEX($U$51:$U$54,SMALL(IF($T$51:$T$54=1,ROW(INDIRECT(\"1:\"&ROWS($T$51:$T$54)))),ROWS($1:2))),\"\")","v":""}]
[null,{"$f":"IF(ROWS($1:3)<=COUNTIF($T$51:$T$54,1),INDEX($U$51:$U$54,SMALL(IF($T$51:$T$54=1,ROW(INDIRECT(\"1:\"&ROWS($T$51:$T$54)))),ROWS($1:3))),\"\")","v":""}]
[null,{"$f":"IF(ROWS($1:4)<=COUNTIF($T$51:$T$54,1),INDEX($U$51:$U$54,SMALL(IF($T$51:$T$54=1,ROW(INDIRECT(\"1:\"&ROWS($T$51:$T$54)))),ROWS($1:4))),\"\")","v":""}]
[null,"Tirage au sort H2"]
[null,{"$f":"IF(COUNTIF($T$51:$T$54,1)>1,IF(ROWS($1:1)<=COUNTIF($T$51:$T$54,1),INDEX($U$51:$U$54,SMALL(IF($T$51:$T$54=1,ROW(INDIRECT(\"1:\"&ROWS($T$51:$T$54)))),ROWS($1:1))),\"\"),IF(COUNTIF($T$51:$T$54,2)>1,IF(ROWS($1:1)<=COUNTIF($T$51:$T$54,2),INDEX($U$51:$U$54,SMALL(IF($T$51:$T$54=2,ROW(INDIRECT(\"1:\"&ROWS($T$51:$T$54)))),ROWS($1:1))),\"\")))","v":false}]
[null,{"$f":"IF(COUNTIF($T$51:$T$54,1)>1,IF(ROWS($1:2)<=COUNTIF($T$51:$T$54,1),INDEX($U$51:$U$54,SMALL(IF($T$51:$T$54=1,ROW(INDIRECT(\"1:\"&ROWS($T$51:$T$54)))),ROWS($1:2))),\"\"),IF(COUNTIF($T$51:$T$54,2)>1,IF(ROWS($1:2)<=COUNTIF($T$51:$T$54,2),INDEX($U$51:$U$54,SMALL(IF($T$51:$T$54=2,ROW(INDIRECT(\"1:\"&ROWS($T$51:$T$54)))),ROWS($1:2))),\"\")))","v":false}]
[null,{"$f":"IF(COUNTIF($T$51:$T$54,1)>1,IF(ROWS($1:3)<=COUNTIF($T$51:$T$54,1),INDEX($U$51:$U$54,SMALL(IF($T$51:$T$54=1,ROW(INDIRECT(\"1:\"&ROWS($T$51:$T$54)))),ROWS($1:3))),\"\"),IF(COUNTIF($T$51:$T$54,2)>1,IF(ROWS($1:3)<=COUNTIF($T$51:$T$54,2),INDEX($U$51:$U$54,SMALL(IF($T$51:$T$54=2,ROW(INDIRECT(\"1:\"&ROWS($T$51:$T$54)))),ROWS($1:3))),\"\")))","v":false}]
[null,{"$f":"IF(COUNTIF($T$51:$T$54,1)>1,IF(ROWS($1:4)<=COUNTIF($T$51:$T$54,1),INDEX($U$51:$U$54,SMALL(IF($T$51:$T$54=1,ROW(INDIRECT(\"1:\"&ROWS($T$51:$T$54)))),ROWS($1:4))),\"\"),IF(COUNTIF($T$51:$T$54,2)>1,IF(ROWS($1:4)<=COUNTIF($T$51:$T$54,2),INDEX($U$51:$U$54,SMALL(IF($T$51:$T$54=2,ROW(INDIRECT(\"1:\"&ROWS($T$51:$T$54)))),ROWS($1:4))),\"\")))","v":false}]

{"sheet":"Marie","index":9,"n_rows":138,"n_cols":46,"rows_kept":138,"cut":false,"hidden":false,"merged":[[2,1,2,8],[3,1,3,8],[3,9,3,12]]}
[]
[null,"Pronostics de :"]
[]
[null,{"$f":"MID(CELL(\"filename\",A1),FIND(\"]\",CELL(\"filename\",A1))+1,32)","v":"Marie"}]
[]
[null,"SAISIE DES PRONOSTICS",null,null,null,null,null,null,null,null,null,null,null,null,null,null,null,null,null,"GROUPES",null,null,null,null,null,null,null,null,null,null,null,null,"SCORE PRONOSTIQUEUR",null,null,null,null,null,null,null,null,{"$f":"AN8+AN12","v":1}]
[null,"Date","Heure","Match","Groupe",1,"N",2,null,"Buts",null,null,"Buts"]
[null,{"$f":"VLOOKUP($D8,TABLEAU_MATCHS[#All],2,FALSE)","v":"2018-06-14"},{"$f":"VLOOKUP($D8,TABLEAU_MATCHS[#All],3,FALSE)","v":"17:00:00"},1,{"$f":"\"Groupe \"&VLOOKUP($I8,TABLEAU_TEAMS[[#All],[TEAM]:[GROUP_INITIAL_RANK]],2,FALSE)","v":"Groupe A"},1.3,4.3,10,{"$f":"VLOOKUP($D8,TABLEAU_MATCHS[#All],4,FALSE)","v":"Russie"},1,null,{"$f":"VLOOKUP($D8,TABLEAU_MATCHS[#All],5,FALSE)","v":"Arabie Saoudite"},1,{"$f":"IF(OR(ISBLANK(RESULTATS!J8),ISBLANK(J8)),\"\",IF(AND(Marie!J8=RESULTATS!J8,Marie!M8=RESULTATS!M8),3,IF(OR(AND(Marie!J8>Marie!M8,RESULTATS!J8>RESULTATS!M8),AND(Marie!J8<Marie!M8,RESULTATS!J8<RESULTATS!M8),AND(Marie!J8=Marie!M8,RESULTATS!J8=RESULTATS!M8)),1,0)))","v":0},null,null,null,null,null,"Rg","Groupe A","MJ","G","N","P","BP","BC","+/-","Pts",null,null,null,"Phases de groupes",null,null,null,null,null,null,{"$f":"N56","v":1},null,"points"]
[null,{"$f":"VLOOKUP($D9,TABLEAU_MATCHS[#All],2,FALSE)","v":"2018-06-15"},{"$f":"VLOOKUP($D9,TABLEAU_MATCHS[#All],3,FALSE)","v":"14:00:00"},2,{"$f":"\"Groupe \"&VLOOKUP($I9,TABLEAU_TEAMS[[#All],[TEAM]:[GROUP_INITIAL_RANK]],2,FALSE)","v":"Groupe A"},2.2000000000000002,2.9,3.25,{"$f":"VLOOKUP($D9,TABLEAU_MATCHS[#All],4,FALSE)","v":"Egypte"},0,null,{"$f":"VLOOKUP($D9,TABLEAU_MATCHS[#All],5,FALSE)","v":"Uruguay"},3,{"$f":"IF(OR(ISBLANK(RESULTATS!J9),ISBLANK(J9)),\"\",IF(AND(Marie!J9=RESULTATS!J9,Marie!M9=RESULTATS!M9),3,IF(OR(AND(Marie!J9>Marie!M9,RESULTATS!J9>RESULTATS!M9),AND(Marie!J9<Marie!M9,RESULTATS!J9<RESULTATS!M9),AND(Marie!J9=Marie!M9,RESULTATS!J9=RESULTATS!M9)),1,0)))","v":1},null,null,null,{"$f":"INDEX($R60:$R63,MATCH(SMALL(COUNTIF($R60:$R63,\">=\"&$R60:$R63),ROW(INDIRECT(\"1:\"&ROWS($R60:$R63)))),COUNTIF($R60:$R63,\">=\"&$R60:$R63),0))","v":"09990Uruguay"},{"$f":"INDEX($S60:$S63,MATCH(SMALL(COUNTIF($R60:$R63,\">=\"&$R60:$R63),ROW(INDIRECT(\"1:\"&ROWS($R60:$R63)))),COUNTIF($R60:$R63,\">=\"&$R60:$R63),0))","v":9990},{"$f":"INDEX($T60:$T63,MATCH(SMALL(COUNTIF($R60:$R63,\">=\"&$R60:$R63),ROW(INDIRECT(\"1:\"&ROWS($R60:$R63)))),COUNTIF($R60:$R63,\">=\"&$R60:$R63),0))","v":1},{"$f":"INDEX($U60:$U63,MATCH(SMALL(COUNTIF($R60:$R63,\">=\"&$R60:$R63),ROW(INDIRECT(\"1:\"&ROWS($R60:$R63)))),COUNTIF($R60:$R63,\">=\"&$R60:$R63),0))","v":"Uruguay"},{"$f":"SUMPRODUCT((Teams1=U9)*(Teams1_Score<>\"\"))+SUMPRODUCT((Teams2=U9)*(Teams2_Score<>\"\"))","v":3},{"$f":"SUMPRODUCT((Teams1=U9)*(Teams1_Score>Teams2_Score))+SUMPRODUCT((Teams2=U9)*(Teams2_Score>Teams1_Score))","v":3},{"$f":"SUMPRODUCT((Teams1=U9)*(Teams1_Score=Teams2_Score)*(Teams1_Score<>\"\"))+SUMPRODUCT((Teams2=U9)*(Teams2_Score=Teams1_Score)*(Teams2_Score<>\"\"))","v":0},{"$f":"SUMPRODUCT((Teams1=U9)*(Teams1_Score<Teams2_Score))+SUMPRODUCT((Teams2=U9)*(Teams2_Score<Teams1_Score))","v":0},{"$f":"SUMPRODUCT((Teams1=U9)*(Teams1_Score))+SUMPRODUCT((Teams2=U9)*(Teams2_Score))","v":9},{"$f":"SUMPRODUCT((Teams1=U9)*(Teams2_Score))+SUMPRODUCT((Teams2=U9)*(Teams1_Score))","v":0},{"$f":"Z9-AA9","v":9},{"$f":"3*W9+X9","v":9},null,null,null,"Vainqueur ou nul trouvé (1 pt)",null,null,{"$f":"COUNTIF($N$8:$N$55,1)+COUNTIF($N$8:$N$55,3)","v":1},"matchs",null,null,{"$f":"AJ9","v":1},null,"points"]
[null,{"$f":"VLOOKUP($D10,TABLEAU_MATCHS[#All],2,FALSE)","v":"2018-06-15"},{"$f":"VLOOKUP($D10,TABLEAU_MATCHS[#All],3,FALSE)","v":"17:00:00"},3,{"$f":"\"Groupe \"&VLOOKUP($I10,TABLEAU_TEAMS[[#All],[TEAM]:[GROUP_INITIAL_RANK]],2,FALSE)","v":"Groupe B"},1.8,3.05,4.5,{"$f":"VLOOKUP($D10,TABLEAU_MATCHS[#All],4,FALSE)","v":"Maroc"},2,null,{"$f":"VLOOKUP($D10,TABLEAU_MATCHS[#All],5,FALSE)","v":"RI Iran"},0,{"$f":"IF(OR(ISBLANK(RESULTATS!J10),ISBLANK(J10)),\"\",IF(AND(Marie!J10=RESULTATS!J10,Marie!M10=RESULTATS!M10),3,IF(OR(AND(Marie!J10>Marie!M10,RESULTATS!J10>RESULTATS!M10),AND(Marie!J10<Marie!M10,RESULTATS!J10<RESULTATS!M10),AND(Marie!J10=Marie!M10,RESULTATS!J10=RESULTATS!M10)),1,0)))","v":0},null,null,null,"03930Russie",3930,2,"Russie",{"$f":"SUMPRODUCT((Teams1=U10)*(Teams1_Score<>\"\"))+SUMPRODUCT((Teams2=U10)*(Teams2_Score<>\"\"))","v":3},{"$f":"SUMPRODUCT((Teams1=U10)*(Teams1_Score>Teams2_Score))+SUMPRODUCT((Teams2=U10)*(Teams2_Score>Teams1_Score))","v":1},{"$f":"SUMPRODUCT((Teams1=U10)*(Teams1_Score=Teams2_Score)*(Teams1_Score<>\"\"))+SUMPRODUCT((Teams2=U10)*(Teams2_Score=Teams1_Score)*(Teams2_Score<>\"\"))","v":1},{"$f":"SUMPRODUCT((Teams1=U10)*(Teams1_Score<Teams2_Score))+SUMPRODUCT((Teams2=U10)*(Teams2_Score<Teams1_Score))","v":1},{"$f":"SUMPRODUCT((Teams1=U10)*(Teams1_Score))+SUMPRODUCT((Teams2=U10)*(Teams2_Score))","v":3},{"$f":"SUMPRODUCT((Teams1=U10)*(Teams2_Score))+SUMPRODUCT((Teams2=U10)*(Teams1_Score))","v":4},{"$f":"Z10-AA10","v":-1},{"$f":"3*W10+X10","v":4},null,null,null,"Bonus score exact (2 pts)",null,null,{"$f":"+COUNTIF($N$8:$N$55,3)","v":0},"matchs",null,null,{"$f":"AJ10*2","v":0},null,"points"]
[null,{"$f":"VLOOKUP($D11,TABLEAU_MATCHS[#All],2,FALSE)","v":"2018-06-15"},{"$f":"VLOOKUP($D11,TABLEAU_MATCHS[#All],3,FALSE)","v":"20:00:00"},4,{"$f":"\"Groupe \"&VLOOKUP($I11,TABLEAU_TEAMS[[#All],[TEAM]:[GROUP_INITIAL_RANK]],2,FALSE)","v":"Groupe B"},1.42,3.9,7,{"$f":"VLOOKUP($D11,TABLEAU_MATCHS[#All],4,FALSE)","v":"Portugal"},1,null,{"$f":"VLOOKUP($D11,TABLEAU_MATCHS[#All],5,FALSE)","v":"Espagne"},4,{"$f":"IF(OR(ISBLANK(RESULTATS!J11),ISBLANK(J11)),\"\",IF(AND(Marie!J11=RESULTATS!J11,Marie!M11=RESULTATS!M11),3,IF(OR(AND(Marie!J11>Marie!M11,RESULTATS!J11>RESULTATS!M11),AND(Marie!J11<Marie!M11,RESULTATS!J11<RESULTATS!M11),AND(Marie!J11=Marie!M11,RESULTATS!J11=RESULTATS!M11)),1,0)))","v":0},null,null,null,"02830Egypte",2830,3,"Egypte",{"$f":"SUMPRODUCT((Teams1=U11)*(Teams1_Score<>\"\"))+SUMPRODUCT((Teams2=U11)*(Teams2_Score<>\"\"))","v":3},{"$f":"SUMPRODUCT((Teams1=U11)*(Teams1_Score>Teams2_Score))+SUMPRODUCT((Teams2=U11)*(Teams2_Score>Teams1_Score))","v":1},{"$f":"SUMPRODUCT((Teams1=U11)*(Teams1_Score=Teams2_Score)*(Teams1_Score<>\"\"))+SUMPRODUCT((Teams2=U11)*(Teams2_Score=Teams1_Score)*(Teams2_Score<>\"\"))","v":0},{"$f":"SUMPRODUCT((Teams1=U11)*(Teams1_Score<Teams2_Score))+SUMPRODUCT((Teams2=U11)*(Teams2_Score<Teams1_Score))","v":2},{"$f":"SUMPRODUCT((Teams1=U11)*(Teams1_Score))+SUMPRODUCT((Teams2=U11)*(Teams2_Score))","v":3},{"$f":"SUMPRODUCT((Teams1=U11)*(Teams2_Score))+SUMPRODUCT((Teams2=U11)*(Teams1_Score))","v":5},{"$f":"Z11-AA11","v":-2},{"$f":"3*W11+X11","v":3}]
[null,{"$f":"VLOOKUP($D12,TABLEAU_MATCHS[#All],2,FALSE)","v":"2018-06-16"},{"$f":"VLOOKUP($D12,TABLEAU_MATCHS[#All],3,FALSE)","v":"12:00:00"},5,{"$f":"\"Groupe \"&VLOOKUP($I12,TABLEAU_TEAMS[[#All],[TEAM]:[GROUP_INITIAL_RANK]],2,FALSE)","v":"Groupe C"},1.7,3.1,5,{"$f":"VLOOKUP($D12,TABLEAU_MATCHS[#All],4,FALSE)","v":"France"},3,null,{"$f":"VLOOKUP($D12,TABLEAU_MATCHS[#All],5,FALSE)","v":"Australie"},0,{"$f":"IF(OR(ISBLANK(RESULTATS!J12),ISBLANK(J12)),\"\",IF(AND(Marie!J12=RESULTATS!J12,Marie!M12=RESULTATS!M12),3,IF(OR(AND(Marie!J12>Marie!M12,RESULTATS!J12>RESULTATS!M12),AND(Marie!J12<Marie!M12,RESULTATS!J12<RESULTATS!M12),AND(Marie!J12=Marie!M12,RESULTATS!J12=RESULTATS!M12)),1,0)))","v":""},null,null,null,"00410Arabie Saoudite",410,4,"Arabie Saoudite",{"$f":"SUMPRODUCT((Teams1=U12)*(Teams1_Score<>\"\"))+SUMPRODUCT((Teams2=U12)*(Teams2_Score<>\"\"))","v":3},{"$f":"SUMPRODUCT((Teams1=U12)*(Teams1_Score>Teams2_Score))+SUMPRODUCT((Teams2=U12)*(Teams2_Score>Teams1_Score))","v":0},{"$f":"SUMPRODUCT((Teams1=U12)*(Teams1_Score=Teams2_Score)*(Teams1_Score<>\"\"))+SUMPRODUCT((Teams2=U12)*(Teams2_Score=Teams1_Score)*(Teams2_Score<>\"\"))","v":1},{"$f":"SUMPRODUCT((Teams1=U12)*(Teams1_Score<Teams2_Score))+SUMPRODUCT((Teams2=U12)*(Teams2_Score<Teams1_Score))","v":2},{"$f":"SUMPRODUCT((Teams1=U12)*(Teams1_Score))+SUMPRODUCT((Teams2=U12)*(Teams2_Score))","v":1},{"$f":"SUMPRODUCT((Teams1=U12)*(Teams2_Score))+SUMPRODUCT((Teams2=U12)*(Teams1_Score))","v":7},{"$f":"Z12-AA12","v":-6},{"$f":"3*W12+X12","v":1},null,null,null,"Phases finales",null,null,null,null,null,null,{"$f":"SUM(AN13:AN17)","v":0},null,"points"]
[null,{"$f":"VLOOKUP($D13,TABLEAU_MATCHS[#All],2,FALSE)","v":"2018-06-16"},{"$f":"VLOOKUP($D13,TABLEAU_MATCHS[#All],3,FALSE)","v":"18:00:00"},6,{"$f":"\"Groupe \"&VLOOKUP($I13,TABLEAU_TEAMS[[#All],[TEAM]:[GROUP_INITIAL_RANK]],2,FALSE)","v":"Groupe C"},2.5499999999999998,2.9,2.7,{"$f":"VLOOKUP($D13,TABLEAU_MATCHS[#All],4,FALSE)","v":"Pérou"},1,null,{"$f":"VLOOKUP($D13,TABLEAU_MATCHS[#All],5,FALSE)","v":"Danemark"},1,{"$f":"IF(OR(ISBLANK(RESULTATS!J13),ISBLANK(J13)),\"\",IF(AND(Marie!J13=RESULTATS!J13,Marie!M13=RESULTATS!M13),3,IF(OR(AND(Marie!J13>Marie!M13,RESULTATS!J13>RESULTATS!M13),AND(Marie!J13<Marie!M13,RESULTATS!J13<RESULTATS!M13),AND(Marie!J13=Marie!M13,RESULTATS!J13=RESULTATS!M13)),1,0)))","v":""},null,null,null,null,null,null,null,null,null,null,null,null,null,null,null,null,null,null,"Huitièmes de finaliste trouvés (2 pts)",null,null,{"$f":"IF(CLASSEMENT!PHASES_FINALES=\"OUI\",$AK$53+$AQ$53,0)","v":0},"équipe(s) ",null,null,{"$f":"AJ13*2","v":0},null,"points"]
[null,{"$f":"VLOOKUP($D14,TABLEAU_MATCHS[#All],2,FALSE)","v":"2018-06-16"},{"$f":"VLOOKUP($D14,TABLEAU_MATCHS[#All],3,FALSE)","v":"15:00:00"},7,{"$f":"\"Groupe \"&VLOOKUP($I14,TABLEAU_TEAMS[[#All],[TEAM]:[GROUP_INITIAL_RANK]],2,FALSE)","v":"Groupe D"},1.4,4,7.25,{"$f":"VLOOKUP($D14,TABLEAU_MATCHS[#All],4,FALSE)","v":"Argentine"},3,null,{"$f":"VLOOKUP($D14,TABLEAU_MATCHS[#All],5,FALSE)","v":"Islande"},0,{"$f":"IF(OR(ISBLANK(RESULTATS!J14),ISBLANK(J14)),\"\",IF(AND(Marie!J14=RESULTATS!J14,Marie!M14=RESULTATS!M14),3,IF(OR(AND(Marie!J14>Marie!M14,RESULTATS!J14>RESULTATS!M14),AND(Marie!J14<Marie!M14,RESULTATS!J14<RESULTATS!M14),AND(Marie!J14=Marie!M14,RESULTATS!J14=RESULTATS!M14)),1,0)))","v":""},null,null,null,null,null,"Rg","Groupe B","MJ","G","N","P","BP","BC","+/-","Pts",null,null,null,"Quarts de finalistes trouvés (4 pts)",null,null,{"$f":"IF(CLASSEMENT!PHASES_FINALES=\"OUI\",$AK$42+$AQ$42,0)","v":0},"équipe(s) ",null,null,{"$f":"AJ14*4","v":0},null,"points"]
[null,{"$f":"VLOOKUP($D15,TABLEAU_MATCHS[#All],2,FALSE)","v":"2018-06-16"},{"$f":"VLOOKUP($D15,TABLEAU_MATCHS[#All],3,FALSE)","v":"21:00:00"},8,{"$f":"\"Groupe \"&VLOOKUP($I15,TABLEAU_TEAMS[[#All],[TEAM]:[GROUP_INITIAL_RANK]],2,FALSE)","v":"Groupe D"},2.95,2.7,2.5499999999999998,{"$f":"VLOOKUP($D15,TABLEAU_MATCHS[#All],4,FALSE)","v":"Croatie"},2,null,{"$f":"VLOOKUP($D15,TABLEAU_MATCHS[#All],5,FALSE)","v":"Nigeria"},1,{"$f":"IF(OR(ISBLANK(RESULTATS!J15),ISBLANK(J15)),\"\",IF(AND(Marie!J15=RESULTATS!J15,Marie!M15=RESULTATS!M15),3,IF(OR(AND(Marie!J15>Marie!M15,RESULTATS!J15>RESULTATS!M15),AND(Marie!J15<Marie!M15,RESULTATS!J15<RESULTATS!M15),AND(Marie!J15=Marie!M15,RESULTATS!J15=RESULTATS!M15)),1,0)))","v":""},null,null,null,{"$f":"INDEX($R66:$R69,MATCH(SMALL(COUNTIF($R66:$R69,\">=\"&$R66:$R69),ROW(INDIRECT(\"1:\"&ROWS($R66:$R69)))),COUNTIF($R66:$R69,\">=\"&$R66:$R69),0))","v":"10000Espagne"},{"$f":"INDEX($S66:$S69,MATCH(SMALL(COUNTIF($R66:$R69,\">=\"&$R66:$R69),ROW(INDIRECT(\"1:\"&ROWS($R66:$R69)))),COUNTIF($R66:$R69,\">=\"&$R66:$R69),0))","v":10000},{"$f":"INDEX($T66:$T69,MATCH(SMALL(COUNTIF($R66:$R69,\">=\"&$R66:$R69),ROW(INDIRECT(\"1:\"&ROWS($R66:$R69)))),COUNTIF($R66:$R69,\">=\"&$R66:$R69),0))","v":1},{"$f":"INDEX($U66:$U69,MATCH(SMALL(COUNTIF($R66:$R69,\">=\"&$R66:$R69),ROW(INDIRECT(\"1:\"&ROWS($R66:$R69)))),COUNTIF($R66:$R69,\">=\"&$R66:$R69),0))","v":"Espagne"},{"$f":"SUMPRODUCT((Teams1=U15)*(Teams1_Score<>\"\"))+SUMPRODUCT((Teams2=U15)*(Teams2_Score<>\"\"))","v":3},{"$f":"SUMPRODUCT((Teams1=U15)*(Teams1_Score>Teams2_Score))+SUMPRODUCT((Teams2=U15)*(Teams2_Score>Teams1_Score))","v":3},{"$f":"SUMPRODUCT((Teams1=U15)*(Teams1_Score=Teams2_Score)*(Teams1_Score<>\"\"))+SUMPRODUCT((Teams2=U15)*(Teams2_Score=Teams1_Score)*(Teams2_Score<>\"\"))","v":0},{"$f":"SUMPRODUCT((Teams1=U15)*(Teams1_Score<Teams2_Score))+SUMPRODUCT((Teams2=U15)*(Teams2_Score<Teams1_Score))","v":0},{"$f":"SUMPRODUCT((Teams1=U15)*(Teams1_Score))+SUMPRODUCT((Teams2=U15)*(Teams2_Score))","v":10},{"$f":"SUMPRODUCT((Teams1=U15)*(Teams2_Score))+SUMPRODUCT((Teams2=U15)*(Teams1_Score))","v":1},{"$f":"Z15-AA15","v":9},{"$f":"3*W15+X15","v":9},null,null,null,"Demi finalistes trouvés (5 pts)",null,null,{"$f":"IF(CLASSEMENT!PHASES_FINALES=\"OUI\",$AK$35+$AQ$35,0)","v":0},"équipe(s) ",null,null,{"$f":"AJ15*5","v":0},null,"points"]
[null,{"$f":"VLOOKUP($D16,TABLEAU_MATCHS[#All],2,FALSE)","v":"2018-06-17"},{"$f":"VLOOKUP($D16,TABLEAU_MATCHS[#All],3,FALSE)","v":"14:00:00"},9,{"$f":"\"Groupe \"&VLOOKUP($I16,TABLEAU_TEAMS[[#All],[TEAM]:[GROUP_INITIAL_RANK]],2,FALSE)","v":"Groupe E"},2.35,2.9,2.95,{"$f":"VLOOKUP($D16,TABLEAU_MATCHS[#All],4,FALSE)","v":"Costa Rica"},1,null,{"$f":"VLOOKUP($D16,TABLEAU_MATCHS[#All],5,FALSE)","v":"Serbie"},0,{"$f":"IF(OR(ISBLANK(RESULTATS!J16),ISBLANK(J16)),\"\",IF(AND(Marie!J16=RESULTATS!J16,Marie!M16=RESULTATS!M16),3,IF(OR(AND(Marie!J16>Marie!M16,RESULTATS!J16>RESULTATS!M16),AND(Marie!J16<Marie!M16,RESULTATS!J16<RESULTATS!M16),AND(Marie!J16=Marie!M16,RESULTATS!J16=RESULTATS!M16)),1,0)))","v":""},null,null,null,"06150Portugal",6150,2,"Portugal",{"$f":"SUMPRODUCT((Teams1=U16)*(Teams1_Score<>\"\"))+SUMPRODUCT((Teams2=U16)*(Teams2_Score<>\"\"))","v":3},{"$f":"SUMPRODUCT((Teams1=U16)*(Teams1_Score>Teams2_Score))+SUMPRODUCT((Teams2=U16)*(Teams2_Score>Teams1_Score))","v":2},{"$f":"SUMPRODUCT((Teams1=U16)*(Teams1_Score=Teams2_Score)*(Teams1_Score<>\"\"))+SUMPRODUCT((Teams2=U16)*(Teams2_Score=Teams1_Score)*(Teams2_Score<>\"\"))","v":0},{"$f":"SUMPRODUCT((Teams1=U16)*(Teams1_Score<Teams2_Score))+SUMPRODUCT((Teams2=U16)*(Teams2_Score<Teams1_Score))","v":1},{"$f":"SUMPRODUCT((Teams1=U16)*(Teams1_Score))+SUMPRODUCT((Teams2=U16)*(Teams2_Score))","v":5},{"$f":"SUMPRODUCT((Teams1=U16)*(Teams2_Score))+SUMPRODUCT((Teams2=U16)*(Teams1_Score))","v":4},{"$f":"Z16-AA16","v":1},{"$f":"3*W16+X16","v":6},null,null,null,"Finalistes trouvés (6 pts)",null,null,{"$f":"IF(CLASSEMENT!PHASES_FINALES=\"OUI\",$AK$25+$AQ$25,0)","v":0},"équipe(s) ",null,null,{"$f":"AJ16*6","v":0},null,"points"]
[null,{"$f":"VLOOKUP($D17,TABLEAU_MATCHS[#All],2,FALSE)","v":"2018-06-17"},{"$f":"VLOOKUP($D17,TABLEAU_MATCHS[#All],3,FALSE)","v":"20:00:00"},10,{"$f":"\"Groupe \"&VLOOKUP($I17,TABLEAU_TEAMS[[#All],[TEAM]:[GROUP_INITIAL_RANK]],2,FALSE)","v":"Groupe E"},1.28,4.7,9.5,{"$f":"VLOOKUP($D17,TABLEAU_MATCHS[#All],4,FALSE)","v":"Brésil"},3,null,{"$f":"VLOOKUP($D17,TABLEAU_MATCHS[#All],5,FALSE)","v":"Suisse"},0,{"$f":"IF(OR(ISBLANK(RESULTATS!J17),ISBLANK(J17)),\"\",IF(AND(Marie!J17=RESULTATS!J17,Marie!M17=RESULTATS!M17),3,IF(OR(AND(Marie!J17>Marie!M17,RESULTATS!J17>RESULTATS!M17),AND(Marie!J17<Marie!M17,RESULTATS!J17<RESULTATS!M17),AND(Marie!J17=Marie!M17,RESULTATS!J17=RESULTATS!M17)),1,0)))","v":""},null,null,null,"02720Maroc",2720,3,"Maroc",{"$f":"SUMPRODUCT((Teams1=U17)*(Teams1_Score<>\"\"))+SUMPRODUCT((Teams2=U17)*(Teams2_Score<>\"\"))","v":3},{"$f":"SUMPRODUCT((Teams1=U17)*(Teams1_Score>Teams2_Score))+SUMPRODUCT((Teams2=U17)*(Teams2_Score>Teams1_Score))","v":1},{"$f":"SUMPRODUCT((Teams1=U17)*(Teams1_Score=Teams2_Score)*(Teams1_Score<>\"\"))+SUMPRODUCT((Teams2=U17)*(Teams2_Score=Teams1_Score)*(Teams2_Score<>\"\"))","v":0},{"$f":"SUMPRODUCT((Teams1=U17)*(Teams1_Score<Teams2_Score))+SUMPRODUCT((Teams2=U17)*(Teams2_Score<Teams1_Score))","v":2},{"$f":"SUMPRODUCT((Teams1=U17)*(Teams1_Score))+SUMPRODUCT((Teams2=U17)*(Teams2_Score))","v":2},{"$f":"SUMPRODUCT((Teams1=U17)*(Teams2_Score))+SUMPRODUCT((Teams2=U17)*(Teams1_Score))","v":5},{"$f":"Z17-AA17","v":-3},{"$f":"3*W17+X17","v":3},null,null,null,"Champion du monde trouvé (7 pts)",null,null,{"$f":"IF(CLASSEMENT!PHASES_FINALES=\"OUI\",IF(AJ25<>\"\",IF($AT$25=RESULTATS!AS10,1,0),0),0)","v":0},"équipe",null,null,{"$f":"AJ17*7","v":0},null,"points"]
[null,{"$f":"VLOOKUP($D18,TABLEAU_MATCHS[#All],2,FALSE)","v":"2018-06-17"},{"$f":"VLOOKUP($D18,TABLEAU_MATCHS[#All],3,FALSE)","v":"17:00:00"},11,{"$f":"\"Groupe \"&VLOOKUP($I18,TABLEAU_TEAMS[[#All],[TEAM]:[GROUP_INITIAL_RANK]],2,FALSE)","v":"Groupe F"},1.34,4.3,7.5,{"$f":"VLOOKUP($D18,TABLEAU_MATCHS[#All],4,FALSE)","v":"Allemagne"},4,null,{"$f":"VLOOKUP($D18,TABLEAU_MATCHS[#All],5,FALSE)","v":"Mexique"},1,{"$f":"IF(OR(ISBLANK(RESULTATS!J18),ISBLANK(J18)),\"\",IF(AND(Marie!J18=RESULTATS!J18,Marie!M18=RESULTATS!M18),3,IF(OR(AND(Marie!J18>Marie!M18,RESULTATS!J18>RESULTATS!M18),AND(Marie!J18<Marie!M18,RESULTATS!J18<RESULTATS!M18),AND(Marie!J18=Marie!M18,RESULTATS!J18=RESULTATS!M18)),1,0)))","v":""},null,null,null,"-00700RI Iran",-700,4,"RI Iran",{"$f":"SUMPRODUCT((Teams1=U18)*(Teams1_Score<>\"\"))+SUMPRODUCT((Teams2=U18)*(Teams2_Score<>\"\"))","v":3},{"$f":"SUMPRODUCT((Teams1=U18)*(Teams1_Score>Teams2_Score))+SUMPRODUCT((Teams2=U18)*(Teams2_Score>Teams1_Score))","v":0},{"$f":"SUMPRODUCT((Teams1=U18)*(Teams1_Score=Teams2_Score)*(Teams1_Score<>\"\"))+SUMPRODUCT((Teams2=U18)*(Teams2_Score=Teams1_Score)*(Teams2_Score<>\"\"))","v":0},{"$f":"SUMPRODUCT((Teams1=U18)*(Teams1_Score<Teams2_Score))+SUMPRODUCT((Teams2=U18)*(Teams2_Score<Teams1_Score))","v":3},{"$f":"SUMPRODUCT((Teams1=U18)*(Teams1_Score))+SUMPRODUCT((Teams2=U18)*(Teams2_Score))","v":0},{"$f":"SUMPRODUCT((Teams1=U18)*(Teams2_Score))+SUMPRODUCT((Teams2=U18)*(Teams1_Score))","v":7},{"$f":"Z18-AA18","v":-7},{"$f":"3*W18+X18","v":0}]
[null,{"$f":"VLOOKUP($D19,TABLEAU_MATCHS[#All],2,FALSE)","v":"2018-06-18"},{"$f":"VLOOKUP($D19,TABLEAU_MATCHS[#All],3,FALSE)","v":"14:00:00"},12,{"$f":"\"Groupe \"&VLOOKUP($I19,TABLEAU_TEAMS[[#All],[TEAM]:[GROUP_INITIAL_RANK]],2,FALSE)","v":"Groupe F"},3.3,2.95,2.15,{"$f":"VLOOKUP($D19,TABLEAU_MATCHS[#All],4,FALSE)","v":"Suède"},2,null,{"$f":"VLOOKUP($D19,TABLEAU_MATCHS[#All],5,FALSE)","v":"République de Corée"},1,{"$f":"IF(OR(ISBLANK(RESULTATS!J19),ISBLANK(J19)),\"\",IF(AND(Marie!J19=RESULTATS!J19,Marie!M19=RESULTATS!M19),3,IF(OR(AND(Marie!J19>Marie!M19,RESULTATS!J19>RESULTATS!M19),AND(Marie!J19<Marie!M19,RESULTATS!J19<RESULTATS!M19),AND(Marie!J19=Marie!M19,RESULTATS!J19=RESULTATS!M19)),1,0)))","v":""}]
[null,{"$f":"VLOOKUP($D20,TABLEAU_MATCHS[#All],2,FALSE)","v":"2018-06-18"},{"$f":"VLOOKUP($D20,TABLEAU_MATCHS[#All],3,FALSE)","v":"17:00:00"},13,{"$f":"\"Groupe \"&VLOOKUP($I20,TABLEAU_TEAMS[[#All],[TEAM]:[GROUP_INITIAL_RANK]],2,FALSE)","v":"Groupe G"},1.95,2.95,4,{"$f":"VLOOKUP($D20,TABLEAU_MATCHS[#All],4,FALSE)","v":"Belgique"},3,null,{"$f":"VLOOKUP($D20,TABLEAU_MATCHS[#All],5,FALSE)","v":"Panama"},1,{"$f":"IF(OR(ISBLANK(RESULTATS!J20),ISBLANK(J20)),\"\",IF(AND(Marie!J20=RESULTATS!J20,Marie!M20=RESULTATS!M20),3,IF(OR(AND(Marie!J20>Marie!M20,RESULTATS!J20>RESULTATS!M20),AND(Marie!J20<Marie!M20,RESULTATS!J20<RESULTATS!M20),AND(Marie!J20=Marie!M20,RESULTATS!J20=RESULTATS!M20)),1,0)))","v":""},null,null,null,null,null,"Rg","Groupe C","MJ","G","N","P","BP","BC","+/-","Pts"]
[null,{"$f":"VLOOKUP($D21,TABLEAU_MATCHS[#All],2,FALSE)","v":"2018-06-18"},{"$f":"VLOOKUP($D21,TABLEAU_MATCHS[#All],3,FALSE)","v":"20:00:00"},14,{"$f":"\"Groupe \"&VLOOKUP($I21,TABLEAU_TEAMS[[#All],[TEAM]:[GROUP_INITIAL_RANK]],2,FALSE)","v":"Groupe G"},2.5499999999999998,2.9,2.7,{"$f":"VLOOKUP($D21,TABLEAU_MATCHS[#All],4,FALSE)","v":"Tunisie"},0,null,{"$f":"VLOOKUP($D21,TABLEAU_MATCHS[#All],5,FALSE)","v":"Angleterre"},3,{"$f":"IF(OR(ISBLANK(RESULTATS!J21),ISBLANK(J21)),\"\",IF(AND(Marie!J21=RESULTATS!J21,Marie!M21=RESULTATS!M21),3,IF(OR(AND(Marie!J21>Marie!M21,RESULTATS!J21>RESULTATS!M21),AND(Marie!J21<Marie!M21,RESULTATS!J21<RESULTATS!M21),AND(Marie!J21=Marie!M21,RESULTATS!J21=RESULTATS!M21)),1,0)))","v":""},null,null,null,{"$f":"INDEX($R72:$R75,MATCH(SMALL(COUNTIF($R72:$R75,\">=\"&$R72:$R75),ROW(INDIRECT(\"1:\"&ROWS($R72:$R75)))),COUNTIF($R72:$R75,\">=\"&$R72:$R75),0))","v":"09770France"},{"$f":"INDEX($S72:$S75,MATCH(SMALL(COUNTIF($R72:$R75,\">=\"&$R72:$R75),ROW(INDIRECT(\"1:\"&ROWS($R72:$R75)))),COUNTIF($R72:$R75,\">=\"&$R72:$R75),0))","v":9770},{"$f":"INDEX($T72:$T75,MATCH(SMALL(COUNTIF($R72:$R75,\">=\"&$R72:$R75),ROW(INDIRECT(\"1:\"&ROWS($R72:$R75)))),COUNTIF($R72:$R75,\">=\"&$R72:$R75),0))","v":1},{"$f":"INDEX($U72:$U75,MATCH(SMALL(COUNTIF($R72:$R75,\">=\"&$R72:$R75),ROW(INDIRECT(\"1:\"&ROWS($R72:$R75)))),COUNTIF($R72:$R75,\">=\"&$R72:$R75),0))","v":"France"},{"$f":"SUMPRODUCT((Teams1=U21)*(Teams1_Score<>\"\"))+SUMPRODUCT((Teams2=U21)*(Teams2_Score<>\"\"))","v":3},{"$f":"SUMPRODUCT((Teams1=U21)*(Teams1_Score>Teams2_Score))+SUMPRODUCT((Teams2=U21)*(Teams2_Score>Teams1_Score))","v":3},{"$f":"SUMPRODUCT((Teams1=U21)*(Teams1_Score=Teams2_Score)*(Teams1_Score<>\"\"))+SUMPRODUCT((Teams2=U21)*(Teams2_Score=Teams1_Score)*(Teams2_Score<>\"\"))","v":0},{"$f":"SUMPRODUCT((Teams1=U21)*(Teams1_Score<Teams2_Score))+SUMPRODUCT((Teams2=U21)*(Teams2_Score<Teams1_Score))","v":0},{"$f":"SUMPRODUCT((Teams1=U21)*(Teams1_Score))+SUMPRODUCT((Teams2=U21)*(Teams2_Score))","v":7},{"$f":"SUMPRODUCT((Teams1=U21)*(Teams2_Score))+SUMPRODUCT((Teams2=U21)*(Teams1_Score))","v":0},{"$f":"Z21-AA21","v":7},{"$f":"3*W21+X21","v":9},null,null,null,"PHASES FINALES"]
[null,{"$f":"VLOOKUP($D22,TABLEAU_MATCHS[#All],2,FALSE)","v":"2018-06-19"},{"$f":"VLOOKUP($D22,TABLEAU_MATCHS[#All],3,FALSE)","v":"17:00:00"},15,{"$f":"\"Groupe \"&VLOOKUP($I22,TABLEAU_TEAMS[[#All],[TEAM]:[GROUP_INITIAL_RANK]],2,FALSE)","v":"Groupe H"},1.38,3.9,8,{"$f":"VLOOKUP($D22,TABLEAU_MATCHS[#All],4,FALSE)","v":"Colombie"},2,null,{"$f":"VLOOKUP($D22,TABLEAU_MATCHS[#All],5,FALSE)","v":"Japon"},0,{"$f":"IF(OR(ISBLANK(RESULTATS!J22),ISBLANK(J22)),\"\",IF(AND(Marie!J22=RESULTATS!J22,Marie!M22=RESULTATS!M22),3,IF(OR(AND(Marie!J22>Marie!M22,RESULTATS!J22>RESULTATS!M22),AND(Marie!J22<Marie!M22,RESULTATS!J22<RESULTATS!M22),AND(Marie!J22=Marie!M22,RESULTATS!J22=RESULTATS!M22)),1,0)))","v":""},null,null,null,"04040Danemark",4040,2,"Danemark",{"$f":"SUMPRODUCT((Teams1=U22)*(Teams1_Score<>\"\"))+SUMPRODUCT((Teams2=U22)*(Teams2_Score<>\"\"))","v":3},{"$f":"SUMPRODUCT((Teams1=U22)*(Teams1_Score>Teams2_Score))+SUMPRODUCT((Teams2=U22)*(Teams2_Score>Teams1_Score))","v":1},{"$f":"SUMPRODUCT((Teams1=U22)*(Teams1_Score=Teams2_Score)*(Teams1_Score<>\"\"))+SUMPRODUCT((Teams2=U22)*(Teams2_Score=Teams1_Score)*(Teams2_Score<>\"\"))","v":1},{"$f":"SUMPRODUCT((Teams1=U22)*(Teams1_Score<Teams2_Score))+SUMPRODUCT((Teams2=U22)*(Teams2_Score<Teams1_Score))","v":1},{"$f":"SUMPRODUCT((Teams1=U22)*(Teams1_Score))+SUMPRODUCT((Teams2=U22)*(Teams2_Score))","v":4},{"$f":"SUMPRODUCT((Teams1=U22)*(Teams2_Score))+SUMPRODUCT((Teams2=U22)*(Teams1_Score))","v":4},{"$f":"Z22-AA22","v":0},{"$f":"3*W22+X22","v":4}]
[null,{"$f":"VLOOKUP($D23,TABLEAU_MATCHS[#All],2,FALSE)","v":"2018-06-19"},{"$f":"VLOOKUP($D23,TABLEAU_MATCHS[#All],3,FALSE)","v":"14:00:00"},16,{"$f":"\"Groupe \"&VLOOKUP($I23,TABLEAU_TEAMS[[#All],[TEAM]:[GROUP_INITIAL_RANK]],2,FALSE)","v":"Groupe H"},2.0499999999999998,2.9,3.5,{"$f":"VLOOKUP($D23,TABLEAU_MATCHS[#All],4,FALSE)","v":"Pologne"},1,null,{"$f":"VLOOKUP($D23,TABLEAU_MATCHS[#All],5,FALSE)","v":"Sénégal"},1,{"$f":"IF(OR(ISBLANK(RESULTATS!J23),ISBLANK(J23)),\"\",IF(AND(Marie!J23=RESULTATS!J23,Marie!M23=RESULTATS!M23),3,IF(OR(AND(Marie!J23>Marie!M23,RESULTATS!J23>RESULTATS!M23),AND(Marie!J23<Marie!M23,RESULTATS!J23<RESULTATS!M23),AND(Marie!J23=Marie!M23,RESULTATS!J23=RESULTATS!M23)),1,0)))","v":""},null,null,null,"02740Australie",2740,3,"Australie",{"$f":"SUMPRODUCT((Teams1=U23)*(Teams1_Score<>\"\"))+SUMPRODUCT((Teams2=U23)*(Teams2_Score<>\"\"))","v":3},{"$f":"SUMPRODUCT((Teams1=U23)*(Teams1_Score>Teams2_Score))+SUMPRODUCT((Teams2=U23)*(Teams2_Score>Teams1_Score))","v":1},{"$f":"SUMPRODUCT((Teams1=U23)*(Teams1_Score=Teams2_Score)*(Teams1_Score<>\"\"))+SUMPRODUCT((Teams2=U23)*(Teams2_Score=Teams1_Score)*(Teams2_Score<>\"\"))","v":0},{"$f":"SUMPRODUCT((Teams1=U23)*(Teams1_Score<Teams2_Score))+SUMPRODUCT((Teams2=U23)*(Teams2_Score<Teams1_Score))","v":2},{"$f":"SUMPRODUCT((Teams1=U23)*(Teams1_Score))+SUMPRODUCT((Teams2=U23)*(Teams2_Score))","v":4},{"$f":"SUMPRODUCT((Teams1=U23)*(Teams2_Score))+SUMPRODUCT((Teams2=U23)*(Teams1_Score))","v":7},{"$f":"Z23-AA23","v":-3},{"$f":"3*W23+X23","v":3},null,null,"Date","Finale",null,null,"Buts",null,"Pen",null,null,null,"Buts",null,"Pen"]
[null,{"$f":"VLOOKUP($D24,TABLEAU_MATCHS[#All],2,FALSE)","v":"2018-06-19"},{"$f":"VLOOKUP($D24,TABLEAU_MATCHS[#All],3,FALSE)","v":"20:00:00"},17,{"$f":"\"Groupe \"&VLOOKUP($I24,TABLEAU_TEAMS[[#All],[TEAM]:[GROUP_INITIAL_RANK]],2,FALSE)","v":"Groupe A"},1.26,4.8,9,{"$f":"VLOOKUP($D24,TABLEAU_MATCHS[#All],4,FALSE)","v":"Russie"},2,null,{"$f":"VLOOKUP($D24,TABLEAU_MATCHS[#All],5,FALSE)","v":"Egypte"},1,{"$f":"IF(OR(ISBLANK(RESULTATS!J24),ISBLANK(J24)),\"\",IF(AND(Marie!J24=RESULTATS!J24,Marie!M24=RESULTATS!M24),3,IF(OR(AND(Marie!J24>Marie!M24,RESULTATS!J24>RESULTATS!M24),AND(Marie!J24<Marie!M24,RESULTATS!J24<RESULTATS!M24),AND(Marie!J24=Marie!M24,RESULTATS!J24=RESULTATS!M24)),1,0)))","v":""},null,null,null,"00620Pérou",620,4,"Pérou",{"$f":"SUMPRODUCT((Teams1=U24)*(Teams1_Score<>\"\"))+SUMPRODUCT((Teams2=U24)*(Teams2_Score<>\"\"))","v":3},{"$f":"SUMPRODUCT((Teams1=U24)*(Teams1_Score>Teams2_Score))+SUMPRODUCT((Teams2=U24)*(Teams2_Score>Teams1_Score))","v":0},{"$f":"SUMPRODUCT((Teams1=U24)*(Teams1_Score=Teams2_Score)*(Teams1_Score<>\"\"))+SUMPRODUCT((Teams2=U24)*(Teams2_Score=Teams1_Score)*(Teams2_Score<>\"\"))","v":1},{"$f":"SUMPRODUCT((Teams1=U24)*(Teams1_Score<Teams2_Score))+SUMPRODUCT((Teams2=U24)*(Teams2_Score<Teams1_Score))","v":2},{"$f":"SUMPRODUCT((Teams1=U24)*(Teams1_Score))+SUMPRODUCT((Teams2=U24)*(Teams2_Score))","v":2},{"$f":"SUMPRODUCT((Teams1=U24)*(Teams2_Score))+SUMPRODUCT((Teams2=U24)*(Teams1_Score))","v":6},{"$f":"Z24-AA24","v":-4},{"$f":"3*W24+X24","v":1}]
[null,{"$f":"VLOOKUP($D25,TABLEAU_MATCHS[#All],2,FALSE)","v":"2018-06-20"},{"$f":"VLOOKUP($D25,TABLEAU_MATCHS[#All],3,FALSE)","v":"17:00:00"},18,{"$f":"\"Groupe \"&VLOOKUP($I25,TABLEAU_TEAMS[[#All],[TEAM]:[GROUP_INITIAL_RANK]],2,FALSE)","v":"Groupe A"},3.5,3,2,{"$f":"VLOOKUP($D25,TABLEAU_MATCHS[#All],4,FALSE)","v":"Uruguay"},4,null,{"$f":"VLOOKUP($D25,TABLEAU_MATCHS[#All],5,FALSE)","v":"Arabie Saoudite"},0,{"$f":"IF(OR(ISBLANK(RESULTATS!J25),ISBLANK(J25)),\"\",IF(AND(Marie!J25=RESULTATS!J25,Marie!M25=RESULTATS!M25),3,IF(OR(AND(Marie!J25>Marie!M25,RESULTATS!J25>RESULTATS!M25),AND(Marie!J25<Marie!M25,RESULTATS!J25<RESULTATS!M25),AND(Marie!J25=Marie!M25,RESULTATS!J25=RESULTATS!M25)),1,0)))","v":""},null,null,null,null,null,null,null,null,null,null,null,null,null,null,null,null,null,"2018-07-15",null,{"$f":"+IF(AJ33<>\"\",IF(AI33>AO33,AH33,AN33),\"Vainqueur 1\")","v":"France"},{"$f":"AJ25*10+AL25","v":20},2,{"$f":"IF(LEFT(AH25,5)<>\"Vainq\",COUNTIF(RESULTATS!$AG$10:$AM$10,AH25),0)","v":0},null,null,{"$f":"+IF(AJ34<>\"\",IF(AI34>AO34,AH34,AN34),\"Vainqueur 2\")","v":"Danemark"},{"$f":"AP25*10+AR25","v":10},1,{"$f":"IF(LEFT(AN25,5)<>\"Vainq\",COUNTIF(RESULTATS!$AG$10:$AM$10,AN25),0)","v":0},null,null,{"$f":"IF(AJ25<>\"\",IF(AI25>AO25,AH25,AN25),\"\")","v":"France"}]
[null,{"$f":"VLOOKUP($D26,TABLEAU_MATCHS[#All],2,FALSE)","v":"2018-06-20"},{"$f":"VLOOKUP($D26,TABLEAU_MATCHS[#All],3,FALSE)","v":"14:00:00"},19,{"$f":"\"Groupe \"&VLOOKUP($I26,TABLEAU_TEAMS[[#All],[TEAM]:[GROUP_INITIAL_RANK]],2,FALSE)","v":"Groupe B"},1.66,3.35,4.8,{"$f":"VLOOKUP($D26,TABLEAU_MATCHS[#All],4,FALSE)","v":"Portugal"},2,null,{"$f":"VLOOKUP($D26,TABLEAU_MATCHS[#All],5,FALSE)","v":"Maroc"},0,{"$f":"IF(OR(ISBLANK(RESULTATS!J26),ISBLANK(J26)),\"\",IF(AND(Marie!J26=RESULTATS!J26,Marie!M26=RESULTATS!M26),3,IF(OR(AND(Marie!J26>Marie!M26,RESULTATS!J26>RESULTATS!M26),AND(Marie!J26<Marie!M26,RESULTATS!J26<RESULTATS!M26),AND(Marie!J26=Marie!M26,RESULTATS!J26=RESULTATS!M26)),1,0)))","v":""},null,null,null,null,null,"Rg","Groupe D","MJ","G","N","P","BP","BC","+/-","Pts"]
[null,{"$f":"VLOOKUP($D27,TABLEAU_MATCHS[#All],2,FALSE)","v":"2018-06-20"},{"$f":"VLOOKUP($D27,TABLEAU_MATCHS[#All],3,FALSE)","v":"20:00:00"},20,{"$f":"\"Groupe \"&VLOOKUP($I27,TABLEAU_TEAMS[[#All],[TEAM]:[GROUP_INITIAL_RANK]],2,FALSE)","v":"Groupe B"},8.5,4.7,1.28,{"$f":"VLOOKUP($D27,TABLEAU_MATCHS[#All],4,FALSE)","v":"RI Iran"},0,null,{"$f":"VLOOKUP($D27,TABLEAU_MATCHS[#All],5,FALSE)","v":"Espagne"},3,{"$f":"IF(OR(ISBLANK(RESULTATS!J27),ISBLANK(J27)),\"\",IF(AND(Marie!J27=RESULTATS!J27,Marie!M27=RESULTATS!M27),3,IF(OR(AND(Marie!J27>Marie!M27,RESULTATS!J27>RESULTATS!M27),AND(Marie!J27<Marie!M27,RESULTATS!J27<RESULTATS!M27),AND(Marie!J27=Marie!M27,RESULTATS!J27=RESULTATS!M27)),1,0)))","v":""},null,null,null,{"$f":"INDEX($R78:$R81,MATCH(SMALL(COUNTIF($R78:$R81,\">=\"&$R78:$R81),ROW(INDIRECT(\"1:\"&ROWS($R78:$R81)))),COUNTIF($R78:$R81,\">=\"&$R78:$R81),0))","v":"07560Argentine"},{"$f":"INDEX($S78:$S81,MATCH(SMALL(COUNTIF($R78:$R81,\">=\"&$R78:$R81),ROW(INDIRECT(\"1:\"&ROWS($R78:$R81)))),COUNTIF($R78:$R81,\">=\"&$R78:$R81),0))","v":7560},{"$f":"INDEX($T78:$T81,MATCH(SMALL(COUNTIF($R78:$R81,\">=\"&$R78:$R81),ROW(INDIRECT(\"1:\"&ROWS($R78:$R81)))),COUNTIF($R78:$R81,\">=\"&$R78:$R81),0))","v":1},{"$f":"INDEX($U78:$U81,MATCH(SMALL(COUNTIF($R78:$R81,\">=\"&$R78:$R81),ROW(INDIRECT(\"1:\"&ROWS($R78:$R81)))),COUNTIF($R78:$R81,\">=\"&$R78:$R81),0))","v":"Argentine"},{"$f":"SUMPRODUCT((Teams1=U27)*(Teams1_Score<>\"\"))+SUMPRODUCT((Teams2=U27)*(Teams2_Score<>\"\"))","v":3},{"$f":"SUMPRODUCT((Teams1=U27)*(Teams1_Score>Teams2_Score))+SUMPRODUCT((Teams2=U27)*(Teams2_Score>Teams1_Score))","v":2},{"$f":"SUMPRODUCT((Teams1=U27)*(Teams1_Score=Teams2_Score)*(Teams1_Score<>\"\"))+SUMPRODUCT((Teams2=U27)*(Teams2_Score=Teams1_Score)*(Teams2_Score<>\"\"))","v":1},{"$f":"SUMPRODUCT((Teams1=U27)*(Teams1_Score<Teams2_Score))+SUMPRODUCT((Teams2=U27)*(Teams2_Score<Teams1_Score))","v":0},{"$f":"SUMPRODUCT((Teams1=U27)*(Teams1_Score))+SUMPRODUCT((Teams2=U27)*(Teams2_Score))","v":6},{"$f":"SUMPRODUCT((Teams1=U27)*(Teams2_Score))+SUMPRODUCT((Teams2=U27)*(Teams1_Score))","v":1},{"$f":"Z27-AA27","v":5},{"$f":"3*W27+X27","v":7},null,null,"Date","Petite Finale",null,null,"Buts",null,"Pen",null,null,null,"Buts",null,"Pen"]
[null,{"$f":"VLOOKUP($D28,TABLEAU_MATCHS[#All],2,FALSE)","v":"2018-06-21"},{"$f":"VLOOKUP($D28,TABLEAU_MATCHS[#All],3,FALSE)","v":"14:00:00"},21,{"$f":"\"Groupe \"&VLOOKUP($I28,TABLEAU_TEAMS[[#All],[TEAM]:[GROUP_INITIAL_RANK]],2,FALSE)","v":"Groupe C"},1.85,3,4,{"$f":"VLOOKUP($D28,TABLEAU_MATCHS[#All],4,FALSE)","v":"Danemark"},3,null,{"$f":"VLOOKUP($D28,TABLEAU_MATCHS[#All],5,FALSE)","v":"Australie"},1,{"$f":"IF(OR(ISBLANK(RESULTATS!J28),ISBLANK(J28)),\"\",IF(AND(Marie!J28=RESULTATS!J28,Marie!M28=RESULTATS!M28),3,IF(OR(AND(Marie!J28>Marie!M28,RESULTATS!J28>RESULTATS!M28),AND(Marie!J28<Marie!M28,RESULTATS!J28<RESULTATS!M28),AND(Marie!J28=Marie!M28,RESULTATS!J28=RESULTATS!M28)),1,0)))","v":""},null,null,null,"07250Croatie",7250,2,"Croatie",{"$f":"SUMPRODUCT((Teams1=U28)*(Teams1_Score<>\"\"))+SUMPRODUCT((Teams2=U28)*(Teams2_Score<>\"\"))","v":3},{"$f":"SUMPRODUCT((Teams1=U28)*(Teams1_Score>Teams2_Score))+SUMPRODUCT((Teams2=U28)*(Teams2_Score>Teams1_Score))","v":2},{"$f":"SUMPRODUCT((Teams1=U28)*(Teams1_Score=Teams2_Score)*(Teams1_Score<>\"\"))+SUMPRODUCT((Teams2=U28)*(Teams2_Score=Teams1_Score)*(Teams2_Score<>\"\"))","v":1},{"$f":"SUMPRODUCT((Teams1=U28)*(Teams1_Score<Teams2_Score))+SUMPRODUCT((Teams2=U28)*(Teams2_Score<Teams1_Score))","v":0},{"$f":"SUMPRODUCT((Teams1=U28)*(Teams1_Score))+SUMPRODUCT((Teams2=U28)*(Teams2_Score))","v":5},{"$f":"SUMPRODUCT((Teams1=U28)*(Teams2_Score))+SUMPRODUCT((Teams2=U28)*(Teams1_Score))","v":3},{"$f":"Z28-AA28","v":2},{"$f":"3*W28+X28","v":7}]
[null,{"$f":"VLOOKUP($D29,TABLEAU_MATCHS[#All],2,FALSE)","v":"2018-06-21"},{"$f":"VLOOKUP($D29,TABLEAU_MATCHS[#All],3,FALSE)","v":"17:00:00"},22,{"$f":"\"Groupe \"&VLOOKUP($I29,TABLEAU_TEAMS[[#All],[TEAM]:[GROUP_INITIAL_RANK]],2,FALSE)","v":"Groupe C"},2.2999999999999998,3,2.9,{"$f":"VLOOKUP($D29,TABLEAU_MATCHS[#All],4,FALSE)","v":"France"},2,null,{"$f":"VLOOKUP($D29,TABLEAU_MATCHS[#All],5,FALSE)","v":"Pérou"},0,{"$f":"IF(OR(ISBLANK(RESULTATS!J29),ISBLANK(J29)),\"\",IF(AND(Marie!J29=RESULTATS!J29,Marie!M29=RESULTATS!M29),3,IF(OR(AND(Marie!J29>Marie!M29,RESULTATS!J29>RESULTATS!M29),AND(Marie!J29<Marie!M29,RESULTATS!J29<RESULTATS!M29),AND(Marie!J29=Marie!M29,RESULTATS!J29=RESULTATS!M29)),1,0)))","v":""},null,null,null,"00710Nigeria",710,3,"Nigeria",{"$f":"SUMPRODUCT((Teams1=U29)*(Teams1_Score<>\"\"))+SUMPRODUCT((Teams2=U29)*(Teams2_Score<>\"\"))","v":3},{"$f":"SUMPRODUCT((Teams1=U29)*(Teams1_Score>Teams2_Score))+SUMPRODUCT((Teams2=U29)*(Teams2_Score>Teams1_Score))","v":0},{"$f":"SUMPRODUCT((Teams1=U29)*(Teams1_Score=Teams2_Score)*(Teams1_Score<>\"\"))+SUMPRODUCT((Teams2=U29)*(Teams2_Score=Teams1_Score)*(Teams2_Score<>\"\"))","v":1},{"$f":"SUMPRODUCT((Teams1=U29)*(Teams1_Score<Teams2_Score))+SUMPRODUCT((Teams2=U29)*(Teams2_Score<Teams1_Score))","v":2},{"$f":"SUMPRODUCT((Teams1=U29)*(Teams1_Score))+SUMPRODUCT((Teams2=U29)*(Teams2_Score))","v":1},{"$f":"SUMPRODUCT((Teams1=U29)*(Teams2_Score))+SUMPRODUCT((Teams2=U29)*(Teams1_Score))","v":4},{"$f":"Z29-AA29","v":-3},{"$f":"3*W29+X29","v":1},null,null,"2018-07-14",null,{"$f":"+IF(AJ33<>\"\",IF(AI33>AO33,AN33,AH33),\"Perdant 1\")","v":"Brésil"},{"$f":"AJ29*10+AL29","v":40},4,null,null,null,{"$f":"+IF(AJ34<>\"\",IF(AI34>AO34,AN34,AH34),\"Perdant 2\")","v":"Allemagne"},{"$f":"AP29*10+AR29","v":10},1]
[null,{"$f":"VLOOKUP($D30,TABLEAU_MATCHS[#All],2,FALSE)","v":"2018-06-21"},{"$f":"VLOOKUP($D30,TABLEAU_MATCHS[#All],3,FALSE)","v":"20:00:00"},23,{"$f":"\"Groupe \"&VLOOKUP($I30,TABLEAU_TEAMS[[#All],[TEAM]:[GROUP_INITIAL_RANK]],2,FALSE)","v":"Groupe D"},2.4,3,2.8,{"$f":"VLOOKUP($D30,TABLEAU_MATCHS[#All],4,FALSE)","v":"Argentine"},1,null,{"$f":"VLOOKUP($D30,TABLEAU_MATCHS[#All],5,FALSE)","v":"Croatie"},1,{"$f":"IF(OR(ISBLANK(RESULTATS!J30),ISBLANK(J30)),\"\",IF(AND(Marie!J30=RESULTATS!J30,Marie!M30=RESULTATS!M30),3,IF(OR(AND(Marie!J30>Marie!M30,RESULTATS!J30>RESULTATS!M30),AND(Marie!J30<Marie!M30,RESULTATS!J30<RESULTATS!M30),AND(Marie!J30=Marie!M30,RESULTATS!J30=RESULTATS!M30)),1,0)))","v":""},null,null,null,"00610Islande",610,4,"Islande",{"$f":"SUMPRODUCT((Teams1=U30)*(Teams1_Score<>\"\"))+SUMPRODUCT((Teams2=U30)*(Teams2_Score<>\"\"))","v":3},{"$f":"SUMPRODUCT((Teams1=U30)*(Teams1_Score>Teams2_Score))+SUMPRODUCT((Teams2=U30)*(Teams2_Score>Teams1_Score))","v":0},{"$f":"SUMPRODUCT((Teams1=U30)*(Teams1_Score=Teams2_Score)*(Teams1_Score<>\"\"))+SUMPRODUCT((Teams2=U30)*(Teams2_Score=Teams1_Score)*(Teams2_Score<>\"\"))","v":1},{"$f":"SUMPRODUCT((Teams1=U30)*(Teams1_Score<Teams2_Score))+SUMPRODUCT((Teams2=U30)*(Teams2_Score<Teams1_Score))","v":2},{"$f":"SUMPRODUCT((Teams1=U30)*(Teams1_Score))+SUMPRODUCT((Teams2=U30)*(Teams2_Score))","v":1},{"$f":"SUMPRODUCT((Teams1=U30)*(Teams2_Score))+SUMPRODUCT((Teams2=U30)*(Teams1_Score))","v":5},{"$f":"Z30-AA30","v":-4},{"$f":"3*W30+X30","v":1}]
[null,{"$f":"VLOOKUP($D31,TABLEAU_MATCHS[#All],2,FALSE)","v":"2018-06-22"},{"$f":"VLOOKUP($D31,TABLEAU_MATCHS[#All],3,FALSE)","v":"17:00:00"},24,{"$f":"\"Groupe \"&VLOOKUP($I31,TABLEAU_TEAMS[[#All],[TEAM]:[GROUP_INITIAL_RANK]],2,FALSE)","v":"Groupe D"},1.26,4.5999999999999996,9.5,{"$f":"VLOOKUP($D31,TABLEAU_MATCHS[#All],4,FALSE)","v":"Nigeria"},0,null,{"$f":"VLOOKUP($D31,TABLEAU_MATCHS[#All],5,FALSE)","v":"Islande"},0,{"$f":"IF(OR(ISBLANK(RESULTATS!J31),ISBLANK(J31)),\"\",IF(AND(Marie!J31=RESULTATS!J31,Marie!M31=RESULTATS!M31),3,IF(OR(AND(Marie!J31>Marie!M31,RESULTATS!J31>RESULTATS!M31),AND(Marie!J31<Marie!M31,RESULTATS!J31<RESULTATS!M31),AND(Marie!J31=Marie!M31,RESULTATS!J31=RESULTATS!M31)),1,0)))","v":""},null,null,null,null,null,null,null,null,null,null,null,null,null,null,null,null,null,"Date","Demi Finale",null,null,"Buts",null,"Pen",null,null,null,"Buts",null,"Pen"]
[null,{"$f":"VLOOKUP($D32,TABLEAU_MATCHS[#All],2,FALSE)","v":"2018-06-22"},{"$f":"VLOOKUP($D32,TABLEAU_MATCHS[#All],3,FALSE)","v":"14:00:00"},25,{"$f":"\"Groupe \"&VLOOKUP($I32,TABLEAU_TEAMS[[#All],[TEAM]:[GROUP_INITIAL_RANK]],2,FALSE)","v":"Groupe E"},3.5,2.95,2.1,{"$f":"VLOOKUP($D32,TABLEAU_MATCHS[#All],4,FALSE)","v":"Brésil"},3,null,{"$f":"VLOOKUP($D32,TABLEAU_MATCHS[#All],5,FALSE)","v":"Costa Rica"},1,{"$f":"IF(OR(ISBLANK(RESULTATS!J32),ISBLANK(J32)),\"\",IF(AND(Marie!J32=RESULTATS!J32,Marie!M32=RESULTATS!M32),3,IF(OR(AND(Marie!J32>Marie!M32,RESULTATS!J32>RESULTATS!M32),AND(Marie!J32<Marie!M32,RESULTATS!J32<RESULTATS!M32),AND(Marie!J32=Marie!M32,RESULTATS!J32=RESULTATS!M32)),1,0)))","v":""},null,null,null,null,null,"Rg","Groupe E","MJ","G","N","P","BP","BC","+/-","Pts"]
[null,{"$f":"VLOOKUP($D33,TABLEAU_MATCHS[#All],2,FALSE)","v":"2018-06-22"},{"$f":"VLOOKUP($D33,TABLEAU_MATCHS[#All],3,FALSE)","v":"20:00:00"},26,{"$f":"\"Groupe \"&VLOOKUP($I33,TABLEAU_TEAMS[[#All],[TEAM]:[GROUP_INITIAL_RANK]],2,FALSE)","v":"Groupe E"},4.8,3.25,1.62,{"$f":"VLOOKUP($D33,TABLEAU_MATCHS[#All],4,FALSE)","v":"Serbie"},0,null,{"$f":"VLOOKUP($D33,TABLEAU_MATCHS[#All],5,FALSE)","v":"Suisse"},2,{"$f":"IF(OR(ISBLANK(RESULTATS!J33),ISBLANK(J33)),\"\",IF(AND(Marie!J33=RESULTATS!J33,Marie!M33=RESULTATS!M33),3,IF(OR(AND(Marie!J33>Marie!M33,RESULTATS!J33>RESULTATS!M33),AND(Marie!J33<Marie!M33,RESULTATS!J33<RESULTATS!M33),AND(Marie!J33=Marie!M33,RESULTATS!J33=RESULTATS!M33)),1,0)))","v":""},null,null,null,{"$f":"INDEX($R84:$R87,MATCH(SMALL(COUNTIF($R84:$R87,\">=\"&$R84:$R87),ROW(INDIRECT(\"1:\"&ROWS($R84:$R87)))),COUNTIF($R84:$R87,\">=\"&$R84:$R87),0))","v":"09890Brésil"},{"$f":"INDEX($S84:$S87,MATCH(SMALL(COUNTIF($R84:$R87,\">=\"&$R84:$R87),ROW(INDIRECT(\"1:\"&ROWS($R84:$R87)))),COUNTIF($R84:$R87,\">=\"&$R84:$R87),0))","v":9890},{"$f":"INDEX($T84:$T87,MATCH(SMALL(COUNTIF($R84:$R87,\">=\"&$R84:$R87),ROW(INDIRECT(\"1:\"&ROWS($R84:$R87)))),COUNTIF($R84:$R87,\">=\"&$R84:$R87),0))","v":1},{"$f":"INDEX($U84:$U87,MATCH(SMALL(COUNTIF($R84:$R87,\">=\"&$R84:$R87),ROW(INDIRECT(\"1:\"&ROWS($R84:$R87)))),COUNTIF($R84:$R87,\">=\"&$R84:$R87),0))","v":"Brésil"},{"$f":"SUMPRODUCT((Teams1=U33)*(Teams1_Score<>\"\"))+SUMPRODUCT((Teams2=U33)*(Teams2_Score<>\"\"))","v":3},{"$f":"SUMPRODUCT((Teams1=U33)*(Teams1_Score>Teams2_Score))+SUMPRODUCT((Teams2=U33)*(Teams2_Score>Teams1_Score))","v":3},{"$f":"SUMPRODUCT((Teams1=U33)*(Teams1_Score=Teams2_Score)*(Teams1_Score<>\"\"))+SUMPRODUCT((Teams2=U33)*(Teams2_Score=Teams1_Score)*(Teams2_Score<>\"\"))","v":0},{"$f":"SUMPRODUCT((Teams1=U33)*(Teams1_Score<Teams2_Score))+SUMPRODUCT((Teams2=U33)*(Teams2_Score<Teams1_Score))","v":0},{"$f":"SUMPRODUCT((Teams1=U33)*(Teams1_Score))+SUMPRODUCT((Teams2=U33)*(Teams2_Score))","v":9},{"$f":"SUMPRODUCT((Teams1=U33)*(Teams2_Score))+SUMPRODUCT((Teams2=U33)*(Teams1_Score))","v":1},{"$f":"Z33-AA33","v":8},{"$f":"3*W33+X33","v":9},null,null,"2018-07-10",1,{"$f":"+IF(AJ38<>\"\",IF(AI38>AO38,AH38,AN38),\"Vainqueur A\")","v":"France"},{"$f":"AJ33*10+AL33","v":30},3,{"$f":"IF(LEFT(AH33,5)<>\"Vainq\",COUNTIF(RESULTATS!$AG$18:$AM$19,AH33),0)","v":0},null,null,{"$f":"+IF(AJ40<>\"\",IF(AI40>AO40,AH40,AN40),\"Vainqueur C\")","v":"Brésil"},{"$f":"AP33*10+AR33","v":20},2,{"$f":"IF(LEFT(AN33,5)<>\"Vainq\",COUNTIF(RESULTATS!$AG$18:$AM$19,AN33),0)","v":0}]
[null,{"$f":"VLOOKUP($D34,TABLEAU_MATCHS[#All],2,FALSE)","v":"2018-06-23"},{"$f":"VLOOKUP($D34,TABLEAU_MATCHS[#All],3,FALSE)","v":"20:00:00"},27,{"$f":"\"Groupe \"&VLOOKUP($I34,TABLEAU_TEAMS[[#All],[TEAM]:[GROUP_INITIAL_RANK]],2,FALSE)","v":"Groupe F"},1.1200000000000001,6.5,15,{"$f":"VLOOKUP($D34,TABLEAU_MATCHS[#All],4,FALSE)","v":"République de Corée"},0,null,{"$f":"VLOOKUP($D34,TABLEAU_MATCHS[#All],5,FALSE)","v":"Mexique"},2,{"$f":"IF(OR(ISBLANK(RESULTATS!J34),ISBLANK(J34)),\"\",IF(AND(Marie!J34=RESULTATS!J34,Marie!M34=RESULTATS!M34),3,IF(OR(AND(Marie!J34>Marie!M34,RESULTATS!J34>RESULTATS!M34),AND(Marie!J34<Marie!M34,RESULTATS!J34<RESULTATS!M34),AND(Marie!J34=Marie!M34,RESULTATS!J34=RESULTATS!M34)),1,0)))","v":""},null,null,null,"06140Suisse",6140,2,"Suisse",{"$f":"SUMPRODUCT((Teams1=U34)*(Teams1_Score<>\"\"))+SUMPRODUCT((Teams2=U34)*(Teams2_Score<>\"\"))","v":3},{"$f":"SUMPRODUCT((Teams1=U34)*(Teams1_Score>Teams2_Score))+SUMPRODUCT((Teams2=U34)*(Teams2_Score>Teams1_Score))","v":2},{"$f":"SUMPRODUCT((Teams1=U34)*(Teams1_Score=Teams2_Score)*(Teams1_Score<>\"\"))+SUMPRODUCT((Teams2=U34)*(Teams2_Score=Teams1_Score)*(Teams2_Score<>\"\"))","v":0},{"$f":"SUMPRODUCT((Teams1=U34)*(Teams1_Score<Teams2_Score))+SUMPRODUCT((Teams2=U34)*(Teams2_Score<Teams1_Score))","v":1},{"$f":"SUMPRODUCT((Teams1=U34)*(Teams1_Score))+SUMPRODUCT((Teams2=U34)*(Teams2_Score))","v":4},{"$f":"SUMPRODUCT((Teams1=U34)*(Teams2_Score))+SUMPRODUCT((Teams2=U34)*(Teams1_Score))","v":3},{"$f":"Z34-AA34","v":1},{"$f":"3*W34+X34","v":6},null,null,"2018-07-11",2,{"$f":"+IF(AJ39<>\"\",IF(AI39>AO39,AH39,AN39),\"Vainqueur B\")","v":"Danemark"},{"$f":"AJ34*10+AL34","v":30},3,{"$f":"IF(LEFT(AH34,5)<>\"Vainq\",COUNTIF(RESULTATS!$AG$18:$AM$19,AH34),0)","v":0},null,null,{"$f":"+IF(AJ41<>\"\",IF(AI41>AO41,AH41,AN41),\"Vainqueur D\")","v":"Allemagne"},{"$f":"AP34*10+AR34","v":10},1,{"$f":"IF(LEFT(AN34,5)<>\"Vainq\",COUNTIF(RESULTATS!$AG$18:$AM$19,AN34),0)","v":0}]
[null,{"$f":"VLOOKUP($D35,TABLEAU_MATCHS[#All],2,FALSE)","v":"2018-06-23"},{"$f":"VLOOKUP($D35,TABLEAU_MATCHS[#All],3,FALSE)","v":"17:00:00"},28,{"$f":"\"Groupe \"&VLOOKUP($I35,TABLEAU_TEAMS[[#All],[TEAM]:[GROUP_INITIAL_RANK]],2,FALSE)","v":"Groupe F"},2.8,2.95,2.4,{"$f":"VLOOKUP($D35,TABLEAU_MATCHS[#All],4,FALSE)","v":"Allemagne"},3,null,{"$f":"VLOOKUP($D35,TABLEAU_MATCHS[#All],5,FALSE)","v":"Suède"},1,{"$f":"IF(OR(ISBLANK(RESULTATS!J35),ISBLANK(J35)),\"\",IF(AND(Marie!J35=RESULTATS!J35,Marie!M35=RESULTATS!M35),3,IF(OR(AND(Marie!J35>Marie!M35,RESULTATS!J35>RESULTATS!M35),AND(Marie!J35<Marie!M35,RESULTATS!J35<RESULTATS!M35),AND(Marie!J35=Marie!M35,RESULTATS!J35=RESULTATS!M35)),1,0)))","v":""},null,null,null,"02720Costa Rica",2720,3,"Costa Rica",{"$f":"SUMPRODUCT((Teams1=U35)*(Teams1_Score<>\"\"))+SUMPRODUCT((Teams2=U35)*(Teams2_Score<>\"\"))","v":3},{"$f":"SUMPRODUCT((Teams1=U35)*(Teams1_Score>Teams2_Score))+SUMPRODUCT((Teams2=U35)*(Teams2_Score>Teams1_Score))","v":1},{"$f":"SUMPRODUCT((Teams1=U35)*(Teams1_Score=Teams2_Score)*(Teams1_Score<>\"\"))+SUMPRODUCT((Teams2=U35)*(Teams2_Score=Teams1_Score)*(Teams2_Score<>\"\"))","v":0},{"$f":"SUMPRODUCT((Teams1=U35)*(Teams1_Score<Teams2_Score))+SUMPRODUCT((Teams2=U35)*(Teams2_Score<Teams1_Score))","v":2},{"$f":"SUMPRODUCT((Teams1=U35)*(Teams1_Score))+SUMPRODUCT((Teams2=U35)*(Teams2_Score))","v":2},{"$f":"SUMPRODUCT((Teams1=U35)*(Teams2_Score))+SUMPRODUCT((Teams2=U35)*(Teams1_Score))","v":5},{"$f":"Z35-AA35","v":-3},{"$f":"3*W35+X35","v":3},null,null,null,null,null,null,null,{"$f":"SUM(AK33:AK34)","v":0},null,null,null,null,null,{"$f":"SUM(AQ33:AQ34)","v":0}]
[null,{"$f":"VLOOKUP($D36,TABLEAU_MATCHS[#All],2,FALSE)","v":"2018-06-23"},{"$f":"VLOOKUP($D36,TABLEAU_MATCHS[#All],3,FALSE)","v":"14:00:00"},29,{"$f":"\"Groupe \"&VLOOKUP($I36,TABLEAU_TEAMS[[#All],[TEAM]:[GROUP_INITIAL_RANK]],2,FALSE)","v":"Groupe G"},1.36,4,7.5,{"$f":"VLOOKUP($D36,TABLEAU_MATCHS[#All],4,FALSE)","v":"Belgique"},2,null,{"$f":"VLOOKUP($D36,TABLEAU_MATCHS[#All],5,FALSE)","v":"Tunisie"},1,{"$f":"IF(OR(ISBLANK(RESULTATS!J36),ISBLANK(J36)),\"\",IF(AND(Marie!J36=RESULTATS!J36,Marie!M36=RESULTATS!M36),3,IF(OR(AND(Marie!J36>Marie!M36,RESULTATS!J36>RESULTATS!M36),AND(Marie!J36<Marie!M36,RESULTATS!J36<RESULTATS!M36),AND(Marie!J36=Marie!M36,RESULTATS!J36=RESULTATS!M36)),1,0)))","v":""},null,null,null,"-00600Serbie",-600,4,"Serbie",{"$f":"SUMPRODUCT((Teams1=U36)*(Teams1_Score<>\"\"))+SUMPRODUCT((Teams2=U36)*(Teams2_Score<>\"\"))","v":3},{"$f":"SUMPRODUCT((Teams1=U36)*(Teams1_Score>Teams2_Score))+SUMPRODUCT((Teams2=U36)*(Teams2_Score>Teams1_Score))","v":0},{"$f":"SUMPRODUCT((Teams1=U36)*(Teams1_Score=Teams2_Score)*(Teams1_Score<>\"\"))+SUMPRODUCT((Teams2=U36)*(Teams2_Score=Teams1_Score)*(Teams2_Score<>\"\"))","v":0},{"$f":"SUMPRODUCT((Teams1=U36)*(Teams1_Score<Teams2_Score))+SUMPRODUCT((Teams2=U36)*(Teams2_Score<Teams1_Score))","v":3},{"$f":"SUMPRODUCT((Teams1=U36)*(Teams1_Score))+SUMPRODUCT((Teams2=U36)*(Teams2_Score))","v":0},{"$f":"SUMPRODUCT((Teams1=U36)*(Teams2_Score))+SUMPRODUCT((Teams2=U36)*(Teams1_Score))","v":6},{"$f":"Z36-AA36","v":-6},{"$f":"3*W36+X36","v":0},null,null,"Date","Quart de Finale",null,null,"Buts",null,"Pen",null,null,null,"Buts",null,"Pen"]
[null,{"$f":"VLOOKUP($D37,TABLEAU_MATCHS[#All],2,FALSE)","v":"2018-06-24"},{"$f":"VLOOKUP($D37,TABLEAU_MATCHS[#All],3,FALSE)","v":"14:00:00"},30,{"$f":"\"Groupe \"&VLOOKUP($I37,TABLEAU_TEAMS[[#All],[TEAM]:[GROUP_INITIAL_RANK]],2,FALSE)","v":"Groupe G"},4.7,3.4,1.62,{"$f":"VLOOKUP($D37,TABLEAU_MATCHS[#All],4,FALSE)","v":"Angleterre"},4,null,{"$f":"VLOOKUP($D37,TABLEAU_MATCHS[#All],5,FALSE)","v":"Panama"},1,{"$f":"IF(OR(ISBLANK(RESULTATS!J37),ISBLANK(J37)),\"\",IF(AND(Marie!J37=RESULTATS!J37,Marie!M37=RESULTATS!M37),3,IF(OR(AND(Marie!J37>Marie!M37,RESULTATS!J37>RESULTATS!M37),AND(Marie!J37<Marie!M37,RESULTATS!J37<RESULTATS!M37),AND(Marie!J37=Marie!M37,RESULTATS!J37=RESULTATS!M37)),1,0)))","v":""}]
[null,{"$f":"VLOOKUP($D38,TABLEAU_MATCHS[#All],2,FALSE)","v":"2018-06-24"},{"$f":"VLOOKUP($D38,TABLEAU_MATCHS[#All],3,FALSE)","v":"17:00:00"},31,{"$f":"\"Groupe \"&VLOOKUP($I38,TABLEAU_TEAMS[[#All],[TEAM]:[GROUP_INITIAL_RANK]],2,FALSE)","v":"Groupe H"},2.1,2.95,3.35,{"$f":"VLOOKUP($D38,TABLEAU_MATCHS[#All],4,FALSE)","v":"Japon"},0,null,{"$f":"VLOOKUP($D38,TABLEAU_MATCHS[#All],5,FALSE)","v":"Sénégal"},2,{"$f":"IF(OR(ISBLANK(RESULTATS!J38),ISBLANK(J38)),\"\",IF(AND(Marie!J38=RESULTATS!J38,Marie!M38=RESULTATS!M38),3,IF(OR(AND(Marie!J38>Marie!M38,RESULTATS!J38>RESULTATS!M38),AND(Marie!J38<Marie!M38,RESULTATS!J38<RESULTATS!M38),AND(Marie!J38=Marie!M38,RESULTATS!J38=RESULTATS!M38)),1,0)))","v":""},null,null,null,null,null,"Rg","Groupe F","MJ","G","N","P","BP","BC","+/-","Pts",null,null,"2018-07-06","A",{"$f":"+IF(AJ45<>\"\",IF(AI45>AO45,AH45,AN45),\"Vainqueur 1\")","v":"Uruguay"},{"$f":"AJ38*10+AL38","v":10},1,{"$f":"IF(LEFT(AH38,5)<>\"Vainq\",COUNTIF(RESULTATS!$AG$23:$AM$26,AH38),0)","v":0},null,null,{"$f":"+IF(AJ47<>\"\",IF(AI47>AO47,AH47,AN47),\"Vainqueur 3\")","v":"France"},{"$f":"AP38*10+AR38","v":30},3,{"$f":"IF(LEFT(AN38,5)<>\"Vainq\",COUNTIF(RESULTATS!$AG$23:$AM$26,AN38),0)","v":0}]
[null,{"$f":"VLOOKUP($D39,TABLEAU_MATCHS[#All],2,FALSE)","v":"2018-06-24"},{"$f":"VLOOKUP($D39,TABLEAU_MATCHS[#All],3,FALSE)","v":"20:00:00"},32,{"$f":"\"Groupe \"&VLOOKUP($I39,TABLEAU_TEAMS[[#All],[TEAM]:[GROUP_INITIAL_RANK]],2,FALSE)","v":"Groupe H"},1.9,3,3.8,{"$f":"VLOOKUP($D39,TABLEAU_MATCHS[#All],4,FALSE)","v":"Pologne"},1,null,{"$f":"VLOOKUP($D39,TABLEAU_MATCHS[#All],5,FALSE)","v":"Colombie"},2,{"$f":"IF(OR(ISBLANK(RESULTATS!J39),ISBLANK(J39)),\"\",IF(AND(Marie!J39=RESULTATS!J39,Marie!M39=RESULTATS!M39),3,IF(OR(AND(Marie!J39>Marie!M39,RESULTATS!J39>RESULTATS!M39),AND(Marie!J39<Marie!M39,RESULTATS!J39<RESULTATS!M39),AND(Marie!J39=Marie!M39,RESULTATS!J39=RESULTATS!M39)),1,0)))","v":""},null,null,null,{"$f":"INDEX($R90:$R93,MATCH(SMALL(COUNTIF($R90:$R93,\">=\"&$R90:$R93),ROW(INDIRECT(\"1:\"&ROWS($R90:$R93)))),COUNTIF($R90:$R93,\">=\"&$R90:$R93),0))","v":"09910Allemagne"},{"$f":"INDEX($S90:$S93,MATCH(SMALL(COUNTIF($R90:$R93,\">=\"&$R90:$R93),ROW(INDIRECT(\"1:\"&ROWS($R90:$R93)))),COUNTIF($R90:$R93,\">=\"&$R90:$R93),0))","v":9910},{"$f":"INDEX($T90:$T93,MATCH(SMALL(COUNTIF($R90:$R93,\">=\"&$R90:$R93),ROW(INDIRECT(\"1:\"&ROWS($R90:$R93)))),COUNTIF($R90:$R93,\">=\"&$R90:$R93),0))","v":1},{"$f":"INDEX($U90:$U93,MATCH(SMALL(COUNTIF($R90:$R93,\">=\"&$R90:$R93),ROW(INDIRECT(\"1:\"&ROWS($R90:$R93)))),COUNTIF($R90:$R93,\">=\"&$R90:$R93),0))","v":"Allemagne"},{"$f":"SUMPRODUCT((Teams1=U39)*(Teams1_Score<>\"\"))+SUMPRODUCT((Teams2=U39)*(Teams2_Score<>\"\"))","v":3},{"$f":"SUMPRODUCT((Teams1=U39)*(Teams1_Score>Teams2_Score))+SUMPRODUCT((Teams2=U39)*(Teams2_Score>Teams1_Score))","v":3},{"$f":"SUMPRODUCT((Teams1=U39)*(Teams1_Score=Teams2_Score)*(Teams1_Score<>\"\"))+SUMPRODUCT((Teams2=U39)*(Teams2_Score=Teams1_Score)*(Teams2_Score<>\"\"))","v":0},{"$f":"SUMPRODUCT((Teams1=U39)*(Teams1_Score<Teams2_Score))+SUMPRODUCT((Teams2=U39)*(Teams2_Score<Teams1_Score))","v":0},{"$f":"SUMPRODUCT((Teams1=U39)*(Teams1_Score))+SUMPRODUCT((Teams2=U39)*(Teams2_Score))","v":11},{"$f":"SUMPRODUCT((Teams1=U39)*(Teams2_Score))+SUMPRODUCT((Teams2=U39)*(Teams1_Score))","v":3},{"$f":"Z39-AA39","v":8},{"$f":"3*W39+X39","v":9},null,null,"2018-07-07","B",{"$f":"+IF(AJ46<>\"\",IF(AI46>AO46,AH46,AN46),\"Vainqueur 2\")","v":"Espagne"},{"$f":"AJ39*10+AL39","v":10},1,{"$f":"IF(LEFT(AH39,5)<>\"Vainq\",COUNTIF(RESULTATS!$AG$23:$AM$26,AH39),0)","v":0},null,null,{"$f":"+IF(AJ48<>\"\",IF(AI48>AO48,AH48,AN48),\"Vainqueur 4\")","v":"Danemark"},{"$f":"AP39*10+AR39","v":20},2,{"$f":"IF(LEFT(AN39,5)<>\"Vainq\",COUNTIF(RESULTATS!$AG$23:$AM$26,AN39),0)","v":0}]
[null,{"$f":"VLOOKUP($D40,TABLEAU_MATCHS[#All],2,FALSE)","v":"2018-06-25"},{"$f":"VLOOKUP($D40,TABLEAU_MATCHS[#All],3,FALSE)","v":"16:00:00"},33,{"$f":"\"Groupe \"&VLOOKUP($I40,TABLEAU_TEAMS[[#All],[TEAM]:[GROUP_INITIAL_RANK]],2,FALSE)","v":"Groupe A"},11,6.5,1.17,{"$f":"VLOOKUP($D40,TABLEAU_MATCHS[#All],4,FALSE)","v":"Uruguay"},2,null,{"$f":"VLOOKUP($D40,TABLEAU_MATCHS[#All],5,FALSE)","v":"Russie"},0,{"$f":"IF(OR(ISBLANK(RESULTATS!J40),ISBLANK(J40)),\"\",IF(AND(Marie!J40=RESULTATS!J40,Marie!M40=RESULTATS!M40),3,IF(OR(AND(Marie!J40>Marie!M40,RESULTATS!J40>RESULTATS!M40),AND(Marie!J40<Marie!M40,RESULTATS!J40<RESULTATS!M40),AND(Marie!J40=Marie!M40,RESULTATS!J40=RESULTATS!M40)),1,0)))","v":""},null,null,null,"03940Suède",3940,2,"Suède",{"$f":"SUMPRODUCT((Teams1=U40)*(Teams1_Score<>\"\"))+SUMPRODUCT((Teams2=U40)*(Teams2_Score<>\"\"))","v":3},{"$f":"SUMPRODUCT((Teams1=U40)*(Teams1_Score>Teams2_Score))+SUMPRODUCT((Teams2=U40)*(Teams2_Score>Teams1_Score))","v":1},{"$f":"SUMPRODUCT((Teams1=U40)*(Teams1_Score=Teams2_Score)*(Teams1_Score<>\"\"))+SUMPRODUCT((Teams2=U40)*(Teams2_Score=Teams1_Score)*(Teams2_Score<>\"\"))","v":1},{"$f":"SUMPRODUCT((Teams1=U40)*(Teams1_Score<Teams2_Score))+SUMPRODUCT((Teams2=U40)*(Teams2_Score<Teams1_Score))","v":1},{"$f":"SUMPRODUCT((Teams1=U40)*(Teams1_Score))+SUMPRODUCT((Teams2=U40)*(Teams2_Score))","v":4},{"$f":"SUMPRODUCT((Teams1=U40)*(Teams2_Score))+SUMPRODUCT((Teams2=U40)*(Teams1_Score))","v":5},{"$f":"Z40-AA40","v":-1},{"$f":"3*W40+X40","v":4},null,null,"2018-07-06","C",{"$f":"+IF(AJ49<>\"\",IF(AI49>AO49,AH49,AN49),\"Vainqueur 5\")","v":"Brésil"},{"$f":"AJ40*10+AL40","v":30},3,{"$f":"IF(LEFT(AH40,5)<>\"Vainq\",COUNTIF(RESULTATS!$AG$23:$AM$26,AH40),0)","v":0},null,null,{"$f":"+IF(AJ51<>\"\",IF(AI51>AO51,AH51,AN51),\"Vainqueur 7\")","v":"Angleterre"},{"$f":"AP40*10+AR40","v":10},1,{"$f":"IF(LEFT(AN40,5)<>\"Vainq\",COUNTIF(RESULTATS!$AG$23:$AM$26,AN40),0)","v":0}]
[null,{"$f":"VLOOKUP($D41,TABLEAU_MATCHS[#All],2,FALSE)","v":"2018-06-25"},{"$f":"VLOOKUP($D41,TABLEAU_MATCHS[#All],3,FALSE)","v":"16:00:00"},34,{"$f":"\"Groupe \"&VLOOKUP($I41,TABLEAU_TEAMS[[#All],[TEAM]:[GROUP_INITIAL_RANK]],2,FALSE)","v":"Groupe A"},2.4,2.95,2.75,{"$f":"VLOOKUP($D41,TABLEAU_MATCHS[#All],4,FALSE)","v":"Arabie Saoudite"},0,null,{"$f":"VLOOKUP($D41,TABLEAU_MATCHS[#All],5,FALSE)","v":"Egypte"},2,{"$f":"IF(OR(ISBLANK(RESULTATS!J41),ISBLANK(J41)),\"\",IF(AND(Marie!J41=RESULTATS!J41,Marie!M41=RESULTATS!M41),3,IF(OR(AND(Marie!J41>Marie!M41,RESULTATS!J41>RESULTATS!M41),AND(Marie!J41<Marie!M41,RESULTATS!J41<RESULTATS!M41),AND(Marie!J41=Marie!M41,RESULTATS!J41=RESULTATS!M41)),1,0)))","v":""},null,null,null,"03940Mexique",3940,2,"Mexique",{"$f":"SUMPRODUCT((Teams1=U41)*(Teams1_Score<>\"\"))+SUMPRODUCT((Teams2=U41)*(Teams2_Score<>\"\"))","v":3},{"$f":"SUMPRODUCT((Teams1=U41)*(Teams1_Score>Teams2_Score))+SUMPRODUCT((Teams2=U41)*(Teams2_Score>Teams1_Score))","v":1},{"$f":"SUMPRODUCT((Teams1=U41)*(Teams1_Score=Teams2_Score)*(Teams1_Score<>\"\"))+SUMPRODUCT((Teams2=U41)*(Teams2_Score=Teams1_Score)*(Teams2_Score<>\"\"))","v":1},{"$f":"SUMPRODUCT((Teams1=U41)*(Teams1_Score<Teams2_Score))+SUMPRODUCT((Teams2=U41)*(Teams2_Score<Teams1_Score))","v":1},{"$f":"SUMPRODUCT((Teams1=U41)*(Teams1_Score))+SUMPRODUCT((Teams2=U41)*(Teams2_Score))","v":4},{"$f":"SUMPRODUCT((Teams1=U41)*(Teams2_Score))+SUMPRODUCT((Teams2=U41)*(Teams1_Score))","v":5},{"$f":"Z41-AA41","v":-1},{"$f":"3*W41+X41","v":4},null,null,"2018-07-07","D",{"$f":"+IF(AJ50<>\"\",IF(AI50>AO50,AH50,AN50),\"Vainqueur 6\")","v":"Allemagne"},{"$f":"AJ41*10+AL41","v":20},2,{"$f":"IF(LEFT(AH41,5)<>\"Vainq\",COUNTIF(RESULTATS!$AG$23:$AM$26,AH41),0)","v":0},null,null,{"$f":"+IF(AJ52<>\"\",IF(AI52>AO52,AH52,AN52),\"Vainqueur 8\")","v":"Colombie"},{"$f":"AP41*10+AR41","v":10},1,{"$f":"IF(LEFT(AN41,5)<>\"Vainq\",COUNTIF(RESULTATS!$AG$23:$AM$26,AN41),0)","v":0}]
[null,{"$f":"VLOOKUP($D42,TABLEAU_MATCHS[#All],2,FALSE)","v":"2018-06-25"},{"$f":"VLOOKUP($D42,TABLEAU_MATCHS[#All],3,FALSE)","v":"20:00:00"},35,{"$f":"\"Groupe \"&VLOOKUP($I42,TABLEAU_TEAMS[[#All],[TEAM]:[GROUP_INITIAL_RANK]],2,FALSE)","v":"Groupe B"},13,6.5,1.1399999999999999,{"$f":"VLOOKUP($D42,TABLEAU_MATCHS[#All],4,FALSE)","v":"RI Iran"},0,null,{"$f":"VLOOKUP($D42,TABLEAU_MATCHS[#All],5,FALSE)","v":"Portugal"},2,{"$f":"IF(OR(ISBLANK(RESULTATS!J42),ISBLANK(J42)),\"\",IF(AND(Marie!J42=RESULTATS!J42,Marie!M42=RESULTATS!M42),3,IF(OR(AND(Marie!J42>Marie!M42,RESULTATS!J42>RESULTATS!M42),AND(Marie!J42<Marie!M42,RESULTATS!J42<RESULTATS!M42),AND(Marie!J42=Marie!M42,RESULTATS!J42=RESULTATS!M42)),1,0)))","v":""},null,null,null,"-00580République de Corée",-580,4,"République de Corée",{"$f":"SUMPRODUCT((Teams1=U42)*(Teams1_Score<>\"\"))+SUMPRODUCT((Teams2=U42)*(Teams2_Score<>\"\"))","v":3},{"$f":"SUMPRODUCT((Teams1=U42)*(Teams1_Score>Teams2_Score))+SUMPRODUCT((Teams2=U42)*(Teams2_Score>Teams1_Score))","v":0},{"$f":"SUMPRODUCT((Teams1=U42)*(Teams1_Score=Teams2_Score)*(Teams1_Score<>\"\"))+SUMPRODUCT((Teams2=U42)*(Teams2_Score=Teams1_Score)*(Teams2_Score<>\"\"))","v":0},{"$f":"SUMPRODUCT((Teams1=U42)*(Teams1_Score<Teams2_Score))+SUMPRODUCT((Teams2=U42)*(Teams2_Score<Teams1_Score))","v":3},{"$f":"SUMPRODUCT((Teams1=U42)*(Teams1_Score))+SUMPRODUCT((Teams2=U42)*(Teams2_Score))","v":2},{"$f":"SUMPRODUCT((Teams1=U42)*(Teams2_Score))+SUMPRODUCT((Teams2=U42)*(Teams1_Score))","v":8},{"$f":"Z42-AA42","v":-6},{"$f":"3*W42+X42","v":0},null,null,null,null,null,null,null,{"$f":"SUM(AK38:AK41)","v":0},null,null,null,null,null,{"$f":"SUM(AQ38:AQ41)","v":0}]
[null,{"$f":"VLOOKUP($D43,TABLEAU_MATCHS[#All],2,FALSE)","v":"2018-06-25"},{"$f":"VLOOKUP($D43,TABLEAU_MATCHS[#All],3,FALSE)","v":"20:00:00"},36,{"$f":"\"Groupe \"&VLOOKUP($I43,TABLEAU_TEAMS[[#All],[TEAM]:[GROUP_INITIAL_RANK]],2,FALSE)","v":"Groupe B"},2.25,3.1,2.95,{"$f":"VLOOKUP($D43,TABLEAU_MATCHS[#All],4,FALSE)","v":"Espagne"},3,null,{"$f":"VLOOKUP($D43,TABLEAU_MATCHS[#All],5,FALSE)","v":"Maroc"},0,{"$f":"IF(OR(ISBLANK(RESULTATS!J43),ISBLANK(J43)),\"\",IF(AND(Marie!J43=RESULTATS!J43,Marie!M43=RESULTATS!M43),3,IF(OR(AND(Marie!J43>Marie!M43,RESULTATS!J43>RESULTATS!M43),AND(Marie!J43<Marie!M43,RESULTATS!J43<RESULTATS!M43),AND(Marie!J43=Marie!M43,RESULTATS!J43=RESULTATS!M43)),1,0)))","v":""},null,null,null,null,null,null,null,null,null,null,null,null,null,null,null,null,null,"Date","Huitième de Finale",null,null,"Buts",null,"Pen",null,null,null,"Buts",null,"Pen"]
[null,{"$f":"VLOOKUP($D44,TABLEAU_MATCHS[#All],2,FALSE)","v":"2018-06-26"},{"$f":"VLOOKUP($D44,TABLEAU_MATCHS[#All],3,FALSE)","v":"16:00:00"},37,{"$f":"\"Groupe \"&VLOOKUP($I44,TABLEAU_TEAMS[[#All],[TEAM]:[GROUP_INITIAL_RANK]],2,FALSE)","v":"Groupe C"},4.3,3.25,1.76,{"$f":"VLOOKUP($D44,TABLEAU_MATCHS[#All],4,FALSE)","v":"Danemark"},0,null,{"$f":"VLOOKUP($D44,TABLEAU_MATCHS[#All],5,FALSE)","v":"France"},2,{"$f":"IF(OR(ISBLANK(RESULTATS!J44),ISBLANK(J44)),\"\",IF(AND(Marie!J44=RESULTATS!J44,Marie!M44=RESULTATS!M44),3,IF(OR(AND(Marie!J44>Marie!M44,RESULTATS!J44>RESULTATS!M44),AND(Marie!J44<Marie!M44,RESULTATS!J44<RESULTATS!M44),AND(Marie!J44=Marie!M44,RESULTATS!J44=RESULTATS!M44)),1,0)))","v":""},null,null,null,null,null,"Rg","Groupe G","MJ","G","N","P","BP","BC","+/-","Pts"]
[null,{"$f":"VLOOKUP($D45,TABLEAU_MATCHS[#All],2,FALSE)","v":"2018-06-26"},{"$f":"VLOOKUP($D45,TABLEAU_MATCHS[#All],3,FALSE)","v":"16:00:00"},38,{"$f":"\"Groupe \"&VLOOKUP($I45,TABLEAU_TEAMS[[#All],[TEAM]:[GROUP_INITIAL_RANK]],2,FALSE)","v":"Groupe C"},3.05,3,2.25,{"$f":"VLOOKUP($D45,TABLEAU_MATCHS[#All],4,FALSE)","v":"Australie"},3,null,{"$f":"VLOOKUP($D45,TABLEAU_MATCHS[#All],5,FALSE)","v":"Pérou"},1,{"$f":"IF(OR(ISBLANK(RESULTATS!J45),ISBLANK(J45)),\"\",IF(AND(Marie!J45=RESULTATS!J45,Marie!M45=RESULTATS!M45),3,IF(OR(AND(Marie!J45>Marie!M45,RESULTATS!J45>RESULTATS!M45),AND(Marie!J45<Marie!M45,RESULTATS!J45<RESULTATS!M45),AND(Marie!J45=Marie!M45,RESULTATS!J45=RESULTATS!M45)),1,0)))","v":""},null,null,null,{"$f":"INDEX($R96:$R99,MATCH(SMALL(COUNTIF($R96:$R99,\">=\"&$R96:$R99),ROW(INDIRECT(\"1:\"&ROWS($R96:$R99)))),COUNTIF($R96:$R99,\">=\"&$R96:$R99),0))","v":"09790Angleterre"},{"$f":"INDEX($S96:$S99,MATCH(SMALL(COUNTIF($R96:$R99,\">=\"&$R96:$R99),ROW(INDIRECT(\"1:\"&ROWS($R96:$R99)))),COUNTIF($R96:$R99,\">=\"&$R96:$R99),0))","v":9790},{"$f":"INDEX($T96:$T99,MATCH(SMALL(COUNTIF($R96:$R99,\">=\"&$R96:$R99),ROW(INDIRECT(\"1:\"&ROWS($R96:$R99)))),COUNTIF($R96:$R99,\">=\"&$R96:$R99),0))","v":1},{"$f":"INDEX($U96:$U99,MATCH(SMALL(COUNTIF($R96:$R99,\">=\"&$R96:$R99),ROW(INDIRECT(\"1:\"&ROWS($R96:$R99)))),COUNTIF($R96:$R99,\">=\"&$R96:$R99),0))","v":"Angleterre"},{"$f":"SUMPRODUCT((Teams1=U45)*(Teams1_Score<>\"\"))+SUMPRODUCT((Teams2=U45)*(Teams2_Score<>\"\"))","v":3},{"$f":"SUMPRODUCT((Teams1=U45)*(Teams1_Score>Teams2_Score))+SUMPRODUCT((Teams2=U45)*(Teams2_Score>Teams1_Score))","v":3},{"$f":"SUMPRODUCT((Teams1=U45)*(Teams1_Score=Teams2_Score)*(Teams1_Score<>\"\"))+SUMPRODUCT((Teams2=U45)*(Teams2_Score=Teams1_Score)*(Teams2_Score<>\"\"))","v":0},{"$f":"SUMPRODUCT((Teams1=U45)*(Teams1_Score<Teams2_Score))+SUMPRODUCT((Teams2=U45)*(Teams2_Score<Teams1_Score))","v":0},{"$f":"SUMPRODUCT((Teams1=U45)*(Teams1_Score))+SUMPRODUCT((Teams2=U45)*(Teams2_Score))","v":9},{"$f":"SUMPRODUCT((Teams1=U45)*(Teams2_Score))+SUMPRODUCT((Teams2=U45)*(Teams1_Score))","v":2},{"$f":"Z45-AA45","v":7},{"$f":"3*W45+X45","v":9},null,null,"2018-06-30",1,{"$f":"IF(SUM(V9:V12)=0,\"1er Groupe A\",IF(COUNTIF(T9:T12,1)=1,VLOOKUP(1,T9:U12,2,FALSE),IF(COUNTIF(T9:T12,1)>=2,\"Tirage au Sort A1\")))","v":"Uruguay"},{"$f":"AJ45*10+AL45","v":20},2,{"$f":"IF(AND(LEFT(AH45,3)<>\"1er\",LEFT(AH45,3)<>\"2nd\"),COUNTIF(RESULTATS!$AG$30:$AM$37,AH45),0)","v":1},null,null,{"$f":"IF(SUM(V15:V18)=0,\"2nd Groupe B\",IF(OR(COUNTIF(T15:T18,1)>1,COUNTIF(T15:T18,2)>1),\"Tirage au sort B2\",VLOOKUP(2,T15:U18,2,FALSE)))","v":"Portugal"},{"$f":"AP45*10+AR45","v":0},0,{"$f":"IF(AND(LEFT(AN45,3)<>\"1er\",LEFT(AN45,3)<>\"2nd\"),COUNTIF(RESULTATS!$AG$30:$AM$37,AN45),0)","v":0}]
[null,{"$f":"VLOOKUP($D46,TABLEAU_MATCHS[#All],2,FALSE)","v":"2018-06-26"},{"$f":"VLOOKUP($D46,TABLEAU_MATCHS[#All],3,FALSE)","v":"20:00:00"},39,{"$f":"\"Groupe \"&VLOOKUP($I46,TABLEAU_TEAMS[[#All],[TEAM]:[GROUP_INITIAL_RANK]],2,FALSE)","v":"Groupe D"},2.4,2.9,2.85,{"$f":"VLOOKUP($D46,TABLEAU_MATCHS[#All],4,FALSE)","v":"Nigeria"},0,null,{"$f":"VLOOKUP($D46,TABLEAU_MATCHS[#All],5,FALSE)","v":"Argentine"},2,{"$f":"IF(OR(ISBLANK(RESULTATS!J46),ISBLANK(J46)),\"\",IF(AND(Marie!J46=RESULTATS!J46,Marie!M46=RESULTATS!M46),3,IF(OR(AND(Marie!J46>Marie!M46,RESULTATS!J46>RESULTATS!M46),AND(Marie!J46<Marie!M46,RESULTATS!J46<RESULTATS!M46),AND(Marie!J46=Marie!M46,RESULTATS!J46=RESULTATS!M46)),1,0)))","v":""},null,null,null,"06260Belgique",6260,2,"Belgique",{"$f":"SUMPRODUCT((Teams1=U46)*(Teams1_Score<>\"\"))+SUMPRODUCT((Teams2=U46)*(Teams2_Score<>\"\"))","v":3},{"$f":"SUMPRODUCT((Teams1=U46)*(Teams1_Score>Teams2_Score))+SUMPRODUCT((Teams2=U46)*(Teams2_Score>Teams1_Score))","v":2},{"$f":"SUMPRODUCT((Teams1=U46)*(Teams1_Score=Teams2_Score)*(Teams1_Score<>\"\"))+SUMPRODUCT((Teams2=U46)*(Teams2_Score=Teams1_Score)*(Teams2_Score<>\"\"))","v":0},{"$f":"SUMPRODUCT((Teams1=U46)*(Teams1_Score<Teams2_Score))+SUMPRODUCT((Teams2=U46)*(Teams2_Score<Teams1_Score))","v":1},{"$f":"SUMPRODUCT((Teams1=U46)*(Teams1_Score))+SUMPRODUCT((Teams2=U46)*(Teams2_Score))","v":6},{"$f":"SUMPRODUCT((Teams1=U46)*(Teams2_Score))+SUMPRODUCT((Teams2=U46)*(Teams1_Score))","v":4},{"$f":"Z46-AA46","v":2},{"$f":"3*W46+X46","v":6},null,null,"2018-07-01",2,{"$f":"IF(SUM(V15:V18)=0,\"1er Groupe B\",IF(COUNTIF(T15:T18,1)=1,VLOOKUP(1,T15:U18,2,FALSE),IF(COUNTIF(T15:T18,1)>=2,\"Tirage au Sort B1\")))","v":"Espagne"},{"$f":"AJ46*10+AL46","v":30},3,{"$f":"IF(AND(LEFT(AH46,3)<>\"1er\",LEFT(AH46,3)<>\"2nd\"),COUNTIF(RESULTATS!$AG$30:$AM$37,AH46),0)","v":0},null,null,{"$f":"IF(SUM(V9:V12)=0,\"2nd Groupe A\",IF(OR(COUNTIF(T9:T12,1)>1,COUNTIF(T9:T12,2)>1),\"Tirage au sort A2\",VLOOKUP(2,T9:U12,2,FALSE)))","v":"Russie"},10,1,{"$f":"IF(AND(LEFT(AN46,3)<>\"1er\",LEFT(AN46,3)<>\"2nd\"),COUNTIF(RESULTATS!$AG$30:$AM$37,AN46),0)","v":1}]
[null,{"$f":"VLOOKUP($D47,TABLEAU_MATCHS[#All],2,FALSE)","v":"2018-06-26"},{"$f":"VLOOKUP($D47,TABLEAU_MATCHS[#All],3,FALSE)","v":"20:00:00"},40,{"$f":"\"Groupe \"&VLOOKUP($I47,TABLEAU_TEAMS[[#All],[TEAM]:[GROUP_INITIAL_RANK]],2,FALSE)","v":"Groupe D"},6.5,3.7,1.44,{"$f":"VLOOKUP($D47,TABLEAU_MATCHS[#All],4,FALSE)","v":"Islande"},1,null,{"$f":"VLOOKUP($D47,TABLEAU_MATCHS[#All],5,FALSE)","v":"Croatie"},2,{"$f":"IF(OR(ISBLANK(RESULTATS!J47),ISBLANK(J47)),\"\",IF(AND(Marie!J47=RESULTATS!J47,Marie!M47=RESULTATS!M47),3,IF(OR(AND(Marie!J47>Marie!M47,RESULTATS!J47>RESULTATS!M47),AND(Marie!J47<Marie!M47,RESULTATS!J47<RESULTATS!M47),AND(Marie!J47=Marie!M47,RESULTATS!J47=RESULTATS!M47)),1,0)))","v":""},null,null,null,"02830Tunisie",2830,3,"Tunisie",{"$f":"SUMPRODUCT((Teams1=U47)*(Teams1_Score<>\"\"))+SUMPRODUCT((Teams2=U47)*(Teams2_Score<>\"\"))","v":3},{"$f":"SUMPRODUCT((Teams1=U47)*(Teams1_Score>Teams2_Score))+SUMPRODUCT((Teams2=U47)*(Teams2_Score>Teams1_Score))","v":1},{"$f":"SUMPRODUCT((Teams1=U47)*(Teams1_Score=Teams2_Score)*(Teams1_Score<>\"\"))+SUMPRODUCT((Teams2=U47)*(Teams2_Score=Teams1_Score)*(Teams2_Score<>\"\"))","v":0},{"$f":"SUMPRODUCT((Teams1=U47)*(Teams1_Score<Teams2_Score))+SUMPRODUCT((Teams2=U47)*(Teams2_Score<Teams1_Score))","v":2},{"$f":"SUMPRODUCT((Teams1=U47)*(Teams1_Score))+SUMPRODUCT((Teams2=U47)*(Teams2_Score))","v":3},{"$f":"SUMPRODUCT((Teams1=U47)*(Teams2_Score))+SUMPRODUCT((Teams2=U47)*(Teams1_Score))","v":5},{"$f":"Z47-AA47","v":-2},{"$f":"3*W47+X47","v":3},null,null,"2017-06-30",3,{"$f":"IF(SUM(V21:V24)=0,\"1er Groupe C\",IF(COUNTIF(T21:T24,1)=1,VLOOKUP(1,T21:U24,2,FALSE),IF(COUNTIF(T21:T24,1)>=2,\"Tirage au Sort C1\")))","v":"France"},20,2,{"$f":"IF(AND(LEFT(AH47,3)<>\"1er\",LEFT(AH47,3)<>\"2nd\"),COUNTIF(RESULTATS!$AG$30:$AM$37,AH47),0)","v":0},null,null,{"$f":"IF(SUM(V27:V30)=0,\"2nd Groupe D\",IF(OR(COUNTIF(T27:T30,1)>1,COUNTIF(T27:T30,2)>1),\"Tirage au sort D2\",VLOOKUP(2,T27:U30,2,FALSE)))","v":"Croatie"},0,0,{"$f":"IF(AND(LEFT(AN47,3)<>\"1er\",LEFT(AN47,3)<>\"2nd\"),COUNTIF(RESULTATS!$AG$30:$AM$37,AN47),0)","v":0}]
[null,{"$f":"VLOOKUP($D48,TABLEAU_MATCHS[#All],2,FALSE)","v":"2018-06-27"},{"$f":"VLOOKUP($D48,TABLEAU_MATCHS[#All],3,FALSE)","v":"20:00:00"},41,{"$f":"\"Groupe \"&VLOOKUP($I48,TABLEAU_TEAMS[[#All],[TEAM]:[GROUP_INITIAL_RANK]],2,FALSE)","v":"Groupe E"},6.5,3.5,1.48,{"$f":"VLOOKUP($D48,TABLEAU_MATCHS[#All],4,FALSE)","v":"Serbie"},0,null,{"$f":"VLOOKUP($D48,TABLEAU_MATCHS[#All],5,FALSE)","v":"Brésil"},3,{"$f":"IF(OR(ISBLANK(RESULTATS!J48),ISBLANK(J48)),\"\",IF(AND(Marie!J48=RESULTATS!J48,Marie!M48=RESULTATS!M48),3,IF(OR(AND(Marie!J48>Marie!M48,RESULTATS!J48>RESULTATS!M48),AND(Marie!J48<Marie!M48,RESULTATS!J48<RESULTATS!M48),AND(Marie!J48=Marie!M48,RESULTATS!J48=RESULTATS!M48)),1,0)))","v":""},null,null,null,"-00680Panama",-680,4,"Panama",{"$f":"SUMPRODUCT((Teams1=U48)*(Teams1_Score<>\"\"))+SUMPRODUCT((Teams2=U48)*(Teams2_Score<>\"\"))","v":3},{"$f":"SUMPRODUCT((Teams1=U48)*(Teams1_Score>Teams2_Score))+SUMPRODUCT((Teams2=U48)*(Teams2_Score>Teams1_Score))","v":0},{"$f":"SUMPRODUCT((Teams1=U48)*(Teams1_Score=Teams2_Score)*(Teams1_Score<>\"\"))+SUMPRODUCT((Teams2=U48)*(Teams2_Score=Teams1_Score)*(Teams2_Score<>\"\"))","v":0},{"$f":"SUMPRODUCT((Teams1=U48)*(Teams1_Score<Teams2_Score))+SUMPRODUCT((Teams2=U48)*(Teams2_Score<Teams1_Score))","v":3},{"$f":"SUMPRODUCT((Teams1=U48)*(Teams1_Score))+SUMPRODUCT((Teams2=U48)*(Teams2_Score))","v":2},{"$f":"SUMPRODUCT((Teams1=U48)*(Teams2_Score))+SUMPRODUCT((Teams2=U48)*(Teams1_Score))","v":9},{"$f":"Z48-AA48","v":-7},{"$f":"3*W48+X48","v":0},null,null,"2018-07-01",4,{"$f":"IF(SUM(V27:V30)=0,\"1er Groupe D\",IF(COUNTIF(T27:T30,1)=1,VLOOKUP(1,T27:U30,2,FALSE),IF(COUNTIF(T27:T30,1)>=2,\"Tirage au Sort D1\")))","v":"Argentine"},10,1,{"$f":"IF(AND(LEFT(AH48,3)<>\"1er\",LEFT(AH48,3)<>\"2nd\"),COUNTIF(RESULTATS!$AG$30:$AM$37,AH48),0)","v":0},null,null,{"$f":"IF(SUM(V21:V24)=0,\"2nd Groupe C\",IF(OR(COUNTIF(T21:T24,1)>1,COUNTIF(T21:T24,2)>1),\"Tirage au sort C2\",VLOOKUP(2,T21:U24,2,FALSE)))","v":"Danemark"},30,3,{"$f":"IF(AND(LEFT(AN48,3)<>\"1er\",LEFT(AN48,3)<>\"2nd\"),COUNTIF(RESULTATS!$AG$30:$AM$37,AN48),0)","v":0}]
[null,{"$f":"VLOOKUP($D49,TABLEAU_MATCHS[#All],2,FALSE)","v":"2018-06-27"},{"$f":"VLOOKUP($D49,TABLEAU_MATCHS[#All],3,FALSE)","v":"20:00:00"},42,{"$f":"\"Groupe \"&VLOOKUP($I49,TABLEAU_TEAMS[[#All],[TEAM]:[GROUP_INITIAL_RANK]],2,FALSE)","v":"Groupe E"},4,3.05,1.9,{"$f":"VLOOKUP($D49,TABLEAU_MATCHS[#All],4,FALSE)","v":"Suisse"},2,null,{"$f":"VLOOKUP($D49,TABLEAU_MATCHS[#All],5,FALSE)","v":"Costa Rica"},0,{"$f":"IF(OR(ISBLANK(RESULTATS!J49),ISBLANK(J49)),\"\",IF(AND(Marie!J49=RESULTATS!J49,Marie!M49=RESULTATS!M49),3,IF(OR(AND(Marie!J49>Marie!M49,RESULTATS!J49>RESULTATS!M49),AND(Marie!J49<Marie!M49,RESULTATS!J49<RESULTATS!M49),AND(Marie!J49=Marie!M49,RESULTATS!J49=RESULTATS!M49)),1,0)))","v":""},null,null,null,null,null,null,null,null,null,null,null,null,null,null,null,null,null,"2018-07-02",5,{"$f":"IF(SUM(V33:V36)=0,\"1er Groupe E\",IF(COUNTIF(T33:T36,1)=1,VLOOKUP(1,T33:U36,2,FALSE),IF(COUNTIF(T33:T36,1)>=2,\"Tirage au Sort E1\")))","v":"Brésil"},30,3,{"$f":"IF(AND(LEFT(AH49,3)<>\"1er\",LEFT(AH49,3)<>\"2nd\"),COUNTIF(RESULTATS!$AG$30:$AM$37,AH49),0)","v":0},null,null,"Suède",0,0,{"$f":"IF(AND(LEFT(AN49,3)<>\"1er\",LEFT(AN49,3)<>\"2nd\"),COUNTIF(RESULTATS!$AG$30:$AM$37,AN49),0)","v":0}]
[null,{"$f":"VLOOKUP($D50,TABLEAU_MATCHS[#All],2,FALSE)","v":"2018-06-27"},{"$f":"VLOOKUP($D50,TABLEAU_MATCHS[#All],3,FALSE)","v":"16:00:00"},43,{"$f":"\"Groupe \"&VLOOKUP($I50,TABLEAU_TEAMS[[#All],[TEAM]:[GROUP_INITIAL_RANK]],2,FALSE)","v":"Groupe F"},8.5,4.3,1.3,{"$f":"VLOOKUP($D50,TABLEAU_MATCHS[#All],4,FALSE)","v":"Mexique"},1,null,{"$f":"VLOOKUP($D50,TABLEAU_MATCHS[#All],5,FALSE)","v":"Suède"},1,{"$f":"IF(OR(ISBLANK(RESULTATS!J50),ISBLANK(J50)),\"\",IF(AND(Marie!J50=RESULTATS!J50,Marie!M50=RESULTATS!M50),3,IF(OR(AND(Marie!J50>Marie!M50,RESULTATS!J50>RESULTATS!M50),AND(Marie!J50<Marie!M50,RESULTATS!J50<RESULTATS!M50),AND(Marie!J50=Marie!M50,RESULTATS!J50=RESULTATS!M50)),1,0)))","v":""},null,null,null,null,null,"Rg","Groupe H","MJ","G","N","P","BP","BC","+/-","Pts",null,null,"2018-07-03",6,{"$f":"IF(SUM(V39:V42)=0,\"1er Groupe F\",IF(COUNTIF(T39:T42,1)=1,VLOOKUP(1,T39:U42,2,FALSE),IF(COUNTIF(T39:T42,1)>=2,\"Tirage au Sort F1\")))","v":"Allemagne"},30,3,{"$f":"IF(AND(LEFT(AH50,3)<>\"1er\",LEFT(AH50,3)<>\"2nd\"),COUNTIF(RESULTATS!$AG$30:$AM$37,AH50),0)","v":0},null,null,{"$f":"IF(SUM(V33:V36)=0,\"2nd Groupe E\",IF(OR(COUNTIF(T33:T36,1)>1,COUNTIF(T33:T36,2)>1),\"Tirage au sort E2\",VLOOKUP(2,T33:U36,2,FALSE)))","v":"Suisse"},10,1,{"$f":"IF(AND(LEFT(AN50,3)<>\"1er\",LEFT(AN50,3)<>\"2nd\"),COUNTIF(RESULTATS!$AG$30:$AM$37,AN50),0)","v":0}]
[null,{"$f":"VLOOKUP($D51,TABLEAU_MATCHS[#All],2,FALSE)","v":"2018-06-27"},{"$f":"VLOOKUP($D51,TABLEAU_MATCHS[#All],3,FALSE)","v":"16:00:00"},44,{"$f":"\"Groupe \"&VLOOKUP($I51,TABLEAU_TEAMS[[#All],[TEAM]:[GROUP_INITIAL_RANK]],2,FALSE)","v":"Groupe F"},1.48,3.6,6.25,{"$f":"VLOOKUP($D51,TABLEAU_MATCHS[#All],4,FALSE)","v":"République de Corée"},1,null,{"$f":"VLOOKUP($D51,TABLEAU_MATCHS[#All],5,FALSE)","v":"Allemagne"},4,{"$f":"IF(OR(ISBLANK(RESULTATS!J51),ISBLANK(J51)),\"\",IF(AND(Marie!J51=RESULTATS!J51,Marie!M51=RESULTATS!M51),3,IF(OR(AND(Marie!J51>Marie!M51,RESULTATS!J51>RESULTATS!M51),AND(Marie!J51<Marie!M51,RESULTATS!J51<RESULTATS!M51),AND(Marie!J51=Marie!M51,RESULTATS!J51=RESULTATS!M51)),1,0)))","v":""},null,null,null,{"$f":"INDEX($R102:$R105,MATCH(SMALL(COUNTIF($R102:$R105,\">=\"&$R102:$R105),ROW(INDIRECT(\"1:\"&ROWS($R102:$R105)))),COUNTIF($R102:$R105,\">=\"&$R102:$R105),0))","v":"09560Colombie"},{"$f":"INDEX($S102:$S105,MATCH(SMALL(COUNTIF($R102:$R105,\">=\"&$R102:$R105),ROW(INDIRECT(\"1:\"&ROWS($R102:$R105)))),COUNTIF($R102:$R105,\">=\"&$R102:$R105),0))","v":9560},{"$f":"INDEX($T102:$T105,MATCH(SMALL(COUNTIF($R102:$R105,\">=\"&$R102:$R105),ROW(INDIRECT(\"1:\"&ROWS($R102:$R105)))),COUNTIF($R102:$R105,\">=\"&$R102:$R105),0))","v":1},{"$f":"INDEX($U102:$U105,MATCH(SMALL(COUNTIF($R102:$R105,\">=\"&$R102:$R105),ROW(INDIRECT(\"1:\"&ROWS($R102:$R105)))),COUNTIF($R102:$R105,\">=\"&$R102:$R105),0))","v":"Colombie"},{"$f":"SUMPRODUCT((Teams1=U51)*(Teams1_Score<>\"\"))+SUMPRODUCT((Teams2=U51)*(Teams2_Score<>\"\"))","v":3},{"$f":"SUMPRODUCT((Teams1=U51)*(Teams1_Score>Teams2_Score))+SUMPRODUCT((Teams2=U51)*(Teams2_Score>Teams1_Score))","v":3},{"$f":"SUMPRODUCT((Teams1=U51)*(Teams1_Score=Teams2_Score)*(Teams1_Score<>\"\"))+SUMPRODUCT((Teams2=U51)*(Teams2_Score=Teams1_Score)*(Teams2_Score<>\"\"))","v":0},{"$f":"SUMPRODUCT((Teams1=U51)*(Teams1_Score<Teams2_Score))+SUMPRODUCT((Teams2=U51)*(Teams2_Score<Teams1_Score))","v":0},{"$f":"SUMPRODUCT((Teams1=U51)*(Teams1_Score))+SUMPRODUCT((Teams2=U51)*(Teams2_Score))","v":6},{"$f":"SUMPRODUCT((Teams1=U51)*(Teams2_Score))+SUMPRODUCT((Teams2=U51)*(Teams1_Score))","v":1},{"$f":"Z51-AA51","v":5},{"$f":"3*W51+X51","v":9},null,null,"2018-07-02",7,{"$f":"IF(SUM(V45:V48)=0,\"1er Groupe G\",IF(COUNTIF(T45:T48,1)=1,VLOOKUP(1,T45:U48,2,FALSE),IF(COUNTIF(T45:T48,1)>=2,\"Tirage au Sort G1\")))","v":"Angleterre"},20,2,{"$f":"IF(AND(LEFT(AH51,3)<>\"1er\",LEFT(AH51,3)<>\"2nd\"),COUNTIF(RESULTATS!$AG$30:$AM$37,AH51),0)","v":0},null,null,{"$f":"IF(SUM(V51:V54)=0,\"2nd Groupe H\",IF(OR(COUNTIF(T51:T54,1)>1,COUNTIF(T51:T54,2)>1),\"Tirage au sort H2\",VLOOKUP(2,T51:U54,2,FALSE)))","v":"Pologne"},0,0,{"$f":"IF(AND(LEFT(AN51,3)<>\"1er\",LEFT(AN51,3)<>\"2nd\"),COUNTIF(RESULTATS!$AG$30:$AM$37,AN51),0)","v":0}]
[null,{"$f":"VLOOKUP($D52,TABLEAU_MATCHS[#All],2,FALSE)","v":"2018-06-28"},{"$f":"VLOOKUP($D52,TABLEAU_MATCHS[#All],3,FALSE)","v":"20:00:00"},45,{"$f":"\"Groupe \"&VLOOKUP($I52,TABLEAU_TEAMS[[#All],[TEAM]:[GROUP_INITIAL_RANK]],2,FALSE)","v":"Groupe G"},8,4.2,1.32,{"$f":"VLOOKUP($D52,TABLEAU_MATCHS[#All],4,FALSE)","v":"Panama"},0,null,{"$f":"VLOOKUP($D52,TABLEAU_MATCHS[#All],5,FALSE)","v":"Tunisie"},2,{"$f":"IF(OR(ISBLANK(RESULTATS!J52),ISBLANK(J52)),\"\",IF(AND(Marie!J52=RESULTATS!J52,Marie!M52=RESULTATS!M52),3,IF(OR(AND(Marie!J52>Marie!M52,RESULTATS!J52>RESULTATS!M52),AND(Marie!J52<Marie!M52,RESULTATS!J52<RESULTATS!M52),AND(Marie!J52=Marie!M52,RESULTATS!J52=RESULTATS!M52)),1,0)))","v":""},null,null,null,"04140Pologne",4140,2,"Pologne",{"$f":"SUMPRODUCT((Teams1=U52)*(Teams1_Score<>\"\"))+SUMPRODUCT((Teams2=U52)*(Teams2_Score<>\"\"))","v":3},{"$f":"SUMPRODUCT((Teams1=U52)*(Teams1_Score>Teams2_Score))+SUMPRODUCT((Teams2=U52)*(Teams2_Score>Teams1_Score))","v":1},{"$f":"SUMPRODUCT((Teams1=U52)*(Teams1_Score=Teams2_Score)*(Teams1_Score<>\"\"))+SUMPRODUCT((Teams2=U52)*(Teams2_Score=Teams1_Score)*(Teams2_Score<>\"\"))","v":1},{"$f":"SUMPRODUCT((Teams1=U52)*(Teams1_Score<Teams2_Score))+SUMPRODUCT((Teams2=U52)*(Teams2_Score<Teams1_Score))","v":1},{"$f":"SUMPRODUCT((Teams1=U52)*(Teams1_Score))+SUMPRODUCT((Teams2=U52)*(Teams2_Score))","v":4},{"$f":"SUMPRODUCT((Teams1=U52)*(Teams2_Score))+SUMPRODUCT((Teams2=U52)*(Teams1_Score))","v":3},{"$f":"Z52-AA52","v":1},{"$f":"3*W52+X52","v":4},null,null,"2018-07-03",8,{"$f":"IF(SUM(V51:V54)=0,\"1er Groupe H\",IF(COUNTIF(T51:T54,1)=1,VLOOKUP(1,T51:U54,2,FALSE),IF(COUNTIF(T51:T54,1)>=2,\"Tirage au Sort H1\")))","v":"Colombie"},20,2,{"$f":"IF(AND(LEFT(AH52,3)<>\"1er\",LEFT(AH52,3)<>\"2nd\"),COUNTIF(RESULTATS!$AG$30:$AM$37,AH52),0)","v":0},null,null,{"$f":"IF(SUM(V45:V48)=0,\"2nd Groupe G\",IF(OR(COUNTIF(T45:T48,1)>1,COUNTIF(T45:T48,2)>1),\"Tirage au sort G2\",VLOOKUP(2,T45:U48,2,FALSE)))","v":"Belgique"},10,1,{"$f":"IF(AND(LEFT(AN52,3)<>\"1er\",LEFT(AN52,3)<>\"2nd\"),COUNTIF(RESULTATS!$AG$30:$AM$37,AN52),0)","v":0}]
[null,{"$f":"VLOOKUP($D53,TABLEAU_MATCHS[#All],2,FALSE)","v":"2018-06-28"},{"$f":"VLOOKUP($D53,TABLEAU_MATCHS[#All],3,FALSE)","v":"20:00:00"},46,{"$f":"\"Groupe \"&VLOOKUP($I53,TABLEAU_TEAMS[[#All],[TEAM]:[GROUP_INITIAL_RANK]],2,FALSE)","v":"Groupe G"},1.74,3.2,4.0999999999999996,{"$f":"VLOOKUP($D53,TABLEAU_MATCHS[#All],4,FALSE)","v":"Angleterre"},2,null,{"$f":"VLOOKUP($D53,TABLEAU_MATCHS[#All],5,FALSE)","v":"Belgique"},1,{"$f":"IF(OR(ISBLANK(RESULTATS!J53),ISBLANK(J53)),\"\",IF(AND(Marie!J53=RESULTATS!J53,Marie!M53=RESULTATS!M53),3,IF(OR(AND(Marie!J53>Marie!M53,RESULTATS!J53>RESULTATS!M53),AND(Marie!J53<Marie!M53,RESULTATS!J53<RESULTATS!M53),AND(Marie!J53=Marie!M53,RESULTATS!J53=RESULTATS!M53)),1,0)))","v":""},null,null,null,"04030Sénégal",4030,3,"Sénégal",{"$f":"SUMPRODUCT((Teams1=U53)*(Teams1_Score<>\"\"))+SUMPRODUCT((Teams2=U53)*(Teams2_Score<>\"\"))","v":3},{"$f":"SUMPRODUCT((Teams1=U53)*(Teams1_Score>Teams2_Score))+SUMPRODUCT((Teams2=U53)*(Teams2_Score>Teams1_Score))","v":1},{"$f":"SUMPRODUCT((Teams1=U53)*(Teams1_Score=Teams2_Score)*(Teams1_Score<>\"\"))+SUMPRODUCT((Teams2=U53)*(Teams2_Score=Teams1_Score)*(Teams2_Score<>\"\"))","v":1},{"$f":"SUMPRODUCT((Teams1=U53)*(Teams1_Score<Teams2_Score))+SUMPRODUCT((Teams2=U53)*(Teams2_Score<Teams1_Score))","v":1},{"$f":"SUMPRODUCT((Teams1=U53)*(Teams1_Score))+SUMPRODUCT((Teams2=U53)*(Teams2_Score))","v":3},{"$f":"SUMPRODUCT((Teams1=U53)*(Teams2_Score))+SUMPRODUCT((Teams2=U53)*(Teams1_Score))","v":3},{"$f":"Z53-AA53","v":0},{"$f":"3*W53+X53","v":4},null,null,null,null,null,null,null,{"$f":"SUM(AK45:AK52)","v":1},null,null,null,0,null,{"$f":"SUM(AQ45:AQ52)","v":1}]
[null,{"$f":"VLOOKUP($D54,TABLEAU_MATCHS[#All],2,FALSE)","v":"2018-06-28"},{"$f":"VLOOKUP($D54,TABLEAU_MATCHS[#All],3,FALSE)","v":"16:00:00"},47,{"$f":"\"Groupe \"&VLOOKUP($I54,TABLEAU_TEAMS[[#All],[TEAM]:[GROUP_INITIAL_RANK]],2,FALSE)","v":"Groupe H"},4.9000000000000004,3.25,1.62,{"$f":"VLOOKUP($D54,TABLEAU_MATCHS[#All],4,FALSE)","v":"Japon"},0,null,{"$f":"VLOOKUP($D54,TABLEAU_MATCHS[#All],5,FALSE)","v":"Pologne"},2,{"$f":"IF(OR(ISBLANK(RESULTATS!J54),ISBLANK(J54)),\"\",IF(AND(Marie!J54=RESULTATS!J54,Marie!M54=RESULTATS!M54),3,IF(OR(AND(Marie!J54>Marie!M54,RESULTATS!J54>RESULTATS!M54),AND(Marie!J54<Marie!M54,RESULTATS!J54<RESULTATS!M54),AND(Marie!J54=Marie!M54,RESULTATS!J54=RESULTATS!M54)),1,0)))","v":""},null,null,null,"-00600Japon",-600,4,"Japon",{"$f":"SUMPRODUCT((Teams1=U54)*(Teams1_Score<>\"\"))+SUMPRODUCT((Teams2=U54)*(Teams2_Score<>\"\"))","v":3},{"$f":"SUMPRODUCT((Teams1=U54)*(Teams1_Score>Teams2_Score))+SUMPRODUCT((Teams2=U54)*(Teams2_Score>Teams1_Score))","v":0},{"$f":"SUMPRODUCT((Teams1=U54)*(Teams1_Score=Teams2_Score)*(Teams1_Score<>\"\"))+SUMPRODUCT((Teams2=U54)*(Teams2_Score=Teams1_Score)*(Teams2_Score<>\"\"))","v":0},{"$f":"SUMPRODUCT((Teams1=U54)*(Teams1_Score<Teams2_Score))+SUMPRODUCT((Teams2=U54)*(Teams2_Score<Teams1_Score))","v":3},{"$f":"SUMPRODUCT((Teams1=U54)*(Teams1_Score))+SUMPRODUCT((Teams2=U54)*(Teams2_Score))","v":0},{"$f":"SUMPRODUCT((Teams1=U54)*(Teams2_Score))+SUMPRODUCT((Teams2=U54)*(Teams1_Score))","v":6},{"$f":"Z54-AA54","v":-6},{"$f":"3*W54+X54","v":0}]
[null,{"$f":"VLOOKUP($D55,TABLEAU_MATCHS[#All],2,FALSE)","v":"2018-06-28"},{"$f":"VLOOKUP($D55,TABLEAU_MATCHS[#All],3,FALSE)","v":"16:00:00"},48,{"$f":"\"Groupe \"&VLOOKUP($I55,TABLEAU_TEAMS[[#All],[TEAM]:[GROUP_INITIAL_RANK]],2,FALSE)","v":"Groupe H"},6,3.4,1.52,{"$f":"VLOOKUP($D55,TABLEAU_MATCHS[#All],4,FALSE)","v":"Sénégal"},0,null,{"$f":"VLOOKUP($D55,TABLEAU_MATCHS[#All],5,FALSE)","v":"Colombie"},2,{"$f":"IF(OR(ISBLANK(RESULTATS!J55),ISBLANK(J55)),\"\",IF(AND(Marie!J55=RESULTATS!J55,Marie!M55=RESULTATS!M55),3,IF(OR(AND(Marie!J55>Marie!M55,RESULTATS!J55>RESULTATS!M55),AND(Marie!J55<Marie!M55,RESULTATS!J55<RESULTATS!M55),AND(Marie!J55=Marie!M55,RESULTATS!J55=RESULTATS!M55)),1,0)))","v":""}]
[null,null,null,null,null,null,null,null,null,null,null,null,null,{"$f":"SUM(N8:N55)","v":1}]
[]
[]
[null,"Tirage au sort A1",null,null,null,null,null,null,null,null,null,null,null,null,null,null,null,null,null,"Rg","Groupe A","MJ","G","N","P","BP","BC","+/-","Pts"]
[null,{"$f":"IF(ROWS($1:1)<=COUNTIF($T$9:$T$12,1),INDEX($U$9:$U$12,SMALL(IF($T$9:$T$12=1,ROW(INDIRECT(\"1:\"&ROWS($T$9:$T$12)))),ROWS($1:1))),\"\")","v":"Uruguay"},null,null,null,null,null,null,null,null,null,null,null,null,null,null,"A_1",{"$f":"TEXT(S60,\"00000\")&U60","v":"03930Russie"},{"$f":"AC60*1000+AB60*100+Z60*10","v":3930},{"$f":"RANK(S60,$S60:$S64,0)","v":2},{"$f":"VLOOKUP(Q60,TABLEAU_TEAMS[#All],2,FALSE)","v":"Russie"},{"$f":"SUMPRODUCT((Teams1=U60)*(Teams1_Score<>\"\"))+SUMPRODUCT((Teams2=U60)*(Teams2_Score<>\"\"))","v":3},{"$f":"SUMPRODUCT((Teams1=U60)*(Teams1_Score>Teams2_Score))+SUMPRODUCT((Teams2=U60)*(Teams2_Score>Teams1_Score))","v":1},{"$f":"SUMPRODUCT((Teams1=U60)*(Teams1_Score=Teams2_Score)*(Teams1_Score<>\"\"))+SUMPRODUCT((Teams2=U60)*(Teams2_Score=Teams1_Score)*(Teams2_Score<>\"\"))","v":1},{"$f":"SUMPRODUCT((Teams1=U60)*(Teams1_Score<Teams2_Score))+SUMPRODUCT((Teams2=U60)*(Teams2_Score<Teams1_Score))","v":1},{"$f":"SUMPRODUCT((Teams1=U60)*(Teams1_Score))+SUMPRODUCT((Teams2=U60)*(Teams2_Score))","v":3},{"$f":"SUMPRODUCT((Teams1=U60)*(Teams2_Score))+SUMPRODUCT((Teams2=U60)*(Teams1_Score))","v":4},{"$f":"Z60-AA60","v":-1},{"$f":"3*W60+X60","v":4}]
[null,{"$f":"IF(ROWS($1:2)<=COUNTIF($T$9:$T$12,1),INDEX($U$9:$U$12,SMALL(IF($T$9:$T$12=1,ROW(INDIRECT(\"1:\"&ROWS($T$9:$T$12)))),ROWS($1:2))),\"\")","v":""},null,null,null,null,null,null,null,null,null,null,null,null,null,null,"A_2",{"$f":"TEXT(S61,\"00000\")&U61","v":"00410Arabie Saoudite"},{"$f":"AC61*1000+AB61*100+Z61*10","v":410},{"$f":"RANK(S61,$S60:$S64,0)","v":4},{"$f":"VLOOKUP(Q61,TABLEAU_TEAMS[#All],2,FALSE)","v":"Arabie Saoudite"},{"$f":"SUMPRODUCT((Teams1=U61)*(Teams1_Score<>\"\"))+SUMPRODUCT((Teams2=U61)*(Teams2_Score<>\"\"))","v":3},{"$f":"SUMPRODUCT((Teams1=U61)*(Teams1_Score>Teams2_Score))+SUMPRODUCT((Teams2=U61)*(Teams2_Score>Teams1_Score))","v":0},{"$f":"SUMPRODUCT((Teams1=U61)*(Teams1_Score=Teams2_Score)*(Teams1_Score<>\"\"))+SUMPRODUCT((Teams2=U61)*(Teams2_Score=Teams1_Score)*(Teams2_Score<>\"\"))","v":1},{"$f":"SUMPRODUCT((Teams1=U61)*(Teams1_Score<Teams2_Score))+SUMPRODUCT((Teams2=U61)*(Teams2_Score<Teams1_Score))","v":2},{"$f":"SUMPRODUCT((Teams1=U61)*(Teams1_Score))+SUMPRODUCT((Teams2=U61)*(Teams2_Score))","v":1},{"$f":"SUMPRODUCT((Teams1=U61)*(Teams2_Score))+SUMPRODUCT((Teams2=U61)*(Teams1_Score))","v":7},{"$f":"Z61-AA61","v":-6},{"$f":"3*W61+X61","v":1}]
[null,{"$f":"IF(ROWS($1:3)<=COUNTIF($T$9:$T$12,1),INDEX($U$9:$U$12,SMALL(IF($T$9:$T$12=1,ROW(INDIRECT(\"1:\"&ROWS($T$9:$T$12)))),ROWS($1:3))),\"\")","v":""},null,null,null,null,null,null,null,null,null,null,null,null,null,null,"A_3",{"$f":"TEXT(S62,\"00000\")&U62","v":"02830Egypte"},{"$f":"AC62*1000+AB62*100+Z62*10","v":2830},{"$f":"RANK(S62,$S60:$S64,0)","v":3},{"$f":"VLOOKUP(Q62,TABLEAU_TEAMS[#All],2,FALSE)","v":"Egypte"},{"$f":"SUMPRODUCT((Teams1=U62)*(Teams1_Score<>\"\"))+SUMPRODUCT((Teams2=U62)*(Teams2_Score<>\"\"))","v":3},{"$f":"SUMPRODUCT((Teams1=U62)*(Teams1_Score>Teams2_Score))+SUMPRODUCT((Teams2=U62)*(Teams2_Score>Teams1_Score))","v":1},{"$f":"SUMPRODUCT((Teams1=U62)*(Teams1_Score=Teams2_Score)*(Teams1_Score<>\"\"))+SUMPRODUCT((Teams2=U62)*(Teams2_Score=Teams1_Score)*(Teams2_Score<>\"\"))","v":0},{"$f":"SUMPRODUCT((Teams1=U62)*(Teams1_Score<Teams2_Score))+SUMPRODUCT((Teams2=U62)*(Teams2_Score<Teams1_Score))","v":2},{"$f":"SUMPRODUCT((Teams1=U62)*(Teams1_Score))+SUMPRODUCT((Teams2=U62)*(Teams2_Score))","v":3},{"$f":"SUMPRODUCT((Teams1=U62)*(Teams2_Score))+SUMPRODUCT((Teams2=U62)*(Teams1_Score))","v":5},{"$f":"Z62-AA62","v":-2},{"$f":"3*W62+X62","v":3}]
[null,{"$f":"IF(ROWS($1:4)<=COUNTIF($T$9:$T$12,1),INDEX($U$9:$U$12,SMALL(IF($T$9:$T$12=1,ROW(INDIRECT(\"1:\"&ROWS($T$9:$T$12)))),ROWS($1:4))),\"\")","v":""},null,null,null,null,null,null,null,null,null,null,null,null,null,null,"A_4",{"$f":"TEXT(S63,\"00000\")&U63","v":"09990Uruguay"},{"$f":"AC63*1000+AB63*100+Z63*10","v":9990},{"$f":"RANK(S63,$S60:$S64,0)","v":1},{"$f":"VLOOKUP(Q63,TABLEAU_TEAMS[#All],2,FALSE)","v":"Uruguay"},{"$f":"SUMPRODUCT((Teams1=U63)*(Teams1_Score<>\"\"))+SUMPRODUCT((Teams2=U63)*(Teams2_Score<>\"\"))","v":3},{"$f":"SUMPRODUCT((Teams1=U63)*(Teams1_Score>Teams2_Score))+SUMPRODUCT((Teams2=U63)*(Teams2_Score>Teams1_Score))","v":3},{"$f":"SUMPRODUCT((Teams1=U63)*(Teams1_Score=Teams2_Score)*(Teams1_Score<>\"\"))+SUMPRODUCT((Teams2=U63)*(Teams2_Score=Teams1_Score)*(Teams2_Score<>\"\"))","v":0},{"$f":"SUMPRODUCT((Teams1=U63)*(Teams1_Score<Teams2_Score))+SUMPRODUCT((Teams2=U63)*(Teams2_Score<Teams1_Score))","v":0},{"$f":"SUMPRODUCT((Teams1=U63)*(Teams1_Score))+SUMPRODUCT((Teams2=U63)*(Teams2_Score))","v":9},{"$f":"SUMPRODUCT((Teams1=U63)*(Teams2_Score))+SUMPRODUCT((Teams2=U63)*(Teams1_Score))","v":0},{"$f":"Z63-AA63","v":9},{"$f":"3*W63+X63","v":9}]
[null,"Tirage au sort A2"]
[null,{"$f":"IF(COUNTIF($T$9:$T$12,1)>1,IF(ROWS($1:1)<=COUNTIF($T$9:$T$12,1),INDEX($U$9:$U$12,SMALL(IF($T$9:$T$12=1,ROW(INDIRECT(\"1:\"&ROWS($T$9:$T$12)))),ROWS($1:1))),\"\"),IF(COUNTIF($T$9:$T$12,2)>1,IF(ROWS($1:1)<=COUNTIF($T$9:$T$12,2),INDEX($U$9:$U$12,SMALL(IF($T$9:$T$12=2,ROW(INDIRECT(\"1:\"&ROWS($T$9:$T$12)))),ROWS($1:1))),\"\")))","v":false},null,null,null,null,null,null,null,null,null,null,null,null,null,null,null,null,null,"Rg","Groupe B","MJ","G","N","P","BP","BC","Pts","Pts"]
[null,{"$f":"IF(COUNTIF($T$9:$T$12,1)>1,IF(ROWS($1:2)<=COUNTIF($T$9:$T$12,1),INDEX($U$9:$U$12,SMALL(IF($T$9:$T$12=1,ROW(INDIRECT(\"1:\"&ROWS($T$9:$T$12)))),ROWS($1:2))),\"\"),IF(COUNTIF($T$9:$T$12,2)>1,IF(ROWS($1:2)<=COUNTIF($T$9:$T$12,2),INDEX($U$9:$U$12,SMALL(IF($T$9:$T$12=2,ROW(INDIRECT(\"1:\"&ROWS($T$9:$T$12)))),ROWS($1:2))),\"\")))","v":false},null,null,null,null,null,null,null,null,null,null,null,null,null,null,"B_1",{"$f":"TEXT(S66,\"00000\")&U66","v":"02720Maroc"},{"$f":"AC66*1000+AB66*100+Z66*10","v":2720},{"$f":"RANK(S66,$S66:$S70,0)","v":3},{"$f":"VLOOKUP(Q66,TABLEAU_TEAMS[#All],2,FALSE)","v":"Maroc"},{"$f":"SUMPRODUCT((Teams1=U66)*(Teams1_Score<>\"\"))+SUMPRODUCT((Teams2=U66)*(Teams2_Score<>\"\"))","v":3},{"$f":"SUMPRODUCT((Teams1=U66)*(Teams1_Score>Teams2_Score))+SUMPRODUCT((Teams2=U66)*(Teams2_Score>Teams1_Score))","v":1},{"$f":"SUMPRODUCT((Teams1=U66)*(Teams1_Score=Teams2_Score)*(Teams1_Score<>\"\"))+SUMPRODUCT((Teams2=U66)*(Teams2_Score=Teams1_Score)*(Teams2_Score<>\"\"))","v":0},{"$f":"SUMPRODUCT((Teams1=U66)*(Teams1_Score<Teams2_Score))+SUMPRODUCT((Teams2=U66)*(Teams2_Score<Teams1_Score))","v":2},{"$f":"SUMPRODUCT((Teams1=U66)*(Teams1_Score))+SUMPRODUCT((Teams2=U66)*(Teams2_Score))","v":2},{"$f":"SUMPRODUCT((Teams1=U66)*(Teams2_Score))+SUMPRODUCT((Teams2=U66)*(Teams1_Score))","v":5},{"$f":"Z66-AA66","v":-3},{"$f":"3*W66+X66","v":3}]
[null,{"$f":"IF(COUNTIF($T$9:$T$12,1)>1,IF(ROWS($1:3)<=COUNTIF($T$9:$T$12,1),INDEX($U$9:$U$12,SMALL(IF($T$9:$T$12=1,ROW(INDIRECT(\"1:\"&ROWS($T$9:$T$12)))),ROWS($1:3))),\"\"),IF(COUNTIF($T$9:$T$12,2)>1,IF(ROWS($1:3)<=COUNTIF($T$9:$T$12,2),INDEX($U$9:$U$12,SMALL(IF($T$9:$T$12=2,ROW(INDIRECT(\"1:\"&ROWS($T$9:$T$12)))),ROWS($1:3))),\"\")))","v":false},null,null,null,null,null,null,null,null,null,null,null,null,null,null,"B_2",{"$f":"TEXT(S67,\"00000\")&U67","v":"-00700RI Iran"},{"$f":"AC67*1000+AB67*100+Z67*10","v":-700},{"$f":"RANK(S67,$S66:$S70,0)","v":4},{"$f":"VLOOKUP(Q67,TABLEAU_TEAMS[#All],2,FALSE)","v":"RI Iran"},{"$f":"SUMPRODUCT((Teams1=U67)*(Teams1_Score<>\"\"))+SUMPRODUCT((Teams2=U67)*(Teams2_Score<>\"\"))","v":3},{"$f":"SUMPRODUCT((Teams1=U67)*(Teams1_Score>Teams2_Score))+SUMPRODUCT((Teams2=U67)*(Teams2_Score>Teams1_Score))","v":0},{"$f":"SUMPRODUCT((Teams1=U67)*(Teams1_Score=Teams2_Score)*(Teams1_Score<>\"\"))+SUMPRODUCT((Teams2=U67)*(Teams2_Score=Teams1_Score)*(Teams2_Score<>\"\"))","v":0},{"$f":"SUMPRODUCT((Teams1=U67)*(Teams1_Score<Teams2_Score))+SUMPRODUCT((Teams2=U67)*(Teams2_Score<Teams1_Score))","v":3},{"$f":"SUMPRODUCT((Teams1=U67)*(Teams1_Score))+SUMPRODUCT((Teams2=U67)*(Teams2_Score))","v":0},{"$f":"SUMPRODUCT((Teams1=U67)*(Teams2_Score))+SUMPRODUCT((Teams2=U67)*(Teams1_Score))","v":7},{"$f":"Z67-AA67","v":-7},{"$f":"3*W67+X67","v":0}]
[null,{"$f":"IF(COUNTIF($T$9:$T$12,1)>1,IF(ROWS($1:4)<=COUNTIF($T$9:$T$12,1),INDEX($U$9:$U$12,SMALL(IF($T$9:$T$12=1,ROW(INDIRECT(\"1:\"&ROWS($T$9:$T$12)))),ROWS($1:4))),\"\"),IF(COUNTIF($T$9:$T$12,2)>1,IF(ROWS($1:4)<=COUNTIF($T$9:$T$12,2),INDEX($U$9:$U$12,SMALL(IF($T$9:$T$12=2,ROW(INDIRECT(\"1:\"&ROWS($T$9:$T$12)))),ROWS($1:4))),\"\")))","v":false},null,null,null,null,null,null,null,null,null,null,null,null,null,null,"B_3",{"$f":"TEXT(S68,\"00000\")&U68","v":"06150Portugal"},{"$f":"AC68*1000+AB68*100+Z68*10","v":6150},{"$f":"RANK(S68,$S66:$S70,0)","v":2},{"$f":"VLOOKUP(Q68,TABLEAU_TEAMS[#All],2,FALSE)","v":"Portugal"},{"$f":"SUMPRODUCT((Teams1=U68)*(Teams1_Score<>\"\"))+SUMPRODUCT((Teams2=U68)*(Teams2_Score<>\"\"))","v":3},{"$f":"SUMPRODUCT((Teams1=U68)*(Teams1_Score>Teams2_Score))+SUMPRODUCT((Teams2=U68)*(Teams2_Score>Teams1_Score))","v":2},{"$f":"SUMPRODUCT((Teams1=U68)*(Teams1_Score=Teams2_Score)*(Teams1_Score<>\"\"))+SUMPRODUCT((Teams2=U68)*(Teams2_Score=Teams1_Score)*(Teams2_Score<>\"\"))","v":0},{"$f":"SUMPRODUCT((Teams1=U68)*(Teams1_Score<Teams2_Score))+SUMPRODUCT((Teams2=U68)*(Teams2_Score<Teams1_Score))","v":1},{"$f":"SUMPRODUCT((Teams1=U68)*(Teams1_Score))+SUMPRODUCT((Teams2=U68)*(Teams2_Score))","v":5},{"$f":"SUMPRODUCT((Teams1=U68)*(Teams2_Score))+SUMPRODUCT((Teams2=U68)*(Teams1_Score))","v":4},{"$f":"Z68-AA68","v":1},{"$f":"3*W68+X68","v":6}]
[null,"Tirage au sort B1",null,null,null,null,null,null,null,null,null,null,null,null,null,null,"B_4",{"$f":"TEXT(S69,\"00000\")&U69","v":"10000Espagne"},{"$f":"AC69*1000+AB69*100+Z69*10","v":10000},{"$f":"RANK(S69,$S66:$S70,0)","v":1},{"$f":"VLOOKUP(Q69,TABLEAU_TEAMS[#All],2,FALSE)","v":"Espagne"},{"$f":"SUMPRODUCT((Teams1=U69)*(Teams1_Score<>\"\"))+SUMPRODUCT((Teams2=U69)*(Teams2_Score<>\"\"))","v":3},{"$f":"SUMPRODUCT((Teams1=U69)*(Teams1_Score>Teams2_Score))+SUMPRODUCT((Teams2=U69)*(Teams2_Score>Teams1_Score))","v":3},{"$f":"SUMPRODUCT((Teams1=U69)*(Teams1_Score=Teams2_Score)*(Teams1_Score<>\"\"))+SUMPRODUCT((Teams2=U69)*(Teams2_Score=Teams1_Score)*(Teams2_Score<>\"\"))","v":0},{"$f":"SUMPRODUCT((Teams1=U69)*(Teams1_Score<Teams2_Score))+SUMPRODUCT((Teams2=U69)*(Teams2_Score<Teams1_Score))","v":0},{"$f":"SUMPRODUCT((Teams1=U69)*(Teams1_Score))+SUMPRODUCT((Teams2=U69)*(Teams2_Score))","v":10},{"$f":"SUMPRODUCT((Teams1=U69)*(Teams2_Score))+SUMPRODUCT((Teams2=U69)*(Teams1_Score))","v":1},{"$f":"Z69-AA69","v":9},{"$f":"3*W69+X69","v":9}]
[null,{"$f":"IF(ROWS($1:1)<=COUNTIF($T$15:$T$18,1),INDEX($U$15:$U$18,SMALL(IF($T$15:$T$18=1,ROW(INDIRECT(\"1:\"&ROWS($T$15:$T$18)))),ROWS($1:1))),\"\")","v":"Espagne"}]
[null,{"$f":"IF(ROWS($1:2)<=COUNTIF($T$15:$T$18,1),INDEX($U$15:$U$18,SMALL(IF($T$15:$T$18=1,ROW(INDIRECT(\"1:\"&ROWS($T$15:$T$18)))),ROWS($1:2))),\"\")","v":""},null,null,null,null,null,null,null,null,null,null,null,null,null,null,null,null,null,"Rg","Groupe C","MJ","G","N","P","BP","BC","Pts","Pts"]
[null,{"$f":"IF(ROWS($1:3)<=COUNTIF($T$15:$T$18,1),INDEX($U$15:$U$18,SMALL(IF($T$15:$T$18=1,ROW(INDIRECT(\"1:\"&ROWS($T$15:$T$18)))),ROWS($1:3))),\"\")","v":""},null,null,null,null,null,null,null,null,null,null,null,null,null,null,"C_1",{"$f":"TEXT(S72,\"00000\")&U72","v":"09770France"},{"$f":"AC72*1000+AB72*100+Z72*10","v":9770},{"$f":"RANK(S72,$S72:$S76,0)","v":1},{"$f":"VLOOKUP(Q72,TABLEAU_TEAMS[#All],2,FALSE)","v":"France"},{"$f":"SUMPRODUCT((Teams1=U72)*(Teams1_Score<>\"\"))+SUMPRODUCT((Teams2=U72)*(Teams2_Score<>\"\"))","v":3},{"$f":"SUMPRODUCT((Teams1=U72)*(Teams1_Score>Teams2_Score))+SUMPRODUCT((Teams2=U72)*(Teams2_Score>Teams1_Score))","v":3},{"$f":"SUMPRODUCT((Teams1=U72)*(Teams1_Score=Teams2_Score)*(Teams1_Score<>\"\"))+SUMPRODUCT((Teams2=U72)*(Teams2_Score=Teams1_Score)*(Teams2_Score<>\"\"))","v":0},{"$f":"SUMPRODUCT((Teams1=U72)*(Teams1_Score<Teams2_Score))+SUMPRODUCT((Teams2=U72)*(Teams2_Score<Teams1_Score))","v":0},{"$f":"SUMPRODUCT((Teams1=U72)*(Teams1_Score))+SUMPRODUCT((Teams2=U72)*(Teams2_Score))","v":7},{"$f":"SUMPRODUCT((Teams1=U72)*(Teams2_Score))+SUMPRODUCT((Teams2=U72)*(Teams1_Score))","v":0},{"$f":"Z72-AA72","v":7},{"$f":"3*W72+X72","v":9}]
[null,{"$f":"IF(ROWS($1:4)<=COUNTIF($T$15:$T$18,1),INDEX($U$15:$U$18,SMALL(IF($T$15:$T$18=1,ROW(INDIRECT(\"1:\"&ROWS($T$15:$T$18)))),ROWS($1:4))),\"\")","v":""},null,null,null,null,null,null,null,null,null,null,null,null,null,null,"C_2",{"$f":"TEXT(S73,\"00000\")&U73","v":"02740Australie"},{"$f":"AC73*1000+AB73*100+Z73*10","v":2740},{"$f":"RANK(S73,$S72:$S76,0)","v":3},{"$f":"VLOOKUP(Q73,TABLEAU_TEAMS[#All],2,FALSE)","v":"Australie"},{"$f":"SUMPRODUCT((Teams1=U73)*(Teams1_Score<>\"\"))+SUMPRODUCT((Teams2=U73)*(Teams2_Score<>\"\"))","v":3},{"$f":"SUMPRODUCT((Teams1=U73)*(Teams1_Score>Teams2_Score))+SUMPRODUCT((Teams2=U73)*(Teams2_Score>Teams1_Score))","v":1},{"$f":"SUMPRODUCT((Teams1=U73)*(Teams1_Score=Teams2_Score)*(Teams1_Score<>\"\"))+SUMPRODUCT((Teams2=U73)*(Teams2_Score=Teams1_Score)*(Teams2_Score<>\"\"))","v":0},{"$f":"SUMPRODUCT((Teams1=U73)*(Teams1_Score<Teams2_Score))+SUMPRODUCT((Teams2=U73)*(Teams2_Score<Teams1_Score))","v":2},{"$f":"SUMPRODUCT((Teams1=U73)*(Teams1_Score))+SUMPRODUCT((Teams2=U73)*(Teams2_Score))","v":4},{"$f":"SUMPRODUCT((Teams1=U73)*(Teams2_Score))+SUMPRODUCT((Teams2=U73)*(Teams1_Score))","v":7},{"$f":"Z73-AA73","v":-3},{"$f":"3*W73+X73","v":3}]
[null,"Tirage au sort B2",null,null,null,null,null,null,null,null,null,null,null,null,null,null,"C_3",{"$f":"TEXT(S74,\"00000\")&U74","v":"00620Pérou"},{"$f":"AC74*1000+AB74*100+Z74*10","v":620},{"$f":"RANK(S74,$S72:$S76,0)","v":4},{"$f":"VLOOKUP(Q74,TABLEAU_TEAMS[#All],2,FALSE)","v":"Pérou"},{"$f":"SUMPRODUCT((Teams1=U74)*(Teams1_Score<>\"\"))+SUMPRODUCT((Teams2=U74)*(Teams2_Score<>\"\"))","v":3},{"$f":"SUMPRODUCT((Teams1=U74)*(Teams1_Score>Teams2_Score))+SUMPRODUCT((Teams2=U74)*(Teams2_Score>Teams1_Score))","v":0},{"$f":"SUMPRODUCT((Teams1=U74)*(Teams1_Score=Teams2_Score)*(Teams1_Score<>\"\"))+SUMPRODUCT((Teams2=U74)*(Teams2_Score=Teams1_Score)*(Teams2_Score<>\"\"))","v":1},{"$f":"SUMPRODUCT((Teams1=U74)*(Teams1_Score<Teams2_Score))+SUMPRODUCT((Teams2=U74)*(Teams2_Score<Teams1_Score))","v":2},{"$f":"SUMPRODUCT((Teams1=U74)*(Teams1_Score))+SUMPRODUCT((Teams2=U74)*(Teams2_Score))","v":2},{"$f":"SUMPRODUCT((Teams1=U74)*(Teams2_Score))+SUMPRODUCT((Teams2=U74)*(Teams1_Score))","v":6},{"$f":"Z74-AA74","v":-4},{"$f":"3*W74+X74","v":1}]
[null,{"$f":"IF(COUNTIF($T$15:$T$18,1)>1,IF(ROWS($1:1)<=COUNTIF($T$15:$T$18,1),INDEX($U$15:$U$18,SMALL(IF($T$15:$T$18=1,ROW(INDIRECT(\"1:\"&ROWS($T$15:$T$18)))),ROWS($1:1))),\"\"),IF(COUNTIF($T$15:$T$18,2)>1,IF(ROWS($1:1)<=COUNTIF($T$15:$T$18,2),INDEX($U$15:$U$18,SMALL(IF($T$15:$T$18=2,ROW(INDIRECT(\"1:\"&ROWS($T$15:$T$18)))),ROWS($1:1))),\"\")))","v":false},null,null,null,null,null,null,null,null,null,null,null,null,null,null,"C_4",{"$f":"TEXT(S75,\"00000\")&U75","v":"04040Danemark"},{"$f":"AC75*1000+AB75*100+Z75*10","v":4040},{"$f":"RANK(S75,$S72:$S76,0)","v":2},{"$f":"VLOOKUP(Q75,TABLEAU_TEAMS[#All],2,FALSE)","v":"Danemark"},{"$f":"SUMPRODUCT((Teams1=U75)*(Teams1_Score<>\"\"))+SUMPRODUCT((Teams2=U75)*(Teams2_Score<>\"\"))","v":3},{"$f":"SUMPRODUCT((Teams1=U75)*(Teams1_Score>Teams2_Score))+SUMPRODUCT((Teams2=U75)*(Teams2_Score>Teams1_Score))","v":1},{"$f":"SUMPRODUCT((Teams1=U75)*(Teams1_Score=Teams2_Score)*(Teams1_Score<>\"\"))+SUMPRODUCT((Teams2=U75)*(Teams2_Score=Teams1_Score)*(Teams2_Score<>\"\"))","v":1},{"$f":"SUMPRODUCT((Teams1=U75)*(Teams1_Score<Teams2_Score))+SUMPRODUCT((Teams2=U75)*(Teams2_Score<Teams1_Score))","v":1},{"$f":"SUMPRODUCT((Teams1=U75)*(Teams1_Score))+SUMPRODUCT((Teams2=U75)*(Teams2_Score))","v":4},{"$f":"SUMPRODUCT((Teams1=U75)*(Teams2_Score))+SUMPRODUCT((Teams2=U75)*(Teams1_Score))","v":4},{"$f":"Z75-AA75","v":0},{"$f":"3*W75+X75","v":4}]
[null,{"$f":"IF(COUNTIF($T$15:$T$18,1)>1,IF(ROWS($1:2)<=COUNTIF($T$15:$T$18,1),INDEX($U$15:$U$18,SMALL(IF($T$15:$T$18=1,ROW(INDIRECT(\"1:\"&ROWS($T$15:$T$18)))),ROWS($1:2))),\"\"),IF(COUNTIF($T$15:$T$18,2)>1,IF(ROWS($1:2)<=COUNTIF($T$15:$T$18,2),INDEX($U$15:$U$18,SMALL(IF($T$15:$T$18=2,ROW(INDIRECT(\"1:\"&ROWS($T$15:$T$18)))),ROWS($1:2))),\"\")))","v":false}]
[null,{"$f":"IF(COUNTIF($T$15:$T$18,1)>1,IF(ROWS($1:3)<=COUNTIF($T$15:$T$18,1),INDEX($U$15:$U$18,SMALL(IF($T$15:$T$18=1,ROW(INDIRECT(\"1:\"&ROWS($T$15:$T$18)))),ROWS($1:3))),\"\"),IF(COUNTIF($T$15:$T$18,2)>1,IF(ROWS($1:3)<=COUNTIF($T$15:$T$18,2),INDEX($U$15:$U$18,SMALL(IF($T$15:$T$18=2,ROW(INDIRECT(\"1:\"&ROWS($T$15:$T$18)))),ROWS($1:3))),\"\")))","v":false},null,null,null,null,null,null,null,null,null,null,null,null,null,null,null,null,null,"Rg","Groupe D","MJ","G","N","P","BP","BC","Pts","Pts"]
[null,{"$f":"IF(COUNTIF($T$15:$T$18,1)>1,IF(ROWS($1:4)<=COUNTIF($T$15:$T$18,1),INDEX($U$15:$U$18,SMALL(IF($T$15:$T$18=1,ROW(INDIRECT(\"1:\"&ROWS($T$15:$T$18)))),ROWS($1:4))),\"\"),IF(COUNTIF($T$15:$T$18,2)>1,IF(ROWS($1:4)<=COUNTIF($T$15:$T$18,2),INDEX($U$15:$U$18,SMALL(IF($T$15:$T$18=2,ROW(INDIRECT(\"1:\"&ROWS($T$15:$T$18)))),ROWS($1:4))),\"\")))","v":false},null,null,null,null,null,null,null,null,null,null,null,null,null,null,"D_1",{"$f":"TEXT(S78,\"00000\")&U78","v":"07560Argentine"},{"$f":"AC78*1000+AB78*100+Z78*10","v":7560},{"$f":"RANK(S78,$S78:$S82,0)","v":1},{"$f":"VLOOKUP(Q78,TABLEAU_TEAMS[#All],2,FALSE)","v":"Argentine"},{"$f":"SUMPRODUCT((Teams1=U78)*(Teams1_Score<>\"\"))+SUMPRODUCT((Teams2=U78)*(Teams2_Score<>\"\"))","v":3},{"$f":"SUMPRODUCT((Teams1=U78)*(Teams1_Score>Teams2_Score))+SUMPRODUCT((Teams2=U78)*(Teams2_Score>Teams1_Score))","v":2},{"$f":"SUMPRODUCT((Teams1=U78)*(Teams1_Score=Teams2_Score)*(Teams1_Score<>\"\"))+SUMPRODUCT((Teams2=U78)*(Teams2_Score=Teams1_Score)*(Teams2_Score<>\"\"))","v":1},{"$f":"SUMPRODUCT((Teams1=U78)*(Teams1_Score<Teams2_Score))+SUMPRODUCT((Teams2=U78)*(Teams2_Score<Teams1_Score))","v":0},{"$f":"SUMPRODUCT((Teams1=U78)*(Teams1_Score))+SUMPRODUCT((Teams2=U78)*(Teams2_Score))","v":6},{"$f":"SUMPRODUCT((Teams1=U78)*(Teams2_Score))+SUMPRODUCT((Teams2=U78)*(Teams1_Score))","v":1},{"$f":"Z78-AA78","v":5},{"$f":"3*W78+X78","v":7}]
[null,"Tirage au sort C1",null,null,null,null,null,null,null,null,null,null,null,null,null,null,"D_2",{"$f":"TEXT(S79,\"00000\")&U79","v":"00610Islande"},{"$f":"AC79*1000+AB79*100+Z79*10","v":610},{"$f":"RANK(S79,$S78:$S82,0)","v":4},{"$f":"VLOOKUP(Q79,TABLEAU_TEAMS[#All],2,FALSE)","v":"Islande"},{"$f":"SUMPRODUCT((Teams1=U79)*(Teams1_Score<>\"\"))+SUMPRODUCT((Teams2=U79)*(Teams2_Score<>\"\"))","v":3},{"$f":"SUMPRODUCT((Teams1=U79)*(Teams1_Score>Teams2_Score))+SUMPRODUCT((Teams2=U79)*(Teams2_Score>Teams1_Score))","v":0},{"$f":"SUMPRODUCT((Teams1=U79)*(Teams1_Score=Teams2_Score)*(Teams1_Score<>\"\"))+SUMPRODUCT((Teams2=U79)*(Teams2_Score=Teams1_Score)*(Teams2_Score<>\"\"))","v":1},{"$f":"SUMPRODUCT((Teams1=U79)*(Teams1_Score<Teams2_Score))+SUMPRODUCT((Teams2=U79)*(Teams2_Score<Teams1_Score))","v":2},{"$f":"SUMPRODUCT((Teams1=U79)*(Teams1_Score))+SUMPRODUCT((Teams2=U79)*(Teams2_Score))","v":1},{"$f":"SUMPRODUCT((Teams1=U79)*(Teams2_Score))+SUMPRODUCT((Teams2=U79)*(Teams1_Score))","v":5},{"$f":"Z79-AA79","v":-4},{"$f":"3*W79+X79","v":1}]
[null,{"$f":"IF(ROWS($1:1)<=COUNTIF($T$21:$T$24,1),INDEX($U$21:$U$24,SMALL(IF($T$21:$T$24=1,ROW(INDIRECT(\"1:\"&ROWS($T$21:$T$24)))),ROWS($1:1))),\"\")","v":"France"},null,null,null,null,null,null,null,null,null,null,null,null,null,null,"D_3",{"$f":"TEXT(S80,\"00000\")&U80","v":"07250Croatie"},{"$f":"AC80*1000+AB80*100+Z80*10","v":7250},{"$f":"RANK(S80,$S78:$S82,0)","v":2},{"$f":"VLOOKUP(Q80,TABLEAU_TEAMS[#All],2,FALSE)","v":"Croatie"},{"$f":"SUMPRODUCT((Teams1=U80)*(Teams1_Score<>\"\"))+SUMPRODUCT((Teams2=U80)*(Teams2_Score<>\"\"))","v":3},{"$f":"SUMPRODUCT((Teams1=U80)*(Teams1_Score>Teams2_Score))+SUMPRODUCT((Teams2=U80)*(Teams2_Score>Teams1_Score))","v":2},{"$f":"SUMPRODUCT((Teams1=U80)*(Teams1_Score=Teams2_Score)*(Teams1_Score<>\"\"))+SUMPRODUCT((Teams2=U80)*(Teams2_Score=Teams1_Score)*(Teams2_Score<>\"\"))","v":1},{"$f":"SUMPRODUCT((Teams1=U80)*(Teams1_Score<Teams2_Score))+SUMPRODUCT((Teams2=U80)*(Teams2_Score<Teams1_Score))","v":0},{"$f":"SUMPRODUCT((Teams1=U80)*(Teams1_Score))+SUMPRODUCT((Teams2=U80)*(Teams2_Score))","v":5},{"$f":"SUMPRODUCT((Teams1=U80)*(Teams2_Score))+SUMPRODUCT((Teams2=U80)*(Teams1_Score))","v":3},{"$f":"Z80-AA80","v":2},{"$f":"3*W80+X80","v":7}]
[null,{"$f":"IF(ROWS($1:2)<=COUNTIF($T$21:$T$24,1),INDEX($U$21:$U$24,SMALL(IF($T$21:$T$24=1,ROW(INDIRECT(\"1:\"&ROWS($T$21:$T$24)))),ROWS($1:2))),\"\")","v":""},null,null,null,null,null,null,null,null,null,null,null,null,null,null,"D_4",{"$f":"TEXT(S81,\"00000\")&U81","v":"00710Nigeria"},{"$f":"AC81*1000+AB81*100+Z81*10","v":710},{"$f":"RANK(S81,$S78:$S82,0)","v":3},{"$f":"VLOOKUP(Q81,TABLEAU_TEAMS[#All],2,FALSE)","v":"Nigeria"},{"$f":"SUMPRODUCT((Teams1=U81)*(Teams1_Score<>\"\"))+SUMPRODUCT((Teams2=U81)*(Teams2_Score<>\"\"))","v":3},{"$f":"SUMPRODUCT((Teams1=U81)*(Teams1_Score>Teams2_Score))+SUMPRODUCT((Teams2=U81)*(Teams2_Score>Teams1_Score))","v":0},{"$f":"SUMPRODUCT((Teams1=U81)*(Teams1_Score=Teams2_Score)*(Teams1_Score<>\"\"))+SUMPRODUCT((Teams2=U81)*(Teams2_Score=Teams1_Score)*(Teams2_Score<>\"\"))","v":1},{"$f":"SUMPRODUCT((Teams1=U81)*(Teams1_Score<Teams2_Score))+SUMPRODUCT((Teams2=U81)*(Teams2_Score<Teams1_Score))","v":2},{"$f":"SUMPRODUCT((Teams1=U81)*(Teams1_Score))+SUMPRODUCT((Teams2=U81)*(Teams2_Score))","v":1},{"$f":"SUMPRODUCT((Teams1=U81)*(Teams2_Score))+SUMPRODUCT((Teams2=U81)*(Teams1_Score))","v":4},{"$f":"Z81-AA81","v":-3},{"$f":"3*W81+X81","v":1}]
[null,{"$f":"IF(ROWS($1:3)<=COUNTIF($T$21:$T$24,1),INDEX($U$21:$U$24,SMALL(IF($T$21:$T$24=1,ROW(INDIRECT(\"1:\"&ROWS($T$21:$T$24)))),ROWS($1:3))),\"\")","v":""}]
[null,{"$f":"IF(ROWS($1:4)<=COUNTIF($T$21:$T$24,1),INDEX($U$21:$U$24,SMALL(IF($T$21:$T$24=1,ROW(INDIRECT(\"1:\"&ROWS($T$21:$T$24)))),ROWS($1:4))),\"\")","v":""},null,null,null,null,null,null,null,null,null,null,null,null,null,null,null,null,null,"Rg","Groupe E","MJ","G","N","P","BP","BC","Pts","Pts"]
[null,"Tirage au sort C2",null,null,null,null,null,null,null,null,null,null,null,null,null,null,"E_1",{"$f":"TEXT(S84,\"00000\")&U84","v":"02720Costa Rica"},{"$f":"AC84*1000+AB84*100+Z84*10","v":2720},{"$f":"RANK(S84,$S84:$S88,0)","v":3},{"$f":"VLOOKUP(Q84,TABLEAU_TEAMS[#All],2,FALSE)","v":"Costa Rica"},{"$f":"SUMPRODUCT((Teams1=U84)*(Teams1_Score<>\"\"))+SUMPRODUCT((Teams2=U84)*(Teams2_Score<>\"\"))","v":3},{"$f":"SUMPRODUCT((Teams1=U84)*(Teams1_Score>Teams2_Score))+SUMPRODUCT((Teams2=U84)*(Teams2_Score>Teams1_Score))","v":1},{"$f":"SUMPRODUCT((Teams1=U84)*(Teams1_Score=Teams2_Score)*(Teams1_Score<>\"\"))+SUMPRODUCT((Teams2=U84)*(Teams2_Score=Teams1_Score)*(Teams2_Score<>\"\"))","v":0},{"$f":"SUMPRODUCT((Teams1=U84)*(Teams1_Score<Teams2_Score))+SUMPRODUCT((Teams2=U84)*(Teams2_Score<Teams1_Score))","v":2},{"$f":"SUMPRODUCT((Teams1=U84)*(Teams1_Score))+SUMPRODUCT((Teams2=U84)*(Teams2_Score))","v":2},{"$f":"SUMPRODUCT((Teams1=U84)*(Teams2_Score))+SUMPRODUCT((Teams2=U84)*(Teams1_Score))","v":5},{"$f":"Z84-AA84","v":-3},{"$f":"3*W84+X84","v":3}]
[null,{"$f":"IF(COUNTIF($T$21:$T$24,1)>1,IF(ROWS($1:1)<=COUNTIF($T$21:$T$24,1),INDEX($U$21:$U$24,SMALL(IF($T$21:$T$24=1,ROW(INDIRECT(\"1:\"&ROWS($T$21:$T$24)))),ROWS($1:1))),\"\"),IF(COUNTIF($T$21:$T$24,2)>1,IF(ROWS($1:1)<=COUNTIF($T$21:$T$24,2),INDEX($U$21:$U$24,SMALL(IF($T$21:$T$24=2,ROW(INDIRECT(\"1:\"&ROWS($T$21:$T$24)))),ROWS($1:1))),\"\")))","v":false},null,null,null,null,null,null,null,null,null,null,null,null,null,null,"E_2",{"$f":"TEXT(S85,\"00000\")&U85","v":"-00600Serbie"},{"$f":"AC85*1000+AB85*100+Z85*10","v":-600},{"$f":"RANK(S85,$S84:$S88,0)","v":4},{"$f":"VLOOKUP(Q85,TABLEAU_TEAMS[#All],2,FALSE)","v":"Serbie"},{"$f":"SUMPRODUCT((Teams1=U85)*(Teams1_Score<>\"\"))+SUMPRODUCT((Teams2=U85)*(Teams2_Score<>\"\"))","v":3},{"$f":"SUMPRODUCT((Teams1=U85)*(Teams1_Score>Teams2_Score))+SUMPRODUCT((Teams2=U85)*(Teams2_Score>Teams1_Score))","v":0},{"$f":"SUMPRODUCT((Teams1=U85)*(Teams1_Score=Teams2_Score)*(Teams1_Score<>\"\"))+SUMPRODUCT((Teams2=U85)*(Teams2_Score=Teams1_Score)*(Teams2_Score<>\"\"))","v":0},{"$f":"SUMPRODUCT((Teams1=U85)*(Teams1_Score<Teams2_Score))+SUMPRODUCT((Teams2=U85)*(Teams2_Score<Teams1_Score))","v":3},{"$f":"SUMPRODUCT((Teams1=U85)*(Teams1_Score))+SUMPRODUCT((Teams2=U85)*(Teams2_Score))","v":0},{"$f":"SUMPRODUCT((Teams1=U85)*(Teams2_Score))+SUMPRODUCT((Teams2=U85)*(Teams1_Score))","v":6},{"$f":"Z85-AA85","v":-6},{"$f":"3*W85+X85","v":0}]
[null,{"$f":"IF(COUNTIF($T$21:$T$24,1)>1,IF(ROWS($1:2)<=COUNTIF($T$21:$T$24,1),INDEX($U$21:$U$24,SMALL(IF($T$21:$T$24=1,ROW(INDIRECT(\"1:\"&ROWS($T$21:$T$24)))),ROWS($1:2))),\"\"),IF(COUNTIF($T$21:$T$24,2)>1,IF(ROWS($1:2)<=COUNTIF($T$21:$T$24,2),INDEX($U$21:$U$24,SMALL(IF($T$21:$T$24=2,ROW(INDIRECT(\"1:\"&ROWS($T$21:$T$24)))),ROWS($1:2))),\"\")))","v":false},null,null,null,null,null,null,null,null,null,null,null,null,null,null,"E_3",{"$f":"TEXT(S86,\"00000\")&U86","v":"09890Brésil"},{"$f":"AC86*1000+AB86*100+Z86*10","v":9890},{"$f":"RANK(S86,$S84:$S88,0)","v":1},{"$f":"VLOOKUP(Q86,TABLEAU_TEAMS[#All],2,FALSE)","v":"Brésil"},{"$f":"SUMPRODUCT((Teams1=U86)*(Teams1_Score<>\"\"))+SUMPRODUCT((Teams2=U86)*(Teams2_Score<>\"\"))","v":3},{"$f":"SUMPRODUCT((Teams1=U86)*(Teams1_Score>Teams2_Score))+SUMPRODUCT((Teams2=U86)*(Teams2_Score>Teams1_Score))","v":3},{"$f":"SUMPRODUCT((Teams1=U86)*(Teams1_Score=Teams2_Score)*(Teams1_Score<>\"\"))+SUMPRODUCT((Teams2=U86)*(Teams2_Score=Teams1_Score)*(Teams2_Score<>\"\"))","v":0},{"$f":"SUMPRODUCT((Teams1=U86)*(Teams1_Score<Teams2_Score))+SUMPRODUCT((Teams2=U86)*(Teams2_Score<Teams1_Score))","v":0},{"$f":"SUMPRODUCT((Teams1=U86)*(Teams1_Score))+SUMPRODUCT((Teams2=U86)*(Teams2_Score))","v":9},{"$f":"SUMPRODUCT((Teams1=U86)*(Teams2_Score))+SUMPRODUCT((Teams2=U86)*(Teams1_Score))","v":1},{"$f":"Z86-AA86","v":8},{"$f":"3*W86+X86","v":9}]
[null,{"$f":"IF(COUNTIF($T$21:$T$24,1)>1,IF(ROWS($1:3)<=COUNTIF($T$21:$T$24,1),INDEX($U$21:$U$24,SMALL(IF($T$21:$T$24=1,ROW(INDIRECT(\"1:\"&ROWS($T$21:$T$24)))),ROWS($1:3))),\"\"),IF(COUNTIF($T$21:$T$24,2)>1,IF(ROWS($1:3)<=COUNTIF($T$21:$T$24,2),INDEX($U$21:$U$24,SMALL(IF($T$21:$T$24=2,ROW(INDIRECT(\"1:\"&ROWS($T$21:$T$24)))),ROWS($1:3))),\"\")))","v":false},null,null,null,null,null,null,null,null,null,null,null,null,null,null,"E_4",{"$f":"TEXT(S87,\"00000\")&U87","v":"06140Suisse"},{"$f":"AC87*1000+AB87*100+Z87*10","v":6140},{"$f":"RANK(S87,$S84:$S88,0)","v":2},{"$f":"VLOOKUP(Q87,TABLEAU_TEAMS[#All],2,FALSE)","v":"Suisse"},{"$f":"SUMPRODUCT((Teams1=U87)*(Teams1_Score<>\"\"))+SUMPRODUCT((Teams2=U87)*(Teams2_Score<>\"\"))","v":3},{"$f":"SUMPRODUCT((Teams1=U87)*(Teams1_Score>Teams2_Score))+SUMPRODUCT((Teams2=U87)*(Teams2_Score>Teams1_Score))","v":2},{"$f":"SUMPRODUCT((Teams1=U87)*(Teams1_Score=Teams2_Score)*(Teams1_Score<>\"\"))+SUMPRODUCT((Teams2=U87)*(Teams2_Score=Teams1_Score)*(Teams2_Score<>\"\"))","v":0},{"$f":"SUMPRODUCT((Teams1=U87)*(Teams1_Score<Teams2_Score))+SUMPRODUCT((Teams2=U87)*(Teams2_Score<Teams1_Score))","v":1},{"$f":"SUMPRODUCT((Teams1=U87)*(Teams1_Score))+SUMPRODUCT((Teams2=U87)*(Teams2_Score))","v":4},{"$f":"SUMPRODUCT((Teams1=U87)*(Teams2_Score))+SUMPRODUCT((Teams2=U87)*(Teams1_Score))","v":3},{"$f":"Z87-AA87","v":1},{"$f":"3*W87+X87","v":6}]
[null,{"$f":"IF(COUNTIF($T$21:$T$24,1)>1,IF(ROWS($1:4)<=COUNTIF($T$21:$T$24,1),INDEX($U$21:$U$24,SMALL(IF($T$21:$T$24=1,ROW(INDIRECT(\"1:\"&ROWS($T$21:$T$24)))),ROWS($1:4))),\"\"),IF(COUNTIF($T$21:$T$24,2)>1,IF(ROWS($1:4)<=COUNTIF($T$21:$T$24,2),INDEX($U$21:$U$24,SMALL(IF($T$21:$T$24=2,ROW(INDIRECT(\"1:\"&ROWS($T$21:$T$24)))),ROWS($1:4))),\"\")))","v":false}]
[null,"Tirage au sort D1",null,null,null,null,null,null,null,null,null,null,null,null,null,null,null,null,null,"Rg","Groupe F","MJ","G","N","P","BP","BC","Pts","Pts"]
[null,{"$f":"IF(ROWS($1:1)<=COUNTIF($T$27:$T$30,1),INDEX($U$27:$U$30,SMALL(IF($T$27:$T$30=1,ROW(INDIRECT(\"1:\"&ROWS($T$27:$T$30)))),ROWS($1:1))),\"\")","v":"Argentine"},null,null,null,null,null,null,null,null,null,null,null,null,null,null,"F_1",{"$f":"TEXT(S90,\"00000\")&U90","v":"09910Allemagne"},{"$f":"AC90*1000+AB90*100+Z90*10","v":9910},{"$f":"RANK(S90,$S90:$S94,0)","v":1},{"$f":"VLOOKUP(Q90,TABLEAU_TEAMS[#All],2,FALSE)","v":"Allemagne"},{"$f":"SUMPRODUCT((Teams1=U90)*(Teams1_Score<>\"\"))+SUMPRODUCT((Teams2=U90)*(Teams2_Score<>\"\"))","v":3},{"$f":"SUMPRODUCT((Teams1=U90)*(Teams1_Score>Teams2_Score))+SUMPRODUCT((Teams2=U90)*(Teams2_Score>Teams1_Score))","v":3},{"$f":"SUMPRODUCT((Teams1=U90)*(Teams1_Score=Teams2_Score)*(Teams1_Score<>\"\"))+SUMPRODUCT((Teams2=U90)*(Teams2_Score=Teams1_Score)*(Teams2_Score<>\"\"))","v":0},{"$f":"SUMPRODUCT((Teams1=U90)*(Teams1_Score<Teams2_Score))+SUMPRODUCT((Teams2=U90)*(Teams2_Score<Teams1_Score))","v":0},{"$f":"SUMPRODUCT((Teams1=U90)*(Teams1_Score))+SUMPRODUCT((Teams2=U90)*(Teams2_Score))","v":11},{"$f":"SUMPRODUCT((Teams1=U90)*(Teams2_Score))+SUMPRODUCT((Teams2=U90)*(Teams1_Score))","v":3},{"$f":"Z90-AA90","v":8},{"$f":"3*W90+X90","v":9}]
[null,{"$f":"IF(ROWS($1:2)<=COUNTIF($T$27:$T$30,1),INDEX($U$27:$U$30,SMALL(IF($T$27:$T$30=1,ROW(INDIRECT(\"1:\"&ROWS($T$27:$T$30)))),ROWS($1:2))),\"\")","v":""},null,null,null,null,null,null,null,null,null,null,null,null,null,null,"F_2",{"$f":"TEXT(S91,\"00000\")&U91","v":"03940Mexique"},{"$f":"AC91*1000+AB91*100+Z91*10","v":3940},{"$f":"RANK(S91,$S90:$S94,0)","v":2},{"$f":"VLOOKUP(Q91,TABLEAU_TEAMS[#All],2,FALSE)","v":"Mexique"},{"$f":"SUMPRODUCT((Teams1=U91)*(Teams1_Score<>\"\"))+SUMPRODUCT((Teams2=U91)*(Teams2_Score<>\"\"))","v":3},{"$f":"SUMPRODUCT((Teams1=U91)*(Teams1_Score>Teams2_Score))+SUMPRODUCT((Teams2=U91)*(Teams2_Score>Teams1_Score))","v":1},{"$f":"SUMPRODUCT((Teams1=U91)*(Teams1_Score=Teams2_Score)*(Teams1_Score<>\"\"))+SUMPRODUCT((Teams2=U91)*(Teams2_Score=Teams1_Score)*(Teams2_Score<>\"\"))","v":1},{"$f":"SUMPRODUCT((Teams1=U91)*(Teams1_Score<Teams2_Score))+SUMPRODUCT((Teams2=U91)*(Teams2_Score<Teams1_Score))","v":1},{"$f":"SUMPRODUCT((Teams1=U91)*(Teams1_Score))+SUMPRODUCT((Teams2=U91)*(Teams2_Score))","v":4},{"$f":"SUMPRODUCT((Teams1=U91)*(Teams2_Score))+SUMPRODUCT((Teams2=U91)*(Teams1_Score))","v":5},{"$f":"Z91-AA91","v":-1},{"$f":"3*W91+X91","v":4}]
[null,{"$f":"IF(ROWS($1:3)<=COUNTIF($T$27:$T$30,1),INDEX($U$27:$U$30,SMALL(IF($T$27:$T$30=1,ROW(INDIRECT(\"1:\"&ROWS($T$27:$T$30)))),ROWS($1:3))),\"\")","v":""},null,null,null,null,null,null,null,null,null,null,null,null,null,null,"F_3",{"$f":"TEXT(S92,\"00000\")&U92","v":"03940Suède"},{"$f":"AC92*1000+AB92*100+Z92*10","v":3940},{"$f":"RANK(S92,$S90:$S94,0)","v":2},{"$f":"VLOOKUP(Q92,TABLEAU_TEAMS[#All],2,FALSE)","v":"Suède"},{"$f":"SUMPRODUCT((Teams1=U92)*(Teams1_Score<>\"\"))+SUMPRODUCT((Teams2=U92)*(Teams2_Score<>\"\"))","v":3},{"$f":"SUMPRODUCT((Teams1=U92)*(Teams1_Score>Teams2_Score))+SUMPRODUCT((Teams2=U92)*(Teams2_Score>Teams1_Score))","v":1},{"$f":"SUMPRODUCT((Teams1=U92)*(Teams1_Score=Teams2_Score)*(Teams1_Score<>\"\"))+SUMPRODUCT((Teams2=U92)*(Teams2_Score=Teams1_Score)*(Teams2_Score<>\"\"))","v":1},{"$f":"SUMPRODUCT((Teams1=U92)*(Teams1_Score<Teams2_Score))+SUMPRODUCT((Teams2=U92)*(Teams2_Score<Teams1_Score))","v":1},{"$f":"SUMPRODUCT((Teams1=U92)*(Teams1_Score))+SUMPRODUCT((Teams2=U92)*(Teams2_Score))","v":4},{"$f":"SUMPRODUCT((Teams1=U92)*(Teams2_Score))+SUMPRODUCT((Teams2=U92)*(Teams1_Score))","v":5},{"$f":"Z92-AA92","v":-1},{"$f":"3*W92+X92","v":4}]
[null,{"$f":"IF(ROWS($1:4)<=COUNTIF($T$27:$T$30,1),INDEX($U$27:$U$30,SMALL(IF($T$27:$T$30=1,ROW(INDIRECT(\"1:\"&ROWS($T$27:$T$30)))),ROWS($1:4))),\"\")","v":""},null,null,null,null,null,null,null,null,null,null,null,null,null,null,"F_4",{"$f":"TEXT(S93,\"00000\")&U93","v":"-00580République de Corée"},{"$f":"AC93*1000+AB93*100+Z93*10","v":-580},{"$f":"RANK(S93,$S90:$S94,0)","v":4},{"$f":"VLOOKUP(Q93,TABLEAU_TEAMS[#All],2,FALSE)","v":"République de Corée"},{"$f":"SUMPRODUCT((Teams1=U93)*(Teams1_Score<>\"\"))+SUMPRODUCT((Teams2=U93)*(Teams2_Score<>\"\"))","v":3},{"$f":"SUMPRODUCT((Teams1=U93)*(Teams1_Score>Teams2_Score))+SUMPRODUCT((Teams2=U93)*(Teams2_Score>Teams1_Score))","v":0},{"$f":"SUMPRODUCT((Teams1=U93)*(Teams1_Score=Teams2_Score)*(Teams1_Score<>\"\"))+SUMPRODUCT((Teams2=U93)*(Teams2_Score=Teams1_Score)*(Teams2_Score<>\"\"))","v":0},{"$f":"SUMPRODUCT((Teams1=U93)*(Teams1_Score<Teams2_Score))+SUMPRODUCT((Teams2=U93)*(Teams2_Score<Teams1_Score))","v":3},{"$f":"SUMPRODUCT((Teams1=U93)*(Teams1_Score))+SUMPRODUCT((Teams2=U93)*(Teams2_Score))","v":2},{"$f":"SUMPRODUCT((Teams1=U93)*(Teams2_Score))+SUMPRODUCT((Teams2=U93)*(Teams1_Score))","v":8},{"$f":"Z93-AA93","v":-6},{"$f":"3*W93+X93","v":0}]
[null,"Tirage au sort D2"]
[null,{"$f":"IF(COUNTIF($T$27:$T$30,1)>1,IF(ROWS($1:1)<=COUNTIF($T$27:$T$30,1),INDEX($U$27:$U$30,SMALL(IF($T$27:$T$30=1,ROW(INDIRECT(\"1:\"&ROWS($T$27:$T$30)))),ROWS($1:1))),\"\"),IF(COUNTIF($T$27:$T$30,2)>1,IF(ROWS($1:1)<=COUNTIF($T$27:$T$30,2),INDEX($U$27:$U$30,SMALL(IF($T$27:$T$30=2,ROW(INDIRECT(\"1:\"&ROWS($T$27:$T$30)))),ROWS($1:1))),\"\")))","v":false},null,null,null,null,null,null,null,null,null,null,null,null,null,null,null,null,null,"Rg","Groupe G","MJ","G","N","P","BP","BC","Pts","Pts"]
[null,{"$f":"IF(COUNTIF($T$27:$T$30,1)>1,IF(ROWS($1:2)<=COUNTIF($T$27:$T$30,1),INDEX($U$27:$U$30,SMALL(IF($T$27:$T$30=1,ROW(INDIRECT(\"1:\"&ROWS($T$27:$T$30)))),ROWS($1:2))),\"\"),IF(COUNTIF($T$27:$T$30,2)>1,IF(ROWS($1:2)<=COUNTIF($T$27:$T$30,2),INDEX($U$27:$U$30,SMALL(IF($T$27:$T$30=2,ROW(INDIRECT(\"1:\"&ROWS($T$27:$T$30)))),ROWS($1:2))),\"\")))","v":false},null,null,null,null,null,null,null,null,null,null,null,null,null,null,"G_1",{"$f":"TEXT(S96,\"00000\")&U96","v":"06260Belgique"},{"$f":"AC96*1000+AB96*100+Z96*10","v":6260},{"$f":"RANK(S96,$S96:$S100,0)","v":2},{"$f":"VLOOKUP(Q96,TABLEAU_TEAMS[#All],2,FALSE)","v":"Belgique"},{"$f":"SUMPRODUCT((Teams1=U96)*(Teams1_Score<>\"\"))+SUMPRODUCT((Teams2=U96)*(Teams2_Score<>\"\"))","v":3},{"$f":"SUMPRODUCT((Teams1=U96)*(Teams1_Score>Teams2_Score))+SUMPRODUCT((Teams2=U96)*(Teams2_Score>Teams1_Score))","v":2},{"$f":"SUMPRODUCT((Teams1=U96)*(Teams1_Score=Teams2_Score)*(Teams1_Score<>\"\"))+SUMPRODUCT((Teams2=U96)*(Teams2_Score=Teams1_Score)*(Teams2_Score<>\"\"))","v":0},{"$f":"SUMPRODUCT((Teams1=U96)*(Teams1_Score<Teams2_Score))+SUMPRODUCT((Teams2=U96)*(Teams2_Score<Teams1_Score))","v":1},{"$f":"SUMPRODUCT((Teams1=U96)*(Teams1_Score))+SUMPRODUCT((Teams2=U96)*(Teams2_Score))","v":6},{"$f":"SUMPRODUCT((Teams1=U96)*(Teams2_Score))+SUMPRODUCT((Teams2=U96)*(Teams1_Score))","v":4},{"$f":"Z96-AA96","v":2},{"$f":"3*W96+X96","v":6}]
[null,{"$f":"IF(COUNTIF($T$27:$T$30,1)>1,IF(ROWS($1:3)<=COUNTIF($T$27:$T$30,1),INDEX($U$27:$U$30,SMALL(IF($T$27:$T$30=1,ROW(INDIRECT(\"1:\"&ROWS($T$27:$T$30)))),ROWS($1:3))),\"\"),IF(COUNTIF($T$27:$T$30,2)>1,IF(ROWS($1:3)<=COUNTIF($T$27:$T$30,2),INDEX($U$27:$U$30,SMALL(IF($T$27:$T$30=2,ROW(INDIRECT(\"1:\"&ROWS($T$27:$T$30)))),ROWS($1:3))),\"\")))","v":false},null,null,null,null,null,null,null,null,null,null,null,null,null,null,"G_2",{"$f":"TEXT(S97,\"00000\")&U97","v":"-00680Panama"},{"$f":"AC97*1000+AB97*100+Z97*10","v":-680},{"$f":"RANK(S97,$S96:$S100,0)","v":4},{"$f":"VLOOKUP(Q97,TABLEAU_TEAMS[#All],2,FALSE)","v":"Panama"},{"$f":"SUMPRODUCT((Teams1=U97)*(Teams1_Score<>\"\"))+SUMPRODUCT((Teams2=U97)*(Teams2_Score<>\"\"))","v":3},{"$f":"SUMPRODUCT((Teams1=U97)*(Teams1_Score>Teams2_Score))+SUMPRODUCT((Teams2=U97)*(Teams2_Score>Teams1_Score))","v":0},{"$f":"SUMPRODUCT((Teams1=U97)*(Teams1_Score=Teams2_Score)*(Teams1_Score<>\"\"))+SUMPRODUCT((Teams2=U97)*(Teams2_Score=Teams1_Score)*(Teams2_Score<>\"\"))","v":0},{"$f":"SUMPRODUCT((Teams1=U97)*(Teams1_Score<Teams2_Score))+SUMPRODUCT((Teams2=U97)*(Teams2_Score<Teams1_Score))","v":3},{"$f":"SUMPRODUCT((Teams1=U97)*(Teams1_Score))+SUMPRODUCT((Teams2=U97)*(Teams2_Score))","v":2},{"$f":"SUMPRODUCT((Teams1=U97)*(Teams2_Score))+SUMPRODUCT((Teams2=U97)*(Teams1_Score))","v":9},{"$f":"Z97-AA97","v":-7},{"$f":"3*W97+X97","v":0}]
[null,{"$f":"IF(COUNTIF($T$27:$T$30,1)>1,IF(ROWS($1:4)<=COUNTIF($T$27:$T$30,1),INDEX($U$27:$U$30,SMALL(IF($T$27:$T$30=1,ROW(INDIRECT(\"1:\"&ROWS($T$27:$T$30)))),ROWS($1:4))),\"\"),IF(COUNTIF($T$27:$T$30,2)>1,IF(ROWS($1:4)<=COUNTIF($T$27:$T$30,2),INDEX($U$27:$U$30,SMALL(IF($T$27:$T$30=2,ROW(INDIRECT(\"1:\"&ROWS($T$27:$T$30)))),ROWS($1:4))),\"\")))","v":false},null,null,null,null,null,null,null,null,null,null,null,null,null,null,"G_3",{"$f":"TEXT(S98,\"00000\")&U98","v":"02830Tunisie"},{"$f":"AC98*1000+AB98*100+Z98*10","v":2830},{"$f":"RANK(S98,$S96:$S100,0)","v":3},{"$f":"VLOOKUP(Q98,TABLEAU_TEAMS[#All],2,FALSE)","v":"Tunisie"},{"$f":"SUMPRODUCT((Teams1=U98)*(Teams1_Score<>\"\"))+SUMPRODUCT((Teams2=U98)*(Teams2_Score<>\"\"))","v":3},{"$f":"SUMPRODUCT((Teams1=U98)*(Teams1_Score>Teams2_Score))+SUMPRODUCT((Teams2=U98)*(Teams2_Score>Teams1_Score))","v":1},{"$f":"SUMPRODUCT((Teams1=U98)*(Teams1_Score=Teams2_Score)*(Teams1_Score<>\"\"))+SUMPRODUCT((Teams2=U98)*(Teams2_Score=Teams1_Score)*(Teams2_Score<>\"\"))","v":0},{"$f":"SUMPRODUCT((Teams1=U98)*(Teams1_Score<Teams2_Score))+SUMPRODUCT((Teams2=U98)*(Teams2_Score<Teams1_Score))","v":2},{"$f":"SUMPRODUCT((Teams1=U98)*(Teams1_Score))+SUMPRODUCT((Teams2=U98)*(Teams2_Score))","v":3},{"$f":"SUMPRODUCT((Teams1=U98)*(Teams2_Score))+SUMPRODUCT((Teams2=U98)*(Teams1_Score))","v":5},{"$f":"Z98-AA98","v":-2},{"$f":"3*W98+X98","v":3}]
[null,"Tirage au sort E1",null,null,null,null,null,null,null,null,null,null,null,null,null,null,"G_4",{"$f":"TEXT(S99,\"00000\")&U99","v":"09790Angleterre"},{"$f":"AC99*1000+AB99*100+Z99*10","v":9790},{"$f":"RANK(S99,$S96:$S100,0)","v":1},{"$f":"VLOOKUP(Q99,TABLEAU_TEAMS[#All],2,FALSE)","v":"Angleterre"},{"$f":"SUMPRODUCT((Teams1=U99)*(Teams1_Score<>\"\"))+SUMPRODUCT((Teams2=U99)*(Teams2_Score<>\"\"))","v":3},{"$f":"SUMPRODUCT((Teams1=U99)*(Teams1_Score>Teams2_Score))+SUMPRODUCT((Teams2=U99)*(Teams2_Score>Teams1_Score))","v":3},{"$f":"SUMPRODUCT((Teams1=U99)*(Teams1_Score=Teams2_Score)*(Teams1_Score<>\"\"))+SUMPRODUCT((Teams2=U99)*(Teams2_Score=Teams1_Score)*(Teams2_Score<>\"\"))","v":0},{"$f":"SUMPRODUCT((Teams1=U99)*(Teams1_Score<Teams2_Score))+SUMPRODUCT((Teams2=U99)*(Teams2_Score<Teams1_Score))","v":0},{"$f":"SUMPRODUCT((Teams1=U99)*(Teams1_Score))+SUMPRODUCT((Teams2=U99)*(Teams2_Score))","v":9},{"$f":"SUMPRODUCT((Teams1=U99)*(Teams2_Score))+SUMPRODUCT((Teams2=U99)*(Teams1_Score))","v":2},{"$f":"Z99-AA99","v":7},{"$f":"3*W99+X99","v":9}]
[null,{"$f":"IF(ROWS($1:1)<=COUNTIF($T$33:$T$36,1),INDEX($U$33:$U$36,SMALL(IF($T$33:$T$36=1,ROW(INDIRECT(\"1:\"&ROWS($T$33:$T$36)))),ROWS($1:1))),\"\")","v":"Brésil"}]
[null,{"$f":"IF(ROWS($1:2)<=COUNTIF($T$33:$T$36,1),INDEX($U$33:$U$36,SMALL(IF($T$33:$T$36=1,ROW(INDIRECT(\"1:\"&ROWS($T$33:$T$36)))),ROWS($1:2))),\"\")","v":""},null,null,null,null,null,null,null,null,null,null,null,null,null,null,null,null,null,"Rg","Groupe H","MJ","G","N","P","BP","BC","Pts","Pts"]
[null,{"$f":"IF(ROWS($1:3)<=COUNTIF($T$33:$T$36,1),INDEX($U$33:$U$36,SMALL(IF($T$33:$T$36=1,ROW(INDIRECT(\"1:\"&ROWS($T$33:$T$36)))),ROWS($1:3))),\"\")","v":""},null,null,null,null,null,null,null,null,null,null,null,null,null,null,"H_1",{"$f":"TEXT(S102,\"00000\")&U102","v":"09560Colombie"},{"$f":"AC102*1000+AB102*100+Z102*10","v":9560},{"$f":"RANK(S102,$S102:$S106,0)","v":1},{"$f":"VLOOKUP(Q102,TABLEAU_TEAMS[#All],2,FALSE)","v":"Colombie"},{"$f":"SUMPRODUCT((Teams1=U102)*(Teams1_Score<>\"\"))+SUMPRODUCT((Teams2=U102)*(Teams2_Score<>\"\"))","v":3},{"$f":"SUMPRODUCT((Teams1=U102)*(Teams1_Score>Teams2_Score))+SUMPRODUCT((Teams2=U102)*(Teams2_Score>Teams1_Score))","v":3},{"$f":"SUMPRODUCT((Teams1=U102)*(Teams1_Score=Teams2_Score)*(Teams1_Score<>\"\"))+SUMPRODUCT((Teams2=U102)*(Teams2_Score=Teams1_Score)*(Teams2_Score<>\"\"))","v":0},{"$f":"SUMPRODUCT((Teams1=U102)*(Teams1_Score<Teams2_Score))+SUMPRODUCT((Teams2=U102)*(Teams2_Score<Teams1_Score))","v":0},{"$f":"SUMPRODUCT((Teams1=U102)*(Teams1_Score))+SUMPRODUCT((Teams2=U102)*(Teams2_Score))","v":6},{"$f":"SUMPRODUCT((Teams1=U102)*(Teams2_Score))+SUMPRODUCT((Teams2=U102)*(Teams1_Score))","v":1},{"$f":"Z102-AA102","v":5},{"$f":"3*W102+X102","v":9}]
[null,{"$f":"IF(ROWS($1:4)<=COUNTIF($T$33:$T$36,1),INDEX($U$33:$U$36,SMALL(IF($T$33:$T$36=1,ROW(INDIRECT(\"1:\"&ROWS($T$33:$T$36)))),ROWS($1:4))),\"\")","v":""},null,null,null,null,null,null,null,null,null,null,null,null,null,null,"H_2",{"$f":"TEXT(S103,\"00000\")&U103","v":"-00600Japon"},{"$f":"AC103*1000+AB103*100+Z103*10","v":-600},{"$f":"RANK(S103,$S102:$S106,0)","v":4},{"$f":"VLOOKUP(Q103,TABLEAU_TEAMS[#All],2,FALSE)","v":"Japon"},{"$f":"SUMPRODUCT((Teams1=U103)*(Teams1_Score<>\"\"))+SUMPRODUCT((Teams2=U103)*(Teams2_Score<>\"\"))","v":3},{"$f":"SUMPRODUCT((Teams1=U103)*(Teams1_Score>Teams2_Score))+SUMPRODUCT((Teams2=U103)*(Teams2_Score>Teams1_Score))","v":0},{"$f":"SUMPRODUCT((Teams1=U103)*(Teams1_Score=Teams2_Score)*(Teams1_Score<>\"\"))+SUMPRODUCT((Teams2=U103)*(Teams2_Score=Teams1_Score)*(Teams2_Score<>\"\"))","v":0},{"$f":"SUMPRODUCT((Teams1=U103)*(Teams1_Score<Teams2_Score))+SUMPRODUCT((Teams2=U103)*(Teams2_Score<Teams1_Score))","v":3},{"$f":"SUMPRODUCT((Teams1=U103)*(Teams1_Score))+SUMPRODUCT((Teams2=U103)*(Teams2_Score))","v":0},{"$f":"SUMPRODUCT((Teams1=U103)*(Teams2_Score))+SUMPRODUCT((Teams2=U103)*(Teams1_Score))","v":6},{"$f":"Z103-AA103","v":-6},{"$f":"3*W103+X103","v":0}]
[null,"Tirage au sort E2",null,null,null,null,null,null,null,null,null,null,null,null,null,null,"H_3",{"$f":"TEXT(S104,\"00000\")&U104","v":"04140Pologne"},{"$f":"AC104*1000+AB104*100+Z104*10","v":4140},{"$f":"RANK(S104,$S102:$S106,0)","v":2},{"$f":"VLOOKUP(Q104,TABLEAU_TEAMS[#All],2,FALSE)","v":"Pologne"},{"$f":"SUMPRODUCT((Teams1=U104)*(Teams1_Score<>\"\"))+SUMPRODUCT((Teams2=U104)*(Teams2_Score<>\"\"))","v":3},{"$f":"SUMPRODUCT((Teams1=U104)*(Teams1_Score>Teams2_Score))+SUMPRODUCT((Teams2=U104)*(Teams2_Score>Teams1_Score))","v":1},{"$f":"SUMPRODUCT((Teams1=U104)*(Teams1_Score=Teams2_Score)*(Teams1_Score<>\"\"))+SUMPRODUCT((Teams2=U104)*(Teams2_Score=Teams1_Score)*(Teams2_Score<>\"\"))","v":1},{"$f":"SUMPRODUCT((Teams1=U104)*(Teams1_Score<Teams2_Score))+SUMPRODUCT((Teams2=U104)*(Teams2_Score<Teams1_Score))","v":1},{"$f":"SUMPRODUCT((Teams1=U104)*(Teams1_Score))+SUMPRODUCT((Teams2=U104)*(Teams2_Score))","v":4},{"$f":"SUMPRODUCT((Teams1=U104)*(Teams2_Score))+SUMPRODUCT((Teams2=U104)*(Teams1_Score))","v":3},{"$f":"Z104-AA104","v":1},{"$f":"3*W104+X104","v":4}]
[null,{"$f":"IF(COUNTIF($T$33:$T$36,1)>1,IF(ROWS($1:1)<=COUNTIF($T$33:$T$36,1),INDEX($U$33:$U$36,SMALL(IF($T$33:$T$36=1,ROW(INDIRECT(\"1:\"&ROWS($T$33:$T$36)))),ROWS($1:1))),\"\"),IF(COUNTIF($T$33:$T$36,2)>1,IF(ROWS($1:1)<=COUNTIF($T$33:$T$36,2),INDEX($U$33:$U$36,SMALL(IF($T$33:$T$36=2,ROW(INDIRECT(\"1:\"&ROWS($T$33:$T$36)))),ROWS($1:1))),\"\")))","v":false},null,null,null,null,null,null,null,null,null,null,null,null,null,null,"H_4",{"$f":"TEXT(S105,\"00000\")&U105","v":"04030Sénégal"},{"$f":"AC105*1000+AB105*100+Z105*10","v":4030},{"$f":"RANK(S105,$S102:$S106,0)","v":3},{"$f":"VLOOKUP(Q105,TABLEAU_TEAMS[#All],2,FALSE)","v":"Sénégal"},{"$f":"SUMPRODUCT((Teams1=U105)*(Teams1_Score<>\"\"))+SUMPRODUCT((Teams2=U105)*(Teams2_Score<>\"\"))","v":3},{"$f":"SUMPRODUCT((Teams1=U105)*(Teams1_Score>Teams2_Score))+SUMPRODUCT((Teams2=U105)*(Teams2_Score>Teams1_Score))","v":1},{"$f":"SUMPRODUCT((Teams1=U105)*(Teams1_Score=Teams2_Score)*(Teams1_Score<>\"\"))+SUMPRODUCT((Teams2=U105)*(Teams2_Score=Teams1_Score)*(Teams2_Score<>\"\"))","v":1},{"$f":"SUMPRODUCT((Teams1=U105)*(Teams1_Score<Teams2_Score))+SUMPRODUCT((Teams2=U105)*(Teams2_Score<Teams1_Score))","v":1},{"$f":"SUMPRODUCT((Teams1=U105)*(Teams1_Score))+SUMPRODUCT((Teams2=U105)*(Teams2_Score))","v":3},{"$f":"SUMPRODUCT((Teams1=U105)*(Teams2_Score))+SUMPRODUCT((Teams2=U105)*(Teams1_Score))","v":3},{"$f":"Z105-AA105","v":0},{"$f":"3*W105+X105","v":4}]
[null,{"$f":"IF(COUNTIF($T$33:$T$36,1)>1,IF(ROWS($1:2)<=COUNTIF($T$33:$T$36,1),INDEX($U$33:$U$36,SMALL(IF($T$33:$T$36=1,ROW(INDIRECT(\"1:\"&ROWS($T$33:$T$36)))),ROWS($1:2))),\"\"),IF(COUNTIF($T$33:$T$36,2)>1,IF(ROWS($1:2)<=COUNTIF($T$33:$T$36,2),INDEX($U$33:$U$36,SMALL(IF($T$33:$T$36=2,ROW(INDIRECT(\"1:\"&ROWS($T$33:$T$36)))),ROWS($1:2))),\"\")))","v":false}]
[null,{"$f":"IF(COUNTIF($T$33:$T$36,1)>1,IF(ROWS($1:3)<=COUNTIF($T$33:$T$36,1),INDEX($U$33:$U$36,SMALL(IF($T$33:$T$36=1,ROW(INDIRECT(\"1:\"&ROWS($T$33:$T$36)))),ROWS($1:3))),\"\"),IF(COUNTIF($T$33:$T$36,2)>1,IF(ROWS($1:3)<=COUNTIF($T$33:$T$36,2),INDEX($U$33:$U$36,SMALL(IF($T$33:$T$36=2,ROW(INDIRECT(\"1:\"&ROWS($T$33:$T$36)))),ROWS($1:3))),\"\")))","v":false}]
[null,{"$f":"IF(COUNTIF($T$33:$T$36,1)>1,IF(ROWS($1:4)<=COUNTIF($T$33:$T$36,1),INDEX($U$33:$U$36,SMALL(IF($T$33:$T$36=1,ROW(INDIRECT(\"1:\"&ROWS($T$33:$T$36)))),ROWS($1:4))),\"\"),IF(COUNTIF($T$33:$T$36,2)>1,IF(ROWS($1:4)<=COUNTIF($T$33:$T$36,2),INDEX($U$33:$U$36,SMALL(IF($T$33:$T$36=2,ROW(INDIRECT(\"1:\"&ROWS($T$33:$T$36)))),ROWS($1:4))),\"\")))","v":false}]
[null,"Tirage au sort F1"]
[null,{"$f":"IF(ROWS($1:1)<=COUNTIF($T$39:$T$42,1),INDEX($U$39:$U$42,SMALL(IF($T$39:$T$42=1,ROW(INDIRECT(\"1:\"&ROWS($T$39:$T$42)))),ROWS($1:1))),\"\")","v":"Allemagne"}]
[null,{"$f":"IF(ROWS($1:2)<=COUNTIF($T$39:$T$42,1),INDEX($U$39:$U$42,SMALL(IF($T$39:$T$42=1,ROW(INDIRECT(\"1:\"&ROWS($T$39:$T$42)))),ROWS($1:2))),\"\")","v":""}]
[null,{"$f":"IF(ROWS($1:3)<=COUNTIF($T$39:$T$42,1),INDEX($U$39:$U$42,SMALL(IF($T$39:$T$42=1,ROW(INDIRECT(\"1:\"&ROWS($T$39:$T$42)))),ROWS($1:3))),\"\")","v":""}]
[null,{"$f":"IF(ROWS($1:4)<=COUNTIF($T$39:$T$42,1),INDEX($U$39:$U$42,SMALL(IF($T$39:$T$42=1,ROW(INDIRECT(\"1:\"&ROWS($T$39:$T$42)))),ROWS($1:4))),\"\")","v":""}]
[null,"Tirage au sort F2"]
[null,{"$f":"IF(COUNTIF($T$39:$T$42,1)>1,IF(ROWS($1:1)<=COUNTIF($T$39:$T$42,1),INDEX($U$39:$U$42,SMALL(IF($T$39:$T$42=1,ROW(INDIRECT(\"1:\"&ROWS($T$39:$T$42)))),ROWS($1:1))),\"\"),IF(COUNTIF($T$39:$T$42,2)>1,IF(ROWS($1:1)<=COUNTIF($T$39:$T$42,2),INDEX($U$39:$U$42,SMALL(IF($T$39:$T$42=2,ROW(INDIRECT(\"1:\"&ROWS($T$39:$T$42)))),ROWS($1:1))),\"\")))","v":"Suède"}]
[null,{"$f":"IF(COUNTIF($T$39:$T$42,1)>1,IF(ROWS($1:2)<=COUNTIF($T$39:$T$42,1),INDEX($U$39:$U$42,SMALL(IF($T$39:$T$42=1,ROW(INDIRECT(\"1:\"&ROWS($T$39:$T$42)))),ROWS($1:2))),\"\"),IF(COUNTIF($T$39:$T$42,2)>1,IF(ROWS($1:2)<=COUNTIF($T$39:$T$42,2),INDEX($U$39:$U$42,SMALL(IF($T$39:$T$42=2,ROW(INDIRECT(\"1:\"&ROWS($T$39:$T$42)))),ROWS($1:2))),\"\")))","v":"Mexique"}]
[null,{"$f":"IF(COUNTIF($T$39:$T$42,1)>1,IF(ROWS($1:3)<=COUNTIF($T$39:$T$42,1),INDEX($U$39:$U$42,SMALL(IF($T$39:$T$42=1,ROW(INDIRECT(\"1:\"&ROWS($T$39:$T$42)))),ROWS($1:3))),\"\"),IF(COUNTIF($T$39:$T$42,2)>1,IF(ROWS($1:3)<=COUNTIF($T$39:$T$42,2),INDEX($U$39:$U$42,SMALL(IF($T$39:$T$42=2,ROW(INDIRECT(\"1:\"&ROWS($T$39:$T$42)))),ROWS($1:3))),\"\")))","v":""}]
[null,{"$f":"IF(COUNTIF($T$39:$T$42,1)>1,IF(ROWS($1:4)<=COUNTIF($T$39:$T$42,1),INDEX($U$39:$U$42,SMALL(IF($T$39:$T$42=1,ROW(INDIRECT(\"1:\"&ROWS($T$39:$T$42)))),ROWS($1:4))),\"\"),IF(COUNTIF($T$39:$T$42,2)>1,IF(ROWS($1:4)<=COUNTIF($T$39:$T$42,2),INDEX($U$39:$U$42,SMALL(IF($T$39:$T$42=2,ROW(INDIRECT(\"1:\"&ROWS($T$39:$T$42)))),ROWS($1:4))),\"\")))","v":""}]
[null,"Tirage au sort G1"]
[null,{"$f":"IF(ROWS($1:1)<=COUNTIF($T$45:$T$48,1),INDEX($U$45:$U$48,SMALL(IF($T$45:$T$48=1,ROW(INDIRECT(\"1:\"&ROWS($T$45:$T$48)))),ROWS($1:1))),\"\")","v":"Angleterre"}]
[null,{"$f":"IF(ROWS($1:2)<=COUNTIF($T$45:$T$48,1),INDEX($U$45:$U$48,SMALL(IF($T$45:$T$48=1,ROW(INDIRECT(\"1:\"&ROWS($T$45:$T$48)))),ROWS($1:2))),\"\")","v":""}]
[null,{"$f":"IF(ROWS($1:3)<=COUNTIF($T$45:$T$48,1),INDEX($U$45:$U$48,SMALL(IF($T$45:$T$48=1,ROW(INDIRECT(\"1:\"&ROWS($T$45:$T$48)))),ROWS($1:3))),\"\")","v":""}]
[null,{"$f":"IF(ROWS($1:4)<=COUNTIF($T$45:$T$48,1),INDEX($U$45:$U$48,SMALL(IF($T$45:$T$48=1,ROW(INDIRECT(\"1:\"&ROWS($T$45:$T$48)))),ROWS($1:4))),\"\")","v":""}]
[null,"Tirage au sort G2"]
[null,{"$f":"IF(COUNTIF($T$45:$T$48,1)>1,IF(ROWS($1:1)<=COUNTIF($T$45:$T$48,1),INDEX($U$45:$U$48,SMALL(IF($T$45:$T$48=1,ROW(INDIRECT(\"1:\"&ROWS($T$45:$T$48)))),ROWS($1:1))),\"\"),IF(COUNTIF($T$45:$T$48,2)>1,IF(ROWS($1:1)<=COUNTIF($T$45:$T$48,2),INDEX($U$45:$U$48,SMALL(IF($T$45:$T$48=2,ROW(INDIRECT(\"1:\"&ROWS($T$45:$T$48)))),ROWS($1:1))),\"\")))","v":false}]
[null,{"$f":"IF(COUNTIF($T$45:$T$48,1)>1,IF(ROWS($1:2)<=COUNTIF($T$45:$T$48,1),INDEX($U$45:$U$48,SMALL(IF($T$45:$T$48=1,ROW(INDIRECT(\"1:\"&ROWS($T$45:$T$48)))),ROWS($1:2))),\"\"),IF(COUNTIF($T$45:$T$48,2)>1,IF(ROWS($1:2)<=COUNTIF($T$45:$T$48,2),INDEX($U$45:$U$48,SMALL(IF($T$45:$T$48=2,ROW(INDIRECT(\"1:\"&ROWS($T$45:$T$48)))),ROWS($1:2))),\"\")))","v":false}]
[null,{"$f":"IF(COUNTIF($T$45:$T$48,1)>1,IF(ROWS($1:3)<=COUNTIF($T$45:$T$48,1),INDEX($U$45:$U$48,SMALL(IF($T$45:$T$48=1,ROW(INDIRECT(\"1:\"&ROWS($T$45:$T$48)))),ROWS($1:3))),\"\"),IF(COUNTIF($T$45:$T$48,2)>1,IF(ROWS($1:3)<=COUNTIF($T$45:$T$48,2),INDEX($U$45:$U$48,SMALL(IF($T$45:$T$48=2,ROW(INDIRECT(\"1:\"&ROWS($T$45:$T$48)))),ROWS($1:3))),\"\")))","v":false}]
[null,{"$f":"IF(COUNTIF($T$45:$T$48,1)>1,IF(ROWS($1:4)<=COUNTIF($T$45:$T$48,1),INDEX($U$45:$U$48,SMALL(IF($T$45:$T$48=1,ROW(INDIRECT(\"1:\"&ROWS($T$45:$T$48)))),ROWS($1:4))),\"\"),IF(COUNTIF($T$45:$T$48,2)>1,IF(ROWS($1:4)<=COUNTIF($T$45:$T$48,2),INDEX($U$45:$U$48,SMALL(IF($T$45:$T$48=2,ROW(INDIRECT(\"1:\"&ROWS($T$45:$T$48)))),ROWS($1:4))),\"\")))","v":false}]
[null,"Tirage au sort H1"]
[null,{"$f":"IF(ROWS($1:1)<=COUNTIF($T$51:$T$54,1),INDEX($U$51:$U$54,SMALL(IF($T$51:$T$54=1,ROW(INDIRECT(\"1:\"&ROWS($T$51:$T$54)))),ROWS($1:1))),\"\")","v":"Colombie"}]
[null,{"$f":"IF(ROWS($1:2)<=COUNTIF($T$51:$T$54,1),INDEX($U$51:$U$54,SMALL(IF($T$51:$T$54=1,ROW(INDIRECT(\"1:\"&ROWS($T$51:$T$54)))),ROWS($1:2))),\"\")","v":""}]
[null,{"$f":"IF(ROWS($1:3)<=COUNTIF($T$51:$T$54,1),INDEX($U$51:$U$54,SMALL(IF($T$51:$T$54=1,ROW(INDIRECT(\"1:\"&ROWS($T$51:$T$54)))),ROWS($1:3))),\"\")","v":""}]
[null,{"$f":"IF(ROWS($1:4)<=COUNTIF($T$51:$T$54,1),INDEX($U$51:$U$54,SMALL(IF($T$51:$T$54=1,ROW(INDIRECT(\"1:\"&ROWS($T$51:$T$54)))),ROWS($1:4))),\"\")","v":""}]
[null,"Tirage au sort H2"]
[null,{"$f":"IF(COUNTIF($T$51:$T$54,1)>1,IF(ROWS($1:1)<=COUNTIF($T$51:$T$54,1),INDEX($U$51:$U$54,SMALL(IF($T$51:$T$54=1,ROW(INDIRECT(\"1:\"&ROWS($T$51:$T$54)))),ROWS($1:1))),\"\"),IF(COUNTIF($T$51:$T$54,2)>1,IF(ROWS($1:1)<=COUNTIF($T$51:$T$54,2),INDEX($U$51:$U$54,SMALL(IF($T$51:$T$54=2,ROW(INDIRECT(\"1:\"&ROWS($T$51:$T$54)))),ROWS($1:1))),\"\")))","v":false}]
[null,{"$f":"IF(COUNTIF($T$51:$T$54,1)>1,IF(ROWS($1:2)<=COUNTIF($T$51:$T$54,1),INDEX($U$51:$U$54,SMALL(IF($T$51:$T$54=1,ROW(INDIRECT(\"1:\"&ROWS($T$51:$T$54)))),ROWS($1:2))),\"\"),IF(COUNTIF($T$51:$T$54,2)>1,IF(ROWS($1:2)<=COUNTIF($T$51:$T$54,2),INDEX($U$51:$U$54,SMALL(IF($T$51:$T$54=2,ROW(INDIRECT(\"1:\"&ROWS($T$51:$T$54)))),ROWS($1:2))),\"\")))","v":false}]
[null,{"$f":"IF(COUNTIF($T$51:$T$54,1)>1,IF(ROWS($1:3)<=COUNTIF($T$51:$T$54,1),INDEX($U$51:$U$54,SMALL(IF($T$51:$T$54=1,ROW(INDIRECT(\"1:\"&ROWS($T$51:$T$54)))),ROWS($1:3))),\"\"),IF(COUNTIF($T$51:$T$54,2)>1,IF(ROWS($1:3)<=COUNTIF($T$51:$T$54,2),INDEX($U$51:$U$54,SMALL(IF($T$51:$T$54=2,ROW(INDIRECT(\"1:\"&ROWS($T$51:$T$54)))),ROWS($1:3))),\"\")))","v":false}]
[null,{"$f":"IF(COUNTIF($T$51:$T$54,1)>1,IF(ROWS($1:4)<=COUNTIF($T$51:$T$54,1),INDEX($U$51:$U$54,SMALL(IF($T$51:$T$54=1,ROW(INDIRECT(\"1:\"&ROWS($T$51:$T$54)))),ROWS($1:4))),\"\"),IF(COUNTIF($T$51:$T$54,2)>1,IF(ROWS($1:4)<=COUNTIF($T$51:$T$54,2),INDEX($U$51:$U$54,SMALL(IF($T$51:$T$54=2,ROW(INDIRECT(\"1:\"&ROWS($T$51:$T$54)))),ROWS($1:4))),\"\")))","v":false}]

{"sheet":"JD","index":10,"n_rows":138,"n_cols":46,"rows_kept":138,"cut":false,"hidden":false,"merged":[[2,1,2,8],[3,1,3,8],[3,9,3,12]]}
[]
[null,"Pronostics de :"]
[]
[null,{"$f":"MID(CELL(\"filename\",A1),FIND(\"]\",CELL(\"filename\",A1))+1,32)","v":"JD"}]
[]
[null,"SAISIE DES PRONOSTICS",null,null,null,null,null,null,null,null,null,null,null,null,null,null,null,null,null,"GROUPES",null,null,null,null,null,null,null,null,null,null,null,null,"SCORE PRONOSTIQUEUR",null,null,null,null,null,null,null,null,{"$f":"AN8+AN12","v":1}]
[null,"Date","Heure","Match","Groupe",1,"N",2,null,"Buts",null,null,"Buts"]
[null,{"$f":"VLOOKUP($D8,TABLEAU_MATCHS[#All],2,FALSE)","v":"2018-06-14"},{"$f":"VLOOKUP($D8,TABLEAU_MATCHS[#All],3,FALSE)","v":"17:00:00"},1,{"$f":"\"Groupe \"&VLOOKUP($I8,TABLEAU_TEAMS[[#All],[TEAM]:[GROUP_INITIAL_RANK]],2,FALSE)","v":"Groupe A"},1.3,4.3,10,{"$f":"VLOOKUP($D8,TABLEAU_MATCHS[#All],4,FALSE)","v":"Russie"},1,null,{"$f":"VLOOKUP($D8,TABLEAU_MATCHS[#All],5,FALSE)","v":"Arabie Saoudite"},1,{"$f":"IF(OR(ISBLANK(RESULTATS!J8),ISBLANK(J8)),\"\",IF(AND(JD!J8=RESULTATS!J8,JD!M8=RESULTATS!M8),3,IF(OR(AND(JD!J8>JD!M8,RESULTATS!J8>RESULTATS!M8),AND(JD!J8<JD!M8,RESULTATS!J8<RESULTATS!M8),AND(JD!J8=JD!M8,RESULTATS!J8=RESULTATS!M8)),1,0)))","v":0},null,null,null,null,null,"Rg","Groupe A","MJ","G","N","P","BP","BC","+/-","Pts",null,null,null,"Phases de groupes",null,null,null,null,null,null,{"$f":"N56","v":1},null,"points"]
[null,{"$f":"VLOOKUP($D9,TABLEAU_MATCHS[#All],2,FALSE)","v":"2018-06-15"},{"$f":"VLOOKUP($D9,TABLEAU_MATCHS[#All],3,FALSE)","v":"14:00:00"},2,{"$f":"\"Groupe \"&VLOOKUP($I9,TABLEAU_TEAMS[[#All],[TEAM]:[GROUP_INITIAL_RANK]],2,FALSE)","v":"Groupe A"},2.2000000000000002,2.9,3.25,{"$f":"VLOOKUP($D9,TABLEAU_MATCHS[#All],4,FALSE)","v":"Egypte"},1,null,{"$f":"VLOOKUP($D9,TABLEAU_MATCHS[#All],5,FALSE)","v":"Uruguay"},2,{"$f":"IF(OR(ISBLANK(RESULTATS!J9),ISBLANK(J9)),\"\",IF(AND(JD!J9=RESULTATS!J9,JD!M9=RESULTATS!M9),3,IF(OR(AND(JD!J9>JD!M9,RESULTATS!J9>RESULTATS!M9),AND(JD!J9<JD!M9,RESULTATS!J9<RESULTATS!M9),AND(JD!J9=JD!M9,RESULTATS!J9=RESULTATS!M9)),1,0)))","v":1},null,null,null,{"$f":"INDEX($R60:$R63,MATCH(SMALL(COUNTIF($R60:$R63,\">=\"&$R60:$R63),ROW(INDIRECT(\"1:\"&ROWS($R60:$R63)))),COUNTIF($R60:$R63,\">=\"&$R60:$R63),0))","v":"09560Uruguay"},{"$f":"INDEX($S60:$S63,MATCH(SMALL(COUNTIF($R60:$R63,\">=\"&$R60:$R63),ROW(INDIRECT(\"1:\"&ROWS($R60:$R63)))),COUNTIF($R60:$R63,\">=\"&$R60:$R63),0))","v":9560},{"$f":"INDEX($T60:$T63,MATCH(SMALL(COUNTIF($R60:$R63,\">=\"&$R60:$R63),ROW(INDIRECT(\"1:\"&ROWS($R60:$R63)))),COUNTIF($R60:$R63,\">=\"&$R60:$R63),0))","v":1},{"$f":"INDEX($U60:$U63,MATCH(SMALL(COUNTIF($R60:$R63,\">=\"&$R60:$R63),ROW(INDIRECT(\"1:\"&ROWS($R60:$R63)))),COUNTIF($R60:$R63,\">=\"&$R60:$R63),0))","v":"Uruguay"},{"$f":"SUMPRODUCT((Teams1=U9)*(Teams1_Score<>\"\"))+SUMPRODUCT((Teams2=U9)*(Teams2_Score<>\"\"))","v":3},{"$f":"SUMPRODUCT((Teams1=U9)*(Teams1_Score>Teams2_Score))+SUMPRODUCT((Teams2=U9)*(Teams2_Score>Teams1_Score))","v":3},{"$f":"SUMPRODUCT((Teams1=U9)*(Teams1_Score=Teams2_Score)*(Teams1_Score<>\"\"))+SUMPRODUCT((Teams2=U9)*(Teams2_Score=Teams1_Score)*(Teams2_Score<>\"\"))","v":0},{"$f":"SUMPRODUCT((Teams1=U9)*(Teams1_Score<Teams2_Score))+SUMPRODUCT((Teams2=U9)*(Teams2_Score<Teams1_Score))","v":0},{"$f":"SUMPRODUCT((Teams1=U9)*(Teams1_Score))+SUMPRODUCT((Teams2=U9)*(Teams2_Score))","v":6},{"$f":"SUMPRODUCT((Teams1=U9)*(Teams2_Score))+SUMPRODUCT((Teams2=U9)*(Teams1_Score))","v":1},{"$f":"Z9-AA9","v":5},{"$f":"3*W9+X9","v":9},null,null,null,"Vainqueur ou nul trouvé (1 pt)",null,null,{"$f":"COUNTIF($N$8:$N$55,1)+COUNTIF($N$8:$N$55,3)","v":1},"matchs",null,null,{"$f":"AJ9","v":1},null,"points"]
[null,{"$f":"VLOOKUP($D10,TABLEAU_MATCHS[#All],2,FALSE)","v":"2018-06-15"},{"$f":"VLOOKUP($D10,TABLEAU_MATCHS[#All],3,FALSE)","v":"17:00:00"},3,{"$f":"\"Groupe \"&VLOOKUP($I10,TABLEAU_TEAMS[[#All],[TEAM]:[GROUP_INITIAL_RANK]],2,FALSE)","v":"Groupe B"},1.8,3.05,4.5,{"$f":"VLOOKUP($D10,TABLEAU_MATCHS[#All],4,FALSE)","v":"Maroc"},0,null,{"$f":"VLOOKUP($D10,TABLEAU_MATCHS[#All],5,FALSE)","v":"RI Iran"},0,{"$f":"IF(OR(ISBLANK(RESULTATS!J10),ISBLANK(J10)),\"\",IF(AND(JD!J10=RESULTATS!J10,JD!M10=RESULTATS!M10),3,IF(OR(AND(JD!J10>JD!M10,RESULTATS!J10>RESULTATS!M10),AND(JD!J10<JD!M10,RESULTATS!J10<RESULTATS!M10),AND(JD!J10=JD!M10,RESULTATS!J10=RESULTATS!M10)),1,0)))","v":0},null,null,null,"04140Egypte",4140,2,"Egypte",{"$f":"SUMPRODUCT((Teams1=U10)*(Teams1_Score<>\"\"))+SUMPRODUCT((Teams2=U10)*(Teams2_Score<>\"\"))","v":3},{"$f":"SUMPRODUCT((Teams1=U10)*(Teams1_Score>Teams2_Score))+SUMPRODUCT((Teams2=U10)*(Teams2_Score>Teams1_Score))","v":1},{"$f":"SUMPRODUCT((Teams1=U10)*(Teams1_Score=Teams2_Score)*(Teams1_Score<>\"\"))+SUMPRODUCT((Teams2=U10)*(Teams2_Score=Teams1_Score)*(Teams2_Score<>\"\"))","v":1},{"$f":"SUMPRODUCT((Teams1=U10)*(Teams1_Score<Teams2_Score))+SUMPRODUCT((Teams2=U10)*(Teams2_Score<Teams1_Score))","v":1},{"$f":"SUMPRODUCT((Teams1=U10)*(Teams1_Score))+SUMPRODUCT((Teams2=U10)*(Teams2_Score))","v":4},{"$f":"SUMPRODUCT((Teams1=U10)*(Teams2_Score))+SUMPRODUCT((Teams2=U10)*(Teams1_Score))","v":3},{"$f":"Z10-AA10","v":1},{"$f":"3*W10+X10","v":4},null,null,null,"Bonus score exact (2 pts)",null,null,{"$f":"+COUNTIF($N$8:$N$55,3)","v":0},"matchs",null,null,{"$f":"AJ10*2","v":0},null,"points"]
[null,{"$f":"VLOOKUP($D11,TABLEAU_MATCHS[#All],2,FALSE)","v":"2018-06-15"},{"$f":"VLOOKUP($D11,TABLEAU_MATCHS[#All],3,FALSE)","v":"20:00:00"},4,{"$f":"\"Groupe \"&VLOOKUP($I11,TABLEAU_TEAMS[[#All],[TEAM]:[GROUP_INITIAL_RANK]],2,FALSE)","v":"Groupe B"},1.42,3.9,7,{"$f":"VLOOKUP($D11,TABLEAU_MATCHS[#All],4,FALSE)","v":"Portugal"},0,null,{"$f":"VLOOKUP($D11,TABLEAU_MATCHS[#All],5,FALSE)","v":"Espagne"},1,{"$f":"IF(OR(ISBLANK(RESULTATS!J11),ISBLANK(J11)),\"\",IF(AND(JD!J11=RESULTATS!J11,JD!M11=RESULTATS!M11),3,IF(OR(AND(JD!J11>JD!M11,RESULTATS!J11>RESULTATS!M11),AND(JD!J11<JD!M11,RESULTATS!J11<RESULTATS!M11),AND(JD!J11=JD!M11,RESULTATS!J11=RESULTATS!M11)),1,0)))","v":0},null,null,null,"01920Russie",1920,3,"Russie",{"$f":"SUMPRODUCT((Teams1=U11)*(Teams1_Score<>\"\"))+SUMPRODUCT((Teams2=U11)*(Teams2_Score<>\"\"))","v":3},{"$f":"SUMPRODUCT((Teams1=U11)*(Teams1_Score>Teams2_Score))+SUMPRODUCT((Teams2=U11)*(Teams2_Score>Teams1_Score))","v":0},{"$f":"SUMPRODUCT((Teams1=U11)*(Teams1_Score=Teams2_Score)*(Teams1_Score<>\"\"))+SUMPRODUCT((Teams2=U11)*(Teams2_Score=Teams1_Score)*(Teams2_Score<>\"\"))","v":2},{"$f":"SUMPRODUCT((Teams1=U11)*(Teams1_Score<Teams2_Score))+SUMPRODUCT((Teams2=U11)*(Teams2_Score<Teams1_Score))","v":1},{"$f":"SUMPRODUCT((Teams1=U11)*(Teams1_Score))+SUMPRODUCT((Teams2=U11)*(Teams2_Score))","v":2},{"$f":"SUMPRODUCT((Teams1=U11)*(Teams2_Score))+SUMPRODUCT((Teams2=U11)*(Teams1_Score))","v":3},{"$f":"Z11-AA11","v":-1},{"$f":"3*W11+X11","v":2}]
[null,{"$f":"VLOOKUP($D12,TABLEAU_MATCHS[#All],2,FALSE)","v":"2018-06-16"},{"$f":"VLOOKUP($D12,TABLEAU_MATCHS[#All],3,FALSE)","v":"12:00:00"},5,{"$f":"\"Groupe \"&VLOOKUP($I12,TABLEAU_TEAMS[[#All],[TEAM]:[GROUP_INITIAL_RANK]],2,FALSE)","v":"Groupe C"},1.7,3.1,5,{"$f":"VLOOKUP($D12,TABLEAU_MATCHS[#All],4,FALSE)","v":"France"},2,null,{"$f":"VLOOKUP($D12,TABLEAU_MATCHS[#All],5,FALSE)","v":"Australie"},0,{"$f":"IF(OR(ISBLANK(RESULTATS!J12),ISBLANK(J12)),\"\",IF(AND(JD!J12=RESULTATS!J12,JD!M12=RESULTATS!M12),3,IF(OR(AND(JD!J12>JD!M12,RESULTATS!J12>RESULTATS!M12),AND(JD!J12<JD!M12,RESULTATS!J12<RESULTATS!M12),AND(JD!J12=JD!M12,RESULTATS!J12=RESULTATS!M12)),1,0)))","v":""},null,null,null,"00510Arabie Saoudite",510,4,"Arabie Saoudite",{"$f":"SUMPRODUCT((Teams1=U12)*(Teams1_Score<>\"\"))+SUMPRODUCT((Teams2=U12)*(Teams2_Score<>\"\"))","v":3},{"$f":"SUMPRODUCT((Teams1=U12)*(Teams1_Score>Teams2_Score))+SUMPRODUCT((Teams2=U12)*(Teams2_Score>Teams1_Score))","v":0},{"$f":"SUMPRODUCT((Teams1=U12)*(Teams1_Score=Teams2_Score)*(Teams1_Score<>\"\"))+SUMPRODUCT((Teams2=U12)*(Teams2_Score=Teams1_Score)*(Teams2_Score<>\"\"))","v":1},{"$f":"SUMPRODUCT((Teams1=U12)*(Teams1_Score<Teams2_Score))+SUMPRODUCT((Teams2=U12)*(Teams2_Score<Teams1_Score))","v":2},{"$f":"SUMPRODUCT((Teams1=U12)*(Teams1_Score))+SUMPRODUCT((Teams2=U12)*(Teams2_Score))","v":1},{"$f":"SUMPRODUCT((Teams1=U12)*(Teams2_Score))+SUMPRODUCT((Teams2=U12)*(Teams1_Score))","v":6},{"$f":"Z12-AA12","v":-5},{"$f":"3*W12+X12","v":1},null,null,null,"Phases finales",null,null,null,null,null,null,{"$f":"SUM(AN13:AN17)","v":0},null,"points"]
[null,{"$f":"VLOOKUP($D13,TABLEAU_MATCHS[#All],2,FALSE)","v":"2018-06-16"},{"$f":"VLOOKUP($D13,TABLEAU_MATCHS[#All],3,FALSE)","v":"18:00:00"},6,{"$f":"\"Groupe \"&VLOOKUP($I13,TABLEAU_TEAMS[[#All],[TEAM]:[GROUP_INITIAL_RANK]],2,FALSE)","v":"Groupe C"},2.5499999999999998,2.9,2.7,{"$f":"VLOOKUP($D13,TABLEAU_MATCHS[#All],4,FALSE)","v":"Pérou"},0,null,{"$f":"VLOOKUP($D13,TABLEAU_MATCHS[#All],5,FALSE)","v":"Danemark"},0,{"$f":"IF(OR(ISBLANK(RESULTATS!J13),ISBLANK(J13)),\"\",IF(AND(JD!J13=RESULTATS!J13,JD!M13=RESULTATS!M13),3,IF(OR(AND(JD!J13>JD!M13,RESULTATS!J13>RESULTATS!M13),AND(JD!J13<JD!M13,RESULTATS!J13<RESULTATS!M13),AND(JD!J13=JD!M13,RESULTATS!J13=RESULTATS!M13)),1,0)))","v":""},null,null,null,null,null,null,null,null,null,null,null,null,null,null,null,null,null,null,"Huitièmes de finaliste trouvés (2 pts)",null,null,{"$f":"IF(CLASSEMENT!PHASES_FINALES=\"OUI\",$AK$53+$AQ$53,0)","v":0},"équipe(s) ",null,null,{"$f":"AJ13*2","v":0},null,"points"]
[null,{"$f":"VLOOKUP($D14,TABLEAU_MATCHS[#All],2,FALSE)","v":"2018-06-16"},{"$f":"VLOOKUP($D14,TABLEAU_MATCHS[#All],3,FALSE)","v":"15:00:00"},7,{"$f":"\"Groupe \"&VLOOKUP($I14,TABLEAU_TEAMS[[#All],[TEAM]:[GROUP_INITIAL_RANK]],2,FALSE)","v":"Groupe D"},1.4,4,7.25,{"$f":"VLOOKUP($D14,TABLEAU_MATCHS[#All],4,FALSE)","v":"Argentine"},1,null,{"$f":"VLOOKUP($D14,TABLEAU_MATCHS[#All],5,FALSE)","v":"Islande"},1,{"$f":"IF(OR(ISBLANK(RESULTATS!J14),ISBLANK(J14)),\"\",IF(AND(JD!J14=RESULTATS!J14,JD!M14=RESULTATS!M14),3,IF(OR(AND(JD!J14>JD!M14,RESULTATS!J14>RESULTATS!M14),AND(JD!J14<JD!M14,RESULTATS!J14<RESULTATS!M14),AND(JD!J14=JD!M14,RESULTATS!J14=RESULTATS!M14)),1,0)))","v":""},null,null,null,null,null,"Rg","Groupe B","MJ","G","N","P","BP","BC","+/-","Pts",null,null,null,"Quarts de finalistes trouvés (4 pts)",null,null,{"$f":"IF(CLASSEMENT!PHASES_FINALES=\"OUI\",$AK$42+$AQ$42,0)","v":0},"équipe(s) ",null,null,{"$f":"AJ14*4","v":0},null,"points"]
[null,{"$f":"VLOOKUP($D15,TABLEAU_MATCHS[#All],2,FALSE)","v":"2018-06-16"},{"$f":"VLOOKUP($D15,TABLEAU_MATCHS[#All],3,FALSE)","v":"21:00:00"},8,{"$f":"\"Groupe \"&VLOOKUP($I15,TABLEAU_TEAMS[[#All],[TEAM]:[GROUP_INITIAL_RANK]],2,FALSE)","v":"Groupe D"},2.95,2.7,2.5499999999999998,{"$f":"VLOOKUP($D15,TABLEAU_MATCHS[#All],4,FALSE)","v":"Croatie"},1,null,{"$f":"VLOOKUP($D15,TABLEAU_MATCHS[#All],5,FALSE)","v":"Nigeria"},0,{"$f":"IF(OR(ISBLANK(RESULTATS!J15),ISBLANK(J15)),\"\",IF(AND(JD!J15=RESULTATS!J15,JD!M15=RESULTATS!M15),3,IF(OR(AND(JD!J15>JD!M15,RESULTATS!J15>RESULTATS!M15),AND(JD!J15<JD!M15,RESULTATS!J15<RESULTATS!M15),AND(JD!J15=JD!M15,RESULTATS!J15=RESULTATS!M15)),1,0)))","v":""},null,null,null,{"$f":"INDEX($R66:$R69,MATCH(SMALL(COUNTIF($R66:$R69,\">=\"&$R66:$R69),ROW(INDIRECT(\"1:\"&ROWS($R66:$R69)))),COUNTIF($R66:$R69,\">=\"&$R66:$R69),0))","v":"09660Espagne"},{"$f":"INDEX($S66:$S69,MATCH(SMALL(COUNTIF($R66:$R69,\">=\"&$R66:$R69),ROW(INDIRECT(\"1:\"&ROWS($R66:$R69)))),COUNTIF($R66:$R69,\">=\"&$R66:$R69),0))","v":9660},{"$f":"INDEX($T66:$T69,MATCH(SMALL(COUNTIF($R66:$R69,\">=\"&$R66:$R69),ROW(INDIRECT(\"1:\"&ROWS($R66:$R69)))),COUNTIF($R66:$R69,\">=\"&$R66:$R69),0))","v":1},{"$f":"INDEX($U66:$U69,MATCH(SMALL(COUNTIF($R66:$R69,\">=\"&$R66:$R69),ROW(INDIRECT(\"1:\"&ROWS($R66:$R69)))),COUNTIF($R66:$R69,\">=\"&$R66:$R69),0))","v":"Espagne"},{"$f":"SUMPRODUCT((Teams1=U15)*(Teams1_Score<>\"\"))+SUMPRODUCT((Teams2=U15)*(Teams2_Score<>\"\"))","v":3},{"$f":"SUMPRODUCT((Teams1=U15)*(Teams1_Score>Teams2_Score))+SUMPRODUCT((Teams2=U15)*(Teams2_Score>Teams1_Score))","v":3},{"$f":"SUMPRODUCT((Teams1=U15)*(Teams1_Score=Teams2_Score)*(Teams1_Score<>\"\"))+SUMPRODUCT((Teams2=U15)*(Teams2_Score=Teams1_Score)*(Teams2_Score<>\"\"))","v":0},{"$f":"SUMPRODUCT((Teams1=U15)*(Teams1_Score<Teams2_Score))+SUMPRODUCT((Teams2=U15)*(Teams2_Score<Teams1_Score))","v":0},{"$f":"SUMPRODUCT((Teams1=U15)*(Teams1_Score))+SUMPRODUCT((Teams2=U15)*(Teams2_Score))","v":6},{"$f":"SUMPRODUCT((Teams1=U15)*(Teams2_Score))+SUMPRODUCT((Teams2=U15)*(Teams1_Score))","v":0},{"$f":"Z15-AA15","v":6},{"$f":"3*W15+X15","v":9},null,null,null,"Demi finalistes trouvés (5 pts)",null,null,{"$f":"IF(CLASSEMENT!PHASES_FINALES=\"OUI\",$AK$35+$AQ$35,0)","v":0},"équipe(s) ",null,null,{"$f":"AJ15*5","v":0},null,"points"]
[null,{"$f":"VLOOKUP($D16,TABLEAU_MATCHS[#All],2,FALSE)","v":"2018-06-17"},{"$f":"VLOOKUP($D16,TABLEAU_MATCHS[#All],3,FALSE)","v":"14:00:00"},9,{"$f":"\"Groupe \"&VLOOKUP($I16,TABLEAU_TEAMS[[#All],[TEAM]:[GROUP_INITIAL_RANK]],2,FALSE)","v":"Groupe E"},2.35,2.9,2.95,{"$f":"VLOOKUP($D16,TABLEAU_MATCHS[#All],4,FALSE)","v":"Costa Rica"},0,null,{"$f":"VLOOKUP($D16,TABLEAU_MATCHS[#All],5,FALSE)","v":"Serbie"},1,{"$f":"IF(OR(ISBLANK(RESULTATS!J16),ISBLANK(J16)),\"\",IF(AND(JD!J16=RESULTATS!J16,JD!M16=RESULTATS!M16),3,IF(OR(AND(JD!J16>JD!M16,RESULTATS!J16>RESULTATS!M16),AND(JD!J16<JD!M16,RESULTATS!J16<RESULTATS!M16),AND(JD!J16=JD!M16,RESULTATS!J16=RESULTATS!M16)),1,0)))","v":""},null,null,null,"04010Portugal",4010,2,"Portugal",{"$f":"SUMPRODUCT((Teams1=U16)*(Teams1_Score<>\"\"))+SUMPRODUCT((Teams2=U16)*(Teams2_Score<>\"\"))","v":3},{"$f":"SUMPRODUCT((Teams1=U16)*(Teams1_Score>Teams2_Score))+SUMPRODUCT((Teams2=U16)*(Teams2_Score>Teams1_Score))","v":1},{"$f":"SUMPRODUCT((Teams1=U16)*(Teams1_Score=Teams2_Score)*(Teams1_Score<>\"\"))+SUMPRODUCT((Teams2=U16)*(Teams2_Score=Teams1_Score)*(Teams2_Score<>\"\"))","v":1},{"$f":"SUMPRODUCT((Teams1=U16)*(Teams1_Score<Teams2_Score))+SUMPRODUCT((Teams2=U16)*(Teams2_Score<Teams1_Score))","v":1},{"$f":"SUMPRODUCT((Teams1=U16)*(Teams1_Score))+SUMPRODUCT((Teams2=U16)*(Teams2_Score))","v":1},{"$f":"SUMPRODUCT((Teams1=U16)*(Teams2_Score))+SUMPRODUCT((Teams2=U16)*(Teams1_Score))","v":1},{"$f":"Z16-AA16","v":0},{"$f":"3*W16+X16","v":4},null,null,null,"Finalistes trouvés (6 pts)",null,null,{"$f":"IF(CLASSEMENT!PHASES_FINALES=\"OUI\",$AK$25+$AQ$25,0)","v":0},"équipe(s) ",null,null,{"$f":"AJ16*6","v":0},null,"points"]
[null,{"$f":"VLOOKUP($D17,TABLEAU_MATCHS[#All],2,FALSE)","v":"2018-06-17"},{"$f":"VLOOKUP($D17,TABLEAU_MATCHS[#All],3,FALSE)","v":"20:00:00"},10,{"$f":"\"Groupe \"&VLOOKUP($I17,TABLEAU_TEAMS[[#All],[TEAM]:[GROUP_INITIAL_RANK]],2,FALSE)","v":"Groupe E"},1.28,4.7,9.5,{"$f":"VLOOKUP($D17,TABLEAU_MATCHS[#All],4,FALSE)","v":"Brésil"},3,null,{"$f":"VLOOKUP($D17,TABLEAU_MATCHS[#All],5,FALSE)","v":"Suisse"},0,{"$f":"IF(OR(ISBLANK(RESULTATS!J17),ISBLANK(J17)),\"\",IF(AND(JD!J17=RESULTATS!J17,JD!M17=RESULTATS!M17),3,IF(OR(AND(JD!J17>JD!M17,RESULTATS!J17>RESULTATS!M17),AND(JD!J17<JD!M17,RESULTATS!J17<RESULTATS!M17),AND(JD!J17=JD!M17,RESULTATS!J17=RESULTATS!M17)),1,0)))","v":""},null,null,null,"01700Maroc",1700,3,"Maroc",{"$f":"SUMPRODUCT((Teams1=U17)*(Teams1_Score<>\"\"))+SUMPRODUCT((Teams2=U17)*(Teams2_Score<>\"\"))","v":3},{"$f":"SUMPRODUCT((Teams1=U17)*(Teams1_Score>Teams2_Score))+SUMPRODUCT((Teams2=U17)*(Teams2_Score>Teams1_Score))","v":0},{"$f":"SUMPRODUCT((Teams1=U17)*(Teams1_Score=Teams2_Score)*(Teams1_Score<>\"\"))+SUMPRODUCT((Teams2=U17)*(Teams2_Score=Teams1_Score)*(Teams2_Score<>\"\"))","v":2},{"$f":"SUMPRODUCT((Teams1=U17)*(Teams1_Score<Teams2_Score))+SUMPRODUCT((Teams2=U17)*(Teams2_Score<Teams1_Score))","v":1},{"$f":"SUMPRODUCT((Teams1=U17)*(Teams1_Score))+SUMPRODUCT((Teams2=U17)*(Teams2_Score))","v":0},{"$f":"SUMPRODUCT((Teams1=U17)*(Teams2_Score))+SUMPRODUCT((Teams2=U17)*(Teams1_Score))","v":3},{"$f":"Z17-AA17","v":-3},{"$f":"3*W17+X17","v":2},null,null,null,"Champion du monde trouvé (7 pts)",null,null,{"$f":"IF(CLASSEMENT!PHASES_FINALES=\"OUI\",IF(AJ25<>\"\",IF($AT$25=RESULTATS!AS10,1,0),0),0)","v":0},"équipe",null,null,{"$f":"AJ17*7","v":0},null,"points"]
[null,{"$f":"VLOOKUP($D18,TABLEAU_MATCHS[#All],2,FALSE)","v":"2018-06-17"},{"$f":"VLOOKUP($D18,TABLEAU_MATCHS[#All],3,FALSE)","v":"17:00:00"},11,{"$f":"\"Groupe \"&VLOOKUP($I18,TABLEAU_TEAMS[[#All],[TEAM]:[GROUP_INITIAL_RANK]],2,FALSE)","v":"Groupe F"},1.34,4.3,7.5,{"$f":"VLOOKUP($D18,TABLEAU_MATCHS[#All],4,FALSE)","v":"Allemagne"},3,null,{"$f":"VLOOKUP($D18,TABLEAU_MATCHS[#All],5,FALSE)","v":"Mexique"},1,{"$f":"IF(OR(ISBLANK(RESULTATS!J18),ISBLANK(J18)),\"\",IF(AND(JD!J18=RESULTATS!J18,JD!M18=RESULTATS!M18),3,IF(OR(AND(JD!J18>JD!M18,RESULTATS!J18>RESULTATS!M18),AND(JD!J18<JD!M18,RESULTATS!J18<RESULTATS!M18),AND(JD!J18=JD!M18,RESULTATS!J18=RESULTATS!M18)),1,0)))","v":""},null,null,null,"00700RI Iran",700,4,"RI Iran",{"$f":"SUMPRODUCT((Teams1=U18)*(Teams1_Score<>\"\"))+SUMPRODUCT((Teams2=U18)*(Teams2_Score<>\"\"))","v":3},{"$f":"SUMPRODUCT((Teams1=U18)*(Teams1_Score>Teams2_Score))+SUMPRODUCT((Teams2=U18)*(Teams2_Score>Teams1_Score))","v":0},{"$f":"SUMPRODUCT((Teams1=U18)*(Teams1_Score=Teams2_Score)*(Teams1_Score<>\"\"))+SUMPRODUCT((Teams2=U18)*(Teams2_Score=Teams1_Score)*(Teams2_Score<>\"\"))","v":1},{"$f":"SUMPRODUCT((Teams1=U18)*(Teams1_Score<Teams2_Score))+SUMPRODUCT((Teams2=U18)*(Teams2_Score<Teams1_Score))","v":2},{"$f":"SUMPRODUCT((Teams1=U18)*(Teams1_Score))+SUMPRODUCT((Teams2=U18)*(Teams2_Score))","v":0},{"$f":"SUMPRODUCT((Teams1=U18)*(Teams2_Score))+SUMPRODUCT((Teams2=U18)*(Teams1_Score))","v":3},{"$f":"Z18-AA18","v":-3},{"$f":"3*W18+X18","v":1}]
[null,{"$f":"VLOOKUP($D19,TABLEAU_MATCHS[#All],2,FALSE)","v":"2018-06-18"},{"$f":"VLOOKUP($D19,TABLEAU_MATCHS[#All],3,FALSE)","v":"14:00:00"},12,{"$f":"\"Groupe \"&VLOOKUP($I19,TABLEAU_TEAMS[[#All],[TEAM]:[GROUP_INITIAL_RANK]],2,FALSE)","v":"Groupe F"},3.3,2.95,2.15,{"$f":"VLOOKUP($D19,TABLEAU_MATCHS[#All],4,FALSE)","v":"Suède"},0,null,{"$f":"VLOOKUP($D19,TABLEAU_MATCHS[#All],5,FALSE)","v":"République de Corée"},0,{"$f":"IF(OR(ISBLANK(RESULTATS!J19),ISBLANK(J19)),\"\",IF(AND(JD!J19=RESULTATS!J19,JD!M19=RESULTATS!M19),3,IF(OR(AND(JD!J19>JD!M19,RESULTATS!J19>RESULTATS!M19),AND(JD!J19<JD!M19,RESULTATS!J19<RESULTATS!M19),AND(JD!J19=JD!M19,RESULTATS!J19=RESULTATS!M19)),1,0)))","v":""}]
[null,{"$f":"VLOOKUP($D20,TABLEAU_MATCHS[#All],2,FALSE)","v":"2018-06-18"},{"$f":"VLOOKUP($D20,TABLEAU_MATCHS[#All],3,FALSE)","v":"17:00:00"},13,{"$f":"\"Groupe \"&VLOOKUP($I20,TABLEAU_TEAMS[[#All],[TEAM]:[GROUP_INITIAL_RANK]],2,FALSE)","v":"Groupe G"},1.95,2.95,4,{"$f":"VLOOKUP($D20,TABLEAU_MATCHS[#All],4,FALSE)","v":"Belgique"},2,null,{"$f":"VLOOKUP($D20,TABLEAU_MATCHS[#All],5,FALSE)","v":"Panama"},0,{"$f":"IF(OR(ISBLANK(RESULTATS!J20),ISBLANK(J20)),\"\",IF(AND(JD!J20=RESULTATS!J20,JD!M20=RESULTATS!M20),3,IF(OR(AND(JD!J20>JD!M20,RESULTATS!J20>RESULTATS!M20),AND(JD!J20<JD!M20,RESULTATS!J20<RESULTATS!M20),AND(JD!J20=JD!M20,RESULTATS!J20=RESULTATS!M20)),1,0)))","v":""},null,null,null,null,null,"Rg","Groupe C","MJ","G","N","P","BP","BC","+/-","Pts"]
[null,{"$f":"VLOOKUP($D21,TABLEAU_MATCHS[#All],2,FALSE)","v":"2018-06-18"},{"$f":"VLOOKUP($D21,TABLEAU_MATCHS[#All],3,FALSE)","v":"20:00:00"},14,{"$f":"\"Groupe \"&VLOOKUP($I21,TABLEAU_TEAMS[[#All],[TEAM]:[GROUP_INITIAL_RANK]],2,FALSE)","v":"Groupe G"},2.5499999999999998,2.9,2.7,{"$f":"VLOOKUP($D21,TABLEAU_MATCHS[#All],4,FALSE)","v":"Tunisie"},0,null,{"$f":"VLOOKUP($D21,TABLEAU_MATCHS[#All],5,FALSE)","v":"Angleterre"},1,{"$f":"IF(OR(ISBLANK(RESULTATS!J21),ISBLANK(J21)),\"\",IF(AND(JD!J21=RESULTATS!J21,JD!M21=RESULTATS!M21),3,IF(OR(AND(JD!J21>JD!M21,RESULTATS!J21>RESULTATS!M21),AND(JD!J21<JD!M21,RESULTATS!J21<RESULTATS!M21),AND(JD!J21=JD!M21,RESULTATS!J21=RESULTATS!M21)),1,0)))","v":""},null,null,null,{"$f":"INDEX($R72:$R75,MATCH(SMALL(COUNTIF($R72:$R75,\">=\"&$R72:$R75),ROW(INDIRECT(\"1:\"&ROWS($R72:$R75)))),COUNTIF($R72:$R75,\">=\"&$R72:$R75),0))","v":"07340France"},{"$f":"INDEX($S72:$S75,MATCH(SMALL(COUNTIF($R72:$R75,\">=\"&$R72:$R75),ROW(INDIRECT(\"1:\"&ROWS($R72:$R75)))),COUNTIF($R72:$R75,\">=\"&$R72:$R75),0))","v":7340},{"$f":"INDEX($T72:$T75,MATCH(SMALL(COUNTIF($R72:$R75,\">=\"&$R72:$R75),ROW(INDIRECT(\"1:\"&ROWS($R72:$R75)))),COUNTIF($R72:$R75,\">=\"&$R72:$R75),0))","v":1},{"$f":"INDEX($U72:$U75,MATCH(SMALL(COUNTIF($R72:$R75,\">=\"&$R72:$R75),ROW(INDIRECT(\"1:\"&ROWS($R72:$R75)))),COUNTIF($R72:$R75,\">=\"&$R72:$R75),0))","v":"France"},{"$f":"SUMPRODUCT((Teams1=U21)*(Teams1_Score<>\"\"))+SUMPRODUCT((Teams2=U21)*(Teams2_Score<>\"\"))","v":3},{"$f":"SUMPRODUCT((Teams1=U21)*(Teams1_Score>Teams2_Score))+SUMPRODUCT((Teams2=U21)*(Teams2_Score>Teams1_Score))","v":2},{"$f":"SUMPRODUCT((Teams1=U21)*(Teams1_Score=Teams2_Score)*(Teams1_Score<>\"\"))+SUMPRODUCT((Teams2=U21)*(Teams2_Score=Teams1_Score)*(Teams2_Score<>\"\"))","v":1},{"$f":"SUMPRODUCT((Teams1=U21)*(Teams1_Score<Teams2_Score))+SUMPRODUCT((Teams2=U21)*(Teams2_Score<Teams1_Score))","v":0},{"$f":"SUMPRODUCT((Teams1=U21)*(Teams1_Score))+SUMPRODUCT((Teams2=U21)*(Teams2_Score))","v":4},{"$f":"SUMPRODUCT((Teams1=U21)*(Teams2_Score))+SUMPRODUCT((Teams2=U21)*(Teams1_Score))","v":1},{"$f":"Z21-AA21","v":3},{"$f":"3*W21+X21","v":7},null,null,null,"PHASES FINALES"]
[null,{"$f":"VLOOKUP($D22,TABLEAU_MATCHS[#All],2,FALSE)","v":"2018-06-19"},{"$f":"VLOOKUP($D22,TABLEAU_MATCHS[#All],3,FALSE)","v":"17:00:00"},15,{"$f":"\"Groupe \"&VLOOKUP($I22,TABLEAU_TEAMS[[#All],[TEAM]:[GROUP_INITIAL_RANK]],2,FALSE)","v":"Groupe H"},1.38,3.9,8,{"$f":"VLOOKUP($D22,TABLEAU_MATCHS[#All],4,FALSE)","v":"Colombie"},1,null,{"$f":"VLOOKUP($D22,TABLEAU_MATCHS[#All],5,FALSE)","v":"Japon"},0,{"$f":"IF(OR(ISBLANK(RESULTATS!J22),ISBLANK(J22)),\"\",IF(AND(JD!J22=RESULTATS!J22,JD!M22=RESULTATS!M22),3,IF(OR(AND(JD!J22>JD!M22,RESULTATS!J22>RESULTATS!M22),AND(JD!J22<JD!M22,RESULTATS!J22<RESULTATS!M22),AND(JD!J22=JD!M22,RESULTATS!J22=RESULTATS!M22)),1,0)))","v":""},null,null,null,"04020Pérou",4020,2,"Pérou",{"$f":"SUMPRODUCT((Teams1=U22)*(Teams1_Score<>\"\"))+SUMPRODUCT((Teams2=U22)*(Teams2_Score<>\"\"))","v":3},{"$f":"SUMPRODUCT((Teams1=U22)*(Teams1_Score>Teams2_Score))+SUMPRODUCT((Teams2=U22)*(Teams2_Score>Teams1_Score))","v":1},{"$f":"SUMPRODUCT((Teams1=U22)*(Teams1_Score=Teams2_Score)*(Teams1_Score<>\"\"))+SUMPRODUCT((Teams2=U22)*(Teams2_Score=Teams1_Score)*(Teams2_Score<>\"\"))","v":1},{"$f":"SUMPRODUCT((Teams1=U22)*(Teams1_Score<Teams2_Score))+SUMPRODUCT((Teams2=U22)*(Teams2_Score<Teams1_Score))","v":1},{"$f":"SUMPRODUCT((Teams1=U22)*(Teams1_Score))+SUMPRODUCT((Teams2=U22)*(Teams2_Score))","v":2},{"$f":"SUMPRODUCT((Teams1=U22)*(Teams2_Score))+SUMPRODUCT((Teams2=U22)*(Teams1_Score))","v":2},{"$f":"Z22-AA22","v":0},{"$f":"3*W22+X22","v":4}]
[null,{"$f":"VLOOKUP($D23,TABLEAU_MATCHS[#All],2,FALSE)","v":"2018-06-19"},{"$f":"VLOOKUP($D23,TABLEAU_MATCHS[#All],3,FALSE)","v":"14:00:00"},16,{"$f":"\"Groupe \"&VLOOKUP($I23,TABLEAU_TEAMS[[#All],[TEAM]:[GROUP_INITIAL_RANK]],2,FALSE)","v":"Groupe H"},2.0499999999999998,2.9,3.5,{"$f":"VLOOKUP($D23,TABLEAU_MATCHS[#All],4,FALSE)","v":"Pologne"},2,null,{"$f":"VLOOKUP($D23,TABLEAU_MATCHS[#All],5,FALSE)","v":"Sénégal"},0,{"$f":"IF(OR(ISBLANK(RESULTATS!J23),ISBLANK(J23)),\"\",IF(AND(JD!J23=RESULTATS!J23,JD!M23=RESULTATS!M23),3,IF(OR(AND(JD!J23>JD!M23,RESULTATS!J23>RESULTATS!M23),AND(JD!J23<JD!M23,RESULTATS!J23<RESULTATS!M23),AND(JD!J23=JD!M23,RESULTATS!J23=RESULTATS!M23)),1,0)))","v":""},null,null,null,"03000Danemark",3000,3,"Danemark",{"$f":"SUMPRODUCT((Teams1=U23)*(Teams1_Score<>\"\"))+SUMPRODUCT((Teams2=U23)*(Teams2_Score<>\"\"))","v":3},{"$f":"SUMPRODUCT((Teams1=U23)*(Teams1_Score>Teams2_Score))+SUMPRODUCT((Teams2=U23)*(Teams2_Score>Teams1_Score))","v":0},{"$f":"SUMPRODUCT((Teams1=U23)*(Teams1_Score=Teams2_Score)*(Teams1_Score<>\"\"))+SUMPRODUCT((Teams2=U23)*(Teams2_Score=Teams1_Score)*(Teams2_Score<>\"\"))","v":3},{"$f":"SUMPRODUCT((Teams1=U23)*(Teams1_Score<Teams2_Score))+SUMPRODUCT((Teams2=U23)*(Teams2_Score<Teams1_Score))","v":0},{"$f":"SUMPRODUCT((Teams1=U23)*(Teams1_Score))+SUMPRODUCT((Teams2=U23)*(Teams2_Score))","v":0},{"$f":"SUMPRODUCT((Teams1=U23)*(Teams2_Score))+SUMPRODUCT((Teams2=U23)*(Teams1_Score))","v":0},{"$f":"Z23-AA23","v":0},{"$f":"3*W23+X23","v":3},null,null,"Date","Finale",null,null,"Buts",null,"Pen",null,null,null,"Buts",null,"Pen"]
[null,{"$f":"VLOOKUP($D24,TABLEAU_MATCHS[#All],2,FALSE)","v":"2018-06-19"},{"$f":"VLOOKUP($D24,TABLEAU_MATCHS[#All],3,FALSE)","v":"20:00:00"},17,{"$f":"\"Groupe \"&VLOOKUP($I24,TABLEAU_TEAMS[[#All],[TEAM]:[GROUP_INITIAL_RANK]],2,FALSE)","v":"Groupe A"},1.26,4.8,9,{"$f":"VLOOKUP($D24,TABLEAU_MATCHS[#All],4,FALSE)","v":"Russie"},1,null,{"$f":"VLOOKUP($D24,TABLEAU_MATCHS[#All],5,FALSE)","v":"Egypte"},1,{"$f":"IF(OR(ISBLANK(RESULTATS!J24),ISBLANK(J24)),\"\",IF(AND(JD!J24=RESULTATS!J24,JD!M24=RESULTATS!M24),3,IF(OR(AND(JD!J24>JD!M24,RESULTATS!J24>RESULTATS!M24),AND(JD!J24<JD!M24,RESULTATS!J24<RESULTATS!M24),AND(JD!J24=JD!M24,RESULTATS!J24=RESULTATS!M24)),1,0)))","v":""},null,null,null,"00700Australie",700,4,"Australie",{"$f":"SUMPRODUCT((Teams1=U24)*(Teams1_Score<>\"\"))+SUMPRODUCT((Teams2=U24)*(Teams2_Score<>\"\"))","v":3},{"$f":"SUMPRODUCT((Teams1=U24)*(Teams1_Score>Teams2_Score))+SUMPRODUCT((Teams2=U24)*(Teams2_Score>Teams1_Score))","v":0},{"$f":"SUMPRODUCT((Teams1=U24)*(Teams1_Score=Teams2_Score)*(Teams1_Score<>\"\"))+SUMPRODUCT((Teams2=U24)*(Teams2_Score=Teams1_Score)*(Teams2_Score<>\"\"))","v":1},{"$f":"SUMPRODUCT((Teams1=U24)*(Teams1_Score<Teams2_Score))+SUMPRODUCT((Teams2=U24)*(Teams2_Score<Teams1_Score))","v":2},{"$f":"SUMPRODUCT((Teams1=U24)*(Teams1_Score))+SUMPRODUCT((Teams2=U24)*(Teams2_Score))","v":0},{"$f":"SUMPRODUCT((Teams1=U24)*(Teams2_Score))+SUMPRODUCT((Teams2=U24)*(Teams1_Score))","v":3},{"$f":"Z24-AA24","v":-3},{"$f":"3*W24+X24","v":1}]
[null,{"$f":"VLOOKUP($D25,TABLEAU_MATCHS[#All],2,FALSE)","v":"2018-06-20"},{"$f":"VLOOKUP($D25,TABLEAU_MATCHS[#All],3,FALSE)","v":"17:00:00"},18,{"$f":"\"Groupe \"&VLOOKUP($I25,TABLEAU_TEAMS[[#All],[TEAM]:[GROUP_INITIAL_RANK]],2,FALSE)","v":"Groupe A"},3.5,3,2,{"$f":"VLOOKUP($D25,TABLEAU_MATCHS[#All],4,FALSE)","v":"Uruguay"},3,null,{"$f":"VLOOKUP($D25,TABLEAU_MATCHS[#All],5,FALSE)","v":"Arabie Saoudite"},0,{"$f":"IF(OR(ISBLANK(RESULTATS!J25),ISBLANK(J25)),\"\",IF(AND(JD!J25=RESULTATS!J25,JD!M25=RESULTATS!M25),3,IF(OR(AND(JD!J25>JD!M25,RESULTATS!J25>RESULTATS!M25),AND(JD!J25<JD!M25,RESULTATS!J25<RESULTATS!M25),AND(JD!J25=JD!M25,RESULTATS!J25=RESULTATS!M25)),1,0)))","v":""},null,null,null,null,null,null,null,null,null,null,null,null,null,null,null,null,null,"2018-07-15",null,{"$f":"+IF(AJ33<>\"\",IF(AI33>AO33,AH33,AN33),\"Vainqueur 1\")","v":"Brésil"},{"$f":"AJ25*10+AL25","v":10},1,{"$f":"IF(LEFT(AH25,5)<>\"Vainq\",COUNTIF(RESULTATS!$AG$10:$AM$10,AH25),0)","v":0},null,null,{"$f":"+IF(AJ34<>\"\",IF(AI34>AO34,AH34,AN34),\"Vainqueur 2\")","v":"Allemagne"},{"$f":"AP25*10+AR25","v":20},2,{"$f":"IF(LEFT(AN25,5)<>\"Vainq\",COUNTIF(RESULTATS!$AG$10:$AM$10,AN25),0)","v":0},null,null,{"$f":"IF(AJ25<>\"\",IF(AI25>AO25,AH25,AN25),\"\")","v":"Allemagne"}]
[null,{"$f":"VLOOKUP($D26,TABLEAU_MATCHS[#All],2,FALSE)","v":"2018-06-20"},{"$f":"VLOOKUP($D26,TABLEAU_MATCHS[#All],3,FALSE)","v":"14:00:00"},19,{"$f":"\"Groupe \"&VLOOKUP($I26,TABLEAU_TEAMS[[#All],[TEAM]:[GROUP_INITIAL_RANK]],2,FALSE)","v":"Groupe B"},1.66,3.35,4.8,{"$f":"VLOOKUP($D26,TABLEAU_MATCHS[#All],4,FALSE)","v":"Portugal"},0,null,{"$f":"VLOOKUP($D26,TABLEAU_MATCHS[#All],5,FALSE)","v":"Maroc"},0,{"$f":"IF(OR(ISBLANK(RESULTATS!J26),ISBLANK(J26)),\"\",IF(AND(JD!J26=RESULTATS!J26,JD!M26=RESULTATS!M26),3,IF(OR(AND(JD!J26>JD!M26,RESULTATS!J26>RESULTATS!M26),AND(JD!J26<JD!M26,RESULTATS!J26<RESULTATS!M26),AND(JD!J26=JD!M26,RESULTATS!J26=RESULTATS!M26)),1,0)))","v":""},null,null,null,null,null,"Rg","Groupe D","MJ","G","N","P","BP","BC","+/-","Pts"]
[null,{"$f":"VLOOKUP($D27,TABLEAU_MATCHS[#All],2,FALSE)","v":"2018-06-20"},{"$f":"VLOOKUP($D27,TABLEAU_MATCHS[#All],3,FALSE)","v":"20:00:00"},20,{"$f":"\"Groupe \"&VLOOKUP($I27,TABLEAU_TEAMS[[#All],[TEAM]:[GROUP_INITIAL_RANK]],2,FALSE)","v":"Groupe B"},8.5,4.7,1.28,{"$f":"VLOOKUP($D27,TABLEAU_MATCHS[#All],4,FALSE)","v":"RI Iran"},0,null,{"$f":"VLOOKUP($D27,TABLEAU_MATCHS[#All],5,FALSE)","v":"Espagne"},2,{"$f":"IF(OR(ISBLANK(RESULTATS!J27),ISBLANK(J27)),\"\",IF(AND(JD!J27=RESULTATS!J27,JD!M27=RESULTATS!M27),3,IF(OR(AND(JD!J27>JD!M27,RESULTATS!J27>RESULTATS!M27),AND(JD!J27<JD!M27,RESULTATS!J27<RESULTATS!M27),AND(JD!J27=JD!M27,RESULTATS!J27=RESULTATS!M27)),1,0)))","v":""},null,null,null,{"$f":"INDEX($R78:$R81,MATCH(SMALL(COUNTIF($R78:$R81,\">=\"&$R78:$R81),ROW(INDIRECT(\"1:\"&ROWS($R78:$R81)))),COUNTIF($R78:$R81,\">=\"&$R78:$R81),0))","v":"05240Argentine"},{"$f":"INDEX($S78:$S81,MATCH(SMALL(COUNTIF($R78:$R81,\">=\"&$R78:$R81),ROW(INDIRECT(\"1:\"&ROWS($R78:$R81)))),COUNTIF($R78:$R81,\">=\"&$R78:$R81),0))","v":5240},{"$f":"INDEX($T78:$T81,MATCH(SMALL(COUNTIF($R78:$R81,\">=\"&$R78:$R81),ROW(INDIRECT(\"1:\"&ROWS($R78:$R81)))),COUNTIF($R78:$R81,\">=\"&$R78:$R81),0))","v":1},{"$f":"INDEX($U78:$U81,MATCH(SMALL(COUNTIF($R78:$R81,\">=\"&$R78:$R81),ROW(INDIRECT(\"1:\"&ROWS($R78:$R81)))),COUNTIF($R78:$R81,\">=\"&$R78:$R81),0))","v":"Argentine"},{"$f":"SUMPRODUCT((Teams1=U27)*(Teams1_Score<>\"\"))+SUMPRODUCT((Teams2=U27)*(Teams2_Score<>\"\"))","v":3},{"$f":"SUMPRODUCT((Teams1=U27)*(Teams1_Score>Teams2_Score))+SUMPRODUCT((Teams2=U27)*(Teams2_Score>Teams1_Score))","v":1},{"$f":"SUMPRODUCT((Teams1=U27)*(Teams1_Score=Teams2_Score)*(Teams1_Score<>\"\"))+SUMPRODUCT((Teams2=U27)*(Teams2_Score=Teams1_Score)*(Teams2_Score<>\"\"))","v":2},{"$f":"SUMPRODUCT((Teams1=U27)*(Teams1_Score<Teams2_Score))+SUMPRODUCT((Teams2=U27)*(Teams2_Score<Teams1_Score))","v":0},{"$f":"SUMPRODUCT((Teams1=U27)*(Teams1_Score))+SUMPRODUCT((Teams2=U27)*(Teams2_Score))","v":4},{"$f":"SUMPRODUCT((Teams1=U27)*(Teams2_Score))+SUMPRODUCT((Teams2=U27)*(Teams1_Score))","v":2},{"$f":"Z27-AA27","v":2},{"$f":"3*W27+X27","v":5},null,null,"Date","Petite Finale",null,null,"Buts",null,"Pen",null,null,null,"Buts",null,"Pen"]
[null,{"$f":"VLOOKUP($D28,TABLEAU_MATCHS[#All],2,FALSE)","v":"2018-06-21"},{"$f":"VLOOKUP($D28,TABLEAU_MATCHS[#All],3,FALSE)","v":"14:00:00"},21,{"$f":"\"Groupe \"&VLOOKUP($I28,TABLEAU_TEAMS[[#All],[TEAM]:[GROUP_INITIAL_RANK]],2,FALSE)","v":"Groupe C"},1.85,3,4,{"$f":"VLOOKUP($D28,TABLEAU_MATCHS[#All],4,FALSE)","v":"Danemark"},0,null,{"$f":"VLOOKUP($D28,TABLEAU_MATCHS[#All],5,FALSE)","v":"Australie"},0,{"$f":"IF(OR(ISBLANK(RESULTATS!J28),ISBLANK(J28)),\"\",IF(AND(JD!J28=RESULTATS!J28,JD!M28=RESULTATS!M28),3,IF(OR(AND(JD!J28>JD!M28,RESULTATS!J28>RESULTATS!M28),AND(JD!J28<JD!M28,RESULTATS!J28<RESULTATS!M28),AND(JD!J28=JD!M28,RESULTATS!J28=RESULTATS!M28)),1,0)))","v":""},null,null,null,"05120Islande",5120,2,"Islande",{"$f":"SUMPRODUCT((Teams1=U28)*(Teams1_Score<>\"\"))+SUMPRODUCT((Teams2=U28)*(Teams2_Score<>\"\"))","v":3},{"$f":"SUMPRODUCT((Teams1=U28)*(Teams1_Score>Teams2_Score))+SUMPRODUCT((Teams2=U28)*(Teams2_Score>Teams1_Score))","v":1},{"$f":"SUMPRODUCT((Teams1=U28)*(Teams1_Score=Teams2_Score)*(Teams1_Score<>\"\"))+SUMPRODUCT((Teams2=U28)*(Teams2_Score=Teams1_Score)*(Teams2_Score<>\"\"))","v":2},{"$f":"SUMPRODUCT((Teams1=U28)*(Teams1_Score<Teams2_Score))+SUMPRODUCT((Teams2=U28)*(Teams2_Score<Teams1_Score))","v":0},{"$f":"SUMPRODUCT((Teams1=U28)*(Teams1_Score))+SUMPRODUCT((Teams2=U28)*(Teams2_Score))","v":2},{"$f":"SUMPRODUCT((Teams1=U28)*(Teams2_Score))+SUMPRODUCT((Teams2=U28)*(Teams1_Score))","v":1},{"$f":"Z28-AA28","v":1},{"$f":"3*W28+X28","v":5}]
[null,{"$f":"VLOOKUP($D29,TABLEAU_MATCHS[#All],2,FALSE)","v":"2018-06-21"},{"$f":"VLOOKUP($D29,TABLEAU_MATCHS[#All],3,FALSE)","v":"17:00:00"},22,{"$f":"\"Groupe \"&VLOOKUP($I29,TABLEAU_TEAMS[[#All],[TEAM]:[GROUP_INITIAL_RANK]],2,FALSE)","v":"Groupe C"},2.2999999999999998,3,2.9,{"$f":"VLOOKUP($D29,TABLEAU_MATCHS[#All],4,FALSE)","v":"France"},2,null,{"$f":"VLOOKUP($D29,TABLEAU_MATCHS[#All],5,FALSE)","v":"Pérou"},1,{"$f":"IF(OR(ISBLANK(RESULTATS!J29),ISBLANK(J29)),\"\",IF(AND(JD!J29=RESULTATS!J29,JD!M29=RESULTATS!M29),3,IF(OR(AND(JD!J29>JD!M29,RESULTATS!J29>RESULTATS!M29),AND(JD!J29<JD!M29,RESULTATS!J29<RESULTATS!M29),AND(JD!J29=JD!M29,RESULTATS!J29=RESULTATS!M29)),1,0)))","v":""},null,null,null,"05120Croatie",5120,2,"Croatie",{"$f":"SUMPRODUCT((Teams1=U29)*(Teams1_Score<>\"\"))+SUMPRODUCT((Teams2=U29)*(Teams2_Score<>\"\"))","v":3},{"$f":"SUMPRODUCT((Teams1=U29)*(Teams1_Score>Teams2_Score))+SUMPRODUCT((Teams2=U29)*(Teams2_Score>Teams1_Score))","v":1},{"$f":"SUMPRODUCT((Teams1=U29)*(Teams1_Score=Teams2_Score)*(Teams1_Score<>\"\"))+SUMPRODUCT((Teams2=U29)*(Teams2_Score=Teams1_Score)*(Teams2_Score<>\"\"))","v":2},{"$f":"SUMPRODUCT((Teams1=U29)*(Teams1_Score<Teams2_Score))+SUMPRODUCT((Teams2=U29)*(Teams2_Score<Teams1_Score))","v":0},{"$f":"SUMPRODUCT((Teams1=U29)*(Teams1_Score))+SUMPRODUCT((Teams2=U29)*(Teams2_Score))","v":2},{"$f":"SUMPRODUCT((Teams1=U29)*(Teams2_Score))+SUMPRODUCT((Teams2=U29)*(Teams1_Score))","v":1},{"$f":"Z29-AA29","v":1},{"$f":"3*W29+X29","v":5},null,null,"2018-07-14",null,{"$f":"+IF(AJ33<>\"\",IF(AI33>AO33,AN33,AH33),\"Perdant 1\")","v":"France"},{"$f":"AJ29*10+AL29","v":0},0,null,null,null,{"$f":"+IF(AJ34<>\"\",IF(AI34>AO34,AN34,AH34),\"Perdant 2\")","v":"Espagne"},{"$f":"AP29*10+AR29","v":10},1]
[null,{"$f":"VLOOKUP($D30,TABLEAU_MATCHS[#All],2,FALSE)","v":"2018-06-21"},{"$f":"VLOOKUP($D30,TABLEAU_MATCHS[#All],3,FALSE)","v":"20:00:00"},23,{"$f":"\"Groupe \"&VLOOKUP($I30,TABLEAU_TEAMS[[#All],[TEAM]:[GROUP_INITIAL_RANK]],2,FALSE)","v":"Groupe D"},2.4,3,2.8,{"$f":"VLOOKUP($D30,TABLEAU_MATCHS[#All],4,FALSE)","v":"Argentine"},1,null,{"$f":"VLOOKUP($D30,TABLEAU_MATCHS[#All],5,FALSE)","v":"Croatie"},1,{"$f":"IF(OR(ISBLANK(RESULTATS!J30),ISBLANK(J30)),\"\",IF(AND(JD!J30=RESULTATS!J30,JD!M30=RESULTATS!M30),3,IF(OR(AND(JD!J30>JD!M30,RESULTATS!J30>RESULTATS!M30),AND(JD!J30<JD!M30,RESULTATS!J30<RESULTATS!M30),AND(JD!J30=JD!M30,RESULTATS!J30=RESULTATS!M30)),1,0)))","v":""},null,null,null,"-00400Nigeria",-400,4,"Nigeria",{"$f":"SUMPRODUCT((Teams1=U30)*(Teams1_Score<>\"\"))+SUMPRODUCT((Teams2=U30)*(Teams2_Score<>\"\"))","v":3},{"$f":"SUMPRODUCT((Teams1=U30)*(Teams1_Score>Teams2_Score))+SUMPRODUCT((Teams2=U30)*(Teams2_Score>Teams1_Score))","v":0},{"$f":"SUMPRODUCT((Teams1=U30)*(Teams1_Score=Teams2_Score)*(Teams1_Score<>\"\"))+SUMPRODUCT((Teams2=U30)*(Teams2_Score=Teams1_Score)*(Teams2_Score<>\"\"))","v":0},{"$f":"SUMPRODUCT((Teams1=U30)*(Teams1_Score<Teams2_Score))+SUMPRODUCT((Teams2=U30)*(Teams2_Score<Teams1_Score))","v":3},{"$f":"SUMPRODUCT((Teams1=U30)*(Teams1_Score))+SUMPRODUCT((Teams2=U30)*(Teams2_Score))","v":0},{"$f":"SUMPRODUCT((Teams1=U30)*(Teams2_Score))+SUMPRODUCT((Teams2=U30)*(Teams1_Score))","v":4},{"$f":"Z30-AA30","v":-4},{"$f":"3*W30+X30","v":0}]
[null,{"$f":"VLOOKUP($D31,TABLEAU_MATCHS[#All],2,FALSE)","v":"2018-06-22"},{"$f":"VLOOKUP($D31,TABLEAU_MATCHS[#All],3,FALSE)","v":"17:00:00"},24,{"$f":"\"Groupe \"&VLOOKUP($I31,TABLEAU_TEAMS[[#All],[TEAM]:[GROUP_INITIAL_RANK]],2,FALSE)","v":"Groupe D"},1.26,4.5999999999999996,9.5,{"$f":"VLOOKUP($D31,TABLEAU_MATCHS[#All],4,FALSE)","v":"Nigeria"},0,null,{"$f":"VLOOKUP($D31,TABLEAU_MATCHS[#All],5,FALSE)","v":"Islande"},1,{"$f":"IF(OR(ISBLANK(RESULTATS!J31),ISBLANK(J31)),\"\",IF(AND(JD!J31=RESULTATS!J31,JD!M31=RESULTATS!M31),3,IF(OR(AND(JD!J31>JD!M31,RESULTATS!J31>RESULTATS!M31),AND(JD!J31<JD!M31,RESULTATS!J31<RESULTATS!M31),AND(JD!J31=JD!M31,RESULTATS!J31=RESULTATS!M31)),1,0)))","v":""},null,null,null,null,null,null,null,null,null,null,null,null,null,null,null,null,null,"Date","Demi Finale",null,null,"Buts",null,"Pen",null,null,null,"Buts",null,"Pen"]
[null,{"$f":"VLOOKUP($D32,TABLEAU_MATCHS[#All],2,FALSE)","v":"2018-06-22"},{"$f":"VLOOKUP($D32,TABLEAU_MATCHS[#All],3,FALSE)","v":"14:00:00"},25,{"$f":"\"Groupe \"&VLOOKUP($I32,TABLEAU_TEAMS[[#All],[TEAM]:[GROUP_INITIAL_RANK]],2,FALSE)","v":"Groupe E"},3.5,2.95,2.1,{"$f":"VLOOKUP($D32,TABLEAU_MATCHS[#All],4,FALSE)","v":"Brésil"},2,null,{"$f":"VLOOKUP($D32,TABLEAU_MATCHS[#All],5,FALSE)","v":"Costa Rica"},0,{"$f":"IF(OR(ISBLANK(RESULTATS!J32),ISBLANK(J32)),\"\",IF(AND(JD!J32=RESULTATS!J32,JD!M32=RESULTATS!M32),3,IF(OR(AND(JD!J32>JD!M32,RESULTATS!J32>RESULTATS!M32),AND(JD!J32<JD!M32,RESULTATS!J32<RESULTATS!M32),AND(JD!J32=JD!M32,RESULTATS!J32=RESULTATS!M32)),1,0)))","v":""},null,null,null,null,null,"Rg","Groupe E","MJ","G","N","P","BP","BC","+/-","Pts"]
[null,{"$f":"VLOOKUP($D33,TABLEAU_MATCHS[#All],2,FALSE)","v":"2018-06-22"},{"$f":"VLOOKUP($D33,TABLEAU_MATCHS[#All],3,FALSE)","v":"20:00:00"},26,{"$f":"\"Groupe \"&VLOOKUP($I33,TABLEAU_TEAMS[[#All],[TEAM]:[GROUP_INITIAL_RANK]],2,FALSE)","v":"Groupe E"},4.8,3.25,1.62,{"$f":"VLOOKUP($D33,TABLEAU_MATCHS[#All],4,FALSE)","v":"Serbie"},2,null,{"$f":"VLOOKUP($D33,TABLEAU_MATCHS[#All],5,FALSE)","v":"Suisse"},1,{"$f":"IF(OR(ISBLANK(RESULTATS!J33),ISBLANK(J33)),\"\",IF(AND(JD!J33=RESULTATS!J33,JD!M33=RESULTATS!M33),3,IF(OR(AND(JD!J33>JD!M33,RESULTATS!J33>RESULTATS!M33),AND(JD!J33<JD!M33,RESULTATS!J33<RESULTATS!M33),AND(JD!J33=JD!M33,RESULTATS!J33=RESULTATS!M33)),1,0)))","v":""},null,null,null,{"$f":"INDEX($R84:$R87,MATCH(SMALL(COUNTIF($R84:$R87,\">=\"&$R84:$R87),ROW(INDIRECT(\"1:\"&ROWS($R84:$R87)))),COUNTIF($R84:$R87,\">=\"&$R84:$R87),0))","v":"09770Brésil"},{"$f":"INDEX($S84:$S87,MATCH(SMALL(COUNTIF($R84:$R87,\">=\"&$R84:$R87),ROW(INDIRECT(\"1:\"&ROWS($R84:$R87)))),COUNTIF($R84:$R87,\">=\"&$R84:$R87),0))","v":9770},{"$f":"INDEX($T84:$T87,MATCH(SMALL(COUNTIF($R84:$R87,\">=\"&$R84:$R87),ROW(INDIRECT(\"1:\"&ROWS($R84:$R87)))),COUNTIF($R84:$R87,\">=\"&$R84:$R87),0))","v":1},{"$f":"INDEX($U84:$U87,MATCH(SMALL(COUNTIF($R84:$R87,\">=\"&$R84:$R87),ROW(INDIRECT(\"1:\"&ROWS($R84:$R87)))),COUNTIF($R84:$R87,\">=\"&$R84:$R87),0))","v":"Brésil"},{"$f":"SUMPRODUCT((Teams1=U33)*(Teams1_Score<>\"\"))+SUMPRODUCT((Teams2=U33)*(Teams2_Score<>\"\"))","v":3},{"$f":"SUMPRODUCT((Teams1=U33)*(Teams1_Score>Teams2_Score))+SUMPRODUCT((Teams2=U33)*(Teams2_Score>Teams1_Score))","v":3},{"$f":"SUMPRODUCT((Teams1=U33)*(Teams1_Score=Teams2_Score)*(Teams1_Score<>\"\"))+SUMPRODUCT((Teams2=U33)*(Teams2_Score=Teams1_Score)*(Teams2_Score<>\"\"))","v":0},{"$f":"SUMPRODUCT((Teams1=U33)*(Teams1_Score<Teams2_Score))+SUMPRODUCT((Teams2=U33)*(Teams2_Score<Teams1_Score))","v":0},{"$f":"SUMPRODUCT((Teams1=U33)*(Teams1_Score))+SUMPRODUCT((Teams2=U33)*(Teams2_Score))","v":7},{"$f":"SUMPRODUCT((Teams1=U33)*(Teams2_Score))+SUMPRODUCT((Teams2=U33)*(Teams1_Score))","v":0},{"$f":"Z33-AA33","v":7},{"$f":"3*W33+X33","v":9},null,null,"2018-07-10",1,{"$f":"+IF(AJ38<>\"\",IF(AI38>AO38,AH38,AN38),\"Vainqueur A\")","v":"France"},{"$f":"AJ33*10+AL33","v":10},1,{"$f":"IF(LEFT(AH33,5)<>\"Vainq\",COUNTIF(RESULTATS!$AG$18:$AM$19,AH33),0)","v":0},null,null,{"$f":"+IF(AJ40<>\"\",IF(AI40>AO40,AH40,AN40),\"Vainqueur C\")","v":"Brésil"},{"$f":"AP33*10+AR33","v":20},2,{"$f":"IF(LEFT(AN33,5)<>\"Vainq\",COUNTIF(RESULTATS!$AG$18:$AM$19,AN33),0)","v":0}]
[null,{"$f":"VLOOKUP($D34,TABLEAU_MATCHS[#All],2,FALSE)","v":"2018-06-23"},{"$f":"VLOOKUP($D34,TABLEAU_MATCHS[#All],3,FALSE)","v":"20:00:00"},27,{"$f":"\"Groupe \"&VLOOKUP($I34,TABLEAU_TEAMS[[#All],[TEAM]:[GROUP_INITIAL_RANK]],2,FALSE)","v":"Groupe F"},1.1200000000000001,6.5,15,{"$f":"VLOOKUP($D34,TABLEAU_MATCHS[#All],4,FALSE)","v":"République de Corée"},1,null,{"$f":"VLOOKUP($D34,TABLEAU_MATCHS[#All],5,FALSE)","v":"Mexique"},2,{"$f":"IF(OR(ISBLANK(RESULTATS!J34),ISBLANK(J34)),\"\",IF(AND(JD!J34=RESULTATS!J34,JD!M34=RESULTATS!M34),3,IF(OR(AND(JD!J34>JD!M34,RESULTATS!J34>RESULTATS!M34),AND(JD!J34<JD!M34,RESULTATS!J34<RESULTATS!M34),AND(JD!J34=JD!M34,RESULTATS!J34=RESULTATS!M34)),1,0)))","v":""},null,null,null,"06030Serbie",6030,2,"Serbie",{"$f":"SUMPRODUCT((Teams1=U34)*(Teams1_Score<>\"\"))+SUMPRODUCT((Teams2=U34)*(Teams2_Score<>\"\"))","v":3},{"$f":"SUMPRODUCT((Teams1=U34)*(Teams1_Score>Teams2_Score))+SUMPRODUCT((Teams2=U34)*(Teams2_Score>Teams1_Score))","v":2},{"$f":"SUMPRODUCT((Teams1=U34)*(Teams1_Score=Teams2_Score)*(Teams1_Score<>\"\"))+SUMPRODUCT((Teams2=U34)*(Teams2_Score=Teams1_Score)*(Teams2_Score<>\"\"))","v":0},{"$f":"SUMPRODUCT((Teams1=U34)*(Teams1_Score<Teams2_Score))+SUMPRODUCT((Teams2=U34)*(Teams2_Score<Teams1_Score))","v":1},{"$f":"SUMPRODUCT((Teams1=U34)*(Teams1_Score))+SUMPRODUCT((Teams2=U34)*(Teams2_Score))","v":3},{"$f":"SUMPRODUCT((Teams1=U34)*(Teams2_Score))+SUMPRODUCT((Teams2=U34)*(Teams1_Score))","v":3},{"$f":"Z34-AA34","v":0},{"$f":"3*W34+X34","v":6},null,null,"2018-07-11",2,{"$f":"+IF(AJ39<>\"\",IF(AI39>AO39,AH39,AN39),\"Vainqueur B\")","v":"Espagne"},{"$f":"AJ34*10+AL34","v":15},1,{"$f":"IF(LEFT(AH34,5)<>\"Vainq\",COUNTIF(RESULTATS!$AG$18:$AM$19,AH34),0)","v":0},5,null,{"$f":"+IF(AJ41<>\"\",IF(AI41>AO41,AH41,AN41),\"Vainqueur D\")","v":"Allemagne"},{"$f":"AP34*10+AR34","v":16},1,{"$f":"IF(LEFT(AN34,5)<>\"Vainq\",COUNTIF(RESULTATS!$AG$18:$AM$19,AN34),0)","v":0},6]
[null,{"$f":"VLOOKUP($D35,TABLEAU_MATCHS[#All],2,FALSE)","v":"2018-06-23"},{"$f":"VLOOKUP($D35,TABLEAU_MATCHS[#All],3,FALSE)","v":"17:00:00"},28,{"$f":"\"Groupe \"&VLOOKUP($I35,TABLEAU_TEAMS[[#All],[TEAM]:[GROUP_INITIAL_RANK]],2,FALSE)","v":"Groupe F"},2.8,2.95,2.4,{"$f":"VLOOKUP($D35,TABLEAU_MATCHS[#All],4,FALSE)","v":"Allemagne"},2,null,{"$f":"VLOOKUP($D35,TABLEAU_MATCHS[#All],5,FALSE)","v":"Suède"},0,{"$f":"IF(OR(ISBLANK(RESULTATS!J35),ISBLANK(J35)),\"\",IF(AND(JD!J35=RESULTATS!J35,JD!M35=RESULTATS!M35),3,IF(OR(AND(JD!J35>JD!M35,RESULTATS!J35>RESULTATS!M35),AND(JD!J35<JD!M35,RESULTATS!J35<RESULTATS!M35),AND(JD!J35=JD!M35,RESULTATS!J35=RESULTATS!M35)),1,0)))","v":""},null,null,null,"00700Costa Rica",700,3,"Costa Rica",{"$f":"SUMPRODUCT((Teams1=U35)*(Teams1_Score<>\"\"))+SUMPRODUCT((Teams2=U35)*(Teams2_Score<>\"\"))","v":3},{"$f":"SUMPRODUCT((Teams1=U35)*(Teams1_Score>Teams2_Score))+SUMPRODUCT((Teams2=U35)*(Teams2_Score>Teams1_Score))","v":0},{"$f":"SUMPRODUCT((Teams1=U35)*(Teams1_Score=Teams2_Score)*(Teams1_Score<>\"\"))+SUMPRODUCT((Teams2=U35)*(Teams2_Score=Teams1_Score)*(Teams2_Score<>\"\"))","v":1},{"$f":"SUMPRODUCT((Teams1=U35)*(Teams1_Score<Teams2_Score))+SUMPRODUCT((Teams2=U35)*(Teams2_Score<Teams1_Score))","v":2},{"$f":"SUMPRODUCT((Teams1=U35)*(Teams1_Score))+SUMPRODUCT((Teams2=U35)*(Teams2_Score))","v":0},{"$f":"SUMPRODUCT((Teams1=U35)*(Teams2_Score))+SUMPRODUCT((Teams2=U35)*(Teams1_Score))","v":3},{"$f":"Z35-AA35","v":-3},{"$f":"3*W35+X35","v":1},null,null,null,null,null,null,null,{"$f":"SUM(AK33:AK34)","v":0},null,null,null,null,null,{"$f":"SUM(AQ33:AQ34)","v":0}]
[null,{"$f":"VLOOKUP($D36,TABLEAU_MATCHS[#All],2,FALSE)","v":"2018-06-23"},{"$f":"VLOOKUP($D36,TABLEAU_MATCHS[#All],3,FALSE)","v":"14:00:00"},29,{"$f":"\"Groupe \"&VLOOKUP($I36,TABLEAU_TEAMS[[#All],[TEAM]:[GROUP_INITIAL_RANK]],2,FALSE)","v":"Groupe G"},1.36,4,7.5,{"$f":"VLOOKUP($D36,TABLEAU_MATCHS[#All],4,FALSE)","v":"Belgique"},1,null,{"$f":"VLOOKUP($D36,TABLEAU_MATCHS[#All],5,FALSE)","v":"Tunisie"},0,{"$f":"IF(OR(ISBLANK(RESULTATS!J36),ISBLANK(J36)),\"\",IF(AND(JD!J36=RESULTATS!J36,JD!M36=RESULTATS!M36),3,IF(OR(AND(JD!J36>JD!M36,RESULTATS!J36>RESULTATS!M36),AND(JD!J36<JD!M36,RESULTATS!J36<RESULTATS!M36),AND(JD!J36=JD!M36,RESULTATS!J36=RESULTATS!M36)),1,0)))","v":""},null,null,null,"00610Suisse",610,4,"Suisse",{"$f":"SUMPRODUCT((Teams1=U36)*(Teams1_Score<>\"\"))+SUMPRODUCT((Teams2=U36)*(Teams2_Score<>\"\"))","v":3},{"$f":"SUMPRODUCT((Teams1=U36)*(Teams1_Score>Teams2_Score))+SUMPRODUCT((Teams2=U36)*(Teams2_Score>Teams1_Score))","v":0},{"$f":"SUMPRODUCT((Teams1=U36)*(Teams1_Score=Teams2_Score)*(Teams1_Score<>\"\"))+SUMPRODUCT((Teams2=U36)*(Teams2_Score=Teams1_Score)*(Teams2_Score<>\"\"))","v":1},{"$f":"SUMPRODUCT((Teams1=U36)*(Teams1_Score<Teams2_Score))+SUMPRODUCT((Teams2=U36)*(Teams2_Score<Teams1_Score))","v":2},{"$f":"SUMPRODUCT((Teams1=U36)*(Teams1_Score))+SUMPRODUCT((Teams2=U36)*(Teams2_Score))","v":1},{"$f":"SUMPRODUCT((Teams1=U36)*(Teams2_Score))+SUMPRODUCT((Teams2=U36)*(Teams1_Score))","v":5},{"$f":"Z36-AA36","v":-4},{"$f":"3*W36+X36","v":1},null,null,"Date","Quart de Finale",null,null,"Buts",null,"Pen",null,null,null,"Buts",null,"Pen"]
[null,{"$f":"VLOOKUP($D37,TABLEAU_MATCHS[#All],2,FALSE)","v":"2018-06-24"},{"$f":"VLOOKUP($D37,TABLEAU_MATCHS[#All],3,FALSE)","v":"14:00:00"},30,{"$f":"\"Groupe \"&VLOOKUP($I37,TABLEAU_TEAMS[[#All],[TEAM]:[GROUP_INITIAL_RANK]],2,FALSE)","v":"Groupe G"},4.7,3.4,1.62,{"$f":"VLOOKUP($D37,TABLEAU_MATCHS[#All],4,FALSE)","v":"Angleterre"},1,null,{"$f":"VLOOKUP($D37,TABLEAU_MATCHS[#All],5,FALSE)","v":"Panama"},0,{"$f":"IF(OR(ISBLANK(RESULTATS!J37),ISBLANK(J37)),\"\",IF(AND(JD!J37=RESULTATS!J37,JD!M37=RESULTATS!M37),3,IF(OR(AND(JD!J37>JD!M37,RESULTATS!J37>RESULTATS!M37),AND(JD!J37<JD!M37,RESULTATS!J37<RESULTATS!M37),AND(JD!J37=JD!M37,RESULTATS!J37=RESULTATS!M37)),1,0)))","v":""}]
[null,{"$f":"VLOOKUP($D38,TABLEAU_MATCHS[#All],2,FALSE)","v":"2018-06-24"},{"$f":"VLOOKUP($D38,TABLEAU_MATCHS[#All],3,FALSE)","v":"17:00:00"},31,{"$f":"\"Groupe \"&VLOOKUP($I38,TABLEAU_TEAMS[[#All],[TEAM]:[GROUP_INITIAL_RANK]],2,FALSE)","v":"Groupe H"},2.1,2.95,3.35,{"$f":"VLOOKUP($D38,TABLEAU_MATCHS[#All],4,FALSE)","v":"Japon"},1,null,{"$f":"VLOOKUP($D38,TABLEAU_MATCHS[#All],5,FALSE)","v":"Sénégal"},1,{"$f":"IF(OR(ISBLANK(RESULTATS!J38),ISBLANK(J38)),\"\",IF(AND(JD!J38=RESULTATS!J38,JD!M38=RESULTATS!M38),3,IF(OR(AND(JD!J38>JD!M38,RESULTATS!J38>RESULTATS!M38),AND(JD!J38<JD!M38,RESULTATS!J38<RESULTATS!M38),AND(JD!J38=JD!M38,RESULTATS!J38=RESULTATS!M38)),1,0)))","v":""},null,null,null,null,null,"Rg","Groupe F","MJ","G","N","P","BP","BC","+/-","Pts",null,null,"2018-07-06","A",{"$f":"+IF(AJ45<>\"\",IF(AI45>AO45,AH45,AN45),\"Vainqueur 1\")","v":"Portugal"},{"$f":"AJ38*10+AL38","v":0},0,{"$f":"IF(LEFT(AH38,5)<>\"Vainq\",COUNTIF(RESULTATS!$AG$23:$AM$26,AH38),0)","v":0},null,null,{"$f":"+IF(AJ47<>\"\",IF(AI47>AO47,AH47,AN47),\"Vainqueur 3\")","v":"France"},{"$f":"AP38*10+AR38","v":20},2,{"$f":"IF(LEFT(AN38,5)<>\"Vainq\",COUNTIF(RESULTATS!$AG$23:$AM$26,AN38),0)","v":0}]
[null,{"$f":"VLOOKUP($D39,TABLEAU_MATCHS[#All],2,FALSE)","v":"2018-06-24"},{"$f":"VLOOKUP($D39,TABLEAU_MATCHS[#All],3,FALSE)","v":"20:00:00"},32,{"$f":"\"Groupe \"&VLOOKUP($I39,TABLEAU_TEAMS[[#All],[TEAM]:[GROUP_INITIAL_RANK]],2,FALSE)","v":"Groupe H"},1.9,3,3.8,{"$f":"VLOOKUP($D39,TABLEAU_MATCHS[#All],4,FALSE)","v":"Pologne"},0,null,{"$f":"VLOOKUP($D39,TABLEAU_MATCHS[#All],5,FALSE)","v":"Colombie"},1,{"$f":"IF(OR(ISBLANK(RESULTATS!J39),ISBLANK(J39)),\"\",IF(AND(JD!J39=RESULTATS!J39,JD!M39=RESULTATS!M39),3,IF(OR(AND(JD!J39>JD!M39,RESULTATS!J39>RESULTATS!M39),AND(JD!J39<JD!M39,RESULTATS!J39<RESULTATS!M39),AND(JD!J39=JD!M39,RESULTATS!J39=RESULTATS!M39)),1,0)))","v":""},null,null,null,{"$f":"INDEX($R90:$R93,MATCH(SMALL(COUNTIF($R90:$R93,\">=\"&$R90:$R93),ROW(INDIRECT(\"1:\"&ROWS($R90:$R93)))),COUNTIF($R90:$R93,\">=\"&$R90:$R93),0))","v":"09890Allemagne"},{"$f":"INDEX($S90:$S93,MATCH(SMALL(COUNTIF($R90:$R93,\">=\"&$R90:$R93),ROW(INDIRECT(\"1:\"&ROWS($R90:$R93)))),COUNTIF($R90:$R93,\">=\"&$R90:$R93),0))","v":9890},{"$f":"INDEX($T90:$T93,MATCH(SMALL(COUNTIF($R90:$R93,\">=\"&$R90:$R93),ROW(INDIRECT(\"1:\"&ROWS($R90:$R93)))),COUNTIF($R90:$R93,\">=\"&$R90:$R93),0))","v":1},{"$f":"INDEX($U90:$U93,MATCH(SMALL(COUNTIF($R90:$R93,\">=\"&$R90:$R93),ROW(INDIRECT(\"1:\"&ROWS($R90:$R93)))),COUNTIF($R90:$R93,\">=\"&$R90:$R93),0))","v":"Allemagne"},{"$f":"SUMPRODUCT((Teams1=U39)*(Teams1_Score<>\"\"))+SUMPRODUCT((Teams2=U39)*(Teams2_Score<>\"\"))","v":3},{"$f":"SUMPRODUCT((Teams1=U39)*(Teams1_Score>Teams2_Score))+SUMPRODUCT((Teams2=U39)*(Teams2_Score>Teams1_Score))","v":3},{"$f":"SUMPRODUCT((Teams1=U39)*(Teams1_Score=Teams2_Score)*(Teams1_Score<>\"\"))+SUMPRODUCT((Teams2=U39)*(Teams2_Score=Teams1_Score)*(Teams2_Score<>\"\"))","v":0},{"$f":"SUMPRODUCT((Teams1=U39)*(Teams1_Score<Teams2_Score))+SUMPRODUCT((Teams2=U39)*(Teams2_Score<Teams1_Score))","v":0},{"$f":"SUMPRODUCT((Teams1=U39)*(Teams1_Score))+SUMPRODUCT((Teams2=U39)*(Teams2_Score))","v":9},{"$f":"SUMPRODUCT((Teams1=U39)*(Teams2_Score))+SUMPRODUCT((Teams2=U39)*(Teams1_Score))","v":1},{"$f":"Z39-AA39","v":8},{"$f":"3*W39+X39","v":9},null,null,"2018-07-07","B",{"$f":"+IF(AJ46<>\"\",IF(AI46>AO46,AH46,AN46),\"Vainqueur 2\")","v":"Espagne"},{"$f":"AJ39*10+AL39","v":10},1,{"$f":"IF(LEFT(AH39,5)<>\"Vainq\",COUNTIF(RESULTATS!$AG$23:$AM$26,AH39),0)","v":0},null,null,{"$f":"+IF(AJ48<>\"\",IF(AI48>AO48,AH48,AN48),\"Vainqueur 4\")","v":"Argentine"},{"$f":"AP39*10+AR39","v":0},0,{"$f":"IF(LEFT(AN39,5)<>\"Vainq\",COUNTIF(RESULTATS!$AG$23:$AM$26,AN39),0)","v":0}]
[null,{"$f":"VLOOKUP($D40,TABLEAU_MATCHS[#All],2,FALSE)","v":"2018-06-25"},{"$f":"VLOOKUP($D40,TABLEAU_MATCHS[#All],3,FALSE)","v":"16:00:00"},33,{"$f":"\"Groupe \"&VLOOKUP($I40,TABLEAU_TEAMS[[#All],[TEAM]:[GROUP_INITIAL_RANK]],2,FALSE)","v":"Groupe A"},11,6.5,1.17,{"$f":"VLOOKUP($D40,TABLEAU_MATCHS[#All],4,FALSE)","v":"Uruguay"},1,null,{"$f":"VLOOKUP($D40,TABLEAU_MATCHS[#All],5,FALSE)","v":"Russie"},0,{"$f":"IF(OR(ISBLANK(RESULTATS!J40),ISBLANK(J40)),\"\",IF(AND(JD!J40=RESULTATS!J40,JD!M40=RESULTATS!M40),3,IF(OR(AND(JD!J40>JD!M40,RESULTATS!J40>RESULTATS!M40),AND(JD!J40<JD!M40,RESULTATS!J40<RESULTATS!M40),AND(JD!J40=JD!M40,RESULTATS!J40=RESULTATS!M40)),1,0)))","v":""},null,null,null,"06040Mexique",6040,2,"Mexique",{"$f":"SUMPRODUCT((Teams1=U40)*(Teams1_Score<>\"\"))+SUMPRODUCT((Teams2=U40)*(Teams2_Score<>\"\"))","v":3},{"$f":"SUMPRODUCT((Teams1=U40)*(Teams1_Score>Teams2_Score))+SUMPRODUCT((Teams2=U40)*(Teams2_Score>Teams1_Score))","v":2},{"$f":"SUMPRODUCT((Teams1=U40)*(Teams1_Score=Teams2_Score)*(Teams1_Score<>\"\"))+SUMPRODUCT((Teams2=U40)*(Teams2_Score=Teams1_Score)*(Teams2_Score<>\"\"))","v":0},{"$f":"SUMPRODUCT((Teams1=U40)*(Teams1_Score<Teams2_Score))+SUMPRODUCT((Teams2=U40)*(Teams2_Score<Teams1_Score))","v":1},{"$f":"SUMPRODUCT((Teams1=U40)*(Teams1_Score))+SUMPRODUCT((Teams2=U40)*(Teams2_Score))","v":4},{"$f":"SUMPRODUCT((Teams1=U40)*(Teams2_Score))+SUMPRODUCT((Teams2=U40)*(Teams1_Score))","v":4},{"$f":"Z40-AA40","v":0},{"$f":"3*W40+X40","v":6},null,null,"2018-07-06","C",{"$f":"+IF(AJ49<>\"\",IF(AI49>AO49,AH49,AN49),\"Vainqueur 5\")","v":"Brésil"},{"$f":"AJ40*10+AL40","v":20},2,{"$f":"IF(LEFT(AH40,5)<>\"Vainq\",COUNTIF(RESULTATS!$AG$23:$AM$26,AH40),0)","v":0},null,null,{"$f":"+IF(AJ51<>\"\",IF(AI51>AO51,AH51,AN51),\"Vainqueur 7\")","v":"Belgique"},{"$f":"AP40*10+AR40","v":10},1,{"$f":"IF(LEFT(AN40,5)<>\"Vainq\",COUNTIF(RESULTATS!$AG$23:$AM$26,AN40),0)","v":0}]
[null,{"$f":"VLOOKUP($D41,TABLEAU_MATCHS[#All],2,FALSE)","v":"2018-06-25"},{"$f":"VLOOKUP($D41,TABLEAU_MATCHS[#All],3,FALSE)","v":"16:00:00"},34,{"$f":"\"Groupe \"&VLOOKUP($I41,TABLEAU_TEAMS[[#All],[TEAM]:[GROUP_INITIAL_RANK]],2,FALSE)","v":"Groupe A"},2.4,2.95,2.75,{"$f":"VLOOKUP($D41,TABLEAU_MATCHS[#All],4,FALSE)","v":"Arabie Saoudite"},0,null,{"$f":"VLOOKUP($D41,TABLEAU_MATCHS[#All],5,FALSE)","v":"Egypte"},2,{"$f":"IF(OR(ISBLANK(RESULTATS!J41),ISBLANK(J41)),\"\",IF(AND(JD!J41=RESULTATS!J41,JD!M41=RESULTATS!M41),3,IF(OR(AND(JD!J41>JD!M41,RESULTATS!J41>RESULTATS!M41),AND(JD!J41<JD!M41,RESULTATS!J41<RESULTATS!M41),AND(JD!J41=JD!M41,RESULTATS!J41=RESULTATS!M41)),1,0)))","v":""},null,null,null,"00700Suède",700,3,"Suède",{"$f":"SUMPRODUCT((Teams1=U41)*(Teams1_Score<>\"\"))+SUMPRODUCT((Teams2=U41)*(Teams2_Score<>\"\"))","v":3},{"$f":"SUMPRODUCT((Teams1=U41)*(Teams1_Score>Teams2_Score))+SUMPRODUCT((Teams2=U41)*(Teams2_Score>Teams1_Score))","v":0},{"$f":"SUMPRODUCT((Teams1=U41)*(Teams1_Score=Teams2_Score)*(Teams1_Score<>\"\"))+SUMPRODUCT((Teams2=U41)*(Teams2_Score=Teams1_Score)*(Teams2_Score<>\"\"))","v":1},{"$f":"SUMPRODUCT((Teams1=U41)*(Teams1_Score<Teams2_Score))+SUMPRODUCT((Teams2=U41)*(Teams2_Score<Teams1_Score))","v":2},{"$f":"SUMPRODUCT((Teams1=U41)*(Teams1_Score))+SUMPRODUCT((Teams2=U41)*(Teams2_Score))","v":0},{"$f":"SUMPRODUCT((Teams1=U41)*(Teams2_Score))+SUMPRODUCT((Teams2=U41)*(Teams1_Score))","v":3},{"$f":"Z41-AA41","v":-3},{"$f":"3*W41+X41","v":1},null,null,"2018-07-07","D",{"$f":"+IF(AJ50<>\"\",IF(AI50>AO50,AH50,AN50),\"Vainqueur 6\")","v":"Allemagne"},{"$f":"AJ41*10+AL41","v":20},2,{"$f":"IF(LEFT(AH41,5)<>\"Vainq\",COUNTIF(RESULTATS!$AG$23:$AM$26,AH41),0)","v":0},null,null,{"$f":"+IF(AJ52<>\"\",IF(AI52>AO52,AH52,AN52),\"Vainqueur 8\")","v":"Colombie"},{"$f":"AP41*10+AR41","v":0},0,{"$f":"IF(LEFT(AN41,5)<>\"Vainq\",COUNTIF(RESULTATS!$AG$23:$AM$26,AN41),0)","v":0}]
[null,{"$f":"VLOOKUP($D42,TABLEAU_MATCHS[#All],2,FALSE)","v":"2018-06-25"},{"$f":"VLOOKUP($D42,TABLEAU_MATCHS[#All],3,FALSE)","v":"20:00:00"},35,{"$f":"\"Groupe \"&VLOOKUP($I42,TABLEAU_TEAMS[[#All],[TEAM]:[GROUP_INITIAL_RANK]],2,FALSE)","v":"Groupe B"},13,6.5,1.1399999999999999,{"$f":"VLOOKUP($D42,TABLEAU_MATCHS[#All],4,FALSE)","v":"RI Iran"},0,null,{"$f":"VLOOKUP($D42,TABLEAU_MATCHS[#All],5,FALSE)","v":"Portugal"},1,{"$f":"IF(OR(ISBLANK(RESULTATS!J42),ISBLANK(J42)),\"\",IF(AND(JD!J42=RESULTATS!J42,JD!M42=RESULTATS!M42),3,IF(OR(AND(JD!J42>JD!M42,RESULTATS!J42>RESULTATS!M42),AND(JD!J42<JD!M42,RESULTATS!J42<RESULTATS!M42),AND(JD!J42=JD!M42,RESULTATS!J42=RESULTATS!M42)),1,0)))","v":""},null,null,null,"00510République de Corée",510,4,"République de Corée",{"$f":"SUMPRODUCT((Teams1=U42)*(Teams1_Score<>\"\"))+SUMPRODUCT((Teams2=U42)*(Teams2_Score<>\"\"))","v":3},{"$f":"SUMPRODUCT((Teams1=U42)*(Teams1_Score>Teams2_Score))+SUMPRODUCT((Teams2=U42)*(Teams2_Score>Teams1_Score))","v":0},{"$f":"SUMPRODUCT((Teams1=U42)*(Teams1_Score=Teams2_Score)*(Teams1_Score<>\"\"))+SUMPRODUCT((Teams2=U42)*(Teams2_Score=Teams1_Score)*(Teams2_Score<>\"\"))","v":1},{"$f":"SUMPRODUCT((Teams1=U42)*(Teams1_Score<Teams2_Score))+SUMPRODUCT((Teams2=U42)*(Teams2_Score<Teams1_Score))","v":2},{"$f":"SUMPRODUCT((Teams1=U42)*(Teams1_Score))+SUMPRODUCT((Teams2=U42)*(Teams2_Score))","v":1},{"$f":"SUMPRODUCT((Teams1=U42)*(Teams2_Score))+SUMPRODUCT((Teams2=U42)*(Teams1_Score))","v":6},{"$f":"Z42-AA42","v":-5},{"$f":"3*W42+X42","v":1},null,null,null,null,null,null,null,{"$f":"SUM(AK38:AK41)","v":0},null,null,null,null,null,{"$f":"SUM(AQ38:AQ41)","v":0}]
[null,{"$f":"VLOOKUP($D43,TABLEAU_MATCHS[#All],2,FALSE)","v":"2018-06-25"},{"$f":"VLOOKUP($D43,TABLEAU_MATCHS[#All],3,FALSE)","v":"20:00:00"},36,{"$f":"\"Groupe \"&VLOOKUP($I43,TABLEAU_TEAMS[[#All],[TEAM]:[GROUP_INITIAL_RANK]],2,FALSE)","v":"Groupe B"},2.25,3.1,2.95,{"$f":"VLOOKUP($D43,TABLEAU_MATCHS[#All],4,FALSE)","v":"Espagne"},3,null,{"$f":"VLOOKUP($D43,TABLEAU_MATCHS[#All],5,FALSE)","v":"Maroc"},0,{"$f":"IF(OR(ISBLANK(RESULTATS!J43),ISBLANK(J43)),\"\",IF(AND(JD!J43=RESULTATS!J43,JD!M43=RESULTATS!M43),3,IF(OR(AND(JD!J43>JD!M43,RESULTATS!J43>RESULTATS!M43),AND(JD!J43<JD!M43,RESULTATS!J43<RESULTATS!M43),AND(JD!J43=JD!M43,RESULTATS!J43=RESULTATS!M43)),1,0)))","v":""},null,null,null,null,null,null,null,null,null,null,null,null,null,null,null,null,null,"Date","Huitième de Finale",null,null,"Buts",null,"Pen",null,null,null,"Buts",null,"Pen"]
[null,{"$f":"VLOOKUP($D44,TABLEAU_MATCHS[#All],2,FALSE)","v":"2018-06-26"},{"$f":"VLOOKUP($D44,TABLEAU_MATCHS[#All],3,FALSE)","v":"16:00:00"},37,{"$f":"\"Groupe \"&VLOOKUP($I44,TABLEAU_TEAMS[[#All],[TEAM]:[GROUP_INITIAL_RANK]],2,FALSE)","v":"Groupe C"},4.3,3.25,1.76,{"$f":"VLOOKUP($D44,TABLEAU_MATCHS[#All],4,FALSE)","v":"Danemark"},0,null,{"$f":"VLOOKUP($D44,TABLEAU_MATCHS[#All],5,FALSE)","v":"France"},0,{"$f":"IF(OR(ISBLANK(RESULTATS!J44),ISBLANK(J44)),\"\",IF(AND(JD!J44=RESULTATS!J44,JD!M44=RESULTATS!M44),3,IF(OR(AND(JD!J44>JD!M44,RESULTATS!J44>RESULTATS!M44),AND(JD!J44<JD!M44,RESULTATS!J44<RESULTATS!M44),AND(JD!J44=JD!M44,RESULTATS!J44=RESULTATS!M44)),1,0)))","v":""},null,null,null,null,null,"Rg","Groupe G","MJ","G","N","P","BP","BC","+/-","Pts"]
[null,{"$f":"VLOOKUP($D45,TABLEAU_MATCHS[#All],2,FALSE)","v":"2018-06-26"},{"$f":"VLOOKUP($D45,TABLEAU_MATCHS[#All],3,FALSE)","v":"16:00:00"},38,{"$f":"\"Groupe \"&VLOOKUP($I45,TABLEAU_TEAMS[[#All],[TEAM]:[GROUP_INITIAL_RANK]],2,FALSE)","v":"Groupe C"},3.05,3,2.25,{"$f":"VLOOKUP($D45,TABLEAU_MATCHS[#All],4,FALSE)","v":"Australie"},0,null,{"$f":"VLOOKUP($D45,TABLEAU_MATCHS[#All],5,FALSE)","v":"Pérou"},1,{"$f":"IF(OR(ISBLANK(RESULTATS!J45),ISBLANK(J45)),\"\",IF(AND(JD!J45=RESULTATS!J45,JD!M45=RESULTATS!M45),3,IF(OR(AND(JD!J45>JD!M45,RESULTATS!J45>RESULTATS!M45),AND(JD!J45<JD!M45,RESULTATS!J45<RESULTATS!M45),AND(JD!J45=JD!M45,RESULTATS!J45=RESULTATS!M45)),1,0)))","v":""},null,null,null,{"$f":"INDEX($R96:$R99,MATCH(SMALL(COUNTIF($R96:$R99,\">=\"&$R96:$R99),ROW(INDIRECT(\"1:\"&ROWS($R96:$R99)))),COUNTIF($R96:$R99,\">=\"&$R96:$R99),0))","v":"07340Belgique"},{"$f":"INDEX($S96:$S99,MATCH(SMALL(COUNTIF($R96:$R99,\">=\"&$R96:$R99),ROW(INDIRECT(\"1:\"&ROWS($R96:$R99)))),COUNTIF($R96:$R99,\">=\"&$R96:$R99),0))","v":7340},{"$f":"INDEX($T96:$T99,MATCH(SMALL(COUNTIF($R96:$R99,\">=\"&$R96:$R99),ROW(INDIRECT(\"1:\"&ROWS($R96:$R99)))),COUNTIF($R96:$R99,\">=\"&$R96:$R99),0))","v":1},{"$f":"INDEX($U96:$U99,MATCH(SMALL(COUNTIF($R96:$R99,\">=\"&$R96:$R99),ROW(INDIRECT(\"1:\"&ROWS($R96:$R99)))),COUNTIF($R96:$R99,\">=\"&$R96:$R99),0))","v":"Belgique"},{"$f":"SUMPRODUCT((Teams1=U45)*(Teams1_Score<>\"\"))+SUMPRODUCT((Teams2=U45)*(Teams2_Score<>\"\"))","v":3},{"$f":"SUMPRODUCT((Teams1=U45)*(Teams1_Score>Teams2_Score))+SUMPRODUCT((Teams2=U45)*(Teams2_Score>Teams1_Score))","v":2},{"$f":"SUMPRODUCT((Teams1=U45)*(Teams1_Score=Teams2_Score)*(Teams1_Score<>\"\"))+SUMPRODUCT((Teams2=U45)*(Teams2_Score=Teams1_Score)*(Teams2_Score<>\"\"))","v":1},{"$f":"SUMPRODUCT((Teams1=U45)*(Teams1_Score<Teams2_Score))+SUMPRODUCT((Teams2=U45)*(Teams2_Score<Teams1_Score))","v":0},{"$f":"SUMPRODUCT((Teams1=U45)*(Teams1_Score))+SUMPRODUCT((Teams2=U45)*(Teams2_Score))","v":4},{"$f":"SUMPRODUCT((Teams1=U45)*(Teams2_Score))+SUMPRODUCT((Teams2=U45)*(Teams1_Score))","v":1},{"$f":"Z45-AA45","v":3},{"$f":"3*W45+X45","v":7},null,null,"2018-06-30",1,{"$f":"IF(SUM(V9:V12)=0,\"1er Groupe A\",IF(COUNTIF(T9:T12,1)=1,VLOOKUP(1,T9:U12,2,FALSE),IF(COUNTIF(T9:T12,1)>=2,\"Tirage au Sort A1\")))","v":"Uruguay"},{"$f":"AJ45*10+AL45","v":14},1,{"$f":"IF(AND(LEFT(AH45,3)<>\"1er\",LEFT(AH45,3)<>\"2nd\"),COUNTIF(RESULTATS!$AG$30:$AM$37,AH45),0)","v":1},4,null,{"$f":"IF(SUM(V15:V18)=0,\"2nd Groupe B\",IF(OR(COUNTIF(T15:T18,1)>1,COUNTIF(T15:T18,2)>1),\"Tirage au sort B2\",VLOOKUP(2,T15:U18,2,FALSE)))","v":"Portugal"},{"$f":"AP45*10+AR45","v":15},1,{"$f":"IF(AND(LEFT(AN45,3)<>\"1er\",LEFT(AN45,3)<>\"2nd\"),COUNTIF(RESULTATS!$AG$30:$AM$37,AN45),0)","v":0},5]
[null,{"$f":"VLOOKUP($D46,TABLEAU_MATCHS[#All],2,FALSE)","v":"2018-06-26"},{"$f":"VLOOKUP($D46,TABLEAU_MATCHS[#All],3,FALSE)","v":"20:00:00"},39,{"$f":"\"Groupe \"&VLOOKUP($I46,TABLEAU_TEAMS[[#All],[TEAM]:[GROUP_INITIAL_RANK]],2,FALSE)","v":"Groupe D"},2.4,2.9,2.85,{"$f":"VLOOKUP($D46,TABLEAU_MATCHS[#All],4,FALSE)","v":"Nigeria"},0,null,{"$f":"VLOOKUP($D46,TABLEAU_MATCHS[#All],5,FALSE)","v":"Argentine"},2,{"$f":"IF(OR(ISBLANK(RESULTATS!J46),ISBLANK(J46)),\"\",IF(AND(JD!J46=RESULTATS!J46,JD!M46=RESULTATS!M46),3,IF(OR(AND(JD!J46>JD!M46,RESULTATS!J46>RESULTATS!M46),AND(JD!J46<JD!M46,RESULTATS!J46<RESULTATS!M46),AND(JD!J46=JD!M46,RESULTATS!J46=RESULTATS!M46)),1,0)))","v":""},null,null,null,"07230Angleterre",7230,2,"Angleterre",{"$f":"SUMPRODUCT((Teams1=U46)*(Teams1_Score<>\"\"))+SUMPRODUCT((Teams2=U46)*(Teams2_Score<>\"\"))","v":3},{"$f":"SUMPRODUCT((Teams1=U46)*(Teams1_Score>Teams2_Score))+SUMPRODUCT((Teams2=U46)*(Teams2_Score>Teams1_Score))","v":2},{"$f":"SUMPRODUCT((Teams1=U46)*(Teams1_Score=Teams2_Score)*(Teams1_Score<>\"\"))+SUMPRODUCT((Teams2=U46)*(Teams2_Score=Teams1_Score)*(Teams2_Score<>\"\"))","v":1},{"$f":"SUMPRODUCT((Teams1=U46)*(Teams1_Score<Teams2_Score))+SUMPRODUCT((Teams2=U46)*(Teams2_Score<Teams1_Score))","v":0},{"$f":"SUMPRODUCT((Teams1=U46)*(Teams1_Score))+SUMPRODUCT((Teams2=U46)*(Teams2_Score))","v":3},{"$f":"SUMPRODUCT((Teams1=U46)*(Teams2_Score))+SUMPRODUCT((Teams2=U46)*(Teams1_Score))","v":1},{"$f":"Z46-AA46","v":2},{"$f":"3*W46+X46","v":7},null,null,"2018-07-01",2,{"$f":"IF(SUM(V15:V18)=0,\"1er Groupe B\",IF(COUNTIF(T15:T18,1)=1,VLOOKUP(1,T15:U18,2,FALSE),IF(COUNTIF(T15:T18,1)>=2,\"Tirage au Sort B1\")))","v":"Espagne"},{"$f":"AJ46*10+AL46","v":20},2,{"$f":"IF(AND(LEFT(AH46,3)<>\"1er\",LEFT(AH46,3)<>\"2nd\"),COUNTIF(RESULTATS!$AG$30:$AM$37,AH46),0)","v":0},null,null,{"$f":"IF(SUM(V9:V12)=0,\"2nd Groupe A\",IF(OR(COUNTIF(T9:T12,1)>1,COUNTIF(T9:T12,2)>1),\"Tirage au sort A2\",VLOOKUP(2,T9:U12,2,FALSE)))","v":"Egypte"},0,0,{"$f":"IF(AND(LEFT(AN46,3)<>\"1er\",LEFT(AN46,3)<>\"2nd\"),COUNTIF(RESULTATS!$AG$30:$AM$37,AN46),0)","v":0}]
[null,{"$f":"VLOOKUP($D47,TABLEAU_MATCHS[#All],2,FALSE)","v":"2018-06-26"},{"$f":"VLOOKUP($D47,TABLEAU_MATCHS[#All],3,FALSE)","v":"20:00:00"},40,{"$f":"\"Groupe \"&VLOOKUP($I47,TABLEAU_TEAMS[[#All],[TEAM]:[GROUP_INITIAL_RANK]],2,FALSE)","v":"Groupe D"},6.5,3.7,1.44,{"$f":"VLOOKUP($D47,TABLEAU_MATCHS[#All],4,FALSE)","v":"Islande"},0,null,{"$f":"VLOOKUP($D47,TABLEAU_MATCHS[#All],5,FALSE)","v":"Croatie"},0,{"$f":"IF(OR(ISBLANK(RESULTATS!J47),ISBLANK(J47)),\"\",IF(AND(JD!J47=RESULTATS!J47,JD!M47=RESULTATS!M47),3,IF(OR(AND(JD!J47>JD!M47,RESULTATS!J47>RESULTATS!M47),AND(JD!J47<JD!M47,RESULTATS!J47<RESULTATS!M47),AND(JD!J47=JD!M47,RESULTATS!J47=RESULTATS!M47)),1,0)))","v":""},null,null,null,"02910Tunisie",2910,3,"Tunisie",{"$f":"SUMPRODUCT((Teams1=U47)*(Teams1_Score<>\"\"))+SUMPRODUCT((Teams2=U47)*(Teams2_Score<>\"\"))","v":3},{"$f":"SUMPRODUCT((Teams1=U47)*(Teams1_Score>Teams2_Score))+SUMPRODUCT((Teams2=U47)*(Teams2_Score>Teams1_Score))","v":1},{"$f":"SUMPRODUCT((Teams1=U47)*(Teams1_Score=Teams2_Score)*(Teams1_Score<>\"\"))+SUMPRODUCT((Teams2=U47)*(Teams2_Score=Teams1_Score)*(Teams2_Score<>\"\"))","v":0},{"$f":"SUMPRODUCT((Teams1=U47)*(Teams1_Score<Teams2_Score))+SUMPRODUCT((Teams2=U47)*(Teams2_Score<Teams1_Score))","v":2},{"$f":"SUMPRODUCT((Teams1=U47)*(Teams1_Score))+SUMPRODUCT((Teams2=U47)*(Teams2_Score))","v":1},{"$f":"SUMPRODUCT((Teams1=U47)*(Teams2_Score))+SUMPRODUCT((Teams2=U47)*(Teams1_Score))","v":2},{"$f":"Z47-AA47","v":-1},{"$f":"3*W47+X47","v":3},null,null,"2017-06-30",3,{"$f":"IF(SUM(V21:V24)=0,\"1er Groupe C\",IF(COUNTIF(T21:T24,1)=1,VLOOKUP(1,T21:U24,2,FALSE),IF(COUNTIF(T21:T24,1)>=2,\"Tirage au Sort C1\")))","v":"France"},10,1,{"$f":"IF(AND(LEFT(AH47,3)<>\"1er\",LEFT(AH47,3)<>\"2nd\"),COUNTIF(RESULTATS!$AG$30:$AM$37,AH47),0)","v":0},null,null,"Islande",0,0,{"$f":"IF(AND(LEFT(AN47,3)<>\"1er\",LEFT(AN47,3)<>\"2nd\"),COUNTIF(RESULTATS!$AG$30:$AM$37,AN47),0)","v":0}]
[null,{"$f":"VLOOKUP($D48,TABLEAU_MATCHS[#All],2,FALSE)","v":"2018-06-27"},{"$f":"VLOOKUP($D48,TABLEAU_MATCHS[#All],3,FALSE)","v":"20:00:00"},41,{"$f":"\"Groupe \"&VLOOKUP($I48,TABLEAU_TEAMS[[#All],[TEAM]:[GROUP_INITIAL_RANK]],2,FALSE)","v":"Groupe E"},6.5,3.5,1.48,{"$f":"VLOOKUP($D48,TABLEAU_MATCHS[#All],4,FALSE)","v":"Serbie"},0,null,{"$f":"VLOOKUP($D48,TABLEAU_MATCHS[#All],5,FALSE)","v":"Brésil"},2,{"$f":"IF(OR(ISBLANK(RESULTATS!J48),ISBLANK(J48)),\"\",IF(AND(JD!J48=RESULTATS!J48,JD!M48=RESULTATS!M48),3,IF(OR(AND(JD!J48>JD!M48,RESULTATS!J48>RESULTATS!M48),AND(JD!J48<JD!M48,RESULTATS!J48<RESULTATS!M48),AND(JD!J48=JD!M48,RESULTATS!J48=RESULTATS!M48)),1,0)))","v":""},null,null,null,"-00400Panama",-400,4,"Panama",{"$f":"SUMPRODUCT((Teams1=U48)*(Teams1_Score<>\"\"))+SUMPRODUCT((Teams2=U48)*(Teams2_Score<>\"\"))","v":3},{"$f":"SUMPRODUCT((Teams1=U48)*(Teams1_Score>Teams2_Score))+SUMPRODUCT((Teams2=U48)*(Teams2_Score>Teams1_Score))","v":0},{"$f":"SUMPRODUCT((Teams1=U48)*(Teams1_Score=Teams2_Score)*(Teams1_Score<>\"\"))+SUMPRODUCT((Teams2=U48)*(Teams2_Score=Teams1_Score)*(Teams2_Score<>\"\"))","v":0},{"$f":"SUMPRODUCT((Teams1=U48)*(Teams1_Score<Teams2_Score))+SUMPRODUCT((Teams2=U48)*(Teams2_Score<Teams1_Score))","v":3},{"$f":"SUMPRODUCT((Teams1=U48)*(Teams1_Score))+SUMPRODUCT((Teams2=U48)*(Teams2_Score))","v":0},{"$f":"SUMPRODUCT((Teams1=U48)*(Teams2_Score))+SUMPRODUCT((Teams2=U48)*(Teams1_Score))","v":4},{"$f":"Z48-AA48","v":-4},{"$f":"3*W48+X48","v":0},null,null,"2018-07-01",4,{"$f":"IF(SUM(V27:V30)=0,\"1er Groupe D\",IF(COUNTIF(T27:T30,1)=1,VLOOKUP(1,T27:U30,2,FALSE),IF(COUNTIF(T27:T30,1)>=2,\"Tirage au Sort D1\")))","v":"Argentine"},10,1,{"$f":"IF(AND(LEFT(AH48,3)<>\"1er\",LEFT(AH48,3)<>\"2nd\"),COUNTIF(RESULTATS!$AG$30:$AM$37,AH48),0)","v":0},null,null,{"$f":"IF(SUM(V21:V24)=0,\"2nd Groupe C\",IF(OR(COUNTIF(T21:T24,1)>1,COUNTIF(T21:T24,2)>1),\"Tirage au sort C2\",VLOOKUP(2,T21:U24,2,FALSE)))","v":"Pérou"},0,0,{"$f":"IF(AND(LEFT(AN48,3)<>\"1er\",LEFT(AN48,3)<>\"2nd\"),COUNTIF(RESULTATS!$AG$30:$AM$37,AN48),0)","v":0}]
[null,{"$f":"VLOOKUP($D49,TABLEAU_MATCHS[#All],2,FALSE)","v":"2018-06-27"},{"$f":"VLOOKUP($D49,TABLEAU_MATCHS[#All],3,FALSE)","v":"20:00:00"},42,{"$f":"\"Groupe \"&VLOOKUP($I49,TABLEAU_TEAMS[[#All],[TEAM]:[GROUP_INITIAL_RANK]],2,FALSE)","v":"Groupe E"},4,3.05,1.9,{"$f":"VLOOKUP($D49,TABLEAU_MATCHS[#All],4,FALSE)","v":"Suisse"},0,null,{"$f":"VLOOKUP($D49,TABLEAU_MATCHS[#All],5,FALSE)","v":"Costa Rica"},0,{"$f":"IF(OR(ISBLANK(RESULTATS!J49),ISBLANK(J49)),\"\",IF(AND(JD!J49=RESULTATS!J49,JD!M49=RESULTATS!M49),3,IF(OR(AND(JD!J49>JD!M49,RESULTATS!J49>RESULTATS!M49),AND(JD!J49<JD!M49,RESULTATS!J49<RESULTATS!M49),AND(JD!J49=JD!M49,RESULTATS!J49=RESULTATS!M49)),1,0)))","v":""},null,null,null,null,null,null,null,null,null,null,null,null,null,null,null,null,null,"2018-07-02",5,{"$f":"IF(SUM(V33:V36)=0,\"1er Groupe E\",IF(COUNTIF(T33:T36,1)=1,VLOOKUP(1,T33:U36,2,FALSE),IF(COUNTIF(T33:T36,1)>=2,\"Tirage au Sort E1\")))","v":"Brésil"},30,3,{"$f":"IF(AND(LEFT(AH49,3)<>\"1er\",LEFT(AH49,3)<>\"2nd\"),COUNTIF(RESULTATS!$AG$30:$AM$37,AH49),0)","v":0},null,null,{"$f":"IF(SUM(V39:V42)=0,\"2nd Groupe F\",IF(OR(COUNTIF(T39:T42,1)>1,COUNTIF(T39:T42,2)>1),\"Tirage au sort F2\",VLOOKUP(2,T39:U42,2,FALSE)))","v":"Mexique"},0,0,{"$f":"IF(AND(LEFT(AN49,3)<>\"1er\",LEFT(AN49,3)<>\"2nd\"),COUNTIF(RESULTATS!$AG$30:$AM$37,AN49),0)","v":0}]
[null,{"$f":"VLOOKUP($D50,TABLEAU_MATCHS[#All],2,FALSE)","v":"2018-06-27"},{"$f":"VLOOKUP($D50,TABLEAU_MATCHS[#All],3,FALSE)","v":"16:00:00"},43,{"$f":"\"Groupe \"&VLOOKUP($I50,TABLEAU_TEAMS[[#All],[TEAM]:[GROUP_INITIAL_RANK]],2,FALSE)","v":"Groupe F"},8.5,4.3,1.3,{"$f":"VLOOKUP($D50,TABLEAU_MATCHS[#All],4,FALSE)","v":"Mexique"},1,null,{"$f":"VLOOKUP($D50,TABLEAU_MATCHS[#All],5,FALSE)","v":"Suède"},0,{"$f":"IF(OR(ISBLANK(RESULTATS!J50),ISBLANK(J50)),\"\",IF(AND(JD!J50=RESULTATS!J50,JD!M50=RESULTATS!M50),3,IF(OR(AND(JD!J50>JD!M50,RESULTATS!J50>RESULTATS!M50),AND(JD!J50<JD!M50,RESULTATS!J50<RESULTATS!M50),AND(JD!J50=JD!M50,RESULTATS!J50=RESULTATS!M50)),1,0)))","v":""},null,null,null,null,null,"Rg","Groupe H","MJ","G","N","P","BP","BC","+/-","Pts",null,null,"2018-07-03",6,{"$f":"IF(SUM(V39:V42)=0,\"1er Groupe F\",IF(COUNTIF(T39:T42,1)=1,VLOOKUP(1,T39:U42,2,FALSE),IF(COUNTIF(T39:T42,1)>=2,\"Tirage au Sort F1\")))","v":"Allemagne"},20,2,{"$f":"IF(AND(LEFT(AH50,3)<>\"1er\",LEFT(AH50,3)<>\"2nd\"),COUNTIF(RESULTATS!$AG$30:$AM$37,AH50),0)","v":0},null,null,{"$f":"IF(SUM(V33:V36)=0,\"2nd Groupe E\",IF(OR(COUNTIF(T33:T36,1)>1,COUNTIF(T33:T36,2)>1),\"Tirage au sort E2\",VLOOKUP(2,T33:U36,2,FALSE)))","v":"Serbie"},10,1,{"$f":"IF(AND(LEFT(AN50,3)<>\"1er\",LEFT(AN50,3)<>\"2nd\"),COUNTIF(RESULTATS!$AG$30:$AM$37,AN50),0)","v":0}]
[null,{"$f":"VLOOKUP($D51,TABLEAU_MATCHS[#All],2,FALSE)","v":"2018-06-27"},{"$f":"VLOOKUP($D51,TABLEAU_MATCHS[#All],3,FALSE)","v":"16:00:00"},44,{"$f":"\"Groupe \"&VLOOKUP($I51,TABLEAU_TEAMS[[#All],[TEAM]:[GROUP_INITIAL_RANK]],2,FALSE)","v":"Groupe F"},1.48,3.6,6.25,{"$f":"VLOOKUP($D51,TABLEAU_MATCHS[#All],4,FALSE)","v":"République de Corée"},0,null,{"$f":"VLOOKUP($D51,TABLEAU_MATCHS[#All],5,FALSE)","v":"Allemagne"},4,{"$f":"IF(OR(ISBLANK(RESULTATS!J51),ISBLANK(J51)),\"\",IF(AND(JD!J51=RESULTATS!J51,JD!M51=RESULTATS!M51),3,IF(OR(AND(JD!J51>JD!M51,RESULTATS!J51>RESULTATS!M51),AND(JD!J51<JD!M51,RESULTATS!J51<RESULTATS!M51),AND(JD!J51=JD!M51,RESULTATS!J51=RESULTATS!M51)),1,0)))","v":""},null,null,null,{"$f":"INDEX($R102:$R105,MATCH(SMALL(COUNTIF($R102:$R105,\">=\"&$R102:$R105),ROW(INDIRECT(\"1:\"&ROWS($R102:$R105)))),COUNTIF($R102:$R105,\">=\"&$R102:$R105),0))","v":"07220Colombie"},{"$f":"INDEX($S102:$S105,MATCH(SMALL(COUNTIF($R102:$R105,\">=\"&$R102:$R105),ROW(INDIRECT(\"1:\"&ROWS($R102:$R105)))),COUNTIF($R102:$R105,\">=\"&$R102:$R105),0))","v":7220},{"$f":"INDEX($T102:$T105,MATCH(SMALL(COUNTIF($R102:$R105,\">=\"&$R102:$R105),ROW(INDIRECT(\"1:\"&ROWS($R102:$R105)))),COUNTIF($R102:$R105,\">=\"&$R102:$R105),0))","v":1},{"$f":"INDEX($U102:$U105,MATCH(SMALL(COUNTIF($R102:$R105,\">=\"&$R102:$R105),ROW(INDIRECT(\"1:\"&ROWS($R102:$R105)))),COUNTIF($R102:$R105,\">=\"&$R102:$R105),0))","v":"Colombie"},{"$f":"SUMPRODUCT((Teams1=U51)*(Teams1_Score<>\"\"))+SUMPRODUCT((Teams2=U51)*(Teams2_Score<>\"\"))","v":3},{"$f":"SUMPRODUCT((Teams1=U51)*(Teams1_Score>Teams2_Score))+SUMPRODUCT((Teams2=U51)*(Teams2_Score>Teams1_Score))","v":2},{"$f":"SUMPRODUCT((Teams1=U51)*(Teams1_Score=Teams2_Score)*(Teams1_Score<>\"\"))+SUMPRODUCT((Teams2=U51)*(Teams2_Score=Teams1_Score)*(Teams2_Score<>\"\"))","v":1},{"$f":"SUMPRODUCT((Teams1=U51)*(Teams1_Score<Teams2_Score))+SUMPRODUCT((Teams2=U51)*(Teams2_Score<Teams1_Score))","v":0},{"$f":"SUMPRODUCT((Teams1=U51)*(Teams1_Score))+SUMPRODUCT((Teams2=U51)*(Teams2_Score))","v":2},{"$f":"SUMPRODUCT((Teams1=U51)*(Teams2_Score))+SUMPRODUCT((Teams2=U51)*(Teams1_Score))","v":0},{"$f":"Z51-AA51","v":2},{"$f":"3*W51+X51","v":7},null,null,"2018-07-02",7,{"$f":"IF(SUM(V45:V48)=0,\"1er Groupe G\",IF(COUNTIF(T45:T48,1)=1,VLOOKUP(1,T45:U48,2,FALSE),IF(COUNTIF(T45:T48,1)>=2,\"Tirage au Sort G1\")))","v":"Belgique"},10,1,{"$f":"IF(AND(LEFT(AH51,3)<>\"1er\",LEFT(AH51,3)<>\"2nd\"),COUNTIF(RESULTATS!$AG$30:$AM$37,AH51),0)","v":0},null,null,{"$f":"IF(SUM(V51:V54)=0,\"2nd Groupe H\",IF(OR(COUNTIF(T51:T54,1)>1,COUNTIF(T51:T54,2)>1),\"Tirage au sort H2\",VLOOKUP(2,T51:U54,2,FALSE)))","v":"Pologne"},0,0,{"$f":"IF(AND(LEFT(AN51,3)<>\"1er\",LEFT(AN51,3)<>\"2nd\"),COUNTIF(RESULTATS!$AG$30:$AM$37,AN51),0)","v":0}]
[null,{"$f":"VLOOKUP($D52,TABLEAU_MATCHS[#All],2,FALSE)","v":"2018-06-28"},{"$f":"VLOOKUP($D52,TABLEAU_MATCHS[#All],3,FALSE)","v":"20:00:00"},45,{"$f":"\"Groupe \"&VLOOKUP($I52,TABLEAU_TEAMS[[#All],[TEAM]:[GROUP_INITIAL_RANK]],2,FALSE)","v":"Groupe G"},8,4.2,1.32,{"$f":"VLOOKUP($D52,TABLEAU_MATCHS[#All],4,FALSE)","v":"Panama"},0,null,{"$f":"VLOOKUP($D52,TABLEAU_MATCHS[#All],5,FALSE)","v":"Tunisie"},1,{"$f":"IF(OR(ISBLANK(RESULTATS!J52),ISBLANK(J52)),\"\",IF(AND(JD!J52=RESULTATS!J52,JD!M52=RESULTATS!M52),3,IF(OR(AND(JD!J52>JD!M52,RESULTATS!J52>RESULTATS!M52),AND(JD!J52<JD!M52,RESULTATS!J52<RESULTATS!M52),AND(JD!J52=JD!M52,RESULTATS!J52=RESULTATS!M52)),1,0)))","v":""},null,null,null,"06340Pologne",6340,2,"Pologne",{"$f":"SUMPRODUCT((Teams1=U52)*(Teams1_Score<>\"\"))+SUMPRODUCT((Teams2=U52)*(Teams2_Score<>\"\"))","v":3},{"$f":"SUMPRODUCT((Teams1=U52)*(Teams1_Score>Teams2_Score))+SUMPRODUCT((Teams2=U52)*(Teams2_Score>Teams1_Score))","v":2},{"$f":"SUMPRODUCT((Teams1=U52)*(Teams1_Score=Teams2_Score)*(Teams1_Score<>\"\"))+SUMPRODUCT((Teams2=U52)*(Teams2_Score=Teams1_Score)*(Teams2_Score<>\"\"))","v":0},{"$f":"SUMPRODUCT((Teams1=U52)*(Teams1_Score<Teams2_Score))+SUMPRODUCT((Teams2=U52)*(Teams2_Score<Teams1_Score))","v":1},{"$f":"SUMPRODUCT((Teams1=U52)*(Teams1_Score))+SUMPRODUCT((Teams2=U52)*(Teams2_Score))","v":4},{"$f":"SUMPRODUCT((Teams1=U52)*(Teams2_Score))+SUMPRODUCT((Teams2=U52)*(Teams1_Score))","v":1},{"$f":"Z52-AA52","v":3},{"$f":"3*W52+X52","v":6},null,null,"2018-07-03",8,{"$f":"IF(SUM(V51:V54)=0,\"1er Groupe H\",IF(COUNTIF(T51:T54,1)=1,VLOOKUP(1,T51:U54,2,FALSE),IF(COUNTIF(T51:T54,1)>=2,\"Tirage au Sort H1\")))","v":"Colombie"},14,1,{"$f":"IF(AND(LEFT(AH52,3)<>\"1er\",LEFT(AH52,3)<>\"2nd\"),COUNTIF(RESULTATS!$AG$30:$AM$37,AH52),0)","v":0},4,null,{"$f":"IF(SUM(V45:V48)=0,\"2nd Groupe G\",IF(OR(COUNTIF(T45:T48,1)>1,COUNTIF(T45:T48,2)>1),\"Tirage au sort G2\",VLOOKUP(2,T45:U48,2,FALSE)))","v":"Angleterre"},13,1,{"$f":"IF(AND(LEFT(AN52,3)<>\"1er\",LEFT(AN52,3)<>\"2nd\"),COUNTIF(RESULTATS!$AG$30:$AM$37,AN52),0)","v":0},3]
[null,{"$f":"VLOOKUP($D53,TABLEAU_MATCHS[#All],2,FALSE)","v":"2018-06-28"},{"$f":"VLOOKUP($D53,TABLEAU_MATCHS[#All],3,FALSE)","v":"20:00:00"},46,{"$f":"\"Groupe \"&VLOOKUP($I53,TABLEAU_TEAMS[[#All],[TEAM]:[GROUP_INITIAL_RANK]],2,FALSE)","v":"Groupe G"},1.74,3.2,4.0999999999999996,{"$f":"VLOOKUP($D53,TABLEAU_MATCHS[#All],4,FALSE)","v":"Angleterre"},1,null,{"$f":"VLOOKUP($D53,TABLEAU_MATCHS[#All],5,FALSE)","v":"Belgique"},1,{"$f":"IF(OR(ISBLANK(RESULTATS!J53),ISBLANK(J53)),\"\",IF(AND(JD!J53=RESULTATS!J53,JD!M53=RESULTATS!M53),3,IF(OR(AND(JD!J53>JD!M53,RESULTATS!J53>RESULTATS!M53),AND(JD!J53<JD!M53,RESULTATS!J53<RESULTATS!M53),AND(JD!J53=JD!M53,RESULTATS!J53=RESULTATS!M53)),1,0)))","v":""},null,null,null,"01810Sénégal",1810,3,"Sénégal",{"$f":"SUMPRODUCT((Teams1=U53)*(Teams1_Score<>\"\"))+SUMPRODUCT((Teams2=U53)*(Teams2_Score<>\"\"))","v":3},{"$f":"SUMPRODUCT((Teams1=U53)*(Teams1_Score>Teams2_Score))+SUMPRODUCT((Teams2=U53)*(Teams2_Score>Teams1_Score))","v":0},{"$f":"SUMPRODUCT((Teams1=U53)*(Teams1_Score=Teams2_Score)*(Teams1_Score<>\"\"))+SUMPRODUCT((Teams2=U53)*(Teams2_Score=Teams1_Score)*(Teams2_Score<>\"\"))","v":2},{"$f":"SUMPRODUCT((Teams1=U53)*(Teams1_Score<Teams2_Score))+SUMPRODUCT((Teams2=U53)*(Teams2_Score<Teams1_Score))","v":1},{"$f":"SUMPRODUCT((Teams1=U53)*(Teams1_Score))+SUMPRODUCT((Teams2=U53)*(Teams2_Score))","v":1},{"$f":"SUMPRODUCT((Teams1=U53)*(Teams2_Score))+SUMPRODUCT((Teams2=U53)*(Teams1_Score))","v":3},{"$f":"Z53-AA53","v":-2},{"$f":"3*W53+X53","v":2},null,null,null,null,null,null,null,{"$f":"SUM(AK45:AK52)","v":1},null,null,null,0,null,{"$f":"SUM(AQ45:AQ52)","v":0}]
[null,{"$f":"VLOOKUP($D54,TABLEAU_MATCHS[#All],2,FALSE)","v":"2018-06-28"},{"$f":"VLOOKUP($D54,TABLEAU_MATCHS[#All],3,FALSE)","v":"16:00:00"},47,{"$f":"\"Groupe \"&VLOOKUP($I54,TABLEAU_TEAMS[[#All],[TEAM]:[GROUP_INITIAL_RANK]],2,FALSE)","v":"Groupe H"},4.9000000000000004,3.25,1.62,{"$f":"VLOOKUP($D54,TABLEAU_MATCHS[#All],4,FALSE)","v":"Japon"},0,null,{"$f":"VLOOKUP($D54,TABLEAU_MATCHS[#All],5,FALSE)","v":"Pologne"},2,{"$f":"IF(OR(ISBLANK(RESULTATS!J54),ISBLANK(J54)),\"\",IF(AND(JD!J54=RESULTATS!J54,JD!M54=RESULTATS!M54),3,IF(OR(AND(JD!J54>JD!M54,RESULTATS!J54>RESULTATS!M54),AND(JD!J54<JD!M54,RESULTATS!J54<RESULTATS!M54),AND(JD!J54=JD!M54,RESULTATS!J54=RESULTATS!M54)),1,0)))","v":""},null,null,null,"00710Japon",710,4,"Japon",{"$f":"SUMPRODUCT((Teams1=U54)*(Teams1_Score<>\"\"))+SUMPRODUCT((Teams2=U54)*(Teams2_Score<>\"\"))","v":3},{"$f":"SUMPRODUCT((Teams1=U54)*(Teams1_Score>Teams2_Score))+SUMPRODUCT((Teams2=U54)*(Teams2_Score>Teams1_Score))","v":0},{"$f":"SUMPRODUCT((Teams1=U54)*(Teams1_Score=Teams2_Score)*(Teams1_Score<>\"\"))+SUMPRODUCT((Teams2=U54)*(Teams2_Score=Teams1_Score)*(Teams2_Score<>\"\"))","v":1},{"$f":"SUMPRODUCT((Teams1=U54)*(Teams1_Score<Teams2_Score))+SUMPRODUCT((Teams2=U54)*(Teams2_Score<Teams1_Score))","v":2},{"$f":"SUMPRODUCT((Teams1=U54)*(Teams1_Score))+SUMPRODUCT((Teams2=U54)*(Teams2_Score))","v":1},{"$f":"SUMPRODUCT((Teams1=U54)*(Teams2_Score))+SUMPRODUCT((Teams2=U54)*(Teams1_Score))","v":4},{"$f":"Z54-AA54","v":-3},{"$f":"3*W54+X54","v":1}]
[null,{"$f":"VLOOKUP($D55,TABLEAU_MATCHS[#All],2,FALSE)","v":"2018-06-28"},{"$f":"VLOOKUP($D55,TABLEAU_MATCHS[#All],3,FALSE)","v":"16:00:00"},48,{"$f":"\"Groupe \"&VLOOKUP($I55,TABLEAU_TEAMS[[#All],[TEAM]:[GROUP_INITIAL_RANK]],2,FALSE)","v":"Groupe H"},6,3.4,1.52,{"$f":"VLOOKUP($D55,TABLEAU_MATCHS[#All],4,FALSE)","v":"Sénégal"},0,null,{"$f":"VLOOKUP($D55,TABLEAU_MATCHS[#All],5,FALSE)","v":"Colombie"},0,{"$f":"IF(OR(ISBLANK(RESULTATS!J55),ISBLANK(J55)),\"\",IF(AND(JD!J55=RESULTATS!J55,JD!M55=RESULTATS!M55),3,IF(OR(AND(JD!J55>JD!M55,RESULTATS!J55>RESULTATS!M55),AND(JD!J55<JD!M55,RESULTATS!J55<RESULTATS!M55),AND(JD!J55=JD!M55,RESULTATS!J55=RESULTATS!M55)),1,0)))","v":""}]
[null,null,null,null,null,null,null,null,null,null,null,null,null,{"$f":"SUM(N8:N55)","v":1}]
[]
[]
[null,"Tirage au sort A1",null,null,null,null,null,null,null,null,null,null,null,null,null,null,null,null,null,"Rg","Groupe A","MJ","G","N","P","BP","BC","+/-","Pts"]
[null,{"$f":"IF(ROWS($1:1)<=COUNTIF($T$9:$T$12,1),INDEX($U$9:$U$12,SMALL(IF($T$9:$T$12=1,ROW(INDIRECT(\"1:\"&ROWS($T$9:$T$12)))),ROWS($1:1))),\"\")","v":"Uruguay"},null,null,null,null,null,null,null,null,null,null,null,null,null,null,"A_1",{"$f":"TEXT(S60,\"00000\")&U60","v":"01920Russie"},{"$f":"AC60*1000+AB60*100+Z60*10","v":1920},{"$f":"RANK(S60,$S60:$S64,0)","v":3},{"$f":"VLOOKUP(Q60,TABLEAU_TEAMS[#All],2,FALSE)","v":"Russie"},{"$f":"SUMPRODUCT((Teams1=U60)*(Teams1_Score<>\"\"))+SUMPRODUCT((Teams2=U60)*(Teams2_Score<>\"\"))","v":3},{"$f":"SUMPRODUCT((Teams1=U60)*(Teams1_Score>Teams2_Score))+SUMPRODUCT((Teams2=U60)*(Teams2_Score>Teams1_Score))","v":0},{"$f":"SUMPRODUCT((Teams1=U60)*(Teams1_Score=Teams2_Score)*(Teams1_Score<>\"\"))+SUMPRODUCT((Teams2=U60)*(Teams2_Score=Teams1_Score)*(Teams2_Score<>\"\"))","v":2},{"$f":"SUMPRODUCT((Teams1=U60)*(Teams1_Score<Teams2_Score))+SUMPRODUCT((Teams2=U60)*(Teams2_Score<Teams1_Score))","v":1},{"$f":"SUMPRODUCT((Teams1=U60)*(Teams1_Score))+SUMPRODUCT((Teams2=U60)*(Teams2_Score))","v":2},{"$f":"SUMPRODUCT((Teams1=U60)*(Teams2_Score))+SUMPRODUCT((Teams2=U60)*(Teams1_Score))","v":3},{"$f":"Z60-AA60","v":-1},{"$f":"3*W60+X60","v":2}]
[null,{"$f":"IF(ROWS($1:2)<=COUNTIF($T$9:$T$12,1),INDEX($U$9:$U$12,SMALL(IF($T$9:$T$12=1,ROW(INDIRECT(\"1:\"&ROWS($T$9:$T$12)))),ROWS($1:2))),\"\")","v":""},null,null,null,null,null,null,null,null,null,null,null,null,null,null,"A_2",{"$f":"TEXT(S61,\"00000\")&U61","v":"00510Arabie Saoudite"},{"$f":"AC61*1000+AB61*100+Z61*10","v":510},{"$f":"RANK(S61,$S60:$S64,0)","v":4},{"$f":"VLOOKUP(Q61,TABLEAU_TEAMS[#All],2,FALSE)","v":"Arabie Saoudite"},{"$f":"SUMPRODUCT((Teams1=U61)*(Teams1_Score<>\"\"))+SUMPRODUCT((Teams2=U61)*(Teams2_Score<>\"\"))","v":3},{"$f":"SUMPRODUCT((Teams1=U61)*(Teams1_Score>Teams2_Score))+SUMPRODUCT((Teams2=U61)*(Teams2_Score>Teams1_Score))","v":0},{"$f":"SUMPRODUCT((Teams1=U61)*(Teams1_Score=Teams2_Score)*(Teams1_Score<>\"\"))+SUMPRODUCT((Teams2=U61)*(Teams2_Score=Teams1_Score)*(Teams2_Score<>\"\"))","v":1},{"$f":"SUMPRODUCT((Teams1=U61)*(Teams1_Score<Teams2_Score))+SUMPRODUCT((Teams2=U61)*(Teams2_Score<Teams1_Score))","v":2},{"$f":"SUMPRODUCT((Teams1=U61)*(Teams1_Score))+SUMPRODUCT((Teams2=U61)*(Teams2_Score))","v":1},{"$f":"SUMPRODUCT((Teams1=U61)*(Teams2_Score))+SUMPRODUCT((Teams2=U61)*(Teams1_Score))","v":6},{"$f":"Z61-AA61","v":-5},{"$f":"3*W61+X61","v":1}]
[null,{"$f":"IF(ROWS($1:3)<=COUNTIF($T$9:$T$12,1),INDEX($U$9:$U$12,SMALL(IF($T$9:$T$12=1,ROW(INDIRECT(\"1:\"&ROWS($T$9:$T$12)))),ROWS($1:3))),\"\")","v":""},null,null,null,null,null,null,null,null,null,null,null,null,null,null,"A_3",{"$f":"TEXT(S62,\"00000\")&U62","v":"04140Egypte"},{"$f":"AC62*1000+AB62*100+Z62*10","v":4140},{"$f":"RANK(S62,$S60:$S64,0)","v":2},{"$f":"VLOOKUP(Q62,TABLEAU_TEAMS[#All],2,FALSE)","v":"Egypte"},{"$f":"SUMPRODUCT((Teams1=U62)*(Teams1_Score<>\"\"))+SUMPRODUCT((Teams2=U62)*(Teams2_Score<>\"\"))","v":3},{"$f":"SUMPRODUCT((Teams1=U62)*(Teams1_Score>Teams2_Score))+SUMPRODUCT((Teams2=U62)*(Teams2_Score>Teams1_Score))","v":1},{"$f":"SUMPRODUCT((Teams1=U62)*(Teams1_Score=Teams2_Score)*(Teams1_Score<>\"\"))+SUMPRODUCT((Teams2=U62)*(Teams2_Score=Teams1_Score)*(Teams2_Score<>\"\"))","v":1},{"$f":"SUMPRODUCT((Teams1=U62)*(Teams1_Score<Teams2_Score))+SUMPRODUCT((Teams2=U62)*(Teams2_Score<Teams1_Score))","v":1},{"$f":"SUMPRODUCT((Teams1=U62)*(Teams1_Score))+SUMPRODUCT((Teams2=U62)*(Teams2_Score))","v":4},{"$f":"SUMPRODUCT((Teams1=U62)*(Teams2_Score))+SUMPRODUCT((Teams2=U62)*(Teams1_Score))","v":3},{"$f":"Z62-AA62","v":1},{"$f":"3*W62+X62","v":4}]
[null,{"$f":"IF(ROWS($1:4)<=COUNTIF($T$9:$T$12,1),INDEX($U$9:$U$12,SMALL(IF($T$9:$T$12=1,ROW(INDIRECT(\"1:\"&ROWS($T$9:$T$12)))),ROWS($1:4))),\"\")","v":""},null,null,null,null,null,null,null,null,null,null,null,null,null,null,"A_4",{"$f":"TEXT(S63,\"00000\")&U63","v":"09560Uruguay"},{"$f":"AC63*1000+AB63*100+Z63*10","v":9560},{"$f":"RANK(S63,$S60:$S64,0)","v":1},{"$f":"VLOOKUP(Q63,TABLEAU_TEAMS[#All],2,FALSE)","v":"Uruguay"},{"$f":"SUMPRODUCT((Teams1=U63)*(Teams1_Score<>\"\"))+SUMPRODUCT((Teams2=U63)*(Teams2_Score<>\"\"))","v":3},{"$f":"SUMPRODUCT((Teams1=U63)*(Teams1_Score>Teams2_Score))+SUMPRODUCT((Teams2=U63)*(Teams2_Score>Teams1_Score))","v":3},{"$f":"SUMPRODUCT((Teams1=U63)*(Teams1_Score=Teams2_Score)*(Teams1_Score<>\"\"))+SUMPRODUCT((Teams2=U63)*(Teams2_Score=Teams1_Score)*(Teams2_Score<>\"\"))","v":0},{"$f":"SUMPRODUCT((Teams1=U63)*(Teams1_Score<Teams2_Score))+SUMPRODUCT((Teams2=U63)*(Teams2_Score<Teams1_Score))","v":0},{"$f":"SUMPRODUCT((Teams1=U63)*(Teams1_Score))+SUMPRODUCT((Teams2=U63)*(Teams2_Score))","v":6},{"$f":"SUMPRODUCT((Teams1=U63)*(Teams2_Score))+SUMPRODUCT((Teams2=U63)*(Teams1_Score))","v":1},{"$f":"Z63-AA63","v":5},{"$f":"3*W63+X63","v":9}]
[null,"Tirage au sort A2"]
[null,{"$f":"IF(COUNTIF($T$9:$T$12,1)>1,IF(ROWS($1:1)<=COUNTIF($T$9:$T$12,1),INDEX($U$9:$U$12,SMALL(IF($T$9:$T$12=1,ROW(INDIRECT(\"1:\"&ROWS($T$9:$T$12)))),ROWS($1:1))),\"\"),IF(COUNTIF($T$9:$T$12,2)>1,IF(ROWS($1:1)<=COUNTIF($T$9:$T$12,2),INDEX($U$9:$U$12,SMALL(IF($T$9:$T$12=2,ROW(INDIRECT(\"1:\"&ROWS($T$9:$T$12)))),ROWS($1:1))),\"\")))","v":false},null,null,null,null,null,null,null,null,null,null,null,null,null,null,null,null,null,"Rg","Groupe B","MJ","G","N","P","BP","BC","Pts","Pts"]
[null,{"$f":"IF(COUNTIF($T$9:$T$12,1)>1,IF(ROWS($1:2)<=COUNTIF($T$9:$T$12,1),INDEX($U$9:$U$12,SMALL(IF($T$9:$T$12=1,ROW(INDIRECT(\"1:\"&ROWS($T$9:$T$12)))),ROWS($1:2))),\"\"),IF(COUNTIF($T$9:$T$12,2)>1,IF(ROWS($1:2)<=COUNTIF($T$9:$T$12,2),INDEX($U$9:$U$12,SMALL(IF($T$9:$T$12=2,ROW(INDIRECT(\"1:\"&ROWS($T$9:$T$12)))),ROWS($1:2))),\"\")))","v":false},null,null,null,null,null,null,null,null,null,null,null,null,null,null,"B_1",{"$f":"TEXT(S66,\"00000\")&U66","v":"01700Maroc"},{"$f":"AC66*1000+AB66*100+Z66*10","v":1700},{"$f":"RANK(S66,$S66:$S70,0)","v":3},{"$f":"VLOOKUP(Q66,TABLEAU_TEAMS[#All],2,FALSE)","v":"Maroc"},{"$f":"SUMPRODUCT((Teams1=U66)*(Teams1_Score<>\"\"))+SUMPRODUCT((Teams2=U66)*(Teams2_Score<>\"\"))","v":3},{"$f":"SUMPRODUCT((Teams1=U66)*(Teams1_Score>Teams2_Score))+SUMPRODUCT((Teams2=U66)*(Teams2_Score>Teams1_Score))","v":0},{"$f":"SUMPRODUCT((Teams1=U66)*(Teams1_Score=Teams2_Score)*(Teams1_Score<>\"\"))+SUMPRODUCT((Teams2=U66)*(Teams2_Score=Teams1_Score)*(Teams2_Score<>\"\"))","v":2},{"$f":"SUMPRODUCT((Teams1=U66)*(Teams1_Score<Teams2_Score))+SUMPRODUCT((Teams2=U66)*(Teams2_Score<Teams1_Score))","v":1},{"$f":"SUMPRODUCT((Teams1=U66)*(Teams1_Score))+SUMPRODUCT((Teams2=U66)*(Teams2_Score))","v":0},{"$f":"SUMPRODUCT((Teams1=U66)*(Teams2_Score))+SUMPRODUCT((Teams2=U66)*(Teams1_Score))","v":3},{"$f":"Z66-AA66","v":-3},{"$f":"3*W66+X66","v":2}]
[null,{"$f":"IF(COUNTIF($T$9:$T$12,1)>1,IF(ROWS($1:3)<=COUNTIF($T$9:$T$12,1),INDEX($U$9:$U$12,SMALL(IF($T$9:$T$12=1,ROW(INDIRECT(\"1:\"&ROWS($T$9:$T$12)))),ROWS($1:3))),\"\"),IF(COUNTIF($T$9:$T$12,2)>1,IF(ROWS($1:3)<=COUNTIF($T$9:$T$12,2),INDEX($U$9:$U$12,SMALL(IF($T$9:$T$12=2,ROW(INDIRECT(\"1:\"&ROWS($T$9:$T$12)))),ROWS($1:3))),\"\")))","v":false},null,null,null,null,null,null,null,null,null,null,null,null,null,null,"B_2",{"$f":"TEXT(S67,\"00000\")&U67","v":"00700RI Iran"},{"$f":"AC67*1000+AB67*100+Z67*10","v":700},{"$f":"RANK(S67,$S66:$S70,0)","v":4},{"$f":"VLOOKUP(Q67,TABLEAU_TEAMS[#All],2,FALSE)","v":"RI Iran"},{"$f":"SUMPRODUCT((Teams1=U67)*(Teams1_Score<>\"\"))+SUMPRODUCT((Teams2=U67)*(Teams2_Score<>\"\"))","v":3},{"$f":"SUMPRODUCT((Teams1=U67)*(Teams1_Score>Teams2_Score))+SUMPRODUCT((Teams2=U67)*(Teams2_Score>Teams1_Score))","v":0},{"$f":"SUMPRODUCT((Teams1=U67)*(Teams1_Score=Teams2_Score)*(Teams1_Score<>\"\"))+SUMPRODUCT((Teams2=U67)*(Teams2_Score=Teams1_Score)*(Teams2_Score<>\"\"))","v":1},{"$f":"SUMPRODUCT((Teams1=U67)*(Teams1_Score<Teams2_Score))+SUMPRODUCT((Teams2=U67)*(Teams2_Score<Teams1_Score))","v":2},{"$f":"SUMPRODUCT((Teams1=U67)*(Teams1_Score))+SUMPRODUCT((Teams2=U67)*(Teams2_Score))","v":0},{"$f":"SUMPRODUCT((Teams1=U67)*(Teams2_Score))+SUMPRODUCT((Teams2=U67)*(Teams1_Score))","v":3},{"$f":"Z67-AA67","v":-3},{"$f":"3*W67+X67","v":1}]
[null,{"$f":"IF(COUNTIF($T$9:$T$12,1)>1,IF(ROWS($1:4)<=COUNTIF($T$9:$T$12,1),INDEX($U$9:$U$12,SMALL(IF($T$9:$T$12=1,ROW(INDIRECT(\"1:\"&ROWS($T$9:$T$12)))),ROWS($1:4))),\"\"),IF(COUNTIF($T$9:$T$12,2)>1,IF(ROWS($1:4)<=COUNTIF($T$9:$T$12,2),INDEX($U$9:$U$12,SMALL(IF($T$9:$T$12=2,ROW(INDIRECT(\"1:\"&ROWS($T$9:$T$12)))),ROWS($1:4))),\"\")))","v":false},null,null,null,null,null,null,null,null,null,null,null,null,null,null,"B_3",{"$f":"TEXT(S68,\"00000\")&U68","v":"04010Portugal"},{"$f":"AC68*1000+AB68*100+Z68*10","v":4010},{"$f":"RANK(S68,$S66:$S70,0)","v":2},{"$f":"VLOOKUP(Q68,TABLEAU_TEAMS[#All],2,FALSE)","v":"Portugal"},{"$f":"SUMPRODUCT((Teams1=U68)*(Teams1_Score<>\"\"))+SUMPRODUCT((Teams2=U68)*(Teams2_Score<>\"\"))","v":3},{"$f":"SUMPRODUCT((Teams1=U68)*(Teams1_Score>Teams2_Score))+SUMPRODUCT((Teams2=U68)*(Teams2_Score>Teams1_Score))","v":1},{"$f":"SUMPRODUCT((Teams1=U68)*(Teams1_Score=Teams2_Score)*(Teams1_Score<>\"\"))+SUMPRODUCT((Teams2=U68)*(Teams2_Score=Teams1_Score)*(Teams2_Score<>\"\"))","v":1},{"$f":"SUMPRODUCT((Teams1=U68)*(Teams1_Score<Teams2_Score))+SUMPRODUCT((Teams2=U68)*(Teams2_Score<Teams1_Score))","v":1},{"$f":"SUMPRODUCT((Teams1=U68)*(Teams1_Score))+SUMPRODUCT((Teams2=U68)*(Teams2_Score))","v":1},{"$f":"SUMPRODUCT((Teams1=U68)*(Teams2_Score))+SUMPRODUCT((Teams2=U68)*(Teams1_Score))","v":1},{"$f":"Z68-AA68","v":0},{"$f":"3*W68+X68","v":4}]
[null,"Tirage au sort B1",null,null,null,null,null,null,null,null,null,null,null,null,null,null,"B_4",{"$f":"TEXT(S69,\"00000\")&U69","v":"09660Espagne"},{"$f":"AC69*1000+AB69*100+Z69*10","v":9660},{"$f":"RANK(S69,$S66:$S70,0)","v":1},{"$f":"VLOOKUP(Q69,TABLEAU_TEAMS[#All],2,FALSE)","v":"Espagne"},{"$f":"SUMPRODUCT((Teams1=U69)*(Teams1_Score<>\"\"))+SUMPRODUCT((Teams2=U69)*(Teams2_Score<>\"\"))","v":3},{"$f":"SUMPRODUCT((Teams1=U69)*(Teams1_Score>Teams2_Score))+SUMPRODUCT((Teams2=U69)*(Teams2_Score>Teams1_Score))","v":3},{"$f":"SUMPRODUCT((Teams1=U69)*(Teams1_Score=Teams2_Score)*(Teams1_Score<>\"\"))+SUMPRODUCT((Teams2=U69)*(Teams2_Score=Teams1_Score)*(Teams2_Score<>\"\"))","v":0},{"$f":"SUMPRODUCT((Teams1=U69)*(Teams1_Score<Teams2_Score))+SUMPRODUCT((Teams2=U69)*(Teams2_Score<Teams1_Score))","v":0},{"$f":"SUMPRODUCT((Teams1=U69)*(Teams1_Score))+SUMPRODUCT((Teams2=U69)*(Teams2_Score))","v":6},{"$f":"SUMPRODUCT((Teams1=U69)*(Teams2_Score))+SUMPRODUCT((Teams2=U69)*(Teams1_Score))","v":0},{"$f":"Z69-AA69","v":6},{"$f":"3*W69+X69","v":9}]
[null,{"$f":"IF(ROWS($1:1)<=COUNTIF($T$15:$T$18,1),INDEX($U$15:$U$18,SMALL(IF($T$15:$T$18=1,ROW(INDIRECT(\"1:\"&ROWS($T$15:$T$18)))),ROWS($1:1))),\"\")","v":"Espagne"}]
[null,{"$f":"IF(ROWS($1:2)<=COUNTIF($T$15:$T$18,1),INDEX($U$15:$U$18,SMALL(IF($T$15:$T$18=1,ROW(INDIRECT(\"1:\"&ROWS($T$15:$T$18)))),ROWS($1:2))),\"\")","v":""},null,null,null,null,null,null,null,null,null,null,null,null,null,null,null,null,null,"Rg","Groupe C","MJ","G","N","P","BP","BC","Pts","Pts"]
[null,{"$f":"IF(ROWS($1:3)<=COUNTIF($T$15:$T$18,1),INDEX($U$15:$U$18,SMALL(IF($T$15:$T$18=1,ROW(INDIRECT(\"1:\"&ROWS($T$15:$T$18)))),ROWS($1:3))),\"\")","v":""},null,null,null,null,null,null,null,null,null,null,null,null,null,null,"C_1",{"$f":"TEXT(S72,\"00000\")&U72","v":"07340France"},{"$f":"AC72*1000+AB72*100+Z72*10","v":7340},{"$f":"RANK(S72,$S72:$S76,0)","v":1},{"$f":"VLOOKUP(Q72,TABLEAU_TEAMS[#All],2,FALSE)","v":"France"},{"$f":"SUMPRODUCT((Teams1=U72)*(Teams1_Score<>\"\"))+SUMPRODUCT((Teams2=U72)*(Teams2_Score<>\"\"))","v":3},{"$f":"SUMPRODUCT((Teams1=U72)*(Teams1_Score>Teams2_Score))+SUMPRODUCT((Teams2=U72)*(Teams2_Score>Teams1_Score))","v":2},{"$f":"SUMPRODUCT((Teams1=U72)*(Teams1_Score=Teams2_Score)*(Teams1_Score<>\"\"))+SUMPRODUCT((Teams2=U72)*(Teams2_Score=Teams1_Score)*(Teams2_Score<>\"\"))","v":1},{"$f":"SUMPRODUCT((Teams1=U72)*(Teams1_Score<Teams2_Score))+SUMPRODUCT((Teams2=U72)*(Teams2_Score<Teams1_Score))","v":0},{"$f":"SUMPRODUCT((Teams1=U72)*(Teams1_Score))+SUMPRODUCT((Teams2=U72)*(Teams2_Score))","v":4},{"$f":"SUMPRODUCT((Teams1=U72)*(Teams2_Score))+SUMPRODUCT((Teams2=U72)*(Teams1_Score))","v":1},{"$f":"Z72-AA72","v":3},{"$f":"3*W72+X72","v":7}]
[null,{"$f":"IF(ROWS($1:4)<=COUNTIF($T$15:$T$18,1),INDEX($U$15:$U$18,SMALL(IF($T$15:$T$18=1,ROW(INDIRECT(\"1:\"&ROWS($T$15:$T$18)))),ROWS($1:4))),\"\")","v":""},null,null,null,null,null,null,null,null,null,null,null,null,null,null,"C_2",{"$f":"TEXT(S73,\"00000\")&U73","v":"00700Australie"},{"$f":"AC73*1000+AB73*100+Z73*10","v":700},{"$f":"RANK(S73,$S72:$S76,0)","v":4},{"$f":"VLOOKUP(Q73,TABLEAU_TEAMS[#All],2,FALSE)","v":"Australie"},{"$f":"SUMPRODUCT((Teams1=U73)*(Teams1_Score<>\"\"))+SUMPRODUCT((Teams2=U73)*(Teams2_Score<>\"\"))","v":3},{"$f":"SUMPRODUCT((Teams1=U73)*(Teams1_Score>Teams2_Score))+SUMPRODUCT((Teams2=U73)*(Teams2_Score>Teams1_Score))","v":0},{"$f":"SUMPRODUCT((Teams1=U73)*(Teams1_Score=Teams2_Score)*(Teams1_Score<>\"\"))+SUMPRODUCT((Teams2=U73)*(Teams2_Score=Teams1_Score)*(Teams2_Score<>\"\"))","v":1},{"$f":"SUMPRODUCT((Teams1=U73)*(Teams1_Score<Teams2_Score))+SUMPRODUCT((Teams2=U73)*(Teams2_Score<Teams1_Score))","v":2},{"$f":"SUMPRODUCT((Teams1=U73)*(Teams1_Score))+SUMPRODUCT((Teams2=U73)*(Teams2_Score))","v":0},{"$f":"SUMPRODUCT((Teams1=U73)*(Teams2_Score))+SUMPRODUCT((Teams2=U73)*(Teams1_Score))","v":3},{"$f":"Z73-AA73","v":-3},{"$f":"3*W73+X73","v":1}]
[null,"Tirage au sort B2",null,null,null,null,null,null,null,null,null,null,null,null,null,null,"C_3",{"$f":"TEXT(S74,\"00000\")&U74","v":"04020Pérou"},{"$f":"AC74*1000+AB74*100+Z74*10","v":4020},{"$f":"RANK(S74,$S72:$S76,0)","v":2},{"$f":"VLOOKUP(Q74,TABLEAU_TEAMS[#All],2,FALSE)","v":"Pérou"},{"$f":"SUMPRODUCT((Teams1=U74)*(Teams1_Score<>\"\"))+SUMPRODUCT((Teams2=U74)*(Teams2_Score<>\"\"))","v":3},{"$f":"SUMPRODUCT((Teams1=U74)*(Teams1_Score>Teams2_Score))+SUMPRODUCT((Teams2=U74)*(Teams2_Score>Teams1_Score))","v":1},{"$f":"SUMPRODUCT((Teams1=U74)*(Teams1_Score=Teams2_Score)*(Teams1_Score<>\"\"))+SUMPRODUCT((Teams2=U74)*(Teams2_Score=Teams1_Score)*(Teams2_Score<>\"\"))","v":1},{"$f":"SUMPRODUCT((Teams1=U74)*(Teams1_Score<Teams2_Score))+SUMPRODUCT((Teams2=U74)*(Teams2_Score<Teams1_Score))","v":1},{"$f":"SUMPRODUCT((Teams1=U74)*(Teams1_Score))+SUMPRODUCT((Teams2=U74)*(Teams2_Score))","v":2},{"$f":"SUMPRODUCT((Teams1=U74)*(Teams2_Score))+SUMPRODUCT((Teams2=U74)*(Teams1_Score))","v":2},{"$f":"Z74-AA74","v":0},{"$f":"3*W74+X74","v":4}]
[null,{"$f":"IF(COUNTIF($T$15:$T$18,1)>1,IF(ROWS($1:1)<=COUNTIF($T$15:$T$18,1),INDEX($U$15:$U$18,SMALL(IF($T$15:$T$18=1,ROW(INDIRECT(\"1:\"&ROWS($T$15:$T$18)))),ROWS($1:1))),\"\"),IF(COUNTIF($T$15:$T$18,2)>1,IF(ROWS($1:1)<=COUNTIF($T$15:$T$18,2),INDEX($U$15:$U$18,SMALL(IF($T$15:$T$18=2,ROW(INDIRECT(\"1:\"&ROWS($T$15:$T$18)))),ROWS($1:1))),\"\")))","v":false},null,null,null,null,null,null,null,null,null,null,null,null,null,null,"C_4",{"$f":"TEXT(S75,\"00000\")&U75","v":"03000Danemark"},{"$f":"AC75*1000+AB75*100+Z75*10","v":3000},{"$f":"RANK(S75,$S72:$S76,0)","v":3},{"$f":"VLOOKUP(Q75,TABLEAU_TEAMS[#All],2,FALSE)","v":"Danemark"},{"$f":"SUMPRODUCT((Teams1=U75)*(Teams1_Score<>\"\"))+SUMPRODUCT((Teams2=U75)*(Teams2_Score<>\"\"))","v":3},{"$f":"SUMPRODUCT((Teams1=U75)*(Teams1_Score>Teams2_Score))+SUMPRODUCT((Teams2=U75)*(Teams2_Score>Teams1_Score))","v":0},{"$f":"SUMPRODUCT((Teams1=U75)*(Teams1_Score=Teams2_Score)*(Teams1_Score<>\"\"))+SUMPRODUCT((Teams2=U75)*(Teams2_Score=Teams1_Score)*(Teams2_Score<>\"\"))","v":3},{"$f":"SUMPRODUCT((Teams1=U75)*(Teams1_Score<Teams2_Score))+SUMPRODUCT((Teams2=U75)*(Teams2_Score<Teams1_Score))","v":0},{"$f":"SUMPRODUCT((Teams1=U75)*(Teams1_Score))+SUMPRODUCT((Teams2=U75)*(Teams2_Score))","v":0},{"$f":"SUMPRODUCT((Teams1=U75)*(Teams2_Score))+SUMPRODUCT((Teams2=U75)*(Teams1_Score))","v":0},{"$f":"Z75-AA75","v":0},{"$f":"3*W75+X75","v":3}]
[null,{"$f":"IF(COUNTIF($T$15:$T$18,1)>1,IF(ROWS($1:2)<=COUNTIF($T$15:$T$18,1),INDEX($U$15:$U$18,SMALL(IF($T$15:$T$18=1,ROW(INDIRECT(\"1:\"&ROWS($T$15:$T$18)))),ROWS($1:2))),\"\"),IF(COUNTIF($T$15:$T$18,2)>1,IF(ROWS($1:2)<=COUNTIF($T$15:$T$18,2),INDEX($U$15:$U$18,SMALL(IF($T$15:$T$18=2,ROW(INDIRECT(\"1:\"&ROWS($T$15:$T$18)))),ROWS($1:2))),\"\")))","v":false}]
[null,{"$f":"IF(COUNTIF($T$15:$T$18,1)>1,IF(ROWS($1:3)<=COUNTIF($T$15:$T$18,1),INDEX($U$15:$U$18,SMALL(IF($T$15:$T$18=1,ROW(INDIRECT(\"1:\"&ROWS($T$15:$T$18)))),ROWS($1:3))),\"\"),IF(COUNTIF($T$15:$T$18,2)>1,IF(ROWS($1:3)<=COUNTIF($T$15:$T$18,2),INDEX($U$15:$U$18,SMALL(IF($T$15:$T$18=2,ROW(INDIRECT(\"1:\"&ROWS($T$15:$T$18)))),ROWS($1:3))),\"\")))","v":false},null,null,null,null,null,null,null,null,null,null,null,null,null,null,null,null,null,"Rg","Groupe D","MJ","G","N","P","BP","BC","Pts","Pts"]
[null,{"$f":"IF(COUNTIF($T$15:$T$18,1)>1,IF(ROWS($1:4)<=COUNTIF($T$15:$T$18,1),INDEX($U$15:$U$18,SMALL(IF($T$15:$T$18=1,ROW(INDIRECT(\"1:\"&ROWS($T$15:$T$18)))),ROWS($1:4))),\"\"),IF(COUNTIF($T$15:$T$18,2)>1,IF(ROWS($1:4)<=COUNTIF($T$15:$T$18,2),INDEX($U$15:$U$18,SMALL(IF($T$15:$T$18=2,ROW(INDIRECT(\"1:\"&ROWS($T$15:$T$18)))),ROWS($1:4))),\"\")))","v":false},null,null,null,null,null,null,null,null,null,null,null,null,null,null,"D_1",{"$f":"TEXT(S78,\"00000\")&U78","v":"05240Argentine"},{"$f":"AC78*1000+AB78*100+Z78*10","v":5240},{"$f":"RANK(S78,$S78:$S82,0)","v":1},{"$f":"VLOOKUP(Q78,TABLEAU_TEAMS[#All],2,FALSE)","v":"Argentine"},{"$f":"SUMPRODUCT((Teams1=U78)*(Teams1_Score<>\"\"))+SUMPRODUCT((Teams2=U78)*(Teams2_Score<>\"\"))","v":3},{"$f":"SUMPRODUCT((Teams1=U78)*(Teams1_Score>Teams2_Score))+SUMPRODUCT((Teams2=U78)*(Teams2_Score>Teams1_Score))","v":1},{"$f":"SUMPRODUCT((Teams1=U78)*(Teams1_Score=Teams2_Score)*(Teams1_Score<>\"\"))+SUMPRODUCT((Teams2=U78)*(Teams2_Score=Teams1_Score)*(Teams2_Score<>\"\"))","v":2},{"$f":"SUMPRODUCT((Teams1=U78)*(Teams1_Score<Teams2_Score))+SUMPRODUCT((Teams2=U78)*(Teams2_Score<Teams1_Score))","v":0},{"$f":"SUMPRODUCT((Teams1=U78)*(Teams1_Score))+SUMPRODUCT((Teams2=U78)*(Teams2_Score))","v":4},{"$f":"SUMPRODUCT((Teams1=U78)*(Teams2_Score))+SUMPRODUCT((Teams2=U78)*(Teams1_Score))","v":2},{"$f":"Z78-AA78","v":2},{"$f":"3*W78+X78","v":5}]
[null,"Tirage au sort C1",null,null,null,null,null,null,null,null,null,null,null,null,null,null,"D_2",{"$f":"TEXT(S79,\"00000\")&U79","v":"05120Islande"},{"$f":"AC79*1000+AB79*100+Z79*10","v":5120},{"$f":"RANK(S79,$S78:$S82,0)","v":2},{"$f":"VLOOKUP(Q79,TABLEAU_TEAMS[#All],2,FALSE)","v":"Islande"},{"$f":"SUMPRODUCT((Teams1=U79)*(Teams1_Score<>\"\"))+SUMPRODUCT((Teams2=U79)*(Teams2_Score<>\"\"))","v":3},{"$f":"SUMPRODUCT((Teams1=U79)*(Teams1_Score>Teams2_Score))+SUMPRODUCT((Teams2=U79)*(Teams2_Score>Teams1_Score))","v":1},{"$f":"SUMPRODUCT((Teams1=U79)*(Teams1_Score=Teams2_Score)*(Teams1_Score<>\"\"))+SUMPRODUCT((Teams2=U79)*(Teams2_Score=Teams1_Score)*(Teams2_Score<>\"\"))","v":2},{"$f":"SUMPRODUCT((Teams1=U79)*(Teams1_Score<Teams2_Score))+SUMPRODUCT((Teams2=U79)*(Teams2_Score<Teams1_Score))","v":0},{"$f":"SUMPRODUCT((Teams1=U79)*(Teams1_Score))+SUMPRODUCT((Teams2=U79)*(Teams2_Score))","v":2},{"$f":"SUMPRODUCT((Teams1=U79)*(Teams2_Score))+SUMPRODUCT((Teams2=U79)*(Teams1_Score))","v":1},{"$f":"Z79-AA79","v":1},{"$f":"3*W79+X79","v":5}]
[null,{"$f":"IF(ROWS($1:1)<=COUNTIF($T$21:$T$24,1),INDEX($U$21:$U$24,SMALL(IF($T$21:$T$24=1,ROW(INDIRECT(\"1:\"&ROWS($T$21:$T$24)))),ROWS($1:1))),\"\")","v":"France"},null,null,null,null,null,null,null,null,null,null,null,null,null,null,"D_3",{"$f":"TEXT(S80,\"00000\")&U80","v":"05120Croatie"},{"$f":"AC80*1000+AB80*100+Z80*10","v":5120},{"$f":"RANK(S80,$S78:$S82,0)","v":2},{"$f":"VLOOKUP(Q80,TABLEAU_TEAMS[#All],2,FALSE)","v":"Croatie"},{"$f":"SUMPRODUCT((Teams1=U80)*(Teams1_Score<>\"\"))+SUMPRODUCT((Teams2=U80)*(Teams2_Score<>\"\"))","v":3},{"$f":"SUMPRODUCT((Teams1=U80)*(Teams1_Score>Teams2_Score))+SUMPRODUCT((Teams2=U80)*(Teams2_Score>Teams1_Score))","v":1},{"$f":"SUMPRODUCT((Teams1=U80)*(Teams1_Score=Teams2_Score)*(Teams1_Score<>\"\"))+SUMPRODUCT((Teams2=U80)*(Teams2_Score=Teams1_Score)*(Teams2_Score<>\"\"))","v":2},{"$f":"SUMPRODUCT((Teams1=U80)*(Teams1_Score<Teams2_Score))+SUMPRODUCT((Teams2=U80)*(Teams2_Score<Teams1_Score))","v":0},{"$f":"SUMPRODUCT((Teams1=U80)*(Teams1_Score))+SUMPRODUCT((Teams2=U80)*(Teams2_Score))","v":2},{"$f":"SUMPRODUCT((Teams1=U80)*(Teams2_Score))+SUMPRODUCT((Teams2=U80)*(Teams1_Score))","v":1},{"$f":"Z80-AA80","v":1},{"$f":"3*W80+X80","v":5}]
[null,{"$f":"IF(ROWS($1:2)<=COUNTIF($T$21:$T$24,1),INDEX($U$21:$U$24,SMALL(IF($T$21:$T$24=1,ROW(INDIRECT(\"1:\"&ROWS($T$21:$T$24)))),ROWS($1:2))),\"\")","v":""},null,null,null,null,null,null,null,null,null,null,null,null,null,null,"D_4",{"$f":"TEXT(S81,\"00000\")&U81","v":"-00400Nigeria"},{"$f":"AC81*1000+AB81*100+Z81*10","v":-400},{"$f":"RANK(S81,$S78:$S82,0)","v":4},{"$f":"VLOOKUP(Q81,TABLEAU_TEAMS[#All],2,FALSE)","v":"Nigeria"},{"$f":"SUMPRODUCT((Teams1=U81)*(Teams1_Score<>\"\"))+SUMPRODUCT((Teams2=U81)*(Teams2_Score<>\"\"))","v":3},{"$f":"SUMPRODUCT((Teams1=U81)*(Teams1_Score>Teams2_Score))+SUMPRODUCT((Teams2=U81)*(Teams2_Score>Teams1_Score))","v":0},{"$f":"SUMPRODUCT((Teams1=U81)*(Teams1_Score=Teams2_Score)*(Teams1_Score<>\"\"))+SUMPRODUCT((Teams2=U81)*(Teams2_Score=Teams1_Score)*(Teams2_Score<>\"\"))","v":0},{"$f":"SUMPRODUCT((Teams1=U81)*(Teams1_Score<Teams2_Score))+SUMPRODUCT((Teams2=U81)*(Teams2_Score<Teams1_Score))","v":3},{"$f":"SUMPRODUCT((Teams1=U81)*(Teams1_Score))+SUMPRODUCT((Teams2=U81)*(Teams2_Score))","v":0},{"$f":"SUMPRODUCT((Teams1=U81)*(Teams2_Score))+SUMPRODUCT((Teams2=U81)*(Teams1_Score))","v":4},{"$f":"Z81-AA81","v":-4},{"$f":"3*W81+X81","v":0}]
[null,{"$f":"IF(ROWS($1:3)<=COUNTIF($T$21:$T$24,1),INDEX($U$21:$U$24,SMALL(IF($T$21:$T$24=1,ROW(INDIRECT(\"1:\"&ROWS($T$21:$T$24)))),ROWS($1:3))),\"\")","v":""}]
[null,{"$f":"IF(ROWS($1:4)<=COUNTIF($T$21:$T$24,1),INDEX($U$21:$U$24,SMALL(IF($T$21:$T$24=1,ROW(INDIRECT(\"1:\"&ROWS($T$21:$T$24)))),ROWS($1:4))),\"\")","v":""},null,null,null,null,null,null,null,null,null,null,null,null,null,null,null,null,null,"Rg","Groupe E","MJ","G","N","P","BP","BC","Pts","Pts"]
[null,"Tirage au sort C2",null,null,null,null,null,null,null,null,null,null,null,null,null,null,"E_1",{"$f":"TEXT(S84,\"00000\")&U84","v":"00700Costa Rica"},{"$f":"AC84*1000+AB84*100+Z84*10","v":700},{"$f":"RANK(S84,$S84:$S88,0)","v":3},{"$f":"VLOOKUP(Q84,TABLEAU_TEAMS[#All],2,FALSE)","v":"Costa Rica"},{"$f":"SUMPRODUCT((Teams1=U84)*(Teams1_Score<>\"\"))+SUMPRODUCT((Teams2=U84)*(Teams2_Score<>\"\"))","v":3},{"$f":"SUMPRODUCT((Teams1=U84)*(Teams1_Score>Teams2_Score))+SUMPRODUCT((Teams2=U84)*(Teams2_Score>Teams1_Score))","v":0},{"$f":"SUMPRODUCT((Teams1=U84)*(Teams1_Score=Teams2_Score)*(Teams1_Score<>\"\"))+SUMPRODUCT((Teams2=U84)*(Teams2_Score=Teams1_Score)*(Teams2_Score<>\"\"))","v":1},{"$f":"SUMPRODUCT((Teams1=U84)*(Teams1_Score<Teams2_Score))+SUMPRODUCT((Teams2=U84)*(Teams2_Score<Teams1_Score))","v":2},{"$f":"SUMPRODUCT((Teams1=U84)*(Teams1_Score))+SUMPRODUCT((Teams2=U84)*(Teams2_Score))","v":0},{"$f":"SUMPRODUCT((Teams1=U84)*(Teams2_Score))+SUMPRODUCT((Teams2=U84)*(Teams1_Score))","v":3},{"$f":"Z84-AA84","v":-3},{"$f":"3*W84+X84","v":1}]
[null,{"$f":"IF(COUNTIF($T$21:$T$24,1)>1,IF(ROWS($1:1)<=COUNTIF($T$21:$T$24,1),INDEX($U$21:$U$24,SMALL(IF($T$21:$T$24=1,ROW(INDIRECT(\"1:\"&ROWS($T$21:$T$24)))),ROWS($1:1))),\"\"),IF(COUNTIF($T$21:$T$24,2)>1,IF(ROWS($1:1)<=COUNTIF($T$21:$T$24,2),INDEX($U$21:$U$24,SMALL(IF($T$21:$T$24=2,ROW(INDIRECT(\"1:\"&ROWS($T$21:$T$24)))),ROWS($1:1))),\"\")))","v":false},null,null,null,null,null,null,null,null,null,null,null,null,null,null,"E_2",{"$f":"TEXT(S85,\"00000\")&U85","v":"06030Serbie"},{"$f":"AC85*1000+AB85*100+Z85*10","v":6030},{"$f":"RANK(S85,$S84:$S88,0)","v":2},{"$f":"VLOOKUP(Q85,TABLEAU_TEAMS[#All],2,FALSE)","v":"Serbie"},{"$f":"SUMPRODUCT((Teams1=U85)*(Teams1_Score<>\"\"))+SUMPRODUCT((Teams2=U85)*(Teams2_Score<>\"\"))","v":3},{"$f":"SUMPRODUCT((Teams1=U85)*(Teams1_Score>Teams2_Score))+SUMPRODUCT((Teams2=U85)*(Teams2_Score>Teams1_Score))","v":2},{"$f":"SUMPRODUCT((Teams1=U85)*(Teams1_Score=Teams2_Score)*(Teams1_Score<>\"\"))+SUMPRODUCT((Teams2=U85)*(Teams2_Score=Teams1_Score)*(Teams2_Score<>\"\"))","v":0},{"$f":"SUMPRODUCT((Teams1=U85)*(Teams1_Score<Teams2_Score))+SUMPRODUCT((Teams2=U85)*(Teams2_Score<Teams1_Score))","v":1},{"$f":"SUMPRODUCT((Teams1=U85)*(Teams1_Score))+SUMPRODUCT((Teams2=U85)*(Teams2_Score))","v":3},{"$f":"SUMPRODUCT((Teams1=U85)*(Teams2_Score))+SUMPRODUCT((Teams2=U85)*(Teams1_Score))","v":3},{"$f":"Z85-AA85","v":0},{"$f":"3*W85+X85","v":6}]
[null,{"$f":"IF(COUNTIF($T$21:$T$24,1)>1,IF(ROWS($1:2)<=COUNTIF($T$21:$T$24,1),INDEX($U$21:$U$24,SMALL(IF($T$21:$T$24=1,ROW(INDIRECT(\"1:\"&ROWS($T$21:$T$24)))),ROWS($1:2))),\"\"),IF(COUNTIF($T$21:$T$24,2)>1,IF(ROWS($1:2)<=COUNTIF($T$21:$T$24,2),INDEX($U$21:$U$24,SMALL(IF($T$21:$T$24=2,ROW(INDIRECT(\"1:\"&ROWS($T$21:$T$24)))),ROWS($1:2))),\"\")))","v":false},null,null,null,null,null,null,null,null,null,null,null,null,null,null,"E_3",{"$f":"TEXT(S86,\"00000\")&U86","v":"09770Brésil"},{"$f":"AC86*1000+AB86*100+Z86*10","v":9770},{"$f":"RANK(S86,$S84:$S88,0)","v":1},{"$f":"VLOOKUP(Q86,TABLEAU_TEAMS[#All],2,FALSE)","v":"Brésil"},{"$f":"SUMPRODUCT((Teams1=U86)*(Teams1_Score<>\"\"))+SUMPRODUCT((Teams2=U86)*(Teams2_Score<>\"\"))","v":3},{"$f":"SUMPRODUCT((Teams1=U86)*(Teams1_Score>Teams2_Score))+SUMPRODUCT((Teams2=U86)*(Teams2_Score>Teams1_Score))","v":3},{"$f":"SUMPRODUCT((Teams1=U86)*(Teams1_Score=Teams2_Score)*(Teams1_Score<>\"\"))+SUMPRODUCT((Teams2=U86)*(Teams2_Score=Teams1_Score)*(Teams2_Score<>\"\"))","v":0},{"$f":"SUMPRODUCT((Teams1=U86)*(Teams1_Score<Teams2_Score))+SUMPRODUCT((Teams2=U86)*(Teams2_Score<Teams1_Score))","v":0},{"$f":"SUMPRODUCT((Teams1=U86)*(Teams1_Score))+SUMPRODUCT((Teams2=U86)*(Teams2_Score))","v":7},{"$f":"SUMPRODUCT((Teams1=U86)*(Teams2_Score))+SUMPRODUCT((Teams2=U86)*(Teams1_Score))","v":0},{"$f":"Z86-AA86","v":7},{"$f":"3*W86+X86","v":9}]
[null,{"$f":"IF(COUNTIF($T$21:$T$24,1)>1,IF(ROWS($1:3)<=COUNTIF($T$21:$T$24,1),INDEX($U$21:$U$24,SMALL(IF($T$21:$T$24=1,ROW(INDIRECT(\"1:\"&ROWS($T$21:$T$24)))),ROWS($1:3))),\"\"),IF(COUNTIF($T$21:$T$24,2)>1,IF(ROWS($1:3)<=COUNTIF($T$21:$T$24,2),INDEX($U$21:$U$24,SMALL(IF($T$21:$T$24=2,ROW(INDIRECT(\"1:\"&ROWS($T$21:$T$24)))),ROWS($1:3))),\"\")))","v":false},null,null,null,null,null,null,null,null,null,null,null,null,null,null,"E_4",{"$f":"TEXT(S87,\"00000\")&U87","v":"00610Suisse"},{"$f":"AC87*1000+AB87*100+Z87*10","v":610},{"$f":"RANK(S87,$S84:$S88,0)","v":4},{"$f":"VLOOKUP(Q87,TABLEAU_TEAMS[#All],2,FALSE)","v":"Suisse"},{"$f":"SUMPRODUCT((Teams1=U87)*(Teams1_Score<>\"\"))+SUMPRODUCT((Teams2=U87)*(Teams2_Score<>\"\"))","v":3},{"$f":"SUMPRODUCT((Teams1=U87)*(Teams1_Score>Teams2_Score))+SUMPRODUCT((Teams2=U87)*(Teams2_Score>Teams1_Score))","v":0},{"$f":"SUMPRODUCT((Teams1=U87)*(Teams1_Score=Teams2_Score)*(Teams1_Score<>\"\"))+SUMPRODUCT((Teams2=U87)*(Teams2_Score=Teams1_Score)*(Teams2_Score<>\"\"))","v":1},{"$f":"SUMPRODUCT((Teams1=U87)*(Teams1_Score<Teams2_Score))+SUMPRODUCT((Teams2=U87)*(Teams2_Score<Teams1_Score))","v":2},{"$f":"SUMPRODUCT((Teams1=U87)*(Teams1_Score))+SUMPRODUCT((Teams2=U87)*(Teams2_Score))","v":1},{"$f":"SUMPRODUCT((Teams1=U87)*(Teams2_Score))+SUMPRODUCT((Teams2=U87)*(Teams1_Score))","v":5},{"$f":"Z87-AA87","v":-4},{"$f":"3*W87+X87","v":1}]
[null,{"$f":"IF(COUNTIF($T$21:$T$24,1)>1,IF(ROWS($1:4)<=COUNTIF($T$21:$T$24,1),INDEX($U$21:$U$24,SMALL(IF($T$21:$T$24=1,ROW(INDIRECT(\"1:\"&ROWS($T$21:$T$24)))),ROWS($1:4))),\"\"),IF(COUNTIF($T$21:$T$24,2)>1,IF(ROWS($1:4)<=COUNTIF($T$21:$T$24,2),INDEX($U$21:$U$24,SMALL(IF($T$21:$T$24=2,ROW(INDIRECT(\"1:\"&ROWS($T$21:$T$24)))),ROWS($1:4))),\"\")))","v":false}]
[null,"Tirage au sort D1",null,null,null,null,null,null,null,null,null,null,null,null,null,null,null,null,null,"Rg","Groupe F","MJ","G","N","P","BP","BC","Pts","Pts"]
[null,{"$f":"IF(ROWS($1:1)<=COUNTIF($T$27:$T$30,1),INDEX($U$27:$U$30,SMALL(IF($T$27:$T$30=1,ROW(INDIRECT(\"1:\"&ROWS($T$27:$T$30)))),ROWS($1:1))),\"\")","v":"Argentine"},null,null,null,null,null,null,null,null,null,null,null,null,null,null,"F_1",{"$f":"TEXT(S90,\"00000\")&U90","v":"09890Allemagne"},{"$f":"AC90*1000+AB90*100+Z90*10","v":9890},{"$f":"RANK(S90,$S90:$S94,0)","v":1},{"$f":"VLOOKUP(Q90,TABLEAU_TEAMS[#All],2,FALSE)","v":"Allemagne"},{"$f":"SUMPRODUCT((Teams1=U90)*(Teams1_Score<>\"\"))+SUMPRODUCT((Teams2=U90)*(Teams2_Score<>\"\"))","v":3},{"$f":"SUMPRODUCT((Teams1=U90)*(Teams1_Score>Teams2_Score))+SUMPRODUCT((Teams2=U90)*(Teams2_Score>Teams1_Score))","v":3},{"$f":"SUMPRODUCT((Teams1=U90)*(Teams1_Score=Teams2_Score)*(Teams1_Score<>\"\"))+SUMPRODUCT((Teams2=U90)*(Teams2_Score=Teams1_Score)*(Teams2_Score<>\"\"))","v":0},{"$f":"SUMPRODUCT((Teams1=U90)*(Teams1_Score<Teams2_Score))+SUMPRODUCT((Teams2=U90)*(Teams2_Score<Teams1_Score))","v":0},{"$f":"SUMPRODUCT((Teams1=U90)*(Teams1_Score))+SUMPRODUCT((Teams2=U90)*(Teams2_Score))","v":9},{"$f":"SUMPRODUCT((Teams1=U90)*(Teams2_Score))+SUMPRODUCT((Teams2=U90)*(Teams1_Score))","v":1},{"$f":"Z90-AA90","v":8},{"$f":"3*W90+X90","v":9}]
[null,{"$f":"IF(ROWS($1:2)<=COUNTIF($T$27:$T$30,1),INDEX($U$27:$U$30,SMALL(IF($T$27:$T$30=1,ROW(INDIRECT(\"1:\"&ROWS($T$27:$T$30)))),ROWS($1:2))),\"\")","v":""},null,null,null,null,null,null,null,null,null,null,null,null,null,null,"F_2",{"$f":"TEXT(S91,\"00000\")&U91","v":"06040Mexique"},{"$f":"AC91*1000+AB91*100+Z91*10","v":6040},{"$f":"RANK(S91,$S90:$S94,0)","v":2},{"$f":"VLOOKUP(Q91,TABLEAU_TEAMS[#All],2,FALSE)","v":"Mexique"},{"$f":"SUMPRODUCT((Teams1=U91)*(Teams1_Score<>\"\"))+SUMPRODUCT((Teams2=U91)*(Teams2_Score<>\"\"))","v":3},{"$f":"SUMPRODUCT((Teams1=U91)*(Teams1_Score>Teams2_Score))+SUMPRODUCT((Teams2=U91)*(Teams2_Score>Teams1_Score))","v":2},{"$f":"SUMPRODUCT((Teams1=U91)*(Teams1_Score=Teams2_Score)*(Teams1_Score<>\"\"))+SUMPRODUCT((Teams2=U91)*(Teams2_Score=Teams1_Score)*(Teams2_Score<>\"\"))","v":0},{"$f":"SUMPRODUCT((Teams1=U91)*(Teams1_Score<Teams2_Score))+SUMPRODUCT((Teams2=U91)*(Teams2_Score<Teams1_Score))","v":1},{"$f":"SUMPRODUCT((Teams1=U91)*(Teams1_Score))+SUMPRODUCT((Teams2=U91)*(Teams2_Score))","v":4},{"$f":"SUMPRODUCT((Teams1=U91)*(Teams2_Score))+SUMPRODUCT((Teams2=U91)*(Teams1_Score))","v":4},{"$f":"Z91-AA91","v":0},{"$f":"3*W91+X91","v":6}]
[null,{"$f":"IF(ROWS($1:3)<=COUNTIF($T$27:$T$30,1),INDEX($U$27:$U$30,SMALL(IF($T$27:$T$30=1,ROW(INDIRECT(\"1:\"&ROWS($T$27:$T$30)))),ROWS($1:3))),\"\")","v":""},null,null,null,null,null,null,null,null,null,null,null,null,null,null,"F_3",{"$f":"TEXT(S92,\"00000\")&U92","v":"00700Suède"},{"$f":"AC92*1000+AB92*100+Z92*10","v":700},{"$f":"RANK(S92,$S90:$S94,0)","v":3},{"$f":"VLOOKUP(Q92,TABLEAU_TEAMS[#All],2,FALSE)","v":"Suède"},{"$f":"SUMPRODUCT((Teams1=U92)*(Teams1_Score<>\"\"))+SUMPRODUCT((Teams2=U92)*(Teams2_Score<>\"\"))","v":3},{"$f":"SUMPRODUCT((Teams1=U92)*(Teams1_Score>Teams2_Score))+SUMPRODUCT((Teams2=U92)*(Teams2_Score>Teams1_Score))","v":0},{"$f":"SUMPRODUCT((Teams1=U92)*(Teams1_Score=Teams2_Score)*(Teams1_Score<>\"\"))+SUMPRODUCT((Teams2=U92)*(Teams2_Score=Teams1_Score)*(Teams2_Score<>\"\"))","v":1},{"$f":"SUMPRODUCT((Teams1=U92)*(Teams1_Score<Teams2_Score))+SUMPRODUCT((Teams2=U92)*(Teams2_Score<Teams1_Score))","v":2},{"$f":"SUMPRODUCT((Teams1=U92)*(Teams1_Score))+SUMPRODUCT((Teams2=U92)*(Teams2_Score))","v":0},{"$f":"SUMPRODUCT((Teams1=U92)*(Teams2_Score))+SUMPRODUCT((Teams2=U92)*(Teams1_Score))","v":3},{"$f":"Z92-AA92","v":-3},{"$f":"3*W92+X92","v":1}]
[null,{"$f":"IF(ROWS($1:4)<=COUNTIF($T$27:$T$30,1),INDEX($U$27:$U$30,SMALL(IF($T$27:$T$30=1,ROW(INDIRECT(\"1:\"&ROWS($T$27:$T$30)))),ROWS($1:4))),\"\")","v":""},null,null,null,null,null,null,null,null,null,null,null,null,null,null,"F_4",{"$f":"TEXT(S93,\"00000\")&U93","v":"00510République de Corée"},{"$f":"AC93*1000+AB93*100+Z93*10","v":510},{"$f":"RANK(S93,$S90:$S94,0)","v":4},{"$f":"VLOOKUP(Q93,TABLEAU_TEAMS[#All],2,FALSE)","v":"République de Corée"},{"$f":"SUMPRODUCT((Teams1=U93)*(Teams1_Score<>\"\"))+SUMPRODUCT((Teams2=U93)*(Teams2_Score<>\"\"))","v":3},{"$f":"SUMPRODUCT((Teams1=U93)*(Teams1_Score>Teams2_Score))+SUMPRODUCT((Teams2=U93)*(Teams2_Score>Teams1_Score))","v":0},{"$f":"SUMPRODUCT((Teams1=U93)*(Teams1_Score=Teams2_Score)*(Teams1_Score<>\"\"))+SUMPRODUCT((Teams2=U93)*(Teams2_Score=Teams1_Score)*(Teams2_Score<>\"\"))","v":1},{"$f":"SUMPRODUCT((Teams1=U93)*(Teams1_Score<Teams2_Score))+SUMPRODUCT((Teams2=U93)*(Teams2_Score<Teams1_Score))","v":2},{"$f":"SUMPRODUCT((Teams1=U93)*(Teams1_Score))+SUMPRODUCT((Teams2=U93)*(Teams2_Score))","v":1},{"$f":"SUMPRODUCT((Teams1=U93)*(Teams2_Score))+SUMPRODUCT((Teams2=U93)*(Teams1_Score))","v":6},{"$f":"Z93-AA93","v":-5},{"$f":"3*W93+X93","v":1}]
[null,"Tirage au sort D2"]
[null,{"$f":"IF(COUNTIF($T$27:$T$30,1)>1,IF(ROWS($1:1)<=COUNTIF($T$27:$T$30,1),INDEX($U$27:$U$30,SMALL(IF($T$27:$T$30=1,ROW(INDIRECT(\"1:\"&ROWS($T$27:$T$30)))),ROWS($1:1))),\"\"),IF(COUNTIF($T$27:$T$30,2)>1,IF(ROWS($1:1)<=COUNTIF($T$27:$T$30,2),INDEX($U$27:$U$30,SMALL(IF($T$27:$T$30=2,ROW(INDIRECT(\"1:\"&ROWS($T$27:$T$30)))),ROWS($1:1))),\"\")))","v":"Islande"},null,null,null,null,null,null,null,null,null,null,null,null,null,null,null,null,null,"Rg","Groupe G","MJ","G","N","P","BP","BC","Pts","Pts"]
[null,{"$f":"IF(COUNTIF($T$27:$T$30,1)>1,IF(ROWS($1:2)<=COUNTIF($T$27:$T$30,1),INDEX($U$27:$U$30,SMALL(IF($T$27:$T$30=1,ROW(INDIRECT(\"1:\"&ROWS($T$27:$T$30)))),ROWS($1:2))),\"\"),IF(COUNTIF($T$27:$T$30,2)>1,IF(ROWS($1:2)<=COUNTIF($T$27:$T$30,2),INDEX($U$27:$U$30,SMALL(IF($T$27:$T$30=2,ROW(INDIRECT(\"1:\"&ROWS($T$27:$T$30)))),ROWS($1:2))),\"\")))","v":"Croatie"},null,null,null,null,null,null,null,null,null,null,null,null,null,null,"G_1",{"$f":"TEXT(S96,\"00000\")&U96","v":"07340Belgique"},{"$f":"AC96*1000+AB96*100+Z96*10","v":7340},{"$f":"RANK(S96,$S96:$S100,0)","v":1},{"$f":"VLOOKUP(Q96,TABLEAU_TEAMS[#All],2,FALSE)","v":"Belgique"},{"$f":"SUMPRODUCT((Teams1=U96)*(Teams1_Score<>\"\"))+SUMPRODUCT((Teams2=U96)*(Teams2_Score<>\"\"))","v":3},{"$f":"SUMPRODUCT((Teams1=U96)*(Teams1_Score>Teams2_Score))+SUMPRODUCT((Teams2=U96)*(Teams2_Score>Teams1_Score))","v":2},{"$f":"SUMPRODUCT((Teams1=U96)*(Teams1_Score=Teams2_Score)*(Teams1_Score<>\"\"))+SUMPRODUCT((Teams2=U96)*(Teams2_Score=Teams1_Score)*(Teams2_Score<>\"\"))","v":1},{"$f":"SUMPRODUCT((Teams1=U96)*(Teams1_Score<Teams2_Score))+SUMPRODUCT((Teams2=U96)*(Teams2_Score<Teams1_Score))","v":0},{"$f":"SUMPRODUCT((Teams1=U96)*(Teams1_Score))+SUMPRODUCT((Teams2=U96)*(Teams2_Score))","v":4},{"$f":"SUMPRODUCT((Teams1=U96)*(Teams2_Score))+SUMPRODUCT((Teams2=U96)*(Teams1_Score))","v":1},{"$f":"Z96-AA96","v":3},{"$f":"3*W96+X96","v":7}]
[null,{"$f":"IF(COUNTIF($T$27:$T$30,1)>1,IF(ROWS($1:3)<=COUNTIF($T$27:$T$30,1),INDEX($U$27:$U$30,SMALL(IF($T$27:$T$30=1,ROW(INDIRECT(\"1:\"&ROWS($T$27:$T$30)))),ROWS($1:3))),\"\"),IF(COUNTIF($T$27:$T$30,2)>1,IF(ROWS($1:3)<=COUNTIF($T$27:$T$30,2),INDEX($U$27:$U$30,SMALL(IF($T$27:$T$30=2,ROW(INDIRECT(\"1:\"&ROWS($T$27:$T$30)))),ROWS($1:3))),\"\")))","v":""},null,null,null,null,null,null,null,null,null,null,null,null,null,null,"G_2",{"$f":"TEXT(S97,\"00000\")&U97","v":"-00400Panama"},{"$f":"AC97*1000+AB97*100+Z97*10","v":-400},{"$f":"RANK(S97,$S96:$S100,0)","v":4},{"$f":"VLOOKUP(Q97,TABLEAU_TEAMS[#All],2,FALSE)","v":"Panama"},{"$f":"SUMPRODUCT((Teams1=U97)*(Teams1_Score<>\"\"))+SUMPRODUCT((Teams2=U97)*(Teams2_Score<>\"\"))","v":3},{"$f":"SUMPRODUCT((Teams1=U97)*(Teams1_Score>Teams2_Score))+SUMPRODUCT((Teams2=U97)*(Teams2_Score>Teams1_Score))","v":0},{"$f":"SUMPRODUCT((Teams1=U97)*(Teams1_Score=Teams2_Score)*(Teams1_Score<>\"\"))+SUMPRODUCT((Teams2=U97)*(Teams2_Score=Teams1_Score)*(Teams2_Score<>\"\"))","v":0},{"$f":"SUMPRODUCT((Teams1=U97)*(Teams1_Score<Teams2_Score))+SUMPRODUCT((Teams2=U97)*(Teams2_Score<Teams1_Score))","v":3},{"$f":"SUMPRODUCT((Teams1=U97)*(Teams1_Score))+SUMPRODUCT((Teams2=U97)*(Teams2_Score))","v":0},{"$f":"SUMPRODUCT((Teams1=U97)*(Teams2_Score))+SUMPRODUCT((Teams2=U97)*(Teams1_Score))","v":4},{"$f":"Z97-AA97","v":-4},{"$f":"3*W97+X97","v":0}]
[null,{"$f":"IF(COUNTIF($T$27:$T$30,1)>1,IF(ROWS($1:4)<=COUNTIF($T$27:$T$30,1),INDEX($U$27:$U$30,SMALL(IF($T$27:$T$30=1,ROW(INDIRECT(\"1:\"&ROWS($T$27:$T$30)))),ROWS($1:4))),\"\"),IF(COUNTIF($T$27:$T$30,2)>1,IF(ROWS($1:4)<=COUNTIF($T$27:$T$30,2),INDEX($U$27:$U$30,SMALL(IF($T$27:$T$30=2,ROW(INDIRECT(\"1:\"&ROWS($T$27:$T$30)))),ROWS($1:4))),\"\")))","v":""},null,null,null,null,null,null,null,null,null,null,null,null,null,null,"G_3",{"$f":"TEXT(S98,\"00000\")&U98","v":"02910Tunisie"},{"$f":"AC98*1000+AB98*100+Z98*10","v":2910},{"$f":"RANK(S98,$S96:$S100,0)","v":3},{"$f":"VLOOKUP(Q98,TABLEAU_TEAMS[#All],2,FALSE)","v":"Tunisie"},{"$f":"SUMPRODUCT((Teams1=U98)*(Teams1_Score<>\"\"))+SUMPRODUCT((Teams2=U98)*(Teams2_Score<>\"\"))","v":3},{"$f":"SUMPRODUCT((Teams1=U98)*(Teams1_Score>Teams2_Score))+SUMPRODUCT((Teams2=U98)*(Teams2_Score>Teams1_Score))","v":1},{"$f":"SUMPRODUCT((Teams1=U98)*(Teams1_Score=Teams2_Score)*(Teams1_Score<>\"\"))+SUMPRODUCT((Teams2=U98)*(Teams2_Score=Teams1_Score)*(Teams2_Score<>\"\"))","v":0},{"$f":"SUMPRODUCT((Teams1=U98)*(Teams1_Score<Teams2_Score))+SUMPRODUCT((Teams2=U98)*(Teams2_Score<Teams1_Score))","v":2},{"$f":"SUMPRODUCT((Teams1=U98)*(Teams1_Score))+SUMPRODUCT((Teams2=U98)*(Teams2_Score))","v":1},{"$f":"SUMPRODUCT((Teams1=U98)*(Teams2_Score))+SUMPRODUCT((Teams2=U98)*(Teams1_Score))","v":2},{"$f":"Z98-AA98","v":-1},{"$f":"3*W98+X98","v":3}]
[null,"Tirage au sort E1",null,null,null,null,null,null,null,null,null,null,null,null,null,null,"G_4",{"$f":"TEXT(S99,\"00000\")&U99","v":"07230Angleterre"},{"$f":"AC99*1000+AB99*100+Z99*10","v":7230},{"$f":"RANK(S99,$S96:$S100,0)","v":2},{"$f":"VLOOKUP(Q99,TABLEAU_TEAMS[#All],2,FALSE)","v":"Angleterre"},{"$f":"SUMPRODUCT((Teams1=U99)*(Teams1_Score<>\"\"))+SUMPRODUCT((Teams2=U99)*(Teams2_Score<>\"\"))","v":3},{"$f":"SUMPRODUCT((Teams1=U99)*(Teams1_Score>Teams2_Score))+SUMPRODUCT((Teams2=U99)*(Teams2_Score>Teams1_Score))","v":2},{"$f":"SUMPRODUCT((Teams1=U99)*(Teams1_Score=Teams2_Score)*(Teams1_Score<>\"\"))+SUMPRODUCT((Teams2=U99)*(Teams2_Score=Teams1_Score)*(Teams2_Score<>\"\"))","v":1},{"$f":"SUMPRODUCT((Teams1=U99)*(Teams1_Score<Teams2_Score))+SUMPRODUCT((Teams2=U99)*(Teams2_Score<Teams1_Score))","v":0},{"$f":"SUMPRODUCT((Teams1=U99)*(Teams1_Score))+SUMPRODUCT((Teams2=U99)*(Teams2_Score))","v":3},{"$f":"SUMPRODUCT((Teams1=U99)*(Teams2_Score))+SUMPRODUCT((Teams2=U99)*(Teams1_Score))","v":1},{"$f":"Z99-AA99","v":2},{"$f":"3*W99+X99","v":7}]
[null,{"$f":"IF(ROWS($1:1)<=COUNTIF($T$33:$T$36,1),INDEX($U$33:$U$36,SMALL(IF($T$33:$T$36=1,ROW(INDIRECT(\"1:\"&ROWS($T$33:$T$36)))),ROWS($1:1))),\"\")","v":"Brésil"}]
[null,{"$f":"IF(ROWS($1:2)<=COUNTIF($T$33:$T$36,1),INDEX($U$33:$U$36,SMALL(IF($T$33:$T$36=1,ROW(INDIRECT(\"1:\"&ROWS($T$33:$T$36)))),ROWS($1:2))),\"\")","v":""},null,null,null,null,null,null,null,null,null,null,null,null,null,null,null,null,null,"Rg","Groupe H","MJ","G","N","P","BP","BC","Pts","Pts"]
[null,{"$f":"IF(ROWS($1:3)<=COUNTIF($T$33:$T$36,1),INDEX($U$33:$U$36,SMALL(IF($T$33:$T$36=1,ROW(INDIRECT(\"1:\"&ROWS($T$33:$T$36)))),ROWS($1:3))),\"\")","v":""},null,null,null,null,null,null,null,null,null,null,null,null,null,null,"H_1",{"$f":"TEXT(S102,\"00000\")&U102","v":"07220Colombie"},{"$f":"AC102*1000+AB102*100+Z102*10","v":7220},{"$f":"RANK(S102,$S102:$S106,0)","v":1},{"$f":"VLOOKUP(Q102,TABLEAU_TEAMS[#All],2,FALSE)","v":"Colombie"},{"$f":"SUMPRODUCT((Teams1=U102)*(Teams1_Score<>\"\"))+SUMPRODUCT((Teams2=U102)*(Teams2_Score<>\"\"))","v":3},{"$f":"SUMPRODUCT((Teams1=U102)*(Teams1_Score>Teams2_Score))+SUMPRODUCT((Teams2=U102)*(Teams2_Score>Teams1_Score))","v":2},{"$f":"SUMPRODUCT((Teams1=U102)*(Teams1_Score=Teams2_Score)*(Teams1_Score<>\"\"))+SUMPRODUCT((Teams2=U102)*(Teams2_Score=Teams1_Score)*(Teams2_Score<>\"\"))","v":1},{"$f":"SUMPRODUCT((Teams1=U102)*(Teams1_Score<Teams2_Score))+SUMPRODUCT((Teams2=U102)*(Teams2_Score<Teams1_Score))","v":0},{"$f":"SUMPRODUCT((Teams1=U102)*(Teams1_Score))+SUMPRODUCT((Teams2=U102)*(Teams2_Score))","v":2},{"$f":"SUMPRODUCT((Teams1=U102)*(Teams2_Score))+SUMPRODUCT((Teams2=U102)*(Teams1_Score))","v":0},{"$f":"Z102-AA102","v":2},{"$f":"3*W102+X102","v":7}]
[null,{"$f":"IF(ROWS($1:4)<=COUNTIF($T$33:$T$36,1),INDEX($U$33:$U$36,SMALL(IF($T$33:$T$36=1,ROW(INDIRECT(\"1:\"&ROWS($T$33:$T$36)))),ROWS($1:4))),\"\")","v":""},null,null,null,null,null,null,null,null,null,null,null,null,null,null,"H_2",{"$f":"TEXT(S103,\"00000\")&U103","v":"00710Japon"},{"$f":"AC103*1000+AB103*100+Z103*10","v":710},{"$f":"RANK(S103,$S102:$S106,0)","v":4},{"$f":"VLOOKUP(Q103,TABLEAU_TEAMS[#All],2,FALSE)","v":"Japon"},{"$f":"SUMPRODUCT((Teams1=U103)*(Teams1_Score<>\"\"))+SUMPRODUCT((Teams2=U103)*(Teams2_Score<>\"\"))","v":3},{"$f":"SUMPRODUCT((Teams1=U103)*(Teams1_Score>Teams2_Score))+SUMPRODUCT((Teams2=U103)*(Teams2_Score>Teams1_Score))","v":0},{"$f":"SUMPRODUCT((Teams1=U103)*(Teams1_Score=Teams2_Score)*(Teams1_Score<>\"\"))+SUMPRODUCT((Teams2=U103)*(Teams2_Score=Teams1_Score)*(Teams2_Score<>\"\"))","v":1},{"$f":"SUMPRODUCT((Teams1=U103)*(Teams1_Score<Teams2_Score))+SUMPRODUCT((Teams2=U103)*(Teams2_Score<Teams1_Score))","v":2},{"$f":"SUMPRODUCT((Teams1=U103)*(Teams1_Score))+SUMPRODUCT((Teams2=U103)*(Teams2_Score))","v":1},{"$f":"SUMPRODUCT((Teams1=U103)*(Teams2_Score))+SUMPRODUCT((Teams2=U103)*(Teams1_Score))","v":4},{"$f":"Z103-AA103","v":-3},{"$f":"3*W103+X103","v":1}]
[null,"Tirage au sort E2",null,null,null,null,null,null,null,null,null,null,null,null,null,null,"H_3",{"$f":"TEXT(S104,\"00000\")&U104","v":"06340Pologne"},{"$f":"AC104*1000+AB104*100+Z104*10","v":6340},{"$f":"RANK(S104,$S102:$S106,0)","v":2},{"$f":"VLOOKUP(Q104,TABLEAU_TEAMS[#All],2,FALSE)","v":"Pologne"},{"$f":"SUMPRODUCT((Teams1=U104)*(Teams1_Score<>\"\"))+SUMPRODUCT((Teams2=U104)*(Teams2_Score<>\"\"))","v":3},{"$f":"SUMPRODUCT((Teams1=U104)*(Teams1_Score>Teams2_Score))+SUMPRODUCT((Teams2=U104)*(Teams2_Score>Teams1_Score))","v":2},{"$f":"SUMPRODUCT((Teams1=U104)*(Teams1_Score=Teams2_Score)*(Teams1_Score<>\"\"))+SUMPRODUCT((Teams2=U104)*(Teams2_Score=Teams1_Score)*(Teams2_Score<>\"\"))","v":0},{"$f":"SUMPRODUCT((Teams1=U104)*(Teams1_Score<Teams2_Score))+SUMPRODUCT((Teams2=U104)*(Teams2_Score<Teams1_Score))","v":1},{"$f":"SUMPRODUCT((Teams1=U104)*(Teams1_Score))+SUMPRODUCT((Teams2=U104)*(Teams2_Score))","v":4},{"$f":"SUMPRODUCT((Teams1=U104)*(Teams2_Score))+SUMPRODUCT((Teams2=U104)*(Teams1_Score))","v":1},{"$f":"Z104-AA104","v":3},{"$f":"3*W104+X104","v":6}]
[null,{"$f":"IF(COUNTIF($T$33:$T$36,1)>1,IF(ROWS($1:1)<=COUNTIF($T$33:$T$36,1),INDEX($U$33:$U$36,SMALL(IF($T$33:$T$36=1,ROW(INDIRECT(\"1:\"&ROWS($T$33:$T$36)))),ROWS($1:1))),\"\"),IF(COUNTIF($T$33:$T$36,2)>1,IF(ROWS($1:1)<=COUNTIF($T$33:$T$36,2),INDEX($U$33:$U$36,SMALL(IF($T$33:$T$36=2,ROW(INDIRECT(\"1:\"&ROWS($T$33:$T$36)))),ROWS($1:1))),\"\")))","v":false},null,null,null,null,null,null,null,null,null,null,null,null,null,null,"H_4",{"$f":"TEXT(S105,\"00000\")&U105","v":"01810Sénégal"},{"$f":"AC105*1000+AB105*100+Z105*10","v":1810},{"$f":"RANK(S105,$S102:$S106,0)","v":3},{"$f":"VLOOKUP(Q105,TABLEAU_TEAMS[#All],2,FALSE)","v":"Sénégal"},{"$f":"SUMPRODUCT((Teams1=U105)*(Teams1_Score<>\"\"))+SUMPRODUCT((Teams2=U105)*(Teams2_Score<>\"\"))","v":3},{"$f":"SUMPRODUCT((Teams1=U105)*(Teams1_Score>Teams2_Score))+SUMPRODUCT((Teams2=U105)*(Teams2_Score>Teams1_Score))","v":0},{"$f":"SUMPRODUCT((Teams1=U105)*(Teams1_Score=Teams2_Score)*(Teams1_Score<>\"\"))+SUMPRODUCT((Teams2=U105)*(Teams2_Score=Teams1_Score)*(Teams2_Score<>\"\"))","v":2},{"$f":"SUMPRODUCT((Teams1=U105)*(Teams1_Score<Teams2_Score))+SUMPRODUCT((Teams2=U105)*(Teams2_Score<Teams1_Score))","v":1},{"$f":"SUMPRODUCT((Teams1=U105)*(Teams1_Score))+SUMPRODUCT((Teams2=U105)*(Teams2_Score))","v":1},{"$f":"SUMPRODUCT((Teams1=U105)*(Teams2_Score))+SUMPRODUCT((Teams2=U105)*(Teams1_Score))","v":3},{"$f":"Z105-AA105","v":-2},{"$f":"3*W105+X105","v":2}]
[null,{"$f":"IF(COUNTIF($T$33:$T$36,1)>1,IF(ROWS($1:2)<=COUNTIF($T$33:$T$36,1),INDEX($U$33:$U$36,SMALL(IF($T$33:$T$36=1,ROW(INDIRECT(\"1:\"&ROWS($T$33:$T$36)))),ROWS($1:2))),\"\"),IF(COUNTIF($T$33:$T$36,2)>1,IF(ROWS($1:2)<=COUNTIF($T$33:$T$36,2),INDEX($U$33:$U$36,SMALL(IF($T$33:$T$36=2,ROW(INDIRECT(\"1:\"&ROWS($T$33:$T$36)))),ROWS($1:2))),\"\")))","v":false}]
[null,{"$f":"IF(COUNTIF($T$33:$T$36,1)>1,IF(ROWS($1:3)<=COUNTIF($T$33:$T$36,1),INDEX($U$33:$U$36,SMALL(IF($T$33:$T$36=1,ROW(INDIRECT(\"1:\"&ROWS($T$33:$T$36)))),ROWS($1:3))),\"\"),IF(COUNTIF($T$33:$T$36,2)>1,IF(ROWS($1:3)<=COUNTIF($T$33:$T$36,2),INDEX($U$33:$U$36,SMALL(IF($T$33:$T$36=2,ROW(INDIRECT(\"1:\"&ROWS($T$33:$T$36)))),ROWS($1:3))),\"\")))","v":false}]
[null,{"$f":"IF(COUNTIF($T$33:$T$36,1)>1,IF(ROWS($1:4)<=COUNTIF($T$33:$T$36,1),INDEX($U$33:$U$36,SMALL(IF($T$33:$T$36=1,ROW(INDIRECT(\"1:\"&ROWS($T$33:$T$36)))),ROWS($1:4))),\"\"),IF(COUNTIF($T$33:$T$36,2)>1,IF(ROWS($1:4)<=COUNTIF($T$33:$T$36,2),INDEX($U$33:$U$36,SMALL(IF($T$33:$T$36=2,ROW(INDIRECT(\"1:\"&ROWS($T$33:$T$36)))),ROWS($1:4))),\"\")))","v":false}]
[null,"Tirage au sort F1"]
[null,{"$f":"IF(ROWS($1:1)<=COUNTIF($T$39:$T$42,1),INDEX($U$39:$U$42,SMALL(IF($T$39:$T$42=1,ROW(INDIRECT(\"1:\"&ROWS($T$39:$T$42)))),ROWS($1:1))),\"\")","v":"Allemagne"}]
[null,{"$f":"IF(ROWS($1:2)<=COUNTIF($T$39:$T$42,1),INDEX($U$39:$U$42,SMALL(IF($T$39:$T$42=1,ROW(INDIRECT(\"1:\"&ROWS($T$39:$T$42)))),ROWS($1:2))),\"\")","v":""}]
[null,{"$f":"IF(ROWS($1:3)<=COUNTIF($T$39:$T$42,1),INDEX($U$39:$U$42,SMALL(IF($T$39:$T$42=1,ROW(INDIRECT(\"1:\"&ROWS($T$39:$T$42)))),ROWS($1:3))),\"\")","v":""}]
[null,{"$f":"IF(ROWS($1:4)<=COUNTIF($T$39:$T$42,1),INDEX($U$39:$U$42,SMALL(IF($T$39:$T$42=1,ROW(INDIRECT(\"1:\"&ROWS($T$39:$T$42)))),ROWS($1:4))),\"\")","v":""}]
[null,"Tirage au sort F2"]
[null,{"$f":"IF(COUNTIF($T$39:$T$42,1)>1,IF(ROWS($1:1)<=COUNTIF($T$39:$T$42,1),INDEX($U$39:$U$42,SMALL(IF($T$39:$T$42=1,ROW(INDIRECT(\"1:\"&ROWS($T$39:$T$42)))),ROWS($1:1))),\"\"),IF(COUNTIF($T$39:$T$42,2)>1,IF(ROWS($1:1)<=COUNTIF($T$39:$T$42,2),INDEX($U$39:$U$42,SMALL(IF($T$39:$T$42=2,ROW(INDIRECT(\"1:\"&ROWS($T$39:$T$42)))),ROWS($1:1))),\"\")))","v":false}]
[null,{"$f":"IF(COUNTIF($T$39:$T$42,1)>1,IF(ROWS($1:2)<=COUNTIF($T$39:$T$42,1),INDEX($U$39:$U$42,SMALL(IF($T$39:$T$42=1,ROW(INDIRECT(\"1:\"&ROWS($T$39:$T$42)))),ROWS($1:2))),\"\"),IF(COUNTIF($T$39:$T$42,2)>1,IF(ROWS($1:2)<=COUNTIF($T$39:$T$42,2),INDEX($U$39:$U$42,SMALL(IF($T$39:$T$42=2,ROW(INDIRECT(\"1:\"&ROWS($T$39:$T$42)))),ROWS($1:2))),\"\")))","v":false}]
[null,{"$f":"IF(COUNTIF($T$39:$T$42,1)>1,IF(ROWS($1:3)<=COUNTIF($T$39:$T$42,1),INDEX($U$39:$U$42,SMALL(IF($T$39:$T$42=1,ROW(INDIRECT(\"1:\"&ROWS($T$39:$T$42)))),ROWS($1:3))),\"\"),IF(COUNTIF($T$39:$T$42,2)>1,IF(ROWS($1:3)<=COUNTIF($T$39:$T$42,2),INDEX($U$39:$U$42,SMALL(IF($T$39:$T$42=2,ROW(INDIRECT(\"1:\"&ROWS($T$39:$T$42)))),ROWS($1:3))),\"\")))","v":false}]
[null,{"$f":"IF(COUNTIF($T$39:$T$42,1)>1,IF(ROWS($1:4)<=COUNTIF($T$39:$T$42,1),INDEX($U$39:$U$42,SMALL(IF($T$39:$T$42=1,ROW(INDIRECT(\"1:\"&ROWS($T$39:$T$42)))),ROWS($1:4))),\"\"),IF(COUNTIF($T$39:$T$42,2)>1,IF(ROWS($1:4)<=COUNTIF($T$39:$T$42,2),INDEX($U$39:$U$42,SMALL(IF($T$39:$T$42=2,ROW(INDIRECT(\"1:\"&ROWS($T$39:$T$42)))),ROWS($1:4))),\"\")))","v":false}]
[null,"Tirage au sort G1"]
[null,{"$f":"IF(ROWS($1:1)<=COUNTIF($T$45:$T$48,1),INDEX($U$45:$U$48,SMALL(IF($T$45:$T$48=1,ROW(INDIRECT(\"1:\"&ROWS($T$45:$T$48)))),ROWS($1:1))),\"\")","v":"Belgique"}]
[null,{"$f":"IF(ROWS($1:2)<=COUNTIF($T$45:$T$48,1),INDEX($U$45:$U$48,SMALL(IF($T$45:$T$48=1,ROW(INDIRECT(\"1:\"&ROWS($T$45:$T$48)))),ROWS($1:2))),\"\")","v":""}]
[null,{"$f":"IF(ROWS($1:3)<=COUNTIF($T$45:$T$48,1),INDEX($U$45:$U$48,SMALL(IF($T$45:$T$48=1,ROW(INDIRECT(\"1:\"&ROWS($T$45:$T$48)))),ROWS($1:3))),\"\")","v":""}]
[null,{"$f":"IF(ROWS($1:4)<=COUNTIF($T$45:$T$48,1),INDEX($U$45:$U$48,SMALL(IF($T$45:$T$48=1,ROW(INDIRECT(\"1:\"&ROWS($T$45:$T$48)))),ROWS($1:4))),\"\")","v":""}]
[null,"Tirage au sort G2"]
[null,{"$f":"IF(COUNTIF($T$45:$T$48,1)>1,IF(ROWS($1:1)<=COUNTIF($T$45:$T$48,1),INDEX($U$45:$U$48,SMALL(IF($T$45:$T$48=1,ROW(INDIRECT(\"1:\"&ROWS($T$45:$T$48)))),ROWS($1:1))),\"\"),IF(COUNTIF($T$45:$T$48,2)>1,IF(ROWS($1:1)<=COUNTIF($T$45:$T$48,2),INDEX($U$45:$U$48,SMALL(IF($T$45:$T$48=2,ROW(INDIRECT(\"1:\"&ROWS($T$45:$T$48)))),ROWS($1:1))),\"\")))","v":false}]
[null,{"$f":"IF(COUNTIF($T$45:$T$48,1)>1,IF(ROWS($1:2)<=COUNTIF($T$45:$T$48,1),INDEX($U$45:$U$48,SMALL(IF($T$45:$T$48=1,ROW(INDIRECT(\"1:\"&ROWS($T$45:$T$48)))),ROWS($1:2))),\"\"),IF(COUNTIF($T$45:$T$48,2)>1,IF(ROWS($1:2)<=COUNTIF($T$45:$T$48,2),INDEX($U$45:$U$48,SMALL(IF($T$45:$T$48=2,ROW(INDIRECT(\"1:\"&ROWS($T$45:$T$48)))),ROWS($1:2))),\"\")))","v":false}]
[null,{"$f":"IF(COUNTIF($T$45:$T$48,1)>1,IF(ROWS($1:3)<=COUNTIF($T$45:$T$48,1),INDEX($U$45:$U$48,SMALL(IF($T$45:$T$48=1,ROW(INDIRECT(\"1:\"&ROWS($T$45:$T$48)))),ROWS($1:3))),\"\"),IF(COUNTIF($T$45:$T$48,2)>1,IF(ROWS($1:3)<=COUNTIF($T$45:$T$48,2),INDEX($U$45:$U$48,SMALL(IF($T$45:$T$48=2,ROW(INDIRECT(\"1:\"&ROWS($T$45:$T$48)))),ROWS($1:3))),\"\")))","v":false}]
[null,{"$f":"IF(COUNTIF($T$45:$T$48,1)>1,IF(ROWS($1:4)<=COUNTIF($T$45:$T$48,1),INDEX($U$45:$U$48,SMALL(IF($T$45:$T$48=1,ROW(INDIRECT(\"1:\"&ROWS($T$45:$T$48)))),ROWS($1:4))),\"\"),IF(COUNTIF($T$45:$T$48,2)>1,IF(ROWS($1:4)<=COUNTIF($T$45:$T$48,2),INDEX($U$45:$U$48,SMALL(IF($T$45:$T$48=2,ROW(INDIRECT(\"1:\"&ROWS($T$45:$T$48)))),ROWS($1:4))),\"\")))","v":false}]
[null,"Tirage au sort H1"]
[null,{"$f":"IF(ROWS($1:1)<=COUNTIF($T$51:$T$54,1),INDEX($U$51:$U$54,SMALL(IF($T$51:$T$54=1,ROW(INDIRECT(\"1:\"&ROWS($T$51:$T$54)))),ROWS($1:1))),\"\")","v":"Colombie"}]
[null,{"$f":"IF(ROWS($1:2)<=COUNTIF($T$51:$T$54,1),INDEX($U$51:$U$54,SMALL(IF($T$51:$T$54=1,ROW(INDIRECT(\"1:\"&ROWS($T$51:$T$54)))),ROWS($1:2))),\"\")","v":""}]
[null,{"$f":"IF(ROWS($1:3)<=COUNTIF($T$51:$T$54,1),INDEX($U$51:$U$54,SMALL(IF($T$51:$T$54=1,ROW(INDIRECT(\"1:\"&ROWS($T$51:$T$54)))),ROWS($1:3))),\"\")","v":""}]
[null,{"$f":"IF(ROWS($1:4)<=COUNTIF($T$51:$T$54,1),INDEX($U$51:$U$54,SMALL(IF($T$51:$T$54=1,ROW(INDIRECT(\"1:\"&ROWS($T$51:$T$54)))),ROWS($1:4))),\"\")","v":""}]
[null,"Tirage au sort H2"]
[null,{"$f":"IF(COUNTIF($T$51:$T$54,1)>1,IF(ROWS($1:1)<=COUNTIF($T$51:$T$54,1),INDEX($U$51:$U$54,SMALL(IF($T$51:$T$54=1,ROW(INDIRECT(\"1:\"&ROWS($T$51:$T$54)))),ROWS($1:1))),\"\"),IF(COUNTIF($T$51:$T$54,2)>1,IF(ROWS($1:1)<=COUNTIF($T$51:$T$54,2),INDEX($U$51:$U$54,SMALL(IF($T$51:$T$54=2,ROW(INDIRECT(\"1:\"&ROWS($T$51:$T$54)))),ROWS($1:1))),\"\")))","v":false}]
[null,{"$f":"IF(COUNTIF($T$51:$T$54,1)>1,IF(ROWS($1:2)<=COUNTIF($T$51:$T$54,1),INDEX($U$51:$U$54,SMALL(IF($T$51:$T$54=1,ROW(INDIRECT(\"1:\"&ROWS($T$51:$T$54)))),ROWS($1:2))),\"\"),IF(COUNTIF($T$51:$T$54,2)>1,IF(ROWS($1:2)<=COUNTIF($T$51:$T$54,2),INDEX($U$51:$U$54,SMALL(IF($T$51:$T$54=2,ROW(INDIRECT(\"1:\"&ROWS($T$51:$T$54)))),ROWS($1:2))),\"\")))","v":false}]
[null,{"$f":"IF(COUNTIF($T$51:$T$54,1)>1,IF(ROWS($1:3)<=COUNTIF($T$51:$T$54,1),INDEX($U$51:$U$54,SMALL(IF($T$51:$T$54=1,ROW(INDIRECT(\"1:\"&ROWS($T$51:$T$54)))),ROWS($1:3))),\"\"),IF(COUNTIF($T$51:$T$54,2)>1,IF(ROWS($1:3)<=COUNTIF($T$51:$T$54,2),INDEX($U$51:$U$54,SMALL(IF($T$51:$T$54=2,ROW(INDIRECT(\"1:\"&ROWS($T$51:$T$54)))),ROWS($1:3))),\"\")))","v":false}]
[null,{"$f":"IF(COUNTIF($T$51:$T$54,1)>1,IF(ROWS($1:4)<=COUNTIF($T$51:$T$54,1),INDEX($U$51:$U$54,SMALL(IF($T$51:$T$54=1,ROW(INDIRECT(\"1:\"&ROWS($T$51:$T$54)))),ROWS($1:4))),\"\"),IF(COUNTIF($T$51:$T$54,2)>1,IF(ROWS($1:4)<=COUNTIF($T$51:$T$54,2),INDEX($U$51:$U$54,SMALL(IF($T$51:$T$54=2,ROW(INDIRECT(\"1:\"&ROWS($T$51:$T$54)))),ROWS($1:4))),\"\")))","v":false}]

{"sheet":"Groger","index":11,"n_rows":138,"n_cols":46,"rows_kept":138,"cut":false,"hidden":false,"merged":[[2,1,2,8],[3,1,3,8],[3,9,3,12]]}
[]
[null,"Pronostics de :"]
[]
[null,{"$f":"MID(CELL(\"filename\",A1),FIND(\"]\",CELL(\"filename\",A1))+1,32)","v":"Groger"}]
[]
[null,"SAISIE DES PRONOSTICS",null,null,null,null,null,null,null,null,null,null,null,null,null,null,null,null,null,"GROUPES",null,null,null,null,null,null,null,null,null,null,null,null,"SCORE PRONOSTIQUEUR",null,null,null,null,null,null,null,null,{"$f":"AN8+AN12","v":2}]
[null,"Date","Heure","Match","Groupe",1,"N",2,null,"Buts",null,null,"Buts"]
[null,{"$f":"VLOOKUP($D8,TABLEAU_MATCHS[#All],2,FALSE)","v":"2018-06-14"},{"$f":"VLOOKUP($D8,TABLEAU_MATCHS[#All],3,FALSE)","v":"17:00:00"},1,{"$f":"\"Groupe \"&VLOOKUP($I8,TABLEAU_TEAMS[[#All],[TEAM]:[GROUP_INITIAL_RANK]],2,FALSE)","v":"Groupe A"},1.3,4.3,10,{"$f":"VLOOKUP($D8,TABLEAU_MATCHS[#All],4,FALSE)","v":"Russie"},1,null,{"$f":"VLOOKUP($D8,TABLEAU_MATCHS[#All],5,FALSE)","v":"Arabie Saoudite"},0,{"$f":"IF(OR(ISBLANK(RESULTATS!J8),ISBLANK(J8)),\"\",IF(AND(Groger!J8=RESULTATS!J8,Groger!M8=RESULTATS!M8),3,IF(OR(AND(Groger!J8>Groger!M8,RESULTATS!J8>RESULTATS!M8),AND(Groger!J8<Groger!M8,RESULTATS!J8<RESULTATS!M8),AND(Groger!J8=Groger!M8,RESULTATS!J8=RESULTATS!M8)),1,0)))","v":1},null,null,null,null,null,"Rg","Groupe A","MJ","G","N","P","BP","BC","+/-","Pts",null,null,null,"Phases de groupes",null,null,null,null,null,null,{"$f":"N56","v":2},null,"points"]
[null,{"$f":"VLOOKUP($D9,TABLEAU_MATCHS[#All],2,FALSE)","v":"2018-06-15"},{"$f":"VLOOKUP($D9,TABLEAU_MATCHS[#All],3,FALSE)","v":"14:00:00"},2,{"$f":"\"Groupe \"&VLOOKUP($I9,TABLEAU_TEAMS[[#All],[TEAM]:[GROUP_INITIAL_RANK]],2,FALSE)","v":"Groupe A"},2.2000000000000002,2.9,3.25,{"$f":"VLOOKUP($D9,TABLEAU_MATCHS[#All],4,FALSE)","v":"Egypte"},1,null,{"$f":"VLOOKUP($D9,TABLEAU_MATCHS[#All],5,FALSE)","v":"Uruguay"},2,{"$f":"IF(OR(ISBLANK(RESULTATS!J9),ISBLANK(J9)),\"\",IF(AND(Groger!J9=RESULTATS!J9,Groger!M9=RESULTATS!M9),3,IF(OR(AND(Groger!J9>Groger!M9,RESULTATS!J9>RESULTATS!M9),AND(Groger!J9<Groger!M9,RESULTATS!J9<RESULTATS!M9),AND(Groger!J9=Groger!M9,RESULTATS!J9=RESULTATS!M9)),1,0)))","v":1},null,null,null,{"$f":"INDEX($R60:$R63,MATCH(SMALL(COUNTIF($R60:$R63,\">=\"&$R60:$R63),ROW(INDIRECT(\"1:\"&ROWS($R60:$R63)))),COUNTIF($R60:$R63,\">=\"&$R60:$R63),0))","v":"09570Uruguay"},{"$f":"INDEX($S60:$S63,MATCH(SMALL(COUNTIF($R60:$R63,\">=\"&$R60:$R63),ROW(INDIRECT(\"1:\"&ROWS($R60:$R63)))),COUNTIF($R60:$R63,\">=\"&$R60:$R63),0))","v":9570},{"$f":"INDEX($T60:$T63,MATCH(SMALL(COUNTIF($R60:$R63,\">=\"&$R60:$R63),ROW(INDIRECT(\"1:\"&ROWS($R60:$R63)))),COUNTIF($R60:$R63,\">=\"&$R60:$R63),0))","v":1},{"$f":"INDEX($U60:$U63,MATCH(SMALL(COUNTIF($R60:$R63,\">=\"&$R60:$R63),ROW(INDIRECT(\"1:\"&ROWS($R60:$R63)))),COUNTIF($R60:$R63,\">=\"&$R60:$R63),0))","v":"Uruguay"},{"$f":"SUMPRODUCT((Teams1=U9)*(Teams1_Score<>\"\"))+SUMPRODUCT((Teams2=U9)*(Teams2_Score<>\"\"))","v":3},{"$f":"SUMPRODUCT((Teams1=U9)*(Teams1_Score>Teams2_Score))+SUMPRODUCT((Teams2=U9)*(Teams2_Score>Teams1_Score))","v":3},{"$f":"SUMPRODUCT((Teams1=U9)*(Teams1_Score=Teams2_Score)*(Teams1_Score<>\"\"))+SUMPRODUCT((Teams2=U9)*(Teams2_Score=Teams1_Score)*(Teams2_Score<>\"\"))","v":0},{"$f":"SUMPRODUCT((Teams1=U9)*(Teams1_Score<Teams2_Score))+SUMPRODUCT((Teams2=U9)*(Teams2_Score<Teams1_Score))","v":0},{"$f":"SUMPRODUCT((Teams1=U9)*(Teams1_Score))+SUMPRODUCT((Teams2=U9)*(Teams2_Score))","v":7},{"$f":"SUMPRODUCT((Teams1=U9)*(Teams2_Score))+SUMPRODUCT((Teams2=U9)*(Teams1_Score))","v":2},{"$f":"Z9-AA9","v":5},{"$f":"3*W9+X9","v":9},null,null,null,"Vainqueur ou nul trouvé (1 pt)",null,null,{"$f":"COUNTIF($N$8:$N$55,1)+COUNTIF($N$8:$N$55,3)","v":2},"matchs",null,null,{"$f":"AJ9","v":2},null,"points"]
[null,{"$f":"VLOOKUP($D10,TABLEAU_MATCHS[#All],2,FALSE)","v":"2018-06-15"},{"$f":"VLOOKUP($D10,TABLEAU_MATCHS[#All],3,FALSE)","v":"17:00:00"},3,{"$f":"\"Groupe \"&VLOOKUP($I10,TABLEAU_TEAMS[[#All],[TEAM]:[GROUP_INITIAL_RANK]],2,FALSE)","v":"Groupe B"},1.8,3.05,4.5,{"$f":"VLOOKUP($D10,TABLEAU_MATCHS[#All],4,FALSE)","v":"Maroc"},2,null,{"$f":"VLOOKUP($D10,TABLEAU_MATCHS[#All],5,FALSE)","v":"RI Iran"},0,{"$f":"IF(OR(ISBLANK(RESULTATS!J10),ISBLANK(J10)),\"\",IF(AND(Groger!J10=RESULTATS!J10,Groger!M10=RESULTATS!M10),3,IF(OR(AND(Groger!J10>Groger!M10,RESULTATS!J10>RESULTATS!M10),AND(Groger!J10<Groger!M10,RESULTATS!J10<RESULTATS!M10),AND(Groger!J10=Groger!M10,RESULTATS!J10=RESULTATS!M10)),1,0)))","v":0},null,null,null,"06150Russie",6150,2,"Russie",{"$f":"SUMPRODUCT((Teams1=U10)*(Teams1_Score<>\"\"))+SUMPRODUCT((Teams2=U10)*(Teams2_Score<>\"\"))","v":3},{"$f":"SUMPRODUCT((Teams1=U10)*(Teams1_Score>Teams2_Score))+SUMPRODUCT((Teams2=U10)*(Teams2_Score>Teams1_Score))","v":2},{"$f":"SUMPRODUCT((Teams1=U10)*(Teams1_Score=Teams2_Score)*(Teams1_Score<>\"\"))+SUMPRODUCT((Teams2=U10)*(Teams2_Score=Teams1_Score)*(Teams2_Score<>\"\"))","v":0},{"$f":"SUMPRODUCT((Teams1=U10)*(Teams1_Score<Teams2_Score))+SUMPRODUCT((Teams2=U10)*(Teams2_Score<Teams1_Score))","v":1},{"$f":"SUMPRODUCT((Teams1=U10)*(Teams1_Score))+SUMPRODUCT((Teams2=U10)*(Teams2_Score))","v":5},{"$f":"SUMPRODUCT((Teams1=U10)*(Teams2_Score))+SUMPRODUCT((Teams2=U10)*(Teams1_Score))","v":4},{"$f":"Z10-AA10","v":1},{"$f":"3*W10+X10","v":6},null,null,null,"Bonus score exact (2 pts)",null,null,{"$f":"+COUNTIF($N$8:$N$55,3)","v":0},"matchs",null,null,{"$f":"AJ10*2","v":0},null,"points"]
[null,{"$f":"VLOOKUP($D11,TABLEAU_MATCHS[#All],2,FALSE)","v":"2018-06-15"},{"$f":"VLOOKUP($D11,TABLEAU_MATCHS[#All],3,FALSE)","v":"20:00:00"},4,{"$f":"\"Groupe \"&VLOOKUP($I11,TABLEAU_TEAMS[[#All],[TEAM]:[GROUP_INITIAL_RANK]],2,FALSE)","v":"Groupe B"},1.42,3.9,7,{"$f":"VLOOKUP($D11,TABLEAU_MATCHS[#All],4,FALSE)","v":"Portugal"},1,null,{"$f":"VLOOKUP($D11,TABLEAU_MATCHS[#All],5,FALSE)","v":"Espagne"},3,{"$f":"IF(OR(ISBLANK(RESULTATS!J11),ISBLANK(J11)),\"\",IF(AND(Groger!J11=RESULTATS!J11,Groger!M11=RESULTATS!M11),3,IF(OR(AND(Groger!J11>Groger!M11,RESULTATS!J11>RESULTATS!M11),AND(Groger!J11<Groger!M11,RESULTATS!J11<RESULTATS!M11),AND(Groger!J11=Groger!M11,RESULTATS!J11=RESULTATS!M11)),1,0)))","v":0},null,null,null,"02950Egypte",2950,3,"Egypte",{"$f":"SUMPRODUCT((Teams1=U11)*(Teams1_Score<>\"\"))+SUMPRODUCT((Teams2=U11)*(Teams2_Score<>\"\"))","v":3},{"$f":"SUMPRODUCT((Teams1=U11)*(Teams1_Score>Teams2_Score))+SUMPRODUCT((Teams2=U11)*(Teams2_Score>Teams1_Score))","v":1},{"$f":"SUMPRODUCT((Teams1=U11)*(Teams1_Score=Teams2_Score)*(Teams1_Score<>\"\"))+SUMPRODUCT((Teams2=U11)*(Teams2_Score=Teams1_Score)*(Teams2_Score<>\"\"))","v":0},{"$f":"SUMPRODUCT((Teams1=U11)*(Teams1_Score<Teams2_Score))+SUMPRODUCT((Teams2=U11)*(Teams2_Score<Teams1_Score))","v":2},{"$f":"SUMPRODUCT((Teams1=U11)*(Teams1_Score))+SUMPRODUCT((Teams2=U11)*(Teams2_Score))","v":5},{"$f":"SUMPRODUCT((Teams1=U11)*(Teams2_Score))+SUMPRODUCT((Teams2=U11)*(Teams1_Score))","v":6},{"$f":"Z11-AA11","v":-1},{"$f":"3*W11+X11","v":3}]
[null,{"$f":"VLOOKUP($D12,TABLEAU_MATCHS[#All],2,FALSE)","v":"2018-06-16"},{"$f":"VLOOKUP($D12,TABLEAU_MATCHS[#All],3,FALSE)","v":"12:00:00"},5,{"$f":"\"Groupe \"&VLOOKUP($I12,TABLEAU_TEAMS[[#All],[TEAM]:[GROUP_INITIAL_RANK]],2,FALSE)","v":"Groupe C"},1.7,3.1,5,{"$f":"VLOOKUP($D12,TABLEAU_MATCHS[#All],4,FALSE)","v":"France"},3,null,{"$f":"VLOOKUP($D12,TABLEAU_MATCHS[#All],5,FALSE)","v":"Australie"},0,{"$f":"IF(OR(ISBLANK(RESULTATS!J12),ISBLANK(J12)),\"\",IF(AND(Groger!J12=RESULTATS!J12,Groger!M12=RESULTATS!M12),3,IF(OR(AND(Groger!J12>Groger!M12,RESULTATS!J12>RESULTATS!M12),AND(Groger!J12<Groger!M12,RESULTATS!J12<RESULTATS!M12),AND(Groger!J12=Groger!M12,RESULTATS!J12=RESULTATS!M12)),1,0)))","v":""},null,null,null,"-00490Arabie Saoudite",-490,4,"Arabie Saoudite",{"$f":"SUMPRODUCT((Teams1=U12)*(Teams1_Score<>\"\"))+SUMPRODUCT((Teams2=U12)*(Teams2_Score<>\"\"))","v":3},{"$f":"SUMPRODUCT((Teams1=U12)*(Teams1_Score>Teams2_Score))+SUMPRODUCT((Teams2=U12)*(Teams2_Score>Teams1_Score))","v":0},{"$f":"SUMPRODUCT((Teams1=U12)*(Teams1_Score=Teams2_Score)*(Teams1_Score<>\"\"))+SUMPRODUCT((Teams2=U12)*(Teams2_Score=Teams1_Score)*(Teams2_Score<>\"\"))","v":0},{"$f":"SUMPRODUCT((Teams1=U12)*(Teams1_Score<Teams2_Score))+SUMPRODUCT((Teams2=U12)*(Teams2_Score<Teams1_Score))","v":3},{"$f":"SUMPRODUCT((Teams1=U12)*(Teams1_Score))+SUMPRODUCT((Teams2=U12)*(Teams2_Score))","v":1},{"$f":"SUMPRODUCT((Teams1=U12)*(Teams2_Score))+SUMPRODUCT((Teams2=U12)*(Teams1_Score))","v":6},{"$f":"Z12-AA12","v":-5},{"$f":"3*W12+X12","v":0},null,null,null,"Phases finales",null,null,null,null,null,null,{"$f":"SUM(AN13:AN17)","v":0},null,"points"]
[null,{"$f":"VLOOKUP($D13,TABLEAU_MATCHS[#All],2,FALSE)","v":"2018-06-16"},{"$f":"VLOOKUP($D13,TABLEAU_MATCHS[#All],3,FALSE)","v":"18:00:00"},6,{"$f":"\"Groupe \"&VLOOKUP($I13,TABLEAU_TEAMS[[#All],[TEAM]:[GROUP_INITIAL_RANK]],2,FALSE)","v":"Groupe C"},2.5499999999999998,2.9,2.7,{"$f":"VLOOKUP($D13,TABLEAU_MATCHS[#All],4,FALSE)","v":"Pérou"},2,null,{"$f":"VLOOKUP($D13,TABLEAU_MATCHS[#All],5,FALSE)","v":"Danemark"},1,{"$f":"IF(OR(ISBLANK(RESULTATS!J13),ISBLANK(J13)),\"\",IF(AND(Groger!J13=RESULTATS!J13,Groger!M13=RESULTATS!M13),3,IF(OR(AND(Groger!J13>Groger!M13,RESULTATS!J13>RESULTATS!M13),AND(Groger!J13<Groger!M13,RESULTATS!J13<RESULTATS!M13),AND(Groger!J13=Groger!M13,RESULTATS!J13=RESULTATS!M13)),1,0)))","v":""},null,null,null,null,null,null,null,null,null,null,null,null,null,null,null,null,null,null,"Huitièmes de finaliste trouvés (2 pts)",null,null,{"$f":"IF(CLASSEMENT!PHASES_FINALES=\"OUI\",$AK$53+$AQ$53,0)","v":0},"équipe(s) ",null,null,{"$f":"AJ13*2","v":0},null,"points"]
[null,{"$f":"VLOOKUP($D14,TABLEAU_MATCHS[#All],2,FALSE)","v":"2018-06-16"},{"$f":"VLOOKUP($D14,TABLEAU_MATCHS[#All],3,FALSE)","v":"15:00:00"},7,{"$f":"\"Groupe \"&VLOOKUP($I14,TABLEAU_TEAMS[[#All],[TEAM]:[GROUP_INITIAL_RANK]],2,FALSE)","v":"Groupe D"},1.4,4,7.25,{"$f":"VLOOKUP($D14,TABLEAU_MATCHS[#All],4,FALSE)","v":"Argentine"},4,null,{"$f":"VLOOKUP($D14,TABLEAU_MATCHS[#All],5,FALSE)","v":"Islande"},0,{"$f":"IF(OR(ISBLANK(RESULTATS!J14),ISBLANK(J14)),\"\",IF(AND(Groger!J14=RESULTATS!J14,Groger!M14=RESULTATS!M14),3,IF(OR(AND(Groger!J14>Groger!M14,RESULTATS!J14>RESULTATS!M14),AND(Groger!J14<Groger!M14,RESULTATS!J14<RESULTATS!M14),AND(Groger!J14=Groger!M14,RESULTATS!J14=RESULTATS!M14)),1,0)))","v":""},null,null,null,null,null,"Rg","Groupe B","MJ","G","N","P","BP","BC","+/-","Pts",null,null,null,"Quarts de finalistes trouvés (4 pts)",null,null,{"$f":"IF(CLASSEMENT!PHASES_FINALES=\"OUI\",$AK$42+$AQ$42,0)","v":0},"équipe(s) ",null,null,{"$f":"AJ14*4","v":0},null,"points"]
[null,{"$f":"VLOOKUP($D15,TABLEAU_MATCHS[#All],2,FALSE)","v":"2018-06-16"},{"$f":"VLOOKUP($D15,TABLEAU_MATCHS[#All],3,FALSE)","v":"21:00:00"},8,{"$f":"\"Groupe \"&VLOOKUP($I15,TABLEAU_TEAMS[[#All],[TEAM]:[GROUP_INITIAL_RANK]],2,FALSE)","v":"Groupe D"},2.95,2.7,2.5499999999999998,{"$f":"VLOOKUP($D15,TABLEAU_MATCHS[#All],4,FALSE)","v":"Croatie"},3,null,{"$f":"VLOOKUP($D15,TABLEAU_MATCHS[#All],5,FALSE)","v":"Nigeria"},1,{"$f":"IF(OR(ISBLANK(RESULTATS!J15),ISBLANK(J15)),\"\",IF(AND(Groger!J15=RESULTATS!J15,Groger!M15=RESULTATS!M15),3,IF(OR(AND(Groger!J15>Groger!M15,RESULTATS!J15>RESULTATS!M15),AND(Groger!J15<Groger!M15,RESULTATS!J15<RESULTATS!M15),AND(Groger!J15=Groger!M15,RESULTATS!J15=RESULTATS!M15)),1,0)))","v":""},null,null,null,{"$f":"INDEX($R66:$R69,MATCH(SMALL(COUNTIF($R66:$R69,\">=\"&$R66:$R69),ROW(INDIRECT(\"1:\"&ROWS($R66:$R69)))),COUNTIF($R66:$R69,\">=\"&$R66:$R69),0))","v":"09900Espagne"},{"$f":"INDEX($S66:$S69,MATCH(SMALL(COUNTIF($R66:$R69,\">=\"&$R66:$R69),ROW(INDIRECT(\"1:\"&ROWS($R66:$R69)))),COUNTIF($R66:$R69,\">=\"&$R66:$R69),0))","v":9900},{"$f":"INDEX($T66:$T69,MATCH(SMALL(COUNTIF($R66:$R69,\">=\"&$R66:$R69),ROW(INDIRECT(\"1:\"&ROWS($R66:$R69)))),COUNTIF($R66:$R69,\">=\"&$R66:$R69),0))","v":1},{"$f":"INDEX($U66:$U69,MATCH(SMALL(COUNTIF($R66:$R69,\">=\"&$R66:$R69),ROW(INDIRECT(\"1:\"&ROWS($R66:$R69)))),COUNTIF($R66:$R69,\">=\"&$R66:$R69),0))","v":"Espagne"},{"$f":"SUMPRODUCT((Teams1=U15)*(Teams1_Score<>\"\"))+SUMPRODUCT((Teams2=U15)*(Teams2_Score<>\"\"))","v":3},{"$f":"SUMPRODUCT((Teams1=U15)*(Teams1_Score>Teams2_Score))+SUMPRODUCT((Teams2=U15)*(Teams2_Score>Teams1_Score))","v":3},{"$f":"SUMPRODUCT((Teams1=U15)*(Teams1_Score=Teams2_Score)*(Teams1_Score<>\"\"))+SUMPRODUCT((Teams2=U15)*(Teams2_Score=Teams1_Score)*(Teams2_Score<>\"\"))","v":0},{"$f":"SUMPRODUCT((Teams1=U15)*(Teams1_Score<Teams2_Score))+SUMPRODUCT((Teams2=U15)*(Teams2_Score<Teams1_Score))","v":0},{"$f":"SUMPRODUCT((Teams1=U15)*(Teams1_Score))+SUMPRODUCT((Teams2=U15)*(Teams2_Score))","v":10},{"$f":"SUMPRODUCT((Teams1=U15)*(Teams2_Score))+SUMPRODUCT((Teams2=U15)*(Teams1_Score))","v":2},{"$f":"Z15-AA15","v":8},{"$f":"3*W15+X15","v":9},null,null,null,"Demi finalistes trouvés (5 pts)",null,null,{"$f":"IF(CLASSEMENT!PHASES_FINALES=\"OUI\",$AK$35+$AQ$35,0)","v":0},"équipe(s) ",null,null,{"$f":"AJ15*5","v":0},null,"points"]
[null,{"$f":"VLOOKUP($D16,TABLEAU_MATCHS[#All],2,FALSE)","v":"2018-06-17"},{"$f":"VLOOKUP($D16,TABLEAU_MATCHS[#All],3,FALSE)","v":"14:00:00"},9,{"$f":"\"Groupe \"&VLOOKUP($I16,TABLEAU_TEAMS[[#All],[TEAM]:[GROUP_INITIAL_RANK]],2,FALSE)","v":"Groupe E"},2.35,2.9,2.95,{"$f":"VLOOKUP($D16,TABLEAU_MATCHS[#All],4,FALSE)","v":"Costa Rica"},1,null,{"$f":"VLOOKUP($D16,TABLEAU_MATCHS[#All],5,FALSE)","v":"Serbie"},2,{"$f":"IF(OR(ISBLANK(RESULTATS!J16),ISBLANK(J16)),\"\",IF(AND(Groger!J16=RESULTATS!J16,Groger!M16=RESULTATS!M16),3,IF(OR(AND(Groger!J16>Groger!M16,RESULTATS!J16>RESULTATS!M16),AND(Groger!J16<Groger!M16,RESULTATS!J16<RESULTATS!M16),AND(Groger!J16=Groger!M16,RESULTATS!J16=RESULTATS!M16)),1,0)))","v":""},null,null,null,"06580Portugal",6580,2,"Portugal",{"$f":"SUMPRODUCT((Teams1=U16)*(Teams1_Score<>\"\"))+SUMPRODUCT((Teams2=U16)*(Teams2_Score<>\"\"))","v":3},{"$f":"SUMPRODUCT((Teams1=U16)*(Teams1_Score>Teams2_Score))+SUMPRODUCT((Teams2=U16)*(Teams2_Score>Teams1_Score))","v":2},{"$f":"SUMPRODUCT((Teams1=U16)*(Teams1_Score=Teams2_Score)*(Teams1_Score<>\"\"))+SUMPRODUCT((Teams2=U16)*(Teams2_Score=Teams1_Score)*(Teams2_Score<>\"\"))","v":0},{"$f":"SUMPRODUCT((Teams1=U16)*(Teams1_Score<Teams2_Score))+SUMPRODUCT((Teams2=U16)*(Teams2_Score<Teams1_Score))","v":1},{"$f":"SUMPRODUCT((Teams1=U16)*(Teams1_Score))+SUMPRODUCT((Teams2=U16)*(Teams2_Score))","v":8},{"$f":"SUMPRODUCT((Teams1=U16)*(Teams2_Score))+SUMPRODUCT((Teams2=U16)*(Teams1_Score))","v":3},{"$f":"Z16-AA16","v":5},{"$f":"3*W16+X16","v":6},null,null,null,"Finalistes trouvés (6 pts)",null,null,{"$f":"IF(CLASSEMENT!PHASES_FINALES=\"OUI\",$AK$25+$AQ$25,0)","v":0},"équipe(s) ",null,null,{"$f":"AJ16*6","v":0},null,"points"]
[null,{"$f":"VLOOKUP($D17,TABLEAU_MATCHS[#All],2,FALSE)","v":"2018-06-17"},{"$f":"VLOOKUP($D17,TABLEAU_MATCHS[#All],3,FALSE)","v":"20:00:00"},10,{"$f":"\"Groupe \"&VLOOKUP($I17,TABLEAU_TEAMS[[#All],[TEAM]:[GROUP_INITIAL_RANK]],2,FALSE)","v":"Groupe E"},1.28,4.7,9.5,{"$f":"VLOOKUP($D17,TABLEAU_MATCHS[#All],4,FALSE)","v":"Brésil"},4,null,{"$f":"VLOOKUP($D17,TABLEAU_MATCHS[#All],5,FALSE)","v":"Suisse"},0,{"$f":"IF(OR(ISBLANK(RESULTATS!J17),ISBLANK(J17)),\"\",IF(AND(Groger!J17=RESULTATS!J17,Groger!M17=RESULTATS!M17),3,IF(OR(AND(Groger!J17>Groger!M17,RESULTATS!J17>RESULTATS!M17),AND(Groger!J17<Groger!M17,RESULTATS!J17<RESULTATS!M17),AND(Groger!J17=Groger!M17,RESULTATS!J17=RESULTATS!M17)),1,0)))","v":""},null,null,null,"02830Maroc",2830,3,"Maroc",{"$f":"SUMPRODUCT((Teams1=U17)*(Teams1_Score<>\"\"))+SUMPRODUCT((Teams2=U17)*(Teams2_Score<>\"\"))","v":3},{"$f":"SUMPRODUCT((Teams1=U17)*(Teams1_Score>Teams2_Score))+SUMPRODUCT((Teams2=U17)*(Teams2_Score>Teams1_Score))","v":1},{"$f":"SUMPRODUCT((Teams1=U17)*(Teams1_Score=Teams2_Score)*(Teams1_Score<>\"\"))+SUMPRODUCT((Teams2=U17)*(Teams2_Score=Teams1_Score)*(Teams2_Score<>\"\"))","v":0},{"$f":"SUMPRODUCT((Teams1=U17)*(Teams1_Score<Teams2_Score))+SUMPRODUCT((Teams2=U17)*(Teams2_Score<Teams1_Score))","v":2},{"$f":"SUMPRODUCT((Teams1=U17)*(Teams1_Score))+SUMPRODUCT((Teams2=U17)*(Teams2_Score))","v":3},{"$f":"SUMPRODUCT((Teams1=U17)*(Teams2_Score))+SUMPRODUCT((Teams2=U17)*(Teams1_Score))","v":5},{"$f":"Z17-AA17","v":-2},{"$f":"3*W17+X17","v":3},null,null,null,"Champion du monde trouvé (7 pts)",null,null,{"$f":"IF(CLASSEMENT!PHASES_FINALES=\"OUI\",IF(AJ25<>\"\",IF($AT$25=RESULTATS!AS10,1,0),0),0)","v":0},"équipe",null,null,{"$f":"AJ17*7","v":0},null,"points"]
[null,{"$f":"VLOOKUP($D18,TABLEAU_MATCHS[#All],2,FALSE)","v":"2018-06-17"},{"$f":"VLOOKUP($D18,TABLEAU_MATCHS[#All],3,FALSE)","v":"17:00:00"},11,{"$f":"\"Groupe \"&VLOOKUP($I18,TABLEAU_TEAMS[[#All],[TEAM]:[GROUP_INITIAL_RANK]],2,FALSE)","v":"Groupe F"},1.34,4.3,7.5,{"$f":"VLOOKUP($D18,TABLEAU_MATCHS[#All],4,FALSE)","v":"Allemagne"},3,null,{"$f":"VLOOKUP($D18,TABLEAU_MATCHS[#All],5,FALSE)","v":"Mexique"},1,{"$f":"IF(OR(ISBLANK(RESULTATS!J18),ISBLANK(J18)),\"\",IF(AND(Groger!J18=RESULTATS!J18,Groger!M18=RESULTATS!M18),3,IF(OR(AND(Groger!J18>Groger!M18,RESULTATS!J18>RESULTATS!M18),AND(Groger!J18<Groger!M18,RESULTATS!J18<RESULTATS!M18),AND(Groger!J18=Groger!M18,RESULTATS!J18=RESULTATS!M18)),1,0)))","v":""},null,null,null,"-01100RI Iran",-1100,4,"RI Iran",{"$f":"SUMPRODUCT((Teams1=U18)*(Teams1_Score<>\"\"))+SUMPRODUCT((Teams2=U18)*(Teams2_Score<>\"\"))","v":3},{"$f":"SUMPRODUCT((Teams1=U18)*(Teams1_Score>Teams2_Score))+SUMPRODUCT((Teams2=U18)*(Teams2_Score>Teams1_Score))","v":0},{"$f":"SUMPRODUCT((Teams1=U18)*(Teams1_Score=Teams2_Score)*(Teams1_Score<>\"\"))+SUMPRODUCT((Teams2=U18)*(Teams2_Score=Teams1_Score)*(Teams2_Score<>\"\"))","v":0},{"$f":"SUMPRODUCT((Teams1=U18)*(Teams1_Score<Teams2_Score))+SUMPRODUCT((Teams2=U18)*(Teams2_Score<Teams1_Score))","v":3},{"$f":"SUMPRODUCT((Teams1=U18)*(Teams1_Score))+SUMPRODUCT((Teams2=U18)*(Teams2_Score))","v":0},{"$f":"SUMPRODUCT((Teams1=U18)*(Teams2_Score))+SUMPRODUCT((Teams2=U18)*(Teams1_Score))","v":11},{"$f":"Z18-AA18","v":-11},{"$f":"3*W18+X18","v":0}]
[null,{"$f":"VLOOKUP($D19,TABLEAU_MATCHS[#All],2,FALSE)","v":"2018-06-18"},{"$f":"VLOOKUP($D19,TABLEAU_MATCHS[#All],3,FALSE)","v":"14:00:00"},12,{"$f":"\"Groupe \"&VLOOKUP($I19,TABLEAU_TEAMS[[#All],[TEAM]:[GROUP_INITIAL_RANK]],2,FALSE)","v":"Groupe F"},3.3,2.95,2.15,{"$f":"VLOOKUP($D19,TABLEAU_MATCHS[#All],4,FALSE)","v":"Suède"},2,null,{"$f":"VLOOKUP($D19,TABLEAU_MATCHS[#All],5,FALSE)","v":"République de Corée"},1,{"$f":"IF(OR(ISBLANK(RESULTATS!J19),ISBLANK(J19)),\"\",IF(AND(Groger!J19=RESULTATS!J19,Groger!M19=RESULTATS!M19),3,IF(OR(AND(Groger!J19>Groger!M19,RESULTATS!J19>RESULTATS!M19),AND(Groger!J19<Groger!M19,RESULTATS!J19<RESULTATS!M19),AND(Groger!J19=Groger!M19,RESULTATS!J19=RESULTATS!M19)),1,0)))","v":""}]
[null,{"$f":"VLOOKUP($D20,TABLEAU_MATCHS[#All],2,FALSE)","v":"2018-06-18"},{"$f":"VLOOKUP($D20,TABLEAU_MATCHS[#All],3,FALSE)","v":"17:00:00"},13,{"$f":"\"Groupe \"&VLOOKUP($I20,TABLEAU_TEAMS[[#All],[TEAM]:[GROUP_INITIAL_RANK]],2,FALSE)","v":"Groupe G"},1.95,2.95,4,{"$f":"VLOOKUP($D20,TABLEAU_MATCHS[#All],4,FALSE)","v":"Belgique"},3,null,{"$f":"VLOOKUP($D20,TABLEAU_MATCHS[#All],5,FALSE)","v":"Panama"},1,{"$f":"IF(OR(ISBLANK(RESULTATS!J20),ISBLANK(J20)),\"\",IF(AND(Groger!J20=RESULTATS!J20,Groger!M20=RESULTATS!M20),3,IF(OR(AND(Groger!J20>Groger!M20,RESULTATS!J20>RESULTATS!M20),AND(Groger!J20<Groger!M20,RESULTATS!J20<RESULTATS!M20),AND(Groger!J20=Groger!M20,RESULTATS!J20=RESULTATS!M20)),1,0)))","v":""},null,null,null,null,null,"Rg","Groupe C","MJ","G","N","P","BP","BC","+/-","Pts"]
[null,{"$f":"VLOOKUP($D21,TABLEAU_MATCHS[#All],2,FALSE)","v":"2018-06-18"},{"$f":"VLOOKUP($D21,TABLEAU_MATCHS[#All],3,FALSE)","v":"20:00:00"},14,{"$f":"\"Groupe \"&VLOOKUP($I21,TABLEAU_TEAMS[[#All],[TEAM]:[GROUP_INITIAL_RANK]],2,FALSE)","v":"Groupe G"},2.5499999999999998,2.9,2.7,{"$f":"VLOOKUP($D21,TABLEAU_MATCHS[#All],4,FALSE)","v":"Tunisie"},2,null,{"$f":"VLOOKUP($D21,TABLEAU_MATCHS[#All],5,FALSE)","v":"Angleterre"},2,{"$f":"IF(OR(ISBLANK(RESULTATS!J21),ISBLANK(J21)),\"\",IF(AND(Groger!J21=RESULTATS!J21,Groger!M21=RESULTATS!M21),3,IF(OR(AND(Groger!J21>Groger!M21,RESULTATS!J21>RESULTATS!M21),AND(Groger!J21<Groger!M21,RESULTATS!J21<RESULTATS!M21),AND(Groger!J21=Groger!M21,RESULTATS!J21=RESULTATS!M21)),1,0)))","v":""},null,null,null,{"$f":"INDEX($R72:$R75,MATCH(SMALL(COUNTIF($R72:$R75,\">=\"&$R72:$R75),ROW(INDIRECT(\"1:\"&ROWS($R72:$R75)))),COUNTIF($R72:$R75,\">=\"&$R72:$R75),0))","v":"09680France"},{"$f":"INDEX($S72:$S75,MATCH(SMALL(COUNTIF($R72:$R75,\">=\"&$R72:$R75),ROW(INDIRECT(\"1:\"&ROWS($R72:$R75)))),COUNTIF($R72:$R75,\">=\"&$R72:$R75),0))","v":9680},{"$f":"INDEX($T72:$T75,MATCH(SMALL(COUNTIF($R72:$R75,\">=\"&$R72:$R75),ROW(INDIRECT(\"1:\"&ROWS($R72:$R75)))),COUNTIF($R72:$R75,\">=\"&$R72:$R75),0))","v":1},{"$f":"INDEX($U72:$U75,MATCH(SMALL(COUNTIF($R72:$R75,\">=\"&$R72:$R75),ROW(INDIRECT(\"1:\"&ROWS($R72:$R75)))),COUNTIF($R72:$R75,\">=\"&$R72:$R75),0))","v":"France"},{"$f":"SUMPRODUCT((Teams1=U21)*(Teams1_Score<>\"\"))+SUMPRODUCT((Teams2=U21)*(Teams2_Score<>\"\"))","v":3},{"$f":"SUMPRODUCT((Teams1=U21)*(Teams1_Score>Teams2_Score))+SUMPRODUCT((Teams2=U21)*(Teams2_Score>Teams1_Score))","v":3},{"$f":"SUMPRODUCT((Teams1=U21)*(Teams1_Score=Teams2_Score)*(Teams1_Score<>\"\"))+SUMPRODUCT((Teams2=U21)*(Teams2_Score=Teams1_Score)*(Teams2_Score<>\"\"))","v":0},{"$f":"SUMPRODUCT((Teams1=U21)*(Teams1_Score<Teams2_Score))+SUMPRODUCT((Teams2=U21)*(Teams2_Score<Teams1_Score))","v":0},{"$f":"SUMPRODUCT((Teams1=U21)*(Teams1_Score))+SUMPRODUCT((Teams2=U21)*(Teams2_Score))","v":8},{"$f":"SUMPRODUCT((Teams1=U21)*(Teams2_Score))+SUMPRODUCT((Teams2=U21)*(Teams1_Score))","v":2},{"$f":"Z21-AA21","v":6},{"$f":"3*W21+X21","v":9},null,null,null,"PHASES FINALES"]
[null,{"$f":"VLOOKUP($D22,TABLEAU_MATCHS[#All],2,FALSE)","v":"2018-06-19"},{"$f":"VLOOKUP($D22,TABLEAU_MATCHS[#All],3,FALSE)","v":"17:00:00"},15,{"$f":"\"Groupe \"&VLOOKUP($I22,TABLEAU_TEAMS[[#All],[TEAM]:[GROUP_INITIAL_RANK]],2,FALSE)","v":"Groupe H"},1.38,3.9,8,{"$f":"VLOOKUP($D22,TABLEAU_MATCHS[#All],4,FALSE)","v":"Colombie"},1,null,{"$f":"VLOOKUP($D22,TABLEAU_MATCHS[#All],5,FALSE)","v":"Japon"},1,{"$f":"IF(OR(ISBLANK(RESULTATS!J22),ISBLANK(J22)),\"\",IF(AND(Groger!J22=RESULTATS!J22,Groger!M22=RESULTATS!M22),3,IF(OR(AND(Groger!J22>Groger!M22,RESULTATS!J22>RESULTATS!M22),AND(Groger!J22<Groger!M22,RESULTATS!J22<RESULTATS!M22),AND(Groger!J22=Groger!M22,RESULTATS!J22=RESULTATS!M22)),1,0)))","v":""},null,null,null,"06160Pérou",6160,2,"Pérou",{"$f":"SUMPRODUCT((Teams1=U22)*(Teams1_Score<>\"\"))+SUMPRODUCT((Teams2=U22)*(Teams2_Score<>\"\"))","v":3},{"$f":"SUMPRODUCT((Teams1=U22)*(Teams1_Score>Teams2_Score))+SUMPRODUCT((Teams2=U22)*(Teams2_Score>Teams1_Score))","v":2},{"$f":"SUMPRODUCT((Teams1=U22)*(Teams1_Score=Teams2_Score)*(Teams1_Score<>\"\"))+SUMPRODUCT((Teams2=U22)*(Teams2_Score=Teams1_Score)*(Teams2_Score<>\"\"))","v":0},{"$f":"SUMPRODUCT((Teams1=U22)*(Teams1_Score<Teams2_Score))+SUMPRODUCT((Teams2=U22)*(Teams2_Score<Teams1_Score))","v":1},{"$f":"SUMPRODUCT((Teams1=U22)*(Teams1_Score))+SUMPRODUCT((Teams2=U22)*(Teams2_Score))","v":6},{"$f":"SUMPRODUCT((Teams1=U22)*(Teams2_Score))+SUMPRODUCT((Teams2=U22)*(Teams1_Score))","v":5},{"$f":"Z22-AA22","v":1},{"$f":"3*W22+X22","v":6}]
[null,{"$f":"VLOOKUP($D23,TABLEAU_MATCHS[#All],2,FALSE)","v":"2018-06-19"},{"$f":"VLOOKUP($D23,TABLEAU_MATCHS[#All],3,FALSE)","v":"14:00:00"},16,{"$f":"\"Groupe \"&VLOOKUP($I23,TABLEAU_TEAMS[[#All],[TEAM]:[GROUP_INITIAL_RANK]],2,FALSE)","v":"Groupe H"},2.0499999999999998,2.9,3.5,{"$f":"VLOOKUP($D23,TABLEAU_MATCHS[#All],4,FALSE)","v":"Pologne"},1,null,{"$f":"VLOOKUP($D23,TABLEAU_MATCHS[#All],5,FALSE)","v":"Sénégal"},2,{"$f":"IF(OR(ISBLANK(RESULTATS!J23),ISBLANK(J23)),\"\",IF(AND(Groger!J23=RESULTATS!J23,Groger!M23=RESULTATS!M23),3,IF(OR(AND(Groger!J23>Groger!M23,RESULTATS!J23>RESULTATS!M23),AND(Groger!J23<Groger!M23,RESULTATS!J23<RESULTATS!M23),AND(Groger!J23=Groger!M23,RESULTATS!J23=RESULTATS!M23)),1,0)))","v":""},null,null,null,"03040Danemark",3040,3,"Danemark",{"$f":"SUMPRODUCT((Teams1=U23)*(Teams1_Score<>\"\"))+SUMPRODUCT((Teams2=U23)*(Teams2_Score<>\"\"))","v":3},{"$f":"SUMPRODUCT((Teams1=U23)*(Teams1_Score>Teams2_Score))+SUMPRODUCT((Teams2=U23)*(Teams2_Score>Teams1_Score))","v":1},{"$f":"SUMPRODUCT((Teams1=U23)*(Teams1_Score=Teams2_Score)*(Teams1_Score<>\"\"))+SUMPRODUCT((Teams2=U23)*(Teams2_Score=Teams1_Score)*(Teams2_Score<>\"\"))","v":0},{"$f":"SUMPRODUCT((Teams1=U23)*(Teams1_Score<Teams2_Score))+SUMPRODUCT((Teams2=U23)*(Teams2_Score<Teams1_Score))","v":2},{"$f":"SUMPRODUCT((Teams1=U23)*(Teams1_Score))+SUMPRODUCT((Teams2=U23)*(Teams2_Score))","v":4},{"$f":"SUMPRODUCT((Teams1=U23)*(Teams2_Score))+SUMPRODUCT((Teams2=U23)*(Teams1_Score))","v":4},{"$f":"Z23-AA23","v":0},{"$f":"3*W23+X23","v":3},null,null,"Date","Finale",null,null,"Buts",null,"Pen",null,null,null,"Buts",null,"Pen"]
[null,{"$f":"VLOOKUP($D24,TABLEAU_MATCHS[#All],2,FALSE)","v":"2018-06-19"},{"$f":"VLOOKUP($D24,TABLEAU_MATCHS[#All],3,FALSE)","v":"20:00:00"},17,{"$f":"\"Groupe \"&VLOOKUP($I24,TABLEAU_TEAMS[[#All],[TEAM]:[GROUP_INITIAL_RANK]],2,FALSE)","v":"Groupe A"},1.26,4.8,9,{"$f":"VLOOKUP($D24,TABLEAU_MATCHS[#All],4,FALSE)","v":"Russie"},3,null,{"$f":"VLOOKUP($D24,TABLEAU_MATCHS[#All],5,FALSE)","v":"Egypte"},2,{"$f":"IF(OR(ISBLANK(RESULTATS!J24),ISBLANK(J24)),\"\",IF(AND(Groger!J24=RESULTATS!J24,Groger!M24=RESULTATS!M24),3,IF(OR(AND(Groger!J24>Groger!M24,RESULTATS!J24>RESULTATS!M24),AND(Groger!J24<Groger!M24,RESULTATS!J24<RESULTATS!M24),AND(Groger!J24=Groger!M24,RESULTATS!J24=RESULTATS!M24)),1,0)))","v":""},null,null,null,"-00690Australie",-690,4,"Australie",{"$f":"SUMPRODUCT((Teams1=U24)*(Teams1_Score<>\"\"))+SUMPRODUCT((Teams2=U24)*(Teams2_Score<>\"\"))","v":3},{"$f":"SUMPRODUCT((Teams1=U24)*(Teams1_Score>Teams2_Score))+SUMPRODUCT((Teams2=U24)*(Teams2_Score>Teams1_Score))","v":0},{"$f":"SUMPRODUCT((Teams1=U24)*(Teams1_Score=Teams2_Score)*(Teams1_Score<>\"\"))+SUMPRODUCT((Teams2=U24)*(Teams2_Score=Teams1_Score)*(Teams2_Score<>\"\"))","v":0},{"$f":"SUMPRODUCT((Teams1=U24)*(Teams1_Score<Teams2_Score))+SUMPRODUCT((Teams2=U24)*(Teams2_Score<Teams1_Score))","v":3},{"$f":"SUMPRODUCT((Teams1=U24)*(Teams1_Score))+SUMPRODUCT((Teams2=U24)*(Teams2_Score))","v":1},{"$f":"SUMPRODUCT((Teams1=U24)*(Teams2_Score))+SUMPRODUCT((Teams2=U24)*(Teams1_Score))","v":8},{"$f":"Z24-AA24","v":-7},{"$f":"3*W24+X24","v":0}]
[null,{"$f":"VLOOKUP($D25,TABLEAU_MATCHS[#All],2,FALSE)","v":"2018-06-20"},{"$f":"VLOOKUP($D25,TABLEAU_MATCHS[#All],3,FALSE)","v":"17:00:00"},18,{"$f":"\"Groupe \"&VLOOKUP($I25,TABLEAU_TEAMS[[#All],[TEAM]:[GROUP_INITIAL_RANK]],2,FALSE)","v":"Groupe A"},3.5,3,2,{"$f":"VLOOKUP($D25,TABLEAU_MATCHS[#All],4,FALSE)","v":"Uruguay"},3,null,{"$f":"VLOOKUP($D25,TABLEAU_MATCHS[#All],5,FALSE)","v":"Arabie Saoudite"},0,{"$f":"IF(OR(ISBLANK(RESULTATS!J25),ISBLANK(J25)),\"\",IF(AND(Groger!J25=RESULTATS!J25,Groger!M25=RESULTATS!M25),3,IF(OR(AND(Groger!J25>Groger!M25,RESULTATS!J25>RESULTATS!M25),AND(Groger!J25<Groger!M25,RESULTATS!J25<RESULTATS!M25),AND(Groger!J25=Groger!M25,RESULTATS!J25=RESULTATS!M25)),1,0)))","v":""},null,null,null,null,null,null,null,null,null,null,null,null,null,null,null,null,null,"2018-07-15",null,{"$f":"+IF(AJ33<>\"\",IF(AI33>AO33,AH33,AN33),\"Vainqueur 1\")","v":"Brésil"},{"$f":"AJ25*10+AL25","v":0},0,{"$f":"IF(LEFT(AH25,5)<>\"Vainq\",COUNTIF(RESULTATS!$AG$10:$AM$10,AH25),0)","v":0},null,null,{"$f":"+IF(AJ34<>\"\",IF(AI34>AO34,AH34,AN34),\"Vainqueur 2\")","v":"Espagne"},{"$f":"AP25*10+AR25","v":30},3,{"$f":"IF(LEFT(AN25,5)<>\"Vainq\",COUNTIF(RESULTATS!$AG$10:$AM$10,AN25),0)","v":0},null,null,{"$f":"IF(AJ25<>\"\",IF(AI25>AO25,AH25,AN25),\"\")","v":"Espagne"}]
[null,{"$f":"VLOOKUP($D26,TABLEAU_MATCHS[#All],2,FALSE)","v":"2018-06-20"},{"$f":"VLOOKUP($D26,TABLEAU_MATCHS[#All],3,FALSE)","v":"14:00:00"},19,{"$f":"\"Groupe \"&VLOOKUP($I26,TABLEAU_TEAMS[[#All],[TEAM]:[GROUP_INITIAL_RANK]],2,FALSE)","v":"Groupe B"},1.66,3.35,4.8,{"$f":"VLOOKUP($D26,TABLEAU_MATCHS[#All],4,FALSE)","v":"Portugal"},2,null,{"$f":"VLOOKUP($D26,TABLEAU_MATCHS[#All],5,FALSE)","v":"Maroc"},0,{"$f":"IF(OR(ISBLANK(RESULTATS!J26),ISBLANK(J26)),\"\",IF(AND(Groger!J26=RESULTATS!J26,Groger!M26=RESULTATS!M26),3,IF(OR(AND(Groger!J26>Groger!M26,RESULTATS!J26>RESULTATS!M26),AND(Groger!J26<Groger!M26,RESULTATS!J26<RESULTATS!M26),AND(Groger!J26=Groger!M26,RESULTATS!J26=RESULTATS!M26)),1,0)))","v":""},null,null,null,null,null,"Rg","Groupe D","MJ","G","N","P","BP","BC","+/-","Pts"]
[null,{"$f":"VLOOKUP($D27,TABLEAU_MATCHS[#All],2,FALSE)","v":"2018-06-20"},{"$f":"VLOOKUP($D27,TABLEAU_MATCHS[#All],3,FALSE)","v":"20:00:00"},20,{"$f":"\"Groupe \"&VLOOKUP($I27,TABLEAU_TEAMS[[#All],[TEAM]:[GROUP_INITIAL_RANK]],2,FALSE)","v":"Groupe B"},8.5,4.7,1.28,{"$f":"VLOOKUP($D27,TABLEAU_MATCHS[#All],4,FALSE)","v":"RI Iran"},0,null,{"$f":"VLOOKUP($D27,TABLEAU_MATCHS[#All],5,FALSE)","v":"Espagne"},4,{"$f":"IF(OR(ISBLANK(RESULTATS!J27),ISBLANK(J27)),\"\",IF(AND(Groger!J27=RESULTATS!J27,Groger!M27=RESULTATS!M27),3,IF(OR(AND(Groger!J27>Groger!M27,RESULTATS!J27>RESULTATS!M27),AND(Groger!J27<Groger!M27,RESULTATS!J27<RESULTATS!M27),AND(Groger!J27=Groger!M27,RESULTATS!J27=RESULTATS!M27)),1,0)))","v":""},null,null,null,{"$f":"INDEX($R78:$R81,MATCH(SMALL(COUNTIF($R78:$R81,\">=\"&$R78:$R81),ROW(INDIRECT(\"1:\"&ROWS($R78:$R81)))),COUNTIF($R78:$R81,\">=\"&$R78:$R81),0))","v":"09890Argentine"},{"$f":"INDEX($S78:$S81,MATCH(SMALL(COUNTIF($R78:$R81,\">=\"&$R78:$R81),ROW(INDIRECT(\"1:\"&ROWS($R78:$R81)))),COUNTIF($R78:$R81,\">=\"&$R78:$R81),0))","v":9890},{"$f":"INDEX($T78:$T81,MATCH(SMALL(COUNTIF($R78:$R81,\">=\"&$R78:$R81),ROW(INDIRECT(\"1:\"&ROWS($R78:$R81)))),COUNTIF($R78:$R81,\">=\"&$R78:$R81),0))","v":1},{"$f":"INDEX($U78:$U81,MATCH(SMALL(COUNTIF($R78:$R81,\">=\"&$R78:$R81),ROW(INDIRECT(\"1:\"&ROWS($R78:$R81)))),COUNTIF($R78:$R81,\">=\"&$R78:$R81),0))","v":"Argentine"},{"$f":"SUMPRODUCT((Teams1=U27)*(Teams1_Score<>\"\"))+SUMPRODUCT((Teams2=U27)*(Teams2_Score<>\"\"))","v":3},{"$f":"SUMPRODUCT((Teams1=U27)*(Teams1_Score>Teams2_Score))+SUMPRODUCT((Teams2=U27)*(Teams2_Score>Teams1_Score))","v":3},{"$f":"SUMPRODUCT((Teams1=U27)*(Teams1_Score=Teams2_Score)*(Teams1_Score<>\"\"))+SUMPRODUCT((Teams2=U27)*(Teams2_Score=Teams1_Score)*(Teams2_Score<>\"\"))","v":0},{"$f":"SUMPRODUCT((Teams1=U27)*(Teams1_Score<Teams2_Score))+SUMPRODUCT((Teams2=U27)*(Teams2_Score<Teams1_Score))","v":0},{"$f":"SUMPRODUCT((Teams1=U27)*(Teams1_Score))+SUMPRODUCT((Teams2=U27)*(Teams2_Score))","v":9},{"$f":"SUMPRODUCT((Teams1=U27)*(Teams2_Score))+SUMPRODUCT((Teams2=U27)*(Teams1_Score))","v":1},{"$f":"Z27-AA27","v":8},{"$f":"3*W27+X27","v":9},null,null,"Date","Petite Finale",null,null,"Buts",null,"Pen",null,null,null,"Buts",null,"Pen"]
[null,{"$f":"VLOOKUP($D28,TABLEAU_MATCHS[#All],2,FALSE)","v":"2018-06-21"},{"$f":"VLOOKUP($D28,TABLEAU_MATCHS[#All],3,FALSE)","v":"14:00:00"},21,{"$f":"\"Groupe \"&VLOOKUP($I28,TABLEAU_TEAMS[[#All],[TEAM]:[GROUP_INITIAL_RANK]],2,FALSE)","v":"Groupe C"},1.85,3,4,{"$f":"VLOOKUP($D28,TABLEAU_MATCHS[#All],4,FALSE)","v":"Danemark"},2,null,{"$f":"VLOOKUP($D28,TABLEAU_MATCHS[#All],5,FALSE)","v":"Australie"},0,{"$f":"IF(OR(ISBLANK(RESULTATS!J28),ISBLANK(J28)),\"\",IF(AND(Groger!J28=RESULTATS!J28,Groger!M28=RESULTATS!M28),3,IF(OR(AND(Groger!J28>Groger!M28,RESULTATS!J28>RESULTATS!M28),AND(Groger!J28<Groger!M28,RESULTATS!J28<RESULTATS!M28),AND(Groger!J28=Groger!M28,RESULTATS!J28=RESULTATS!M28)),1,0)))","v":""},null,null,null,"06260Croatie",6260,2,"Croatie",{"$f":"SUMPRODUCT((Teams1=U28)*(Teams1_Score<>\"\"))+SUMPRODUCT((Teams2=U28)*(Teams2_Score<>\"\"))","v":3},{"$f":"SUMPRODUCT((Teams1=U28)*(Teams1_Score>Teams2_Score))+SUMPRODUCT((Teams2=U28)*(Teams2_Score>Teams1_Score))","v":2},{"$f":"SUMPRODUCT((Teams1=U28)*(Teams1_Score=Teams2_Score)*(Teams1_Score<>\"\"))+SUMPRODUCT((Teams2=U28)*(Teams2_Score=Teams1_Score)*(Teams2_Score<>\"\"))","v":0},{"$f":"SUMPRODUCT((Teams1=U28)*(Teams1_Score<Teams2_Score))+SUMPRODUCT((Teams2=U28)*(Teams2_Score<Teams1_Score))","v":1},{"$f":"SUMPRODUCT((Teams1=U28)*(Teams1_Score))+SUMPRODUCT((Teams2=U28)*(Teams2_Score))","v":6},{"$f":"SUMPRODUCT((Teams1=U28)*(Teams2_Score))+SUMPRODUCT((Teams2=U28)*(Teams1_Score))","v":4},{"$f":"Z28-AA28","v":2},{"$f":"3*W28+X28","v":6}]
[null,{"$f":"VLOOKUP($D29,TABLEAU_MATCHS[#All],2,FALSE)","v":"2018-06-21"},{"$f":"VLOOKUP($D29,TABLEAU_MATCHS[#All],3,FALSE)","v":"17:00:00"},22,{"$f":"\"Groupe \"&VLOOKUP($I29,TABLEAU_TEAMS[[#All],[TEAM]:[GROUP_INITIAL_RANK]],2,FALSE)","v":"Groupe C"},2.2999999999999998,3,2.9,{"$f":"VLOOKUP($D29,TABLEAU_MATCHS[#All],4,FALSE)","v":"France"},3,null,{"$f":"VLOOKUP($D29,TABLEAU_MATCHS[#All],5,FALSE)","v":"Pérou"},1,{"$f":"IF(OR(ISBLANK(RESULTATS!J29),ISBLANK(J29)),\"\",IF(AND(Groger!J29=RESULTATS!J29,Groger!M29=RESULTATS!M29),3,IF(OR(AND(Groger!J29>Groger!M29,RESULTATS!J29>RESULTATS!M29),AND(Groger!J29<Groger!M29,RESULTATS!J29<RESULTATS!M29),AND(Groger!J29=Groger!M29,RESULTATS!J29=RESULTATS!M29)),1,0)))","v":""},null,null,null,"02630Nigeria",2630,3,"Nigeria",{"$f":"SUMPRODUCT((Teams1=U29)*(Teams1_Score<>\"\"))+SUMPRODUCT((Teams2=U29)*(Teams2_Score<>\"\"))","v":3},{"$f":"SUMPRODUCT((Teams1=U29)*(Teams1_Score>Teams2_Score))+SUMPRODUCT((Teams2=U29)*(Teams2_Score>Teams1_Score))","v":1},{"$f":"SUMPRODUCT((Teams1=U29)*(Teams1_Score=Teams2_Score)*(Teams1_Score<>\"\"))+SUMPRODUCT((Teams2=U29)*(Teams2_Score=Teams1_Score)*(Teams2_Score<>\"\"))","v":0},{"$f":"SUMPRODUCT((Teams1=U29)*(Teams1_Score<Teams2_Score))+SUMPRODUCT((Teams2=U29)*(Teams2_Score<Teams1_Score))","v":2},{"$f":"SUMPRODUCT((Teams1=U29)*(Teams1_Score))+SUMPRODUCT((Teams2=U29)*(Teams2_Score))","v":3},{"$f":"SUMPRODUCT((Teams1=U29)*(Teams2_Score))+SUMPRODUCT((Teams2=U29)*(Teams1_Score))","v":7},{"$f":"Z29-AA29","v":-4},{"$f":"3*W29+X29","v":3},null,null,"2018-07-14",null,{"$f":"+IF(AJ33<>\"\",IF(AI33>AO33,AN33,AH33),\"Perdant 1\")","v":"France"},{"$f":"AJ29*10+AL29","v":20},2,null,null,null,{"$f":"+IF(AJ34<>\"\",IF(AI34>AO34,AN34,AH34),\"Perdant 2\")","v":"Allemagne"},{"$f":"AP29*10+AR29","v":30},3]
[null,{"$f":"VLOOKUP($D30,TABLEAU_MATCHS[#All],2,FALSE)","v":"2018-06-21"},{"$f":"VLOOKUP($D30,TABLEAU_MATCHS[#All],3,FALSE)","v":"20:00:00"},23,{"$f":"\"Groupe \"&VLOOKUP($I30,TABLEAU_TEAMS[[#All],[TEAM]:[GROUP_INITIAL_RANK]],2,FALSE)","v":"Groupe D"},2.4,3,2.8,{"$f":"VLOOKUP($D30,TABLEAU_MATCHS[#All],4,FALSE)","v":"Argentine"},2,null,{"$f":"VLOOKUP($D30,TABLEAU_MATCHS[#All],5,FALSE)","v":"Croatie"},1,{"$f":"IF(OR(ISBLANK(RESULTATS!J30),ISBLANK(J30)),\"\",IF(AND(Groger!J30=RESULTATS!J30,Groger!M30=RESULTATS!M30),3,IF(OR(AND(Groger!J30>Groger!M30,RESULTATS!J30>RESULTATS!M30),AND(Groger!J30<Groger!M30,RESULTATS!J30<RESULTATS!M30),AND(Groger!J30=Groger!M30,RESULTATS!J30=RESULTATS!M30)),1,0)))","v":""},null,null,null,"-00580Islande",-580,4,"Islande",{"$f":"SUMPRODUCT((Teams1=U30)*(Teams1_Score<>\"\"))+SUMPRODUCT((Teams2=U30)*(Teams2_Score<>\"\"))","v":3},{"$f":"SUMPRODUCT((Teams1=U30)*(Teams1_Score>Teams2_Score))+SUMPRODUCT((Teams2=U30)*(Teams2_Score>Teams1_Score))","v":0},{"$f":"SUMPRODUCT((Teams1=U30)*(Teams1_Score=Teams2_Score)*(Teams1_Score<>\"\"))+SUMPRODUCT((Teams2=U30)*(Teams2_Score=Teams1_Score)*(Teams2_Score<>\"\"))","v":0},{"$f":"SUMPRODUCT((Teams1=U30)*(Teams1_Score<Teams2_Score))+SUMPRODUCT((Teams2=U30)*(Teams2_Score<Teams1_Score))","v":3},{"$f":"SUMPRODUCT((Teams1=U30)*(Teams1_Score))+SUMPRODUCT((Teams2=U30)*(Teams2_Score))","v":2},{"$f":"SUMPRODUCT((Teams1=U30)*(Teams2_Score))+SUMPRODUCT((Teams2=U30)*(Teams1_Score))","v":8},{"$f":"Z30-AA30","v":-6},{"$f":"3*W30+X30","v":0}]
[null,{"$f":"VLOOKUP($D31,TABLEAU_MATCHS[#All],2,FALSE)","v":"2018-06-22"},{"$f":"VLOOKUP($D31,TABLEAU_MATCHS[#All],3,FALSE)","v":"17:00:00"},24,{"$f":"\"Groupe \"&VLOOKUP($I31,TABLEAU_TEAMS[[#All],[TEAM]:[GROUP_INITIAL_RANK]],2,FALSE)","v":"Groupe D"},1.26,4.5999999999999996,9.5,{"$f":"VLOOKUP($D31,TABLEAU_MATCHS[#All],4,FALSE)","v":"Nigeria"},2,null,{"$f":"VLOOKUP($D31,TABLEAU_MATCHS[#All],5,FALSE)","v":"Islande"},1,{"$f":"IF(OR(ISBLANK(RESULTATS!J31),ISBLANK(J31)),\"\",IF(AND(Groger!J31=RESULTATS!J31,Groger!M31=RESULTATS!M31),3,IF(OR(AND(Groger!J31>Groger!M31,RESULTATS!J31>RESULTATS!M31),AND(Groger!J31<Groger!M31,RESULTATS!J31<RESULTATS!M31),AND(Groger!J31=Groger!M31,RESULTATS!J31=RESULTATS!M31)),1,0)))","v":""},null,null,null,null,null,null,null,null,null,null,null,null,null,null,null,null,null,"Date","Demi Finale",null,null,"Buts",null,"Pen",null,null,null,"Buts",null,"Pen"]
[null,{"$f":"VLOOKUP($D32,TABLEAU_MATCHS[#All],2,FALSE)","v":"2018-06-22"},{"$f":"VLOOKUP($D32,TABLEAU_MATCHS[#All],3,FALSE)","v":"14:00:00"},25,{"$f":"\"Groupe \"&VLOOKUP($I32,TABLEAU_TEAMS[[#All],[TEAM]:[GROUP_INITIAL_RANK]],2,FALSE)","v":"Groupe E"},3.5,2.95,2.1,{"$f":"VLOOKUP($D32,TABLEAU_MATCHS[#All],4,FALSE)","v":"Brésil"},3,null,{"$f":"VLOOKUP($D32,TABLEAU_MATCHS[#All],5,FALSE)","v":"Costa Rica"},0,{"$f":"IF(OR(ISBLANK(RESULTATS!J32),ISBLANK(J32)),\"\",IF(AND(Groger!J32=RESULTATS!J32,Groger!M32=RESULTATS!M32),3,IF(OR(AND(Groger!J32>Groger!M32,RESULTATS!J32>RESULTATS!M32),AND(Groger!J32<Groger!M32,RESULTATS!J32<RESULTATS!M32),AND(Groger!J32=Groger!M32,RESULTATS!J32=RESULTATS!M32)),1,0)))","v":""},null,null,null,null,null,"Rg","Groupe E","MJ","G","N","P","BP","BC","+/-","Pts"]
[null,{"$f":"VLOOKUP($D33,TABLEAU_MATCHS[#All],2,FALSE)","v":"2018-06-22"},{"$f":"VLOOKUP($D33,TABLEAU_MATCHS[#All],3,FALSE)","v":"20:00:00"},26,{"$f":"\"Groupe \"&VLOOKUP($I33,TABLEAU_TEAMS[[#All],[TEAM]:[GROUP_INITIAL_RANK]],2,FALSE)","v":"Groupe E"},4.8,3.25,1.62,{"$f":"VLOOKUP($D33,TABLEAU_MATCHS[#All],4,FALSE)","v":"Serbie"},2,null,{"$f":"VLOOKUP($D33,TABLEAU_MATCHS[#All],5,FALSE)","v":"Suisse"},1,{"$f":"IF(OR(ISBLANK(RESULTATS!J33),ISBLANK(J33)),\"\",IF(AND(Groger!J33=RESULTATS!J33,Groger!M33=RESULTATS!M33),3,IF(OR(AND(Groger!J33>Groger!M33,RESULTATS!J33>RESULTATS!M33),AND(Groger!J33<Groger!M33,RESULTATS!J33<RESULTATS!M33),AND(Groger!J33=Groger!M33,RESULTATS!J33=RESULTATS!M33)),1,0)))","v":""},null,null,null,{"$f":"INDEX($R84:$R87,MATCH(SMALL(COUNTIF($R84:$R87,\">=\"&$R84:$R87),ROW(INDIRECT(\"1:\"&ROWS($R84:$R87)))),COUNTIF($R84:$R87,\">=\"&$R84:$R87),0))","v":"10210Brésil"},{"$f":"INDEX($S84:$S87,MATCH(SMALL(COUNTIF($R84:$R87,\">=\"&$R84:$R87),ROW(INDIRECT(\"1:\"&ROWS($R84:$R87)))),COUNTIF($R84:$R87,\">=\"&$R84:$R87),0))","v":10210},{"$f":"INDEX($T84:$T87,MATCH(SMALL(COUNTIF($R84:$R87,\">=\"&$R84:$R87),ROW(INDIRECT(\"1:\"&ROWS($R84:$R87)))),COUNTIF($R84:$R87,\">=\"&$R84:$R87),0))","v":1},{"$f":"INDEX($U84:$U87,MATCH(SMALL(COUNTIF($R84:$R87,\">=\"&$R84:$R87),ROW(INDIRECT(\"1:\"&ROWS($R84:$R87)))),COUNTIF($R84:$R87,\">=\"&$R84:$R87),0))","v":"Brésil"},{"$f":"SUMPRODUCT((Teams1=U33)*(Teams1_Score<>\"\"))+SUMPRODUCT((Teams2=U33)*(Teams2_Score<>\"\"))","v":3},{"$f":"SUMPRODUCT((Teams1=U33)*(Teams1_Score>Teams2_Score))+SUMPRODUCT((Teams2=U33)*(Teams2_Score>Teams1_Score))","v":3},{"$f":"SUMPRODUCT((Teams1=U33)*(Teams1_Score=Teams2_Score)*(Teams1_Score<>\"\"))+SUMPRODUCT((Teams2=U33)*(Teams2_Score=Teams1_Score)*(Teams2_Score<>\"\"))","v":0},{"$f":"SUMPRODUCT((Teams1=U33)*(Teams1_Score<Teams2_Score))+SUMPRODUCT((Teams2=U33)*(Teams2_Score<Teams1_Score))","v":0},{"$f":"SUMPRODUCT((Teams1=U33)*(Teams1_Score))+SUMPRODUCT((Teams2=U33)*(Teams2_Score))","v":11},{"$f":"SUMPRODUCT((Teams1=U33)*(Teams2_Score))+SUMPRODUCT((Teams2=U33)*(Teams1_Score))","v":0},{"$f":"Z33-AA33","v":11},{"$f":"3*W33+X33","v":9},null,null,"2018-07-10",1,{"$f":"+IF(AJ38<>\"\",IF(AI38>AO38,AH38,AN38),\"Vainqueur A\")","v":"France"},{"$f":"AJ33*10+AL33","v":20},2,{"$f":"IF(LEFT(AH33,5)<>\"Vainq\",COUNTIF(RESULTATS!$AG$18:$AM$19,AH33),0)","v":0},null,null,{"$f":"+IF(AJ40<>\"\",IF(AI40>AO40,AH40,AN40),\"Vainqueur C\")","v":"Brésil"},{"$f":"AP33*10+AR33","v":30},3,{"$f":"IF(LEFT(AN33,5)<>\"Vainq\",COUNTIF(RESULTATS!$AG$18:$AM$19,AN33),0)","v":0}]
[null,{"$f":"VLOOKUP($D34,TABLEAU_MATCHS[#All],2,FALSE)","v":"2018-06-23"},{"$f":"VLOOKUP($D34,TABLEAU_MATCHS[#All],3,FALSE)","v":"20:00:00"},27,{"$f":"\"Groupe \"&VLOOKUP($I34,TABLEAU_TEAMS[[#All],[TEAM]:[GROUP_INITIAL_RANK]],2,FALSE)","v":"Groupe F"},1.1200000000000001,6.5,15,{"$f":"VLOOKUP($D34,TABLEAU_MATCHS[#All],4,FALSE)","v":"République de Corée"},1,null,{"$f":"VLOOKUP($D34,TABLEAU_MATCHS[#All],5,FALSE)","v":"Mexique"},3,{"$f":"IF(OR(ISBLANK(RESULTATS!J34),ISBLANK(J34)),\"\",IF(AND(Groger!J34=RESULTATS!J34,Groger!M34=RESULTATS!M34),3,IF(OR(AND(Groger!J34>Groger!M34,RESULTATS!J34>RESULTATS!M34),AND(Groger!J34<Groger!M34,RESULTATS!J34<RESULTATS!M34),AND(Groger!J34=Groger!M34,RESULTATS!J34=RESULTATS!M34)),1,0)))","v":""},null,null,null,"05840Serbie",5840,2,"Serbie",{"$f":"SUMPRODUCT((Teams1=U34)*(Teams1_Score<>\"\"))+SUMPRODUCT((Teams2=U34)*(Teams2_Score<>\"\"))","v":3},{"$f":"SUMPRODUCT((Teams1=U34)*(Teams1_Score>Teams2_Score))+SUMPRODUCT((Teams2=U34)*(Teams2_Score>Teams1_Score))","v":2},{"$f":"SUMPRODUCT((Teams1=U34)*(Teams1_Score=Teams2_Score)*(Teams1_Score<>\"\"))+SUMPRODUCT((Teams2=U34)*(Teams2_Score=Teams1_Score)*(Teams2_Score<>\"\"))","v":0},{"$f":"SUMPRODUCT((Teams1=U34)*(Teams1_Score<Teams2_Score))+SUMPRODUCT((Teams2=U34)*(Teams2_Score<Teams1_Score))","v":1},{"$f":"SUMPRODUCT((Teams1=U34)*(Teams1_Score))+SUMPRODUCT((Teams2=U34)*(Teams2_Score))","v":4},{"$f":"SUMPRODUCT((Teams1=U34)*(Teams2_Score))+SUMPRODUCT((Teams2=U34)*(Teams1_Score))","v":6},{"$f":"Z34-AA34","v":-2},{"$f":"3*W34+X34","v":6},null,null,"2018-07-11",2,{"$f":"+IF(AJ39<>\"\",IF(AI39>AO39,AH39,AN39),\"Vainqueur B\")","v":"Espagne"},{"$f":"AJ34*10+AL34","v":20},2,{"$f":"IF(LEFT(AH34,5)<>\"Vainq\",COUNTIF(RESULTATS!$AG$18:$AM$19,AH34),0)","v":0},null,null,{"$f":"+IF(AJ41<>\"\",IF(AI41>AO41,AH41,AN41),\"Vainqueur D\")","v":"Allemagne"},{"$f":"AP34*10+AR34","v":10},1,{"$f":"IF(LEFT(AN34,5)<>\"Vainq\",COUNTIF(RESULTATS!$AG$18:$AM$19,AN34),0)","v":0}]
[null,{"$f":"VLOOKUP($D35,TABLEAU_MATCHS[#All],2,FALSE)","v":"2018-06-23"},{"$f":"VLOOKUP($D35,TABLEAU_MATCHS[#All],3,FALSE)","v":"17:00:00"},28,{"$f":"\"Groupe \"&VLOOKUP($I35,TABLEAU_TEAMS[[#All],[TEAM]:[GROUP_INITIAL_RANK]],2,FALSE)","v":"Groupe F"},2.8,2.95,2.4,{"$f":"VLOOKUP($D35,TABLEAU_MATCHS[#All],4,FALSE)","v":"Allemagne"},3,null,{"$f":"VLOOKUP($D35,TABLEAU_MATCHS[#All],5,FALSE)","v":"Suède"},2,{"$f":"IF(OR(ISBLANK(RESULTATS!J35),ISBLANK(J35)),\"\",IF(AND(Groger!J35=RESULTATS!J35,Groger!M35=RESULTATS!M35),3,IF(OR(AND(Groger!J35>Groger!M35,RESULTATS!J35>RESULTATS!M35),AND(Groger!J35<Groger!M35,RESULTATS!J35<RESULTATS!M35),AND(Groger!J35=Groger!M35,RESULTATS!J35=RESULTATS!M35)),1,0)))","v":""},null,null,null,"02730Costa Rica",2730,3,"Costa Rica",{"$f":"SUMPRODUCT((Teams1=U35)*(Teams1_Score<>\"\"))+SUMPRODUCT((Teams2=U35)*(Teams2_Score<>\"\"))","v":3},{"$f":"SUMPRODUCT((Teams1=U35)*(Teams1_Score>Teams2_Score))+SUMPRODUCT((Teams2=U35)*(Teams2_Score>Teams1_Score))","v":1},{"$f":"SUMPRODUCT((Teams1=U35)*(Teams1_Score=Teams2_Score)*(Teams1_Score<>\"\"))+SUMPRODUCT((Teams2=U35)*(Teams2_Score=Teams1_Score)*(Teams2_Score<>\"\"))","v":0},{"$f":"SUMPRODUCT((Teams1=U35)*(Teams1_Score<Teams2_Score))+SUMPRODUCT((Teams2=U35)*(Teams2_Score<Teams1_Score))","v":2},{"$f":"SUMPRODUCT((Teams1=U35)*(Teams1_Score))+SUMPRODUCT((Teams2=U35)*(Teams2_Score))","v":3},{"$f":"SUMPRODUCT((Teams1=U35)*(Teams2_Score))+SUMPRODUCT((Teams2=U35)*(Teams1_Score))","v":6},{"$f":"Z35-AA35","v":-3},{"$f":"3*W35+X35","v":3},null,null,null,null,null,null,null,{"$f":"SUM(AK33:AK34)","v":0},null,null,null,null,null,{"$f":"SUM(AQ33:AQ34)","v":0}]
[null,{"$f":"VLOOKUP($D36,TABLEAU_MATCHS[#All],2,FALSE)","v":"2018-06-23"},{"$f":"VLOOKUP($D36,TABLEAU_MATCHS[#All],3,FALSE)","v":"14:00:00"},29,{"$f":"\"Groupe \"&VLOOKUP($I36,TABLEAU_TEAMS[[#All],[TEAM]:[GROUP_INITIAL_RANK]],2,FALSE)","v":"Groupe G"},1.36,4,7.5,{"$f":"VLOOKUP($D36,TABLEAU_MATCHS[#All],4,FALSE)","v":"Belgique"},2,null,{"$f":"VLOOKUP($D36,TABLEAU_MATCHS[#All],5,FALSE)","v":"Tunisie"},1,{"$f":"IF(OR(ISBLANK(RESULTATS!J36),ISBLANK(J36)),\"\",IF(AND(Groger!J36=RESULTATS!J36,Groger!M36=RESULTATS!M36),3,IF(OR(AND(Groger!J36>Groger!M36,RESULTATS!J36>RESULTATS!M36),AND(Groger!J36<Groger!M36,RESULTATS!J36<RESULTATS!M36),AND(Groger!J36=Groger!M36,RESULTATS!J36=RESULTATS!M36)),1,0)))","v":""},null,null,null,"-00580Suisse",-580,4,"Suisse",{"$f":"SUMPRODUCT((Teams1=U36)*(Teams1_Score<>\"\"))+SUMPRODUCT((Teams2=U36)*(Teams2_Score<>\"\"))","v":3},{"$f":"SUMPRODUCT((Teams1=U36)*(Teams1_Score>Teams2_Score))+SUMPRODUCT((Teams2=U36)*(Teams2_Score>Teams1_Score))","v":0},{"$f":"SUMPRODUCT((Teams1=U36)*(Teams1_Score=Teams2_Score)*(Teams1_Score<>\"\"))+SUMPRODUCT((Teams2=U36)*(Teams2_Score=Teams1_Score)*(Teams2_Score<>\"\"))","v":0},{"$f":"SUMPRODUCT((Teams1=U36)*(Teams1_Score<Teams2_Score))+SUMPRODUCT((Teams2=U36)*(Teams2_Score<Teams1_Score))","v":3},{"$f":"SUMPRODUCT((Teams1=U36)*(Teams1_Score))+SUMPRODUCT((Teams2=U36)*(Teams2_Score))","v":2},{"$f":"SUMPRODUCT((Teams1=U36)*(Teams2_Score))+SUMPRODUCT((Teams2=U36)*(Teams1_Score))","v":8},{"$f":"Z36-AA36","v":-6},{"$f":"3*W36+X36","v":0},null,null,"Date","Quart de Finale",null,null,"Buts",null,"Pen",null,null,null,"Buts",null,"Pen"]
[null,{"$f":"VLOOKUP($D37,TABLEAU_MATCHS[#All],2,FALSE)","v":"2018-06-24"},{"$f":"VLOOKUP($D37,TABLEAU_MATCHS[#All],3,FALSE)","v":"14:00:00"},30,{"$f":"\"Groupe \"&VLOOKUP($I37,TABLEAU_TEAMS[[#All],[TEAM]:[GROUP_INITIAL_RANK]],2,FALSE)","v":"Groupe G"},4.7,3.4,1.62,{"$f":"VLOOKUP($D37,TABLEAU_MATCHS[#All],4,FALSE)","v":"Angleterre"},3,null,{"$f":"VLOOKUP($D37,TABLEAU_MATCHS[#All],5,FALSE)","v":"Panama"},1,{"$f":"IF(OR(ISBLANK(RESULTATS!J37),ISBLANK(J37)),\"\",IF(AND(Groger!J37=RESULTATS!J37,Groger!M37=RESULTATS!M37),3,IF(OR(AND(Groger!J37>Groger!M37,RESULTATS!J37>RESULTATS!M37),AND(Groger!J37<Groger!M37,RESULTATS!J37<RESULTATS!M37),AND(Groger!J37=Groger!M37,RESULTATS!J37=RESULTATS!M37)),1,0)))","v":""}]
[null,{"$f":"VLOOKUP($D38,TABLEAU_MATCHS[#All],2,FALSE)","v":"2018-06-24"},{"$f":"VLOOKUP($D38,TABLEAU_MATCHS[#All],3,FALSE)","v":"17:00:00"},31,{"$f":"\"Groupe \"&VLOOKUP($I38,TABLEAU_TEAMS[[#All],[TEAM]:[GROUP_INITIAL_RANK]],2,FALSE)","v":"Groupe H"},2.1,2.95,3.35,{"$f":"VLOOKUP($D38,TABLEAU_MATCHS[#All],4,FALSE)","v":"Japon"},1,null,{"$f":"VLOOKUP($D38,TABLEAU_MATCHS[#All],5,FALSE)","v":"Sénégal"},1,{"$f":"IF(OR(ISBLANK(RESULTATS!J38),ISBLANK(J38)),\"\",IF(AND(Groger!J38=RESULTATS!J38,Groger!M38=RESULTATS!M38),3,IF(OR(AND(Groger!J38>Groger!M38,RESULTATS!J38>RESULTATS!M38),AND(Groger!J38<Groger!M38,RESULTATS!J38<RESULTATS!M38),AND(Groger!J38=Groger!M38,RESULTATS!J38=RESULTATS!M38)),1,0)))","v":""},null,null,null,null,null,"Rg","Groupe F","MJ","G","N","P","BP","BC","+/-","Pts",null,null,"2018-07-06","A",{"$f":"+IF(AJ45<>\"\",IF(AI45>AO45,AH45,AN45),\"Vainqueur 1\")","v":"Portugal"},{"$f":"AJ38*10+AL38","v":10},1,{"$f":"IF(LEFT(AH38,5)<>\"Vainq\",COUNTIF(RESULTATS!$AG$23:$AM$26,AH38),0)","v":0},null,null,{"$f":"+IF(AJ47<>\"\",IF(AI47>AO47,AH47,AN47),\"Vainqueur 3\")","v":"France"},{"$f":"AP38*10+AR38","v":20},2,{"$f":"IF(LEFT(AN38,5)<>\"Vainq\",COUNTIF(RESULTATS!$AG$23:$AM$26,AN38),0)","v":0}]
[null,{"$f":"VLOOKUP($D39,TABLEAU_MATCHS[#All],2,FALSE)","v":"2018-06-24"},{"$f":"VLOOKUP($D39,TABLEAU_MATCHS[#All],3,FALSE)","v":"20:00:00"},32,{"$f":"\"Groupe \"&VLOOKUP($I39,TABLEAU_TEAMS[[#All],[TEAM]:[GROUP_INITIAL_RANK]],2,FALSE)","v":"Groupe H"},1.9,3,3.8,{"$f":"VLOOKUP($D39,TABLEAU_MATCHS[#All],4,FALSE)","v":"Pologne"},1,null,{"$f":"VLOOKUP($D39,TABLEAU_MATCHS[#All],5,FALSE)","v":"Colombie"},2,{"$f":"IF(OR(ISBLANK(RESULTATS!J39),ISBLANK(J39)),\"\",IF(AND(Groger!J39=RESULTATS!J39,Groger!M39=RESULTATS!M39),3,IF(OR(AND(Groger!J39>Groger!M39,RESULTATS!J39>RESULTATS!M39),AND(Groger!J39<Groger!M39,RESULTATS!J39<RESULTATS!M39),AND(Groger!J39=Groger!M39,RESULTATS!J39=RESULTATS!M39)),1,0)))","v":""},null,null,null,{"$f":"INDEX($R90:$R93,MATCH(SMALL(COUNTIF($R90:$R93,\">=\"&$R90:$R93),ROW(INDIRECT(\"1:\"&ROWS($R90:$R93)))),COUNTIF($R90:$R93,\">=\"&$R90:$R93),0))","v":"09690Allemagne"},{"$f":"INDEX($S90:$S93,MATCH(SMALL(COUNTIF($R90:$R93,\">=\"&$R90:$R93),ROW(INDIRECT(\"1:\"&ROWS($R90:$R93)))),COUNTIF($R90:$R93,\">=\"&$R90:$R93),0))","v":9690},{"$f":"INDEX($T90:$T93,MATCH(SMALL(COUNTIF($R90:$R93,\">=\"&$R90:$R93),ROW(INDIRECT(\"1:\"&ROWS($R90:$R93)))),COUNTIF($R90:$R93,\">=\"&$R90:$R93),0))","v":1},{"$f":"INDEX($U90:$U93,MATCH(SMALL(COUNTIF($R90:$R93,\">=\"&$R90:$R93),ROW(INDIRECT(\"1:\"&ROWS($R90:$R93)))),COUNTIF($R90:$R93,\">=\"&$R90:$R93),0))","v":"Allemagne"},{"$f":"SUMPRODUCT((Teams1=U39)*(Teams1_Score<>\"\"))+SUMPRODUCT((Teams2=U39)*(Teams2_Score<>\"\"))","v":3},{"$f":"SUMPRODUCT((Teams1=U39)*(Teams1_Score>Teams2_Score))+SUMPRODUCT((Teams2=U39)*(Teams2_Score>Teams1_Score))","v":3},{"$f":"SUMPRODUCT((Teams1=U39)*(Teams1_Score=Teams2_Score)*(Teams1_Score<>\"\"))+SUMPRODUCT((Teams2=U39)*(Teams2_Score=Teams1_Score)*(Teams2_Score<>\"\"))","v":0},{"$f":"SUMPRODUCT((Teams1=U39)*(Teams1_Score<Teams2_Score))+SUMPRODUCT((Teams2=U39)*(Teams2_Score<Teams1_Score))","v":0},{"$f":"SUMPRODUCT((Teams1=U39)*(Teams1_Score))+SUMPRODUCT((Teams2=U39)*(Teams2_Score))","v":9},{"$f":"SUMPRODUCT((Teams1=U39)*(Teams2_Score))+SUMPRODUCT((Teams2=U39)*(Teams1_Score))","v":3},{"$f":"Z39-AA39","v":6},{"$f":"3*W39+X39","v":9},null,null,"2018-07-07","B",{"$f":"+IF(AJ46<>\"\",IF(AI46>AO46,AH46,AN46),\"Vainqueur 2\")","v":"Espagne"},{"$f":"AJ39*10+AL39","v":20},2,{"$f":"IF(LEFT(AH39,5)<>\"Vainq\",COUNTIF(RESULTATS!$AG$23:$AM$26,AH39),0)","v":0},null,null,{"$f":"+IF(AJ48<>\"\",IF(AI48>AO48,AH48,AN48),\"Vainqueur 4\")","v":"Argentine"},{"$f":"AP39*10+AR39","v":10},1,{"$f":"IF(LEFT(AN39,5)<>\"Vainq\",COUNTIF(RESULTATS!$AG$23:$AM$26,AN39),0)","v":0}]
[null,{"$f":"VLOOKUP($D40,TABLEAU_MATCHS[#All],2,FALSE)","v":"2018-06-25"},{"$f":"VLOOKUP($D40,TABLEAU_MATCHS[#All],3,FALSE)","v":"16:00:00"},33,{"$f":"\"Groupe \"&VLOOKUP($I40,TABLEAU_TEAMS[[#All],[TEAM]:[GROUP_INITIAL_RANK]],2,FALSE)","v":"Groupe A"},11,6.5,1.17,{"$f":"VLOOKUP($D40,TABLEAU_MATCHS[#All],4,FALSE)","v":"Uruguay"},2,null,{"$f":"VLOOKUP($D40,TABLEAU_MATCHS[#All],5,FALSE)","v":"Russie"},1,{"$f":"IF(OR(ISBLANK(RESULTATS!J40),ISBLANK(J40)),\"\",IF(AND(Groger!J40=RESULTATS!J40,Groger!M40=RESULTATS!M40),3,IF(OR(AND(Groger!J40>Groger!M40,RESULTATS!J40>RESULTATS!M40),AND(Groger!J40<Groger!M40,RESULTATS!J40<RESULTATS!M40),AND(Groger!J40=Groger!M40,RESULTATS!J40=RESULTATS!M40)),1,0)))","v":""},null,null,null,"04060Suède",4060,2,"Suède",{"$f":"SUMPRODUCT((Teams1=U40)*(Teams1_Score<>\"\"))+SUMPRODUCT((Teams2=U40)*(Teams2_Score<>\"\"))","v":3},{"$f":"SUMPRODUCT((Teams1=U40)*(Teams1_Score>Teams2_Score))+SUMPRODUCT((Teams2=U40)*(Teams2_Score>Teams1_Score))","v":1},{"$f":"SUMPRODUCT((Teams1=U40)*(Teams1_Score=Teams2_Score)*(Teams1_Score<>\"\"))+SUMPRODUCT((Teams2=U40)*(Teams2_Score=Teams1_Score)*(Teams2_Score<>\"\"))","v":1},{"$f":"SUMPRODUCT((Teams1=U40)*(Teams1_Score<Teams2_Score))+SUMPRODUCT((Teams2=U40)*(Teams2_Score<Teams1_Score))","v":1},{"$f":"SUMPRODUCT((Teams1=U40)*(Teams1_Score))+SUMPRODUCT((Teams2=U40)*(Teams2_Score))","v":6},{"$f":"SUMPRODUCT((Teams1=U40)*(Teams2_Score))+SUMPRODUCT((Teams2=U40)*(Teams1_Score))","v":6},{"$f":"Z40-AA40","v":0},{"$f":"3*W40+X40","v":4},null,null,"2018-07-06","C",{"$f":"+IF(AJ49<>\"\",IF(AI49>AO49,AH49,AN49),\"Vainqueur 5\")","v":"Brésil"},{"$f":"AJ40*10+AL40","v":30},3,{"$f":"IF(LEFT(AH40,5)<>\"Vainq\",COUNTIF(RESULTATS!$AG$23:$AM$26,AH40),0)","v":0},null,null,{"$f":"+IF(AJ51<>\"\",IF(AI51>AO51,AH51,AN51),\"Vainqueur 7\")","v":"Belgique"},{"$f":"AP40*10+AR40","v":0},0,{"$f":"IF(LEFT(AN40,5)<>\"Vainq\",COUNTIF(RESULTATS!$AG$23:$AM$26,AN40),0)","v":0}]
[null,{"$f":"VLOOKUP($D41,TABLEAU_MATCHS[#All],2,FALSE)","v":"2018-06-25"},{"$f":"VLOOKUP($D41,TABLEAU_MATCHS[#All],3,FALSE)","v":"16:00:00"},34,{"$f":"\"Groupe \"&VLOOKUP($I41,TABLEAU_TEAMS[[#All],[TEAM]:[GROUP_INITIAL_RANK]],2,FALSE)","v":"Groupe A"},2.4,2.95,2.75,{"$f":"VLOOKUP($D41,TABLEAU_MATCHS[#All],4,FALSE)","v":"Arabie Saoudite"},1,null,{"$f":"VLOOKUP($D41,TABLEAU_MATCHS[#All],5,FALSE)","v":"Egypte"},2,{"$f":"IF(OR(ISBLANK(RESULTATS!J41),ISBLANK(J41)),\"\",IF(AND(Groger!J41=RESULTATS!J41,Groger!M41=RESULTATS!M41),3,IF(OR(AND(Groger!J41>Groger!M41,RESULTATS!J41>RESULTATS!M41),AND(Groger!J41<Groger!M41,RESULTATS!J41<RESULTATS!M41),AND(Groger!J41=Groger!M41,RESULTATS!J41=RESULTATS!M41)),1,0)))","v":""},null,null,null,"04060Mexique",4060,2,"Mexique",{"$f":"SUMPRODUCT((Teams1=U41)*(Teams1_Score<>\"\"))+SUMPRODUCT((Teams2=U41)*(Teams2_Score<>\"\"))","v":3},{"$f":"SUMPRODUCT((Teams1=U41)*(Teams1_Score>Teams2_Score))+SUMPRODUCT((Teams2=U41)*(Teams2_Score>Teams1_Score))","v":1},{"$f":"SUMPRODUCT((Teams1=U41)*(Teams1_Score=Teams2_Score)*(Teams1_Score<>\"\"))+SUMPRODUCT((Teams2=U41)*(Teams2_Score=Teams1_Score)*(Teams2_Score<>\"\"))","v":1},{"$f":"SUMPRODUCT((Teams1=U41)*(Teams1_Score<Teams2_Score))+SUMPRODUCT((Teams2=U41)*(Teams2_Score<Teams1_Score))","v":1},{"$f":"SUMPRODUCT((Teams1=U41)*(Teams1_Score))+SUMPRODUCT((Teams2=U41)*(Teams2_Score))","v":6},{"$f":"SUMPRODUCT((Teams1=U41)*(Teams2_Score))+SUMPRODUCT((Teams2=U41)*(Teams1_Score))","v":6},{"$f":"Z41-AA41","v":0},{"$f":"3*W41+X41","v":4},null,null,"2018-07-07","D",{"$f":"+IF(AJ50<>\"\",IF(AI50>AO50,AH50,AN50),\"Vainqueur 6\")","v":"Allemagne"},{"$f":"AJ41*10+AL41","v":20},2,{"$f":"IF(LEFT(AH41,5)<>\"Vainq\",COUNTIF(RESULTATS!$AG$23:$AM$26,AH41),0)","v":0},null,null,{"$f":"+IF(AJ52<>\"\",IF(AI52>AO52,AH52,AN52),\"Vainqueur 8\")","v":"Colombie"},{"$f":"AP41*10+AR41","v":0},0,{"$f":"IF(LEFT(AN41,5)<>\"Vainq\",COUNTIF(RESULTATS!$AG$23:$AM$26,AN41),0)","v":0}]
[null,{"$f":"VLOOKUP($D42,TABLEAU_MATCHS[#All],2,FALSE)","v":"2018-06-25"},{"$f":"VLOOKUP($D42,TABLEAU_MATCHS[#All],3,FALSE)","v":"20:00:00"},35,{"$f":"\"Groupe \"&VLOOKUP($I42,TABLEAU_TEAMS[[#All],[TEAM]:[GROUP_INITIAL_RANK]],2,FALSE)","v":"Groupe B"},13,6.5,1.1399999999999999,{"$f":"VLOOKUP($D42,TABLEAU_MATCHS[#All],4,FALSE)","v":"RI Iran"},0,null,{"$f":"VLOOKUP($D42,TABLEAU_MATCHS[#All],5,FALSE)","v":"Portugal"},5,{"$f":"IF(OR(ISBLANK(RESULTATS!J42),ISBLANK(J42)),\"\",IF(AND(Groger!J42=RESULTATS!J42,Groger!M42=RESULTATS!M42),3,IF(OR(AND(Groger!J42>Groger!M42,RESULTATS!J42>RESULTATS!M42),AND(Groger!J42<Groger!M42,RESULTATS!J42<RESULTATS!M42),AND(Groger!J42=Groger!M42,RESULTATS!J42=RESULTATS!M42)),1,0)))","v":""},null,null,null,"-00580République de Corée",-580,4,"République de Corée",{"$f":"SUMPRODUCT((Teams1=U42)*(Teams1_Score<>\"\"))+SUMPRODUCT((Teams2=U42)*(Teams2_Score<>\"\"))","v":3},{"$f":"SUMPRODUCT((Teams1=U42)*(Teams1_Score>Teams2_Score))+SUMPRODUCT((Teams2=U42)*(Teams2_Score>Teams1_Score))","v":0},{"$f":"SUMPRODUCT((Teams1=U42)*(Teams1_Score=Teams2_Score)*(Teams1_Score<>\"\"))+SUMPRODUCT((Teams2=U42)*(Teams2_Score=Teams1_Score)*(Teams2_Score<>\"\"))","v":0},{"$f":"SUMPRODUCT((Teams1=U42)*(Teams1_Score<Teams2_Score))+SUMPRODUCT((Teams2=U42)*(Teams2_Score<Teams1_Score))","v":3},{"$f":"SUMPRODUCT((Teams1=U42)*(Teams1_Score))+SUMPRODUCT((Teams2=U42)*(Teams2_Score))","v":2},{"$f":"SUMPRODUCT((Teams1=U42)*(Teams2_Score))+SUMPRODUCT((Teams2=U42)*(Teams1_Score))","v":8},{"$f":"Z42-AA42","v":-6},{"$f":"3*W42+X42","v":0},null,null,null,null,null,null,null,{"$f":"SUM(AK38:AK41)","v":0},null,null,null,null,null,{"$f":"SUM(AQ38:AQ41)","v":0}]
[null,{"$f":"VLOOKUP($D43,TABLEAU_MATCHS[#All],2,FALSE)","v":"2018-06-25"},{"$f":"VLOOKUP($D43,TABLEAU_MATCHS[#All],3,FALSE)","v":"20:00:00"},36,{"$f":"\"Groupe \"&VLOOKUP($I43,TABLEAU_TEAMS[[#All],[TEAM]:[GROUP_INITIAL_RANK]],2,FALSE)","v":"Groupe B"},2.25,3.1,2.95,{"$f":"VLOOKUP($D43,TABLEAU_MATCHS[#All],4,FALSE)","v":"Espagne"},3,null,{"$f":"VLOOKUP($D43,TABLEAU_MATCHS[#All],5,FALSE)","v":"Maroc"},1,{"$f":"IF(OR(ISBLANK(RESULTATS!J43),ISBLANK(J43)),\"\",IF(AND(Groger!J43=RESULTATS!J43,Groger!M43=RESULTATS!M43),3,IF(OR(AND(Groger!J43>Groger!M43,RESULTATS!J43>RESULTATS!M43),AND(Groger!J43<Groger!M43,RESULTATS!J43<RESULTATS!M43),AND(Groger!J43=Groger!M43,RESULTATS!J43=RESULTATS!M43)),1,0)))","v":""},null,null,null,null,null,null,null,null,null,null,null,null,null,null,null,null,null,"Date","Huitième de Finale",null,null,"Buts",null,"Pen",null,null,null,"Buts",null,"Pen"]
[null,{"$f":"VLOOKUP($D44,TABLEAU_MATCHS[#All],2,FALSE)","v":"2018-06-26"},{"$f":"VLOOKUP($D44,TABLEAU_MATCHS[#All],3,FALSE)","v":"16:00:00"},37,{"$f":"\"Groupe \"&VLOOKUP($I44,TABLEAU_TEAMS[[#All],[TEAM]:[GROUP_INITIAL_RANK]],2,FALSE)","v":"Groupe C"},4.3,3.25,1.76,{"$f":"VLOOKUP($D44,TABLEAU_MATCHS[#All],4,FALSE)","v":"Danemark"},1,null,{"$f":"VLOOKUP($D44,TABLEAU_MATCHS[#All],5,FALSE)","v":"France"},2,{"$f":"IF(OR(ISBLANK(RESULTATS!J44),ISBLANK(J44)),\"\",IF(AND(Groger!J44=RESULTATS!J44,Groger!M44=RESULTATS!M44),3,IF(OR(AND(Groger!J44>Groger!M44,RESULTATS!J44>RESULTATS!M44),AND(Groger!J44<Groger!M44,RESULTATS!J44<RESULTATS!M44),AND(Groger!J44=Groger!M44,RESULTATS!J44=RESULTATS!M44)),1,0)))","v":""},null,null,null,null,null,"Rg","Groupe G","MJ","G","N","P","BP","BC","+/-","Pts"]
[null,{"$f":"VLOOKUP($D45,TABLEAU_MATCHS[#All],2,FALSE)","v":"2018-06-26"},{"$f":"VLOOKUP($D45,TABLEAU_MATCHS[#All],3,FALSE)","v":"16:00:00"},38,{"$f":"\"Groupe \"&VLOOKUP($I45,TABLEAU_TEAMS[[#All],[TEAM]:[GROUP_INITIAL_RANK]],2,FALSE)","v":"Groupe C"},3.05,3,2.25,{"$f":"VLOOKUP($D45,TABLEAU_MATCHS[#All],4,FALSE)","v":"Australie"},1,null,{"$f":"VLOOKUP($D45,TABLEAU_MATCHS[#All],5,FALSE)","v":"Pérou"},3,{"$f":"IF(OR(ISBLANK(RESULTATS!J45),ISBLANK(J45)),\"\",IF(AND(Groger!J45=RESULTATS!J45,Groger!M45=RESULTATS!M45),3,IF(OR(AND(Groger!J45>Groger!M45,RESULTATS!J45>RESULTATS!M45),AND(Groger!J45<Groger!M45,RESULTATS!J45<RESULTATS!M45),AND(Groger!J45=Groger!M45,RESULTATS!J45=RESULTATS!M45)),1,0)))","v":""},null,null,null,{"$f":"INDEX($R96:$R99,MATCH(SMALL(COUNTIF($R96:$R99,\">=\"&$R96:$R99),ROW(INDIRECT(\"1:\"&ROWS($R96:$R99)))),COUNTIF($R96:$R99,\">=\"&$R96:$R99),0))","v":"09480Belgique"},{"$f":"INDEX($S96:$S99,MATCH(SMALL(COUNTIF($R96:$R99,\">=\"&$R96:$R99),ROW(INDIRECT(\"1:\"&ROWS($R96:$R99)))),COUNTIF($R96:$R99,\">=\"&$R96:$R99),0))","v":9480},{"$f":"INDEX($T96:$T99,MATCH(SMALL(COUNTIF($R96:$R99,\">=\"&$R96:$R99),ROW(INDIRECT(\"1:\"&ROWS($R96:$R99)))),COUNTIF($R96:$R99,\">=\"&$R96:$R99),0))","v":1},{"$f":"INDEX($U96:$U99,MATCH(SMALL(COUNTIF($R96:$R99,\">=\"&$R96:$R99),ROW(INDIRECT(\"1:\"&ROWS($R96:$R99)))),COUNTIF($R96:$R99,\">=\"&$R96:$R99),0))","v":"Belgique"},{"$f":"SUMPRODUCT((Teams1=U45)*(Teams1_Score<>\"\"))+SUMPRODUCT((Teams2=U45)*(Teams2_Score<>\"\"))","v":3},{"$f":"SUMPRODUCT((Teams1=U45)*(Teams1_Score>Teams2_Score))+SUMPRODUCT((Teams2=U45)*(Teams2_Score>Teams1_Score))","v":3},{"$f":"SUMPRODUCT((Teams1=U45)*(Teams1_Score=Teams2_Score)*(Teams1_Score<>\"\"))+SUMPRODUCT((Teams2=U45)*(Teams2_Score=Teams1_Score)*(Teams2_Score<>\"\"))","v":0},{"$f":"SUMPRODUCT((Teams1=U45)*(Teams1_Score<Teams2_Score))+SUMPRODUCT((Teams2=U45)*(Teams2_Score<Teams1_Score))","v":0},{"$f":"SUMPRODUCT((Teams1=U45)*(Teams1_Score))+SUMPRODUCT((Teams2=U45)*(Teams2_Score))","v":8},{"$f":"SUMPRODUCT((Teams1=U45)*(Teams2_Score))+SUMPRODUCT((Teams2=U45)*(Teams1_Score))","v":4},{"$f":"Z45-AA45","v":4},{"$f":"3*W45+X45","v":9},null,null,"2018-06-30",1,{"$f":"IF(SUM(V9:V12)=0,\"1er Groupe A\",IF(COUNTIF(T9:T12,1)=1,VLOOKUP(1,T9:U12,2,FALSE),IF(COUNTIF(T9:T12,1)>=2,\"Tirage au Sort A1\")))","v":"Uruguay"},{"$f":"AJ45*10+AL45","v":10},1,{"$f":"IF(AND(LEFT(AH45,3)<>\"1er\",LEFT(AH45,3)<>\"2nd\"),COUNTIF(RESULTATS!$AG$30:$AM$37,AH45),0)","v":1},null,null,{"$f":"IF(SUM(V15:V18)=0,\"2nd Groupe B\",IF(OR(COUNTIF(T15:T18,1)>1,COUNTIF(T15:T18,2)>1),\"Tirage au sort B2\",VLOOKUP(2,T15:U18,2,FALSE)))","v":"Portugal"},{"$f":"AP45*10+AR45","v":30},3,{"$f":"IF(AND(LEFT(AN45,3)<>\"1er\",LEFT(AN45,3)<>\"2nd\"),COUNTIF(RESULTATS!$AG$30:$AM$37,AN45),0)","v":0}]
[null,{"$f":"VLOOKUP($D46,TABLEAU_MATCHS[#All],2,FALSE)","v":"2018-06-26"},{"$f":"VLOOKUP($D46,TABLEAU_MATCHS[#All],3,FALSE)","v":"20:00:00"},39,{"$f":"\"Groupe \"&VLOOKUP($I46,TABLEAU_TEAMS[[#All],[TEAM]:[GROUP_INITIAL_RANK]],2,FALSE)","v":"Groupe D"},2.4,2.9,2.85,{"$f":"VLOOKUP($D46,TABLEAU_MATCHS[#All],4,FALSE)","v":"Nigeria"},0,null,{"$f":"VLOOKUP($D46,TABLEAU_MATCHS[#All],5,FALSE)","v":"Argentine"},3,{"$f":"IF(OR(ISBLANK(RESULTATS!J46),ISBLANK(J46)),\"\",IF(AND(Groger!J46=RESULTATS!J46,Groger!M46=RESULTATS!M46),3,IF(OR(AND(Groger!J46>Groger!M46,RESULTATS!J46>RESULTATS!M46),AND(Groger!J46<Groger!M46,RESULTATS!J46<RESULTATS!M46),AND(Groger!J46=Groger!M46,RESULTATS!J46=RESULTATS!M46)),1,0)))","v":""},null,null,null,"04170Angleterre",4170,2,"Angleterre",{"$f":"SUMPRODUCT((Teams1=U46)*(Teams1_Score<>\"\"))+SUMPRODUCT((Teams2=U46)*(Teams2_Score<>\"\"))","v":3},{"$f":"SUMPRODUCT((Teams1=U46)*(Teams1_Score>Teams2_Score))+SUMPRODUCT((Teams2=U46)*(Teams2_Score>Teams1_Score))","v":1},{"$f":"SUMPRODUCT((Teams1=U46)*(Teams1_Score=Teams2_Score)*(Teams1_Score<>\"\"))+SUMPRODUCT((Teams2=U46)*(Teams2_Score=Teams1_Score)*(Teams2_Score<>\"\"))","v":1},{"$f":"SUMPRODUCT((Teams1=U46)*(Teams1_Score<Teams2_Score))+SUMPRODUCT((Teams2=U46)*(Teams2_Score<Teams1_Score))","v":1},{"$f":"SUMPRODUCT((Teams1=U46)*(Teams1_Score))+SUMPRODUCT((Teams2=U46)*(Teams2_Score))","v":7},{"$f":"SUMPRODUCT((Teams1=U46)*(Teams2_Score))+SUMPRODUCT((Teams2=U46)*(Teams1_Score))","v":6},{"$f":"Z46-AA46","v":1},{"$f":"3*W46+X46","v":4},null,null,"2018-07-01",2,{"$f":"IF(SUM(V15:V18)=0,\"1er Groupe B\",IF(COUNTIF(T15:T18,1)=1,VLOOKUP(1,T15:U18,2,FALSE),IF(COUNTIF(T15:T18,1)>=2,\"Tirage au Sort B1\")))","v":"Espagne"},{"$f":"AJ46*10+AL46","v":30},3,{"$f":"IF(AND(LEFT(AH46,3)<>\"1er\",LEFT(AH46,3)<>\"2nd\"),COUNTIF(RESULTATS!$AG$30:$AM$37,AH46),0)","v":0},null,null,{"$f":"IF(SUM(V9:V12)=0,\"2nd Groupe A\",IF(OR(COUNTIF(T9:T12,1)>1,COUNTIF(T9:T12,2)>1),\"Tirage au sort A2\",VLOOKUP(2,T9:U12,2,FALSE)))","v":"Russie"},10,1,{"$f":"IF(AND(LEFT(AN46,3)<>\"1er\",LEFT(AN46,3)<>\"2nd\"),COUNTIF(RESULTATS!$AG$30:$AM$37,AN46),0)","v":1}]
[null,{"$f":"VLOOKUP($D47,TABLEAU_MATCHS[#All],2,FALSE)","v":"2018-06-26"},{"$f":"VLOOKUP($D47,TABLEAU_MATCHS[#All],3,FALSE)","v":"20:00:00"},40,{"$f":"\"Groupe \"&VLOOKUP($I47,TABLEAU_TEAMS[[#All],[TEAM]:[GROUP_INITIAL_RANK]],2,FALSE)","v":"Groupe D"},6.5,3.7,1.44,{"$f":"VLOOKUP($D47,TABLEAU_MATCHS[#All],4,FALSE)","v":"Islande"},1,null,{"$f":"VLOOKUP($D47,TABLEAU_MATCHS[#All],5,FALSE)","v":"Croatie"},2,{"$f":"IF(OR(ISBLANK(RESULTATS!J47),ISBLANK(J47)),\"\",IF(AND(Groger!J47=RESULTATS!J47,Groger!M47=RESULTATS!M47),3,IF(OR(AND(Groger!J47>Groger!M47,RESULTATS!J47>RESULTATS!M47),AND(Groger!J47<Groger!M47,RESULTATS!J47<RESULTATS!M47),AND(Groger!J47=Groger!M47,RESULTATS!J47=RESULTATS!M47)),1,0)))","v":""},null,null,null,"04050Tunisie",4050,3,"Tunisie",{"$f":"SUMPRODUCT((Teams1=U47)*(Teams1_Score<>\"\"))+SUMPRODUCT((Teams2=U47)*(Teams2_Score<>\"\"))","v":3},{"$f":"SUMPRODUCT((Teams1=U47)*(Teams1_Score>Teams2_Score))+SUMPRODUCT((Teams2=U47)*(Teams2_Score>Teams1_Score))","v":1},{"$f":"SUMPRODUCT((Teams1=U47)*(Teams1_Score=Teams2_Score)*(Teams1_Score<>\"\"))+SUMPRODUCT((Teams2=U47)*(Teams2_Score=Teams1_Score)*(Teams2_Score<>\"\"))","v":1},{"$f":"SUMPRODUCT((Teams1=U47)*(Teams1_Score<Teams2_Score))+SUMPRODUCT((Teams2=U47)*(Teams2_Score<Teams1_Score))","v":1},{"$f":"SUMPRODUCT((Teams1=U47)*(Teams1_Score))+SUMPRODUCT((Teams2=U47)*(Teams2_Score))","v":5},{"$f":"SUMPRODUCT((Teams1=U47)*(Teams2_Score))+SUMPRODUCT((Teams2=U47)*(Teams1_Score))","v":5},{"$f":"Z47-AA47","v":0},{"$f":"3*W47+X47","v":4},null,null,"2017-06-30",3,{"$f":"IF(SUM(V21:V24)=0,\"1er Groupe C\",IF(COUNTIF(T21:T24,1)=1,VLOOKUP(1,T21:U24,2,FALSE),IF(COUNTIF(T21:T24,1)>=2,\"Tirage au Sort C1\")))","v":"France"},20,2,{"$f":"IF(AND(LEFT(AH47,3)<>\"1er\",LEFT(AH47,3)<>\"2nd\"),COUNTIF(RESULTATS!$AG$30:$AM$37,AH47),0)","v":0},null,null,{"$f":"IF(SUM(V27:V30)=0,\"2nd Groupe D\",IF(OR(COUNTIF(T27:T30,1)>1,COUNTIF(T27:T30,2)>1),\"Tirage au sort D2\",VLOOKUP(2,T27:U30,2,FALSE)))","v":"Croatie"},10,1,{"$f":"IF(AND(LEFT(AN47,3)<>\"1er\",LEFT(AN47,3)<>\"2nd\"),COUNTIF(RESULTATS!$AG$30:$AM$37,AN47),0)","v":0}]
[null,{"$f":"VLOOKUP($D48,TABLEAU_MATCHS[#All],2,FALSE)","v":"2018-06-27"},{"$f":"VLOOKUP($D48,TABLEAU_MATCHS[#All],3,FALSE)","v":"20:00:00"},41,{"$f":"\"Groupe \"&VLOOKUP($I48,TABLEAU_TEAMS[[#All],[TEAM]:[GROUP_INITIAL_RANK]],2,FALSE)","v":"Groupe E"},6.5,3.5,1.48,{"$f":"VLOOKUP($D48,TABLEAU_MATCHS[#All],4,FALSE)","v":"Serbie"},0,null,{"$f":"VLOOKUP($D48,TABLEAU_MATCHS[#All],5,FALSE)","v":"Brésil"},4,{"$f":"IF(OR(ISBLANK(RESULTATS!J48),ISBLANK(J48)),\"\",IF(AND(Groger!J48=RESULTATS!J48,Groger!M48=RESULTATS!M48),3,IF(OR(AND(Groger!J48>Groger!M48,RESULTATS!J48>RESULTATS!M48),AND(Groger!J48<Groger!M48,RESULTATS!J48<RESULTATS!M48),AND(Groger!J48=Groger!M48,RESULTATS!J48=RESULTATS!M48)),1,0)))","v":""},null,null,null,"-00470Panama",-470,4,"Panama",{"$f":"SUMPRODUCT((Teams1=U48)*(Teams1_Score<>\"\"))+SUMPRODUCT((Teams2=U48)*(Teams2_Score<>\"\"))","v":3},{"$f":"SUMPRODUCT((Teams1=U48)*(Teams1_Score>Teams2_Score))+SUMPRODUCT((Teams2=U48)*(Teams2_Score>Teams1_Score))","v":0},{"$f":"SUMPRODUCT((Teams1=U48)*(Teams1_Score=Teams2_Score)*(Teams1_Score<>\"\"))+SUMPRODUCT((Teams2=U48)*(Teams2_Score=Teams1_Score)*(Teams2_Score<>\"\"))","v":0},{"$f":"SUMPRODUCT((Teams1=U48)*(Teams1_Score<Teams2_Score))+SUMPRODUCT((Teams2=U48)*(Teams2_Score<Teams1_Score))","v":3},{"$f":"SUMPRODUCT((Teams1=U48)*(Teams1_Score))+SUMPRODUCT((Teams2=U48)*(Teams2_Score))","v":3},{"$f":"SUMPRODUCT((Teams1=U48)*(Teams2_Score))+SUMPRODUCT((Teams2=U48)*(Teams1_Score))","v":8},{"$f":"Z48-AA48","v":-5},{"$f":"3*W48+X48","v":0},null,null,"2018-07-01",4,{"$f":"IF(SUM(V27:V30)=0,\"1er Groupe D\",IF(COUNTIF(T27:T30,1)=1,VLOOKUP(1,T27:U30,2,FALSE),IF(COUNTIF(T27:T30,1)>=2,\"Tirage au Sort D1\")))","v":"Argentine"},30,3,{"$f":"IF(AND(LEFT(AH48,3)<>\"1er\",LEFT(AH48,3)<>\"2nd\"),COUNTIF(RESULTATS!$AG$30:$AM$37,AH48),0)","v":0},null,null,{"$f":"IF(SUM(V21:V24)=0,\"2nd Groupe C\",IF(OR(COUNTIF(T21:T24,1)>1,COUNTIF(T21:T24,2)>1),\"Tirage au sort C2\",VLOOKUP(2,T21:U24,2,FALSE)))","v":"Pérou"},0,0,{"$f":"IF(AND(LEFT(AN48,3)<>\"1er\",LEFT(AN48,3)<>\"2nd\"),COUNTIF(RESULTATS!$AG$30:$AM$37,AN48),0)","v":0}]
[null,{"$f":"VLOOKUP($D49,TABLEAU_MATCHS[#All],2,FALSE)","v":"2018-06-27"},{"$f":"VLOOKUP($D49,TABLEAU_MATCHS[#All],3,FALSE)","v":"20:00:00"},42,{"$f":"\"Groupe \"&VLOOKUP($I49,TABLEAU_TEAMS[[#All],[TEAM]:[GROUP_INITIAL_RANK]],2,FALSE)","v":"Groupe E"},4,3.05,1.9,{"$f":"VLOOKUP($D49,TABLEAU_MATCHS[#All],4,FALSE)","v":"Suisse"},1,null,{"$f":"VLOOKUP($D49,TABLEAU_MATCHS[#All],5,FALSE)","v":"Costa Rica"},2,{"$f":"IF(OR(ISBLANK(RESULTATS!J49),ISBLANK(J49)),\"\",IF(AND(Groger!J49=RESULTATS!J49,Groger!M49=RESULTATS!M49),3,IF(OR(AND(Groger!J49>Groger!M49,RESULTATS!J49>RESULTATS!M49),AND(Groger!J49<Groger!M49,RESULTATS!J49<RESULTATS!M49),AND(Groger!J49=Groger!M49,RESULTATS!J49=RESULTATS!M49)),1,0)))","v":""},null,null,null,null,null,null,null,null,null,null,null,null,null,null,null,null,null,"2018-07-02",5,{"$f":"IF(SUM(V33:V36)=0,\"1er Groupe E\",IF(COUNTIF(T33:T36,1)=1,VLOOKUP(1,T33:U36,2,FALSE),IF(COUNTIF(T33:T36,1)>=2,\"Tirage au Sort E1\")))","v":"Brésil"},20,2,{"$f":"IF(AND(LEFT(AH49,3)<>\"1er\",LEFT(AH49,3)<>\"2nd\"),COUNTIF(RESULTATS!$AG$30:$AM$37,AH49),0)","v":0},null,null,"Mexique",0,0,{"$f":"IF(AND(LEFT(AN49,3)<>\"1er\",LEFT(AN49,3)<>\"2nd\"),COUNTIF(RESULTATS!$AG$30:$AM$37,AN49),0)","v":0}]
[null,{"$f":"VLOOKUP($D50,TABLEAU_MATCHS[#All],2,FALSE)","v":"2018-06-27"},{"$f":"VLOOKUP($D50,TABLEAU_MATCHS[#All],3,FALSE)","v":"16:00:00"},43,{"$f":"\"Groupe \"&VLOOKUP($I50,TABLEAU_TEAMS[[#All],[TEAM]:[GROUP_INITIAL_RANK]],2,FALSE)","v":"Groupe F"},8.5,4.3,1.3,{"$f":"VLOOKUP($D50,TABLEAU_MATCHS[#All],4,FALSE)","v":"Mexique"},2,null,{"$f":"VLOOKUP($D50,TABLEAU_MATCHS[#All],5,FALSE)","v":"Suède"},2,{"$f":"IF(OR(ISBLANK(RESULTATS!J50),ISBLANK(J50)),\"\",IF(AND(Groger!J50=RESULTATS!J50,Groger!M50=RESULTATS!M50),3,IF(OR(AND(Groger!J50>Groger!M50,RESULTATS!J50>RESULTATS!M50),AND(Groger!J50<Groger!M50,RESULTATS!J50<RESULTATS!M50),AND(Groger!J50=Groger!M50,RESULTATS!J50=RESULTATS!M50)),1,0)))","v":""},null,null,null,null,null,"Rg","Groupe H","MJ","G","N","P","BP","BC","+/-","Pts",null,null,"2018-07-03",6,{"$f":"IF(SUM(V39:V42)=0,\"1er Groupe F\",IF(COUNTIF(T39:T42,1)=1,VLOOKUP(1,T39:U42,2,FALSE),IF(COUNTIF(T39:T42,1)>=2,\"Tirage au Sort F1\")))","v":"Allemagne"},30,3,{"$f":"IF(AND(LEFT(AH50,3)<>\"1er\",LEFT(AH50,3)<>\"2nd\"),COUNTIF(RESULTATS!$AG$30:$AM$37,AH50),0)","v":0},null,null,{"$f":"IF(SUM(V33:V36)=0,\"2nd Groupe E\",IF(OR(COUNTIF(T33:T36,1)>1,COUNTIF(T33:T36,2)>1),\"Tirage au sort E2\",VLOOKUP(2,T33:U36,2,FALSE)))","v":"Serbie"},10,1,{"$f":"IF(AND(LEFT(AN50,3)<>\"1er\",LEFT(AN50,3)<>\"2nd\"),COUNTIF(RESULTATS!$AG$30:$AM$37,AN50),0)","v":0}]
[null,{"$f":"VLOOKUP($D51,TABLEAU_MATCHS[#All],2,FALSE)","v":"2018-06-27"},{"$f":"VLOOKUP($D51,TABLEAU_MATCHS[#All],3,FALSE)","v":"16:00:00"},44,{"$f":"\"Groupe \"&VLOOKUP($I51,TABLEAU_TEAMS[[#All],[TEAM]:[GROUP_INITIAL_RANK]],2,FALSE)","v":"Groupe F"},1.48,3.6,6.25,{"$f":"VLOOKUP($D51,TABLEAU_MATCHS[#All],4,FALSE)","v":"République de Corée"},0,null,{"$f":"VLOOKUP($D51,TABLEAU_MATCHS[#All],5,FALSE)","v":"Allemagne"},3,{"$f":"IF(OR(ISBLANK(RESULTATS!J51),ISBLANK(J51)),\"\",IF(AND(Groger!J51=RESULTATS!J51,Groger!M51=RESULTATS!M51),3,IF(OR(AND(Groger!J51>Groger!M51,RESULTATS!J51>RESULTATS!M51),AND(Groger!J51<Groger!M51,RESULTATS!J51<RESULTATS!M51),AND(Groger!J51=Groger!M51,RESULTATS!J51=RESULTATS!M51)),1,0)))","v":""},null,null,null,{"$f":"INDEX($R102:$R105,MATCH(SMALL(COUNTIF($R102:$R105,\">=\"&$R102:$R105),ROW(INDIRECT(\"1:\"&ROWS($R102:$R105)))),COUNTIF($R102:$R105,\">=\"&$R102:$R105),0))","v":"07360Colombie"},{"$f":"INDEX($S102:$S105,MATCH(SMALL(COUNTIF($R102:$R105,\">=\"&$R102:$R105),ROW(INDIRECT(\"1:\"&ROWS($R102:$R105)))),COUNTIF($R102:$R105,\">=\"&$R102:$R105),0))","v":7360},{"$f":"INDEX($T102:$T105,MATCH(SMALL(COUNTIF($R102:$R105,\">=\"&$R102:$R105),ROW(INDIRECT(\"1:\"&ROWS($R102:$R105)))),COUNTIF($R102:$R105,\">=\"&$R102:$R105),0))","v":1},{"$f":"INDEX($U102:$U105,MATCH(SMALL(COUNTIF($R102:$R105,\">=\"&$R102:$R105),ROW(INDIRECT(\"1:\"&ROWS($R102:$R105)))),COUNTIF($R102:$R105,\">=\"&$R102:$R105),0))","v":"Colombie"},{"$f":"SUMPRODUCT((Teams1=U51)*(Teams1_Score<>\"\"))+SUMPRODUCT((Teams2=U51)*(Teams2_Score<>\"\"))","v":3},{"$f":"SUMPRODUCT((Teams1=U51)*(Teams1_Score>Teams2_Score))+SUMPRODUCT((Teams2=U51)*(Teams2_Score>Teams1_Score))","v":2},{"$f":"SUMPRODUCT((Teams1=U51)*(Teams1_Score=Teams2_Score)*(Teams1_Score<>\"\"))+SUMPRODUCT((Teams2=U51)*(Teams2_Score=Teams1_Score)*(Teams2_Score<>\"\"))","v":1},{"$f":"SUMPRODUCT((Teams1=U51)*(Teams1_Score<Teams2_Score))+SUMPRODUCT((Teams2=U51)*(Teams2_Score<Teams1_Score))","v":0},{"$f":"SUMPRODUCT((Teams1=U51)*(Teams1_Score))+SUMPRODUCT((Teams2=U51)*(Teams2_Score))","v":6},{"$f":"SUMPRODUCT((Teams1=U51)*(Teams2_Score))+SUMPRODUCT((Teams2=U51)*(Teams1_Score))","v":3},{"$f":"Z51-AA51","v":3},{"$f":"3*W51+X51","v":7},null,null,"2018-07-02",7,{"$f":"IF(SUM(V45:V48)=0,\"1er Groupe G\",IF(COUNTIF(T45:T48,1)=1,VLOOKUP(1,T45:U48,2,FALSE),IF(COUNTIF(T45:T48,1)>=2,\"Tirage au Sort G1\")))","v":"Belgique"},15,1,{"$f":"IF(AND(LEFT(AH51,3)<>\"1er\",LEFT(AH51,3)<>\"2nd\"),COUNTIF(RESULTATS!$AG$30:$AM$37,AH51),0)","v":0},5,null,{"$f":"IF(SUM(V51:V54)=0,\"2nd Groupe H\",IF(OR(COUNTIF(T51:T54,1)>1,COUNTIF(T51:T54,2)>1),\"Tirage au sort H2\",VLOOKUP(2,T51:U54,2,FALSE)))","v":"Japon"},14,1,{"$f":"IF(AND(LEFT(AN51,3)<>\"1er\",LEFT(AN51,3)<>\"2nd\"),COUNTIF(RESULTATS!$AG$30:$AM$37,AN51),0)","v":0},4]
[null,{"$f":"VLOOKUP($D52,TABLEAU_MATCHS[#All],2,FALSE)","v":"2018-06-28"},{"$f":"VLOOKUP($D52,TABLEAU_MATCHS[#All],3,FALSE)","v":"20:00:00"},45,{"$f":"\"Groupe \"&VLOOKUP($I52,TABLEAU_TEAMS[[#All],[TEAM]:[GROUP_INITIAL_RANK]],2,FALSE)","v":"Groupe G"},8,4.2,1.32,{"$f":"VLOOKUP($D52,TABLEAU_MATCHS[#All],4,FALSE)","v":"Panama"},1,null,{"$f":"VLOOKUP($D52,TABLEAU_MATCHS[#All],5,FALSE)","v":"Tunisie"},2,{"$f":"IF(OR(ISBLANK(RESULTATS!J52),ISBLANK(J52)),\"\",IF(AND(Groger!J52=RESULTATS!J52,Groger!M52=RESULTATS!M52),3,IF(OR(AND(Groger!J52>Groger!M52,RESULTATS!J52>RESULTATS!M52),AND(Groger!J52<Groger!M52,RESULTATS!J52<RESULTATS!M52),AND(Groger!J52=Groger!M52,RESULTATS!J52=RESULTATS!M52)),1,0)))","v":""},null,null,null,"05240Japon",5240,2,"Japon",{"$f":"SUMPRODUCT((Teams1=U52)*(Teams1_Score<>\"\"))+SUMPRODUCT((Teams2=U52)*(Teams2_Score<>\"\"))","v":3},{"$f":"SUMPRODUCT((Teams1=U52)*(Teams1_Score>Teams2_Score))+SUMPRODUCT((Teams2=U52)*(Teams2_Score>Teams1_Score))","v":1},{"$f":"SUMPRODUCT((Teams1=U52)*(Teams1_Score=Teams2_Score)*(Teams1_Score<>\"\"))+SUMPRODUCT((Teams2=U52)*(Teams2_Score=Teams1_Score)*(Teams2_Score<>\"\"))","v":2},{"$f":"SUMPRODUCT((Teams1=U52)*(Teams1_Score<Teams2_Score))+SUMPRODUCT((Teams2=U52)*(Teams2_Score<Teams1_Score))","v":0},{"$f":"SUMPRODUCT((Teams1=U52)*(Teams1_Score))+SUMPRODUCT((Teams2=U52)*(Teams2_Score))","v":4},{"$f":"SUMPRODUCT((Teams1=U52)*(Teams2_Score))+SUMPRODUCT((Teams2=U52)*(Teams1_Score))","v":2},{"$f":"Z52-AA52","v":2},{"$f":"3*W52+X52","v":5},null,null,"2018-07-03",8,{"$f":"IF(SUM(V51:V54)=0,\"1er Groupe H\",IF(COUNTIF(T51:T54,1)=1,VLOOKUP(1,T51:U54,2,FALSE),IF(COUNTIF(T51:T54,1)>=2,\"Tirage au Sort H1\")))","v":"Colombie"},15,1,{"$f":"IF(AND(LEFT(AH52,3)<>\"1er\",LEFT(AH52,3)<>\"2nd\"),COUNTIF(RESULTATS!$AG$30:$AM$37,AH52),0)","v":0},5,null,{"$f":"IF(SUM(V45:V48)=0,\"2nd Groupe G\",IF(OR(COUNTIF(T45:T48,1)>1,COUNTIF(T45:T48,2)>1),\"Tirage au sort G2\",VLOOKUP(2,T45:U48,2,FALSE)))","v":"Angleterre"},14,1,{"$f":"IF(AND(LEFT(AN52,3)<>\"1er\",LEFT(AN52,3)<>\"2nd\"),COUNTIF(RESULTATS!$AG$30:$AM$37,AN52),0)","v":0},4]
[null,{"$f":"VLOOKUP($D53,TABLEAU_MATCHS[#All],2,FALSE)","v":"2018-06-28"},{"$f":"VLOOKUP($D53,TABLEAU_MATCHS[#All],3,FALSE)","v":"20:00:00"},46,{"$f":"\"Groupe \"&VLOOKUP($I53,TABLEAU_TEAMS[[#All],[TEAM]:[GROUP_INITIAL_RANK]],2,FALSE)","v":"Groupe G"},1.74,3.2,4.0999999999999996,{"$f":"VLOOKUP($D53,TABLEAU_MATCHS[#All],4,FALSE)","v":"Angleterre"},2,null,{"$f":"VLOOKUP($D53,TABLEAU_MATCHS[#All],5,FALSE)","v":"Belgique"},3,{"$f":"IF(OR(ISBLANK(RESULTATS!J53),ISBLANK(J53)),\"\",IF(AND(Groger!J53=RESULTATS!J53,Groger!M53=RESULTATS!M53),3,IF(OR(AND(Groger!J53>Groger!M53,RESULTATS!J53>RESULTATS!M53),AND(Groger!J53<Groger!M53,RESULTATS!J53<RESULTATS!M53),AND(Groger!J53=Groger!M53,RESULTATS!J53=RESULTATS!M53)),1,0)))","v":""},null,null,null,"03940Sénégal",3940,3,"Sénégal",{"$f":"SUMPRODUCT((Teams1=U53)*(Teams1_Score<>\"\"))+SUMPRODUCT((Teams2=U53)*(Teams2_Score<>\"\"))","v":3},{"$f":"SUMPRODUCT((Teams1=U53)*(Teams1_Score>Teams2_Score))+SUMPRODUCT((Teams2=U53)*(Teams2_Score>Teams1_Score))","v":1},{"$f":"SUMPRODUCT((Teams1=U53)*(Teams1_Score=Teams2_Score)*(Teams1_Score<>\"\"))+SUMPRODUCT((Teams2=U53)*(Teams2_Score=Teams1_Score)*(Teams2_Score<>\"\"))","v":1},{"$f":"SUMPRODUCT((Teams1=U53)*(Teams1_Score<Teams2_Score))+SUMPRODUCT((Teams2=U53)*(Teams2_Score<Teams1_Score))","v":1},{"$f":"SUMPRODUCT((Teams1=U53)*(Teams1_Score))+SUMPRODUCT((Teams2=U53)*(Teams2_Score))","v":4},{"$f":"SUMPRODUCT((Teams1=U53)*(Teams2_Score))+SUMPRODUCT((Teams2=U53)*(Teams1_Score))","v":5},{"$f":"Z53-AA53","v":-1},{"$f":"3*W53+X53","v":4},null,null,null,null,null,null,null,{"$f":"SUM(AK45:AK52)","v":1},null,null,null,0,null,{"$f":"SUM(AQ45:AQ52)","v":1}]
[null,{"$f":"VLOOKUP($D54,TABLEAU_MATCHS[#All],2,FALSE)","v":"2018-06-28"},{"$f":"VLOOKUP($D54,TABLEAU_MATCHS[#All],3,FALSE)","v":"16:00:00"},47,{"$f":"\"Groupe \"&VLOOKUP($I54,TABLEAU_TEAMS[[#All],[TEAM]:[GROUP_INITIAL_RANK]],2,FALSE)","v":"Groupe H"},4.9000000000000004,3.25,1.62,{"$f":"VLOOKUP($D54,TABLEAU_MATCHS[#All],4,FALSE)","v":"Japon"},2,null,{"$f":"VLOOKUP($D54,TABLEAU_MATCHS[#All],5,FALSE)","v":"Pologne"},0,{"$f":"IF(OR(ISBLANK(RESULTATS!J54),ISBLANK(J54)),\"\",IF(AND(Groger!J54=RESULTATS!J54,Groger!M54=RESULTATS!M54),3,IF(OR(AND(Groger!J54>Groger!M54,RESULTATS!J54>RESULTATS!M54),AND(Groger!J54<Groger!M54,RESULTATS!J54<RESULTATS!M54),AND(Groger!J54=Groger!M54,RESULTATS!J54=RESULTATS!M54)),1,0)))","v":""},null,null,null,"-00380Pologne",-380,4,"Pologne",{"$f":"SUMPRODUCT((Teams1=U54)*(Teams1_Score<>\"\"))+SUMPRODUCT((Teams2=U54)*(Teams2_Score<>\"\"))","v":3},{"$f":"SUMPRODUCT((Teams1=U54)*(Teams1_Score>Teams2_Score))+SUMPRODUCT((Teams2=U54)*(Teams2_Score>Teams1_Score))","v":0},{"$f":"SUMPRODUCT((Teams1=U54)*(Teams1_Score=Teams2_Score)*(Teams1_Score<>\"\"))+SUMPRODUCT((Teams2=U54)*(Teams2_Score=Teams1_Score)*(Teams2_Score<>\"\"))","v":0},{"$f":"SUMPRODUCT((Teams1=U54)*(Teams1_Score<Teams2_Score))+SUMPRODUCT((Teams2=U54)*(Teams2_Score<Teams1_Score))","v":3},{"$f":"SUMPRODUCT((Teams1=U54)*(Teams1_Score))+SUMPRODUCT((Teams2=U54)*(Teams2_Score))","v":2},{"$f":"SUMPRODUCT((Teams1=U54)*(Teams2_Score))+SUMPRODUCT((Teams2=U54)*(Teams1_Score))","v":6},{"$f":"Z54-AA54","v":-4},{"$f":"3*W54+X54","v":0}]
[null,{"$f":"VLOOKUP($D55,TABLEAU_MATCHS[#All],2,FALSE)","v":"2018-06-28"},{"$f":"VLOOKUP($D55,TABLEAU_MATCHS[#All],3,FALSE)","v":"16:00:00"},48,{"$f":"\"Groupe \"&VLOOKUP($I55,TABLEAU_TEAMS[[#All],[TEAM]:[GROUP_INITIAL_RANK]],2,FALSE)","v":"Groupe H"},6,3.4,1.52,{"$f":"VLOOKUP($D55,TABLEAU_MATCHS[#All],4,FALSE)","v":"Sénégal"},1,null,{"$f":"VLOOKUP($D55,TABLEAU_MATCHS[#All],5,FALSE)","v":"Colombie"},3,{"$f":"IF(OR(ISBLANK(RESULTATS!J55),ISBLANK(J55)),\"\",IF(AND(Groger!J55=RESULTATS!J55,Groger!M55=RESULTATS!M55),3,IF(OR(AND(Groger!J55>Groger!M55,RESULTATS!J55>RESULTATS!M55),AND(Groger!J55<Groger!M55,RESULTATS!J55<RESULTATS!M55),AND(Groger!J55=Groger!M55,RESULTATS!J55=RESULTATS!M55)),1,0)))","v":""}]
[null,null,null,null,null,null,null,null,null,null,null,null,null,{"$f":"SUM(N8:N55)","v":2}]
[]
[]
[null,"Tirage au sort A1",null,null,null,null,null,null,null,null,null,null,null,null,null,null,null,null,null,"Rg","Groupe A","MJ","G","N","P","BP","BC","+/-","Pts"]
[null,{"$f":"IF(ROWS($1:1)<=COUNTIF($T$9:$T$12,1),INDEX($U$9:$U$12,SMALL(IF($T$9:$T$12=1,ROW(INDIRECT(\"1:\"&ROWS($T$9:$T$12)))),ROWS($1:1))),\"\")","v":"Uruguay"},null,null,null,null,null,null,null,null,null,null,null,null,null,null,"A_1",{"$f":"TEXT(S60,\"00000\")&U60","v":"06150Russie"},{"$f":"AC60*1000+AB60*100+Z60*10","v":6150},{"$f":"RANK(S60,$S60:$S64,0)","v":2},{"$f":"VLOOKUP(Q60,TABLEAU_TEAMS[#All],2,FALSE)","v":"Russie"},{"$f":"SUMPRODUCT((Teams1=U60)*(Teams1_Score<>\"\"))+SUMPRODUCT((Teams2=U60)*(Teams2_Score<>\"\"))","v":3},{"$f":"SUMPRODUCT((Teams1=U60)*(Teams1_Score>Teams2_Score))+SUMPRODUCT((Teams2=U60)*(Teams2_Score>Teams1_Score))","v":2},{"$f":"SUMPRODUCT((Teams1=U60)*(Teams1_Score=Teams2_Score)*(Teams1_Score<>\"\"))+SUMPRODUCT((Teams2=U60)*(Teams2_Score=Teams1_Score)*(Teams2_Score<>\"\"))","v":0},{"$f":"SUMPRODUCT((Teams1=U60)*(Teams1_Score<Teams2_Score))+SUMPRODUCT((Teams2=U60)*(Teams2_Score<Teams1_Score))","v":1},{"$f":"SUMPRODUCT((Teams1=U60)*(Teams1_Score))+SUMPRODUCT((Teams2=U60)*(Teams2_Score))","v":5},{"$f":"SUMPRODUCT((Teams1=U60)*(Teams2_Score))+SUMPRODUCT((Teams2=U60)*(Teams1_Score))","v":4},{"$f":"Z60-AA60","v":1},{"$f":"3*W60+X60","v":6}]
[null,{"$f":"IF(ROWS($1:2)<=COUNTIF($T$9:$T$12,1),INDEX($U$9:$U$12,SMALL(IF($T$9:$T$12=1,ROW(INDIRECT(\"1:\"&ROWS($T$9:$T$12)))),ROWS($1:2))),\"\")","v":""},null,null,null,null,null,null,null,null,null,null,null,null,null,null,"A_2",{"$f":"TEXT(S61,\"00000\")&U61","v":"-00490Arabie Saoudite"},{"$f":"AC61*1000+AB61*100+Z61*10","v":-490},{"$f":"RANK(S61,$S60:$S64,0)","v":4},{"$f":"VLOOKUP(Q61,TABLEAU_TEAMS[#All],2,FALSE)","v":"Arabie Saoudite"},{"$f":"SUMPRODUCT((Teams1=U61)*(Teams1_Score<>\"\"))+SUMPRODUCT((Teams2=U61)*(Teams2_Score<>\"\"))","v":3},{"$f":"SUMPRODUCT((Teams1=U61)*(Teams1_Score>Teams2_Score))+SUMPRODUCT((Teams2=U61)*(Teams2_Score>Teams1_Score))","v":0},{"$f":"SUMPRODUCT((Teams1=U61)*(Teams1_Score=Teams2_Score)*(Teams1_Score<>\"\"))+SUMPRODUCT((Teams2=U61)*(Teams2_Score=Teams1_Score)*(Teams2_Score<>\"\"))","v":0},{"$f":"SUMPRODUCT((Teams1=U61)*(Teams1_Score<Teams2_Score))+SUMPRODUCT((Teams2=U61)*(Teams2_Score<Teams1_Score))","v":3},{"$f":"SUMPRODUCT((Teams1=U61)*(Teams1_Score))+SUMPRODUCT((Teams2=U61)*(Teams2_Score))","v":1},{"$f":"SUMPRODUCT((Teams1=U61)*(Teams2_Score))+SUMPRODUCT((Teams2=U61)*(Teams1_Score))","v":6},{"$f":"Z61-AA61","v":-5},{"$f":"3*W61+X61","v":0}]
[null,{"$f":"IF(ROWS($1:3)<=COUNTIF($T$9:$T$12,1),INDEX($U$9:$U$12,SMALL(IF($T$9:$T$12=1,ROW(INDIRECT(\"1:\"&ROWS($T$9:$T$12)))),ROWS($1:3))),\"\")","v":""},null,null,null,null,null,null,null,null,null,null,null,null,null,null,"A_3",{"$f":"TEXT(S62,\"00000\")&U62","v":"02950Egypte"},{"$f":"AC62*1000+AB62*100+Z62*10","v":2950},{"$f":"RANK(S62,$S60:$S64,0)","v":3},{"$f":"VLOOKUP(Q62,TABLEAU_TEAMS[#All],2,FALSE)","v":"Egypte"},{"$f":"SUMPRODUCT((Teams1=U62)*(Teams1_Score<>\"\"))+SUMPRODUCT((Teams2=U62)*(Teams2_Score<>\"\"))","v":3},{"$f":"SUMPRODUCT((Teams1=U62)*(Teams1_Score>Teams2_Score))+SUMPRODUCT((Teams2=U62)*(Teams2_Score>Teams1_Score))","v":1},{"$f":"SUMPRODUCT((Teams1=U62)*(Teams1_Score=Teams2_Score)*(Teams1_Score<>\"\"))+SUMPRODUCT((Teams2=U62)*(Teams2_Score=Teams1_Score)*(Teams2_Score<>\"\"))","v":0},{"$f":"SUMPRODUCT((Teams1=U62)*(Teams1_Score<Teams2_Score))+SUMPRODUCT((Teams2=U62)*(Teams2_Score<Teams1_Score))","v":2},{"$f":"SUMPRODUCT((Teams1=U62)*(Teams1_Score))+SUMPRODUCT((Teams2=U62)*(Teams2_Score))","v":5},{"$f":"SUMPRODUCT((Teams1=U62)*(Teams2_Score))+SUMPRODUCT((Teams2=U62)*(Teams1_Score))","v":6},{"$f":"Z62-AA62","v":-1},{"$f":"3*W62+X62","v":3}]
[null,{"$f":"IF(ROWS($1:4)<=COUNTIF($T$9:$T$12,1),INDEX($U$9:$U$12,SMALL(IF($T$9:$T$12=1,ROW(INDIRECT(\"1:\"&ROWS($T$9:$T$12)))),ROWS($1:4))),\"\")","v":""},null,null,null,null,null,null,null,null,null,null,null,null,null,null,"A_4",{"$f":"TEXT(S63,\"00000\")&U63","v":"09570Uruguay"},{"$f":"AC63*1000+AB63*100+Z63*10","v":9570},{"$f":"RANK(S63,$S60:$S64,0)","v":1},{"$f":"VLOOKUP(Q63,TABLEAU_TEAMS[#All],2,FALSE)","v":"Uruguay"},{"$f":"SUMPRODUCT((Teams1=U63)*(Teams1_Score<>\"\"))+SUMPRODUCT((Teams2=U63)*(Teams2_Score<>\"\"))","v":3},{"$f":"SUMPRODUCT((Teams1=U63)*(Teams1_Score>Teams2_Score))+SUMPRODUCT((Teams2=U63)*(Teams2_Score>Teams1_Score))","v":3},{"$f":"SUMPRODUCT((Teams1=U63)*(Teams1_Score=Teams2_Score)*(Teams1_Score<>\"\"))+SUMPRODUCT((Teams2=U63)*(Teams2_Score=Teams1_Score)*(Teams2_Score<>\"\"))","v":0},{"$f":"SUMPRODUCT((Teams1=U63)*(Teams1_Score<Teams2_Score))+SUMPRODUCT((Teams2=U63)*(Teams2_Score<Teams1_Score))","v":0},{"$f":"SUMPRODUCT((Teams1=U63)*(Teams1_Score))+SUMPRODUCT((Teams2=U63)*(Teams2_Score))","v":7},{"$f":"SUMPRODUCT((Teams1=U63)*(Teams2_Score))+SUMPRODUCT((Teams2=U63)*(Teams1_Score))","v":2},{"$f":"Z63-AA63","v":5},{"$f":"3*W63+X63","v":9}]
[null,"Tirage au sort A2"]
[null,{"$f":"IF(COUNTIF($T$9:$T$12,1)>1,IF(ROWS($1:1)<=COUNTIF($T$9:$T$12,1),INDEX($U$9:$U$12,SMALL(IF($T$9:$T$12=1,ROW(INDIRECT(\"1:\"&ROWS($T$9:$T$12)))),ROWS($1:1))),\"\"),IF(COUNTIF($T$9:$T$12,2)>1,IF(ROWS($1:1)<=COUNTIF($T$9:$T$12,2),INDEX($U$9:$U$12,SMALL(IF($T$9:$T$12=2,ROW(INDIRECT(\"1:\"&ROWS($T$9:$T$12)))),ROWS($1:1))),\"\")))","v":false},null,null,null,null,null,null,null,null,null,null,null,null,null,null,null,null,null,"Rg","Groupe B","MJ","G","N","P","BP","BC","Pts","Pts"]
[null,{"$f":"IF(COUNTIF($T$9:$T$12,1)>1,IF(ROWS($1:2)<=COUNTIF($T$9:$T$12,1),INDEX($U$9:$U$12,SMALL(IF($T$9:$T$12=1,ROW(INDIRECT(\"1:\"&ROWS($T$9:$T$12)))),ROWS($1:2))),\"\"),IF(COUNTIF($T$9:$T$12,2)>1,IF(ROWS($1:2)<=COUNTIF($T$9:$T$12,2),INDEX($U$9:$U$12,SMALL(IF($T$9:$T$12=2,ROW(INDIRECT(\"1:\"&ROWS($T$9:$T$12)))),ROWS($1:2))),\"\")))","v":false},null,null,null,null,null,null,null,null,null,null,null,null,null,null,"B_1",{"$f":"TEXT(S66,\"00000\")&U66","v":"02830Maroc"},{"$f":"AC66*1000+AB66*100+Z66*10","v":2830},{"$f":"RANK(S66,$S66:$S70,0)","v":3},{"$f":"VLOOKUP(Q66,TABLEAU_TEAMS[#All],2,FALSE)","v":"Maroc"},{"$f":"SUMPRODUCT((Teams1=U66)*(Teams1_Score<>\"\"))+SUMPRODUCT((Teams2=U66)*(Teams2_Score<>\"\"))","v":3},{"$f":"SUMPRODUCT((Teams1=U66)*(Teams1_Score>Teams2_Score))+SUMPRODUCT((Teams2=U66)*(Teams2_Score>Teams1_Score))","v":1},{"$f":"SUMPRODUCT((Teams1=U66)*(Teams1_Score=Teams2_Score)*(Teams1_Score<>\"\"))+SUMPRODUCT((Teams2=U66)*(Teams2_Score=Teams1_Score)*(Teams2_Score<>\"\"))","v":0},{"$f":"SUMPRODUCT((Teams1=U66)*(Teams1_Score<Teams2_Score))+SUMPRODUCT((Teams2=U66)*(Teams2_Score<Teams1_Score))","v":2},{"$f":"SUMPRODUCT((Teams1=U66)*(Teams1_Score))+SUMPRODUCT((Teams2=U66)*(Teams2_Score))","v":3},{"$f":"SUMPRODUCT((Teams1=U66)*(Teams2_Score))+SUMPRODUCT((Teams2=U66)*(Teams1_Score))","v":5},{"$f":"Z66-AA66","v":-2},{"$f":"3*W66+X66","v":3}]
[null,{"$f":"IF(COUNTIF($T$9:$T$12,1)>1,IF(ROWS($1:3)<=COUNTIF($T$9:$T$12,1),INDEX($U$9:$U$12,SMALL(IF($T$9:$T$12=1,ROW(INDIRECT(\"1:\"&ROWS($T$9:$T$12)))),ROWS($1:3))),\"\"),IF(COUNTIF($T$9:$T$12,2)>1,IF(ROWS($1:3)<=COUNTIF($T$9:$T$12,2),INDEX($U$9:$U$12,SMALL(IF($T$9:$T$12=2,ROW(INDIRECT(\"1:\"&ROWS($T$9:$T$12)))),ROWS($1:3))),\"\")))","v":false},null,null,null,null,null,null,null,null,null,null,null,null,null,null,"B_2",{"$f":"TEXT(S67,\"00000\")&U67","v":"-01100RI Iran"},{"$f":"AC67*1000+AB67*100+Z67*10","v":-1100},{"$f":"RANK(S67,$S66:$S70,0)","v":4},{"$f":"VLOOKUP(Q67,TABLEAU_TEAMS[#All],2,FALSE)","v":"RI Iran"},{"$f":"SUMPRODUCT((Teams1=U67)*(Teams1_Score<>\"\"))+SUMPRODUCT((Teams2=U67)*(Teams2_Score<>\"\"))","v":3},{"$f":"SUMPRODUCT((Teams1=U67)*(Teams1_Score>Teams2_Score))+SUMPRODUCT((Teams2=U67)*(Teams2_Score>Teams1_Score))","v":0},{"$f":"SUMPRODUCT((Teams1=U67)*(Teams1_Score=Teams2_Score)*(Teams1_Score<>\"\"))+SUMPRODUCT((Teams2=U67)*(Teams2_Score=Teams1_Score)*(Teams2_Score<>\"\"))","v":0},{"$f":"SUMPRODUCT((Teams1=U67)*(Teams1_Score<Teams2_Score))+SUMPRODUCT((Teams2=U67)*(Teams2_Score<Teams1_Score))","v":3},{"$f":"SUMPRODUCT((Teams1=U67)*(Teams1_Score))+SUMPRODUCT((Teams2=U67)*(Teams2_Score))","v":0},{"$f":"SUMPRODUCT((Teams1=U67)*(Teams2_Score))+SUMPRODUCT((Teams2=U67)*(Teams1_Score))","v":11},{"$f":"Z67-AA67","v":-11},{"$f":"3*W67+X67","v":0}]
[null,{"$f":"IF(COUNTIF($T$9:$T$12,1)>1,IF(ROWS($1:4)<=COUNTIF($T$9:$T$12,1),INDEX($U$9:$U$12,SMALL(IF($T$9:$T$12=1,ROW(INDIRECT(\"1:\"&ROWS($T$9:$T$12)))),ROWS($1:4))),\"\"),IF(COUNTIF($T$9:$T$12,2)>1,IF(ROWS($1:4)<=COUNTIF($T$9:$T$12,2),INDEX($U$9:$U$12,SMALL(IF($T$9:$T$12=2,ROW(INDIRECT(\"1:\"&ROWS($T$9:$T$12)))),ROWS($1:4))),\"\")))","v":false},null,null,null,null,null,null,null,null,null,null,null,null,null,null,"B_3",{"$f":"TEXT(S68,\"00000\")&U68","v":"06580Portugal"},{"$f":"AC68*1000+AB68*100+Z68*10","v":6580},{"$f":"RANK(S68,$S66:$S70,0)","v":2},{"$f":"VLOOKUP(Q68,TABLEAU_TEAMS[#All],2,FALSE)","v":"Portugal"},{"$f":"SUMPRODUCT((Teams1=U68)*(Teams1_Score<>\"\"))+SUMPRODUCT((Teams2=U68)*(Teams2_Score<>\"\"))","v":3},{"$f":"SUMPRODUCT((Teams1=U68)*(Teams1_Score>Teams2_Score))+SUMPRODUCT((Teams2=U68)*(Teams2_Score>Teams1_Score))","v":2},{"$f":"SUMPRODUCT((Teams1=U68)*(Teams1_Score=Teams2_Score)*(Teams1_Score<>\"\"))+SUMPRODUCT((Teams2=U68)*(Teams2_Score=Teams1_Score)*(Teams2_Score<>\"\"))","v":0},{"$f":"SUMPRODUCT((Teams1=U68)*(Teams1_Score<Teams2_Score))+SUMPRODUCT((Teams2=U68)*(Teams2_Score<Teams1_Score))","v":1},{"$f":"SUMPRODUCT((Teams1=U68)*(Teams1_Score))+SUMPRODUCT((Teams2=U68)*(Teams2_Score))","v":8},{"$f":"SUMPRODUCT((Teams1=U68)*(Teams2_Score))+SUMPRODUCT((Teams2=U68)*(Teams1_Score))","v":3},{"$f":"Z68-AA68","v":5},{"$f":"3*W68+X68","v":6}]
[null,"Tirage au sort B1",null,null,null,null,null,null,null,null,null,null,null,null,null,null,"B_4",{"$f":"TEXT(S69,\"00000\")&U69","v":"09900Espagne"},{"$f":"AC69*1000+AB69*100+Z69*10","v":9900},{"$f":"RANK(S69,$S66:$S70,0)","v":1},{"$f":"VLOOKUP(Q69,TABLEAU_TEAMS[#All],2,FALSE)","v":"Espagne"},{"$f":"SUMPRODUCT((Teams1=U69)*(Teams1_Score<>\"\"))+SUMPRODUCT((Teams2=U69)*(Teams2_Score<>\"\"))","v":3},{"$f":"SUMPRODUCT((Teams1=U69)*(Teams1_Score>Teams2_Score))+SUMPRODUCT((Teams2=U69)*(Teams2_Score>Teams1_Score))","v":3},{"$f":"SUMPRODUCT((Teams1=U69)*(Teams1_Score=Teams2_Score)*(Teams1_Score<>\"\"))+SUMPRODUCT((Teams2=U69)*(Teams2_Score=Teams1_Score)*(Teams2_Score<>\"\"))","v":0},{"$f":"SUMPRODUCT((Teams1=U69)*(Teams1_Score<Teams2_Score))+SUMPRODUCT((Teams2=U69)*(Teams2_Score<Teams1_Score))","v":0},{"$f":"SUMPRODUCT((Teams1=U69)*(Teams1_Score))+SUMPRODUCT((Teams2=U69)*(Teams2_Score))","v":10},{"$f":"SUMPRODUCT((Teams1=U69)*(Teams2_Score))+SUMPRODUCT((Teams2=U69)*(Teams1_Score))","v":2},{"$f":"Z69-AA69","v":8},{"$f":"3*W69+X69","v":9}]
[null,{"$f":"IF(ROWS($1:1)<=COUNTIF($T$15:$T$18,1),INDEX($U$15:$U$18,SMALL(IF($T$15:$T$18=1,ROW(INDIRECT(\"1:\"&ROWS($T$15:$T$18)))),ROWS($1:1))),\"\")","v":"Espagne"}]
[null,{"$f":"IF(ROWS($1:2)<=COUNTIF($T$15:$T$18,1),INDEX($U$15:$U$18,SMALL(IF($T$15:$T$18=1,ROW(INDIRECT(\"1:\"&ROWS($T$15:$T$18)))),ROWS($1:2))),\"\")","v":""},null,null,null,null,null,null,null,null,null,null,null,null,null,null,null,null,null,"Rg","Groupe C","MJ","G","N","P","BP","BC","Pts","Pts"]
[null,{"$f":"IF(ROWS($1:3)<=COUNTIF($T$15:$T$18,1),INDEX($U$15:$U$18,SMALL(IF($T$15:$T$18=1,ROW(INDIRECT(\"1:\"&ROWS($T$15:$T$18)))),ROWS($1:3))),\"\")","v":""},null,null,null,null,null,null,null,null,null,null,null,null,null,null,"C_1",{"$f":"TEXT(S72,\"00000\")&U72","v":"09680France"},{"$f":"AC72*1000+AB72*100+Z72*10","v":9680},{"$f":"RANK(S72,$S72:$S76,0)","v":1},{"$f":"VLOOKUP(Q72,TABLEAU_TEAMS[#All],2,FALSE)","v":"France"},{"$f":"SUMPRODUCT((Teams1=U72)*(Teams1_Score<>\"\"))+SUMPRODUCT((Teams2=U72)*(Teams2_Score<>\"\"))","v":3},{"$f":"SUMPRODUCT((Teams1=U72)*(Teams1_Score>Teams2_Score))+SUMPRODUCT((Teams2=U72)*(Teams2_Score>Teams1_Score))","v":3},{"$f":"SUMPRODUCT((Teams1=U72)*(Teams1_Score=Teams2_Score)*(Teams1_Score<>\"\"))+SUMPRODUCT((Teams2=U72)*(Teams2_Score=Teams1_Score)*(Teams2_Score<>\"\"))","v":0},{"$f":"SUMPRODUCT((Teams1=U72)*(Teams1_Score<Teams2_Score))+SUMPRODUCT((Teams2=U72)*(Teams2_Score<Teams1_Score))","v":0},{"$f":"SUMPRODUCT((Teams1=U72)*(Teams1_Score))+SUMPRODUCT((Teams2=U72)*(Teams2_Score))","v":8},{"$f":"SUMPRODUCT((Teams1=U72)*(Teams2_Score))+SUMPRODUCT((Teams2=U72)*(Teams1_Score))","v":2},{"$f":"Z72-AA72","v":6},{"$f":"3*W72+X72","v":9}]
[null,{"$f":"IF(ROWS($1:4)<=COUNTIF($T$15:$T$18,1),INDEX($U$15:$U$18,SMALL(IF($T$15:$T$18=1,ROW(INDIRECT(\"1:\"&ROWS($T$15:$T$18)))),ROWS($1:4))),\"\")","v":""},null,null,null,null,null,null,null,null,null,null,null,null,null,null,"C_2",{"$f":"TEXT(S73,\"00000\")&U73","v":"-00690Australie"},{"$f":"AC73*1000+AB73*100+Z73*10","v":-690},{"$f":"RANK(S73,$S72:$S76,0)","v":4},{"$f":"VLOOKUP(Q73,TABLEAU_TEAMS[#All],2,FALSE)","v":"Australie"},{"$f":"SUMPRODUCT((Teams1=U73)*(Teams1_Score<>\"\"))+SUMPRODUCT((Teams2=U73)*(Teams2_Score<>\"\"))","v":3},{"$f":"SUMPRODUCT((Teams1=U73)*(Teams1_Score>Teams2_Score))+SUMPRODUCT((Teams2=U73)*(Teams2_Score>Teams1_Score))","v":0},{"$f":"SUMPRODUCT((Teams1=U73)*(Teams1_Score=Teams2_Score)*(Teams1_Score<>\"\"))+SUMPRODUCT((Teams2=U73)*(Teams2_Score=Teams1_Score)*(Teams2_Score<>\"\"))","v":0},{"$f":"SUMPRODUCT((Teams1=U73)*(Teams1_Score<Teams2_Score))+SUMPRODUCT((Teams2=U73)*(Teams2_Score<Teams1_Score))","v":3},{"$f":"SUMPRODUCT((Teams1=U73)*(Teams1_Score))+SUMPRODUCT((Teams2=U73)*(Teams2_Score))","v":1},{"$f":"SUMPRODUCT((Teams1=U73)*(Teams2_Score))+SUMPRODUCT((Teams2=U73)*(Teams1_Score))","v":8},{"$f":"Z73-AA73","v":-7},{"$f":"3*W73+X73","v":0}]
[null,"Tirage au sort B2",null,null,null,null,null,null,null,null,null,null,null,null,null,null,"C_3",{"$f":"TEXT(S74,\"00000\")&U74","v":"06160Pérou"},{"$f":"AC74*1000+AB74*100+Z74*10","v":6160},{"$f":"RANK(S74,$S72:$S76,0)","v":2},{"$f":"VLOOKUP(Q74,TABLEAU_TEAMS[#All],2,FALSE)","v":"Pérou"},{"$f":"SUMPRODUCT((Teams1=U74)*(Teams1_Score<>\"\"))+SUMPRODUCT((Teams2=U74)*(Teams2_Score<>\"\"))","v":3},{"$f":"SUMPRODUCT((Teams1=U74)*(Teams1_Score>Teams2_Score))+SUMPRODUCT((Teams2=U74)*(Teams2_Score>Teams1_Score))","v":2},{"$f":"SUMPRODUCT((Teams1=U74)*(Teams1_Score=Teams2_Score)*(Teams1_Score<>\"\"))+SUMPRODUCT((Teams2=U74)*(Teams2_Score=Teams1_Score)*(Teams2_Score<>\"\"))","v":0},{"$f":"SUMPRODUCT((Teams1=U74)*(Teams1_Score<Teams2_Score))+SUMPRODUCT((Teams2=U74)*(Teams2_Score<Teams1_Score))","v":1},{"$f":"SUMPRODUCT((Teams1=U74)*(Teams1_Score))+SUMPRODUCT((Teams2=U74)*(Teams2_Score))","v":6},{"$f":"SUMPRODUCT((Teams1=U74)*(Teams2_Score))+SUMPRODUCT((Teams2=U74)*(Teams1_Score))","v":5},{"$f":"Z74-AA74","v":1},{"$f":"3*W74+X74","v":6}]
[null,{"$f":"IF(COUNTIF($T$15:$T$18,1)>1,IF(ROWS($1:1)<=COUNTIF($T$15:$T$18,1),INDEX($U$15:$U$18,SMALL(IF($T$15:$T$18=1,ROW(INDIRECT(\"1:\"&ROWS($T$15:$T$18)))),ROWS($1:1))),\"\"),IF(COUNTIF($T$15:$T$18,2)>1,IF(ROWS($1:1)<=COUNTIF($T$15:$T$18,2),INDEX($U$15:$U$18,SMALL(IF($T$15:$T$18=2,ROW(INDIRECT(\"1:\"&ROWS($T$15:$T$18)))),ROWS($1:1))),\"\")))","v":false},null,null,null,null,null,null,null,null,null,null,null,null,null,null,"C_4",{"$f":"TEXT(S75,\"00000\")&U75","v":"03040Danemark"},{"$f":"AC75*1000+AB75*100+Z75*10","v":3040},{"$f":"RANK(S75,$S72:$S76,0)","v":3},{"$f":"VLOOKUP(Q75,TABLEAU_TEAMS[#All],2,FALSE)","v":"Danemark"},{"$f":"SUMPRODUCT((Teams1=U75)*(Teams1_Score<>\"\"))+SUMPRODUCT((Teams2=U75)*(Teams2_Score<>\"\"))","v":3},{"$f":"SUMPRODUCT((Teams1=U75)*(Teams1_Score>Teams2_Score))+SUMPRODUCT((Teams2=U75)*(Teams2_Score>Teams1_Score))","v":1},{"$f":"SUMPRODUCT((Teams1=U75)*(Teams1_Score=Teams2_Score)*(Teams1_Score<>\"\"))+SUMPRODUCT((Teams2=U75)*(Teams2_Score=Teams1_Score)*(Teams2_Score<>\"\"))","v":0},{"$f":"SUMPRODUCT((Teams1=U75)*(Teams1_Score<Teams2_Score))+SUMPRODUCT((Teams2=U75)*(Teams2_Score<Teams1_Score))","v":2},{"$f":"SUMPRODUCT((Teams1=U75)*(Teams1_Score))+SUMPRODUCT((Teams2=U75)*(Teams2_Score))","v":4},{"$f":"SUMPRODUCT((Teams1=U75)*(Teams2_Score))+SUMPRODUCT((Teams2=U75)*(Teams1_Score))","v":4},{"$f":"Z75-AA75","v":0},{"$f":"3*W75+X75","v":3}]
[null,{"$f":"IF(COUNTIF($T$15:$T$18,1)>1,IF(ROWS($1:2)<=COUNTIF($T$15:$T$18,1),INDEX($U$15:$U$18,SMALL(IF($T$15:$T$18=1,ROW(INDIRECT(\"1:\"&ROWS($T$15:$T$18)))),ROWS($1:2))),\"\"),IF(COUNTIF($T$15:$T$18,2)>1,IF(ROWS($1:2)<=COUNTIF($T$15:$T$18,2),INDEX($U$15:$U$18,SMALL(IF($T$15:$T$18=2,ROW(INDIRECT(\"1:\"&ROWS($T$15:$T$18)))),ROWS($1:2))),\"\")))","v":false}]
[null,{"$f":"IF(COUNTIF($T$15:$T$18,1)>1,IF(ROWS($1:3)<=COUNTIF($T$15:$T$18,1),INDEX($U$15:$U$18,SMALL(IF($T$15:$T$18=1,ROW(INDIRECT(\"1:\"&ROWS($T$15:$T$18)))),ROWS($1:3))),\"\"),IF(COUNTIF($T$15:$T$18,2)>1,IF(ROWS($1:3)<=COUNTIF($T$15:$T$18,2),INDEX($U$15:$U$18,SMALL(IF($T$15:$T$18=2,ROW(INDIRECT(\"1:\"&ROWS($T$15:$T$18)))),ROWS($1:3))),\"\")))","v":false},null,null,null,null,null,null,null,null,null,null,null,null,null,null,null,null,null,"Rg","Groupe D","MJ","G","N","P","BP","BC","Pts","Pts"]
[null,{"$f":"IF(COUNTIF($T$15:$T$18,1)>1,IF(ROWS($1:4)<=COUNTIF($T$15:$T$18,1),INDEX($U$15:$U$18,SMALL(IF($T$15:$T$18=1,ROW(INDIRECT(\"1:\"&ROWS($T$15:$T$18)))),ROWS($1:4))),\"\"),IF(COUNTIF($T$15:$T$18,2)>1,IF(ROWS($1:4)<=COUNTIF($T$15:$T$18,2),INDEX($U$15:$U$18,SMALL(IF($T$15:$T$18=2,ROW(INDIRECT(\"1:\"&ROWS($T$15:$T$18)))),ROWS($1:4))),\"\")))","v":false},null,null,null,null,null,null,null,null,null,null,null,null,null,null,"D_1",{"$f":"TEXT(S78,\"00000\")&U78","v":"09890Argentine"},{"$f":"AC78*1000+AB78*100+Z78*10","v":9890},{"$f":"RANK(S78,$S78:$S82,0)","v":1},{"$f":"VLOOKUP(Q78,TABLEAU_TEAMS[#All],2,FALSE)","v":"Argentine"},{"$f":"SUMPRODUCT((Teams1=U78)*(Teams1_Score<>\"\"))+SUMPRODUCT((Teams2=U78)*(Teams2_Score<>\"\"))","v":3},{"$f":"SUMPRODUCT((Teams1=U78)*(Teams1_Score>Teams2_Score))+SUMPRODUCT((Teams2=U78)*(Teams2_Score>Teams1_Score))","v":3},{"$f":"SUMPRODUCT((Teams1=U78)*(Teams1_Score=Teams2_Score)*(Teams1_Score<>\"\"))+SUMPRODUCT((Teams2=U78)*(Teams2_Score=Teams1_Score)*(Teams2_Score<>\"\"))","v":0},{"$f":"SUMPRODUCT((Teams1=U78)*(Teams1_Score<Teams2_Score))+SUMPRODUCT((Teams2=U78)*(Teams2_Score<Teams1_Score))","v":0},{"$f":"SUMPRODUCT((Teams1=U78)*(Teams1_Score))+SUMPRODUCT((Teams2=U78)*(Teams2_Score))","v":9},{"$f":"SUMPRODUCT((Teams1=U78)*(Teams2_Score))+SUMPRODUCT((Teams2=U78)*(Teams1_Score))","v":1},{"$f":"Z78-AA78","v":8},{"$f":"3*W78+X78","v":9}]
[null,"Tirage au sort C1",null,null,null,null,null,null,null,null,null,null,null,null,null,null,"D_2",{"$f":"TEXT(S79,\"00000\")&U79","v":"-00580Islande"},{"$f":"AC79*1000+AB79*100+Z79*10","v":-580},{"$f":"RANK(S79,$S78:$S82,0)","v":4},{"$f":"VLOOKUP(Q79,TABLEAU_TEAMS[#All],2,FALSE)","v":"Islande"},{"$f":"SUMPRODUCT((Teams1=U79)*(Teams1_Score<>\"\"))+SUMPRODUCT((Teams2=U79)*(Teams2_Score<>\"\"))","v":3},{"$f":"SUMPRODUCT((Teams1=U79)*(Teams1_Score>Teams2_Score))+SUMPRODUCT((Teams2=U79)*(Teams2_Score>Teams1_Score))","v":0},{"$f":"SUMPRODUCT((Teams1=U79)*(Teams1_Score=Teams2_Score)*(Teams1_Score<>\"\"))+SUMPRODUCT((Teams2=U79)*(Teams2_Score=Teams1_Score)*(Teams2_Score<>\"\"))","v":0},{"$f":"SUMPRODUCT((Teams1=U79)*(Teams1_Score<Teams2_Score))+SUMPRODUCT((Teams2=U79)*(Teams2_Score<Teams1_Score))","v":3},{"$f":"SUMPRODUCT((Teams1=U79)*(Teams1_Score))+SUMPRODUCT((Teams2=U79)*(Teams2_Score))","v":2},{"$f":"SUMPRODUCT((Teams1=U79)*(Teams2_Score))+SUMPRODUCT((Teams2=U79)*(Teams1_Score))","v":8},{"$f":"Z79-AA79","v":-6},{"$f":"3*W79+X79","v":0}]
[null,{"$f":"IF(ROWS($1:1)<=COUNTIF($T$21:$T$24,1),INDEX($U$21:$U$24,SMALL(IF($T$21:$T$24=1,ROW(INDIRECT(\"1:\"&ROWS($T$21:$T$24)))),ROWS($1:1))),\"\")","v":"France"},null,null,null,null,null,null,null,null,null,null,null,null,null,null,"D_3",{"$f":"TEXT(S80,\"00000\")&U80","v":"06260Croatie"},{"$f":"AC80*1000+AB80*100+Z80*10","v":6260},{"$f":"RANK(S80,$S78:$S82,0)","v":2},{"$f":"VLOOKUP(Q80,TABLEAU_TEAMS[#All],2,FALSE)","v":"Croatie"},{"$f":"SUMPRODUCT((Teams1=U80)*(Teams1_Score<>\"\"))+SUMPRODUCT((Teams2=U80)*(Teams2_Score<>\"\"))","v":3},{"$f":"SUMPRODUCT((Teams1=U80)*(Teams1_Score>Teams2_Score))+SUMPRODUCT((Teams2=U80)*(Teams2_Score>Teams1_Score))","v":2},{"$f":"SUMPRODUCT((Teams1=U80)*(Teams1_Score=Teams2_Score)*(Teams1_Score<>\"\"))+SUMPRODUCT((Teams2=U80)*(Teams2_Score=Teams1_Score)*(Teams2_Score<>\"\"))","v":0},{"$f":"SUMPRODUCT((Teams1=U80)*(Teams1_Score<Teams2_Score))+SUMPRODUCT((Teams2=U80)*(Teams2_Score<Teams1_Score))","v":1},{"$f":"SUMPRODUCT((Teams1=U80)*(Teams1_Score))+SUMPRODUCT((Teams2=U80)*(Teams2_Score))","v":6},{"$f":"SUMPRODUCT((Teams1=U80)*(Teams2_Score))+SUMPRODUCT((Teams2=U80)*(Teams1_Score))","v":4},{"$f":"Z80-AA80","v":2},{"$f":"3*W80+X80","v":6}]
[null,{"$f":"IF(ROWS($1:2)<=COUNTIF($T$21:$T$24,1),INDEX($U$21:$U$24,SMALL(IF($T$21:$T$24=1,ROW(INDIRECT(\"1:\"&ROWS($T$21:$T$24)))),ROWS($1:2))),\"\")","v":""},null,null,null,null,null,null,null,null,null,null,null,null,null,null,"D_4",{"$f":"TEXT(S81,\"00000\")&U81","v":"02630Nigeria"},{"$f":"AC81*1000+AB81*100+Z81*10","v":2630},{"$f":"RANK(S81,$S78:$S82,0)","v":3},{"$f":"VLOOKUP(Q81,TABLEAU_TEAMS[#All],2,FALSE)","v":"Nigeria"},{"$f":"SUMPRODUCT((Teams1=U81)*(Teams1_Score<>\"\"))+SUMPRODUCT((Teams2=U81)*(Teams2_Score<>\"\"))","v":3},{"$f":"SUMPRODUCT((Teams1=U81)*(Teams1_Score>Teams2_Score))+SUMPRODUCT((Teams2=U81)*(Teams2_Score>Teams1_Score))","v":1},{"$f":"SUMPRODUCT((Teams1=U81)*(Teams1_Score=Teams2_Score)*(Teams1_Score<>\"\"))+SUMPRODUCT((Teams2=U81)*(Teams2_Score=Teams1_Score)*(Teams2_Score<>\"\"))","v":0},{"$f":"SUMPRODUCT((Teams1=U81)*(Teams1_Score<Teams2_Score))+SUMPRODUCT((Teams2=U81)*(Teams2_Score<Teams1_Score))","v":2},{"$f":"SUMPRODUCT((Teams1=U81)*(Teams1_Score))+SUMPRODUCT((Teams2=U81)*(Teams2_Score))","v":3},{"$f":"SUMPRODUCT((Teams1=U81)*(Teams2_Score))+SUMPRODUCT((Teams2=U81)*(Teams1_Score))","v":7},{"$f":"Z81-AA81","v":-4},{"$f":"3*W81+X81","v":3}]
[null,{"$f":"IF(ROWS($1:3)<=COUNTIF($T$21:$T$24,1),INDEX($U$21:$U$24,SMALL(IF($T$21:$T$24=1,ROW(INDIRECT(\"1:\"&ROWS($T$21:$T$24)))),ROWS($1:3))),\"\")","v":""}]
[null,{"$f":"IF(ROWS($1:4)<=COUNTIF($T$21:$T$24,1),INDEX($U$21:$U$24,SMALL(IF($T$21:$T$24=1,ROW(INDIRECT(\"1:\"&ROWS($T$21:$T$24)))),ROWS($1:4))),\"\")","v":""},null,null,null,null,null,null,null,null,null,null,null,null,null,null,null,null,null,"Rg","Groupe E","MJ","G","N","P","BP","BC","Pts","Pts"]
[null,"Tirage au sort C2",null,null,null,null,null,null,null,null,null,null,null,null,null,null,"E_1",{"$f":"TEXT(S84,\"00000\")&U84","v":"02730Costa Rica"},{"$f":"AC84*1000+AB84*100+Z84*10","v":2730},{"$f":"RANK(S84,$S84:$S88,0)","v":3},{"$f":"VLOOKUP(Q84,TABLEAU_TEAMS[#All],2,FALSE)","v":"Costa Rica"},{"$f":"SUMPRODUCT((Teams1=U84)*(Teams1_Score<>\"\"))+SUMPRODUCT((Teams2=U84)*(Teams2_Score<>\"\"))","v":3},{"$f":"SUMPRODUCT((Teams1=U84)*(Teams1_Score>Teams2_Score))+SUMPRODUCT((Teams2=U84)*(Teams2_Score>Teams1_Score))","v":1},{"$f":"SUMPRODUCT((Teams1=U84)*(Teams1_Score=Teams2_Score)*(Teams1_Score<>\"\"))+SUMPRODUCT((Teams2=U84)*(Teams2_Score=Teams1_Score)*(Teams2_Score<>\"\"))","v":0},{"$f":"SUMPRODUCT((Teams1=U84)*(Teams1_Score<Teams2_Score))+SUMPRODUCT((Teams2=U84)*(Teams2_Score<Teams1_Score))","v":2},{"$f":"SUMPRODUCT((Teams1=U84)*(Teams1_Score))+SUMPRODUCT((Teams2=U84)*(Teams2_Score))","v":3},{"$f":"SUMPRODUCT((Teams1=U84)*(Teams2_Score))+SUMPRODUCT((Teams2=U84)*(Teams1_Score))","v":6},{"$f":"Z84-AA84","v":-3},{"$f":"3*W84+X84","v":3}]
[null,{"$f":"IF(COUNTIF($T$21:$T$24,1)>1,IF(ROWS($1:1)<=COUNTIF($T$21:$T$24,1),INDEX($U$21:$U$24,SMALL(IF($T$21:$T$24=1,ROW(INDIRECT(\"1:\"&ROWS($T$21:$T$24)))),ROWS($1:1))),\"\"),IF(COUNTIF($T$21:$T$24,2)>1,IF(ROWS($1:1)<=COUNTIF($T$21:$T$24,2),INDEX($U$21:$U$24,SMALL(IF($T$21:$T$24=2,ROW(INDIRECT(\"1:\"&ROWS($T$21:$T$24)))),ROWS($1:1))),\"\")))","v":false},null,null,null,null,null,null,null,null,null,null,null,null,null,null,"E_2",{"$f":"TEXT(S85,\"00000\")&U85","v":"05840Serbie"},{"$f":"AC85*1000+AB85*100+Z85*10","v":5840},{"$f":"RANK(S85,$S84:$S88,0)","v":2},{"$f":"VLOOKUP(Q85,TABLEAU_TEAMS[#All],2,FALSE)","v":"Serbie"},{"$f":"SUMPRODUCT((Teams1=U85)*(Teams1_Score<>\"\"))+SUMPRODUCT((Teams2=U85)*(Teams2_Score<>\"\"))","v":3},{"$f":"SUMPRODUCT((Teams1=U85)*(Teams1_Score>Teams2_Score))+SUMPRODUCT((Teams2=U85)*(Teams2_Score>Teams1_Score))","v":2},{"$f":"SUMPRODUCT((Teams1=U85)*(Teams1_Score=Teams2_Score)*(Teams1_Score<>\"\"))+SUMPRODUCT((Teams2=U85)*(Teams2_Score=Teams1_Score)*(Teams2_Score<>\"\"))","v":0},{"$f":"SUMPRODUCT((Teams1=U85)*(Teams1_Score<Teams2_Score))+SUMPRODUCT((Teams2=U85)*(Teams2_Score<Teams1_Score))","v":1},{"$f":"SUMPRODUCT((Teams1=U85)*(Teams1_Score))+SUMPRODUCT((Teams2=U85)*(Teams2_Score))","v":4},{"$f":"SUMPRODUCT((Teams1=U85)*(Teams2_Score))+SUMPRODUCT((Teams2=U85)*(Teams1_Score))","v":6},{"$f":"Z85-AA85","v":-2},{"$f":"3*W85+X85","v":6}]
[null,{"$f":"IF(COUNTIF($T$21:$T$24,1)>1,IF(ROWS($1:2)<=COUNTIF($T$21:$T$24,1),INDEX($U$21:$U$24,SMALL(IF($T$21:$T$24=1,ROW(INDIRECT(\"1:\"&ROWS($T$21:$T$24)))),ROWS($1:2))),\"\"),IF(COUNTIF($T$21:$T$24,2)>1,IF(ROWS($1:2)<=COUNTIF($T$21:$T$24,2),INDEX($U$21:$U$24,SMALL(IF($T$21:$T$24=2,ROW(INDIRECT(\"1:\"&ROWS($T$21:$T$24)))),ROWS($1:2))),\"\")))","v":false},null,null,null,null,null,null,null,null,null,null,null,null,null,null,"E_3",{"$f":"TEXT(S86,\"00000\")&U86","v":"10210Brésil"},{"$f":"AC86*1000+AB86*100+Z86*10","v":10210},{"$f":"RANK(S86,$S84:$S88,0)","v":1},{"$f":"VLOOKUP(Q86,TABLEAU_TEAMS[#All],2,FALSE)","v":"Brésil"},{"$f":"SUMPRODUCT((Teams1=U86)*(Teams1_Score<>\"\"))+SUMPRODUCT((Teams2=U86)*(Teams2_Score<>\"\"))","v":3},{"$f":"SUMPRODUCT((Teams1=U86)*(Teams1_Score>Teams2_Score))+SUMPRODUCT((Teams2=U86)*(Teams2_Score>Teams1_Score))","v":3},{"$f":"SUMPRODUCT((Teams1=U86)*(Teams1_Score=Teams2_Score)*(Teams1_Score<>\"\"))+SUMPRODUCT((Teams2=U86)*(Teams2_Score=Teams1_Score)*(Teams2_Score<>\"\"))","v":0},{"$f":"SUMPRODUCT((Teams1=U86)*(Teams1_Score<Teams2_Score))+SUMPRODUCT((Teams2=U86)*(Teams2_Score<Teams1_Score))","v":0},{"$f":"SUMPRODUCT((Teams1=U86)*(Teams1_Score))+SUMPRODUCT((Teams2=U86)*(Teams2_Score))","v":11},{"$f":"SUMPRODUCT((Teams1=U86)*(Teams2_Score))+SUMPRODUCT((Teams2=U86)*(Teams1_Score))","v":0},{"$f":"Z86-AA86","v":11},{"$f":"3*W86+X86","v":9}]
[null,{"$f":"IF(COUNTIF($T$21:$T$24,1)>1,IF(ROWS($1:3)<=COUNTIF($T$21:$T$24,1),INDEX($U$21:$U$24,SMALL(IF($T$21:$T$24=1,ROW(INDIRECT(\"1:\"&ROWS($T$21:$T$24)))),ROWS($1:3))),\"\"),IF(COUNTIF($T$21:$T$24,2)>1,IF(ROWS($1:3)<=COUNTIF($T$21:$T$24,2),INDEX($U$21:$U$24,SMALL(IF($T$21:$T$24=2,ROW(INDIRECT(\"1:\"&ROWS($T$21:$T$24)))),ROWS($1:3))),\"\")))","v":false},null,null,null,null,null,null,null,null,null,null,null,null,null,null,"E_4",{"$f":"TEXT(S87,\"00000\")&U87","v":"-00580Suisse"},{"$f":"AC87*1000+AB87*100+Z87*10","v":-580},{"$f":"RANK(S87,$S84:$S88,0)","v":4},{"$f":"VLOOKUP(Q87,TABLEAU_TEAMS[#All],2,FALSE)","v":"Suisse"},{"$f":"SUMPRODUCT((Teams1=U87)*(Teams1_Score<>\"\"))+SUMPRODUCT((Teams2=U87)*(Teams2_Score<>\"\"))","v":3},{"$f":"SUMPRODUCT((Teams1=U87)*(Teams1_Score>Teams2_Score))+SUMPRODUCT((Teams2=U87)*(Teams2_Score>Teams1_Score))","v":0},{"$f":"SUMPRODUCT((Teams1=U87)*(Teams1_Score=Teams2_Score)*(Teams1_Score<>\"\"))+SUMPRODUCT((Teams2=U87)*(Teams2_Score=Teams1_Score)*(Teams2_Score<>\"\"))","v":0},{"$f":"SUMPRODUCT((Teams1=U87)*(Teams1_Score<Teams2_Score))+SUMPRODUCT((Teams2=U87)*(Teams2_Score<Teams1_Score))","v":3},{"$f":"SUMPRODUCT((Teams1=U87)*(Teams1_Score))+SUMPRODUCT((Teams2=U87)*(Teams2_Score))","v":2},{"$f":"SUMPRODUCT((Teams1=U87)*(Teams2_Score))+SUMPRODUCT((Teams2=U87)*(Teams1_Score))","v":8},{"$f":"Z87-AA87","v":-6},{"$f":"3*W87+X87","v":0}]
[null,{"$f":"IF(COUNTIF($T$21:$T$24,1)>1,IF(ROWS($1:4)<=COUNTIF($T$21:$T$24,1),INDEX($U$21:$U$24,SMALL(IF($T$21:$T$24=1,ROW(INDIRECT(\"1:\"&ROWS($T$21:$T$24)))),ROWS($1:4))),\"\"),IF(COUNTIF($T$21:$T$24,2)>1,IF(ROWS($1:4)<=COUNTIF($T$21:$T$24,2),INDEX($U$21:$U$24,SMALL(IF($T$21:$T$24=2,ROW(INDIRECT(\"1:\"&ROWS($T$21:$T$24)))),ROWS($1:4))),\"\")))","v":false}]
[null,"Tirage au sort D1",null,null,null,null,null,null,null,null,null,null,null,null,null,null,null,null,null,"Rg","Groupe F","MJ","G","N","P","BP","BC","Pts","Pts"]
[null,{"$f":"IF(ROWS($1:1)<=COUNTIF($T$27:$T$30,1),INDEX($U$27:$U$30,SMALL(IF($T$27:$T$30=1,ROW(INDIRECT(\"1:\"&ROWS($T$27:$T$30)))),ROWS($1:1))),\"\")","v":"Argentine"},null,null,null,null,null,null,null,null,null,null,null,null,null,null,"F_1",{"$f":"TEXT(S90,\"00000\")&U90","v":"09690Allemagne"},{"$f":"AC90*1000+AB90*100+Z90*10","v":9690},{"$f":"RANK(S90,$S90:$S94,0)","v":1},{"$f":"VLOOKUP(Q90,TABLEAU_TEAMS[#All],2,FALSE)","v":"Allemagne"},{"$f":"SUMPRODUCT((Teams1=U90)*(Teams1_Score<>\"\"))+SUMPRODUCT((Teams2=U90)*(Teams2_Score<>\"\"))","v":3},{"$f":"SUMPRODUCT((Teams1=U90)*(Teams1_Score>Teams2_Score))+SUMPRODUCT((Teams2=U90)*(Teams2_Score>Teams1_Score))","v":3},{"$f":"SUMPRODUCT((Teams1=U90)*(Teams1_Score=Teams2_Score)*(Teams1_Score<>\"\"))+SUMPRODUCT((Teams2=U90)*(Teams2_Score=Teams1_Score)*(Teams2_Score<>\"\"))","v":0},{"$f":"SUMPRODUCT((Teams1=U90)*(Teams1_Score<Teams2_Score))+SUMPRODUCT((Teams2=U90)*(Teams2_Score<Teams1_Score))","v":0},{"$f":"SUMPRODUCT((Teams1=U90)*(Teams1_Score))+SUMPRODUCT((Teams2=U90)*(Teams2_Score))","v":9},{"$f":"SUMPRODUCT((Teams1=U90)*(Teams2_Score))+SUMPRODUCT((Teams2=U90)*(Teams1_Score))","v":3},{"$f":"Z90-AA90","v":6},{"$f":"3*W90+X90","v":9}]
[null,{"$f":"IF(ROWS($1:2)<=COUNTIF($T$27:$T$30,1),INDEX($U$27:$U$30,SMALL(IF($T$27:$T$30=1,ROW(INDIRECT(\"1:\"&ROWS($T$27:$T$30)))),ROWS($1:2))),\"\")","v":""},null,null,null,null,null,null,null,null,null,null,null,null,null,null,"F_2",{"$f":"TEXT(S91,\"00000\")&U91","v":"04060Mexique"},{"$f":"AC91*1000+AB91*100+Z91*10","v":4060},{"$f":"RANK(S91,$S90:$S94,0)","v":2},{"$f":"VLOOKUP(Q91,TABLEAU_TEAMS[#All],2,FALSE)","v":"Mexique"},{"$f":"SUMPRODUCT((Teams1=U91)*(Teams1_Score<>\"\"))+SUMPRODUCT((Teams2=U91)*(Teams2_Score<>\"\"))","v":3},{"$f":"SUMPRODUCT((Teams1=U91)*(Teams1_Score>Teams2_Score))+SUMPRODUCT((Teams2=U91)*(Teams2_Score>Teams1_Score))","v":1},{"$f":"SUMPRODUCT((Teams1=U91)*(Teams1_Score=Teams2_Score)*(Teams1_Score<>\"\"))+SUMPRODUCT((Teams2=U91)*(Teams2_Score=Teams1_Score)*(Teams2_Score<>\"\"))","v":1},{"$f":"SUMPRODUCT((Teams1=U91)*(Teams1_Score<Teams2_Score))+SUMPRODUCT((Teams2=U91)*(Teams2_Score<Teams1_Score))","v":1},{"$f":"SUMPRODUCT((Teams1=U91)*(Teams1_Score))+SUMPRODUCT((Teams2=U91)*(Teams2_Score))","v":6},{"$f":"SUMPRODUCT((Teams1=U91)*(Teams2_Score))+SUMPRODUCT((Teams2=U91)*(Teams1_Score))","v":6},{"$f":"Z91-AA91","v":0},{"$f":"3*W91+X91","v":4}]
[null,{"$f":"IF(ROWS($1:3)<=COUNTIF($T$27:$T$30,1),INDEX($U$27:$U$30,SMALL(IF($T$27:$T$30=1,ROW(INDIRECT(\"1:\"&ROWS($T$27:$T$30)))),ROWS($1:3))),\"\")","v":""},null,null,null,null,null,null,null,null,null,null,null,null,null,null,"F_3",{"$f":"TEXT(S92,\"00000\")&U92","v":"04060Suède"},{"$f":"AC92*1000+AB92*100+Z92*10","v":4060},{"$f":"RANK(S92,$S90:$S94,0)","v":2},{"$f":"VLOOKUP(Q92,TABLEAU_TEAMS[#All],2,FALSE)","v":"Suède"},{"$f":"SUMPRODUCT((Teams1=U92)*(Teams1_Score<>\"\"))+SUMPRODUCT((Teams2=U92)*(Teams2_Score<>\"\"))","v":3},{"$f":"SUMPRODUCT((Teams1=U92)*(Teams1_Score>Teams2_Score))+SUMPRODUCT((Teams2=U92)*(Teams2_Score>Teams1_Score))","v":1},{"$f":"SUMPRODUCT((Teams1=U92)*(Teams1_Score=Teams2_Score)*(Teams1_Score<>\"\"))+SUMPRODUCT((Teams2=U92)*(Teams2_Score=Teams1_Score)*(Teams2_Score<>\"\"))","v":1},{"$f":"SUMPRODUCT((Teams1=U92)*(Teams1_Score<Teams2_Score))+SUMPRODUCT((Teams2=U92)*(Teams2_Score<Teams1_Score))","v":1},{"$f":"SUMPRODUCT((Teams1=U92)*(Teams1_Score))+SUMPRODUCT((Teams2=U92)*(Teams2_Score))","v":6},{"$f":"SUMPRODUCT((Teams1=U92)*(Teams2_Score))+SUMPRODUCT((Teams2=U92)*(Teams1_Score))","v":6},{"$f":"Z92-AA92","v":0},{"$f":"3*W92+X92","v":4}]
[null,{"$f":"IF(ROWS($1:4)<=COUNTIF($T$27:$T$30,1),INDEX($U$27:$U$30,SMALL(IF($T$27:$T$30=1,ROW(INDIRECT(\"1:\"&ROWS($T$27:$T$30)))),ROWS($1:4))),\"\")","v":""},null,null,null,null,null,null,null,null,null,null,null,null,null,null,"F_4",{"$f":"TEXT(S93,\"00000\")&U93","v":"-00580République de Corée"},{"$f":"AC93*1000+AB93*100+Z93*10","v":-580},{"$f":"RANK(S93,$S90:$S94,0)","v":4},{"$f":"VLOOKUP(Q93,TABLEAU_TEAMS[#All],2,FALSE)","v":"République de Corée"},{"$f":"SUMPRODUCT((Teams1=U93)*(Teams1_Score<>\"\"))+SUMPRODUCT((Teams2=U93)*(Teams2_Score<>\"\"))","v":3},{"$f":"SUMPRODUCT((Teams1=U93)*(Teams1_Score>Teams2_Score))+SUMPRODUCT((Teams2=U93)*(Teams2_Score>Teams1_Score))","v":0},{"$f":"SUMPRODUCT((Teams1=U93)*(Teams1_Score=Teams2_Score)*(Teams1_Score<>\"\"))+SUMPRODUCT((Teams2=U93)*(Teams2_Score=Teams1_Score)*(Teams2_Score<>\"\"))","v":0},{"$f":"SUMPRODUCT((Teams1=U93)*(Teams1_Score<Teams2_Score))+SUMPRODUCT((Teams2=U93)*(Teams2_Score<Teams1_Score))","v":3},{"$f":"SUMPRODUCT((Teams1=U93)*(Teams1_Score))+SUMPRODUCT((Teams2=U93)*(Teams2_Score))","v":2},{"$f":"SUMPRODUCT((Teams1=U93)*(Teams2_Score))+SUMPRODUCT((Teams2=U93)*(Teams1_Score))","v":8},{"$f":"Z93-AA93","v":-6},{"$f":"3*W93+X93","v":0}]
[null,"Tirage au sort D2"]
[null,{"$f":"IF(COUNTIF($T$27:$T$30,1)>1,IF(ROWS($1:1)<=COUNTIF($T$27:$T$30,1),INDEX($U$27:$U$30,SMALL(IF($T$27:$T$30=1,ROW(INDIRECT(\"1:\"&ROWS($T$27:$T$30)))),ROWS($1:1))),\"\"),IF(COUNTIF($T$27:$T$30,2)>1,IF(ROWS($1:1)<=COUNTIF($T$27:$T$30,2),INDEX($U$27:$U$30,SMALL(IF($T$27:$T$30=2,ROW(INDIRECT(\"1:\"&ROWS($T$27:$T$30)))),ROWS($1:1))),\"\")))","v":false},null,null,null,null,null,null,null,null,null,null,null,null,null,null,null,null,null,"Rg","Groupe G","MJ","G","N","P","BP","BC","Pts","Pts"]
[null,{"$f":"IF(COUNTIF($T$27:$T$30,1)>1,IF(ROWS($1:2)<=COUNTIF($T$27:$T$30,1),INDEX($U$27:$U$30,SMALL(IF($T$27:$T$30=1,ROW(INDIRECT(\"1:\"&ROWS($T$27:$T$30)))),ROWS($1:2))),\"\"),IF(COUNTIF($T$27:$T$30,2)>1,IF(ROWS($1:2)<=COUNTIF($T$27:$T$30,2),INDEX($U$27:$U$30,SMALL(IF($T$27:$T$30=2,ROW(INDIRECT(\"1:\"&ROWS($T$27:$T$30)))),ROWS($1:2))),\"\")))","v":false},null,null,null,null,null,null,null,null,null,null,null,null,null,null,"G_1",{"$f":"TEXT(S96,\"00000\")&U96","v":"09480Belgique"},{"$f":"AC96*1000+AB96*100+Z96*10","v":9480},{"$f":"RANK(S96,$S96:$S100,0)","v":1},{"$f":"VLOOKUP(Q96,TABLEAU_TEAMS[#All],2,FALSE)","v":"Belgique"},{"$f":"SUMPRODUCT((Teams1=U96)*(Teams1_Score<>\"\"))+SUMPRODUCT((Teams2=U96)*(Teams2_Score<>\"\"))","v":3},{"$f":"SUMPRODUCT((Teams1=U96)*(Teams1_Score>Teams2_Score))+SUMPRODUCT((Teams2=U96)*(Teams2_Score>Teams1_Score))","v":3},{"$f":"SUMPRODUCT((Teams1=U96)*(Teams1_Score=Teams2_Score)*(Teams1_Score<>\"\"))+SUMPRODUCT((Teams2=U96)*(Teams2_Score=Teams1_Score)*(Teams2_Score<>\"\"))","v":0},{"$f":"SUMPRODUCT((Teams1=U96)*(Teams1_Score<Teams2_Score))+SUMPRODUCT((Teams2=U96)*(Teams2_Score<Teams1_Score))","v":0},{"$f":"SUMPRODUCT((Teams1=U96)*(Teams1_Score))+SUMPRODUCT((Teams2=U96)*(Teams2_Score))","v":8},{"$f":"SUMPRODUCT((Teams1=U96)*(Teams2_Score))+SUMPRODUCT((Teams2=U96)*(Teams1_Score))","v":4},{"$f":"Z96-AA96","v":4},{"$f":"3*W96+X96","v":9}]
[null,{"$f":"IF(COUNTIF($T$27:$T$30,1)>1,IF(ROWS($1:3)<=COUNTIF($T$27:$T$30,1),INDEX($U$27:$U$30,SMALL(IF($T$27:$T$30=1,ROW(INDIRECT(\"1:\"&ROWS($T$27:$T$30)))),ROWS($1:3))),\"\"),IF(COUNTIF($T$27:$T$30,2)>1,IF(ROWS($1:3)<=COUNTIF($T$27:$T$30,2),INDEX($U$27:$U$30,SMALL(IF($T$27:$T$30=2,ROW(INDIRECT(\"1:\"&ROWS($T$27:$T$30)))),ROWS($1:3))),\"\")))","v":false},null,null,null,null,null,null,null,null,null,null,null,null,null,null,"G_2",{"$f":"TEXT(S97,\"00000\")&U97","v":"-00470Panama"},{"$f":"AC97*1000+AB97*100+Z97*10","v":-470},{"$f":"RANK(S97,$S96:$S100,0)","v":4},{"$f":"VLOOKUP(Q97,TABLEAU_TEAMS[#All],2,FALSE)","v":"Panama"},{"$f":"SUMPRODUCT((Teams1=U97)*(Teams1_Score<>\"\"))+SUMPRODUCT((Teams2=U97)*(Teams2_Score<>\"\"))","v":3},{"$f":"SUMPRODUCT((Teams1=U97)*(Teams1_Score>Teams2_Score))+SUMPRODUCT((Teams2=U97)*(Teams2_Score>Teams1_Score))","v":0},{"$f":"SUMPRODUCT((Teams1=U97)*(Teams1_Score=Teams2_Score)*(Teams1_Score<>\"\"))+SUMPRODUCT((Teams2=U97)*(Teams2_Score=Teams1_Score)*(Teams2_Score<>\"\"))","v":0},{"$f":"SUMPRODUCT((Teams1=U97)*(Teams1_Score<Teams2_Score))+SUMPRODUCT((Teams2=U97)*(Teams2_Score<Teams1_Score))","v":3},{"$f":"SUMPRODUCT((Teams1=U97)*(Teams1_Score))+SUMPRODUCT((Teams2=U97)*(Teams2_Score))","v":3},{"$f":"SUMPRODUCT((Teams1=U97)*(Teams2_Score))+SUMPRODUCT((Teams2=U97)*(Teams1_Score))","v":8},{"$f":"Z97-AA97","v":-5},{"$f":"3*W97+X97","v":0}]
[null,{"$f":"IF(COUNTIF($T$27:$T$30,1)>1,IF(ROWS($1:4)<=COUNTIF($T$27:$T$30,1),INDEX($U$27:$U$30,SMALL(IF($T$27:$T$30=1,ROW(INDIRECT(\"1:\"&ROWS($T$27:$T$30)))),ROWS($1:4))),\"\"),IF(COUNTIF($T$27:$T$30,2)>1,IF(ROWS($1:4)<=COUNTIF($T$27:$T$30,2),INDEX($U$27:$U$30,SMALL(IF($T$27:$T$30=2,ROW(INDIRECT(\"1:\"&ROWS($T$27:$T$30)))),ROWS($1:4))),\"\")))","v":false},null,null,null,null,null,null,null,null,null,null,null,null,null,null,"G_3",{"$f":"TEXT(S98,\"00000\")&U98","v":"04050Tunisie"},{"$f":"AC98*1000+AB98*100+Z98*10","v":4050},{"$f":"RANK(S98,$S96:$S100,0)","v":3},{"$f":"VLOOKUP(Q98,TABLEAU_TEAMS[#All],2,FALSE)","v":"Tunisie"},{"$f":"SUMPRODUCT((Teams1=U98)*(Teams1_Score<>\"\"))+SUMPRODUCT((Teams2=U98)*(Teams2_Score<>\"\"))","v":3},{"$f":"SUMPRODUCT((Teams1=U98)*(Teams1_Score>Teams2_Score))+SUMPRODUCT((Teams2=U98)*(Teams2_Score>Teams1_Score))","v":1},{"$f":"SUMPRODUCT((Teams1=U98)*(Teams1_Score=Teams2_Score)*(Teams1_Score<>\"\"))+SUMPRODUCT((Teams2=U98)*(Teams2_Score=Teams1_Score)*(Teams2_Score<>\"\"))","v":1},{"$f":"SUMPRODUCT((Teams1=U98)*(Teams1_Score<Teams2_Score))+SUMPRODUCT((Teams2=U98)*(Teams2_Score<Teams1_Score))","v":1},{"$f":"SUMPRODUCT((Teams1=U98)*(Teams1_Score))+SUMPRODUCT((Teams2=U98)*(Teams2_Score))","v":5},{"$f":"SUMPRODUCT((Teams1=U98)*(Teams2_Score))+SUMPRODUCT((Teams2=U98)*(Teams1_Score))","v":5},{"$f":"Z98-AA98","v":0},{"$f":"3*W98+X98","v":4}]
[null,"Tirage au sort E1",null,null,null,null,null,null,null,null,null,null,null,null,null,null,"G_4",{"$f":"TEXT(S99,\"00000\")&U99","v":"04170Angleterre"},{"$f":"AC99*1000+AB99*100+Z99*10","v":4170},{"$f":"RANK(S99,$S96:$S100,0)","v":2},{"$f":"VLOOKUP(Q99,TABLEAU_TEAMS[#All],2,FALSE)","v":"Angleterre"},{"$f":"SUMPRODUCT((Teams1=U99)*(Teams1_Score<>\"\"))+SUMPRODUCT((Teams2=U99)*(Teams2_Score<>\"\"))","v":3},{"$f":"SUMPRODUCT((Teams1=U99)*(Teams1_Score>Teams2_Score))+SUMPRODUCT((Teams2=U99)*(Teams2_Score>Teams1_Score))","v":1},{"$f":"SUMPRODUCT((Teams1=U99)*(Teams1_Score=Teams2_Score)*(Teams1_Score<>\"\"))+SUMPRODUCT((Teams2=U99)*(Teams2_Score=Teams1_Score)*(Teams2_Score<>\"\"))","v":1},{"$f":"SUMPRODUCT((Teams1=U99)*(Teams1_Score<Teams2_Score))+SUMPRODUCT((Teams2=U99)*(Teams2_Score<Teams1_Score))","v":1},{"$f":"SUMPRODUCT((Teams1=U99)*(Teams1_Score))+SUMPRODUCT((Teams2=U99)*(Teams2_Score))","v":7},{"$f":"SUMPRODUCT((Teams1=U99)*(Teams2_Score))+SUMPRODUCT((Teams2=U99)*(Teams1_Score))","v":6},{"$f":"Z99-AA99","v":1},{"$f":"3*W99+X99","v":4}]
[null,{"$f":"IF(ROWS($1:1)<=COUNTIF($T$33:$T$36,1),INDEX($U$33:$U$36,SMALL(IF($T$33:$T$36=1,ROW(INDIRECT(\"1:\"&ROWS($T$33:$T$36)))),ROWS($1:1))),\"\")","v":"Brésil"}]
[null,{"$f":"IF(ROWS($1:2)<=COUNTIF($T$33:$T$36,1),INDEX($U$33:$U$36,SMALL(IF($T$33:$T$36=1,ROW(INDIRECT(\"1:\"&ROWS($T$33:$T$36)))),ROWS($1:2))),\"\")","v":""},null,null,null,null,null,null,null,null,null,null,null,null,null,null,null,null,null,"Rg","Groupe H","MJ","G","N","P","BP","BC","Pts","Pts"]
[null,{"$f":"IF(ROWS($1:3)<=COUNTIF($T$33:$T$36,1),INDEX($U$33:$U$36,SMALL(IF($T$33:$T$36=1,ROW(INDIRECT(\"1:\"&ROWS($T$33:$T$36)))),ROWS($1:3))),\"\")","v":""},null,null,null,null,null,null,null,null,null,null,null,null,null,null,"H_1",{"$f":"TEXT(S102,\"00000\")&U102","v":"07360Colombie"},{"$f":"AC102*1000+AB102*100+Z102*10","v":7360},{"$f":"RANK(S102,$S102:$S106,0)","v":1},{"$f":"VLOOKUP(Q102,TABLEAU_TEAMS[#All],2,FALSE)","v":"Colombie"},{"$f":"SUMPRODUCT((Teams1=U102)*(Teams1_Score<>\"\"))+SUMPRODUCT((Teams2=U102)*(Teams2_Score<>\"\"))","v":3},{"$f":"SUMPRODUCT((Teams1=U102)*(Teams1_Score>Teams2_Score))+SUMPRODUCT((Teams2=U102)*(Teams2_Score>Teams1_Score))","v":2},{"$f":"SUMPRODUCT((Teams1=U102)*(Teams1_Score=Teams2_Score)*(Teams1_Score<>\"\"))+SUMPRODUCT((Teams2=U102)*(Teams2_Score=Teams1_Score)*(Teams2_Score<>\"\"))","v":1},{"$f":"SUMPRODUCT((Teams1=U102)*(Teams1_Score<Teams2_Score))+SUMPRODUCT((Teams2=U102)*(Teams2_Score<Teams1_Score))","v":0},{"$f":"SUMPRODUCT((Teams1=U102)*(Teams1_Score))+SUMPRODUCT((Teams2=U102)*(Teams2_Score))","v":6},{"$f":"SUMPRODUCT((Teams1=U102)*(Teams2_Score))+SUMPRODUCT((Teams2=U102)*(Teams1_Score))","v":3},{"$f":"Z102-AA102","v":3},{"$f":"3*W102+X102","v":7}]
[null,{"$f":"IF(ROWS($1:4)<=COUNTIF($T$33:$T$36,1),INDEX($U$33:$U$36,SMALL(IF($T$33:$T$36=1,ROW(INDIRECT(\"1:\"&ROWS($T$33:$T$36)))),ROWS($1:4))),\"\")","v":""},null,null,null,null,null,null,null,null,null,null,null,null,null,null,"H_2",{"$f":"TEXT(S103,\"00000\")&U103","v":"05240Japon"},{"$f":"AC103*1000+AB103*100+Z103*10","v":5240},{"$f":"RANK(S103,$S102:$S106,0)","v":2},{"$f":"VLOOKUP(Q103,TABLEAU_TEAMS[#All],2,FALSE)","v":"Japon"},{"$f":"SUMPRODUCT((Teams1=U103)*(Teams1_Score<>\"\"))+SUMPRODUCT((Teams2=U103)*(Teams2_Score<>\"\"))","v":3},{"$f":"SUMPRODUCT((Teams1=U103)*(Teams1_Score>Teams2_Score))+SUMPRODUCT((Teams2=U103)*(Teams2_Score>Teams1_Score))","v":1},{"$f":"SUMPRODUCT((Teams1=U103)*(Teams1_Score=Teams2_Score)*(Teams1_Score<>\"\"))+SUMPRODUCT((Teams2=U103)*(Teams2_Score=Teams1_Score)*(Teams2_Score<>\"\"))","v":2},{"$f":"SUMPRODUCT((Teams1=U103)*(Teams1_Score<Teams2_Score))+SUMPRODUCT((Teams2=U103)*(Teams2_Score<Teams1_Score))","v":0},{"$f":"SUMPRODUCT((Teams1=U103)*(Teams1_Score))+SUMPRODUCT((Teams2=U103)*(Teams2_Score))","v":4},{"$f":"SUMPRODUCT((Teams1=U103)*(Teams2_Score))+SUMPRODUCT((Teams2=U103)*(Teams1_Score))","v":2},{"$f":"Z103-AA103","v":2},{"$f":"3*W103+X103","v":5}]
[null,"Tirage au sort E2",null,null,null,null,null,null,null,null,null,null,null,null,null,null,"H_3",{"$f":"TEXT(S104,\"00000\")&U104","v":"-00380Pologne"},{"$f":"AC104*1000+AB104*100+Z104*10","v":-380},{"$f":"RANK(S104,$S102:$S106,0)","v":4},{"$f":"VLOOKUP(Q104,TABLEAU_TEAMS[#All],2,FALSE)","v":"Pologne"},{"$f":"SUMPRODUCT((Teams1=U104)*(Teams1_Score<>\"\"))+SUMPRODUCT((Teams2=U104)*(Teams2_Score<>\"\"))","v":3},{"$f":"SUMPRODUCT((Teams1=U104)*(Teams1_Score>Teams2_Score))+SUMPRODUCT((Teams2=U104)*(Teams2_Score>Teams1_Score))","v":0},{"$f":"SUMPRODUCT((Teams1=U104)*(Teams1_Score=Teams2_Score)*(Teams1_Score<>\"\"))+SUMPRODUCT((Teams2=U104)*(Teams2_Score=Teams1_Score)*(Teams2_Score<>\"\"))","v":0},{"$f":"SUMPRODUCT((Teams1=U104)*(Teams1_Score<Teams2_Score))+SUMPRODUCT((Teams2=U104)*(Teams2_Score<Teams1_Score))","v":3},{"$f":"SUMPRODUCT((Teams1=U104)*(Teams1_Score))+SUMPRODUCT((Teams2=U104)*(Teams2_Score))","v":2},{"$f":"SUMPRODUCT((Teams1=U104)*(Teams2_Score))+SUMPRODUCT((Teams2=U104)*(Teams1_Score))","v":6},{"$f":"Z104-AA104","v":-4},{"$f":"3*W104+X104","v":0}]
[null,{"$f":"IF(COUNTIF($T$33:$T$36,1)>1,IF(ROWS($1:1)<=COUNTIF($T$33:$T$36,1),INDEX($U$33:$U$36,SMALL(IF($T$33:$T$36=1,ROW(INDIRECT(\"1:\"&ROWS($T$33:$T$36)))),ROWS($1:1))),\"\"),IF(COUNTIF($T$33:$T$36,2)>1,IF(ROWS($1:1)<=COUNTIF($T$33:$T$36,2),INDEX($U$33:$U$36,SMALL(IF($T$33:$T$36=2,ROW(INDIRECT(\"1:\"&ROWS($T$33:$T$36)))),ROWS($1:1))),\"\")))","v":false},null,null,null,null,null,null,null,null,null,null,null,null,null,null,"H_4",{"$f":"TEXT(S105,\"00000\")&U105","v":"03940Sénégal"},{"$f":"AC105*1000+AB105*100+Z105*10","v":3940},{"$f":"RANK(S105,$S102:$S106,0)","v":3},{"$f":"VLOOKUP(Q105,TABLEAU_TEAMS[#All],2,FALSE)","v":"Sénégal"},{"$f":"SUMPRODUCT((Teams1=U105)*(Teams1_Score<>\"\"))+SUMPRODUCT((Teams2=U105)*(Teams2_Score<>\"\"))","v":3},{"$f":"SUMPRODUCT((Teams1=U105)*(Teams1_Score>Teams2_Score))+SUMPRODUCT((Teams2=U105)*(Teams2_Score>Teams1_Score))","v":1},{"$f":"SUMPRODUCT((Teams1=U105)*(Teams1_Score=Teams2_Score)*(Teams1_Score<>\"\"))+SUMPRODUCT((Teams2=U105)*(Teams2_Score=Teams1_Score)*(Teams2_Score<>\"\"))","v":1},{"$f":"SUMPRODUCT((Teams1=U105)*(Teams1_Score<Teams2_Score))+SUMPRODUCT((Teams2=U105)*(Teams2_Score<Teams1_Score))","v":1},{"$f":"SUMPRODUCT((Teams1=U105)*(Teams1_Score))+SUMPRODUCT((Teams2=U105)*(Teams2_Score))","v":4},{"$f":"SUMPRODUCT((Teams1=U105)*(Teams2_Score))+SUMPRODUCT((Teams2=U105)*(Teams1_Score))","v":5},{"$f":"Z105-AA105","v":-1},{"$f":"3*W105+X105","v":4}]
[null,{"$f":"IF(COUNTIF($T$33:$T$36,1)>1,IF(ROWS($1:2)<=COUNTIF($T$33:$T$36,1),INDEX($U$33:$U$36,SMALL(IF($T$33:$T$36=1,ROW(INDIRECT(\"1:\"&ROWS($T$33:$T$36)))),ROWS($1:2))),\"\"),IF(COUNTIF($T$33:$T$36,2)>1,IF(ROWS($1:2)<=COUNTIF($T$33:$T$36,2),INDEX($U$33:$U$36,SMALL(IF($T$33:$T$36=2,ROW(INDIRECT(\"1:\"&ROWS($T$33:$T$36)))),ROWS($1:2))),\"\")))","v":false}]
[null,{"$f":"IF(COUNTIF($T$33:$T$36,1)>1,IF(ROWS($1:3)<=COUNTIF($T$33:$T$36,1),INDEX($U$33:$U$36,SMALL(IF($T$33:$T$36=1,ROW(INDIRECT(\"1:\"&ROWS($T$33:$T$36)))),ROWS($1:3))),\"\"),IF(COUNTIF($T$33:$T$36,2)>1,IF(ROWS($1:3)<=COUNTIF($T$33:$T$36,2),INDEX($U$33:$U$36,SMALL(IF($T$33:$T$36=2,ROW(INDIRECT(\"1:\"&ROWS($T$33:$T$36)))),ROWS($1:3))),\"\")))","v":false}]
[null,{"$f":"IF(COUNTIF($T$33:$T$36,1)>1,IF(ROWS($1:4)<=COUNTIF($T$33:$T$36,1),INDEX($U$33:$U$36,SMALL(IF($T$33:$T$36=1,ROW(INDIRECT(\"1:\"&ROWS($T$33:$T$36)))),ROWS($1:4))),\"\"),IF(COUNTIF($T$33:$T$36,2)>1,IF(ROWS($1:4)<=COUNTIF($T$33:$T$36,2),INDEX($U$33:$U$36,SMALL(IF($T$33:$T$36=2,ROW(INDIRECT(\"1:\"&ROWS($T$33:$T$36)))),ROWS($1:4))),\"\")))","v":false}]
[null,"Tirage au sort F1"]
[null,{"$f":"IF(ROWS($1:1)<=COUNTIF($T$39:$T$42,1),INDEX($U$39:$U$42,SMALL(IF($T$39:$T$42=1,ROW(INDIRECT(\"1:\"&ROWS($T$39:$T$42)))),ROWS($1:1))),\"\")","v":"Allemagne"}]
[null,{"$f":"IF(ROWS($1:2)<=COUNTIF($T$39:$T$42,1),INDEX($U$39:$U$42,SMALL(IF($T$39:$T$42=1,ROW(INDIRECT(\"1:\"&ROWS($T$39:$T$42)))),ROWS($1:2))),\"\")","v":""}]
[null,{"$f":"IF(ROWS($1:3)<=COUNTIF($T$39:$T$42,1),INDEX($U$39:$U$42,SMALL(IF($T$39:$T$42=1,ROW(INDIRECT(\"1:\"&ROWS($T$39:$T$42)))),ROWS($1:3))),\"\")","v":""}]
[null,{"$f":"IF(ROWS($1:4)<=COUNTIF($T$39:$T$42,1),INDEX($U$39:$U$42,SMALL(IF($T$39:$T$42=1,ROW(INDIRECT(\"1:\"&ROWS($T$39:$T$42)))),ROWS($1:4))),\"\")","v":""}]
[null,"Tirage au sort F2"]
[null,{"$f":"IF(COUNTIF($T$39:$T$42,1)>1,IF(ROWS($1:1)<=COUNTIF($T$39:$T$42,1),INDEX($U$39:$U$42,SMALL(IF($T$39:$T$42=1,ROW(INDIRECT(\"1:\"&ROWS($T$39:$T$42)))),ROWS($1:1))),\"\"),IF(COUNTIF($T$39:$T$42,2)>1,IF(ROWS($1:1)<=COUNTIF($T$39:$T$42,2),INDEX($U$39:$U$42,SMALL(IF($T$39:$T$42=2,ROW(INDIRECT(\"1:\"&ROWS($T$39:$T$42)))),ROWS($1:1))),\"\")))","v":"Suède"}]
[null,{"$f":"IF(COUNTIF($T$39:$T$42,1)>1,IF(ROWS($1:2)<=COUNTIF($T$39:$T$42,1),INDEX($U$39:$U$42,SMALL(IF($T$39:$T$42=1,ROW(INDIRECT(\"1:\"&ROWS($T$39:$T$42)))),ROWS($1:2))),\"\"),IF(COUNTIF($T$39:$T$42,2)>1,IF(ROWS($1:2)<=COUNTIF($T$39:$T$42,2),INDEX($U$39:$U$42,SMALL(IF($T$39:$T$42=2,ROW(INDIRECT(\"1:\"&ROWS($T$39:$T$42)))),ROWS($1:2))),\"\")))","v":"Mexique"}]
[null,{"$f":"IF(COUNTIF($T$39:$T$42,1)>1,IF(ROWS($1:3)<=COUNTIF($T$39:$T$42,1),INDEX($U$39:$U$42,SMALL(IF($T$39:$T$42=1,ROW(INDIRECT(\"1:\"&ROWS($T$39:$T$42)))),ROWS($1:3))),\"\"),IF(COUNTIF($T$39:$T$42,2)>1,IF(ROWS($1:3)<=COUNTIF($T$39:$T$42,2),INDEX($U$39:$U$42,SMALL(IF($T$39:$T$42=2,ROW(INDIRECT(\"1:\"&ROWS($T$39:$T$42)))),ROWS($1:3))),\"\")))","v":""}]
[null,{"$f":"IF(COUNTIF($T$39:$T$42,1)>1,IF(ROWS($1:4)<=COUNTIF($T$39:$T$42,1),INDEX($U$39:$U$42,SMALL(IF($T$39:$T$42=1,ROW(INDIRECT(\"1:\"&ROWS($T$39:$T$42)))),ROWS($1:4))),\"\"),IF(COUNTIF($T$39:$T$42,2)>1,IF(ROWS($1:4)<=COUNTIF($T$39:$T$42,2),INDEX($U$39:$U$42,SMALL(IF($T$39:$T$42=2,ROW(INDIRECT(\"1:\"&ROWS($T$39:$T$42)))),ROWS($1:4))),\"\")))","v":""}]
[null,"Tirage au sort G1"]
[null,{"$f":"IF(ROWS($1:1)<=COUNTIF($T$45:$T$48,1),INDEX($U$45:$U$48,SMALL(IF($T$45:$T$48=1,ROW(INDIRECT(\"1:\"&ROWS($T$45:$T$48)))),ROWS($1:1))),\"\")","v":"Belgique"}]
[null,{"$f":"IF(ROWS($1:2)<=COUNTIF($T$45:$T$48,1),INDEX($U$45:$U$48,SMALL(IF($T$45:$T$48=1,ROW(INDIRECT(\"1:\"&ROWS($T$45:$T$48)))),ROWS($1:2))),\"\")","v":""}]
[null,{"$f":"IF(ROWS($1:3)<=COUNTIF($T$45:$T$48,1),INDEX($U$45:$U$48,SMALL(IF($T$45:$T$48=1,ROW(INDIRECT(\"1:\"&ROWS($T$45:$T$48)))),ROWS($1:3))),\"\")","v":""}]
[null,{"$f":"IF(ROWS($1:4)<=COUNTIF($T$45:$T$48,1),INDEX($U$45:$U$48,SMALL(IF($T$45:$T$48=1,ROW(INDIRECT(\"1:\"&ROWS($T$45:$T$48)))),ROWS($1:4))),\"\")","v":""}]
[null,"Tirage au sort G2"]
[null,{"$f":"IF(COUNTIF($T$45:$T$48,1)>1,IF(ROWS($1:1)<=COUNTIF($T$45:$T$48,1),INDEX($U$45:$U$48,SMALL(IF($T$45:$T$48=1,ROW(INDIRECT(\"1:\"&ROWS($T$45:$T$48)))),ROWS($1:1))),\"\"),IF(COUNTIF($T$45:$T$48,2)>1,IF(ROWS($1:1)<=COUNTIF($T$45:$T$48,2),INDEX($U$45:$U$48,SMALL(IF($T$45:$T$48=2,ROW(INDIRECT(\"1:\"&ROWS($T$45:$T$48)))),ROWS($1:1))),\"\")))","v":false}]
[null,{"$f":"IF(COUNTIF($T$45:$T$48,1)>1,IF(ROWS($1:2)<=COUNTIF($T$45:$T$48,1),INDEX($U$45:$U$48,SMALL(IF($T$45:$T$48=1,ROW(INDIRECT(\"1:\"&ROWS($T$45:$T$48)))),ROWS($1:2))),\"\"),IF(COUNTIF($T$45:$T$48,2)>1,IF(ROWS($1:2)<=COUNTIF($T$45:$T$48,2),INDEX($U$45:$U$48,SMALL(IF($T$45:$T$48=2,ROW(INDIRECT(\"1:\"&ROWS($T$45:$T$48)))),ROWS($1:2))),\"\")))","v":false}]
[null,{"$f":"IF(COUNTIF($T$45:$T$48,1)>1,IF(ROWS($1:3)<=COUNTIF($T$45:$T$48,1),INDEX($U$45:$U$48,SMALL(IF($T$45:$T$48=1,ROW(INDIRECT(\"1:\"&ROWS($T$45:$T$48)))),ROWS($1:3))),\"\"),IF(COUNTIF($T$45:$T$48,2)>1,IF(ROWS($1:3)<=COUNTIF($T$45:$T$48,2),INDEX($U$45:$U$48,SMALL(IF($T$45:$T$48=2,ROW(INDIRECT(\"1:\"&ROWS($T$45:$T$48)))),ROWS($1:3))),\"\")))","v":false}]
[null,{"$f":"IF(COUNTIF($T$45:$T$48,1)>1,IF(ROWS($1:4)<=COUNTIF($T$45:$T$48,1),INDEX($U$45:$U$48,SMALL(IF($T$45:$T$48=1,ROW(INDIRECT(\"1:\"&ROWS($T$45:$T$48)))),ROWS($1:4))),\"\"),IF(COUNTIF($T$45:$T$48,2)>1,IF(ROWS($1:4)<=COUNTIF($T$45:$T$48,2),INDEX($U$45:$U$48,SMALL(IF($T$45:$T$48=2,ROW(INDIRECT(\"1:\"&ROWS($T$45:$T$48)))),ROWS($1:4))),\"\")))","v":false}]
[null,"Tirage au sort H1"]
[null,{"$f":"IF(ROWS($1:1)<=COUNTIF($T$51:$T$54,1),INDEX($U$51:$U$54,SMALL(IF($T$51:$T$54=1,ROW(INDIRECT(\"1:\"&ROWS($T$51:$T$54)))),ROWS($1:1))),\"\")","v":"Colombie"}]
[null,{"$f":"IF(ROWS($1:2)<=COUNTIF($T$51:$T$54,1),INDEX($U$51:$U$54,SMALL(IF($T$51:$T$54=1,ROW(INDIRECT(\"1:\"&ROWS($T$51:$T$54)))),ROWS($1:2))),\"\")","v":""}]
[null,{"$f":"IF(ROWS($1:3)<=COUNTIF($T$51:$T$54,1),INDEX($U$51:$U$54,SMALL(IF($T$51:$T$54=1,ROW(INDIRECT(\"1:\"&ROWS($T$51:$T$54)))),ROWS($1:3))),\"\")","v":""}]
[null,{"$f":"IF(ROWS($1:4)<=COUNTIF($T$51:$T$54,1),INDEX($U$51:$U$54,SMALL(IF($T$51:$T$54=1,ROW(INDIRECT(\"1:\"&ROWS($T$51:$T$54)))),ROWS($1:4))),\"\")","v":""}]
[null,"Tirage au sort H2"]
[null,{"$f":"IF(COUNTIF($T$51:$T$54,1)>1,IF(ROWS($1:1)<=COUNTIF($T$51:$T$54,1),INDEX($U$51:$U$54,SMALL(IF($T$51:$T$54=1,ROW(INDIRECT(\"1:\"&ROWS($T$51:$T$54)))),ROWS($1:1))),\"\"),IF(COUNTIF($T$51:$T$54,2)>1,IF(ROWS($1:1)<=COUNTIF($T$51:$T$54,2),INDEX($U$51:$U$54,SMALL(IF($T$51:$T$54=2,ROW(INDIRECT(\"1:\"&ROWS($T$51:$T$54)))),ROWS($1:1))),\"\")))","v":false}]
[null,{"$f":"IF(COUNTIF($T$51:$T$54,1)>1,IF(ROWS($1:2)<=COUNTIF($T$51:$T$54,1),INDEX($U$51:$U$54,SMALL(IF($T$51:$T$54=1,ROW(INDIRECT(\"1:\"&ROWS($T$51:$T$54)))),ROWS($1:2))),\"\"),IF(COUNTIF($T$51:$T$54,2)>1,IF(ROWS($1:2)<=COUNTIF($T$51:$T$54,2),INDEX($U$51:$U$54,SMALL(IF($T$51:$T$54=2,ROW(INDIRECT(\"1:\"&ROWS($T$51:$T$54)))),ROWS($1:2))),\"\")))","v":false}]
[null,{"$f":"IF(COUNTIF($T$51:$T$54,1)>1,IF(ROWS($1:3)<=COUNTIF($T$51:$T$54,1),INDEX($U$51:$U$54,SMALL(IF($T$51:$T$54=1,ROW(INDIRECT(\"1:\"&ROWS($T$51:$T$54)))),ROWS($1:3))),\"\"),IF(COUNTIF($T$51:$T$54,2)>1,IF(ROWS($1:3)<=COUNTIF($T$51:$T$54,2),INDEX($U$51:$U$54,SMALL(IF($T$51:$T$54=2,ROW(INDIRECT(\"1:\"&ROWS($T$51:$T$54)))),ROWS($1:3))),\"\")))","v":false}]
[null,{"$f":"IF(COUNTIF($T$51:$T$54,1)>1,IF(ROWS($1:4)<=COUNTIF($T$51:$T$54,1),INDEX($U$51:$U$54,SMALL(IF($T$51:$T$54=1,ROW(INDIRECT(\"1:\"&ROWS($T$51:$T$54)))),ROWS($1:4))),\"\"),IF(COUNTIF($T$51:$T$54,2)>1,IF(ROWS($1:4)<=COUNTIF($T$51:$T$54,2),INDEX($U$51:$U$54,SMALL(IF($T$51:$T$54=2,ROW(INDIRECT(\"1:\"&ROWS($T$51:$T$54)))),ROWS($1:4))),\"\")))","v":false}]

{"sheet":"RomainR","index":12,"n_rows":138,"n_cols":46,"rows_kept":138,"cut":false,"hidden":false,"merged":[[2,1,2,8],[3,1,3,8],[3,9,3,12]]}
[]
[null,"Pronostics de :"]
[]
[null,{"$f":"MID(CELL(\"filename\",A1),FIND(\"]\",CELL(\"filename\",A1))+1,32)","v":"RomainR"}]
[]
[null,"SAISIE DES PRONOSTICS",null,null,null,null,null,null,null,null,null,null,null,null,null,null,null,null,null,"GROUPES",null,null,null,null,null,null,null,null,null,null,null,null,"SCORE PRONOSTIQUEUR",null,null,null,null,null,null,null,null,{"$f":"AN8+AN12","v":3}]
[null,"Date","Heure","Match","Groupe",1,"N",2,null,"Buts",null,null,"Buts"]
[null,{"$f":"VLOOKUP($D8,TABLEAU_MATCHS[#All],2,FALSE)","v":"2018-06-14"},{"$f":"VLOOKUP($D8,TABLEAU_MATCHS[#All],3,FALSE)","v":"17:00:00"},1,{"$f":"\"Groupe \"&VLOOKUP($I8,TABLEAU_TEAMS[[#All],[TEAM]:[GROUP_INITIAL_RANK]],2,FALSE)","v":"Groupe A"},1.3,4.3,10,{"$f":"VLOOKUP($D8,TABLEAU_MATCHS[#All],4,FALSE)","v":"Russie"},2,null,{"$f":"VLOOKUP($D8,TABLEAU_MATCHS[#All],5,FALSE)","v":"Arabie Saoudite"},0,{"$f":"IF(OR(ISBLANK(RESULTATS!J8),ISBLANK(J8)),\"\",IF(AND(RomainR!J8=RESULTATS!J8,RomainR!M8=RESULTATS!M8),3,IF(OR(AND(RomainR!J8>RomainR!M8,RESULTATS!J8>RESULTATS!M8),AND(RomainR!J8<RomainR!M8,RESULTATS!J8<RESULTATS!M8),AND(RomainR!J8=RomainR!M8,RESULTATS!J8=RESULTATS!M8)),1,0)))","v":1},null,null,null,null,null,"Rg","Groupe A","MJ","G","N","P","BP","BC","+/-","Pts",null,null,null,"Phases de groupes",null,null,null,null,null,null,{"$f":"N56","v":3},null,"points"]
[null,{"$f":"VLOOKUP($D9,TABLEAU_MATCHS[#All],2,FALSE)","v":"2018-06-15"},{"$f":"VLOOKUP($D9,TABLEAU_MATCHS[#All],3,FALSE)","v":"14:00:00"},2,{"$f":"\"Groupe \"&VLOOKUP($I9,TABLEAU_TEAMS[[#All],[TEAM]:[GROUP_INITIAL_RANK]],2,FALSE)","v":"Groupe A"},2.2000000000000002,2.9,3.25,{"$f":"VLOOKUP($D9,TABLEAU_MATCHS[#All],4,FALSE)","v":"Egypte"},0,null,{"$f":"VLOOKUP($D9,TABLEAU_MATCHS[#All],5,FALSE)","v":"Uruguay"},2,{"$f":"IF(OR(ISBLANK(RESULTATS!J9),ISBLANK(J9)),\"\",IF(AND(RomainR!J9=RESULTATS!J9,RomainR!M9=RESULTATS!M9),3,IF(OR(AND(RomainR!J9>RomainR!M9,RESULTATS!J9>RESULTATS!M9),AND(RomainR!J9<RomainR!M9,RESULTATS!J9<RESULTATS!M9),AND(RomainR!J9=RomainR!M9,RESULTATS!J9=RESULTATS!M9)),1,0)))","v":1},null,null,null,{"$f":"INDEX($R60:$R63,MATCH(SMALL(COUNTIF($R60:$R63,\">=\"&$R60:$R63),ROW(INDIRECT(\"1:\"&ROWS($R60:$R63)))),COUNTIF($R60:$R63,\">=\"&$R60:$R63),0))","v":"09680Uruguay"},{"$f":"INDEX($S60:$S63,MATCH(SMALL(COUNTIF($R60:$R63,\">=\"&$R60:$R63),ROW(INDIRECT(\"1:\"&ROWS($R60:$R63)))),COUNTIF($R60:$R63,\">=\"&$R60:$R63),0))","v":9680},{"$f":"INDEX($T60:$T63,MATCH(SMALL(COUNTIF($R60:$R63,\">=\"&$R60:$R63),ROW(INDIRECT(\"1:\"&ROWS($R60:$R63)))),COUNTIF($R60:$R63,\">=\"&$R60:$R63),0))","v":1},{"$f":"INDEX($U60:$U63,MATCH(SMALL(COUNTIF($R60:$R63,\">=\"&$R60:$R63),ROW(INDIRECT(\"1:\"&ROWS($R60:$R63)))),COUNTIF($R60:$R63,\">=\"&$R60:$R63),0))","v":"Uruguay"},{"$f":"SUMPRODUCT((Teams1=U9)*(Teams1_Score<>\"\"))+SUMPRODUCT((Teams2=U9)*(Teams2_Score<>\"\"))","v":3},{"$f":"SUMPRODUCT((Teams1=U9)*(Teams1_Score>Teams2_Score))+SUMPRODUCT((Teams2=U9)*(Teams2_Score>Teams1_Score))","v":3},{"$f":"SUMPRODUCT((Teams1=U9)*(Teams1_Score=Teams2_Score)*(Teams1_Score<>\"\"))+SUMPRODUCT((Teams2=U9)*(Teams2_Score=Teams1_Score)*(Teams2_Score<>\"\"))","v":0},{"$f":"SUMPRODUCT((Teams1=U9)*(Teams1_Score<Teams2_Score))+SUMPRODUCT((Teams2=U9)*(Teams2_Score<Teams1_Score))","v":0},{"$f":"SUMPRODUCT((Teams1=U9)*(Teams1_Score))+SUMPRODUCT((Teams2=U9)*(Teams2_Score))","v":8},{"$f":"SUMPRODUCT((Teams1=U9)*(Teams2_Score))+SUMPRODUCT((Teams2=U9)*(Teams1_Score))","v":2},{"$f":"Z9-AA9","v":6},{"$f":"3*W9+X9","v":9},null,null,null,"Vainqueur ou nul trouvé (1 pt)",null,null,{"$f":"COUNTIF($N$8:$N$55,1)+COUNTIF($N$8:$N$55,3)","v":3},"matchs",null,null,{"$f":"AJ9","v":3},null,"points"]
[null,{"$f":"VLOOKUP($D10,TABLEAU_MATCHS[#All],2,FALSE)","v":"2018-06-15"},{"$f":"VLOOKUP($D10,TABLEAU_MATCHS[#All],3,FALSE)","v":"17:00:00"},3,{"$f":"\"Groupe \"&VLOOKUP($I10,TABLEAU_TEAMS[[#All],[TEAM]:[GROUP_INITIAL_RANK]],2,FALSE)","v":"Groupe B"},1.8,3.05,4.5,{"$f":"VLOOKUP($D10,TABLEAU_MATCHS[#All],4,FALSE)","v":"Maroc"},3,null,{"$f":"VLOOKUP($D10,TABLEAU_MATCHS[#All],5,FALSE)","v":"RI Iran"},1,{"$f":"IF(OR(ISBLANK(RESULTATS!J10),ISBLANK(J10)),\"\",IF(AND(RomainR!J10=RESULTATS!J10,RomainR!M10=RESULTATS!M10),3,IF(OR(AND(RomainR!J10>RomainR!M10,RESULTATS!J10>RESULTATS!M10),AND(RomainR!J10<RomainR!M10,RESULTATS!J10<RESULTATS!M10),AND(RomainR!J10=RomainR!M10,RESULTATS!J10=RESULTATS!M10)),1,0)))","v":0},null,null,null,"06260Russie",6260,2,"Russie",{"$f":"SUMPRODUCT((Teams1=U10)*(Teams1_Score<>\"\"))+SUMPRODUCT((Teams2=U10)*(Teams2_Score<>\"\"))","v":3},{"$f":"SUMPRODUCT((Teams1=U10)*(Teams1_Score>Teams2_Score))+SUMPRODUCT((Teams2=U10)*(Teams2_Score>Teams1_Score))","v":2},{"$f":"SUMPRODUCT((Teams1=U10)*(Teams1_Score=Teams2_Score)*(Teams1_Score<>\"\"))+SUMPRODUCT((Teams2=U10)*(Teams2_Score=Teams1_Score)*(Teams2_Score<>\"\"))","v":0},{"$f":"SUMPRODUCT((Teams1=U10)*(Teams1_Score<Teams2_Score))+SUMPRODUCT((Teams2=U10)*(Teams2_Score<Teams1_Score))","v":1},{"$f":"SUMPRODUCT((Teams1=U10)*(Teams1_Score))+SUMPRODUCT((Teams2=U10)*(Teams2_Score))","v":6},{"$f":"SUMPRODUCT((Teams1=U10)*(Teams2_Score))+SUMPRODUCT((Teams2=U10)*(Teams1_Score))","v":4},{"$f":"Z10-AA10","v":2},{"$f":"3*W10+X10","v":6},null,null,null,"Bonus score exact (2 pts)",null,null,{"$f":"+COUNTIF($N$8:$N$55,3)","v":0},"matchs",null,null,{"$f":"AJ10*2","v":0},null,"points"]
[null,{"$f":"VLOOKUP($D11,TABLEAU_MATCHS[#All],2,FALSE)","v":"2018-06-15"},{"$f":"VLOOKUP($D11,TABLEAU_MATCHS[#All],3,FALSE)","v":"20:00:00"},4,{"$f":"\"Groupe \"&VLOOKUP($I11,TABLEAU_TEAMS[[#All],[TEAM]:[GROUP_INITIAL_RANK]],2,FALSE)","v":"Groupe B"},1.42,3.9,7,{"$f":"VLOOKUP($D11,TABLEAU_MATCHS[#All],4,FALSE)","v":"Portugal"},1,null,{"$f":"VLOOKUP($D11,TABLEAU_MATCHS[#All],5,FALSE)","v":"Espagne"},1,{"$f":"IF(OR(ISBLANK(RESULTATS!J11),ISBLANK(J11)),\"\",IF(AND(RomainR!J11=RESULTATS!J11,RomainR!M11=RESULTATS!M11),3,IF(OR(AND(RomainR!J11>RomainR!M11,RESULTATS!J11>RESULTATS!M11),AND(RomainR!J11<RomainR!M11,RESULTATS!J11<RESULTATS!M11),AND(RomainR!J11=RomainR!M11,RESULTATS!J11=RESULTATS!M11)),1,0)))","v":1},null,null,null,"02930Egypte",2930,3,"Egypte",{"$f":"SUMPRODUCT((Teams1=U11)*(Teams1_Score<>\"\"))+SUMPRODUCT((Teams2=U11)*(Teams2_Score<>\"\"))","v":3},{"$f":"SUMPRODUCT((Teams1=U11)*(Teams1_Score>Teams2_Score))+SUMPRODUCT((Teams2=U11)*(Teams2_Score>Teams1_Score))","v":1},{"$f":"SUMPRODUCT((Teams1=U11)*(Teams1_Score=Teams2_Score)*(Teams1_Score<>\"\"))+SUMPRODUCT((Teams2=U11)*(Teams2_Score=Teams1_Score)*(Teams2_Score<>\"\"))","v":0},{"$f":"SUMPRODUCT((Teams1=U11)*(Teams1_Score<Teams2_Score))+SUMPRODUCT((Teams2=U11)*(Teams2_Score<Teams1_Score))","v":2},{"$f":"SUMPRODUCT((Teams1=U11)*(Teams1_Score))+SUMPRODUCT((Teams2=U11)*(Teams2_Score))","v":3},{"$f":"SUMPRODUCT((Teams1=U11)*(Teams2_Score))+SUMPRODUCT((Teams2=U11)*(Teams1_Score))","v":4},{"$f":"Z11-AA11","v":-1},{"$f":"3*W11+X11","v":3}]
[null,{"$f":"VLOOKUP($D12,TABLEAU_MATCHS[#All],2,FALSE)","v":"2018-06-16"},{"$f":"VLOOKUP($D12,TABLEAU_MATCHS[#All],3,FALSE)","v":"12:00:00"},5,{"$f":"\"Groupe \"&VLOOKUP($I12,TABLEAU_TEAMS[[#All],[TEAM]:[GROUP_INITIAL_RANK]],2,FALSE)","v":"Groupe C"},1.7,3.1,5,{"$f":"VLOOKUP($D12,TABLEAU_MATCHS[#All],4,FALSE)","v":"France"},3,null,{"$f":"VLOOKUP($D12,TABLEAU_MATCHS[#All],5,FALSE)","v":"Australie"},1,{"$f":"IF(OR(ISBLANK(RESULTATS!J12),ISBLANK(J12)),\"\",IF(AND(RomainR!J12=RESULTATS!J12,RomainR!M12=RESULTATS!M12),3,IF(OR(AND(RomainR!J12>RomainR!M12,RESULTATS!J12>RESULTATS!M12),AND(RomainR!J12<RomainR!M12,RESULTATS!J12<RESULTATS!M12),AND(RomainR!J12=RomainR!M12,RESULTATS!J12=RESULTATS!M12)),1,0)))","v":""},null,null,null,"-00700Arabie Saoudite",-700,4,"Arabie Saoudite",{"$f":"SUMPRODUCT((Teams1=U12)*(Teams1_Score<>\"\"))+SUMPRODUCT((Teams2=U12)*(Teams2_Score<>\"\"))","v":3},{"$f":"SUMPRODUCT((Teams1=U12)*(Teams1_Score>Teams2_Score))+SUMPRODUCT((Teams2=U12)*(Teams2_Score>Teams1_Score))","v":0},{"$f":"SUMPRODUCT((Teams1=U12)*(Teams1_Score=Teams2_Score)*(Teams1_Score<>\"\"))+SUMPRODUCT((Teams2=U12)*(Teams2_Score=Teams1_Score)*(Teams2_Score<>\"\"))","v":0},{"$f":"SUMPRODUCT((Teams1=U12)*(Teams1_Score<Teams2_Score))+SUMPRODUCT((Teams2=U12)*(Teams2_Score<Teams1_Score))","v":3},{"$f":"SUMPRODUCT((Teams1=U12)*(Teams1_Score))+SUMPRODUCT((Teams2=U12)*(Teams2_Score))","v":0},{"$f":"SUMPRODUCT((Teams1=U12)*(Teams2_Score))+SUMPRODUCT((Teams2=U12)*(Teams1_Score))","v":7},{"$f":"Z12-AA12","v":-7},{"$f":"3*W12+X12","v":0},null,null,null,"Phases finales",null,null,null,null,null,null,{"$f":"SUM(AN13:AN17)","v":0},null,"points"]
[null,{"$f":"VLOOKUP($D13,TABLEAU_MATCHS[#All],2,FALSE)","v":"2018-06-16"},{"$f":"VLOOKUP($D13,TABLEAU_MATCHS[#All],3,FALSE)","v":"18:00:00"},6,{"$f":"\"Groupe \"&VLOOKUP($I13,TABLEAU_TEAMS[[#All],[TEAM]:[GROUP_INITIAL_RANK]],2,FALSE)","v":"Groupe C"},2.5499999999999998,2.9,2.7,{"$f":"VLOOKUP($D13,TABLEAU_MATCHS[#All],4,FALSE)","v":"Pérou"},1,null,{"$f":"VLOOKUP($D13,TABLEAU_MATCHS[#All],5,FALSE)","v":"Danemark"},1,{"$f":"IF(OR(ISBLANK(RESULTATS!J13),ISBLANK(J13)),\"\",IF(AND(RomainR!J13=RESULTATS!J13,RomainR!M13=RESULTATS!M13),3,IF(OR(AND(RomainR!J13>RomainR!M13,RESULTATS!J13>RESULTATS!M13),AND(RomainR!J13<RomainR!M13,RESULTATS!J13<RESULTATS!M13),AND(RomainR!J13=RomainR!M13,RESULTATS!J13=RESULTATS!M13)),1,0)))","v":""},null,null,null,null,null,null,null,null,null,null,null,null,null,null,null,null,null,null,"Huitièmes de finaliste trouvés (2 pts)",null,null,{"$f":"IF(CLASSEMENT!PHASES_FINALES=\"OUI\",$AK$53+$AQ$53,0)","v":0},"équipe(s) ",null,null,{"$f":"AJ13*2","v":0},null,"points"]
[null,{"$f":"VLOOKUP($D14,TABLEAU_MATCHS[#All],2,FALSE)","v":"2018-06-16"},{"$f":"VLOOKUP($D14,TABLEAU_MATCHS[#All],3,FALSE)","v":"15:00:00"},7,{"$f":"\"Groupe \"&VLOOKUP($I14,TABLEAU_TEAMS[[#All],[TEAM]:[GROUP_INITIAL_RANK]],2,FALSE)","v":"Groupe D"},1.4,4,7.25,{"$f":"VLOOKUP($D14,TABLEAU_MATCHS[#All],4,FALSE)","v":"Argentine"},3,null,{"$f":"VLOOKUP($D14,TABLEAU_MATCHS[#All],5,FALSE)","v":"Islande"},1,{"$f":"IF(OR(ISBLANK(RESULTATS!J14),ISBLANK(J14)),\"\",IF(AND(RomainR!J14=RESULTATS!J14,RomainR!M14=RESULTATS!M14),3,IF(OR(AND(RomainR!J14>RomainR!M14,RESULTATS!J14>RESULTATS!M14),AND(RomainR!J14<RomainR!M14,RESULTATS!J14<RESULTATS!M14),AND(RomainR!J14=RomainR!M14,RESULTATS!J14=RESULTATS!M14)),1,0)))","v":""},null,null,null,null,null,"Rg","Groupe B","MJ","G","N","P","BP","BC","+/-","Pts",null,null,null,"Quarts de finalistes trouvés (4 pts)",null,null,{"$f":"IF(CLASSEMENT!PHASES_FINALES=\"OUI\",$AK$42+$AQ$42,0)","v":0},"équipe(s) ",null,null,{"$f":"AJ14*4","v":0},null,"points"]
[null,{"$f":"VLOOKUP($D15,TABLEAU_MATCHS[#All],2,FALSE)","v":"2018-06-16"},{"$f":"VLOOKUP($D15,TABLEAU_MATCHS[#All],3,FALSE)","v":"21:00:00"},8,{"$f":"\"Groupe \"&VLOOKUP($I15,TABLEAU_TEAMS[[#All],[TEAM]:[GROUP_INITIAL_RANK]],2,FALSE)","v":"Groupe D"},2.95,2.7,2.5499999999999998,{"$f":"VLOOKUP($D15,TABLEAU_MATCHS[#All],4,FALSE)","v":"Croatie"},2,null,{"$f":"VLOOKUP($D15,TABLEAU_MATCHS[#All],5,FALSE)","v":"Nigeria"},1,{"$f":"IF(OR(ISBLANK(RESULTATS!J15),ISBLANK(J15)),\"\",IF(AND(RomainR!J15=RESULTATS!J15,RomainR!M15=RESULTATS!M15),3,IF(OR(AND(RomainR!J15>RomainR!M15,RESULTATS!J15>RESULTATS!M15),AND(RomainR!J15<RomainR!M15,RESULTATS!J15<RESULTATS!M15),AND(RomainR!J15=RomainR!M15,RESULTATS!J15=RESULTATS!M15)),1,0)))","v":""},null,null,null,{"$f":"INDEX($R66:$R69,MATCH(SMALL(COUNTIF($R66:$R69,\">=\"&$R66:$R69),ROW(INDIRECT(\"1:\"&ROWS($R66:$R69)))),COUNTIF($R66:$R69,\">=\"&$R66:$R69),0))","v":"07460Espagne"},{"$f":"INDEX($S66:$S69,MATCH(SMALL(COUNTIF($R66:$R69,\">=\"&$R66:$R69),ROW(INDIRECT(\"1:\"&ROWS($R66:$R69)))),COUNTIF($R66:$R69,\">=\"&$R66:$R69),0))","v":7460},{"$f":"INDEX($T66:$T69,MATCH(SMALL(COUNTIF($R66:$R69,\">=\"&$R66:$R69),ROW(INDIRECT(\"1:\"&ROWS($R66:$R69)))),COUNTIF($R66:$R69,\">=\"&$R66:$R69),0))","v":1},{"$f":"INDEX($U66:$U69,MATCH(SMALL(COUNTIF($R66:$R69,\">=\"&$R66:$R69),ROW(INDIRECT(\"1:\"&ROWS($R66:$R69)))),COUNTIF($R66:$R69,\">=\"&$R66:$R69),0))","v":"Espagne"},{"$f":"SUMPRODUCT((Teams1=U15)*(Teams1_Score<>\"\"))+SUMPRODUCT((Teams2=U15)*(Teams2_Score<>\"\"))","v":3},{"$f":"SUMPRODUCT((Teams1=U15)*(Teams1_Score>Teams2_Score))+SUMPRODUCT((Teams2=U15)*(Teams2_Score>Teams1_Score))","v":2},{"$f":"SUMPRODUCT((Teams1=U15)*(Teams1_Score=Teams2_Score)*(Teams1_Score<>\"\"))+SUMPRODUCT((Teams2=U15)*(Teams2_Score=Teams1_Score)*(Teams2_Score<>\"\"))","v":1},{"$f":"SUMPRODUCT((Teams1=U15)*(Teams1_Score<Teams2_Score))+SUMPRODUCT((Teams2=U15)*(Teams2_Score<Teams1_Score))","v":0},{"$f":"SUMPRODUCT((Teams1=U15)*(Teams1_Score))+SUMPRODUCT((Teams2=U15)*(Teams2_Score))","v":6},{"$f":"SUMPRODUCT((Teams1=U15)*(Teams2_Score))+SUMPRODUCT((Teams2=U15)*(Teams1_Score))","v":2},{"$f":"Z15-AA15","v":4},{"$f":"3*W15+X15","v":7},null,null,null,"Demi finalistes trouvés (5 pts)",null,null,{"$f":"IF(CLASSEMENT!PHASES_FINALES=\"OUI\",$AK$35+$AQ$35,0)","v":0},"équipe(s) ",null,null,{"$f":"AJ15*5","v":0},null,"points"]
[null,{"$f":"VLOOKUP($D16,TABLEAU_MATCHS[#All],2,FALSE)","v":"2018-06-17"},{"$f":"VLOOKUP($D16,TABLEAU_MATCHS[#All],3,FALSE)","v":"14:00:00"},9,{"$f":"\"Groupe \"&VLOOKUP($I16,TABLEAU_TEAMS[[#All],[TEAM]:[GROUP_INITIAL_RANK]],2,FALSE)","v":"Groupe E"},2.35,2.9,2.95,{"$f":"VLOOKUP($D16,TABLEAU_MATCHS[#All],4,FALSE)","v":"Costa Rica"},0,null,{"$f":"VLOOKUP($D16,TABLEAU_MATCHS[#All],5,FALSE)","v":"Serbie"},1,{"$f":"IF(OR(ISBLANK(RESULTATS!J16),ISBLANK(J16)),\"\",IF(AND(RomainR!J16=RESULTATS!J16,RomainR!M16=RESULTATS!M16),3,IF(OR(AND(RomainR!J16>RomainR!M16,RESULTATS!J16>RESULTATS!M16),AND(RomainR!J16<RomainR!M16,RESULTATS!J16<RESULTATS!M16),AND(RomainR!J16=RomainR!M16,RESULTATS!J16=RESULTATS!M16)),1,0)))","v":""},null,null,null,"07340Portugal",7340,2,"Portugal",{"$f":"SUMPRODUCT((Teams1=U16)*(Teams1_Score<>\"\"))+SUMPRODUCT((Teams2=U16)*(Teams2_Score<>\"\"))","v":3},{"$f":"SUMPRODUCT((Teams1=U16)*(Teams1_Score>Teams2_Score))+SUMPRODUCT((Teams2=U16)*(Teams2_Score>Teams1_Score))","v":2},{"$f":"SUMPRODUCT((Teams1=U16)*(Teams1_Score=Teams2_Score)*(Teams1_Score<>\"\"))+SUMPRODUCT((Teams2=U16)*(Teams2_Score=Teams1_Score)*(Teams2_Score<>\"\"))","v":1},{"$f":"SUMPRODUCT((Teams1=U16)*(Teams1_Score<Teams2_Score))+SUMPRODUCT((Teams2=U16)*(Teams2_Score<Teams1_Score))","v":0},{"$f":"SUMPRODUCT((Teams1=U16)*(Teams1_Score))+SUMPRODUCT((Teams2=U16)*(Teams2_Score))","v":4},{"$f":"SUMPRODUCT((Teams1=U16)*(Teams2_Score))+SUMPRODUCT((Teams2=U16)*(Teams1_Score))","v":1},{"$f":"Z16-AA16","v":3},{"$f":"3*W16+X16","v":7},null,null,null,"Finalistes trouvés (6 pts)",null,null,{"$f":"IF(CLASSEMENT!PHASES_FINALES=\"OUI\",$AK$25+$AQ$25,0)","v":0},"équipe(s) ",null,null,{"$f":"AJ16*6","v":0},null,"points"]
[null,{"$f":"VLOOKUP($D17,TABLEAU_MATCHS[#All],2,FALSE)","v":"2018-06-17"},{"$f":"VLOOKUP($D17,TABLEAU_MATCHS[#All],3,FALSE)","v":"20:00:00"},10,{"$f":"\"Groupe \"&VLOOKUP($I17,TABLEAU_TEAMS[[#All],[TEAM]:[GROUP_INITIAL_RANK]],2,FALSE)","v":"Groupe E"},1.28,4.7,9.5,{"$f":"VLOOKUP($D17,TABLEAU_MATCHS[#All],4,FALSE)","v":"Brésil"},3,null,{"$f":"VLOOKUP($D17,TABLEAU_MATCHS[#All],5,FALSE)","v":"Suisse"},0,{"$f":"IF(OR(ISBLANK(RESULTATS!J17),ISBLANK(J17)),\"\",IF(AND(RomainR!J17=RESULTATS!J17,RomainR!M17=RESULTATS!M17),3,IF(OR(AND(RomainR!J17>RomainR!M17,RESULTATS!J17>RESULTATS!M17),AND(RomainR!J17<RomainR!M17,RESULTATS!J17<RESULTATS!M17),AND(RomainR!J17=RomainR!M17,RESULTATS!J17=RESULTATS!M17)),1,0)))","v":""},null,null,null,"02940Maroc",2940,3,"Maroc",{"$f":"SUMPRODUCT((Teams1=U17)*(Teams1_Score<>\"\"))+SUMPRODUCT((Teams2=U17)*(Teams2_Score<>\"\"))","v":3},{"$f":"SUMPRODUCT((Teams1=U17)*(Teams1_Score>Teams2_Score))+SUMPRODUCT((Teams2=U17)*(Teams2_Score>Teams1_Score))","v":1},{"$f":"SUMPRODUCT((Teams1=U17)*(Teams1_Score=Teams2_Score)*(Teams1_Score<>\"\"))+SUMPRODUCT((Teams2=U17)*(Teams2_Score=Teams1_Score)*(Teams2_Score<>\"\"))","v":0},{"$f":"SUMPRODUCT((Teams1=U17)*(Teams1_Score<Teams2_Score))+SUMPRODUCT((Teams2=U17)*(Teams2_Score<Teams1_Score))","v":2},{"$f":"SUMPRODUCT((Teams1=U17)*(Teams1_Score))+SUMPRODUCT((Teams2=U17)*(Teams2_Score))","v":4},{"$f":"SUMPRODUCT((Teams1=U17)*(Teams2_Score))+SUMPRODUCT((Teams2=U17)*(Teams1_Score))","v":5},{"$f":"Z17-AA17","v":-1},{"$f":"3*W17+X17","v":3},null,null,null,"Champion du monde trouvé (7 pts)",null,null,{"$f":"IF(CLASSEMENT!PHASES_FINALES=\"OUI\",IF(AJ25<>\"\",IF($AT$25=RESULTATS!AS10,1,0),0),0)","v":0},"équipe",null,null,{"$f":"AJ17*7","v":0},null,"points"]
[null,{"$f":"VLOOKUP($D18,TABLEAU_MATCHS[#All],2,FALSE)","v":"2018-06-17"},{"$f":"VLOOKUP($D18,TABLEAU_MATCHS[#All],3,FALSE)","v":"17:00:00"},11,{"$f":"\"Groupe \"&VLOOKUP($I18,TABLEAU_TEAMS[[#All],[TEAM]:[GROUP_INITIAL_RANK]],2,FALSE)","v":"Groupe F"},1.34,4.3,7.5,{"$f":"VLOOKUP($D18,TABLEAU_MATCHS[#All],4,FALSE)","v":"Allemagne"},2,null,{"$f":"VLOOKUP($D18,TABLEAU_MATCHS[#All],5,FALSE)","v":"Mexique"},1,{"$f":"IF(OR(ISBLANK(RESULTATS!J18),ISBLANK(J18)),\"\",IF(AND(RomainR!J18=RESULTATS!J18,RomainR!M18=RESULTATS!M18),3,IF(OR(AND(RomainR!J18>RomainR!M18,RESULTATS!J18>RESULTATS!M18),AND(RomainR!J18<RomainR!M18,RESULTATS!J18<RESULTATS!M18),AND(RomainR!J18=RomainR!M18,RESULTATS!J18=RESULTATS!M18)),1,0)))","v":""},null,null,null,"-00590RI Iran",-590,4,"RI Iran",{"$f":"SUMPRODUCT((Teams1=U18)*(Teams1_Score<>\"\"))+SUMPRODUCT((Teams2=U18)*(Teams2_Score<>\"\"))","v":3},{"$f":"SUMPRODUCT((Teams1=U18)*(Teams1_Score>Teams2_Score))+SUMPRODUCT((Teams2=U18)*(Teams2_Score>Teams1_Score))","v":0},{"$f":"SUMPRODUCT((Teams1=U18)*(Teams1_Score=Teams2_Score)*(Teams1_Score<>\"\"))+SUMPRODUCT((Teams2=U18)*(Teams2_Score=Teams1_Score)*(Teams2_Score<>\"\"))","v":0},{"$f":"SUMPRODUCT((Teams1=U18)*(Teams1_Score<Teams2_Score))+SUMPRODUCT((Teams2=U18)*(Teams2_Score<Teams1_Score))","v":3},{"$f":"SUMPRODUCT((Teams1=U18)*(Teams1_Score))+SUMPRODUCT((Teams2=U18)*(Teams2_Score))","v":1},{"$f":"SUMPRODUCT((Teams1=U18)*(Teams2_Score))+SUMPRODUCT((Teams2=U18)*(Teams1_Score))","v":7},{"$f":"Z18-AA18","v":-6},{"$f":"3*W18+X18","v":0}]
[null,{"$f":"VLOOKUP($D19,TABLEAU_MATCHS[#All],2,FALSE)","v":"2018-06-18"},{"$f":"VLOOKUP($D19,TABLEAU_MATCHS[#All],3,FALSE)","v":"14:00:00"},12,{"$f":"\"Groupe \"&VLOOKUP($I19,TABLEAU_TEAMS[[#All],[TEAM]:[GROUP_INITIAL_RANK]],2,FALSE)","v":"Groupe F"},3.3,2.95,2.15,{"$f":"VLOOKUP($D19,TABLEAU_MATCHS[#All],4,FALSE)","v":"Suède"},2,null,{"$f":"VLOOKUP($D19,TABLEAU_MATCHS[#All],5,FALSE)","v":"République de Corée"},1,{"$f":"IF(OR(ISBLANK(RESULTATS!J19),ISBLANK(J19)),\"\",IF(AND(RomainR!J19=RESULTATS!J19,RomainR!M19=RESULTATS!M19),3,IF(OR(AND(RomainR!J19>RomainR!M19,RESULTATS!J19>RESULTATS!M19),AND(RomainR!J19<RomainR!M19,RESULTATS!J19<RESULTATS!M19),AND(RomainR!J19=RomainR!M19,RESULTATS!J19=RESULTATS!M19)),1,0)))","v":""}]
[null,{"$f":"VLOOKUP($D20,TABLEAU_MATCHS[#All],2,FALSE)","v":"2018-06-18"},{"$f":"VLOOKUP($D20,TABLEAU_MATCHS[#All],3,FALSE)","v":"17:00:00"},13,{"$f":"\"Groupe \"&VLOOKUP($I20,TABLEAU_TEAMS[[#All],[TEAM]:[GROUP_INITIAL_RANK]],2,FALSE)","v":"Groupe G"},1.95,2.95,4,{"$f":"VLOOKUP($D20,TABLEAU_MATCHS[#All],4,FALSE)","v":"Belgique"},2,null,{"$f":"VLOOKUP($D20,TABLEAU_MATCHS[#All],5,FALSE)","v":"Panama"},0,{"$f":"IF(OR(ISBLANK(RESULTATS!J20),ISBLANK(J20)),\"\",IF(AND(RomainR!J20=RESULTATS!J20,RomainR!M20=RESULTATS!M20),3,IF(OR(AND(RomainR!J20>RomainR!M20,RESULTATS!J20>RESULTATS!M20),AND(RomainR!J20<RomainR!M20,RESULTATS!J20<RESULTATS!M20),AND(RomainR!J20=RomainR!M20,RESULTATS!J20=RESULTATS!M20)),1,0)))","v":""},null,null,null,null,null,"Rg","Groupe C","MJ","G","N","P","BP","BC","+/-","Pts"]
[null,{"$f":"VLOOKUP($D21,TABLEAU_MATCHS[#All],2,FALSE)","v":"2018-06-18"},{"$f":"VLOOKUP($D21,TABLEAU_MATCHS[#All],3,FALSE)","v":"20:00:00"},14,{"$f":"\"Groupe \"&VLOOKUP($I21,TABLEAU_TEAMS[[#All],[TEAM]:[GROUP_INITIAL_RANK]],2,FALSE)","v":"Groupe G"},2.5499999999999998,2.9,2.7,{"$f":"VLOOKUP($D21,TABLEAU_MATCHS[#All],4,FALSE)","v":"Tunisie"},0,null,{"$f":"VLOOKUP($D21,TABLEAU_MATCHS[#All],5,FALSE)","v":"Angleterre"},1,{"$f":"IF(OR(ISBLANK(RESULTATS!J21),ISBLANK(J21)),\"\",IF(AND(RomainR!J21=RESULTATS!J21,RomainR!M21=RESULTATS!M21),3,IF(OR(AND(RomainR!J21>RomainR!M21,RESULTATS!J21>RESULTATS!M21),AND(RomainR!J21<RomainR!M21,RESULTATS!J21<RESULTATS!M21),AND(RomainR!J21=RomainR!M21,RESULTATS!J21=RESULTATS!M21)),1,0)))","v":""},null,null,null,{"$f":"INDEX($R72:$R75,MATCH(SMALL(COUNTIF($R72:$R75,\">=\"&$R72:$R75),ROW(INDIRECT(\"1:\"&ROWS($R72:$R75)))),COUNTIF($R72:$R75,\">=\"&$R72:$R75),0))","v":"09570France"},{"$f":"INDEX($S72:$S75,MATCH(SMALL(COUNTIF($R72:$R75,\">=\"&$R72:$R75),ROW(INDIRECT(\"1:\"&ROWS($R72:$R75)))),COUNTIF($R72:$R75,\">=\"&$R72:$R75),0))","v":9570},{"$f":"INDEX($T72:$T75,MATCH(SMALL(COUNTIF($R72:$R75,\">=\"&$R72:$R75),ROW(INDIRECT(\"1:\"&ROWS($R72:$R75)))),COUNTIF($R72:$R75,\">=\"&$R72:$R75),0))","v":1},{"$f":"INDEX($U72:$U75,MATCH(SMALL(COUNTIF($R72:$R75,\">=\"&$R72:$R75),ROW(INDIRECT(\"1:\"&ROWS($R72:$R75)))),COUNTIF($R72:$R75,\">=\"&$R72:$R75),0))","v":"France"},{"$f":"SUMPRODUCT((Teams1=U21)*(Teams1_Score<>\"\"))+SUMPRODUCT((Teams2=U21)*(Teams2_Score<>\"\"))","v":3},{"$f":"SUMPRODUCT((Teams1=U21)*(Teams1_Score>Teams2_Score))+SUMPRODUCT((Teams2=U21)*(Teams2_Score>Teams1_Score))","v":3},{"$f":"SUMPRODUCT((Teams1=U21)*(Teams1_Score=Teams2_Score)*(Teams1_Score<>\"\"))+SUMPRODUCT((Teams2=U21)*(Teams2_Score=Teams1_Score)*(Teams2_Score<>\"\"))","v":0},{"$f":"SUMPRODUCT((Teams1=U21)*(Teams1_Score<Teams2_Score))+SUMPRODUCT((Teams2=U21)*(Teams2_Score<Teams1_Score))","v":0},{"$f":"SUMPRODUCT((Teams1=U21)*(Teams1_Score))+SUMPRODUCT((Teams2=U21)*(Teams2_Score))","v":7},{"$f":"SUMPRODUCT((Teams1=U21)*(Teams2_Score))+SUMPRODUCT((Teams2=U21)*(Teams1_Score))","v":2},{"$f":"Z21-AA21","v":5},{"$f":"3*W21+X21","v":9},null,null,null,"PHASES FINALES"]
[null,{"$f":"VLOOKUP($D22,TABLEAU_MATCHS[#All],2,FALSE)","v":"2018-06-19"},{"$f":"VLOOKUP($D22,TABLEAU_MATCHS[#All],3,FALSE)","v":"17:00:00"},15,{"$f":"\"Groupe \"&VLOOKUP($I22,TABLEAU_TEAMS[[#All],[TEAM]:[GROUP_INITIAL_RANK]],2,FALSE)","v":"Groupe H"},1.38,3.9,8,{"$f":"VLOOKUP($D22,TABLEAU_MATCHS[#All],4,FALSE)","v":"Colombie"},2,null,{"$f":"VLOOKUP($D22,TABLEAU_MATCHS[#All],5,FALSE)","v":"Japon"},1,{"$f":"IF(OR(ISBLANK(RESULTATS!J22),ISBLANK(J22)),\"\",IF(AND(RomainR!J22=RESULTATS!J22,RomainR!M22=RESULTATS!M22),3,IF(OR(AND(RomainR!J22>RomainR!M22,RESULTATS!J22>RESULTATS!M22),AND(RomainR!J22<RomainR!M22,RESULTATS!J22<RESULTATS!M22),AND(RomainR!J22=RomainR!M22,RESULTATS!J22=RESULTATS!M22)),1,0)))","v":""},null,null,null,"01930Pérou",1930,2,"Pérou",{"$f":"SUMPRODUCT((Teams1=U22)*(Teams1_Score<>\"\"))+SUMPRODUCT((Teams2=U22)*(Teams2_Score<>\"\"))","v":3},{"$f":"SUMPRODUCT((Teams1=U22)*(Teams1_Score>Teams2_Score))+SUMPRODUCT((Teams2=U22)*(Teams2_Score>Teams1_Score))","v":0},{"$f":"SUMPRODUCT((Teams1=U22)*(Teams1_Score=Teams2_Score)*(Teams1_Score<>\"\"))+SUMPRODUCT((Teams2=U22)*(Teams2_Score=Teams1_Score)*(Teams2_Score<>\"\"))","v":2},{"$f":"SUMPRODUCT((Teams1=U22)*(Teams1_Score<Teams2_Score))+SUMPRODUCT((Teams2=U22)*(Teams2_Score<Teams1_Score))","v":1},{"$f":"SUMPRODUCT((Teams1=U22)*(Teams1_Score))+SUMPRODUCT((Teams2=U22)*(Teams2_Score))","v":3},{"$f":"SUMPRODUCT((Teams1=U22)*(Teams2_Score))+SUMPRODUCT((Teams2=U22)*(Teams1_Score))","v":4},{"$f":"Z22-AA22","v":-1},{"$f":"3*W22+X22","v":2}]
[null,{"$f":"VLOOKUP($D23,TABLEAU_MATCHS[#All],2,FALSE)","v":"2018-06-19"},{"$f":"VLOOKUP($D23,TABLEAU_MATCHS[#All],3,FALSE)","v":"14:00:00"},16,{"$f":"\"Groupe \"&VLOOKUP($I23,TABLEAU_TEAMS[[#All],[TEAM]:[GROUP_INITIAL_RANK]],2,FALSE)","v":"Groupe H"},2.0499999999999998,2.9,3.5,{"$f":"VLOOKUP($D23,TABLEAU_MATCHS[#All],4,FALSE)","v":"Pologne"},2,null,{"$f":"VLOOKUP($D23,TABLEAU_MATCHS[#All],5,FALSE)","v":"Sénégal"},1,{"$f":"IF(OR(ISBLANK(RESULTATS!J23),ISBLANK(J23)),\"\",IF(AND(RomainR!J23=RESULTATS!J23,RomainR!M23=RESULTATS!M23),3,IF(OR(AND(RomainR!J23>RomainR!M23,RESULTATS!J23>RESULTATS!M23),AND(RomainR!J23<RomainR!M23,RESULTATS!J23<RESULTATS!M23),AND(RomainR!J23=RomainR!M23,RESULTATS!J23=RESULTATS!M23)),1,0)))","v":""},null,null,null,"01830Australie",1830,3,"Australie",{"$f":"SUMPRODUCT((Teams1=U23)*(Teams1_Score<>\"\"))+SUMPRODUCT((Teams2=U23)*(Teams2_Score<>\"\"))","v":3},{"$f":"SUMPRODUCT((Teams1=U23)*(Teams1_Score>Teams2_Score))+SUMPRODUCT((Teams2=U23)*(Teams2_Score>Teams1_Score))","v":0},{"$f":"SUMPRODUCT((Teams1=U23)*(Teams1_Score=Teams2_Score)*(Teams1_Score<>\"\"))+SUMPRODUCT((Teams2=U23)*(Teams2_Score=Teams1_Score)*(Teams2_Score<>\"\"))","v":2},{"$f":"SUMPRODUCT((Teams1=U23)*(Teams1_Score<Teams2_Score))+SUMPRODUCT((Teams2=U23)*(Teams2_Score<Teams1_Score))","v":1},{"$f":"SUMPRODUCT((Teams1=U23)*(Teams1_Score))+SUMPRODUCT((Teams2=U23)*(Teams2_Score))","v":3},{"$f":"SUMPRODUCT((Teams1=U23)*(Teams2_Score))+SUMPRODUCT((Teams2=U23)*(Teams1_Score))","v":5},{"$f":"Z23-AA23","v":-2},{"$f":"3*W23+X23","v":2},null,null,"Date","Finale",null,null,"Buts",null,"Pen",null,null,null,"Buts",null,"Pen"]
[null,{"$f":"VLOOKUP($D24,TABLEAU_MATCHS[#All],2,FALSE)","v":"2018-06-19"},{"$f":"VLOOKUP($D24,TABLEAU_MATCHS[#All],3,FALSE)","v":"20:00:00"},17,{"$f":"\"Groupe \"&VLOOKUP($I24,TABLEAU_TEAMS[[#All],[TEAM]:[GROUP_INITIAL_RANK]],2,FALSE)","v":"Groupe A"},1.26,4.8,9,{"$f":"VLOOKUP($D24,TABLEAU_MATCHS[#All],4,FALSE)","v":"Russie"},2,null,{"$f":"VLOOKUP($D24,TABLEAU_MATCHS[#All],5,FALSE)","v":"Egypte"},1,{"$f":"IF(OR(ISBLANK(RESULTATS!J24),ISBLANK(J24)),\"\",IF(AND(RomainR!J24=RESULTATS!J24,RomainR!M24=RESULTATS!M24),3,IF(OR(AND(RomainR!J24>RomainR!M24,RESULTATS!J24>RESULTATS!M24),AND(RomainR!J24<RomainR!M24,RESULTATS!J24<RESULTATS!M24),AND(RomainR!J24=RomainR!M24,RESULTATS!J24=RESULTATS!M24)),1,0)))","v":""},null,null,null,"01820Danemark",1820,4,"Danemark",{"$f":"SUMPRODUCT((Teams1=U24)*(Teams1_Score<>\"\"))+SUMPRODUCT((Teams2=U24)*(Teams2_Score<>\"\"))","v":3},{"$f":"SUMPRODUCT((Teams1=U24)*(Teams1_Score>Teams2_Score))+SUMPRODUCT((Teams2=U24)*(Teams2_Score>Teams1_Score))","v":0},{"$f":"SUMPRODUCT((Teams1=U24)*(Teams1_Score=Teams2_Score)*(Teams1_Score<>\"\"))+SUMPRODUCT((Teams2=U24)*(Teams2_Score=Teams1_Score)*(Teams2_Score<>\"\"))","v":2},{"$f":"SUMPRODUCT((Teams1=U24)*(Teams1_Score<Teams2_Score))+SUMPRODUCT((Teams2=U24)*(Teams2_Score<Teams1_Score))","v":1},{"$f":"SUMPRODUCT((Teams1=U24)*(Teams1_Score))+SUMPRODUCT((Teams2=U24)*(Teams2_Score))","v":2},{"$f":"SUMPRODUCT((Teams1=U24)*(Teams2_Score))+SUMPRODUCT((Teams2=U24)*(Teams1_Score))","v":4},{"$f":"Z24-AA24","v":-2},{"$f":"3*W24+X24","v":2}]
[null,{"$f":"VLOOKUP($D25,TABLEAU_MATCHS[#All],2,FALSE)","v":"2018-06-20"},{"$f":"VLOOKUP($D25,TABLEAU_MATCHS[#All],3,FALSE)","v":"17:00:00"},18,{"$f":"\"Groupe \"&VLOOKUP($I25,TABLEAU_TEAMS[[#All],[TEAM]:[GROUP_INITIAL_RANK]],2,FALSE)","v":"Groupe A"},3.5,3,2,{"$f":"VLOOKUP($D25,TABLEAU_MATCHS[#All],4,FALSE)","v":"Uruguay"},3,null,{"$f":"VLOOKUP($D25,TABLEAU_MATCHS[#All],5,FALSE)","v":"Arabie Saoudite"},0,{"$f":"IF(OR(ISBLANK(RESULTATS!J25),ISBLANK(J25)),\"\",IF(AND(RomainR!J25=RESULTATS!J25,RomainR!M25=RESULTATS!M25),3,IF(OR(AND(RomainR!J25>RomainR!M25,RESULTATS!J25>RESULTATS!M25),AND(RomainR!J25<RomainR!M25,RESULTATS!J25<RESULTATS!M25),AND(RomainR!J25=RomainR!M25,RESULTATS!J25=RESULTATS!M25)),1,0)))","v":""},null,null,null,null,null,null,null,null,null,null,null,null,null,null,null,null,null,"2018-07-15",null,{"$f":"+IF(AJ33<>\"\",IF(AI33>AO33,AH33,AN33),\"Vainqueur 1\")","v":"Vainqueur 1"},{"$f":"AJ25*10+AL25","v":0},null,{"$f":"IF(LEFT(AH25,5)<>\"Vainq\",COUNTIF(RESULTATS!$AG$10:$AM$10,AH25),0)","v":0},null,null,{"$f":"+IF(AJ34<>\"\",IF(AI34>AO34,AH34,AN34),\"Vainqueur 2\")","v":"Vainqueur 2"},{"$f":"AP25*10+AR25","v":0},null,{"$f":"IF(LEFT(AN25,5)<>\"Vainq\",COUNTIF(RESULTATS!$AG$10:$AM$10,AN25),0)","v":0},null,null,{"$f":"IF(AJ25<>\"\",IF(AI25>AO25,AH25,AN25),\"\")","v":""}]
[null,{"$f":"VLOOKUP($D26,TABLEAU_MATCHS[#All],2,FALSE)","v":"2018-06-20"},{"$f":"VLOOKUP($D26,TABLEAU_MATCHS[#All],3,FALSE)","v":"14:00:00"},19,{"$f":"\"Groupe \"&VLOOKUP($I26,TABLEAU_TEAMS[[#All],[TEAM]:[GROUP_INITIAL_RANK]],2,FALSE)","v":"Groupe B"},1.66,3.35,4.8,{"$f":"VLOOKUP($D26,TABLEAU_MATCHS[#All],4,FALSE)","v":"Portugal"},1,null,{"$f":"VLOOKUP($D26,TABLEAU_MATCHS[#All],5,FALSE)","v":"Maroc"},0,{"$f":"IF(OR(ISBLANK(RESULTATS!J26),ISBLANK(J26)),\"\",IF(AND(RomainR!J26=RESULTATS!J26,RomainR!M26=RESULTATS!M26),3,IF(OR(AND(RomainR!J26>RomainR!M26,RESULTATS!J26>RESULTATS!M26),AND(RomainR!J26<RomainR!M26,RESULTATS!J26<RESULTATS!M26),AND(RomainR!J26=RomainR!M26,RESULTATS!J26=RESULTATS!M26)),1,0)))","v":""},null,null,null,null,null,"Rg","Groupe D","MJ","G","N","P","BP","BC","+/-","Pts"]
[null,{"$f":"VLOOKUP($D27,TABLEAU_MATCHS[#All],2,FALSE)","v":"2018-06-20"},{"$f":"VLOOKUP($D27,TABLEAU_MATCHS[#All],3,FALSE)","v":"20:00:00"},20,{"$f":"\"Groupe \"&VLOOKUP($I27,TABLEAU_TEAMS[[#All],[TEAM]:[GROUP_INITIAL_RANK]],2,FALSE)","v":"Groupe B"},8.5,4.7,1.28,{"$f":"VLOOKUP($D27,TABLEAU_MATCHS[#All],4,FALSE)","v":"RI Iran"},0,null,{"$f":"VLOOKUP($D27,TABLEAU_MATCHS[#All],5,FALSE)","v":"Espagne"},2,{"$f":"IF(OR(ISBLANK(RESULTATS!J27),ISBLANK(J27)),\"\",IF(AND(RomainR!J27=RESULTATS!J27,RomainR!M27=RESULTATS!M27),3,IF(OR(AND(RomainR!J27>RomainR!M27,RESULTATS!J27>RESULTATS!M27),AND(RomainR!J27<RomainR!M27,RESULTATS!J27<RESULTATS!M27),AND(RomainR!J27=RomainR!M27,RESULTATS!J27=RESULTATS!M27)),1,0)))","v":""},null,null,null,{"$f":"INDEX($R78:$R81,MATCH(SMALL(COUNTIF($R78:$R81,\">=\"&$R78:$R81),ROW(INDIRECT(\"1:\"&ROWS($R78:$R81)))),COUNTIF($R78:$R81,\">=\"&$R78:$R81),0))","v":"07570Argentine"},{"$f":"INDEX($S78:$S81,MATCH(SMALL(COUNTIF($R78:$R81,\">=\"&$R78:$R81),ROW(INDIRECT(\"1:\"&ROWS($R78:$R81)))),COUNTIF($R78:$R81,\">=\"&$R78:$R81),0))","v":7570},{"$f":"INDEX($T78:$T81,MATCH(SMALL(COUNTIF($R78:$R81,\">=\"&$R78:$R81),ROW(INDIRECT(\"1:\"&ROWS($R78:$R81)))),COUNTIF($R78:$R81,\">=\"&$R78:$R81),0))","v":1},{"$f":"INDEX($U78:$U81,MATCH(SMALL(COUNTIF($R78:$R81,\">=\"&$R78:$R81),ROW(INDIRECT(\"1:\"&ROWS($R78:$R81)))),COUNTIF($R78:$R81,\">=\"&$R78:$R81),0))","v":"Argentine"},{"$f":"SUMPRODUCT((Teams1=U27)*(Teams1_Score<>\"\"))+SUMPRODUCT((Teams2=U27)*(Teams2_Score<>\"\"))","v":3},{"$f":"SUMPRODUCT((Teams1=U27)*(Teams1_Score>Teams2_Score))+SUMPRODUCT((Teams2=U27)*(Teams2_Score>Teams1_Score))","v":2},{"$f":"SUMPRODUCT((Teams1=U27)*(Teams1_Score=Teams2_Score)*(Teams1_Score<>\"\"))+SUMPRODUCT((Teams2=U27)*(Teams2_Score=Teams1_Score)*(Teams2_Score<>\"\"))","v":1},{"$f":"SUMPRODUCT((Teams1=U27)*(Teams1_Score<Teams2_Score))+SUMPRODUCT((Teams2=U27)*(Teams2_Score<Teams1_Score))","v":0},{"$f":"SUMPRODUCT((Teams1=U27)*(Teams1_Score))+SUMPRODUCT((Teams2=U27)*(Teams2_Score))","v":7},{"$f":"SUMPRODUCT((Teams1=U27)*(Teams2_Score))+SUMPRODUCT((Teams2=U27)*(Teams1_Score))","v":2},{"$f":"Z27-AA27","v":5},{"$f":"3*W27+X27","v":7},null,null,"Date","Petite Finale",null,null,"Buts",null,"Pen",null,null,null,"Buts",null,"Pen"]
[null,{"$f":"VLOOKUP($D28,TABLEAU_MATCHS[#All],2,FALSE)","v":"2018-06-21"},{"$f":"VLOOKUP($D28,TABLEAU_MATCHS[#All],3,FALSE)","v":"14:00:00"},21,{"$f":"\"Groupe \"&VLOOKUP($I28,TABLEAU_TEAMS[[#All],[TEAM]:[GROUP_INITIAL_RANK]],2,FALSE)","v":"Groupe C"},1.85,3,4,{"$f":"VLOOKUP($D28,TABLEAU_MATCHS[#All],4,FALSE)","v":"Danemark"},1,null,{"$f":"VLOOKUP($D28,TABLEAU_MATCHS[#All],5,FALSE)","v":"Australie"},1,{"$f":"IF(OR(ISBLANK(RESULTATS!J28),ISBLANK(J28)),\"\",IF(AND(RomainR!J28=RESULTATS!J28,RomainR!M28=RESULTATS!M28),3,IF(OR(AND(RomainR!J28>RomainR!M28,RESULTATS!J28>RESULTATS!M28),AND(RomainR!J28<RomainR!M28,RESULTATS!J28<RESULTATS!M28),AND(RomainR!J28=RomainR!M28,RESULTATS!J28=RESULTATS!M28)),1,0)))","v":""},null,null,null,"05140Croatie",5140,2,"Croatie",{"$f":"SUMPRODUCT((Teams1=U28)*(Teams1_Score<>\"\"))+SUMPRODUCT((Teams2=U28)*(Teams2_Score<>\"\"))","v":3},{"$f":"SUMPRODUCT((Teams1=U28)*(Teams1_Score>Teams2_Score))+SUMPRODUCT((Teams2=U28)*(Teams2_Score>Teams1_Score))","v":1},{"$f":"SUMPRODUCT((Teams1=U28)*(Teams1_Score=Teams2_Score)*(Teams1_Score<>\"\"))+SUMPRODUCT((Teams2=U28)*(Teams2_Score=Teams1_Score)*(Teams2_Score<>\"\"))","v":2},{"$f":"SUMPRODUCT((Teams1=U28)*(Teams1_Score<Teams2_Score))+SUMPRODUCT((Teams2=U28)*(Teams2_Score<Teams1_Score))","v":0},{"$f":"SUMPRODUCT((Teams1=U28)*(Teams1_Score))+SUMPRODUCT((Teams2=U28)*(Teams2_Score))","v":4},{"$f":"SUMPRODUCT((Teams1=U28)*(Teams2_Score))+SUMPRODUCT((Teams2=U28)*(Teams1_Score))","v":3},{"$f":"Z28-AA28","v":1},{"$f":"3*W28+X28","v":5}]
[null,{"$f":"VLOOKUP($D29,TABLEAU_MATCHS[#All],2,FALSE)","v":"2018-06-21"},{"$f":"VLOOKUP($D29,TABLEAU_MATCHS[#All],3,FALSE)","v":"17:00:00"},22,{"$f":"\"Groupe \"&VLOOKUP($I29,TABLEAU_TEAMS[[#All],[TEAM]:[GROUP_INITIAL_RANK]],2,FALSE)","v":"Groupe C"},2.2999999999999998,3,2.9,{"$f":"VLOOKUP($D29,TABLEAU_MATCHS[#All],4,FALSE)","v":"France"},2,null,{"$f":"VLOOKUP($D29,TABLEAU_MATCHS[#All],5,FALSE)","v":"Pérou"},1,{"$f":"IF(OR(ISBLANK(RESULTATS!J29),ISBLANK(J29)),\"\",IF(AND(RomainR!J29=RESULTATS!J29,RomainR!M29=RESULTATS!M29),3,IF(OR(AND(RomainR!J29>RomainR!M29,RESULTATS!J29>RESULTATS!M29),AND(RomainR!J29<RomainR!M29,RESULTATS!J29<RESULTATS!M29),AND(RomainR!J29=RomainR!M29,RESULTATS!J29=RESULTATS!M29)),1,0)))","v":""},null,null,null,"03940Islande",3940,3,"Islande",{"$f":"SUMPRODUCT((Teams1=U29)*(Teams1_Score<>\"\"))+SUMPRODUCT((Teams2=U29)*(Teams2_Score<>\"\"))","v":3},{"$f":"SUMPRODUCT((Teams1=U29)*(Teams1_Score>Teams2_Score))+SUMPRODUCT((Teams2=U29)*(Teams2_Score>Teams1_Score))","v":1},{"$f":"SUMPRODUCT((Teams1=U29)*(Teams1_Score=Teams2_Score)*(Teams1_Score<>\"\"))+SUMPRODUCT((Teams2=U29)*(Teams2_Score=Teams1_Score)*(Teams2_Score<>\"\"))","v":1},{"$f":"SUMPRODUCT((Teams1=U29)*(Teams1_Score<Teams2_Score))+SUMPRODUCT((Teams2=U29)*(Teams2_Score<Teams1_Score))","v":1},{"$f":"SUMPRODUCT((Teams1=U29)*(Teams1_Score))+SUMPRODUCT((Teams2=U29)*(Teams2_Score))","v":4},{"$f":"SUMPRODUCT((Teams1=U29)*(Teams2_Score))+SUMPRODUCT((Teams2=U29)*(Teams1_Score))","v":5},{"$f":"Z29-AA29","v":-1},{"$f":"3*W29+X29","v":4},null,null,"2018-07-14",null,{"$f":"+IF(AJ33<>\"\",IF(AI33>AO33,AN33,AH33),\"Perdant 1\")","v":"Perdant 1"},{"$f":"AJ29*10+AL29","v":10},1,null,null,null,{"$f":"+IF(AJ34<>\"\",IF(AI34>AO34,AN34,AH34),\"Perdant 2\")","v":"Perdant 2"},{"$f":"AP29*10+AR29","v":0}]
[null,{"$f":"VLOOKUP($D30,TABLEAU_MATCHS[#All],2,FALSE)","v":"2018-06-21"},{"$f":"VLOOKUP($D30,TABLEAU_MATCHS[#All],3,FALSE)","v":"20:00:00"},23,{"$f":"\"Groupe \"&VLOOKUP($I30,TABLEAU_TEAMS[[#All],[TEAM]:[GROUP_INITIAL_RANK]],2,FALSE)","v":"Groupe D"},2.4,3,2.8,{"$f":"VLOOKUP($D30,TABLEAU_MATCHS[#All],4,FALSE)","v":"Argentine"},1,null,{"$f":"VLOOKUP($D30,TABLEAU_MATCHS[#All],5,FALSE)","v":"Croatie"},1,{"$f":"IF(OR(ISBLANK(RESULTATS!J30),ISBLANK(J30)),\"\",IF(AND(RomainR!J30=RESULTATS!J30,RomainR!M30=RESULTATS!M30),3,IF(OR(AND(RomainR!J30>RomainR!M30,RESULTATS!J30>RESULTATS!M30),AND(RomainR!J30<RomainR!M30,RESULTATS!J30<RESULTATS!M30),AND(RomainR!J30=RomainR!M30,RESULTATS!J30=RESULTATS!M30)),1,0)))","v":""},null,null,null,"-00480Nigeria",-480,4,"Nigeria",{"$f":"SUMPRODUCT((Teams1=U30)*(Teams1_Score<>\"\"))+SUMPRODUCT((Teams2=U30)*(Teams2_Score<>\"\"))","v":3},{"$f":"SUMPRODUCT((Teams1=U30)*(Teams1_Score>Teams2_Score))+SUMPRODUCT((Teams2=U30)*(Teams2_Score>Teams1_Score))","v":0},{"$f":"SUMPRODUCT((Teams1=U30)*(Teams1_Score=Teams2_Score)*(Teams1_Score<>\"\"))+SUMPRODUCT((Teams2=U30)*(Teams2_Score=Teams1_Score)*(Teams2_Score<>\"\"))","v":0},{"$f":"SUMPRODUCT((Teams1=U30)*(Teams1_Score<Teams2_Score))+SUMPRODUCT((Teams2=U30)*(Teams2_Score<Teams1_Score))","v":3},{"$f":"SUMPRODUCT((Teams1=U30)*(Teams1_Score))+SUMPRODUCT((Teams2=U30)*(Teams2_Score))","v":2},{"$f":"SUMPRODUCT((Teams1=U30)*(Teams2_Score))+SUMPRODUCT((Teams2=U30)*(Teams1_Score))","v":7},{"$f":"Z30-AA30","v":-5},{"$f":"3*W30+X30","v":0}]
[null,{"$f":"VLOOKUP($D31,TABLEAU_MATCHS[#All],2,FALSE)","v":"2018-06-22"},{"$f":"VLOOKUP($D31,TABLEAU_MATCHS[#All],3,FALSE)","v":"17:00:00"},24,{"$f":"\"Groupe \"&VLOOKUP($I31,TABLEAU_TEAMS[[#All],[TEAM]:[GROUP_INITIAL_RANK]],2,FALSE)","v":"Groupe D"},1.26,4.5999999999999996,9.5,{"$f":"VLOOKUP($D31,TABLEAU_MATCHS[#All],4,FALSE)","v":"Nigeria"},1,null,{"$f":"VLOOKUP($D31,TABLEAU_MATCHS[#All],5,FALSE)","v":"Islande"},2,{"$f":"IF(OR(ISBLANK(RESULTATS!J31),ISBLANK(J31)),\"\",IF(AND(RomainR!J31=RESULTATS!J31,RomainR!M31=RESULTATS!M31),3,IF(OR(AND(RomainR!J31>RomainR!M31,RESULTATS!J31>RESULTATS!M31),AND(RomainR!J31<RomainR!M31,RESULTATS!J31<RESULTATS!M31),AND(RomainR!J31=RomainR!M31,RESULTATS!J31=RESULTATS!M31)),1,0)))","v":""},null,null,null,null,null,null,null,null,null,null,null,null,null,null,null,null,null,"Date","Demi Finale",null,null,"Buts",null,"Pen",null,null,null,"Buts",null,"Pen"]
[null,{"$f":"VLOOKUP($D32,TABLEAU_MATCHS[#All],2,FALSE)","v":"2018-06-22"},{"$f":"VLOOKUP($D32,TABLEAU_MATCHS[#All],3,FALSE)","v":"14:00:00"},25,{"$f":"\"Groupe \"&VLOOKUP($I32,TABLEAU_TEAMS[[#All],[TEAM]:[GROUP_INITIAL_RANK]],2,FALSE)","v":"Groupe E"},3.5,2.95,2.1,{"$f":"VLOOKUP($D32,TABLEAU_MATCHS[#All],4,FALSE)","v":"Brésil"},3,null,{"$f":"VLOOKUP($D32,TABLEAU_MATCHS[#All],5,FALSE)","v":"Costa Rica"},1,{"$f":"IF(OR(ISBLANK(RESULTATS!J32),ISBLANK(J32)),\"\",IF(AND(RomainR!J32=RESULTATS!J32,RomainR!M32=RESULTATS!M32),3,IF(OR(AND(RomainR!J32>RomainR!M32,RESULTATS!J32>RESULTATS!M32),AND(RomainR!J32<RomainR!M32,RESULTATS!J32<RESULTATS!M32),AND(RomainR!J32=RomainR!M32,RESULTATS!J32=RESULTATS!M32)),1,0)))","v":""},null,null,null,null,null,"Rg","Groupe E","MJ","G","N","P","BP","BC","+/-","Pts"]
[null,{"$f":"VLOOKUP($D33,TABLEAU_MATCHS[#All],2,FALSE)","v":"2018-06-22"},{"$f":"VLOOKUP($D33,TABLEAU_MATCHS[#All],3,FALSE)","v":"20:00:00"},26,{"$f":"\"Groupe \"&VLOOKUP($I33,TABLEAU_TEAMS[[#All],[TEAM]:[GROUP_INITIAL_RANK]],2,FALSE)","v":"Groupe E"},4.8,3.25,1.62,{"$f":"VLOOKUP($D33,TABLEAU_MATCHS[#All],4,FALSE)","v":"Serbie"},2,null,{"$f":"VLOOKUP($D33,TABLEAU_MATCHS[#All],5,FALSE)","v":"Suisse"},1,{"$f":"IF(OR(ISBLANK(RESULTATS!J33),ISBLANK(J33)),\"\",IF(AND(RomainR!J33=RESULTATS!J33,RomainR!M33=RESULTATS!M33),3,IF(OR(AND(RomainR!J33>RomainR!M33,RESULTATS!J33>RESULTATS!M33),AND(RomainR!J33<RomainR!M33,RESULTATS!J33<RESULTATS!M33),AND(RomainR!J33=RomainR!M33,RESULTATS!J33=RESULTATS!M33)),1,0)))","v":""},null,null,null,{"$f":"INDEX($R84:$R87,MATCH(SMALL(COUNTIF($R84:$R87,\">=\"&$R84:$R87),ROW(INDIRECT(\"1:\"&ROWS($R84:$R87)))),COUNTIF($R84:$R87,\">=\"&$R84:$R87),0))","v":"09680Brésil"},{"$f":"INDEX($S84:$S87,MATCH(SMALL(COUNTIF($R84:$R87,\">=\"&$R84:$R87),ROW(INDIRECT(\"1:\"&ROWS($R84:$R87)))),COUNTIF($R84:$R87,\">=\"&$R84:$R87),0))","v":9680},{"$f":"INDEX($T84:$T87,MATCH(SMALL(COUNTIF($R84:$R87,\">=\"&$R84:$R87),ROW(INDIRECT(\"1:\"&ROWS($R84:$R87)))),COUNTIF($R84:$R87,\">=\"&$R84:$R87),0))","v":1},{"$f":"INDEX($U84:$U87,MATCH(SMALL(COUNTIF($R84:$R87,\">=\"&$R84:$R87),ROW(INDIRECT(\"1:\"&ROWS($R84:$R87)))),COUNTIF($R84:$R87,\">=\"&$R84:$R87),0))","v":"Brésil"},{"$f":"SUMPRODUCT((Teams1=U33)*(Teams1_Score<>\"\"))+SUMPRODUCT((Teams2=U33)*(Teams2_Score<>\"\"))","v":3},{"$f":"SUMPRODUCT((Teams1=U33)*(Teams1_Score>Teams2_Score))+SUMPRODUCT((Teams2=U33)*(Teams2_Score>Teams1_Score))","v":3},{"$f":"SUMPRODUCT((Teams1=U33)*(Teams1_Score=Teams2_Score)*(Teams1_Score<>\"\"))+SUMPRODUCT((Teams2=U33)*(Teams2_Score=Teams1_Score)*(Teams2_Score<>\"\"))","v":0},{"$f":"SUMPRODUCT((Teams1=U33)*(Teams1_Score<Teams2_Score))+SUMPRODUCT((Teams2=U33)*(Teams2_Score<Teams1_Score))","v":0},{"$f":"SUMPRODUCT((Teams1=U33)*(Teams1_Score))+SUMPRODUCT((Teams2=U33)*(Teams2_Score))","v":8},{"$f":"SUMPRODUCT((Teams1=U33)*(Teams2_Score))+SUMPRODUCT((Teams2=U33)*(Teams1_Score))","v":2},{"$f":"Z33-AA33","v":6},{"$f":"3*W33+X33","v":9},null,null,"2018-07-10",1,{"$f":"+IF(AJ38<>\"\",IF(AI38>AO38,AH38,AN38),\"Vainqueur A\")","v":"Vainqueur A"},{"$f":"AJ33*10+AL33","v":0},null,{"$f":"IF(LEFT(AH33,5)<>\"Vainq\",COUNTIF(RESULTATS!$AG$18:$AM$19,AH33),0)","v":0},null,null,{"$f":"+IF(AJ40<>\"\",IF(AI40>AO40,AH40,AN40),\"Vainqueur C\")","v":"Vainqueur C"},{"$f":"AP33*10+AR33","v":0},null,{"$f":"IF(LEFT(AN33,5)<>\"Vainq\",COUNTIF(RESULTATS!$AG$18:$AM$19,AN33),0)","v":0}]
[null,{"$f":"VLOOKUP($D34,TABLEAU_MATCHS[#All],2,FALSE)","v":"2018-06-23"},{"$f":"VLOOKUP($D34,TABLEAU_MATCHS[#All],3,FALSE)","v":"20:00:00"},27,{"$f":"\"Groupe \"&VLOOKUP($I34,TABLEAU_TEAMS[[#All],[TEAM]:[GROUP_INITIAL_RANK]],2,FALSE)","v":"Groupe F"},1.1200000000000001,6.5,15,{"$f":"VLOOKUP($D34,TABLEAU_MATCHS[#All],4,FALSE)","v":"République de Corée"},0,null,{"$f":"VLOOKUP($D34,TABLEAU_MATCHS[#All],5,FALSE)","v":"Mexique"},2,{"$f":"IF(OR(ISBLANK(RESULTATS!J34),ISBLANK(J34)),\"\",IF(AND(RomainR!J34=RESULTATS!J34,RomainR!M34=RESULTATS!M34),3,IF(OR(AND(RomainR!J34>RomainR!M34,RESULTATS!J34>RESULTATS!M34),AND(RomainR!J34<RomainR!M34,RESULTATS!J34<RESULTATS!M34),AND(RomainR!J34=RomainR!M34,RESULTATS!J34=RESULTATS!M34)),1,0)))","v":""},null,null,null,"06140Serbie",6140,2,"Serbie",{"$f":"SUMPRODUCT((Teams1=U34)*(Teams1_Score<>\"\"))+SUMPRODUCT((Teams2=U34)*(Teams2_Score<>\"\"))","v":3},{"$f":"SUMPRODUCT((Teams1=U34)*(Teams1_Score>Teams2_Score))+SUMPRODUCT((Teams2=U34)*(Teams2_Score>Teams1_Score))","v":2},{"$f":"SUMPRODUCT((Teams1=U34)*(Teams1_Score=Teams2_Score)*(Teams1_Score<>\"\"))+SUMPRODUCT((Teams2=U34)*(Teams2_Score=Teams1_Score)*(Teams2_Score<>\"\"))","v":0},{"$f":"SUMPRODUCT((Teams1=U34)*(Teams1_Score<Teams2_Score))+SUMPRODUCT((Teams2=U34)*(Teams2_Score<Teams1_Score))","v":1},{"$f":"SUMPRODUCT((Teams1=U34)*(Teams1_Score))+SUMPRODUCT((Teams2=U34)*(Teams2_Score))","v":4},{"$f":"SUMPRODUCT((Teams1=U34)*(Teams2_Score))+SUMPRODUCT((Teams2=U34)*(Teams1_Score))","v":3},{"$f":"Z34-AA34","v":1},{"$f":"3*W34+X34","v":6},null,null,"2018-07-11",2,{"$f":"+IF(AJ39<>\"\",IF(AI39>AO39,AH39,AN39),\"Vainqueur B\")","v":"Vainqueur B"},{"$f":"AJ34*10+AL34","v":0},null,{"$f":"IF(LEFT(AH34,5)<>\"Vainq\",COUNTIF(RESULTATS!$AG$18:$AM$19,AH34),0)","v":0},null,null,{"$f":"+IF(AJ41<>\"\",IF(AI41>AO41,AH41,AN41),\"Vainqueur D\")","v":"Vainqueur D"},{"$f":"AP34*10+AR34","v":0},null,{"$f":"IF(LEFT(AN34,5)<>\"Vainq\",COUNTIF(RESULTATS!$AG$18:$AM$19,AN34),0)","v":0}]
[null,{"$f":"VLOOKUP($D35,TABLEAU_MATCHS[#All],2,FALSE)","v":"2018-06-23"},{"$f":"VLOOKUP($D35,TABLEAU_MATCHS[#All],3,FALSE)","v":"17:00:00"},28,{"$f":"\"Groupe \"&VLOOKUP($I35,TABLEAU_TEAMS[[#All],[TEAM]:[GROUP_INITIAL_RANK]],2,FALSE)","v":"Groupe F"},2.8,2.95,2.4,{"$f":"VLOOKUP($D35,TABLEAU_MATCHS[#All],4,FALSE)","v":"Allemagne"},3,null,{"$f":"VLOOKUP($D35,TABLEAU_MATCHS[#All],5,FALSE)","v":"Suède"},1,{"$f":"IF(OR(ISBLANK(RESULTATS!J35),ISBLANK(J35)),\"\",IF(AND(RomainR!J35=RESULTATS!J35,RomainR!M35=RESULTATS!M35),3,IF(OR(AND(RomainR!J35>RomainR!M35,RESULTATS!J35>RESULTATS!M35),AND(RomainR!J35<RomainR!M35,RESULTATS!J35<RESULTATS!M35),AND(RomainR!J35=RomainR!M35,RESULTATS!J35=RESULTATS!M35)),1,0)))","v":""},null,null,null,"00720Costa Rica",720,3,"Costa Rica",{"$f":"SUMPRODUCT((Teams1=U35)*(Teams1_Score<>\"\"))+SUMPRODUCT((Teams2=U35)*(Teams2_Score<>\"\"))","v":3},{"$f":"SUMPRODUCT((Teams1=U35)*(Teams1_Score>Teams2_Score))+SUMPRODUCT((Teams2=U35)*(Teams2_Score>Teams1_Score))","v":0},{"$f":"SUMPRODUCT((Teams1=U35)*(Teams1_Score=Teams2_Score)*(Teams1_Score<>\"\"))+SUMPRODUCT((Teams2=U35)*(Teams2_Score=Teams1_Score)*(Teams2_Score<>\"\"))","v":1},{"$f":"SUMPRODUCT((Teams1=U35)*(Teams1_Score<Teams2_Score))+SUMPRODUCT((Teams2=U35)*(Teams2_Score<Teams1_Score))","v":2},{"$f":"SUMPRODUCT((Teams1=U35)*(Teams1_Score))+SUMPRODUCT((Teams2=U35)*(Teams2_Score))","v":2},{"$f":"SUMPRODUCT((Teams1=U35)*(Teams2_Score))+SUMPRODUCT((Teams2=U35)*(Teams1_Score))","v":5},{"$f":"Z35-AA35","v":-3},{"$f":"3*W35+X35","v":1},null,null,null,null,null,null,null,{"$f":"SUM(AK33:AK34)","v":0},null,null,null,null,null,{"$f":"SUM(AQ33:AQ34)","v":0}]
[null,{"$f":"VLOOKUP($D36,TABLEAU_MATCHS[#All],2,FALSE)","v":"2018-06-23"},{"$f":"VLOOKUP($D36,TABLEAU_MATCHS[#All],3,FALSE)","v":"14:00:00"},29,{"$f":"\"Groupe \"&VLOOKUP($I36,TABLEAU_TEAMS[[#All],[TEAM]:[GROUP_INITIAL_RANK]],2,FALSE)","v":"Groupe G"},1.36,4,7.5,{"$f":"VLOOKUP($D36,TABLEAU_MATCHS[#All],4,FALSE)","v":"Belgique"},1,null,{"$f":"VLOOKUP($D36,TABLEAU_MATCHS[#All],5,FALSE)","v":"Tunisie"},0,{"$f":"IF(OR(ISBLANK(RESULTATS!J36),ISBLANK(J36)),\"\",IF(AND(RomainR!J36=RESULTATS!J36,RomainR!M36=RESULTATS!M36),3,IF(OR(AND(RomainR!J36>RomainR!M36,RESULTATS!J36>RESULTATS!M36),AND(RomainR!J36<RomainR!M36,RESULTATS!J36<RESULTATS!M36),AND(RomainR!J36=RomainR!M36,RESULTATS!J36=RESULTATS!M36)),1,0)))","v":""},null,null,null,"00620Suisse",620,4,"Suisse",{"$f":"SUMPRODUCT((Teams1=U36)*(Teams1_Score<>\"\"))+SUMPRODUCT((Teams2=U36)*(Teams2_Score<>\"\"))","v":3},{"$f":"SUMPRODUCT((Teams1=U36)*(Teams1_Score>Teams2_Score))+SUMPRODUCT((Teams2=U36)*(Teams2_Score>Teams1_Score))","v":0},{"$f":"SUMPRODUCT((Teams1=U36)*(Teams1_Score=Teams2_Score)*(Teams1_Score<>\"\"))+SUMPRODUCT((Teams2=U36)*(Teams2_Score=Teams1_Score)*(Teams2_Score<>\"\"))","v":1},{"$f":"SUMPRODUCT((Teams1=U36)*(Teams1_Score<Teams2_Score))+SUMPRODUCT((Teams2=U36)*(Teams2_Score<Teams1_Score))","v":2},{"$f":"SUMPRODUCT((Teams1=U36)*(Teams1_Score))+SUMPRODUCT((Teams2=U36)*(Teams2_Score))","v":2},{"$f":"SUMPRODUCT((Teams1=U36)*(Teams2_Score))+SUMPRODUCT((Teams2=U36)*(Teams1_Score))","v":6},{"$f":"Z36-AA36","v":-4},{"$f":"3*W36+X36","v":1},null,null,"Date","Quart de Finale",null,null,"Buts",null,"Pen",null,null,null,"Buts",null,"Pen"]
[null,{"$f":"VLOOKUP($D37,TABLEAU_MATCHS[#All],2,FALSE)","v":"2018-06-24"},{"$f":"VLOOKUP($D37,TABLEAU_MATCHS[#All],3,FALSE)","v":"14:00:00"},30,{"$f":"\"Groupe \"&VLOOKUP($I37,TABLEAU_TEAMS[[#All],[TEAM]:[GROUP_INITIAL_RANK]],2,FALSE)","v":"Groupe G"},4.7,3.4,1.62,{"$f":"VLOOKUP($D37,TABLEAU_MATCHS[#All],4,FALSE)","v":"Angleterre"},2,null,{"$f":"VLOOKUP($D37,TABLEAU_MATCHS[#All],5,FALSE)","v":"Panama"},0,{"$f":"IF(OR(ISBLANK(RESULTATS!J37),ISBLANK(J37)),\"\",IF(AND(RomainR!J37=RESULTATS!J37,RomainR!M37=RESULTATS!M37),3,IF(OR(AND(RomainR!J37>RomainR!M37,RESULTATS!J37>RESULTATS!M37),AND(RomainR!J37<RomainR!M37,RESULTATS!J37<RESULTATS!M37),AND(RomainR!J37=RomainR!M37,RESULTATS!J37=RESULTATS!M37)),1,0)))","v":""}]
[null,{"$f":"VLOOKUP($D38,TABLEAU_MATCHS[#All],2,FALSE)","v":"2018-06-24"},{"$f":"VLOOKUP($D38,TABLEAU_MATCHS[#All],3,FALSE)","v":"17:00:00"},31,{"$f":"\"Groupe \"&VLOOKUP($I38,TABLEAU_TEAMS[[#All],[TEAM]:[GROUP_INITIAL_RANK]],2,FALSE)","v":"Groupe H"},2.1,2.95,3.35,{"$f":"VLOOKUP($D38,TABLEAU_MATCHS[#All],4,FALSE)","v":"Japon"},1,null,{"$f":"VLOOKUP($D38,TABLEAU_MATCHS[#All],5,FALSE)","v":"Sénégal"},0,{"$f":"IF(OR(ISBLANK(RESULTATS!J38),ISBLANK(J38)),\"\",IF(AND(RomainR!J38=RESULTATS!J38,RomainR!M38=RESULTATS!M38),3,IF(OR(AND(RomainR!J38>RomainR!M38,RESULTATS!J38>RESULTATS!M38),AND(RomainR!J38<RomainR!M38,RESULTATS!J38<RESULTATS!M38),AND(RomainR!J38=RomainR!M38,RESULTATS!J38=RESULTATS!M38)),1,0)))","v":""},null,null,null,null,null,"Rg","Groupe F","MJ","G","N","P","BP","BC","+/-","Pts",null,null,"2018-07-06","A",{"$f":"+IF(AJ45<>\"\",IF(AI45>AO45,AH45,AN45),\"Vainqueur 1\")","v":"Vainqueur 1"},{"$f":"AJ38*10+AL38","v":0},null,{"$f":"IF(LEFT(AH38,5)<>\"Vainq\",COUNTIF(RESULTATS!$AG$23:$AM$26,AH38),0)","v":0},null,null,{"$f":"+IF(AJ47<>\"\",IF(AI47>AO47,AH47,AN47),\"Vainqueur 3\")","v":"Vainqueur 3"},{"$f":"AP38*10+AR38","v":0},null,{"$f":"IF(LEFT(AN38,5)<>\"Vainq\",COUNTIF(RESULTATS!$AG$23:$AM$26,AN38),0)","v":0}]
[null,{"$f":"VLOOKUP($D39,TABLEAU_MATCHS[#All],2,FALSE)","v":"2018-06-24"},{"$f":"VLOOKUP($D39,TABLEAU_MATCHS[#All],3,FALSE)","v":"20:00:00"},32,{"$f":"\"Groupe \"&VLOOKUP($I39,TABLEAU_TEAMS[[#All],[TEAM]:[GROUP_INITIAL_RANK]],2,FALSE)","v":"Groupe H"},1.9,3,3.8,{"$f":"VLOOKUP($D39,TABLEAU_MATCHS[#All],4,FALSE)","v":"Pologne"},2,null,{"$f":"VLOOKUP($D39,TABLEAU_MATCHS[#All],5,FALSE)","v":"Colombie"},2,{"$f":"IF(OR(ISBLANK(RESULTATS!J39),ISBLANK(J39)),\"\",IF(AND(RomainR!J39=RESULTATS!J39,RomainR!M39=RESULTATS!M39),3,IF(OR(AND(RomainR!J39>RomainR!M39,RESULTATS!J39>RESULTATS!M39),AND(RomainR!J39<RomainR!M39,RESULTATS!J39<RESULTATS!M39),AND(RomainR!J39=RomainR!M39,RESULTATS!J39=RESULTATS!M39)),1,0)))","v":""},null,null,null,{"$f":"INDEX($R90:$R93,MATCH(SMALL(COUNTIF($R90:$R93,\">=\"&$R90:$R93),ROW(INDIRECT(\"1:\"&ROWS($R90:$R93)))),COUNTIF($R90:$R93,\">=\"&$R90:$R93),0))","v":"09790Allemagne"},{"$f":"INDEX($S90:$S93,MATCH(SMALL(COUNTIF($R90:$R93,\">=\"&$R90:$R93),ROW(INDIRECT(\"1:\"&ROWS($R90:$R93)))),COUNTIF($R90:$R93,\">=\"&$R90:$R93),0))","v":9790},{"$f":"INDEX($T90:$T93,MATCH(SMALL(COUNTIF($R90:$R93,\">=\"&$R90:$R93),ROW(INDIRECT(\"1:\"&ROWS($R90:$R93)))),COUNTIF($R90:$R93,\">=\"&$R90:$R93),0))","v":1},{"$f":"INDEX($U90:$U93,MATCH(SMALL(COUNTIF($R90:$R93,\">=\"&$R90:$R93),ROW(INDIRECT(\"1:\"&ROWS($R90:$R93)))),COUNTIF($R90:$R93,\">=\"&$R90:$R93),0))","v":"Allemagne"},{"$f":"SUMPRODUCT((Teams1=U39)*(Teams1_Score<>\"\"))+SUMPRODUCT((Teams2=U39)*(Teams2_Score<>\"\"))","v":3},{"$f":"SUMPRODUCT((Teams1=U39)*(Teams1_Score>Teams2_Score))+SUMPRODUCT((Teams2=U39)*(Teams2_Score>Teams1_Score))","v":3},{"$f":"SUMPRODUCT((Teams1=U39)*(Teams1_Score=Teams2_Score)*(Teams1_Score<>\"\"))+SUMPRODUCT((Teams2=U39)*(Teams2_Score=Teams1_Score)*(Teams2_Score<>\"\"))","v":0},{"$f":"SUMPRODUCT((Teams1=U39)*(Teams1_Score<Teams2_Score))+SUMPRODUCT((Teams2=U39)*(Teams2_Score<Teams1_Score))","v":0},{"$f":"SUMPRODUCT((Teams1=U39)*(Teams1_Score))+SUMPRODUCT((Teams2=U39)*(Teams2_Score))","v":9},{"$f":"SUMPRODUCT((Teams1=U39)*(Teams2_Score))+SUMPRODUCT((Teams2=U39)*(Teams1_Score))","v":2},{"$f":"Z39-AA39","v":7},{"$f":"3*W39+X39","v":9},null,null,"2018-07-07","B",{"$f":"+IF(AJ46<>\"\",IF(AI46>AO46,AH46,AN46),\"Vainqueur 2\")","v":"Vainqueur 2"},{"$f":"AJ39*10+AL39","v":0},null,{"$f":"IF(LEFT(AH39,5)<>\"Vainq\",COUNTIF(RESULTATS!$AG$23:$AM$26,AH39),0)","v":0},null,null,{"$f":"+IF(AJ48<>\"\",IF(AI48>AO48,AH48,AN48),\"Vainqueur 4\")","v":"Vainqueur 4"},{"$f":"AP39*10+AR39","v":0},null,{"$f":"IF(LEFT(AN39,5)<>\"Vainq\",COUNTIF(RESULTATS!$AG$23:$AM$26,AN39),0)","v":0}]
[null,{"$f":"VLOOKUP($D40,TABLEAU_MATCHS[#All],2,FALSE)","v":"2018-06-25"},{"$f":"VLOOKUP($D40,TABLEAU_MATCHS[#All],3,FALSE)","v":"16:00:00"},33,{"$f":"\"Groupe \"&VLOOKUP($I40,TABLEAU_TEAMS[[#All],[TEAM]:[GROUP_INITIAL_RANK]],2,FALSE)","v":"Groupe A"},11,6.5,1.17,{"$f":"VLOOKUP($D40,TABLEAU_MATCHS[#All],4,FALSE)","v":"Uruguay"},3,null,{"$f":"VLOOKUP($D40,TABLEAU_MATCHS[#All],5,FALSE)","v":"Russie"},2,{"$f":"IF(OR(ISBLANK(RESULTATS!J40),ISBLANK(J40)),\"\",IF(AND(RomainR!J40=RESULTATS!J40,RomainR!M40=RESULTATS!M40),3,IF(OR(AND(RomainR!J40>RomainR!M40,RESULTATS!J40>RESULTATS!M40),AND(RomainR!J40<RomainR!M40,RESULTATS!J40<RESULTATS!M40),AND(RomainR!J40=RomainR!M40,RESULTATS!J40=RESULTATS!M40)),1,0)))","v":""},null,null,null,"04150Mexique",4150,2,"Mexique",{"$f":"SUMPRODUCT((Teams1=U40)*(Teams1_Score<>\"\"))+SUMPRODUCT((Teams2=U40)*(Teams2_Score<>\"\"))","v":3},{"$f":"SUMPRODUCT((Teams1=U40)*(Teams1_Score>Teams2_Score))+SUMPRODUCT((Teams2=U40)*(Teams2_Score>Teams1_Score))","v":1},{"$f":"SUMPRODUCT((Teams1=U40)*(Teams1_Score=Teams2_Score)*(Teams1_Score<>\"\"))+SUMPRODUCT((Teams2=U40)*(Teams2_Score=Teams1_Score)*(Teams2_Score<>\"\"))","v":1},{"$f":"SUMPRODUCT((Teams1=U40)*(Teams1_Score<Teams2_Score))+SUMPRODUCT((Teams2=U40)*(Teams2_Score<Teams1_Score))","v":1},{"$f":"SUMPRODUCT((Teams1=U40)*(Teams1_Score))+SUMPRODUCT((Teams2=U40)*(Teams2_Score))","v":5},{"$f":"SUMPRODUCT((Teams1=U40)*(Teams2_Score))+SUMPRODUCT((Teams2=U40)*(Teams1_Score))","v":4},{"$f":"Z40-AA40","v":1},{"$f":"3*W40+X40","v":4},null,null,"2018-07-06","C",{"$f":"+IF(AJ49<>\"\",IF(AI49>AO49,AH49,AN49),\"Vainqueur 5\")","v":"Vainqueur 5"},{"$f":"AJ40*10+AL40","v":0},null,{"$f":"IF(LEFT(AH40,5)<>\"Vainq\",COUNTIF(RESULTATS!$AG$23:$AM$26,AH40),0)","v":0},null,null,{"$f":"+IF(AJ51<>\"\",IF(AI51>AO51,AH51,AN51),\"Vainqueur 7\")","v":"Vainqueur 7"},{"$f":"AP40*10+AR40","v":0},null,{"$f":"IF(LEFT(AN40,5)<>\"Vainq\",COUNTIF(RESULTATS!$AG$23:$AM$26,AN40),0)","v":0}]
[null,{"$f":"VLOOKUP($D41,TABLEAU_MATCHS[#All],2,FALSE)","v":"2018-06-25"},{"$f":"VLOOKUP($D41,TABLEAU_MATCHS[#All],3,FALSE)","v":"16:00:00"},34,{"$f":"\"Groupe \"&VLOOKUP($I41,TABLEAU_TEAMS[[#All],[TEAM]:[GROUP_INITIAL_RANK]],2,FALSE)","v":"Groupe A"},2.4,2.95,2.75,{"$f":"VLOOKUP($D41,TABLEAU_MATCHS[#All],4,FALSE)","v":"Arabie Saoudite"},0,null,{"$f":"VLOOKUP($D41,TABLEAU_MATCHS[#All],5,FALSE)","v":"Egypte"},2,{"$f":"IF(OR(ISBLANK(RESULTATS!J41),ISBLANK(J41)),\"\",IF(AND(RomainR!J41=RESULTATS!J41,RomainR!M41=RESULTATS!M41),3,IF(OR(AND(RomainR!J41>RomainR!M41,RESULTATS!J41>RESULTATS!M41),AND(RomainR!J41<RomainR!M41,RESULTATS!J41<RESULTATS!M41),AND(RomainR!J41=RomainR!M41,RESULTATS!J41=RESULTATS!M41)),1,0)))","v":""},null,null,null,"03950Suède",3950,3,"Suède",{"$f":"SUMPRODUCT((Teams1=U41)*(Teams1_Score<>\"\"))+SUMPRODUCT((Teams2=U41)*(Teams2_Score<>\"\"))","v":3},{"$f":"SUMPRODUCT((Teams1=U41)*(Teams1_Score>Teams2_Score))+SUMPRODUCT((Teams2=U41)*(Teams2_Score>Teams1_Score))","v":1},{"$f":"SUMPRODUCT((Teams1=U41)*(Teams1_Score=Teams2_Score)*(Teams1_Score<>\"\"))+SUMPRODUCT((Teams2=U41)*(Teams2_Score=Teams1_Score)*(Teams2_Score<>\"\"))","v":1},{"$f":"SUMPRODUCT((Teams1=U41)*(Teams1_Score<Teams2_Score))+SUMPRODUCT((Teams2=U41)*(Teams2_Score<Teams1_Score))","v":1},{"$f":"SUMPRODUCT((Teams1=U41)*(Teams1_Score))+SUMPRODUCT((Teams2=U41)*(Teams2_Score))","v":5},{"$f":"SUMPRODUCT((Teams1=U41)*(Teams2_Score))+SUMPRODUCT((Teams2=U41)*(Teams1_Score))","v":6},{"$f":"Z41-AA41","v":-1},{"$f":"3*W41+X41","v":4},null,null,"2018-07-07","D",{"$f":"+IF(AJ50<>\"\",IF(AI50>AO50,AH50,AN50),\"Vainqueur 6\")","v":"Vainqueur 6"},{"$f":"AJ41*10+AL41","v":0},null,{"$f":"IF(LEFT(AH41,5)<>\"Vainq\",COUNTIF(RESULTATS!$AG$23:$AM$26,AH41),0)","v":0},null,null,{"$f":"+IF(AJ52<>\"\",IF(AI52>AO52,AH52,AN52),\"Vainqueur 8\")","v":"Vainqueur 8"},{"$f":"AP41*10+AR41","v":0},null,{"$f":"IF(LEFT(AN41,5)<>\"Vainq\",COUNTIF(RESULTATS!$AG$23:$AM$26,AN41),0)","v":0}]
[null,{"$f":"VLOOKUP($D42,TABLEAU_MATCHS[#All],2,FALSE)","v":"2018-06-25"},{"$f":"VLOOKUP($D42,TABLEAU_MATCHS[#All],3,FALSE)","v":"20:00:00"},35,{"$f":"\"Groupe \"&VLOOKUP($I42,TABLEAU_TEAMS[[#All],[TEAM]:[GROUP_INITIAL_RANK]],2,FALSE)","v":"Groupe B"},13,6.5,1.1399999999999999,{"$f":"VLOOKUP($D42,TABLEAU_MATCHS[#All],4,FALSE)","v":"RI Iran"},0,null,{"$f":"VLOOKUP($D42,TABLEAU_MATCHS[#All],5,FALSE)","v":"Portugal"},2,{"$f":"IF(OR(ISBLANK(RESULTATS!J42),ISBLANK(J42)),\"\",IF(AND(RomainR!J42=RESULTATS!J42,RomainR!M42=RESULTATS!M42),3,IF(OR(AND(RomainR!J42>RomainR!M42,RESULTATS!J42>RESULTATS!M42),AND(RomainR!J42<RomainR!M42,RESULTATS!J42<RESULTATS!M42),AND(RomainR!J42=RomainR!M42,RESULTATS!J42=RESULTATS!M42)),1,0)))","v":""},null,null,null,"-00690République de Corée",-690,4,"République de Corée",{"$f":"SUMPRODUCT((Teams1=U42)*(Teams1_Score<>\"\"))+SUMPRODUCT((Teams2=U42)*(Teams2_Score<>\"\"))","v":3},{"$f":"SUMPRODUCT((Teams1=U42)*(Teams1_Score>Teams2_Score))+SUMPRODUCT((Teams2=U42)*(Teams2_Score>Teams1_Score))","v":0},{"$f":"SUMPRODUCT((Teams1=U42)*(Teams1_Score=Teams2_Score)*(Teams1_Score<>\"\"))+SUMPRODUCT((Teams2=U42)*(Teams2_Score=Teams1_Score)*(Teams2_Score<>\"\"))","v":0},{"$f":"SUMPRODUCT((Teams1=U42)*(Teams1_Score<Teams2_Score))+SUMPRODUCT((Teams2=U42)*(Teams2_Score<Teams1_Score))","v":3},{"$f":"SUMPRODUCT((Teams1=U42)*(Teams1_Score))+SUMPRODUCT((Teams2=U42)*(Teams2_Score))","v":1},{"$f":"SUMPRODUCT((Teams1=U42)*(Teams2_Score))+SUMPRODUCT((Teams2=U42)*(Teams1_Score))","v":8},{"$f":"Z42-AA42","v":-7},{"$f":"3*W42+X42","v":0},null,null,null,null,null,null,null,{"$f":"SUM(AK38:AK41)","v":0},null,null,null,null,null,{"$f":"SUM(AQ38:AQ41)","v":0}]
[null,{"$f":"VLOOKUP($D43,TABLEAU_MATCHS[#All],2,FALSE)","v":"2018-06-25"},{"$f":"VLOOKUP($D43,TABLEAU_MATCHS[#All],3,FALSE)","v":"20:00:00"},36,{"$f":"\"Groupe \"&VLOOKUP($I43,TABLEAU_TEAMS[[#All],[TEAM]:[GROUP_INITIAL_RANK]],2,FALSE)","v":"Groupe B"},2.25,3.1,2.95,{"$f":"VLOOKUP($D43,TABLEAU_MATCHS[#All],4,FALSE)","v":"Espagne"},3,null,{"$f":"VLOOKUP($D43,TABLEAU_MATCHS[#All],5,FALSE)","v":"Maroc"},1,{"$f":"IF(OR(ISBLANK(RESULTATS!J43),ISBLANK(J43)),\"\",IF(AND(RomainR!J43=RESULTATS!J43,RomainR!M43=RESULTATS!M43),3,IF(OR(AND(RomainR!J43>RomainR!M43,RESULTATS!J43>RESULTATS!M43),AND(RomainR!J43<RomainR!M43,RESULTATS!J43<RESULTATS!M43),AND(RomainR!J43=RomainR!M43,RESULTATS!J43=RESULTATS!M43)),1,0)))","v":""},null,null,null,null,null,null,null,null,null,null,null,null,null,null,null,null,null,"Date","Huitième de Finale",null,null,"Buts",null,"Pen",null,null,null,"Buts",null,"Pen"]
[null,{"$f":"VLOOKUP($D44,TABLEAU_MATCHS[#All],2,FALSE)","v":"2018-06-26"},{"$f":"VLOOKUP($D44,TABLEAU_MATCHS[#All],3,FALSE)","v":"16:00:00"},37,{"$f":"\"Groupe \"&VLOOKUP($I44,TABLEAU_TEAMS[[#All],[TEAM]:[GROUP_INITIAL_RANK]],2,FALSE)","v":"Groupe C"},4.3,3.25,1.76,{"$f":"VLOOKUP($D44,TABLEAU_MATCHS[#All],4,FALSE)","v":"Danemark"},0,null,{"$f":"VLOOKUP($D44,TABLEAU_MATCHS[#All],5,FALSE)","v":"France"},2,{"$f":"IF(OR(ISBLANK(RESULTATS!J44),ISBLANK(J44)),\"\",IF(AND(RomainR!J44=RESULTATS!J44,RomainR!M44=RESULTATS!M44),3,IF(OR(AND(RomainR!J44>RomainR!M44,RESULTATS!J44>RESULTATS!M44),AND(RomainR!J44<RomainR!M44,RESULTATS!J44<RESULTATS!M44),AND(RomainR!J44=RomainR!M44,RESULTATS!J44=RESULTATS!M44)),1,0)))","v":""},null,null,null,null,null,"Rg","Groupe G","MJ","G","N","P","BP","BC","+/-","Pts"]
[null,{"$f":"VLOOKUP($D45,TABLEAU_MATCHS[#All],2,FALSE)","v":"2018-06-26"},{"$f":"VLOOKUP($D45,TABLEAU_MATCHS[#All],3,FALSE)","v":"16:00:00"},38,{"$f":"\"Groupe \"&VLOOKUP($I45,TABLEAU_TEAMS[[#All],[TEAM]:[GROUP_INITIAL_RANK]],2,FALSE)","v":"Groupe C"},3.05,3,2.25,{"$f":"VLOOKUP($D45,TABLEAU_MATCHS[#All],4,FALSE)","v":"Australie"},1,null,{"$f":"VLOOKUP($D45,TABLEAU_MATCHS[#All],5,FALSE)","v":"Pérou"},1,{"$f":"IF(OR(ISBLANK(RESULTATS!J45),ISBLANK(J45)),\"\",IF(AND(RomainR!J45=RESULTATS!J45,RomainR!M45=RESULTATS!M45),3,IF(OR(AND(RomainR!J45>RomainR!M45,RESULTATS!J45>RESULTATS!M45),AND(RomainR!J45<RomainR!M45,RESULTATS!J45<RESULTATS!M45),AND(RomainR!J45=RomainR!M45,RESULTATS!J45=RESULTATS!M45)),1,0)))","v":""},null,null,null,{"$f":"INDEX($R96:$R99,MATCH(SMALL(COUNTIF($R96:$R99,\">=\"&$R96:$R99),ROW(INDIRECT(\"1:\"&ROWS($R96:$R99)))),COUNTIF($R96:$R99,\">=\"&$R96:$R99),0))","v":"09460Angleterre"},{"$f":"INDEX($S96:$S99,MATCH(SMALL(COUNTIF($R96:$R99,\">=\"&$R96:$R99),ROW(INDIRECT(\"1:\"&ROWS($R96:$R99)))),COUNTIF($R96:$R99,\">=\"&$R96:$R99),0))","v":9460},{"$f":"INDEX($T96:$T99,MATCH(SMALL(COUNTIF($R96:$R99,\">=\"&$R96:$R99),ROW(INDIRECT(\"1:\"&ROWS($R96:$R99)))),COUNTIF($R96:$R99,\">=\"&$R96:$R99),0))","v":1},{"$f":"INDEX($U96:$U99,MATCH(SMALL(COUNTIF($R96:$R99,\">=\"&$R96:$R99),ROW(INDIRECT(\"1:\"&ROWS($R96:$R99)))),COUNTIF($R96:$R99,\">=\"&$R96:$R99),0))","v":"Angleterre"},{"$f":"SUMPRODUCT((Teams1=U45)*(Teams1_Score<>\"\"))+SUMPRODUCT((Teams2=U45)*(Teams2_Score<>\"\"))","v":3},{"$f":"SUMPRODUCT((Teams1=U45)*(Teams1_Score>Teams2_Score))+SUMPRODUCT((Teams2=U45)*(Teams2_Score>Teams1_Score))","v":3},{"$f":"SUMPRODUCT((Teams1=U45)*(Teams1_Score=Teams2_Score)*(Teams1_Score<>\"\"))+SUMPRODUCT((Teams2=U45)*(Teams2_Score=Teams1_Score)*(Teams2_Score<>\"\"))","v":0},{"$f":"SUMPRODUCT((Teams1=U45)*(Teams1_Score<Teams2_Score))+SUMPRODUCT((Teams2=U45)*(Teams2_Score<Teams1_Score))","v":0},{"$f":"SUMPRODUCT((Teams1=U45)*(Teams1_Score))+SUMPRODUCT((Teams2=U45)*(Teams2_Score))","v":6},{"$f":"SUMPRODUCT((Teams1=U45)*(Teams2_Score))+SUMPRODUCT((Teams2=U45)*(Teams1_Score))","v":2},{"$f":"Z45-AA45","v":4},{"$f":"3*W45+X45","v":9},null,null,"2018-06-30",1,{"$f":"IF(SUM(V9:V12)=0,\"1er Groupe A\",IF(COUNTIF(T9:T12,1)=1,VLOOKUP(1,T9:U12,2,FALSE),IF(COUNTIF(T9:T12,1)>=2,\"Tirage au Sort A1\")))","v":"Uruguay"},{"$f":"AJ45*10+AL45","v":0},null,{"$f":"IF(AND(LEFT(AH45,3)<>\"1er\",LEFT(AH45,3)<>\"2nd\"),COUNTIF(RESULTATS!$AG$30:$AM$37,AH45),0)","v":1},null,null,{"$f":"IF(SUM(V15:V18)=0,\"2nd Groupe B\",IF(OR(COUNTIF(T15:T18,1)>1,COUNTIF(T15:T18,2)>1),\"Tirage au sort B2\",VLOOKUP(2,T15:U18,2,FALSE)))","v":"Portugal"},{"$f":"AP45*10+AR45","v":0},null,{"$f":"IF(AND(LEFT(AN45,3)<>\"1er\",LEFT(AN45,3)<>\"2nd\"),COUNTIF(RESULTATS!$AG$30:$AM$37,AN45),0)","v":0}]
[null,{"$f":"VLOOKUP($D46,TABLEAU_MATCHS[#All],2,FALSE)","v":"2018-06-26"},{"$f":"VLOOKUP($D46,TABLEAU_MATCHS[#All],3,FALSE)","v":"20:00:00"},39,{"$f":"\"Groupe \"&VLOOKUP($I46,TABLEAU_TEAMS[[#All],[TEAM]:[GROUP_INITIAL_RANK]],2,FALSE)","v":"Groupe D"},2.4,2.9,2.85,{"$f":"VLOOKUP($D46,TABLEAU_MATCHS[#All],4,FALSE)","v":"Nigeria"},0,null,{"$f":"VLOOKUP($D46,TABLEAU_MATCHS[#All],5,FALSE)","v":"Argentine"},3,{"$f":"IF(OR(ISBLANK(RESULTATS!J46),ISBLANK(J46)),\"\",IF(AND(RomainR!J46=RESULTATS!J46,RomainR!M46=RESULTATS!M46),3,IF(OR(AND(RomainR!J46>RomainR!M46,RESULTATS!J46>RESULTATS!M46),AND(RomainR!J46<RomainR!M46,RESULTATS!J46<RESULTATS!M46),AND(RomainR!J46=RomainR!M46,RESULTATS!J46=RESULTATS!M46)),1,0)))","v":""},null,null,null,"06250Belgique",6250,2,"Belgique",{"$f":"SUMPRODUCT((Teams1=U46)*(Teams1_Score<>\"\"))+SUMPRODUCT((Teams2=U46)*(Teams2_Score<>\"\"))","v":3},{"$f":"SUMPRODUCT((Teams1=U46)*(Teams1_Score>Teams2_Score))+SUMPRODUCT((Teams2=U46)*(Teams2_Score>Teams1_Score))","v":2},{"$f":"SUMPRODUCT((Teams1=U46)*(Teams1_Score=Teams2_Score)*(Teams1_Score<>\"\"))+SUMPRODUCT((Teams2=U46)*(Teams2_Score=Teams1_Score)*(Teams2_Score<>\"\"))","v":0},{"$f":"SUMPRODUCT((Teams1=U46)*(Teams1_Score<Teams2_Score))+SUMPRODUCT((Teams2=U46)*(Teams2_Score<Teams1_Score))","v":1},{"$f":"SUMPRODUCT((Teams1=U46)*(Teams1_Score))+SUMPRODUCT((Teams2=U46)*(Teams2_Score))","v":5},{"$f":"SUMPRODUCT((Teams1=U46)*(Teams2_Score))+SUMPRODUCT((Teams2=U46)*(Teams1_Score))","v":3},{"$f":"Z46-AA46","v":2},{"$f":"3*W46+X46","v":6},null,null,"2018-07-01",2,{"$f":"IF(SUM(V15:V18)=0,\"1er Groupe B\",IF(COUNTIF(T15:T18,1)=1,VLOOKUP(1,T15:U18,2,FALSE),IF(COUNTIF(T15:T18,1)>=2,\"Tirage au Sort B1\")))","v":"Espagne"},{"$f":"AJ46*10+AL46","v":0},null,{"$f":"IF(AND(LEFT(AH46,3)<>\"1er\",LEFT(AH46,3)<>\"2nd\"),COUNTIF(RESULTATS!$AG$30:$AM$37,AH46),0)","v":0},null,null,{"$f":"IF(SUM(V9:V12)=0,\"2nd Groupe A\",IF(OR(COUNTIF(T9:T12,1)>1,COUNTIF(T9:T12,2)>1),\"Tirage au sort A2\",VLOOKUP(2,T9:U12,2,FALSE)))","v":"Russie"},0,null,{"$f":"IF(AND(LEFT(AN46,3)<>\"1er\",LEFT(AN46,3)<>\"2nd\"),COUNTIF(RESULTATS!$AG$30:$AM$37,AN46),0)","v":1}]
[null,{"$f":"VLOOKUP($D47,TABLEAU_MATCHS[#All],2,FALSE)","v":"2018-06-26"},{"$f":"VLOOKUP($D47,TABLEAU_MATCHS[#All],3,FALSE)","v":"20:00:00"},40,{"$f":"\"Groupe \"&VLOOKUP($I47,TABLEAU_TEAMS[[#All],[TEAM]:[GROUP_INITIAL_RANK]],2,FALSE)","v":"Groupe D"},6.5,3.7,1.44,{"$f":"VLOOKUP($D47,TABLEAU_MATCHS[#All],4,FALSE)","v":"Islande"},1,null,{"$f":"VLOOKUP($D47,TABLEAU_MATCHS[#All],5,FALSE)","v":"Croatie"},1,{"$f":"IF(OR(ISBLANK(RESULTATS!J47),ISBLANK(J47)),\"\",IF(AND(RomainR!J47=RESULTATS!J47,RomainR!M47=RESULTATS!M47),3,IF(OR(AND(RomainR!J47>RomainR!M47,RESULTATS!J47>RESULTATS!M47),AND(RomainR!J47<RomainR!M47,RESULTATS!J47<RESULTATS!M47),AND(RomainR!J47=RomainR!M47,RESULTATS!J47=RESULTATS!M47)),1,0)))","v":""},null,null,null,"02910Tunisie",2910,3,"Tunisie",{"$f":"SUMPRODUCT((Teams1=U47)*(Teams1_Score<>\"\"))+SUMPRODUCT((Teams2=U47)*(Teams2_Score<>\"\"))","v":3},{"$f":"SUMPRODUCT((Teams1=U47)*(Teams1_Score>Teams2_Score))+SUMPRODUCT((Teams2=U47)*(Teams2_Score>Teams1_Score))","v":1},{"$f":"SUMPRODUCT((Teams1=U47)*(Teams1_Score=Teams2_Score)*(Teams1_Score<>\"\"))+SUMPRODUCT((Teams2=U47)*(Teams2_Score=Teams1_Score)*(Teams2_Score<>\"\"))","v":0},{"$f":"SUMPRODUCT((Teams1=U47)*(Teams1_Score<Teams2_Score))+SUMPRODUCT((Teams2=U47)*(Teams2_Score<Teams1_Score))","v":2},{"$f":"SUMPRODUCT((Teams1=U47)*(Teams1_Score))+SUMPRODUCT((Teams2=U47)*(Teams2_Score))","v":1},{"$f":"SUMPRODUCT((Teams1=U47)*(Teams2_Score))+SUMPRODUCT((Teams2=U47)*(Teams1_Score))","v":2},{"$f":"Z47-AA47","v":-1},{"$f":"3*W47+X47","v":3},null,null,"2017-06-30",3,{"$f":"IF(SUM(V21:V24)=0,\"1er Groupe C\",IF(COUNTIF(T21:T24,1)=1,VLOOKUP(1,T21:U24,2,FALSE),IF(COUNTIF(T21:T24,1)>=2,\"Tirage au Sort C1\")))","v":"France"},0,null,{"$f":"IF(AND(LEFT(AH47,3)<>\"1er\",LEFT(AH47,3)<>\"2nd\"),COUNTIF(RESULTATS!$AG$30:$AM$37,AH47),0)","v":0},null,null,{"$f":"IF(SUM(V27:V30)=0,\"2nd Groupe D\",IF(OR(COUNTIF(T27:T30,1)>1,COUNTIF(T27:T30,2)>1),\"Tirage au sort D2\",VLOOKUP(2,T27:U30,2,FALSE)))","v":"Croatie"},0,null,{"$f":"IF(AND(LEFT(AN47,3)<>\"1er\",LEFT(AN47,3)<>\"2nd\"),COUNTIF(RESULTATS!$AG$30:$AM$37,AN47),0)","v":0}]
[null,{"$f":"VLOOKUP($D48,TABLEAU_MATCHS[#All],2,FALSE)","v":"2018-06-27"},{"$f":"VLOOKUP($D48,TABLEAU_MATCHS[#All],3,FALSE)","v":"20:00:00"},41,{"$f":"\"Groupe \"&VLOOKUP($I48,TABLEAU_TEAMS[[#All],[TEAM]:[GROUP_INITIAL_RANK]],2,FALSE)","v":"Groupe E"},6.5,3.5,1.48,{"$f":"VLOOKUP($D48,TABLEAU_MATCHS[#All],4,FALSE)","v":"Serbie"},1,null,{"$f":"VLOOKUP($D48,TABLEAU_MATCHS[#All],5,FALSE)","v":"Brésil"},2,{"$f":"IF(OR(ISBLANK(RESULTATS!J48),ISBLANK(J48)),\"\",IF(AND(RomainR!J48=RESULTATS!J48,RomainR!M48=RESULTATS!M48),3,IF(OR(AND(RomainR!J48>RomainR!M48,RESULTATS!J48>RESULTATS!M48),AND(RomainR!J48<RomainR!M48,RESULTATS!J48<RESULTATS!M48),AND(RomainR!J48=RomainR!M48,RESULTATS!J48=RESULTATS!M48)),1,0)))","v":""},null,null,null,"-00500Panama",-500,4,"Panama",{"$f":"SUMPRODUCT((Teams1=U48)*(Teams1_Score<>\"\"))+SUMPRODUCT((Teams2=U48)*(Teams2_Score<>\"\"))","v":3},{"$f":"SUMPRODUCT((Teams1=U48)*(Teams1_Score>Teams2_Score))+SUMPRODUCT((Teams2=U48)*(Teams2_Score>Teams1_Score))","v":0},{"$f":"SUMPRODUCT((Teams1=U48)*(Teams1_Score=Teams2_Score)*(Teams1_Score<>\"\"))+SUMPRODUCT((Teams2=U48)*(Teams2_Score=Teams1_Score)*(Teams2_Score<>\"\"))","v":0},{"$f":"SUMPRODUCT((Teams1=U48)*(Teams1_Score<Teams2_Score))+SUMPRODUCT((Teams2=U48)*(Teams2_Score<Teams1_Score))","v":3},{"$f":"SUMPRODUCT((Teams1=U48)*(Teams1_Score))+SUMPRODUCT((Teams2=U48)*(Teams2_Score))","v":0},{"$f":"SUMPRODUCT((Teams1=U48)*(Teams2_Score))+SUMPRODUCT((Teams2=U48)*(Teams1_Score))","v":5},{"$f":"Z48-AA48","v":-5},{"$f":"3*W48+X48","v":0},null,null,"2018-07-01",4,{"$f":"IF(SUM(V27:V30)=0,\"1er Groupe D\",IF(COUNTIF(T27:T30,1)=1,VLOOKUP(1,T27:U30,2,FALSE),IF(COUNTIF(T27:T30,1)>=2,\"Tirage au Sort D1\")))","v":"Argentine"},0,null,{"$f":"IF(AND(LEFT(AH48,3)<>\"1er\",LEFT(AH48,3)<>\"2nd\"),COUNTIF(RESULTATS!$AG$30:$AM$37,AH48),0)","v":0},null,null,{"$f":"IF(SUM(V21:V24)=0,\"2nd Groupe C\",IF(OR(COUNTIF(T21:T24,1)>1,COUNTIF(T21:T24,2)>1),\"Tirage au sort C2\",VLOOKUP(2,T21:U24,2,FALSE)))","v":"Pérou"},0,null,{"$f":"IF(AND(LEFT(AN48,3)<>\"1er\",LEFT(AN48,3)<>\"2nd\"),COUNTIF(RESULTATS!$AG$30:$AM$37,AN48),0)","v":0}]
[null,{"$f":"VLOOKUP($D49,TABLEAU_MATCHS[#All],2,FALSE)","v":"2018-06-27"},{"$f":"VLOOKUP($D49,TABLEAU_MATCHS[#All],3,FALSE)","v":"20:00:00"},42,{"$f":"\"Groupe \"&VLOOKUP($I49,TABLEAU_TEAMS[[#All],[TEAM]:[GROUP_INITIAL_RANK]],2,FALSE)","v":"Groupe E"},4,3.05,1.9,{"$f":"VLOOKUP($D49,TABLEAU_MATCHS[#All],4,FALSE)","v":"Suisse"},1,null,{"$f":"VLOOKUP($D49,TABLEAU_MATCHS[#All],5,FALSE)","v":"Costa Rica"},1,{"$f":"IF(OR(ISBLANK(RESULTATS!J49),ISBLANK(J49)),\"\",IF(AND(RomainR!J49=RESULTATS!J49,RomainR!M49=RESULTATS!M49),3,IF(OR(AND(RomainR!J49>RomainR!M49,RESULTATS!J49>RESULTATS!M49),AND(RomainR!J49<RomainR!M49,RESULTATS!J49<RESULTATS!M49),AND(RomainR!J49=RomainR!M49,RESULTATS!J49=RESULTATS!M49)),1,0)))","v":""},null,null,null,null,null,null,null,null,null,null,null,null,null,null,null,null,null,"2018-07-02",5,{"$f":"IF(SUM(V33:V36)=0,\"1er Groupe E\",IF(COUNTIF(T33:T36,1)=1,VLOOKUP(1,T33:U36,2,FALSE),IF(COUNTIF(T33:T36,1)>=2,\"Tirage au Sort E1\")))","v":"Brésil"},0,null,{"$f":"IF(AND(LEFT(AH49,3)<>\"1er\",LEFT(AH49,3)<>\"2nd\"),COUNTIF(RESULTATS!$AG$30:$AM$37,AH49),0)","v":0},null,null,{"$f":"IF(SUM(V39:V42)=0,\"2nd Groupe F\",IF(OR(COUNTIF(T39:T42,1)>1,COUNTIF(T39:T42,2)>1),\"Tirage au sort F2\",VLOOKUP(2,T39:U42,2,FALSE)))","v":"Mexique"},0,null,{"$f":"IF(AND(LEFT(AN49,3)<>\"1er\",LEFT(AN49,3)<>\"2nd\"),COUNTIF(RESULTATS!$AG$30:$AM$37,AN49),0)","v":0}]
[null,{"$f":"VLOOKUP($D50,TABLEAU_MATCHS[#All],2,FALSE)","v":"2018-06-27"},{"$f":"VLOOKUP($D50,TABLEAU_MATCHS[#All],3,FALSE)","v":"16:00:00"},43,{"$f":"\"Groupe \"&VLOOKUP($I50,TABLEAU_TEAMS[[#All],[TEAM]:[GROUP_INITIAL_RANK]],2,FALSE)","v":"Groupe F"},8.5,4.3,1.3,{"$f":"VLOOKUP($D50,TABLEAU_MATCHS[#All],4,FALSE)","v":"Mexique"},2,null,{"$f":"VLOOKUP($D50,TABLEAU_MATCHS[#All],5,FALSE)","v":"Suède"},2,{"$f":"IF(OR(ISBLANK(RESULTATS!J50),ISBLANK(J50)),\"\",IF(AND(RomainR!J50=RESULTATS!J50,RomainR!M50=RESULTATS!M50),3,IF(OR(AND(RomainR!J50>RomainR!M50,RESULTATS!J50>RESULTATS!M50),AND(RomainR!J50<RomainR!M50,RESULTATS!J50<RESULTATS!M50),AND(RomainR!J50=RomainR!M50,RESULTATS!J50=RESULTATS!M50)),1,0)))","v":""},null,null,null,null,null,"Rg","Groupe H","MJ","G","N","P","BP","BC","+/-","Pts",null,null,"2018-07-03",6,{"$f":"IF(SUM(V39:V42)=0,\"1er Groupe F\",IF(COUNTIF(T39:T42,1)=1,VLOOKUP(1,T39:U42,2,FALSE),IF(COUNTIF(T39:T42,1)>=2,\"Tirage au Sort F1\")))","v":"Allemagne"},0,null,{"$f":"IF(AND(LEFT(AH50,3)<>\"1er\",LEFT(AH50,3)<>\"2nd\"),COUNTIF(RESULTATS!$AG$30:$AM$37,AH50),0)","v":0},null,null,{"$f":"IF(SUM(V33:V36)=0,\"2nd Groupe E\",IF(OR(COUNTIF(T33:T36,1)>1,COUNTIF(T33:T36,2)>1),\"Tirage au sort E2\",VLOOKUP(2,T33:U36,2,FALSE)))","v":"Serbie"},0,null,{"$f":"IF(AND(LEFT(AN50,3)<>\"1er\",LEFT(AN50,3)<>\"2nd\"),COUNTIF(RESULTATS!$AG$30:$AM$37,AN50),0)","v":0}]
[null,{"$f":"VLOOKUP($D51,TABLEAU_MATCHS[#All],2,FALSE)","v":"2018-06-27"},{"$f":"VLOOKUP($D51,TABLEAU_MATCHS[#All],3,FALSE)","v":"16:00:00"},44,{"$f":"\"Groupe \"&VLOOKUP($I51,TABLEAU_TEAMS[[#All],[TEAM]:[GROUP_INITIAL_RANK]],2,FALSE)","v":"Groupe F"},1.48,3.6,6.25,{"$f":"VLOOKUP($D51,TABLEAU_MATCHS[#All],4,FALSE)","v":"République de Corée"},0,null,{"$f":"VLOOKUP($D51,TABLEAU_MATCHS[#All],5,FALSE)","v":"Allemagne"},4,{"$f":"IF(OR(ISBLANK(RESULTATS!J51),ISBLANK(J51)),\"\",IF(AND(RomainR!J51=RESULTATS!J51,RomainR!M51=RESULTATS!M51),3,IF(OR(AND(RomainR!J51>RomainR!M51,RESULTATS!J51>RESULTATS!M51),AND(RomainR!J51<RomainR!M51,RESULTATS!J51<RESULTATS!M51),AND(RomainR!J51=RomainR!M51,RESULTATS!J51=RESULTATS!M51)),1,0)))","v":""},null,null,null,{"$f":"INDEX($R102:$R105,MATCH(SMALL(COUNTIF($R102:$R105,\">=\"&$R102:$R105),ROW(INDIRECT(\"1:\"&ROWS($R102:$R105)))),COUNTIF($R102:$R105,\">=\"&$R102:$R105),0))","v":"07260Pologne"},{"$f":"INDEX($S102:$S105,MATCH(SMALL(COUNTIF($R102:$R105,\">=\"&$R102:$R105),ROW(INDIRECT(\"1:\"&ROWS($R102:$R105)))),COUNTIF($R102:$R105,\">=\"&$R102:$R105),0))","v":7260},{"$f":"INDEX($T102:$T105,MATCH(SMALL(COUNTIF($R102:$R105,\">=\"&$R102:$R105),ROW(INDIRECT(\"1:\"&ROWS($R102:$R105)))),COUNTIF($R102:$R105,\">=\"&$R102:$R105),0))","v":1},{"$f":"INDEX($U102:$U105,MATCH(SMALL(COUNTIF($R102:$R105,\">=\"&$R102:$R105),ROW(INDIRECT(\"1:\"&ROWS($R102:$R105)))),COUNTIF($R102:$R105,\">=\"&$R102:$R105),0))","v":"Pologne"},{"$f":"SUMPRODUCT((Teams1=U51)*(Teams1_Score<>\"\"))+SUMPRODUCT((Teams2=U51)*(Teams2_Score<>\"\"))","v":3},{"$f":"SUMPRODUCT((Teams1=U51)*(Teams1_Score>Teams2_Score))+SUMPRODUCT((Teams2=U51)*(Teams2_Score>Teams1_Score))","v":2},{"$f":"SUMPRODUCT((Teams1=U51)*(Teams1_Score=Teams2_Score)*(Teams1_Score<>\"\"))+SUMPRODUCT((Teams2=U51)*(Teams2_Score=Teams1_Score)*(Teams2_Score<>\"\"))","v":1},{"$f":"SUMPRODUCT((Teams1=U51)*(Teams1_Score<Teams2_Score))+SUMPRODUCT((Teams2=U51)*(Teams2_Score<Teams1_Score))","v":0},{"$f":"SUMPRODUCT((Teams1=U51)*(Teams1_Score))+SUMPRODUCT((Teams2=U51)*(Teams2_Score))","v":6},{"$f":"SUMPRODUCT((Teams1=U51)*(Teams2_Score))+SUMPRODUCT((Teams2=U51)*(Teams1_Score))","v":4},{"$f":"Z51-AA51","v":2},{"$f":"3*W51+X51","v":7},null,null,"2018-07-02",7,{"$f":"IF(SUM(V45:V48)=0,\"1er Groupe G\",IF(COUNTIF(T45:T48,1)=1,VLOOKUP(1,T45:U48,2,FALSE),IF(COUNTIF(T45:T48,1)>=2,\"Tirage au Sort G1\")))","v":"Angleterre"},0,null,{"$f":"IF(AND(LEFT(AH51,3)<>\"1er\",LEFT(AH51,3)<>\"2nd\"),COUNTIF(RESULTATS!$AG$30:$AM$37,AH51),0)","v":0},null,null,{"$f":"IF(SUM(V51:V54)=0,\"2nd Groupe H\",IF(OR(COUNTIF(T51:T54,1)>1,COUNTIF(T51:T54,2)>1),\"Tirage au sort H2\",VLOOKUP(2,T51:U54,2,FALSE)))","v":"Colombie"},0,null,{"$f":"IF(AND(LEFT(AN51,3)<>\"1er\",LEFT(AN51,3)<>\"2nd\"),COUNTIF(RESULTATS!$AG$30:$AM$37,AN51),0)","v":0}]
[null,{"$f":"VLOOKUP($D52,TABLEAU_MATCHS[#All],2,FALSE)","v":"2018-06-28"},{"$f":"VLOOKUP($D52,TABLEAU_MATCHS[#All],3,FALSE)","v":"20:00:00"},45,{"$f":"\"Groupe \"&VLOOKUP($I52,TABLEAU_TEAMS[[#All],[TEAM]:[GROUP_INITIAL_RANK]],2,FALSE)","v":"Groupe G"},8,4.2,1.32,{"$f":"VLOOKUP($D52,TABLEAU_MATCHS[#All],4,FALSE)","v":"Panama"},0,null,{"$f":"VLOOKUP($D52,TABLEAU_MATCHS[#All],5,FALSE)","v":"Tunisie"},1,{"$f":"IF(OR(ISBLANK(RESULTATS!J52),ISBLANK(J52)),\"\",IF(AND(RomainR!J52=RESULTATS!J52,RomainR!M52=RESULTATS!M52),3,IF(OR(AND(RomainR!J52>RomainR!M52,RESULTATS!J52>RESULTATS!M52),AND(RomainR!J52<RomainR!M52,RESULTATS!J52<RESULTATS!M52),AND(RomainR!J52=RomainR!M52,RESULTATS!J52=RESULTATS!M52)),1,0)))","v":""},null,null,null,"07250Colombie",7250,2,"Colombie",{"$f":"SUMPRODUCT((Teams1=U52)*(Teams1_Score<>\"\"))+SUMPRODUCT((Teams2=U52)*(Teams2_Score<>\"\"))","v":3},{"$f":"SUMPRODUCT((Teams1=U52)*(Teams1_Score>Teams2_Score))+SUMPRODUCT((Teams2=U52)*(Teams2_Score>Teams1_Score))","v":2},{"$f":"SUMPRODUCT((Teams1=U52)*(Teams1_Score=Teams2_Score)*(Teams1_Score<>\"\"))+SUMPRODUCT((Teams2=U52)*(Teams2_Score=Teams1_Score)*(Teams2_Score<>\"\"))","v":1},{"$f":"SUMPRODUCT((Teams1=U52)*(Teams1_Score<Teams2_Score))+SUMPRODUCT((Teams2=U52)*(Teams2_Score<Teams1_Score))","v":0},{"$f":"SUMPRODUCT((Teams1=U52)*(Teams1_Score))+SUMPRODUCT((Teams2=U52)*(Teams2_Score))","v":5},{"$f":"SUMPRODUCT((Teams1=U52)*(Teams2_Score))+SUMPRODUCT((Teams2=U52)*(Teams1_Score))","v":3},{"$f":"Z52-AA52","v":2},{"$f":"3*W52+X52","v":7},null,null,"2018-07-03",8,{"$f":"IF(SUM(V51:V54)=0,\"1er Groupe H\",IF(COUNTIF(T51:T54,1)=1,VLOOKUP(1,T51:U54,2,FALSE),IF(COUNTIF(T51:T54,1)>=2,\"Tirage au Sort H1\")))","v":"Pologne"},0,null,{"$f":"IF(AND(LEFT(AH52,3)<>\"1er\",LEFT(AH52,3)<>\"2nd\"),COUNTIF(RESULTATS!$AG$30:$AM$37,AH52),0)","v":0},null,null,{"$f":"IF(SUM(V45:V48)=0,\"2nd Groupe G\",IF(OR(COUNTIF(T45:T48,1)>1,COUNTIF(T45:T48,2)>1),\"Tirage au sort G2\",VLOOKUP(2,T45:U48,2,FALSE)))","v":"Belgique"},0,null,{"$f":"IF(AND(LEFT(AN52,3)<>\"1er\",LEFT(AN52,3)<>\"2nd\"),COUNTIF(RESULTATS!$AG$30:$AM$37,AN52),0)","v":0}]
[null,{"$f":"VLOOKUP($D53,TABLEAU_MATCHS[#All],2,FALSE)","v":"2018-06-28"},{"$f":"VLOOKUP($D53,TABLEAU_MATCHS[#All],3,FALSE)","v":"20:00:00"},46,{"$f":"\"Groupe \"&VLOOKUP($I53,TABLEAU_TEAMS[[#All],[TEAM]:[GROUP_INITIAL_RANK]],2,FALSE)","v":"Groupe G"},1.74,3.2,4.0999999999999996,{"$f":"VLOOKUP($D53,TABLEAU_MATCHS[#All],4,FALSE)","v":"Angleterre"},3,null,{"$f":"VLOOKUP($D53,TABLEAU_MATCHS[#All],5,FALSE)","v":"Belgique"},2,{"$f":"IF(OR(ISBLANK(RESULTATS!J53),ISBLANK(J53)),\"\",IF(AND(RomainR!J53=RESULTATS!J53,RomainR!M53=RESULTATS!M53),3,IF(OR(AND(RomainR!J53>RomainR!M53,RESULTATS!J53>RESULTATS!M53),AND(RomainR!J53<RomainR!M53,RESULTATS!J53<RESULTATS!M53),AND(RomainR!J53=RomainR!M53,RESULTATS!J53=RESULTATS!M53)),1,0)))","v":""},null,null,null,"02930Japon",2930,3,"Japon",{"$f":"SUMPRODUCT((Teams1=U53)*(Teams1_Score<>\"\"))+SUMPRODUCT((Teams2=U53)*(Teams2_Score<>\"\"))","v":3},{"$f":"SUMPRODUCT((Teams1=U53)*(Teams1_Score>Teams2_Score))+SUMPRODUCT((Teams2=U53)*(Teams2_Score>Teams1_Score))","v":1},{"$f":"SUMPRODUCT((Teams1=U53)*(Teams1_Score=Teams2_Score)*(Teams1_Score<>\"\"))+SUMPRODUCT((Teams2=U53)*(Teams2_Score=Teams1_Score)*(Teams2_Score<>\"\"))","v":0},{"$f":"SUMPRODUCT((Teams1=U53)*(Teams1_Score<Teams2_Score))+SUMPRODUCT((Teams2=U53)*(Teams2_Score<Teams1_Score))","v":2},{"$f":"SUMPRODUCT((Teams1=U53)*(Teams1_Score))+SUMPRODUCT((Teams2=U53)*(Teams2_Score))","v":3},{"$f":"SUMPRODUCT((Teams1=U53)*(Teams2_Score))+SUMPRODUCT((Teams2=U53)*(Teams1_Score))","v":4},{"$f":"Z53-AA53","v":-1},{"$f":"3*W53+X53","v":3},null,null,null,null,null,null,null,{"$f":"SUM(AK45:AK52)","v":1},null,null,null,0,null,{"$f":"SUM(AQ45:AQ52)","v":1}]
[null,{"$f":"VLOOKUP($D54,TABLEAU_MATCHS[#All],2,FALSE)","v":"2018-06-28"},{"$f":"VLOOKUP($D54,TABLEAU_MATCHS[#All],3,FALSE)","v":"16:00:00"},47,{"$f":"\"Groupe \"&VLOOKUP($I54,TABLEAU_TEAMS[[#All],[TEAM]:[GROUP_INITIAL_RANK]],2,FALSE)","v":"Groupe H"},4.9000000000000004,3.25,1.62,{"$f":"VLOOKUP($D54,TABLEAU_MATCHS[#All],4,FALSE)","v":"Japon"},1,null,{"$f":"VLOOKUP($D54,TABLEAU_MATCHS[#All],5,FALSE)","v":"Pologne"},2,{"$f":"IF(OR(ISBLANK(RESULTATS!J54),ISBLANK(J54)),\"\",IF(AND(RomainR!J54=RESULTATS!J54,RomainR!M54=RESULTATS!M54),3,IF(OR(AND(RomainR!J54>RomainR!M54,RESULTATS!J54>RESULTATS!M54),AND(RomainR!J54<RomainR!M54,RESULTATS!J54<RESULTATS!M54),AND(RomainR!J54=RomainR!M54,RESULTATS!J54=RESULTATS!M54)),1,0)))","v":""},null,null,null,"-00290Sénégal",-290,4,"Sénégal",{"$f":"SUMPRODUCT((Teams1=U54)*(Teams1_Score<>\"\"))+SUMPRODUCT((Teams2=U54)*(Teams2_Score<>\"\"))","v":3},{"$f":"SUMPRODUCT((Teams1=U54)*(Teams1_Score>Teams2_Score))+SUMPRODUCT((Teams2=U54)*(Teams2_Score>Teams1_Score))","v":0},{"$f":"SUMPRODUCT((Teams1=U54)*(Teams1_Score=Teams2_Score)*(Teams1_Score<>\"\"))+SUMPRODUCT((Teams2=U54)*(Teams2_Score=Teams1_Score)*(Teams2_Score<>\"\"))","v":0},{"$f":"SUMPRODUCT((Teams1=U54)*(Teams1_Score<Teams2_Score))+SUMPRODUCT((Teams2=U54)*(Teams2_Score<Teams1_Score))","v":3},{"$f":"SUMPRODUCT((Teams1=U54)*(Teams1_Score))+SUMPRODUCT((Teams2=U54)*(Teams2_Score))","v":1},{"$f":"SUMPRODUCT((Teams1=U54)*(Teams2_Score))+SUMPRODUCT((Teams2=U54)*(Teams1_Score))","v":4},{"$f":"Z54-AA54","v":-3},{"$f":"3*W54+X54","v":0}]
[null,{"$f":"VLOOKUP($D55,TABLEAU_MATCHS[#All],2,FALSE)","v":"2018-06-28"},{"$f":"VLOOKUP($D55,TABLEAU_MATCHS[#All],3,FALSE)","v":"16:00:00"},48,{"$f":"\"Groupe \"&VLOOKUP($I55,TABLEAU_TEAMS[[#All],[TEAM]:[GROUP_INITIAL_RANK]],2,FALSE)","v":"Groupe H"},6,3.4,1.52,{"$f":"VLOOKUP($D55,TABLEAU_MATCHS[#All],4,FALSE)","v":"Sénégal"},0,null,{"$f":"VLOOKUP($D55,TABLEAU_MATCHS[#All],5,FALSE)","v":"Colombie"},1,{"$f":"IF(OR(ISBLANK(RESULTATS!J55),ISBLANK(J55)),\"\",IF(AND(RomainR!J55=RESULTATS!J55,RomainR!M55=RESULTATS!M55),3,IF(OR(AND(RomainR!J55>RomainR!M55,RESULTATS!J55>RESULTATS!M55),AND(RomainR!J55<RomainR!M55,RESULTATS!J55<RESULTATS!M55),AND(RomainR!J55=RomainR!M55,RESULTATS!J55=RESULTATS!M55)),1,0)))","v":""}]
[null,null,null,null,null,null,null,null,null,null,null,null,null,{"$f":"SUM(N8:N55)","v":3}]
[]
[]
[null,"Tirage au sort A1",null,null,null,null,null,null,null,null,null,null,null,null,null,null,null,null,null,"Rg","Groupe A","MJ","G","N","P","BP","BC","+/-","Pts"]
[null,{"$f":"IF(ROWS($1:1)<=COUNTIF($T$9:$T$12,1),INDEX($U$9:$U$12,SMALL(IF($T$9:$T$12=1,ROW(INDIRECT(\"1:\"&ROWS($T$9:$T$12)))),ROWS($1:1))),\"\")","v":"Uruguay"},null,null,null,null,null,null,null,null,null,null,null,null,null,null,"A_1",{"$f":"TEXT(S60,\"00000\")&U60","v":"06260Russie"},{"$f":"AC60*1000+AB60*100+Z60*10","v":6260},{"$f":"RANK(S60,$S60:$S64,0)","v":2},{"$f":"VLOOKUP(Q60,TABLEAU_TEAMS[#All],2,FALSE)","v":"Russie"},{"$f":"SUMPRODUCT((Teams1=U60)*(Teams1_Score<>\"\"))+SUMPRODUCT((Teams2=U60)*(Teams2_Score<>\"\"))","v":3},{"$f":"SUMPRODUCT((Teams1=U60)*(Teams1_Score>Teams2_Score))+SUMPRODUCT((Teams2=U60)*(Teams2_Score>Teams1_Score))","v":2},{"$f":"SUMPRODUCT((Teams1=U60)*(Teams1_Score=Teams2_Score)*(Teams1_Score<>\"\"))+SUMPRODUCT((Teams2=U60)*(Teams2_Score=Teams1_Score)*(Teams2_Score<>\"\"))","v":0},{"$f":"SUMPRODUCT((Teams1=U60)*(Teams1_Score<Teams2_Score))+SUMPRODUCT((Teams2=U60)*(Teams2_Score<Teams1_Score))","v":1},{"$f":"SUMPRODUCT((Teams1=U60)*(Teams1_Score))+SUMPRODUCT((Teams2=U60)*(Teams2_Score))","v":6},{"$f":"SUMPRODUCT((Teams1=U60)*(Teams2_Score))+SUMPRODUCT((Teams2=U60)*(Teams1_Score))","v":4},{"$f":"Z60-AA60","v":2},{"$f":"3*W60+X60","v":6}]
[null,{"$f":"IF(ROWS($1:2)<=COUNTIF($T$9:$T$12,1),INDEX($U$9:$U$12,SMALL(IF($T$9:$T$12=1,ROW(INDIRECT(\"1:\"&ROWS($T$9:$T$12)))),ROWS($1:2))),\"\")","v":""},null,null,null,null,null,null,null,null,null,null,null,null,null,null,"A_2",{"$f":"TEXT(S61,\"00000\")&U61","v":"-00700Arabie Saoudite"},{"$f":"AC61*1000+AB61*100+Z61*10","v":-700},{"$f":"RANK(S61,$S60:$S64,0)","v":4},{"$f":"VLOOKUP(Q61,TABLEAU_TEAMS[#All],2,FALSE)","v":"Arabie Saoudite"},{"$f":"SUMPRODUCT((Teams1=U61)*(Teams1_Score<>\"\"))+SUMPRODUCT((Teams2=U61)*(Teams2_Score<>\"\"))","v":3},{"$f":"SUMPRODUCT((Teams1=U61)*(Teams1_Score>Teams2_Score))+SUMPRODUCT((Teams2=U61)*(Teams2_Score>Teams1_Score))","v":0},{"$f":"SUMPRODUCT((Teams1=U61)*(Teams1_Score=Teams2_Score)*(Teams1_Score<>\"\"))+SUMPRODUCT((Teams2=U61)*(Teams2_Score=Teams1_Score)*(Teams2_Score<>\"\"))","v":0},{"$f":"SUMPRODUCT((Teams1=U61)*(Teams1_Score<Teams2_Score))+SUMPRODUCT((Teams2=U61)*(Teams2_Score<Teams1_Score))","v":3},{"$f":"SUMPRODUCT((Teams1=U61)*(Teams1_Score))+SUMPRODUCT((Teams2=U61)*(Teams2_Score))","v":0},{"$f":"SUMPRODUCT((Teams1=U61)*(Teams2_Score))+SUMPRODUCT((Teams2=U61)*(Teams1_Score))","v":7},{"$f":"Z61-AA61","v":-7},{"$f":"3*W61+X61","v":0}]
[null,{"$f":"IF(ROWS($1:3)<=COUNTIF($T$9:$T$12,1),INDEX($U$9:$U$12,SMALL(IF($T$9:$T$12=1,ROW(INDIRECT(\"1:\"&ROWS($T$9:$T$12)))),ROWS($1:3))),\"\")","v":""},null,null,null,null,null,null,null,null,null,null,null,null,null,null,"A_3",{"$f":"TEXT(S62,\"00000\")&U62","v":"02930Egypte"},{"$f":"AC62*1000+AB62*100+Z62*10","v":2930},{"$f":"RANK(S62,$S60:$S64,0)","v":3},{"$f":"VLOOKUP(Q62,TABLEAU_TEAMS[#All],2,FALSE)","v":"Egypte"},{"$f":"SUMPRODUCT((Teams1=U62)*(Teams1_Score<>\"\"))+SUMPRODUCT((Teams2=U62)*(Teams2_Score<>\"\"))","v":3},{"$f":"SUMPRODUCT((Teams1=U62)*(Teams1_Score>Teams2_Score))+SUMPRODUCT((Teams2=U62)*(Teams2_Score>Teams1_Score))","v":1},{"$f":"SUMPRODUCT((Teams1=U62)*(Teams1_Score=Teams2_Score)*(Teams1_Score<>\"\"))+SUMPRODUCT((Teams2=U62)*(Teams2_Score=Teams1_Score)*(Teams2_Score<>\"\"))","v":0},{"$f":"SUMPRODUCT((Teams1=U62)*(Teams1_Score<Teams2_Score))+SUMPRODUCT((Teams2=U62)*(Teams2_Score<Teams1_Score))","v":2},{"$f":"SUMPRODUCT((Teams1=U62)*(Teams1_Score))+SUMPRODUCT((Teams2=U62)*(Teams2_Score))","v":3},{"$f":"SUMPRODUCT((Teams1=U62)*(Teams2_Score))+SUMPRODUCT((Teams2=U62)*(Teams1_Score))","v":4},{"$f":"Z62-AA62","v":-1},{"$f":"3*W62+X62","v":3}]
[null,{"$f":"IF(ROWS($1:4)<=COUNTIF($T$9:$T$12,1),INDEX($U$9:$U$12,SMALL(IF($T$9:$T$12=1,ROW(INDIRECT(\"1:\"&ROWS($T$9:$T$12)))),ROWS($1:4))),\"\")","v":""},null,null,null,null,null,null,null,null,null,null,null,null,null,null,"A_4",{"$f":"TEXT(S63,\"00000\")&U63","v":"09680Uruguay"},{"$f":"AC63*1000+AB63*100+Z63*10","v":9680},{"$f":"RANK(S63,$S60:$S64,0)","v":1},{"$f":"VLOOKUP(Q63,TABLEAU_TEAMS[#All],2,FALSE)","v":"Uruguay"},{"$f":"SUMPRODUCT((Teams1=U63)*(Teams1_Score<>\"\"))+SUMPRODUCT((Teams2=U63)*(Teams2_Score<>\"\"))","v":3},{"$f":"SUMPRODUCT((Teams1=U63)*(Teams1_Score>Teams2_Score))+SUMPRODUCT((Teams2=U63)*(Teams2_Score>Teams1_Score))","v":3},{"$f":"SUMPRODUCT((Teams1=U63)*(Teams1_Score=Teams2_Score)*(Teams1_Score<>\"\"))+SUMPRODUCT((Teams2=U63)*(Teams2_Score=Teams1_Score)*(Teams2_Score<>\"\"))","v":0},{"$f":"SUMPRODUCT((Teams1=U63)*(Teams1_Score<Teams2_Score))+SUMPRODUCT((Teams2=U63)*(Teams2_Score<Teams1_Score))","v":0},{"$f":"SUMPRODUCT((Teams1=U63)*(Teams1_Score))+SUMPRODUCT((Teams2=U63)*(Teams2_Score))","v":8},{"$f":"SUMPRODUCT((Teams1=U63)*(Teams2_Score))+SUMPRODUCT((Teams2=U63)*(Teams1_Score))","v":2},{"$f":"Z63-AA63","v":6},{"$f":"3*W63+X63","v":9}]
[null,"Tirage au sort A2"]
[null,{"$f":"IF(COUNTIF($T$9:$T$12,1)>1,IF(ROWS($1:1)<=COUNTIF($T$9:$T$12,1),INDEX($U$9:$U$12,SMALL(IF($T$9:$T$12=1,ROW(INDIRECT(\"1:\"&ROWS($T$9:$T$12)))),ROWS($1:1))),\"\"),IF(COUNTIF($T$9:$T$12,2)>1,IF(ROWS($1:1)<=COUNTIF($T$9:$T$12,2),INDEX($U$9:$U$12,SMALL(IF($T$9:$T$12=2,ROW(INDIRECT(\"1:\"&ROWS($T$9:$T$12)))),ROWS($1:1))),\"\")))","v":false},null,null,null,null,null,null,null,null,null,null,null,null,null,null,null,null,null,"Rg","Groupe B","MJ","G","N","P","BP","BC","Pts","Pts"]
[null,{"$f":"IF(COUNTIF($T$9:$T$12,1)>1,IF(ROWS($1:2)<=COUNTIF($T$9:$T$12,1),INDEX($U$9:$U$12,SMALL(IF($T$9:$T$12=1,ROW(INDIRECT(\"1:\"&ROWS($T$9:$T$12)))),ROWS($1:2))),\"\"),IF(COUNTIF($T$9:$T$12,2)>1,IF(ROWS($1:2)<=COUNTIF($T$9:$T$12,2),INDEX($U$9:$U$12,SMALL(IF($T$9:$T$12=2,ROW(INDIRECT(\"1:\"&ROWS($T$9:$T$12)))),ROWS($1:2))),\"\")))","v":false},null,null,null,null,null,null,null,null,null,null,null,null,null,null,"B_1",{"$f":"TEXT(S66,\"00000\")&U66","v":"02940Maroc"},{"$f":"AC66*1000+AB66*100+Z66*10","v":2940},{"$f":"RANK(S66,$S66:$S70,0)","v":3},{"$f":"VLOOKUP(Q66,TABLEAU_TEAMS[#All],2,FALSE)","v":"Maroc"},{"$f":"SUMPRODUCT((Teams1=U66)*(Teams1_Score<>\"\"))+SUMPRODUCT((Teams2=U66)*(Teams2_Score<>\"\"))","v":3},{"$f":"SUMPRODUCT((Teams1=U66)*(Teams1_Score>Teams2_Score))+SUMPRODUCT((Teams2=U66)*(Teams2_Score>Teams1_Score))","v":1},{"$f":"SUMPRODUCT((Teams1=U66)*(Teams1_Score=Teams2_Score)*(Teams1_Score<>\"\"))+SUMPRODUCT((Teams2=U66)*(Teams2_Score=Teams1_Score)*(Teams2_Score<>\"\"))","v":0},{"$f":"SUMPRODUCT((Teams1=U66)*(Teams1_Score<Teams2_Score))+SUMPRODUCT((Teams2=U66)*(Teams2_Score<Teams1_Score))","v":2},{"$f":"SUMPRODUCT((Teams1=U66)*(Teams1_Score))+SUMPRODUCT((Teams2=U66)*(Teams2_Score))","v":4},{"$f":"SUMPRODUCT((Teams1=U66)*(Teams2_Score))+SUMPRODUCT((Teams2=U66)*(Teams1_Score))","v":5},{"$f":"Z66-AA66","v":-1},{"$f":"3*W66+X66","v":3}]
[null,{"$f":"IF(COUNTIF($T$9:$T$12,1)>1,IF(ROWS($1:3)<=COUNTIF($T$9:$T$12,1),INDEX($U$9:$U$12,SMALL(IF($T$9:$T$12=1,ROW(INDIRECT(\"1:\"&ROWS($T$9:$T$12)))),ROWS($1:3))),\"\"),IF(COUNTIF($T$9:$T$12,2)>1,IF(ROWS($1:3)<=COUNTIF($T$9:$T$12,2),INDEX($U$9:$U$12,SMALL(IF($T$9:$T$12=2,ROW(INDIRECT(\"1:\"&ROWS($T$9:$T$12)))),ROWS($1:3))),\"\")))","v":false},null,null,null,null,null,null,null,null,null,null,null,null,null,null,"B_2",{"$f":"TEXT(S67,\"00000\")&U67","v":"-00590RI Iran"},{"$f":"AC67*1000+AB67*100+Z67*10","v":-590},{"$f":"RANK(S67,$S66:$S70,0)","v":4},{"$f":"VLOOKUP(Q67,TABLEAU_TEAMS[#All],2,FALSE)","v":"RI Iran"},{"$f":"SUMPRODUCT((Teams1=U67)*(Teams1_Score<>\"\"))+SUMPRODUCT((Teams2=U67)*(Teams2_Score<>\"\"))","v":3},{"$f":"SUMPRODUCT((Teams1=U67)*(Teams1_Score>Teams2_Score))+SUMPRODUCT((Teams2=U67)*(Teams2_Score>Teams1_Score))","v":0},{"$f":"SUMPRODUCT((Teams1=U67)*(Teams1_Score=Teams2_Score)*(Teams1_Score<>\"\"))+SUMPRODUCT((Teams2=U67)*(Teams2_Score=Teams1_Score)*(Teams2_Score<>\"\"))","v":0},{"$f":"SUMPRODUCT((Teams1=U67)*(Teams1_Score<Teams2_Score))+SUMPRODUCT((Teams2=U67)*(Teams2_Score<Teams1_Score))","v":3},{"$f":"SUMPRODUCT((Teams1=U67)*(Teams1_Score))+SUMPRODUCT((Teams2=U67)*(Teams2_Score))","v":1},{"$f":"SUMPRODUCT((Teams1=U67)*(Teams2_Score))+SUMPRODUCT((Teams2=U67)*(Teams1_Score))","v":7},{"$f":"Z67-AA67","v":-6},{"$f":"3*W67+X67","v":0}]
[null,{"$f":"IF(COUNTIF($T$9:$T$12,1)>1,IF(ROWS($1:4)<=COUNTIF($T$9:$T$12,1),INDEX($U$9:$U$12,SMALL(IF($T$9:$T$12=1,ROW(INDIRECT(\"1:\"&ROWS($T$9:$T$12)))),ROWS($1:4))),\"\"),IF(COUNTIF($T$9:$T$12,2)>1,IF(ROWS($1:4)<=COUNTIF($T$9:$T$12,2),INDEX($U$9:$U$12,SMALL(IF($T$9:$T$12=2,ROW(INDIRECT(\"1:\"&ROWS($T$9:$T$12)))),ROWS($1:4))),\"\")))","v":false},null,null,null,null,null,null,null,null,null,null,null,null,null,null,"B_3",{"$f":"TEXT(S68,\"00000\")&U68","v":"07340Portugal"},{"$f":"AC68*1000+AB68*100+Z68*10","v":7340},{"$f":"RANK(S68,$S66:$S70,0)","v":2},{"$f":"VLOOKUP(Q68,TABLEAU_TEAMS[#All],2,FALSE)","v":"Portugal"},{"$f":"SUMPRODUCT((Teams1=U68)*(Teams1_Score<>\"\"))+SUMPRODUCT((Teams2=U68)*(Teams2_Score<>\"\"))","v":3},{"$f":"SUMPRODUCT((Teams1=U68)*(Teams1_Score>Teams2_Score))+SUMPRODUCT((Teams2=U68)*(Teams2_Score>Teams1_Score))","v":2},{"$f":"SUMPRODUCT((Teams1=U68)*(Teams1_Score=Teams2_Score)*(Teams1_Score<>\"\"))+SUMPRODUCT((Teams2=U68)*(Teams2_Score=Teams1_Score)*(Teams2_Score<>\"\"))","v":1},{"$f":"SUMPRODUCT((Teams1=U68)*(Teams1_Score<Teams2_Score))+SUMPRODUCT((Teams2=U68)*(Teams2_Score<Teams1_Score))","v":0},{"$f":"SUMPRODUCT((Teams1=U68)*(Teams1_Score))+SUMPRODUCT((Teams2=U68)*(Teams2_Score))","v":4},{"$f":"SUMPRODUCT((Teams1=U68)*(Teams2_Score))+SUMPRODUCT((Teams2=U68)*(Teams1_Score))","v":1},{"$f":"Z68-AA68","v":3},{"$f":"3*W68+X68","v":7}]
[null,"Tirage au sort B1",null,null,null,null,null,null,null,null,null,null,null,null,null,null,"B_4",{"$f":"TEXT(S69,\"00000\")&U69","v":"07460Espagne"},{"$f":"AC69*1000+AB69*100+Z69*10","v":7460},{"$f":"RANK(S69,$S66:$S70,0)","v":1},{"$f":"VLOOKUP(Q69,TABLEAU_TEAMS[#All],2,FALSE)","v":"Espagne"},{"$f":"SUMPRODUCT((Teams1=U69)*(Teams1_Score<>\"\"))+SUMPRODUCT((Teams2=U69)*(Teams2_Score<>\"\"))","v":3},{"$f":"SUMPRODUCT((Teams1=U69)*(Teams1_Score>Teams2_Score))+SUMPRODUCT((Teams2=U69)*(Teams2_Score>Teams1_Score))","v":2},{"$f":"SUMPRODUCT((Teams1=U69)*(Teams1_Score=Teams2_Score)*(Teams1_Score<>\"\"))+SUMPRODUCT((Teams2=U69)*(Teams2_Score=Teams1_Score)*(Teams2_Score<>\"\"))","v":1},{"$f":"SUMPRODUCT((Teams1=U69)*(Teams1_Score<Teams2_Score))+SUMPRODUCT((Teams2=U69)*(Teams2_Score<Teams1_Score))","v":0},{"$f":"SUMPRODUCT((Teams1=U69)*(Teams1_Score))+SUMPRODUCT((Teams2=U69)*(Teams2_Score))","v":6},{"$f":"SUMPRODUCT((Teams1=U69)*(Teams2_Score))+SUMPRODUCT((Teams2=U69)*(Teams1_Score))","v":2},{"$f":"Z69-AA69","v":4},{"$f":"3*W69+X69","v":7}]
[null,{"$f":"IF(ROWS($1:1)<=COUNTIF($T$15:$T$18,1),INDEX($U$15:$U$18,SMALL(IF($T$15:$T$18=1,ROW(INDIRECT(\"1:\"&ROWS($T$15:$T$18)))),ROWS($1:1))),\"\")","v":"Espagne"}]
[null,{"$f":"IF(ROWS($1:2)<=COUNTIF($T$15:$T$18,1),INDEX($U$15:$U$18,SMALL(IF($T$15:$T$18=1,ROW(INDIRECT(\"1:\"&ROWS($T$15:$T$18)))),ROWS($1:2))),\"\")","v":""},null,null,null,null,null,null,null,null,null,null,null,null,null,null,null,null,null,"Rg","Groupe C","MJ","G","N","P","BP","BC","Pts","Pts"]
[null,{"$f":"IF(ROWS($1:3)<=COUNTIF($T$15:$T$18,1),INDEX($U$15:$U$18,SMALL(IF($T$15:$T$18=1,ROW(INDIRECT(\"1:\"&ROWS($T$15:$T$18)))),ROWS($1:3))),\"\")","v":""},null,null,null,null,null,null,null,null,null,null,null,null,null,null,"C_1",{"$f":"TEXT(S72,\"00000\")&U72","v":"09570France"},{"$f":"AC72*1000+AB72*100+Z72*10","v":9570},{"$f":"RANK(S72,$S72:$S76,0)","v":1},{"$f":"VLOOKUP(Q72,TABLEAU_TEAMS[#All],2,FALSE)","v":"France"},{"$f":"SUMPRODUCT((Teams1=U72)*(Teams1_Score<>\"\"))+SUMPRODUCT((Teams2=U72)*(Teams2_Score<>\"\"))","v":3},{"$f":"SUMPRODUCT((Teams1=U72)*(Teams1_Score>Teams2_Score))+SUMPRODUCT((Teams2=U72)*(Teams2_Score>Teams1_Score))","v":3},{"$f":"SUMPRODUCT((Teams1=U72)*(Teams1_Score=Teams2_Score)*(Teams1_Score<>\"\"))+SUMPRODUCT((Teams2=U72)*(Teams2_Score=Teams1_Score)*(Teams2_Score<>\"\"))","v":0},{"$f":"SUMPRODUCT((Teams1=U72)*(Teams1_Score<Teams2_Score))+SUMPRODUCT((Teams2=U72)*(Teams2_Score<Teams1_Score))","v":0},{"$f":"SUMPRODUCT((Teams1=U72)*(Teams1_Score))+SUMPRODUCT((Teams2=U72)*(Teams2_Score))","v":7},{"$f":"SUMPRODUCT((Teams1=U72)*(Teams2_Score))+SUMPRODUCT((Teams2=U72)*(Teams1_Score))","v":2},{"$f":"Z72-AA72","v":5},{"$f":"3*W72+X72","v":9}]
[null,{"$f":"IF(ROWS($1:4)<=COUNTIF($T$15:$T$18,1),INDEX($U$15:$U$18,SMALL(IF($T$15:$T$18=1,ROW(INDIRECT(\"1:\"&ROWS($T$15:$T$18)))),ROWS($1:4))),\"\")","v":""},null,null,null,null,null,null,null,null,null,null,null,null,null,null,"C_2",{"$f":"TEXT(S73,\"00000\")&U73","v":"01830Australie"},{"$f":"AC73*1000+AB73*100+Z73*10","v":1830},{"$f":"RANK(S73,$S72:$S76,0)","v":3},{"$f":"VLOOKUP(Q73,TABLEAU_TEAMS[#All],2,FALSE)","v":"Australie"},{"$f":"SUMPRODUCT((Teams1=U73)*(Teams1_Score<>\"\"))+SUMPRODUCT((Teams2=U73)*(Teams2_Score<>\"\"))","v":3},{"$f":"SUMPRODUCT((Teams1=U73)*(Teams1_Score>Teams2_Score))+SUMPRODUCT((Teams2=U73)*(Teams2_Score>Teams1_Score))","v":0},{"$f":"SUMPRODUCT((Teams1=U73)*(Teams1_Score=Teams2_Score)*(Teams1_Score<>\"\"))+SUMPRODUCT((Teams2=U73)*(Teams2_Score=Teams1_Score)*(Teams2_Score<>\"\"))","v":2},{"$f":"SUMPRODUCT((Teams1=U73)*(Teams1_Score<Teams2_Score))+SUMPRODUCT((Teams2=U73)*(Teams2_Score<Teams1_Score))","v":1},{"$f":"SUMPRODUCT((Teams1=U73)*(Teams1_Score))+SUMPRODUCT((Teams2=U73)*(Teams2_Score))","v":3},{"$f":"SUMPRODUCT((Teams1=U73)*(Teams2_Score))+SUMPRODUCT((Teams2=U73)*(Teams1_Score))","v":5},{"$f":"Z73-AA73","v":-2},{"$f":"3*W73+X73","v":2}]
[null,"Tirage au sort B2",null,null,null,null,null,null,null,null,null,null,null,null,null,null,"C_3",{"$f":"TEXT(S74,\"00000\")&U74","v":"01930Pérou"},{"$f":"AC74*1000+AB74*100+Z74*10","v":1930},{"$f":"RANK(S74,$S72:$S76,0)","v":2},{"$f":"VLOOKUP(Q74,TABLEAU_TEAMS[#All],2,FALSE)","v":"Pérou"},{"$f":"SUMPRODUCT((Teams1=U74)*(Teams1_Score<>\"\"))+SUMPRODUCT((Teams2=U74)*(Teams2_Score<>\"\"))","v":3},{"$f":"SUMPRODUCT((Teams1=U74)*(Teams1_Score>Teams2_Score))+SUMPRODUCT((Teams2=U74)*(Teams2_Score>Teams1_Score))","v":0},{"$f":"SUMPRODUCT((Teams1=U74)*(Teams1_Score=Teams2_Score)*(Teams1_Score<>\"\"))+SUMPRODUCT((Teams2=U74)*(Teams2_Score=Teams1_Score)*(Teams2_Score<>\"\"))","v":2},{"$f":"SUMPRODUCT((Teams1=U74)*(Teams1_Score<Teams2_Score))+SUMPRODUCT((Teams2=U74)*(Teams2_Score<Teams1_Score))","v":1},{"$f":"SUMPRODUCT((Teams1=U74)*(Teams1_Score))+SUMPRODUCT((Teams2=U74)*(Teams2_Score))","v":3},{"$f":"SUMPRODUCT((Teams1=U74)*(Teams2_Score))+SUMPRODUCT((Teams2=U74)*(Teams1_Score))","v":4},{"$f":"Z74-AA74","v":-1},{"$f":"3*W74+X74","v":2}]
[null,{"$f":"IF(COUNTIF($T$15:$T$18,1)>1,IF(ROWS($1:1)<=COUNTIF($T$15:$T$18,1),INDEX($U$15:$U$18,SMALL(IF($T$15:$T$18=1,ROW(INDIRECT(\"1:\"&ROWS($T$15:$T$18)))),ROWS($1:1))),\"\"),IF(COUNTIF($T$15:$T$18,2)>1,IF(ROWS($1:1)<=COUNTIF($T$15:$T$18,2),INDEX($U$15:$U$18,SMALL(IF($T$15:$T$18=2,ROW(INDIRECT(\"1:\"&ROWS($T$15:$T$18)))),ROWS($1:1))),\"\")))","v":false},null,null,null,null,null,null,null,null,null,null,null,null,null,null,"C_4",{"$f":"TEXT(S75,\"00000\")&U75","v":"01820Danemark"},{"$f":"AC75*1000+AB75*100+Z75*10","v":1820},{"$f":"RANK(S75,$S72:$S76,0)","v":4},{"$f":"VLOOKUP(Q75,TABLEAU_TEAMS[#All],2,FALSE)","v":"Danemark"},{"$f":"SUMPRODUCT((Teams1=U75)*(Teams1_Score<>\"\"))+SUMPRODUCT((Teams2=U75)*(Teams2_Score<>\"\"))","v":3},{"$f":"SUMPRODUCT((Teams1=U75)*(Teams1_Score>Teams2_Score))+SUMPRODUCT((Teams2=U75)*(Teams2_Score>Teams1_Score))","v":0},{"$f":"SUMPRODUCT((Teams1=U75)*(Teams1_Score=Teams2_Score)*(Teams1_Score<>\"\"))+SUMPRODUCT((Teams2=U75)*(Teams2_Score=Teams1_Score)*(Teams2_Score<>\"\"))","v":2},{"$f":"SUMPRODUCT((Teams1=U75)*(Teams1_Score<Teams2_Score))+SUMPRODUCT((Teams2=U75)*(Teams2_Score<Teams1_Score))","v":1},{"$f":"SUMPRODUCT((Teams1=U75)*(Teams1_Score))+SUMPRODUCT((Teams2=U75)*(Teams2_Score))","v":2},{"$f":"SUMPRODUCT((Teams1=U75)*(Teams2_Score))+SUMPRODUCT((Teams2=U75)*(Teams1_Score))","v":4},{"$f":"Z75-AA75","v":-2},{"$f":"3*W75+X75","v":2}]
[null,{"$f":"IF(COUNTIF($T$15:$T$18,1)>1,IF(ROWS($1:2)<=COUNTIF($T$15:$T$18,1),INDEX($U$15:$U$18,SMALL(IF($T$15:$T$18=1,ROW(INDIRECT(\"1:\"&ROWS($T$15:$T$18)))),ROWS($1:2))),\"\"),IF(COUNTIF($T$15:$T$18,2)>1,IF(ROWS($1:2)<=COUNTIF($T$15:$T$18,2),INDEX($U$15:$U$18,SMALL(IF($T$15:$T$18=2,ROW(INDIRECT(\"1:\"&ROWS($T$15:$T$18)))),ROWS($1:2))),\"\")))","v":false}]
[null,{"$f":"IF(COUNTIF($T$15:$T$18,1)>1,IF(ROWS($1:3)<=COUNTIF($T$15:$T$18,1),INDEX($U$15:$U$18,SMALL(IF($T$15:$T$18=1,ROW(INDIRECT(\"1:\"&ROWS($T$15:$T$18)))),ROWS($1:3))),\"\"),IF(COUNTIF($T$15:$T$18,2)>1,IF(ROWS($1:3)<=COUNTIF($T$15:$T$18,2),INDEX($U$15:$U$18,SMALL(IF($T$15:$T$18=2,ROW(INDIRECT(\"1:\"&ROWS($T$15:$T$18)))),ROWS($1:3))),\"\")))","v":false},null,null,null,null,null,null,null,null,null,null,null,null,null,null,null,null,null,"Rg","Groupe D","MJ","G","N","P","BP","BC","Pts","Pts"]
[null,{"$f":"IF(COUNTIF($T$15:$T$18,1)>1,IF(ROWS($1:4)<=COUNTIF($T$15:$T$18,1),INDEX($U$15:$U$18,SMALL(IF($T$15:$T$18=1,ROW(INDIRECT(\"1:\"&ROWS($T$15:$T$18)))),ROWS($1:4))),\"\"),IF(COUNTIF($T$15:$T$18,2)>1,IF(ROWS($1:4)<=COUNTIF($T$15:$T$18,2),INDEX($U$15:$U$18,SMALL(IF($T$15:$T$18=2,ROW(INDIRECT(\"1:\"&ROWS($T$15:$T$18)))),ROWS($1:4))),\"\")))","v":false},null,null,null,null,null,null,null,null,null,null,null,null,null,null,"D_1",{"$f":"TEXT(S78,\"00000\")&U78","v":"07570Argentine"},{"$f":"AC78*1000+AB78*100+Z78*10","v":7570},{"$f":"RANK(S78,$S78:$S82,0)","v":1},{"$f":"VLOOKUP(Q78,TABLEAU_TEAMS[#All],2,FALSE)","v":"Argentine"},{"$f":"SUMPRODUCT((Teams1=U78)*(Teams1_Score<>\"\"))+SUMPRODUCT((Teams2=U78)*(Teams2_Score<>\"\"))","v":3},{"$f":"SUMPRODUCT((Teams1=U78)*(Teams1_Score>Teams2_Score))+SUMPRODUCT((Teams2=U78)*(Teams2_Score>Teams1_Score))","v":2},{"$f":"SUMPRODUCT((Teams1=U78)*(Teams1_Score=Teams2_Score)*(Teams1_Score<>\"\"))+SUMPRODUCT((Teams2=U78)*(Teams2_Score=Teams1_Score)*(Teams2_Score<>\"\"))","v":1},{"$f":"SUMPRODUCT((Teams1=U78)*(Teams1_Score<Teams2_Score))+SUMPRODUCT((Teams2=U78)*(Teams2_Score<Teams1_Score))","v":0},{"$f":"SUMPRODUCT((Teams1=U78)*(Teams1_Score))+SUMPRODUCT((Teams2=U78)*(Teams2_Score))","v":7},{"$f":"SUMPRODUCT((Teams1=U78)*(Teams2_Score))+SUMPRODUCT((Teams2=U78)*(Teams1_Score))","v":2},{"$f":"Z78-AA78","v":5},{"$f":"3*W78+X78","v":7}]
[null,"Tirage au sort C1",null,null,null,null,null,null,null,null,null,null,null,null,null,null,"D_2",{"$f":"TEXT(S79,\"00000\")&U79","v":"03940Islande"},{"$f":"AC79*1000+AB79*100+Z79*10","v":3940},{"$f":"RANK(S79,$S78:$S82,0)","v":3},{"$f":"VLOOKUP(Q79,TABLEAU_TEAMS[#All],2,FALSE)","v":"Islande"},{"$f":"SUMPRODUCT((Teams1=U79)*(Teams1_Score<>\"\"))+SUMPRODUCT((Teams2=U79)*(Teams2_Score<>\"\"))","v":3},{"$f":"SUMPRODUCT((Teams1=U79)*(Teams1_Score>Teams2_Score))+SUMPRODUCT((Teams2=U79)*(Teams2_Score>Teams1_Score))","v":1},{"$f":"SUMPRODUCT((Teams1=U79)*(Teams1_Score=Teams2_Score)*(Teams1_Score<>\"\"))+SUMPRODUCT((Teams2=U79)*(Teams2_Score=Teams1_Score)*(Teams2_Score<>\"\"))","v":1},{"$f":"SUMPRODUCT((Teams1=U79)*(Teams1_Score<Teams2_Score))+SUMPRODUCT((Teams2=U79)*(Teams2_Score<Teams1_Score))","v":1},{"$f":"SUMPRODUCT((Teams1=U79)*(Teams1_Score))+SUMPRODUCT((Teams2=U79)*(Teams2_Score))","v":4},{"$f":"SUMPRODUCT((Teams1=U79)*(Teams2_Score))+SUMPRODUCT((Teams2=U79)*(Teams1_Score))","v":5},{"$f":"Z79-AA79","v":-1},{"$f":"3*W79+X79","v":4}]
[null,{"$f":"IF(ROWS($1:1)<=COUNTIF($T$21:$T$24,1),INDEX($U$21:$U$24,SMALL(IF($T$21:$T$24=1,ROW(INDIRECT(\"1:\"&ROWS($T$21:$T$24)))),ROWS($1:1))),\"\")","v":"France"},null,null,null,null,null,null,null,null,null,null,null,null,null,null,"D_3",{"$f":"TEXT(S80,\"00000\")&U80","v":"05140Croatie"},{"$f":"AC80*1000+AB80*100+Z80*10","v":5140},{"$f":"RANK(S80,$S78:$S82,0)","v":2},{"$f":"VLOOKUP(Q80,TABLEAU_TEAMS[#All],2,FALSE)","v":"Croatie"},{"$f":"SUMPRODUCT((Teams1=U80)*(Teams1_Score<>\"\"))+SUMPRODUCT((Teams2=U80)*(Teams2_Score<>\"\"))","v":3},{"$f":"SUMPRODUCT((Teams1=U80)*(Teams1_Score>Teams2_Score))+SUMPRODUCT((Teams2=U80)*(Teams2_Score>Teams1_Score))","v":1},{"$f":"SUMPRODUCT((Teams1=U80)*(Teams1_Score=Teams2_Score)*(Teams1_Score<>\"\"))+SUMPRODUCT((Teams2=U80)*(Teams2_Score=Teams1_Score)*(Teams2_Score<>\"\"))","v":2},{"$f":"SUMPRODUCT((Teams1=U80)*(Teams1_Score<Teams2_Score))+SUMPRODUCT((Teams2=U80)*(Teams2_Score<Teams1_Score))","v":0},{"$f":"SUMPRODUCT((Teams1=U80)*(Teams1_Score))+SUMPRODUCT((Teams2=U80)*(Teams2_Score))","v":4},{"$f":"SUMPRODUCT((Teams1=U80)*(Teams2_Score))+SUMPRODUCT((Teams2=U80)*(Teams1_Score))","v":3},{"$f":"Z80-AA80","v":1},{"$f":"3*W80+X80","v":5}]
[null,{"$f":"IF(ROWS($1:2)<=COUNTIF($T$21:$T$24,1),INDEX($U$21:$U$24,SMALL(IF($T$21:$T$24=1,ROW(INDIRECT(\"1:\"&ROWS($T$21:$T$24)))),ROWS($1:2))),\"\")","v":""},null,null,null,null,null,null,null,null,null,null,null,null,null,null,"D_4",{"$f":"TEXT(S81,\"00000\")&U81","v":"-00480Nigeria"},{"$f":"AC81*1000+AB81*100+Z81*10","v":-480},{"$f":"RANK(S81,$S78:$S82,0)","v":4},{"$f":"VLOOKUP(Q81,TABLEAU_TEAMS[#All],2,FALSE)","v":"Nigeria"},{"$f":"SUMPRODUCT((Teams1=U81)*(Teams1_Score<>\"\"))+SUMPRODUCT((Teams2=U81)*(Teams2_Score<>\"\"))","v":3},{"$f":"SUMPRODUCT((Teams1=U81)*(Teams1_Score>Teams2_Score))+SUMPRODUCT((Teams2=U81)*(Teams2_Score>Teams1_Score))","v":0},{"$f":"SUMPRODUCT((Teams1=U81)*(Teams1_Score=Teams2_Score)*(Teams1_Score<>\"\"))+SUMPRODUCT((Teams2=U81)*(Teams2_Score=Teams1_Score)*(Teams2_Score<>\"\"))","v":0},{"$f":"SUMPRODUCT((Teams1=U81)*(Teams1_Score<Teams2_Score))+SUMPRODUCT((Teams2=U81)*(Teams2_Score<Teams1_Score))","v":3},{"$f":"SUMPRODUCT((Teams1=U81)*(Teams1_Score))+SUMPRODUCT((Teams2=U81)*(Teams2_Score))","v":2},{"$f":"SUMPRODUCT((Teams1=U81)*(Teams2_Score))+SUMPRODUCT((Teams2=U81)*(Teams1_Score))","v":7},{"$f":"Z81-AA81","v":-5},{"$f":"3*W81+X81","v":0}]
[null,{"$f":"IF(ROWS($1:3)<=COUNTIF($T$21:$T$24,1),INDEX($U$21:$U$24,SMALL(IF($T$21:$T$24=1,ROW(INDIRECT(\"1:\"&ROWS($T$21:$T$24)))),ROWS($1:3))),\"\")","v":""}]
[null,{"$f":"IF(ROWS($1:4)<=COUNTIF($T$21:$T$24,1),INDEX($U$21:$U$24,SMALL(IF($T$21:$T$24=1,ROW(INDIRECT(\"1:\"&ROWS($T$21:$T$24)))),ROWS($1:4))),\"\")","v":""},null,null,null,null,null,null,null,null,null,null,null,null,null,null,null,null,null,"Rg","Groupe E","MJ","G","N","P","BP","BC","Pts","Pts"]
[null,"Tirage au sort C2",null,null,null,null,null,null,null,null,null,null,null,null,null,null,"E_1",{"$f":"TEXT(S84,\"00000\")&U84","v":"00720Costa Rica"},{"$f":"AC84*1000+AB84*100+Z84*10","v":720},{"$f":"RANK(S84,$S84:$S88,0)","v":3},{"$f":"VLOOKUP(Q84,TABLEAU_TEAMS[#All],2,FALSE)","v":"Costa Rica"},{"$f":"SUMPRODUCT((Teams1=U84)*(Teams1_Score<>\"\"))+SUMPRODUCT((Teams2=U84)*(Teams2_Score<>\"\"))","v":3},{"$f":"SUMPRODUCT((Teams1=U84)*(Teams1_Score>Teams2_Score))+SUMPRODUCT((Teams2=U84)*(Teams2_Score>Teams1_Score))","v":0},{"$f":"SUMPRODUCT((Teams1=U84)*(Teams1_Score=Teams2_Score)*(Teams1_Score<>\"\"))+SUMPRODUCT((Teams2=U84)*(Teams2_Score=Teams1_Score)*(Teams2_Score<>\"\"))","v":1},{"$f":"SUMPRODUCT((Teams1=U84)*(Teams1_Score<Teams2_Score))+SUMPRODUCT((Teams2=U84)*(Teams2_Score<Teams1_Score))","v":2},{"$f":"SUMPRODUCT((Teams1=U84)*(Teams1_Score))+SUMPRODUCT((Teams2=U84)*(Teams2_Score))","v":2},{"$f":"SUMPRODUCT((Teams1=U84)*(Teams2_Score))+SUMPRODUCT((Teams2=U84)*(Teams1_Score))","v":5},{"$f":"Z84-AA84","v":-3},{"$f":"3*W84+X84","v":1}]
[null,{"$f":"IF(COUNTIF($T$21:$T$24,1)>1,IF(ROWS($1:1)<=COUNTIF($T$21:$T$24,1),INDEX($U$21:$U$24,SMALL(IF($T$21:$T$24=1,ROW(INDIRECT(\"1:\"&ROWS($T$21:$T$24)))),ROWS($1:1))),\"\"),IF(COUNTIF($T$21:$T$24,2)>1,IF(ROWS($1:1)<=COUNTIF($T$21:$T$24,2),INDEX($U$21:$U$24,SMALL(IF($T$21:$T$24=2,ROW(INDIRECT(\"1:\"&ROWS($T$21:$T$24)))),ROWS($1:1))),\"\")))","v":false},null,null,null,null,null,null,null,null,null,null,null,null,null,null,"E_2",{"$f":"TEXT(S85,\"00000\")&U85","v":"06140Serbie"},{"$f":"AC85*1000+AB85*100+Z85*10","v":6140},{"$f":"RANK(S85,$S84:$S88,0)","v":2},{"$f":"VLOOKUP(Q85,TABLEAU_TEAMS[#All],2,FALSE)","v":"Serbie"},{"$f":"SUMPRODUCT((Teams1=U85)*(Teams1_Score<>\"\"))+SUMPRODUCT((Teams2=U85)*(Teams2_Score<>\"\"))","v":3},{"$f":"SUMPRODUCT((Teams1=U85)*(Teams1_Score>Teams2_Score))+SUMPRODUCT((Teams2=U85)*(Teams2_Score>Teams1_Score))","v":2},{"$f":"SUMPRODUCT((Teams1=U85)*(Teams1_Score=Teams2_Score)*(Teams1_Score<>\"\"))+SUMPRODUCT((Teams2=U85)*(Teams2_Score=Teams1_Score)*(Teams2_Score<>\"\"))","v":0},{"$f":"SUMPRODUCT((Teams1=U85)*(Teams1_Score<Teams2_Score))+SUMPRODUCT((Teams2=U85)*(Teams2_Score<Teams1_Score))","v":1},{"$f":"SUMPRODUCT((Teams1=U85)*(Teams1_Score))+SUMPRODUCT((Teams2=U85)*(Teams2_Score))","v":4},{"$f":"SUMPRODUCT((Teams1=U85)*(Teams2_Score))+SUMPRODUCT((Teams2=U85)*(Teams1_Score))","v":3},{"$f":"Z85-AA85","v":1},{"$f":"3*W85+X85","v":6}]
[null,{"$f":"IF(COUNTIF($T$21:$T$24,1)>1,IF(ROWS($1:2)<=COUNTIF($T$21:$T$24,1),INDEX($U$21:$U$24,SMALL(IF($T$21:$T$24=1,ROW(INDIRECT(\"1:\"&ROWS($T$21:$T$24)))),ROWS($1:2))),\"\"),IF(COUNTIF($T$21:$T$24,2)>1,IF(ROWS($1:2)<=COUNTIF($T$21:$T$24,2),INDEX($U$21:$U$24,SMALL(IF($T$21:$T$24=2,ROW(INDIRECT(\"1:\"&ROWS($T$21:$T$24)))),ROWS($1:2))),\"\")))","v":false},null,null,null,null,null,null,null,null,null,null,null,null,null,null,"E_3",{"$f":"TEXT(S86,\"00000\")&U86","v":"09680Brésil"},{"$f":"AC86*1000+AB86*100+Z86*10","v":9680},{"$f":"RANK(S86,$S84:$S88,0)","v":1},{"$f":"VLOOKUP(Q86,TABLEAU_TEAMS[#All],2,FALSE)","v":"Brésil"},{"$f":"SUMPRODUCT((Teams1=U86)*(Teams1_Score<>\"\"))+SUMPRODUCT((Teams2=U86)*(Teams2_Score<>\"\"))","v":3},{"$f":"SUMPRODUCT((Teams1=U86)*(Teams1_Score>Teams2_Score))+SUMPRODUCT((Teams2=U86)*(Teams2_Score>Teams1_Score))","v":3},{"$f":"SUMPRODUCT((Teams1=U86)*(Teams1_Score=Teams2_Score)*(Teams1_Score<>\"\"))+SUMPRODUCT((Teams2=U86)*(Teams2_Score=Teams1_Score)*(Teams2_Score<>\"\"))","v":0},{"$f":"SUMPRODUCT((Teams1=U86)*(Teams1_Score<Teams2_Score))+SUMPRODUCT((Teams2=U86)*(Teams2_Score<Teams1_Score))","v":0},{"$f":"SUMPRODUCT((Teams1=U86)*(Teams1_Score))+SUMPRODUCT((Teams2=U86)*(Teams2_Score))","v":8},{"$f":"SUMPRODUCT((Teams1=U86)*(Teams2_Score))+SUMPRODUCT((Teams2=U86)*(Teams1_Score))","v":2},{"$f":"Z86-AA86","v":6},{"$f":"3*W86+X86","v":9}]
[null,{"$f":"IF(COUNTIF($T$21:$T$24,1)>1,IF(ROWS($1:3)<=COUNTIF($T$21:$T$24,1),INDEX($U$21:$U$24,SMALL(IF($T$21:$T$24=1,ROW(INDIRECT(\"1:\"&ROWS($T$21:$T$24)))),ROWS($1:3))),\"\"),IF(COUNTIF($T$21:$T$24,2)>1,IF(ROWS($1:3)<=COUNTIF($T$21:$T$24,2),INDEX($U$21:$U$24,SMALL(IF($T$21:$T$24=2,ROW(INDIRECT(\"1:\"&ROWS($T$21:$T$24)))),ROWS($1:3))),\"\")))","v":false},null,null,null,null,null,null,null,null,null,null,null,null,null,null,"E_4",{"$f":"TEXT(S87,\"00000\")&U87","v":"00620Suisse"},{"$f":"AC87*1000+AB87*100+Z87*10","v":620},{"$f":"RANK(S87,$S84:$S88,0)","v":4},{"$f":"VLOOKUP(Q87,TABLEAU_TEAMS[#All],2,FALSE)","v":"Suisse"},{"$f":"SUMPRODUCT((Teams1=U87)*(Teams1_Score<>\"\"))+SUMPRODUCT((Teams2=U87)*(Teams2_Score<>\"\"))","v":3},{"$f":"SUMPRODUCT((Teams1=U87)*(Teams1_Score>Teams2_Score))+SUMPRODUCT((Teams2=U87)*(Teams2_Score>Teams1_Score))","v":0},{"$f":"SUMPRODUCT((Teams1=U87)*(Teams1_Score=Teams2_Score)*(Teams1_Score<>\"\"))+SUMPRODUCT((Teams2=U87)*(Teams2_Score=Teams1_Score)*(Teams2_Score<>\"\"))","v":1},{"$f":"SUMPRODUCT((Teams1=U87)*(Teams1_Score<Teams2_Score))+SUMPRODUCT((Teams2=U87)*(Teams2_Score<Teams1_Score))","v":2},{"$f":"SUMPRODUCT((Teams1=U87)*(Teams1_Score))+SUMPRODUCT((Teams2=U87)*(Teams2_Score))","v":2},{"$f":"SUMPRODUCT((Teams1=U87)*(Teams2_Score))+SUMPRODUCT((Teams2=U87)*(Teams1_Score))","v":6},{"$f":"Z87-AA87","v":-4},{"$f":"3*W87+X87","v":1}]
[null,{"$f":"IF(COUNTIF($T$21:$T$24,1)>1,IF(ROWS($1:4)<=COUNTIF($T$21:$T$24,1),INDEX($U$21:$U$24,SMALL(IF($T$21:$T$24=1,ROW(INDIRECT(\"1:\"&ROWS($T$21:$T$24)))),ROWS($1:4))),\"\"),IF(COUNTIF($T$21:$T$24,2)>1,IF(ROWS($1:4)<=COUNTIF($T$21:$T$24,2),INDEX($U$21:$U$24,SMALL(IF($T$21:$T$24=2,ROW(INDIRECT(\"1:\"&ROWS($T$21:$T$24)))),ROWS($1:4))),\"\")))","v":false}]
[null,"Tirage au sort D1",null,null,null,null,null,null,null,null,null,null,null,null,null,null,null,null,null,"Rg","Groupe F","MJ","G","N","P","BP","BC","Pts","Pts"]
[null,{"$f":"IF(ROWS($1:1)<=COUNTIF($T$27:$T$30,1),INDEX($U$27:$U$30,SMALL(IF($T$27:$T$30=1,ROW(INDIRECT(\"1:\"&ROWS($T$27:$T$30)))),ROWS($1:1))),\"\")","v":"Argentine"},null,null,null,null,null,null,null,null,null,null,null,null,null,null,"F_1",{"$f":"TEXT(S90,\"00000\")&U90","v":"09790Allemagne"},{"$f":"AC90*1000+AB90*100+Z90*10","v":9790},{"$f":"RANK(S90,$S90:$S94,0)","v":1},{"$f":"VLOOKUP(Q90,TABLEAU_TEAMS[#All],2,FALSE)","v":"Allemagne"},{"$f":"SUMPRODUCT((Teams1=U90)*(Teams1_Score<>\"\"))+SUMPRODUCT((Teams2=U90)*(Teams2_Score<>\"\"))","v":3},{"$f":"SUMPRODUCT((Teams1=U90)*(Teams1_Score>Teams2_Score))+SUMPRODUCT((Teams2=U90)*(Teams2_Score>Teams1_Score))","v":3},{"$f":"SUMPRODUCT((Teams1=U90)*(Teams1_Score=Teams2_Score)*(Teams1_Score<>\"\"))+SUMPRODUCT((Teams2=U90)*(Teams2_Score=Teams1_Score)*(Teams2_Score<>\"\"))","v":0},{"$f":"SUMPRODUCT((Teams1=U90)*(Teams1_Score<Teams2_Score))+SUMPRODUCT((Teams2=U90)*(Teams2_Score<Teams1_Score))","v":0},{"$f":"SUMPRODUCT((Teams1=U90)*(Teams1_Score))+SUMPRODUCT((Teams2=U90)*(Teams2_Score))","v":9},{"$f":"SUMPRODUCT((Teams1=U90)*(Teams2_Score))+SUMPRODUCT((Teams2=U90)*(Teams1_Score))","v":2},{"$f":"Z90-AA90","v":7},{"$f":"3*W90+X90","v":9}]
[null,{"$f":"IF(ROWS($1:2)<=COUNTIF($T$27:$T$30,1),INDEX($U$27:$U$30,SMALL(IF($T$27:$T$30=1,ROW(INDIRECT(\"1:\"&ROWS($T$27:$T$30)))),ROWS($1:2))),\"\")","v":""},null,null,null,null,null,null,null,null,null,null,null,null,null,null,"F_2",{"$f":"TEXT(S91,\"00000\")&U91","v":"04150Mexique"},{"$f":"AC91*1000+AB91*100+Z91*10","v":4150},{"$f":"RANK(S91,$S90:$S94,0)","v":2},{"$f":"VLOOKUP(Q91,TABLEAU_TEAMS[#All],2,FALSE)","v":"Mexique"},{"$f":"SUMPRODUCT((Teams1=U91)*(Teams1_Score<>\"\"))+SUMPRODUCT((Teams2=U91)*(Teams2_Score<>\"\"))","v":3},{"$f":"SUMPRODUCT((Teams1=U91)*(Teams1_Score>Teams2_Score))+SUMPRODUCT((Teams2=U91)*(Teams2_Score>Teams1_Score))","v":1},{"$f":"SUMPRODUCT((Teams1=U91)*(Teams1_Score=Teams2_Score)*(Teams1_Score<>\"\"))+SUMPRODUCT((Teams2=U91)*(Teams2_Score=Teams1_Score)*(Teams2_Score<>\"\"))","v":1},{"$f":"SUMPRODUCT((Teams1=U91)*(Teams1_Score<Teams2_Score))+SUMPRODUCT((Teams2=U91)*(Teams2_Score<Teams1_Score))","v":1},{"$f":"SUMPRODUCT((Teams1=U91)*(Teams1_Score))+SUMPRODUCT((Teams2=U91)*(Teams2_Score))","v":5},{"$f":"SUMPRODUCT((Teams1=U91)*(Teams2_Score))+SUMPRODUCT((Teams2=U91)*(Teams1_Score))","v":4},{"$f":"Z91-AA91","v":1},{"$f":"3*W91+X91","v":4}]
[null,{"$f":"IF(ROWS($1:3)<=COUNTIF($T$27:$T$30,1),INDEX($U$27:$U$30,SMALL(IF($T$27:$T$30=1,ROW(INDIRECT(\"1:\"&ROWS($T$27:$T$30)))),ROWS($1:3))),\"\")","v":""},null,null,null,null,null,null,null,null,null,null,null,null,null,null,"F_3",{"$f":"TEXT(S92,\"00000\")&U92","v":"03950Suède"},{"$f":"AC92*1000+AB92*100+Z92*10","v":3950},{"$f":"RANK(S92,$S90:$S94,0)","v":3},{"$f":"VLOOKUP(Q92,TABLEAU_TEAMS[#All],2,FALSE)","v":"Suède"},{"$f":"SUMPRODUCT((Teams1=U92)*(Teams1_Score<>\"\"))+SUMPRODUCT((Teams2=U92)*(Teams2_Score<>\"\"))","v":3},{"$f":"SUMPRODUCT((Teams1=U92)*(Teams1_Score>Teams2_Score))+SUMPRODUCT((Teams2=U92)*(Teams2_Score>Teams1_Score))","v":1},{"$f":"SUMPRODUCT((Teams1=U92)*(Teams1_Score=Teams2_Score)*(Teams1_Score<>\"\"))+SUMPRODUCT((Teams2=U92)*(Teams2_Score=Teams1_Score)*(Teams2_Score<>\"\"))","v":1},{"$f":"SUMPRODUCT((Teams1=U92)*(Teams1_Score<Teams2_Score))+SUMPRODUCT((Teams2=U92)*(Teams2_Score<Teams1_Score))","v":1},{"$f":"SUMPRODUCT((Teams1=U92)*(Teams1_Score))+SUMPRODUCT((Teams2=U92)*(Teams2_Score))","v":5},{"$f":"SUMPRODUCT((Teams1=U92)*(Teams2_Score))+SUMPRODUCT((Teams2=U92)*(Teams1_Score))","v":6},{"$f":"Z92-AA92","v":-1},{"$f":"3*W92+X92","v":4}]
[null,{"$f":"IF(ROWS($1:4)<=COUNTIF($T$27:$T$30,1),INDEX($U$27:$U$30,SMALL(IF($T$27:$T$30=1,ROW(INDIRECT(\"1:\"&ROWS($T$27:$T$30)))),ROWS($1:4))),\"\")","v":""},null,null,null,null,null,null,null,null,null,null,null,null,null,null,"F_4",{"$f":"TEXT(S93,\"00000\")&U93","v":"-00690République de Corée"},{"$f":"AC93*1000+AB93*100+Z93*10","v":-690},{"$f":"RANK(S93,$S90:$S94,0)","v":4},{"$f":"VLOOKUP(Q93,TABLEAU_TEAMS[#All],2,FALSE)","v":"République de Corée"},{"$f":"SUMPRODUCT((Teams1=U93)*(Teams1_Score<>\"\"))+SUMPRODUCT((Teams2=U93)*(Teams2_Score<>\"\"))","v":3},{"$f":"SUMPRODUCT((Teams1=U93)*(Teams1_Score>Teams2_Score))+SUMPRODUCT((Teams2=U93)*(Teams2_Score>Teams1_Score))","v":0},{"$f":"SUMPRODUCT((Teams1=U93)*(Teams1_Score=Teams2_Score)*(Teams1_Score<>\"\"))+SUMPRODUCT((Teams2=U93)*(Teams2_Score=Teams1_Score)*(Teams2_Score<>\"\"))","v":0},{"$f":"SUMPRODUCT((Teams1=U93)*(Teams1_Score<Teams2_Score))+SUMPRODUCT((Teams2=U93)*(Teams2_Score<Teams1_Score))","v":3},{"$f":"SUMPRODUCT((Teams1=U93)*(Teams1_Score))+SUMPRODUCT((Teams2=U93)*(Teams2_Score))","v":1},{"$f":"SUMPRODUCT((Teams1=U93)*(Teams2_Score))+SUMPRODUCT((Teams2=U93)*(Teams1_Score))","v":8},{"$f":"Z93-AA93","v":-7},{"$f":"3*W93+X93","v":0}]
[null,"Tirage au sort D2"]
[null,{"$f":"IF(COUNTIF($T$27:$T$30,1)>1,IF(ROWS($1:1)<=COUNTIF($T$27:$T$30,1),INDEX($U$27:$U$30,SMALL(IF($T$27:$T$30=1,ROW(INDIRECT(\"1:\"&ROWS($T$27:$T$30)))),ROWS($1:1))),\"\"),IF(COUNTIF($T$27:$T$30,2)>1,IF(ROWS($1:1)<=COUNTIF($T$27:$T$30,2),INDEX($U$27:$U$30,SMALL(IF($T$27:$T$30=2,ROW(INDIRECT(\"1:\"&ROWS($T$27:$T$30)))),ROWS($1:1))),\"\")))","v":false},null,null,null,null,null,null,null,null,null,null,null,null,null,null,null,null,null,"Rg","Groupe G","MJ","G","N","P","BP","BC","Pts","Pts"]
[null,{"$f":"IF(COUNTIF($T$27:$T$30,1)>1,IF(ROWS($1:2)<=COUNTIF($T$27:$T$30,1),INDEX($U$27:$U$30,SMALL(IF($T$27:$T$30=1,ROW(INDIRECT(\"1:\"&ROWS($T$27:$T$30)))),ROWS($1:2))),\"\"),IF(COUNTIF($T$27:$T$30,2)>1,IF(ROWS($1:2)<=COUNTIF($T$27:$T$30,2),INDEX($U$27:$U$30,SMALL(IF($T$27:$T$30=2,ROW(INDIRECT(\"1:\"&ROWS($T$27:$T$30)))),ROWS($1:2))),\"\")))","v":false},null,null,null,null,null,null,null,null,null,null,null,null,null,null,"G_1",{"$f":"TEXT(S96,\"00000\")&U96","v":"06250Belgique"},{"$f":"AC96*1000+AB96*100+Z96*10","v":6250},{"$f":"RANK(S96,$S96:$S100,0)","v":2},{"$f":"VLOOKUP(Q96,TABLEAU_TEAMS[#All],2,FALSE)","v":"Belgique"},{"$f":"SUMPRODUCT((Teams1=U96)*(Teams1_Score<>\"\"))+SUMPRODUCT((Teams2=U96)*(Teams2_Score<>\"\"))","v":3},{"$f":"SUMPRODUCT((Teams1=U96)*(Teams1_Score>Teams2_Score))+SUMPRODUCT((Teams2=U96)*(Teams2_Score>Teams1_Score))","v":2},{"$f":"SUMPRODUCT((Teams1=U96)*(Teams1_Score=Teams2_Score)*(Teams1_Score<>\"\"))+SUMPRODUCT((Teams2=U96)*(Teams2_Score=Teams1_Score)*(Teams2_Score<>\"\"))","v":0},{"$f":"SUMPRODUCT((Teams1=U96)*(Teams1_Score<Teams2_Score))+SUMPRODUCT((Teams2=U96)*(Teams2_Score<Teams1_Score))","v":1},{"$f":"SUMPRODUCT((Teams1=U96)*(Teams1_Score))+SUMPRODUCT((Teams2=U96)*(Teams2_Score))","v":5},{"$f":"SUMPRODUCT((Teams1=U96)*(Teams2_Score))+SUMPRODUCT((Teams2=U96)*(Teams1_Score))","v":3},{"$f":"Z96-AA96","v":2},{"$f":"3*W96+X96","v":6}]
[null,{"$f":"IF(COUNTIF($T$27:$T$30,1)>1,IF(ROWS($1:3)<=COUNTIF($T$27:$T$30,1),INDEX($U$27:$U$30,SMALL(IF($T$27:$T$30=1,ROW(INDIRECT(\"1:\"&ROWS($T$27:$T$30)))),ROWS($1:3))),\"\"),IF(COUNTIF($T$27:$T$30,2)>1,IF(ROWS($1:3)<=COUNTIF($T$27:$T$30,2),INDEX($U$27:$U$30,SMALL(IF($T$27:$T$30=2,ROW(INDIRECT(\"1:\"&ROWS($T$27:$T$30)))),ROWS($1:3))),\"\")))","v":false},null,null,null,null,null,null,null,null,null,null,null,null,null,null,"G_2",{"$f":"TEXT(S97,\"00000\")&U97","v":"-00500Panama"},{"$f":"AC97*1000+AB97*100+Z97*10","v":-500},{"$f":"RANK(S97,$S96:$S100,0)","v":4},{"$f":"VLOOKUP(Q97,TABLEAU_TEAMS[#All],2,FALSE)","v":"Panama"},{"$f":"SUMPRODUCT((Teams1=U97)*(Teams1_Score<>\"\"))+SUMPRODUCT((Teams2=U97)*(Teams2_Score<>\"\"))","v":3},{"$f":"SUMPRODUCT((Teams1=U97)*(Teams1_Score>Teams2_Score))+SUMPRODUCT((Teams2=U97)*(Teams2_Score>Teams1_Score))","v":0},{"$f":"SUMPRODUCT((Teams1=U97)*(Teams1_Score=Teams2_Score)*(Teams1_Score<>\"\"))+SUMPRODUCT((Teams2=U97)*(Teams2_Score=Teams1_Score)*(Teams2_Score<>\"\"))","v":0},{"$f":"SUMPRODUCT((Teams1=U97)*(Teams1_Score<Teams2_Score))+SUMPRODUCT((Teams2=U97)*(Teams2_Score<Teams1_Score))","v":3},{"$f":"SUMPRODUCT((Teams1=U97)*(Teams1_Score))+SUMPRODUCT((Teams2=U97)*(Teams2_Score))","v":0},{"$f":"SUMPRODUCT((Teams1=U97)*(Teams2_Score))+SUMPRODUCT((Teams2=U97)*(Teams1_Score))","v":5},{"$f":"Z97-AA97","v":-5},{"$f":"3*W97+X97","v":0}]
[null,{"$f":"IF(COUNTIF($T$27:$T$30,1)>1,IF(ROWS($1:4)<=COUNTIF($T$27:$T$30,1),INDEX($U$27:$U$30,SMALL(IF($T$27:$T$30=1,ROW(INDIRECT(\"1:\"&ROWS($T$27:$T$30)))),ROWS($1:4))),\"\"),IF(COUNTIF($T$27:$T$30,2)>1,IF(ROWS($1:4)<=COUNTIF($T$27:$T$30,2),INDEX($U$27:$U$30,SMALL(IF($T$27:$T$30=2,ROW(INDIRECT(\"1:\"&ROWS($T$27:$T$30)))),ROWS($1:4))),\"\")))","v":false},null,null,null,null,null,null,null,null,null,null,null,null,null,null,"G_3",{"$f":"TEXT(S98,\"00000\")&U98","v":"02910Tunisie"},{"$f":"AC98*1000+AB98*100+Z98*10","v":2910},{"$f":"RANK(S98,$S96:$S100,0)","v":3},{"$f":"VLOOKUP(Q98,TABLEAU_TEAMS[#All],2,FALSE)","v":"Tunisie"},{"$f":"SUMPRODUCT((Teams1=U98)*(Teams1_Score<>\"\"))+SUMPRODUCT((Teams2=U98)*(Teams2_Score<>\"\"))","v":3},{"$f":"SUMPRODUCT((Teams1=U98)*(Teams1_Score>Teams2_Score))+SUMPRODUCT((Teams2=U98)*(Teams2_Score>Teams1_Score))","v":1},{"$f":"SUMPRODUCT((Teams1=U98)*(Teams1_Score=Teams2_Score)*(Teams1_Score<>\"\"))+SUMPRODUCT((Teams2=U98)*(Teams2_Score=Teams1_Score)*(Teams2_Score<>\"\"))","v":0},{"$f":"SUMPRODUCT((Teams1=U98)*(Teams1_Score<Teams2_Score))+SUMPRODUCT((Teams2=U98)*(Teams2_Score<Teams1_Score))","v":2},{"$f":"SUMPRODUCT((Teams1=U98)*(Teams1_Score))+SUMPRODUCT((Teams2=U98)*(Teams2_Score))","v":1},{"$f":"SUMPRODUCT((Teams1=U98)*(Teams2_Score))+SUMPRODUCT((Teams2=U98)*(Teams1_Score))","v":2},{"$f":"Z98-AA98","v":-1},{"$f":"3*W98+X98","v":3}]
[null,"Tirage au sort E1",null,null,null,null,null,null,null,null,null,null,null,null,null,null,"G_4",{"$f":"TEXT(S99,\"00000\")&U99","v":"09460Angleterre"},{"$f":"AC99*1000+AB99*100+Z99*10","v":9460},{"$f":"RANK(S99,$S96:$S100,0)","v":1},{"$f":"VLOOKUP(Q99,TABLEAU_TEAMS[#All],2,FALSE)","v":"Angleterre"},{"$f":"SUMPRODUCT((Teams1=U99)*(Teams1_Score<>\"\"))+SUMPRODUCT((Teams2=U99)*(Teams2_Score<>\"\"))","v":3},{"$f":"SUMPRODUCT((Teams1=U99)*(Teams1_Score>Teams2_Score))+SUMPRODUCT((Teams2=U99)*(Teams2_Score>Teams1_Score))","v":3},{"$f":"SUMPRODUCT((Teams1=U99)*(Teams1_Score=Teams2_Score)*(Teams1_Score<>\"\"))+SUMPRODUCT((Teams2=U99)*(Teams2_Score=Teams1_Score)*(Teams2_Score<>\"\"))","v":0},{"$f":"SUMPRODUCT((Teams1=U99)*(Teams1_Score<Teams2_Score))+SUMPRODUCT((Teams2=U99)*(Teams2_Score<Teams1_Score))","v":0},{"$f":"SUMPRODUCT((Teams1=U99)*(Teams1_Score))+SUMPRODUCT((Teams2=U99)*(Teams2_Score))","v":6},{"$f":"SUMPRODUCT((Teams1=U99)*(Teams2_Score))+SUMPRODUCT((Teams2=U99)*(Teams1_Score))","v":2},{"$f":"Z99-AA99","v":4},{"$f":"3*W99+X99","v":9}]
[null,{"$f":"IF(ROWS($1:1)<=COUNTIF($T$33:$T$36,1),INDEX($U$33:$U$36,SMALL(IF($T$33:$T$36=1,ROW(INDIRECT(\"1:\"&ROWS($T$33:$T$36)))),ROWS($1:1))),\"\")","v":"Brésil"}]
[null,{"$f":"IF(ROWS($1:2)<=COUNTIF($T$33:$T$36,1),INDEX($U$33:$U$36,SMALL(IF($T$33:$T$36=1,ROW(INDIRECT(\"1:\"&ROWS($T$33:$T$36)))),ROWS($1:2))),\"\")","v":""},null,null,null,null,null,null,null,null,null,null,null,null,null,null,null,null,null,"Rg","Groupe H","MJ","G","N","P","BP","BC","Pts","Pts"]
[null,{"$f":"IF(ROWS($1:3)<=COUNTIF($T$33:$T$36,1),INDEX($U$33:$U$36,SMALL(IF($T$33:$T$36=1,ROW(INDIRECT(\"1:\"&ROWS($T$33:$T$36)))),ROWS($1:3))),\"\")","v":""},null,null,null,null,null,null,null,null,null,null,null,null,null,null,"H_1",{"$f":"TEXT(S102,\"00000\")&U102","v":"07250Colombie"},{"$f":"AC102*1000+AB102*100+Z102*10","v":7250},{"$f":"RANK(S102,$S102:$S106,0)","v":2},{"$f":"VLOOKUP(Q102,TABLEAU_TEAMS[#All],2,FALSE)","v":"Colombie"},{"$f":"SUMPRODUCT((Teams1=U102)*(Teams1_Score<>\"\"))+SUMPRODUCT((Teams2=U102)*(Teams2_Score<>\"\"))","v":3},{"$f":"SUMPRODUCT((Teams1=U102)*(Teams1_Score>Teams2_Score))+SUMPRODUCT((Teams2=U102)*(Teams2_Score>Teams1_Score))","v":2},{"$f":"SUMPRODUCT((Teams1=U102)*(Teams1_Score=Teams2_Score)*(Teams1_Score<>\"\"))+SUMPRODUCT((Teams2=U102)*(Teams2_Score=Teams1_Score)*(Teams2_Score<>\"\"))","v":1},{"$f":"SUMPRODUCT((Teams1=U102)*(Teams1_Score<Teams2_Score))+SUMPRODUCT((Teams2=U102)*(Teams2_Score<Teams1_Score))","v":0},{"$f":"SUMPRODUCT((Teams1=U102)*(Teams1_Score))+SUMPRODUCT((Teams2=U102)*(Teams2_Score))","v":5},{"$f":"SUMPRODUCT((Teams1=U102)*(Teams2_Score))+SUMPRODUCT((Teams2=U102)*(Teams1_Score))","v":3},{"$f":"Z102-AA102","v":2},{"$f":"3*W102+X102","v":7}]
[null,{"$f":"IF(ROWS($1:4)<=COUNTIF($T$33:$T$36,1),INDEX($U$33:$U$36,SMALL(IF($T$33:$T$36=1,ROW(INDIRECT(\"1:\"&ROWS($T$33:$T$36)))),ROWS($1:4))),\"\")","v":""},null,null,null,null,null,null,null,null,null,null,null,null,null,null,"H_2",{"$f":"TEXT(S103,\"00000\")&U103","v":"02930Japon"},{"$f":"AC103*1000+AB103*100+Z103*10","v":2930},{"$f":"RANK(S103,$S102:$S106,0)","v":3},{"$f":"VLOOKUP(Q103,TABLEAU_TEAMS[#All],2,FALSE)","v":"Japon"},{"$f":"SUMPRODUCT((Teams1=U103)*(Teams1_Score<>\"\"))+SUMPRODUCT((Teams2=U103)*(Teams2_Score<>\"\"))","v":3},{"$f":"SUMPRODUCT((Teams1=U103)*(Teams1_Score>Teams2_Score))+SUMPRODUCT((Teams2=U103)*(Teams2_Score>Teams1_Score))","v":1},{"$f":"SUMPRODUCT((Teams1=U103)*(Teams1_Score=Teams2_Score)*(Teams1_Score<>\"\"))+SUMPRODUCT((Teams2=U103)*(Teams2_Score=Teams1_Score)*(Teams2_Score<>\"\"))","v":0},{"$f":"SUMPRODUCT((Teams1=U103)*(Teams1_Score<Teams2_Score))+SUMPRODUCT((Teams2=U103)*(Teams2_Score<Teams1_Score))","v":2},{"$f":"SUMPRODUCT((Teams1=U103)*(Teams1_Score))+SUMPRODUCT((Teams2=U103)*(Teams2_Score))","v":3},{"$f":"SUMPRODUCT((Teams1=U103)*(Teams2_Score))+SUMPRODUCT((Teams2=U103)*(Teams1_Score))","v":4},{"$f":"Z103-AA103","v":-1},{"$f":"3*W103+X103","v":3}]
[null,"Tirage au sort E2",null,null,null,null,null,null,null,null,null,null,null,null,null,null,"H_3",{"$f":"TEXT(S104,\"00000\")&U104","v":"07260Pologne"},{"$f":"AC104*1000+AB104*100+Z104*10","v":7260},{"$f":"RANK(S104,$S102:$S106,0)","v":1},{"$f":"VLOOKUP(Q104,TABLEAU_TEAMS[#All],2,FALSE)","v":"Pologne"},{"$f":"SUMPRODUCT((Teams1=U104)*(Teams1_Score<>\"\"))+SUMPRODUCT((Teams2=U104)*(Teams2_Score<>\"\"))","v":3},{"$f":"SUMPRODUCT((Teams1=U104)*(Teams1_Score>Teams2_Score))+SUMPRODUCT((Teams2=U104)*(Teams2_Score>Teams1_Score))","v":2},{"$f":"SUMPRODUCT((Teams1=U104)*(Teams1_Score=Teams2_Score)*(Teams1_Score<>\"\"))+SUMPRODUCT((Teams2=U104)*(Teams2_Score=Teams1_Score)*(Teams2_Score<>\"\"))","v":1},{"$f":"SUMPRODUCT((Teams1=U104)*(Teams1_Score<Teams2_Score))+SUMPRODUCT((Teams2=U104)*(Teams2_Score<Teams1_Score))","v":0},{"$f":"SUMPRODUCT((Teams1=U104)*(Teams1_Score))+SUMPRODUCT((Teams2=U104)*(Teams2_Score))","v":6},{"$f":"SUMPRODUCT((Teams1=U104)*(Teams2_Score))+SUMPRODUCT((Teams2=U104)*(Teams1_Score))","v":4},{"$f":"Z104-AA104","v":2},{"$f":"3*W104+X104","v":7}]
[null,{"$f":"IF(COUNTIF($T$33:$T$36,1)>1,IF(ROWS($1:1)<=COUNTIF($T$33:$T$36,1),INDEX($U$33:$U$36,SMALL(IF($T$33:$T$36=1,ROW(INDIRECT(\"1:\"&ROWS($T$33:$T$36)))),ROWS($1:1))),\"\"),IF(COUNTIF($T$33:$T$36,2)>1,IF(ROWS($1:1)<=COUNTIF($T$33:$T$36,2),INDEX($U$33:$U$36,SMALL(IF($T$33:$T$36=2,ROW(INDIRECT(\"1:\"&ROWS($T$33:$T$36)))),ROWS($1:1))),\"\")))","v":false},null,null,null,null,null,null,null,null,null,null,null,null,null,null,"H_4",{"$f":"TEXT(S105,\"00000\")&U105","v":"-00290Sénégal"},{"$f":"AC105*1000+AB105*100+Z105*10","v":-290},{"$f":"RANK(S105,$S102:$S106,0)","v":4},{"$f":"VLOOKUP(Q105,TABLEAU_TEAMS[#All],2,FALSE)","v":"Sénégal"},{"$f":"SUMPRODUCT((Teams1=U105)*(Teams1_Score<>\"\"))+SUMPRODUCT((Teams2=U105)*(Teams2_Score<>\"\"))","v":3},{"$f":"SUMPRODUCT((Teams1=U105)*(Teams1_Score>Teams2_Score))+SUMPRODUCT((Teams2=U105)*(Teams2_Score>Teams1_Score))","v":0},{"$f":"SUMPRODUCT((Teams1=U105)*(Teams1_Score=Teams2_Score)*(Teams1_Score<>\"\"))+SUMPRODUCT((Teams2=U105)*(Teams2_Score=Teams1_Score)*(Teams2_Score<>\"\"))","v":0},{"$f":"SUMPRODUCT((Teams1=U105)*(Teams1_Score<Teams2_Score))+SUMPRODUCT((Teams2=U105)*(Teams2_Score<Teams1_Score))","v":3},{"$f":"SUMPRODUCT((Teams1=U105)*(Teams1_Score))+SUMPRODUCT((Teams2=U105)*(Teams2_Score))","v":1},{"$f":"SUMPRODUCT((Teams1=U105)*(Teams2_Score))+SUMPRODUCT((Teams2=U105)*(Teams1_Score))","v":4},{"$f":"Z105-AA105","v":-3},{"$f":"3*W105+X105","v":0}]
[null,{"$f":"IF(COUNTIF($T$33:$T$36,1)>1,IF(ROWS($1:2)<=COUNTIF($T$33:$T$36,1),INDEX($U$33:$U$36,SMALL(IF($T$33:$T$36=1,ROW(INDIRECT(\"1:\"&ROWS($T$33:$T$36)))),ROWS($1:2))),\"\"),IF(COUNTIF($T$33:$T$36,2)>1,IF(ROWS($1:2)<=COUNTIF($T$33:$T$36,2),INDEX($U$33:$U$36,SMALL(IF($T$33:$T$36=2,ROW(INDIRECT(\"1:\"&ROWS($T$33:$T$36)))),ROWS($1:2))),\"\")))","v":false}]
[null,{"$f":"IF(COUNTIF($T$33:$T$36,1)>1,IF(ROWS($1:3)<=COUNTIF($T$33:$T$36,1),INDEX($U$33:$U$36,SMALL(IF($T$33:$T$36=1,ROW(INDIRECT(\"1:\"&ROWS($T$33:$T$36)))),ROWS($1:3))),\"\"),IF(COUNTIF($T$33:$T$36,2)>1,IF(ROWS($1:3)<=COUNTIF($T$33:$T$36,2),INDEX($U$33:$U$36,SMALL(IF($T$33:$T$36=2,ROW(INDIRECT(\"1:\"&ROWS($T$33:$T$36)))),ROWS($1:3))),\"\")))","v":false}]
[null,{"$f":"IF(COUNTIF($T$33:$T$36,1)>1,IF(ROWS($1:4)<=COUNTIF($T$33:$T$36,1),INDEX($U$33:$U$36,SMALL(IF($T$33:$T$36=1,ROW(INDIRECT(\"1:\"&ROWS($T$33:$T$36)))),ROWS($1:4))),\"\"),IF(COUNTIF($T$33:$T$36,2)>1,IF(ROWS($1:4)<=COUNTIF($T$33:$T$36,2),INDEX($U$33:$U$36,SMALL(IF($T$33:$T$36=2,ROW(INDIRECT(\"1:\"&ROWS($T$33:$T$36)))),ROWS($1:4))),\"\")))","v":false}]
[null,"Tirage au sort F1"]
[null,{"$f":"IF(ROWS($1:1)<=COUNTIF($T$39:$T$42,1),INDEX($U$39:$U$42,SMALL(IF($T$39:$T$42=1,ROW(INDIRECT(\"1:\"&ROWS($T$39:$T$42)))),ROWS($1:1))),\"\")","v":"Allemagne"}]
[null,{"$f":"IF(ROWS($1:2)<=COUNTIF($T$39:$T$42,1),INDEX($U$39:$U$42,SMALL(IF($T$39:$T$42=1,ROW(INDIRECT(\"1:\"&ROWS($T$39:$T$42)))),ROWS($1:2))),\"\")","v":""}]
[null,{"$f":"IF(ROWS($1:3)<=COUNTIF($T$39:$T$42,1),INDEX($U$39:$U$42,SMALL(IF($T$39:$T$42=1,ROW(INDIRECT(\"1:\"&ROWS($T$39:$T$42)))),ROWS($1:3))),\"\")","v":""}]
[null,{"$f":"IF(ROWS($1:4)<=COUNTIF($T$39:$T$42,1),INDEX($U$39:$U$42,SMALL(IF($T$39:$T$42=1,ROW(INDIRECT(\"1:\"&ROWS($T$39:$T$42)))),ROWS($1:4))),\"\")","v":""}]
[null,"Tirage au sort F2"]
[null,{"$f":"IF(COUNTIF($T$39:$T$42,1)>1,IF(ROWS($1:1)<=COUNTIF($T$39:$T$42,1),INDEX($U$39:$U$42,SMALL(IF($T$39:$T$42=1,ROW(INDIRECT(\"1:\"&ROWS($T$39:$T$42)))),ROWS($1:1))),\"\"),IF(COUNTIF($T$39:$T$42,2)>1,IF(ROWS($1:1)<=COUNTIF($T$39:$T$42,2),INDEX($U$39:$U$42,SMALL(IF($T$39:$T$42=2,ROW(INDIRECT(\"1:\"&ROWS($T$39:$T$42)))),ROWS($1:1))),\"\")))","v":false}]
[null,{"$f":"IF(COUNTIF($T$39:$T$42,1)>1,IF(ROWS($1:2)<=COUNTIF($T$39:$T$42,1),INDEX($U$39:$U$42,SMALL(IF($T$39:$T$42=1,ROW(INDIRECT(\"1:\"&ROWS($T$39:$T$42)))),ROWS($1:2))),\"\"),IF(COUNTIF($T$39:$T$42,2)>1,IF(ROWS($1:2)<=COUNTIF($T$39:$T$42,2),INDEX($U$39:$U$42,SMALL(IF($T$39:$T$42=2,ROW(INDIRECT(\"1:\"&ROWS($T$39:$T$42)))),ROWS($1:2))),\"\")))","v":false}]
[null,{"$f":"IF(COUNTIF($T$39:$T$42,1)>1,IF(ROWS($1:3)<=COUNTIF($T$39:$T$42,1),INDEX($U$39:$U$42,SMALL(IF($T$39:$T$42=1,ROW(INDIRECT(\"1:\"&ROWS($T$39:$T$42)))),ROWS($1:3))),\"\"),IF(COUNTIF($T$39:$T$42,2)>1,IF(ROWS($1:3)<=COUNTIF($T$39:$T$42,2),INDEX($U$39:$U$42,SMALL(IF($T$39:$T$42=2,ROW(INDIRECT(\"1:\"&ROWS($T$39:$T$42)))),ROWS($1:3))),\"\")))","v":false}]
[null,{"$f":"IF(COUNTIF($T$39:$T$42,1)>1,IF(ROWS($1:4)<=COUNTIF($T$39:$T$42,1),INDEX($U$39:$U$42,SMALL(IF($T$39:$T$42=1,ROW(INDIRECT(\"1:\"&ROWS($T$39:$T$42)))),ROWS($1:4))),\"\"),IF(COUNTIF($T$39:$T$42,2)>1,IF(ROWS($1:4)<=COUNTIF($T$39:$T$42,2),INDEX($U$39:$U$42,SMALL(IF($T$39:$T$42=2,ROW(INDIRECT(\"1:\"&ROWS($T$39:$T$42)))),ROWS($1:4))),\"\")))","v":false}]
[null,"Tirage au sort G1"]
[null,{"$f":"IF(ROWS($1:1)<=COUNTIF($T$45:$T$48,1),INDEX($U$45:$U$48,SMALL(IF($T$45:$T$48=1,ROW(INDIRECT(\"1:\"&ROWS($T$45:$T$48)))),ROWS($1:1))),\"\")","v":"Angleterre"}]
[null,{"$f":"IF(ROWS($1:2)<=COUNTIF($T$45:$T$48,1),INDEX($U$45:$U$48,SMALL(IF($T$45:$T$48=1,ROW(INDIRECT(\"1:\"&ROWS($T$45:$T$48)))),ROWS($1:2))),\"\")","v":""}]
[null,{"$f":"IF(ROWS($1:3)<=COUNTIF($T$45:$T$48,1),INDEX($U$45:$U$48,SMALL(IF($T$45:$T$48=1,ROW(INDIRECT(\"1:\"&ROWS($T$45:$T$48)))),ROWS($1:3))),\"\")","v":""}]
[null,{"$f":"IF(ROWS($1:4)<=COUNTIF($T$45:$T$48,1),INDEX($U$45:$U$48,SMALL(IF($T$45:$T$48=1,ROW(INDIRECT(\"1:\"&ROWS($T$45:$T$48)))),ROWS($1:4))),\"\")","v":""}]
[null,"Tirage au sort G2"]
[null,{"$f":"IF(COUNTIF($T$45:$T$48,1)>1,IF(ROWS($1:1)<=COUNTIF($T$45:$T$48,1),INDEX($U$45:$U$48,SMALL(IF($T$45:$T$48=1,ROW(INDIRECT(\"1:\"&ROWS($T$45:$T$48)))),ROWS($1:1))),\"\"),IF(COUNTIF($T$45:$T$48,2)>1,IF(ROWS($1:1)<=COUNTIF($T$45:$T$48,2),INDEX($U$45:$U$48,SMALL(IF($T$45:$T$48=2,ROW(INDIRECT(\"1:\"&ROWS($T$45:$T$48)))),ROWS($1:1))),\"\")))","v":false}]
[null,{"$f":"IF(COUNTIF($T$45:$T$48,1)>1,IF(ROWS($1:2)<=COUNTIF($T$45:$T$48,1),INDEX($U$45:$U$48,SMALL(IF($T$45:$T$48=1,ROW(INDIRECT(\"1:\"&ROWS($T$45:$T$48)))),ROWS($1:2))),\"\"),IF(COUNTIF($T$45:$T$48,2)>1,IF(ROWS($1:2)<=COUNTIF($T$45:$T$48,2),INDEX($U$45:$U$48,SMALL(IF($T$45:$T$48=2,ROW(INDIRECT(\"1:\"&ROWS($T$45:$T$48)))),ROWS($1:2))),\"\")))","v":false}]
[null,{"$f":"IF(COUNTIF($T$45:$T$48,1)>1,IF(ROWS($1:3)<=COUNTIF($T$45:$T$48,1),INDEX($U$45:$U$48,SMALL(IF($T$45:$T$48=1,ROW(INDIRECT(\"1:\"&ROWS($T$45:$T$48)))),ROWS($1:3))),\"\"),IF(COUNTIF($T$45:$T$48,2)>1,IF(ROWS($1:3)<=COUNTIF($T$45:$T$48,2),INDEX($U$45:$U$48,SMALL(IF($T$45:$T$48=2,ROW(INDIRECT(\"1:\"&ROWS($T$45:$T$48)))),ROWS($1:3))),\"\")))","v":false}]
[null,{"$f":"IF(COUNTIF($T$45:$T$48,1)>1,IF(ROWS($1:4)<=COUNTIF($T$45:$T$48,1),INDEX($U$45:$U$48,SMALL(IF($T$45:$T$48=1,ROW(INDIRECT(\"1:\"&ROWS($T$45:$T$48)))),ROWS($1:4))),\"\"),IF(COUNTIF($T$45:$T$48,2)>1,IF(ROWS($1:4)<=COUNTIF($T$45:$T$48,2),INDEX($U$45:$U$48,SMALL(IF($T$45:$T$48=2,ROW(INDIRECT(\"1:\"&ROWS($T$45:$T$48)))),ROWS($1:4))),\"\")))","v":false}]
[null,"Tirage au sort H1"]
[null,{"$f":"IF(ROWS($1:1)<=COUNTIF($T$51:$T$54,1),INDEX($U$51:$U$54,SMALL(IF($T$51:$T$54=1,ROW(INDIRECT(\"1:\"&ROWS($T$51:$T$54)))),ROWS($1:1))),\"\")","v":"Pologne"}]
[null,{"$f":"IF(ROWS($1:2)<=COUNTIF($T$51:$T$54,1),INDEX($U$51:$U$54,SMALL(IF($T$51:$T$54=1,ROW(INDIRECT(\"1:\"&ROWS($T$51:$T$54)))),ROWS($1:2))),\"\")","v":""}]
[null,{"$f":"IF(ROWS($1:3)<=COUNTIF($T$51:$T$54,1),INDEX($U$51:$U$54,SMALL(IF($T$51:$T$54=1,ROW(INDIRECT(\"1:\"&ROWS($T$51:$T$54)))),ROWS($1:3))),\"\")","v":""}]
[null,{"$f":"IF(ROWS($1:4)<=COUNTIF($T$51:$T$54,1),INDEX($U$51:$U$54,SMALL(IF($T$51:$T$54=1,ROW(INDIRECT(\"1:\"&ROWS($T$51:$T$54)))),ROWS($1:4))),\"\")","v":""}]
[null,"Tirage au sort H2"]
[null,{"$f":"IF(COUNTIF($T$51:$T$54,1)>1,IF(ROWS($1:1)<=COUNTIF($T$51:$T$54,1),INDEX($U$51:$U$54,SMALL(IF($T$51:$T$54=1,ROW(INDIRECT(\"1:\"&ROWS($T$51:$T$54)))),ROWS($1:1))),\"\"),IF(COUNTIF($T$51:$T$54,2)>1,IF(ROWS($1:1)<=COUNTIF($T$51:$T$54,2),INDEX($U$51:$U$54,SMALL(IF($T$51:$T$54=2,ROW(INDIRECT(\"1:\"&ROWS($T$51:$T$54)))),ROWS($1:1))),\"\")))","v":false}]
[null,{"$f":"IF(COUNTIF($T$51:$T$54,1)>1,IF(ROWS($1:2)<=COUNTIF($T$51:$T$54,1),INDEX($U$51:$U$54,SMALL(IF($T$51:$T$54=1,ROW(INDIRECT(\"1:\"&ROWS($T$51:$T$54)))),ROWS($1:2))),\"\"),IF(COUNTIF($T$51:$T$54,2)>1,IF(ROWS($1:2)<=COUNTIF($T$51:$T$54,2),INDEX($U$51:$U$54,SMALL(IF($T$51:$T$54=2,ROW(INDIRECT(\"1:\"&ROWS($T$51:$T$54)))),ROWS($1:2))),\"\")))","v":false}]
[null,{"$f":"IF(COUNTIF($T$51:$T$54,1)>1,IF(ROWS($1:3)<=COUNTIF($T$51:$T$54,1),INDEX($U$51:$U$54,SMALL(IF($T$51:$T$54=1,ROW(INDIRECT(\"1:\"&ROWS($T$51:$T$54)))),ROWS($1:3))),\"\"),IF(COUNTIF($T$51:$T$54,2)>1,IF(ROWS($1:3)<=COUNTIF($T$51:$T$54,2),INDEX($U$51:$U$54,SMALL(IF($T$51:$T$54=2,ROW(INDIRECT(\"1:\"&ROWS($T$51:$T$54)))),ROWS($1:3))),\"\")))","v":false}]
[null,{"$f":"IF(COUNTIF($T$51:$T$54,1)>1,IF(ROWS($1:4)<=COUNTIF($T$51:$T$54,1),INDEX($U$51:$U$54,SMALL(IF($T$51:$T$54=1,ROW(INDIRECT(\"1:\"&ROWS($T$51:$T$54)))),ROWS($1:4))),\"\"),IF(COUNTIF($T$51:$T$54,2)>1,IF(ROWS($1:4)<=COUNTIF($T$51:$T$54,2),INDEX($U$51:$U$54,SMALL(IF($T$51:$T$54=2,ROW(INDIRECT(\"1:\"&ROWS($T$51:$T$54)))),ROWS($1:4))),\"\")))","v":false}]

{"sheet":"Alexandre","index":13,"n_rows":138,"n_cols":46,"rows_kept":138,"cut":false,"hidden":false,"merged":[[2,1,2,8],[3,1,3,8],[3,9,3,12]]}
[]
[null,"Pronostics de :"]
[]
[null,{"$f":"MID(CELL(\"filename\",A1),FIND(\"]\",CELL(\"filename\",A1))+1,32)","v":"Alexandre"}]
[]
[null,"SAISIE DES PRONOSTICS",null,null,null,null,null,null,null,null,null,null,null,null,null,null,null,null,null,"GROUPES",null,null,null,null,null,null,null,null,null,null,null,null,"SCORE PRONOSTIQUEUR",null,null,null,null,null,null,null,null,{"$f":"AN8+AN12","v":2}]
[null,"Date","Heure","Match","Groupe",1,"N",2,null,"Buts",null,null,"Buts"]
[null,{"$f":"VLOOKUP($D8,TABLEAU_MATCHS[#All],2,FALSE)","v":"2018-06-14"},{"$f":"VLOOKUP($D8,TABLEAU_MATCHS[#All],3,FALSE)","v":"17:00:00"},1,{"$f":"\"Groupe \"&VLOOKUP($I8,TABLEAU_TEAMS[[#All],[TEAM]:[GROUP_INITIAL_RANK]],2,FALSE)","v":"Groupe A"},1.3,4.3,10,{"$f":"VLOOKUP($D8,TABLEAU_MATCHS[#All],4,FALSE)","v":"Russie"},2,null,{"$f":"VLOOKUP($D8,TABLEAU_MATCHS[#All],5,FALSE)","v":"Arabie Saoudite"},0,{"$f":"IF(OR(ISBLANK(RESULTATS!J8),ISBLANK(J8)),\"\",IF(AND(Alexandre!J8=RESULTATS!J8,Alexandre!M8=RESULTATS!M8),3,IF(OR(AND(Alexandre!J8>Alexandre!M8,RESULTATS!J8>RESULTATS!M8),AND(Alexandre!J8<Alexandre!M8,RESULTATS!J8<RESULTATS!M8),AND(Alexandre!J8=Alexandre!M8,RESULTATS!J8=RESULTATS!M8)),1,0)))","v":1},null,null,null,null,null,"Rg","Groupe A","MJ","G","N","P","BP","BC","+/-","Pts",null,null,null,"Phases de groupes",null,null,null,null,null,null,{"$f":"N56","v":2},null,"points"]
[null,{"$f":"VLOOKUP($D9,TABLEAU_MATCHS[#All],2,FALSE)","v":"2018-06-15"},{"$f":"VLOOKUP($D9,TABLEAU_MATCHS[#All],3,FALSE)","v":"14:00:00"},2,{"$f":"\"Groupe \"&VLOOKUP($I9,TABLEAU_TEAMS[[#All],[TEAM]:[GROUP_INITIAL_RANK]],2,FALSE)","v":"Groupe A"},2.2000000000000002,2.9,3.25,{"$f":"VLOOKUP($D9,TABLEAU_MATCHS[#All],4,FALSE)","v":"Egypte"},0,null,{"$f":"VLOOKUP($D9,TABLEAU_MATCHS[#All],5,FALSE)","v":"Uruguay"},2,{"$f":"IF(OR(ISBLANK(RESULTATS!J9),ISBLANK(J9)),\"\",IF(AND(Alexandre!J9=RESULTATS!J9,Alexandre!M9=RESULTATS!M9),3,IF(OR(AND(Alexandre!J9>Alexandre!M9,RESULTATS!J9>RESULTATS!M9),AND(Alexandre!J9<Alexandre!M9,RESULTATS!J9<RESULTATS!M9),AND(Alexandre!J9=Alexandre!M9,RESULTATS!J9=RESULTATS!M9)),1,0)))","v":1},null,null,null,{"$f":"INDEX($R60:$R63,MATCH(SMALL(COUNTIF($R60:$R63,\">=\"&$R60:$R63),ROW(INDIRECT(\"1:\"&ROWS($R60:$R63)))),COUNTIF($R60:$R63,\">=\"&$R60:$R63),0))","v":"07450Uruguay"},{"$f":"INDEX($S60:$S63,MATCH(SMALL(COUNTIF($R60:$R63,\">=\"&$R60:$R63),ROW(INDIRECT(\"1:\"&ROWS($R60:$R63)))),COUNTIF($R60:$R63,\">=\"&$R60:$R63),0))","v":7450},{"$f":"INDEX($T60:$T63,MATCH(SMALL(COUNTIF($R60:$R63,\">=\"&$R60:$R63),ROW(INDIRECT(\"1:\"&ROWS($R60:$R63)))),COUNTIF($R60:$R63,\">=\"&$R60:$R63),0))","v":1},{"$f":"INDEX($U60:$U63,MATCH(SMALL(COUNTIF($R60:$R63,\">=\"&$R60:$R63),ROW(INDIRECT(\"1:\"&ROWS($R60:$R63)))),COUNTIF($R60:$R63,\">=\"&$R60:$R63),0))","v":"Uruguay"},{"$f":"SUMPRODUCT((Teams1=U9)*(Teams1_Score<>\"\"))+SUMPRODUCT((Teams2=U9)*(Teams2_Score<>\"\"))","v":3},{"$f":"SUMPRODUCT((Teams1=U9)*(Teams1_Score>Teams2_Score))+SUMPRODUCT((Teams2=U9)*(Teams2_Score>Teams1_Score))","v":2},{"$f":"SUMPRODUCT((Teams1=U9)*(Teams1_Score=Teams2_Score)*(Teams1_Score<>\"\"))+SUMPRODUCT((Teams2=U9)*(Teams2_Score=Teams1_Score)*(Teams2_Score<>\"\"))","v":1},{"$f":"SUMPRODUCT((Teams1=U9)*(Teams1_Score<Teams2_Score))+SUMPRODUCT((Teams2=U9)*(Teams2_Score<Teams1_Score))","v":0},{"$f":"SUMPRODUCT((Teams1=U9)*(Teams1_Score))+SUMPRODUCT((Teams2=U9)*(Teams2_Score))","v":5},{"$f":"SUMPRODUCT((Teams1=U9)*(Teams2_Score))+SUMPRODUCT((Teams2=U9)*(Teams1_Score))","v":1},{"$f":"Z9-AA9","v":4},{"$f":"3*W9+X9","v":7},null,null,null,"Vainqueur ou nul trouvé (1 pt)",null,null,{"$f":"COUNTIF($N$8:$N$55,1)+COUNTIF($N$8:$N$55,3)","v":2},"matchs",null,null,{"$f":"AJ9","v":2},null,"points"]
[null,{"$f":"VLOOKUP($D10,TABLEAU_MATCHS[#All],2,FALSE)","v":"2018-06-15"},{"$f":"VLOOKUP($D10,TABLEAU_MATCHS[#All],3,FALSE)","v":"17:00:00"},3,{"$f":"\"Groupe \"&VLOOKUP($I10,TABLEAU_TEAMS[[#All],[TEAM]:[GROUP_INITIAL_RANK]],2,FALSE)","v":"Groupe B"},1.8,3.05,4.5,{"$f":"VLOOKUP($D10,TABLEAU_MATCHS[#All],4,FALSE)","v":"Maroc"},2,null,{"$f":"VLOOKUP($D10,TABLEAU_MATCHS[#All],5,FALSE)","v":"RI Iran"},0,{"$f":"IF(OR(ISBLANK(RESULTATS!J10),ISBLANK(J10)),\"\",IF(AND(Alexandre!J10=RESULTATS!J10,Alexandre!M10=RESULTATS!M10),3,IF(OR(AND(Alexandre!J10>Alexandre!M10,RESULTATS!J10>RESULTATS!M10),AND(Alexandre!J10<Alexandre!M10,RESULTATS!J10<RESULTATS!M10),AND(Alexandre!J10=Alexandre!M10,RESULTATS!J10=RESULTATS!M10)),1,0)))","v":0},null,null,null,"07340Russie",7340,2,"Russie",{"$f":"SUMPRODUCT((Teams1=U10)*(Teams1_Score<>\"\"))+SUMPRODUCT((Teams2=U10)*(Teams2_Score<>\"\"))","v":3},{"$f":"SUMPRODUCT((Teams1=U10)*(Teams1_Score>Teams2_Score))+SUMPRODUCT((Teams2=U10)*(Teams2_Score>Teams1_Score))","v":2},{"$f":"SUMPRODUCT((Teams1=U10)*(Teams1_Score=Teams2_Score)*(Teams1_Score<>\"\"))+SUMPRODUCT((Teams2=U10)*(Teams2_Score=Teams1_Score)*(Teams2_Score<>\"\"))","v":1},{"$f":"SUMPRODUCT((Teams1=U10)*(Teams1_Score<Teams2_Score))+SUMPRODUCT((Teams2=U10)*(Teams2_Score<Teams1_Score))","v":0},{"$f":"SUMPRODUCT((Teams1=U10)*(Teams1_Score))+SUMPRODUCT((Teams2=U10)*(Teams2_Score))","v":4},{"$f":"SUMPRODUCT((Teams1=U10)*(Teams2_Score))+SUMPRODUCT((Teams2=U10)*(Teams1_Score))","v":1},{"$f":"Z10-AA10","v":3},{"$f":"3*W10+X10","v":7},null,null,null,"Bonus score exact (2 pts)",null,null,{"$f":"+COUNTIF($N$8:$N$55,3)","v":0},"matchs",null,null,{"$f":"AJ10*2","v":0},null,"points"]
[null,{"$f":"VLOOKUP($D11,TABLEAU_MATCHS[#All],2,FALSE)","v":"2018-06-15"},{"$f":"VLOOKUP($D11,TABLEAU_MATCHS[#All],3,FALSE)","v":"20:00:00"},4,{"$f":"\"Groupe \"&VLOOKUP($I11,TABLEAU_TEAMS[[#All],[TEAM]:[GROUP_INITIAL_RANK]],2,FALSE)","v":"Groupe B"},1.42,3.9,7,{"$f":"VLOOKUP($D11,TABLEAU_MATCHS[#All],4,FALSE)","v":"Portugal"},1,null,{"$f":"VLOOKUP($D11,TABLEAU_MATCHS[#All],5,FALSE)","v":"Espagne"},2,{"$f":"IF(OR(ISBLANK(RESULTATS!J11),ISBLANK(J11)),\"\",IF(AND(Alexandre!J11=RESULTATS!J11,Alexandre!M11=RESULTATS!M11),3,IF(OR(AND(Alexandre!J11>Alexandre!M11,RESULTATS!J11>RESULTATS!M11),AND(Alexandre!J11<Alexandre!M11,RESULTATS!J11<RESULTATS!M11),AND(Alexandre!J11=Alexandre!M11,RESULTATS!J11=RESULTATS!M11)),1,0)))","v":0},null,null,null,"00700Egypte",700,3,"Egypte",{"$f":"SUMPRODUCT((Teams1=U11)*(Teams1_Score<>\"\"))+SUMPRODUCT((Teams2=U11)*(Teams2_Score<>\"\"))","v":3},{"$f":"SUMPRODUCT((Teams1=U11)*(Teams1_Score>Teams2_Score))+SUMPRODUCT((Teams2=U11)*(Teams2_Score>Teams1_Score))","v":0},{"$f":"SUMPRODUCT((Teams1=U11)*(Teams1_Score=Teams2_Score)*(Teams1_Score<>\"\"))+SUMPRODUCT((Teams2=U11)*(Teams2_Score=Teams1_Score)*(Teams2_Score<>\"\"))","v":1},{"$f":"SUMPRODUCT((Teams1=U11)*(Teams1_Score<Teams2_Score))+SUMPRODUCT((Teams2=U11)*(Teams2_Score<Teams1_Score))","v":2},{"$f":"SUMPRODUCT((Teams1=U11)*(Teams1_Score))+SUMPRODUCT((Teams2=U11)*(Teams2_Score))","v":0},{"$f":"SUMPRODUCT((Teams1=U11)*(Teams2_Score))+SUMPRODUCT((Teams2=U11)*(Teams1_Score))","v":3},{"$f":"Z11-AA11","v":-3},{"$f":"3*W11+X11","v":1}]
[null,{"$f":"VLOOKUP($D12,TABLEAU_MATCHS[#All],2,FALSE)","v":"2018-06-16"},{"$f":"VLOOKUP($D12,TABLEAU_MATCHS[#All],3,FALSE)","v":"12:00:00"},5,{"$f":"\"Groupe \"&VLOOKUP($I12,TABLEAU_TEAMS[[#All],[TEAM]:[GROUP_INITIAL_RANK]],2,FALSE)","v":"Groupe C"},1.7,3.1,5,{"$f":"VLOOKUP($D12,TABLEAU_MATCHS[#All],4,FALSE)","v":"France"},2,null,{"$f":"VLOOKUP($D12,TABLEAU_MATCHS[#All],5,FALSE)","v":"Australie"},0,{"$f":"IF(OR(ISBLANK(RESULTATS!J12),ISBLANK(J12)),\"\",IF(AND(Alexandre!J12=RESULTATS!J12,Alexandre!M12=RESULTATS!M12),3,IF(OR(AND(Alexandre!J12>Alexandre!M12,RESULTATS!J12>RESULTATS!M12),AND(Alexandre!J12<Alexandre!M12,RESULTATS!J12<RESULTATS!M12),AND(Alexandre!J12=Alexandre!M12,RESULTATS!J12=RESULTATS!M12)),1,0)))","v":""},null,null,null,"00600Arabie Saoudite",600,4,"Arabie Saoudite",{"$f":"SUMPRODUCT((Teams1=U12)*(Teams1_Score<>\"\"))+SUMPRODUCT((Teams2=U12)*(Teams2_Score<>\"\"))","v":3},{"$f":"SUMPRODUCT((Teams1=U12)*(Teams1_Score>Teams2_Score))+SUMPRODUCT((Teams2=U12)*(Teams2_Score>Teams1_Score))","v":0},{"$f":"SUMPRODUCT((Teams1=U12)*(Teams1_Score=Teams2_Score)*(Teams1_Score<>\"\"))+SUMPRODUCT((Teams2=U12)*(Teams2_Score=Teams1_Score)*(Teams2_Score<>\"\"))","v":1},{"$f":"SUMPRODUCT((Teams1=U12)*(Teams1_Score<Teams2_Score))+SUMPRODUCT((Teams2=U12)*(Teams2_Score<Teams1_Score))","v":2},{"$f":"SUMPRODUCT((Teams1=U12)*(Teams1_Score))+SUMPRODUCT((Teams2=U12)*(Teams2_Score))","v":0},{"$f":"SUMPRODUCT((Teams1=U12)*(Teams2_Score))+SUMPRODUCT((Teams2=U12)*(Teams1_Score))","v":4},{"$f":"Z12-AA12","v":-4},{"$f":"3*W12+X12","v":1},null,null,null,"Phases finales",null,null,null,null,null,null,{"$f":"SUM(AN13:AN17)","v":0},null,"points"]
[null,{"$f":"VLOOKUP($D13,TABLEAU_MATCHS[#All],2,FALSE)","v":"2018-06-16"},{"$f":"VLOOKUP($D13,TABLEAU_MATCHS[#All],3,FALSE)","v":"18:00:00"},6,{"$f":"\"Groupe \"&VLOOKUP($I13,TABLEAU_TEAMS[[#All],[TEAM]:[GROUP_INITIAL_RANK]],2,FALSE)","v":"Groupe C"},2.5499999999999998,2.9,2.7,{"$f":"VLOOKUP($D13,TABLEAU_MATCHS[#All],4,FALSE)","v":"Pérou"},1,null,{"$f":"VLOOKUP($D13,TABLEAU_MATCHS[#All],5,FALSE)","v":"Danemark"},2,{"$f":"IF(OR(ISBLANK(RESULTATS!J13),ISBLANK(J13)),\"\",IF(AND(Alexandre!J13=RESULTATS!J13,Alexandre!M13=RESULTATS!M13),3,IF(OR(AND(Alexandre!J13>Alexandre!M13,RESULTATS!J13>RESULTATS!M13),AND(Alexandre!J13<Alexandre!M13,RESULTATS!J13<RESULTATS!M13),AND(Alexandre!J13=Alexandre!M13,RESULTATS!J13=RESULTATS!M13)),1,0)))","v":""},null,null,null,null,null,null,null,null,null,null,null,null,null,null,null,null,null,null,"Huitièmes de finaliste trouvés (2 pts)",null,null,{"$f":"IF(CLASSEMENT!PHASES_FINALES=\"OUI\",$AK$53+$AQ$53,0)","v":0},"équipe(s) ",null,null,{"$f":"AJ13*2","v":0},null,"points"]
[null,{"$f":"VLOOKUP($D14,TABLEAU_MATCHS[#All],2,FALSE)","v":"2018-06-16"},{"$f":"VLOOKUP($D14,TABLEAU_MATCHS[#All],3,FALSE)","v":"15:00:00"},7,{"$f":"\"Groupe \"&VLOOKUP($I14,TABLEAU_TEAMS[[#All],[TEAM]:[GROUP_INITIAL_RANK]],2,FALSE)","v":"Groupe D"},1.4,4,7.25,{"$f":"VLOOKUP($D14,TABLEAU_MATCHS[#All],4,FALSE)","v":"Argentine"},4,null,{"$f":"VLOOKUP($D14,TABLEAU_MATCHS[#All],5,FALSE)","v":"Islande"},0,{"$f":"IF(OR(ISBLANK(RESULTATS!J14),ISBLANK(J14)),\"\",IF(AND(Alexandre!J14=RESULTATS!J14,Alexandre!M14=RESULTATS!M14),3,IF(OR(AND(Alexandre!J14>Alexandre!M14,RESULTATS!J14>RESULTATS!M14),AND(Alexandre!J14<Alexandre!M14,RESULTATS!J14<RESULTATS!M14),AND(Alexandre!J14=Alexandre!M14,RESULTATS!J14=RESULTATS!M14)),1,0)))","v":""},null,null,null,null,null,"Rg","Groupe B","MJ","G","N","P","BP","BC","+/-","Pts",null,null,null,"Quarts de finalistes trouvés (4 pts)",null,null,{"$f":"IF(CLASSEMENT!PHASES_FINALES=\"OUI\",$AK$42+$AQ$42,0)","v":0},"équipe(s) ",null,null,{"$f":"AJ14*4","v":0},null,"points"]
[null,{"$f":"VLOOKUP($D15,TABLEAU_MATCHS[#All],2,FALSE)","v":"2018-06-16"},{"$f":"VLOOKUP($D15,TABLEAU_MATCHS[#All],3,FALSE)","v":"21:00:00"},8,{"$f":"\"Groupe \"&VLOOKUP($I15,TABLEAU_TEAMS[[#All],[TEAM]:[GROUP_INITIAL_RANK]],2,FALSE)","v":"Groupe D"},2.95,2.7,2.5499999999999998,{"$f":"VLOOKUP($D15,TABLEAU_MATCHS[#All],4,FALSE)","v":"Croatie"},1,null,{"$f":"VLOOKUP($D15,TABLEAU_MATCHS[#All],5,FALSE)","v":"Nigeria"},1,{"$f":"IF(OR(ISBLANK(RESULTATS!J15),ISBLANK(J15)),\"\",IF(AND(Alexandre!J15=RESULTATS!J15,Alexandre!M15=RESULTATS!M15),3,IF(OR(AND(Alexandre!J15>Alexandre!M15,RESULTATS!J15>RESULTATS!M15),AND(Alexandre!J15<Alexandre!M15,RESULTATS!J15<RESULTATS!M15),AND(Alexandre!J15=Alexandre!M15,RESULTATS!J15=RESULTATS!M15)),1,0)))","v":""},null,null,null,{"$f":"INDEX($R66:$R69,MATCH(SMALL(COUNTIF($R66:$R69,\">=\"&$R66:$R69),ROW(INDIRECT(\"1:\"&ROWS($R66:$R69)))),COUNTIF($R66:$R69,\">=\"&$R66:$R69),0))","v":"09570Espagne"},{"$f":"INDEX($S66:$S69,MATCH(SMALL(COUNTIF($R66:$R69,\">=\"&$R66:$R69),ROW(INDIRECT(\"1:\"&ROWS($R66:$R69)))),COUNTIF($R66:$R69,\">=\"&$R66:$R69),0))","v":9570},{"$f":"INDEX($T66:$T69,MATCH(SMALL(COUNTIF($R66:$R69,\">=\"&$R66:$R69),ROW(INDIRECT(\"1:\"&ROWS($R66:$R69)))),COUNTIF($R66:$R69,\">=\"&$R66:$R69),0))","v":1},{"$f":"INDEX($U66:$U69,MATCH(SMALL(COUNTIF($R66:$R69,\">=\"&$R66:$R69),ROW(INDIRECT(\"1:\"&ROWS($R66:$R69)))),COUNTIF($R66:$R69,\">=\"&$R66:$R69),0))","v":"Espagne"},{"$f":"SUMPRODUCT((Teams1=U15)*(Teams1_Score<>\"\"))+SUMPRODUCT((Teams2=U15)*(Teams2_Score<>\"\"))","v":3},{"$f":"SUMPRODUCT((Teams1=U15)*(Teams1_Score>Teams2_Score))+SUMPRODUCT((Teams2=U15)*(Teams2_Score>Teams1_Score))","v":3},{"$f":"SUMPRODUCT((Teams1=U15)*(Teams1_Score=Teams2_Score)*(Teams1_Score<>\"\"))+SUMPRODUCT((Teams2=U15)*(Teams2_Score=Teams1_Score)*(Teams2_Score<>\"\"))","v":0},{"$f":"SUMPRODUCT((Teams1=U15)*(Teams1_Score<Teams2_Score))+SUMPRODUCT((Teams2=U15)*(Teams2_Score<Teams1_Score))","v":0},{"$f":"SUMPRODUCT((Teams1=U15)*(Teams1_Score))+SUMPRODUCT((Teams2=U15)*(Teams2_Score))","v":7},{"$f":"SUMPRODUCT((Teams1=U15)*(Teams2_Score))+SUMPRODUCT((Teams2=U15)*(Teams1_Score))","v":2},{"$f":"Z15-AA15","v":5},{"$f":"3*W15+X15","v":9},null,null,null,"Demi finalistes trouvés (5 pts)",null,null,{"$f":"IF(CLASSEMENT!PHASES_FINALES=\"OUI\",$AK$35+$AQ$35,0)","v":0},"équipe(s) ",null,null,{"$f":"AJ15*5","v":0},null,"points"]
[null,{"$f":"VLOOKUP($D16,TABLEAU_MATCHS[#All],2,FALSE)","v":"2018-06-17"},{"$f":"VLOOKUP($D16,TABLEAU_MATCHS[#All],3,FALSE)","v":"14:00:00"},9,{"$f":"\"Groupe \"&VLOOKUP($I16,TABLEAU_TEAMS[[#All],[TEAM]:[GROUP_INITIAL_RANK]],2,FALSE)","v":"Groupe E"},2.35,2.9,2.95,{"$f":"VLOOKUP($D16,TABLEAU_MATCHS[#All],4,FALSE)","v":"Costa Rica"},1,null,{"$f":"VLOOKUP($D16,TABLEAU_MATCHS[#All],5,FALSE)","v":"Serbie"},1,{"$f":"IF(OR(ISBLANK(RESULTATS!J16),ISBLANK(J16)),\"\",IF(AND(Alexandre!J16=RESULTATS!J16,Alexandre!M16=RESULTATS!M16),3,IF(OR(AND(Alexandre!J16>Alexandre!M16,RESULTATS!J16>RESULTATS!M16),AND(Alexandre!J16<Alexandre!M16,RESULTATS!J16<RESULTATS!M16),AND(Alexandre!J16=Alexandre!M16,RESULTATS!J16=RESULTATS!M16)),1,0)))","v":""},null,null,null,"06350Portugal",6350,2,"Portugal",{"$f":"SUMPRODUCT((Teams1=U16)*(Teams1_Score<>\"\"))+SUMPRODUCT((Teams2=U16)*(Teams2_Score<>\"\"))","v":3},{"$f":"SUMPRODUCT((Teams1=U16)*(Teams1_Score>Teams2_Score))+SUMPRODUCT((Teams2=U16)*(Teams2_Score>Teams1_Score))","v":2},{"$f":"SUMPRODUCT((Teams1=U16)*(Teams1_Score=Teams2_Score)*(Teams1_Score<>\"\"))+SUMPRODUCT((Teams2=U16)*(Teams2_Score=Teams1_Score)*(Teams2_Score<>\"\"))","v":0},{"$f":"SUMPRODUCT((Teams1=U16)*(Teams1_Score<Teams2_Score))+SUMPRODUCT((Teams2=U16)*(Teams2_Score<Teams1_Score))","v":1},{"$f":"SUMPRODUCT((Teams1=U16)*(Teams1_Score))+SUMPRODUCT((Teams2=U16)*(Teams2_Score))","v":5},{"$f":"SUMPRODUCT((Teams1=U16)*(Teams2_Score))+SUMPRODUCT((Teams2=U16)*(Teams1_Score))","v":2},{"$f":"Z16-AA16","v":3},{"$f":"3*W16+X16","v":6},null,null,null,"Finalistes trouvés (6 pts)",null,null,{"$f":"IF(CLASSEMENT!PHASES_FINALES=\"OUI\",$AK$25+$AQ$25,0)","v":0},"équipe(s) ",null,null,{"$f":"AJ16*6","v":0},null,"points"]
[null,{"$f":"VLOOKUP($D17,TABLEAU_MATCHS[#All],2,FALSE)","v":"2018-06-17"},{"$f":"VLOOKUP($D17,TABLEAU_MATCHS[#All],3,FALSE)","v":"20:00:00"},10,{"$f":"\"Groupe \"&VLOOKUP($I17,TABLEAU_TEAMS[[#All],[TEAM]:[GROUP_INITIAL_RANK]],2,FALSE)","v":"Groupe E"},1.28,4.7,9.5,{"$f":"VLOOKUP($D17,TABLEAU_MATCHS[#All],4,FALSE)","v":"Brésil"},3,null,{"$f":"VLOOKUP($D17,TABLEAU_MATCHS[#All],5,FALSE)","v":"Suisse"},1,{"$f":"IF(OR(ISBLANK(RESULTATS!J17),ISBLANK(J17)),\"\",IF(AND(Alexandre!J17=RESULTATS!J17,Alexandre!M17=RESULTATS!M17),3,IF(OR(AND(Alexandre!J17>Alexandre!M17,RESULTATS!J17>RESULTATS!M17),AND(Alexandre!J17<Alexandre!M17,RESULTATS!J17<RESULTATS!M17),AND(Alexandre!J17=Alexandre!M17,RESULTATS!J17=RESULTATS!M17)),1,0)))","v":""},null,null,null,"02930Maroc",2930,3,"Maroc",{"$f":"SUMPRODUCT((Teams1=U17)*(Teams1_Score<>\"\"))+SUMPRODUCT((Teams2=U17)*(Teams2_Score<>\"\"))","v":3},{"$f":"SUMPRODUCT((Teams1=U17)*(Teams1_Score>Teams2_Score))+SUMPRODUCT((Teams2=U17)*(Teams2_Score>Teams1_Score))","v":1},{"$f":"SUMPRODUCT((Teams1=U17)*(Teams1_Score=Teams2_Score)*(Teams1_Score<>\"\"))+SUMPRODUCT((Teams2=U17)*(Teams2_Score=Teams1_Score)*(Teams2_Score<>\"\"))","v":0},{"$f":"SUMPRODUCT((Teams1=U17)*(Teams1_Score<Teams2_Score))+SUMPRODUCT((Teams2=U17)*(Teams2_Score<Teams1_Score))","v":2},{"$f":"SUMPRODUCT((Teams1=U17)*(Teams1_Score))+SUMPRODUCT((Teams2=U17)*(Teams2_Score))","v":3},{"$f":"SUMPRODUCT((Teams1=U17)*(Teams2_Score))+SUMPRODUCT((Teams2=U17)*(Teams1_Score))","v":4},{"$f":"Z17-AA17","v":-1},{"$f":"3*W17+X17","v":3},null,null,null,"Champion du monde trouvé (7 pts)",null,null,{"$f":"IF(CLASSEMENT!PHASES_FINALES=\"OUI\",IF(AJ25<>\"\",IF($AT$25=RESULTATS!AS10,1,0),0),0)","v":0},"équipe",null,null,{"$f":"AJ17*7","v":0},null,"points"]
[null,{"$f":"VLOOKUP($D18,TABLEAU_MATCHS[#All],2,FALSE)","v":"2018-06-17"},{"$f":"VLOOKUP($D18,TABLEAU_MATCHS[#All],3,FALSE)","v":"17:00:00"},11,{"$f":"\"Groupe \"&VLOOKUP($I18,TABLEAU_TEAMS[[#All],[TEAM]:[GROUP_INITIAL_RANK]],2,FALSE)","v":"Groupe F"},1.34,4.3,7.5,{"$f":"VLOOKUP($D18,TABLEAU_MATCHS[#All],4,FALSE)","v":"Allemagne"},2,null,{"$f":"VLOOKUP($D18,TABLEAU_MATCHS[#All],5,FALSE)","v":"Mexique"},0,{"$f":"IF(OR(ISBLANK(RESULTATS!J18),ISBLANK(J18)),\"\",IF(AND(Alexandre!J18=RESULTATS!J18,Alexandre!M18=RESULTATS!M18),3,IF(OR(AND(Alexandre!J18>Alexandre!M18,RESULTATS!J18>RESULTATS!M18),AND(Alexandre!J18<Alexandre!M18,RESULTATS!J18<RESULTATS!M18),AND(Alexandre!J18=Alexandre!M18,RESULTATS!J18=RESULTATS!M18)),1,0)))","v":""},null,null,null,"-00700RI Iran",-700,4,"RI Iran",{"$f":"SUMPRODUCT((Teams1=U18)*(Teams1_Score<>\"\"))+SUMPRODUCT((Teams2=U18)*(Teams2_Score<>\"\"))","v":3},{"$f":"SUMPRODUCT((Teams1=U18)*(Teams1_Score>Teams2_Score))+SUMPRODUCT((Teams2=U18)*(Teams2_Score>Teams1_Score))","v":0},{"$f":"SUMPRODUCT((Teams1=U18)*(Teams1_Score=Teams2_Score)*(Teams1_Score<>\"\"))+SUMPRODUCT((Teams2=U18)*(Teams2_Score=Teams1_Score)*(Teams2_Score<>\"\"))","v":0},{"$f":"SUMPRODUCT((Teams1=U18)*(Teams1_Score<Teams2_Score))+SUMPRODUCT((Teams2=U18)*(Teams2_Score<Teams1_Score))","v":3},{"$f":"SUMPRODUCT((Teams1=U18)*(Teams1_Score))+SUMPRODUCT((Teams2=U18)*(Teams2_Score))","v":0},{"$f":"SUMPRODUCT((Teams1=U18)*(Teams2_Score))+SUMPRODUCT((Teams2=U18)*(Teams1_Score))","v":7},{"$f":"Z18-AA18","v":-7},{"$f":"3*W18+X18","v":0}]
[null,{"$f":"VLOOKUP($D19,TABLEAU_MATCHS[#All],2,FALSE)","v":"2018-06-18"},{"$f":"VLOOKUP($D19,TABLEAU_MATCHS[#All],3,FALSE)","v":"14:00:00"},12,{"$f":"\"Groupe \"&VLOOKUP($I19,TABLEAU_TEAMS[[#All],[TEAM]:[GROUP_INITIAL_RANK]],2,FALSE)","v":"Groupe F"},3.3,2.95,2.15,{"$f":"VLOOKUP($D19,TABLEAU_MATCHS[#All],4,FALSE)","v":"Suède"},3,null,{"$f":"VLOOKUP($D19,TABLEAU_MATCHS[#All],5,FALSE)","v":"République de Corée"},0,{"$f":"IF(OR(ISBLANK(RESULTATS!J19),ISBLANK(J19)),\"\",IF(AND(Alexandre!J19=RESULTATS!J19,Alexandre!M19=RESULTATS!M19),3,IF(OR(AND(Alexandre!J19>Alexandre!M19,RESULTATS!J19>RESULTATS!M19),AND(Alexandre!J19<Alexandre!M19,RESULTATS!J19<RESULTATS!M19),AND(Alexandre!J19=Alexandre!M19,RESULTATS!J19=RESULTATS!M19)),1,0)))","v":""}]
[null,{"$f":"VLOOKUP($D20,TABLEAU_MATCHS[#All],2,FALSE)","v":"2018-06-18"},{"$f":"VLOOKUP($D20,TABLEAU_MATCHS[#All],3,FALSE)","v":"17:00:00"},13,{"$f":"\"Groupe \"&VLOOKUP($I20,TABLEAU_TEAMS[[#All],[TEAM]:[GROUP_INITIAL_RANK]],2,FALSE)","v":"Groupe G"},1.95,2.95,4,{"$f":"VLOOKUP($D20,TABLEAU_MATCHS[#All],4,FALSE)","v":"Belgique"},2,null,{"$f":"VLOOKUP($D20,TABLEAU_MATCHS[#All],5,FALSE)","v":"Panama"},1,{"$f":"IF(OR(ISBLANK(RESULTATS!J20),ISBLANK(J20)),\"\",IF(AND(Alexandre!J20=RESULTATS!J20,Alexandre!M20=RESULTATS!M20),3,IF(OR(AND(Alexandre!J20>Alexandre!M20,RESULTATS!J20>RESULTATS!M20),AND(Alexandre!J20<Alexandre!M20,RESULTATS!J20<RESULTATS!M20),AND(Alexandre!J20=Alexandre!M20,RESULTATS!J20=RESULTATS!M20)),1,0)))","v":""},null,null,null,null,null,"Rg","Groupe C","MJ","G","N","P","BP","BC","+/-","Pts"]
[null,{"$f":"VLOOKUP($D21,TABLEAU_MATCHS[#All],2,FALSE)","v":"2018-06-18"},{"$f":"VLOOKUP($D21,TABLEAU_MATCHS[#All],3,FALSE)","v":"20:00:00"},14,{"$f":"\"Groupe \"&VLOOKUP($I21,TABLEAU_TEAMS[[#All],[TEAM]:[GROUP_INITIAL_RANK]],2,FALSE)","v":"Groupe G"},2.5499999999999998,2.9,2.7,{"$f":"VLOOKUP($D21,TABLEAU_MATCHS[#All],4,FALSE)","v":"Tunisie"},0,null,{"$f":"VLOOKUP($D21,TABLEAU_MATCHS[#All],5,FALSE)","v":"Angleterre"},1,{"$f":"IF(OR(ISBLANK(RESULTATS!J21),ISBLANK(J21)),\"\",IF(AND(Alexandre!J21=RESULTATS!J21,Alexandre!M21=RESULTATS!M21),3,IF(OR(AND(Alexandre!J21>Alexandre!M21,RESULTATS!J21>RESULTATS!M21),AND(Alexandre!J21<Alexandre!M21,RESULTATS!J21<RESULTATS!M21),AND(Alexandre!J21=Alexandre!M21,RESULTATS!J21=RESULTATS!M21)),1,0)))","v":""},null,null,null,{"$f":"INDEX($R72:$R75,MATCH(SMALL(COUNTIF($R72:$R75,\">=\"&$R72:$R75),ROW(INDIRECT(\"1:\"&ROWS($R72:$R75)))),COUNTIF($R72:$R75,\">=\"&$R72:$R75),0))","v":"09560France"},{"$f":"INDEX($S72:$S75,MATCH(SMALL(COUNTIF($R72:$R75,\">=\"&$R72:$R75),ROW(INDIRECT(\"1:\"&ROWS($R72:$R75)))),COUNTIF($R72:$R75,\">=\"&$R72:$R75),0))","v":9560},{"$f":"INDEX($T72:$T75,MATCH(SMALL(COUNTIF($R72:$R75,\">=\"&$R72:$R75),ROW(INDIRECT(\"1:\"&ROWS($R72:$R75)))),COUNTIF($R72:$R75,\">=\"&$R72:$R75),0))","v":1},{"$f":"INDEX($U72:$U75,MATCH(SMALL(COUNTIF($R72:$R75,\">=\"&$R72:$R75),ROW(INDIRECT(\"1:\"&ROWS($R72:$R75)))),COUNTIF($R72:$R75,\">=\"&$R72:$R75),0))","v":"France"},{"$f":"SUMPRODUCT((Teams1=U21)*(Teams1_Score<>\"\"))+SUMPRODUCT((Teams2=U21)*(Teams2_Score<>\"\"))","v":3},{"$f":"SUMPRODUCT((Teams1=U21)*(Teams1_Score>Teams2_Score))+SUMPRODUCT((Teams2=U21)*(Teams2_Score>Teams1_Score))","v":3},{"$f":"SUMPRODUCT((Teams1=U21)*(Teams1_Score=Teams2_Score)*(Teams1_Score<>\"\"))+SUMPRODUCT((Teams2=U21)*(Teams2_Score=Teams1_Score)*(Teams2_Score<>\"\"))","v":0},{"$f":"SUMPRODUCT((Teams1=U21)*(Teams1_Score<Teams2_Score))+SUMPRODUCT((Teams2=U21)*(Teams2_Score<Teams1_Score))","v":0},{"$f":"SUMPRODUCT((Teams1=U21)*(Teams1_Score))+SUMPRODUCT((Teams2=U21)*(Teams2_Score))","v":6},{"$f":"SUMPRODUCT((Teams1=U21)*(Teams2_Score))+SUMPRODUCT((Teams2=U21)*(Teams1_Score))","v":1},{"$f":"Z21-AA21","v":5},{"$f":"3*W21+X21","v":9},null,null,null,"PHASES FINALES"]
[null,{"$f":"VLOOKUP($D22,TABLEAU_MATCHS[#All],2,FALSE)","v":"2018-06-19"},{"$f":"VLOOKUP($D22,TABLEAU_MATCHS[#All],3,FALSE)","v":"17:00:00"},15,{"$f":"\"Groupe \"&VLOOKUP($I22,TABLEAU_TEAMS[[#All],[TEAM]:[GROUP_INITIAL_RANK]],2,FALSE)","v":"Groupe H"},1.38,3.9,8,{"$f":"VLOOKUP($D22,TABLEAU_MATCHS[#All],4,FALSE)","v":"Colombie"},2,null,{"$f":"VLOOKUP($D22,TABLEAU_MATCHS[#All],5,FALSE)","v":"Japon"},0,{"$f":"IF(OR(ISBLANK(RESULTATS!J22),ISBLANK(J22)),\"\",IF(AND(Alexandre!J22=RESULTATS!J22,Alexandre!M22=RESULTATS!M22),3,IF(OR(AND(Alexandre!J22>Alexandre!M22,RESULTATS!J22>RESULTATS!M22),AND(Alexandre!J22<Alexandre!M22,RESULTATS!J22<RESULTATS!M22),AND(Alexandre!J22=Alexandre!M22,RESULTATS!J22=RESULTATS!M22)),1,0)))","v":""},null,null,null,"06150Danemark",6150,2,"Danemark",{"$f":"SUMPRODUCT((Teams1=U22)*(Teams1_Score<>\"\"))+SUMPRODUCT((Teams2=U22)*(Teams2_Score<>\"\"))","v":3},{"$f":"SUMPRODUCT((Teams1=U22)*(Teams1_Score>Teams2_Score))+SUMPRODUCT((Teams2=U22)*(Teams2_Score>Teams1_Score))","v":2},{"$f":"SUMPRODUCT((Teams1=U22)*(Teams1_Score=Teams2_Score)*(Teams1_Score<>\"\"))+SUMPRODUCT((Teams2=U22)*(Teams2_Score=Teams1_Score)*(Teams2_Score<>\"\"))","v":0},{"$f":"SUMPRODUCT((Teams1=U22)*(Teams1_Score<Teams2_Score))+SUMPRODUCT((Teams2=U22)*(Teams2_Score<Teams1_Score))","v":1},{"$f":"SUMPRODUCT((Teams1=U22)*(Teams1_Score))+SUMPRODUCT((Teams2=U22)*(Teams2_Score))","v":5},{"$f":"SUMPRODUCT((Teams1=U22)*(Teams2_Score))+SUMPRODUCT((Teams2=U22)*(Teams1_Score))","v":4},{"$f":"Z22-AA22","v":1},{"$f":"3*W22+X22","v":6}]
[null,{"$f":"VLOOKUP($D23,TABLEAU_MATCHS[#All],2,FALSE)","v":"2018-06-19"},{"$f":"VLOOKUP($D23,TABLEAU_MATCHS[#All],3,FALSE)","v":"14:00:00"},16,{"$f":"\"Groupe \"&VLOOKUP($I23,TABLEAU_TEAMS[[#All],[TEAM]:[GROUP_INITIAL_RANK]],2,FALSE)","v":"Groupe H"},2.0499999999999998,2.9,3.5,{"$f":"VLOOKUP($D23,TABLEAU_MATCHS[#All],4,FALSE)","v":"Pologne"},1,null,{"$f":"VLOOKUP($D23,TABLEAU_MATCHS[#All],5,FALSE)","v":"Sénégal"},2,{"$f":"IF(OR(ISBLANK(RESULTATS!J23),ISBLANK(J23)),\"\",IF(AND(Alexandre!J23=RESULTATS!J23,Alexandre!M23=RESULTATS!M23),3,IF(OR(AND(Alexandre!J23>Alexandre!M23,RESULTATS!J23>RESULTATS!M23),AND(Alexandre!J23<Alexandre!M23,RESULTATS!J23<RESULTATS!M23),AND(Alexandre!J23=Alexandre!M23,RESULTATS!J23=RESULTATS!M23)),1,0)))","v":""},null,null,null,"02820Pérou",2820,3,"Pérou",{"$f":"SUMPRODUCT((Teams1=U23)*(Teams1_Score<>\"\"))+SUMPRODUCT((Teams2=U23)*(Teams2_Score<>\"\"))","v":3},{"$f":"SUMPRODUCT((Teams1=U23)*(Teams1_Score>Teams2_Score))+SUMPRODUCT((Teams2=U23)*(Teams2_Score>Teams1_Score))","v":1},{"$f":"SUMPRODUCT((Teams1=U23)*(Teams1_Score=Teams2_Score)*(Teams1_Score<>\"\"))+SUMPRODUCT((Teams2=U23)*(Teams2_Score=Teams1_Score)*(Teams2_Score<>\"\"))","v":0},{"$f":"SUMPRODUCT((Teams1=U23)*(Teams1_Score<Teams2_Score))+SUMPRODUCT((Teams2=U23)*(Teams2_Score<Teams1_Score))","v":2},{"$f":"SUMPRODUCT((Teams1=U23)*(Teams1_Score))+SUMPRODUCT((Teams2=U23)*(Teams2_Score))","v":2},{"$f":"SUMPRODUCT((Teams1=U23)*(Teams2_Score))+SUMPRODUCT((Teams2=U23)*(Teams1_Score))","v":4},{"$f":"Z23-AA23","v":-2},{"$f":"3*W23+X23","v":3},null,null,"Date","Finale",null,null,"Buts",null,"Pen",null,null,null,"Buts",null,"Pen"]
[null,{"$f":"VLOOKUP($D24,TABLEAU_MATCHS[#All],2,FALSE)","v":"2018-06-19"},{"$f":"VLOOKUP($D24,TABLEAU_MATCHS[#All],3,FALSE)","v":"20:00:00"},17,{"$f":"\"Groupe \"&VLOOKUP($I24,TABLEAU_TEAMS[[#All],[TEAM]:[GROUP_INITIAL_RANK]],2,FALSE)","v":"Groupe A"},1.26,4.8,9,{"$f":"VLOOKUP($D24,TABLEAU_MATCHS[#All],4,FALSE)","v":"Russie"},1,null,{"$f":"VLOOKUP($D24,TABLEAU_MATCHS[#All],5,FALSE)","v":"Egypte"},0,{"$f":"IF(OR(ISBLANK(RESULTATS!J24),ISBLANK(J24)),\"\",IF(AND(Alexandre!J24=RESULTATS!J24,Alexandre!M24=RESULTATS!M24),3,IF(OR(AND(Alexandre!J24>Alexandre!M24,RESULTATS!J24>RESULTATS!M24),AND(Alexandre!J24<Alexandre!M24,RESULTATS!J24<RESULTATS!M24),AND(Alexandre!J24=Alexandre!M24,RESULTATS!J24=RESULTATS!M24)),1,0)))","v":""},null,null,null,"-00390Australie",-390,4,"Australie",{"$f":"SUMPRODUCT((Teams1=U24)*(Teams1_Score<>\"\"))+SUMPRODUCT((Teams2=U24)*(Teams2_Score<>\"\"))","v":3},{"$f":"SUMPRODUCT((Teams1=U24)*(Teams1_Score>Teams2_Score))+SUMPRODUCT((Teams2=U24)*(Teams2_Score>Teams1_Score))","v":0},{"$f":"SUMPRODUCT((Teams1=U24)*(Teams1_Score=Teams2_Score)*(Teams1_Score<>\"\"))+SUMPRODUCT((Teams2=U24)*(Teams2_Score=Teams1_Score)*(Teams2_Score<>\"\"))","v":0},{"$f":"SUMPRODUCT((Teams1=U24)*(Teams1_Score<Teams2_Score))+SUMPRODUCT((Teams2=U24)*(Teams2_Score<Teams1_Score))","v":3},{"$f":"SUMPRODUCT((Teams1=U24)*(Teams1_Score))+SUMPRODUCT((Teams2=U24)*(Teams2_Score))","v":1},{"$f":"SUMPRODUCT((Teams1=U24)*(Teams2_Score))+SUMPRODUCT((Teams2=U24)*(Teams1_Score))","v":5},{"$f":"Z24-AA24","v":-4},{"$f":"3*W24+X24","v":0}]
[null,{"$f":"VLOOKUP($D25,TABLEAU_MATCHS[#All],2,FALSE)","v":"2018-06-20"},{"$f":"VLOOKUP($D25,TABLEAU_MATCHS[#All],3,FALSE)","v":"17:00:00"},18,{"$f":"\"Groupe \"&VLOOKUP($I25,TABLEAU_TEAMS[[#All],[TEAM]:[GROUP_INITIAL_RANK]],2,FALSE)","v":"Groupe A"},3.5,3,2,{"$f":"VLOOKUP($D25,TABLEAU_MATCHS[#All],4,FALSE)","v":"Uruguay"},2,null,{"$f":"VLOOKUP($D25,TABLEAU_MATCHS[#All],5,FALSE)","v":"Arabie Saoudite"},0,{"$f":"IF(OR(ISBLANK(RESULTATS!J25),ISBLANK(J25)),\"\",IF(AND(Alexandre!J25=RESULTATS!J25,Alexandre!M25=RESULTATS!M25),3,IF(OR(AND(Alexandre!J25>Alexandre!M25,RESULTATS!J25>RESULTATS!M25),AND(Alexandre!J25<Alexandre!M25,RESULTATS!J25<RESULTATS!M25),AND(Alexandre!J25=Alexandre!M25,RESULTATS!J25=RESULTATS!M25)),1,0)))","v":""},null,null,null,null,null,null,null,null,null,null,null,null,null,null,null,null,null,"2018-07-15",null,{"$f":"+IF(AJ33<>\"\",IF(AI33>AO33,AH33,AN33),\"Vainqueur 1\")","v":"Brésil"},{"$f":"AJ25*10+AL25","v":0},0,{"$f":"IF(LEFT(AH25,5)<>\"Vainq\",COUNTIF(RESULTATS!$AG$10:$AM$10,AH25),0)","v":0},null,null,{"$f":"+IF(AJ34<>\"\",IF(AI34>AO34,AH34,AN34),\"Vainqueur 2\")","v":"Espagne"},{"$f":"AP25*10+AR25","v":20},2,{"$f":"IF(LEFT(AN25,5)<>\"Vainq\",COUNTIF(RESULTATS!$AG$10:$AM$10,AN25),0)","v":0},null,null,{"$f":"IF(AJ25<>\"\",IF(AI25>AO25,AH25,AN25),\"\")","v":"Espagne"}]
[null,{"$f":"VLOOKUP($D26,TABLEAU_MATCHS[#All],2,FALSE)","v":"2018-06-20"},{"$f":"VLOOKUP($D26,TABLEAU_MATCHS[#All],3,FALSE)","v":"14:00:00"},19,{"$f":"\"Groupe \"&VLOOKUP($I26,TABLEAU_TEAMS[[#All],[TEAM]:[GROUP_INITIAL_RANK]],2,FALSE)","v":"Groupe B"},1.66,3.35,4.8,{"$f":"VLOOKUP($D26,TABLEAU_MATCHS[#All],4,FALSE)","v":"Portugal"},2,null,{"$f":"VLOOKUP($D26,TABLEAU_MATCHS[#All],5,FALSE)","v":"Maroc"},0,{"$f":"IF(OR(ISBLANK(RESULTATS!J26),ISBLANK(J26)),\"\",IF(AND(Alexandre!J26=RESULTATS!J26,Alexandre!M26=RESULTATS!M26),3,IF(OR(AND(Alexandre!J26>Alexandre!M26,RESULTATS!J26>RESULTATS!M26),AND(Alexandre!J26<Alexandre!M26,RESULTATS!J26<RESULTATS!M26),AND(Alexandre!J26=Alexandre!M26,RESULTATS!J26=RESULTATS!M26)),1,0)))","v":""},null,null,null,null,null,"Rg","Groupe D","MJ","G","N","P","BP","BC","+/-","Pts"]
[null,{"$f":"VLOOKUP($D27,TABLEAU_MATCHS[#All],2,FALSE)","v":"2018-06-20"},{"$f":"VLOOKUP($D27,TABLEAU_MATCHS[#All],3,FALSE)","v":"20:00:00"},20,{"$f":"\"Groupe \"&VLOOKUP($I27,TABLEAU_TEAMS[[#All],[TEAM]:[GROUP_INITIAL_RANK]],2,FALSE)","v":"Groupe B"},8.5,4.7,1.28,{"$f":"VLOOKUP($D27,TABLEAU_MATCHS[#All],4,FALSE)","v":"RI Iran"},0,null,{"$f":"VLOOKUP($D27,TABLEAU_MATCHS[#All],5,FALSE)","v":"Espagne"},3,{"$f":"IF(OR(ISBLANK(RESULTATS!J27),ISBLANK(J27)),\"\",IF(AND(Alexandre!J27=RESULTATS!J27,Alexandre!M27=RESULTATS!M27),3,IF(OR(AND(Alexandre!J27>Alexandre!M27,RESULTATS!J27>RESULTATS!M27),AND(Alexandre!J27<Alexandre!M27,RESULTATS!J27<RESULTATS!M27),AND(Alexandre!J27=Alexandre!M27,RESULTATS!J27=RESULTATS!M27)),1,0)))","v":""},null,null,null,{"$f":"INDEX($R78:$R81,MATCH(SMALL(COUNTIF($R78:$R81,\">=\"&$R78:$R81),ROW(INDIRECT(\"1:\"&ROWS($R78:$R81)))),COUNTIF($R78:$R81,\">=\"&$R78:$R81),0))","v":"09670Argentine"},{"$f":"INDEX($S78:$S81,MATCH(SMALL(COUNTIF($R78:$R81,\">=\"&$R78:$R81),ROW(INDIRECT(\"1:\"&ROWS($R78:$R81)))),COUNTIF($R78:$R81,\">=\"&$R78:$R81),0))","v":9670},{"$f":"INDEX($T78:$T81,MATCH(SMALL(COUNTIF($R78:$R81,\">=\"&$R78:$R81),ROW(INDIRECT(\"1:\"&ROWS($R78:$R81)))),COUNTIF($R78:$R81,\">=\"&$R78:$R81),0))","v":1},{"$f":"INDEX($U78:$U81,MATCH(SMALL(COUNTIF($R78:$R81,\">=\"&$R78:$R81),ROW(INDIRECT(\"1:\"&ROWS($R78:$R81)))),COUNTIF($R78:$R81,\">=\"&$R78:$R81),0))","v":"Argentine"},{"$f":"SUMPRODUCT((Teams1=U27)*(Teams1_Score<>\"\"))+SUMPRODUCT((Teams2=U27)*(Teams2_Score<>\"\"))","v":3},{"$f":"SUMPRODUCT((Teams1=U27)*(Teams1_Score>Teams2_Score))+SUMPRODUCT((Teams2=U27)*(Teams2_Score>Teams1_Score))","v":3},{"$f":"SUMPRODUCT((Teams1=U27)*(Teams1_Score=Teams2_Score)*(Teams1_Score<>\"\"))+SUMPRODUCT((Teams2=U27)*(Teams2_Score=Teams1_Score)*(Teams2_Score<>\"\"))","v":0},{"$f":"SUMPRODUCT((Teams1=U27)*(Teams1_Score<Teams2_Score))+SUMPRODUCT((Teams2=U27)*(Teams2_Score<Teams1_Score))","v":0},{"$f":"SUMPRODUCT((Teams1=U27)*(Teams1_Score))+SUMPRODUCT((Teams2=U27)*(Teams2_Score))","v":7},{"$f":"SUMPRODUCT((Teams1=U27)*(Teams2_Score))+SUMPRODUCT((Teams2=U27)*(Teams1_Score))","v":1},{"$f":"Z27-AA27","v":6},{"$f":"3*W27+X27","v":9},null,null,"Date","Petite Finale",null,null,"Buts",null,"Pen",null,null,null,"Buts",null,"Pen"]
[null,{"$f":"VLOOKUP($D28,TABLEAU_MATCHS[#All],2,FALSE)","v":"2018-06-21"},{"$f":"VLOOKUP($D28,TABLEAU_MATCHS[#All],3,FALSE)","v":"14:00:00"},21,{"$f":"\"Groupe \"&VLOOKUP($I28,TABLEAU_TEAMS[[#All],[TEAM]:[GROUP_INITIAL_RANK]],2,FALSE)","v":"Groupe C"},1.85,3,4,{"$f":"VLOOKUP($D28,TABLEAU_MATCHS[#All],4,FALSE)","v":"Danemark"},2,null,{"$f":"VLOOKUP($D28,TABLEAU_MATCHS[#All],5,FALSE)","v":"Australie"},1,{"$f":"IF(OR(ISBLANK(RESULTATS!J28),ISBLANK(J28)),\"\",IF(AND(Alexandre!J28=RESULTATS!J28,Alexandre!M28=RESULTATS!M28),3,IF(OR(AND(Alexandre!J28>Alexandre!M28,RESULTATS!J28>RESULTATS!M28),AND(Alexandre!J28<Alexandre!M28,RESULTATS!J28<RESULTATS!M28),AND(Alexandre!J28=Alexandre!M28,RESULTATS!J28=RESULTATS!M28)),1,0)))","v":""},null,null,null,"04020Nigeria",4020,2,"Nigeria",{"$f":"SUMPRODUCT((Teams1=U28)*(Teams1_Score<>\"\"))+SUMPRODUCT((Teams2=U28)*(Teams2_Score<>\"\"))","v":3},{"$f":"SUMPRODUCT((Teams1=U28)*(Teams1_Score>Teams2_Score))+SUMPRODUCT((Teams2=U28)*(Teams2_Score>Teams1_Score))","v":1},{"$f":"SUMPRODUCT((Teams1=U28)*(Teams1_Score=Teams2_Score)*(Teams1_Score<>\"\"))+SUMPRODUCT((Teams2=U28)*(Teams2_Score=Teams1_Score)*(Teams2_Score<>\"\"))","v":1},{"$f":"SUMPRODUCT((Teams1=U28)*(Teams1_Score<Teams2_Score))+SUMPRODUCT((Teams2=U28)*(Teams2_Score<Teams1_Score))","v":1},{"$f":"SUMPRODUCT((Teams1=U28)*(Teams1_Score))+SUMPRODUCT((Teams2=U28)*(Teams2_Score))","v":2},{"$f":"SUMPRODUCT((Teams1=U28)*(Teams2_Score))+SUMPRODUCT((Teams2=U28)*(Teams1_Score))","v":2},{"$f":"Z28-AA28","v":0},{"$f":"3*W28+X28","v":4}]
[null,{"$f":"VLOOKUP($D29,TABLEAU_MATCHS[#All],2,FALSE)","v":"2018-06-21"},{"$f":"VLOOKUP($D29,TABLEAU_MATCHS[#All],3,FALSE)","v":"17:00:00"},22,{"$f":"\"Groupe \"&VLOOKUP($I29,TABLEAU_TEAMS[[#All],[TEAM]:[GROUP_INITIAL_RANK]],2,FALSE)","v":"Groupe C"},2.2999999999999998,3,2.9,{"$f":"VLOOKUP($D29,TABLEAU_MATCHS[#All],4,FALSE)","v":"France"},2,null,{"$f":"VLOOKUP($D29,TABLEAU_MATCHS[#All],5,FALSE)","v":"Pérou"},0,{"$f":"IF(OR(ISBLANK(RESULTATS!J29),ISBLANK(J29)),\"\",IF(AND(Alexandre!J29=RESULTATS!J29,Alexandre!M29=RESULTATS!M29),3,IF(OR(AND(Alexandre!J29>Alexandre!M29,RESULTATS!J29>RESULTATS!M29),AND(Alexandre!J29<Alexandre!M29,RESULTATS!J29<RESULTATS!M29),AND(Alexandre!J29=Alexandre!M29,RESULTATS!J29=RESULTATS!M29)),1,0)))","v":""},null,null,null,"01930Croatie",1930,3,"Croatie",{"$f":"SUMPRODUCT((Teams1=U29)*(Teams1_Score<>\"\"))+SUMPRODUCT((Teams2=U29)*(Teams2_Score<>\"\"))","v":3},{"$f":"SUMPRODUCT((Teams1=U29)*(Teams1_Score>Teams2_Score))+SUMPRODUCT((Teams2=U29)*(Teams2_Score>Teams1_Score))","v":0},{"$f":"SUMPRODUCT((Teams1=U29)*(Teams1_Score=Teams2_Score)*(Teams1_Score<>\"\"))+SUMPRODUCT((Teams2=U29)*(Teams2_Score=Teams1_Score)*(Teams2_Score<>\"\"))","v":2},{"$f":"SUMPRODUCT((Teams1=U29)*(Teams1_Score<Teams2_Score))+SUMPRODUCT((Teams2=U29)*(Teams2_Score<Teams1_Score))","v":1},{"$f":"SUMPRODUCT((Teams1=U29)*(Teams1_Score))+SUMPRODUCT((Teams2=U29)*(Teams2_Score))","v":3},{"$f":"SUMPRODUCT((Teams1=U29)*(Teams2_Score))+SUMPRODUCT((Teams2=U29)*(Teams1_Score))","v":4},{"$f":"Z29-AA29","v":-1},{"$f":"3*W29+X29","v":2},null,null,"2018-07-14",null,{"$f":"+IF(AJ33<>\"\",IF(AI33>AO33,AN33,AH33),\"Perdant 1\")","v":"France"},{"$f":"AJ29*10+AL29","v":20},2,null,null,null,{"$f":"+IF(AJ34<>\"\",IF(AI34>AO34,AN34,AH34),\"Perdant 2\")","v":"Allemagne"},{"$f":"AP29*10+AR29","v":30},3]
[null,{"$f":"VLOOKUP($D30,TABLEAU_MATCHS[#All],2,FALSE)","v":"2018-06-21"},{"$f":"VLOOKUP($D30,TABLEAU_MATCHS[#All],3,FALSE)","v":"20:00:00"},23,{"$f":"\"Groupe \"&VLOOKUP($I30,TABLEAU_TEAMS[[#All],[TEAM]:[GROUP_INITIAL_RANK]],2,FALSE)","v":"Groupe D"},2.4,3,2.8,{"$f":"VLOOKUP($D30,TABLEAU_MATCHS[#All],4,FALSE)","v":"Argentine"},2,null,{"$f":"VLOOKUP($D30,TABLEAU_MATCHS[#All],5,FALSE)","v":"Croatie"},1,{"$f":"IF(OR(ISBLANK(RESULTATS!J30),ISBLANK(J30)),\"\",IF(AND(Alexandre!J30=RESULTATS!J30,Alexandre!M30=RESULTATS!M30),3,IF(OR(AND(Alexandre!J30>Alexandre!M30,RESULTATS!J30>RESULTATS!M30),AND(Alexandre!J30<Alexandre!M30,RESULTATS!J30<RESULTATS!M30),AND(Alexandre!J30=Alexandre!M30,RESULTATS!J30=RESULTATS!M30)),1,0)))","v":""},null,null,null,"00510Islande",510,4,"Islande",{"$f":"SUMPRODUCT((Teams1=U30)*(Teams1_Score<>\"\"))+SUMPRODUCT((Teams2=U30)*(Teams2_Score<>\"\"))","v":3},{"$f":"SUMPRODUCT((Teams1=U30)*(Teams1_Score>Teams2_Score))+SUMPRODUCT((Teams2=U30)*(Teams2_Score>Teams1_Score))","v":0},{"$f":"SUMPRODUCT((Teams1=U30)*(Teams1_Score=Teams2_Score)*(Teams1_Score<>\"\"))+SUMPRODUCT((Teams2=U30)*(Teams2_Score=Teams1_Score)*(Teams2_Score<>\"\"))","v":1},{"$f":"SUMPRODUCT((Teams1=U30)*(Teams1_Score<Teams2_Score))+SUMPRODUCT((Teams2=U30)*(Teams2_Score<Teams1_Score))","v":2},{"$f":"SUMPRODUCT((Teams1=U30)*(Teams1_Score))+SUMPRODUCT((Teams2=U30)*(Teams2_Score))","v":1},{"$f":"SUMPRODUCT((Teams1=U30)*(Teams2_Score))+SUMPRODUCT((Teams2=U30)*(Teams1_Score))","v":6},{"$f":"Z30-AA30","v":-5},{"$f":"3*W30+X30","v":1}]
[null,{"$f":"VLOOKUP($D31,TABLEAU_MATCHS[#All],2,FALSE)","v":"2018-06-22"},{"$f":"VLOOKUP($D31,TABLEAU_MATCHS[#All],3,FALSE)","v":"17:00:00"},24,{"$f":"\"Groupe \"&VLOOKUP($I31,TABLEAU_TEAMS[[#All],[TEAM]:[GROUP_INITIAL_RANK]],2,FALSE)","v":"Groupe D"},1.26,4.5999999999999996,9.5,{"$f":"VLOOKUP($D31,TABLEAU_MATCHS[#All],4,FALSE)","v":"Nigeria"},1,null,{"$f":"VLOOKUP($D31,TABLEAU_MATCHS[#All],5,FALSE)","v":"Islande"},0,{"$f":"IF(OR(ISBLANK(RESULTATS!J31),ISBLANK(J31)),\"\",IF(AND(Alexandre!J31=RESULTATS!J31,Alexandre!M31=RESULTATS!M31),3,IF(OR(AND(Alexandre!J31>Alexandre!M31,RESULTATS!J31>RESULTATS!M31),AND(Alexandre!J31<Alexandre!M31,RESULTATS!J31<RESULTATS!M31),AND(Alexandre!J31=Alexandre!M31,RESULTATS!J31=RESULTATS!M31)),1,0)))","v":""},null,null,null,null,null,null,null,null,null,null,null,null,null,null,null,null,null,"Date","Demi Finale",null,null,"Buts",null,"Pen",null,null,null,"Buts",null,"Pen"]
[null,{"$f":"VLOOKUP($D32,TABLEAU_MATCHS[#All],2,FALSE)","v":"2018-06-22"},{"$f":"VLOOKUP($D32,TABLEAU_MATCHS[#All],3,FALSE)","v":"14:00:00"},25,{"$f":"\"Groupe \"&VLOOKUP($I32,TABLEAU_TEAMS[[#All],[TEAM]:[GROUP_INITIAL_RANK]],2,FALSE)","v":"Groupe E"},3.5,2.95,2.1,{"$f":"VLOOKUP($D32,TABLEAU_MATCHS[#All],4,FALSE)","v":"Brésil"},3,null,{"$f":"VLOOKUP($D32,TABLEAU_MATCHS[#All],5,FALSE)","v":"Costa Rica"},0,{"$f":"IF(OR(ISBLANK(RESULTATS!J32),ISBLANK(J32)),\"\",IF(AND(Alexandre!J32=RESULTATS!J32,Alexandre!M32=RESULTATS!M32),3,IF(OR(AND(Alexandre!J32>Alexandre!M32,RESULTATS!J32>RESULTATS!M32),AND(Alexandre!J32<Alexandre!M32,RESULTATS!J32<RESULTATS!M32),AND(Alexandre!J32=Alexandre!M32,RESULTATS!J32=RESULTATS!M32)),1,0)))","v":""},null,null,null,null,null,"Rg","Groupe E","MJ","G","N","P","BP","BC","+/-","Pts"]
[null,{"$f":"VLOOKUP($D33,TABLEAU_MATCHS[#All],2,FALSE)","v":"2018-06-22"},{"$f":"VLOOKUP($D33,TABLEAU_MATCHS[#All],3,FALSE)","v":"20:00:00"},26,{"$f":"\"Groupe \"&VLOOKUP($I33,TABLEAU_TEAMS[[#All],[TEAM]:[GROUP_INITIAL_RANK]],2,FALSE)","v":"Groupe E"},4.8,3.25,1.62,{"$f":"VLOOKUP($D33,TABLEAU_MATCHS[#All],4,FALSE)","v":"Serbie"},1,null,{"$f":"VLOOKUP($D33,TABLEAU_MATCHS[#All],5,FALSE)","v":"Suisse"},1,{"$f":"IF(OR(ISBLANK(RESULTATS!J33),ISBLANK(J33)),\"\",IF(AND(Alexandre!J33=RESULTATS!J33,Alexandre!M33=RESULTATS!M33),3,IF(OR(AND(Alexandre!J33>Alexandre!M33,RESULTATS!J33>RESULTATS!M33),AND(Alexandre!J33<Alexandre!M33,RESULTATS!J33<RESULTATS!M33),AND(Alexandre!J33=Alexandre!M33,RESULTATS!J33=RESULTATS!M33)),1,0)))","v":""},null,null,null,{"$f":"INDEX($R84:$R87,MATCH(SMALL(COUNTIF($R84:$R87,\">=\"&$R84:$R87),ROW(INDIRECT(\"1:\"&ROWS($R84:$R87)))),COUNTIF($R84:$R87,\">=\"&$R84:$R87),0))","v":"09780Brésil"},{"$f":"INDEX($S84:$S87,MATCH(SMALL(COUNTIF($R84:$R87,\">=\"&$R84:$R87),ROW(INDIRECT(\"1:\"&ROWS($R84:$R87)))),COUNTIF($R84:$R87,\">=\"&$R84:$R87),0))","v":9780},{"$f":"INDEX($T84:$T87,MATCH(SMALL(COUNTIF($R84:$R87,\">=\"&$R84:$R87),ROW(INDIRECT(\"1:\"&ROWS($R84:$R87)))),COUNTIF($R84:$R87,\">=\"&$R84:$R87),0))","v":1},{"$f":"INDEX($U84:$U87,MATCH(SMALL(COUNTIF($R84:$R87,\">=\"&$R84:$R87),ROW(INDIRECT(\"1:\"&ROWS($R84:$R87)))),COUNTIF($R84:$R87,\">=\"&$R84:$R87),0))","v":"Brésil"},{"$f":"SUMPRODUCT((Teams1=U33)*(Teams1_Score<>\"\"))+SUMPRODUCT((Teams2=U33)*(Teams2_Score<>\"\"))","v":3},{"$f":"SUMPRODUCT((Teams1=U33)*(Teams1_Score>Teams2_Score))+SUMPRODUCT((Teams2=U33)*(Teams2_Score>Teams1_Score))","v":3},{"$f":"SUMPRODUCT((Teams1=U33)*(Teams1_Score=Teams2_Score)*(Teams1_Score<>\"\"))+SUMPRODUCT((Teams2=U33)*(Teams2_Score=Teams1_Score)*(Teams2_Score<>\"\"))","v":0},{"$f":"SUMPRODUCT((Teams1=U33)*(Teams1_Score<Teams2_Score))+SUMPRODUCT((Teams2=U33)*(Teams2_Score<Teams1_Score))","v":0},{"$f":"SUMPRODUCT((Teams1=U33)*(Teams1_Score))+SUMPRODUCT((Teams2=U33)*(Teams2_Score))","v":8},{"$f":"SUMPRODUCT((Teams1=U33)*(Teams2_Score))+SUMPRODUCT((Teams2=U33)*(Teams1_Score))","v":1},{"$f":"Z33-AA33","v":7},{"$f":"3*W33+X33","v":9},null,null,"2018-07-10",1,{"$f":"+IF(AJ38<>\"\",IF(AI38>AO38,AH38,AN38),\"Vainqueur A\")","v":"France"},{"$f":"AJ33*10+AL33","v":10},1,{"$f":"IF(LEFT(AH33,5)<>\"Vainq\",COUNTIF(RESULTATS!$AG$18:$AM$19,AH33),0)","v":0},null,null,{"$f":"+IF(AJ40<>\"\",IF(AI40>AO40,AH40,AN40),\"Vainqueur C\")","v":"Brésil"},{"$f":"AP33*10+AR33","v":20},2,{"$f":"IF(LEFT(AN33,5)<>\"Vainq\",COUNTIF(RESULTATS!$AG$18:$AM$19,AN33),0)","v":0}]
[null,{"$f":"VLOOKUP($D34,TABLEAU_MATCHS[#All],2,FALSE)","v":"2018-06-23"},{"$f":"VLOOKUP($D34,TABLEAU_MATCHS[#All],3,FALSE)","v":"20:00:00"},27,{"$f":"\"Groupe \"&VLOOKUP($I34,TABLEAU_TEAMS[[#All],[TEAM]:[GROUP_INITIAL_RANK]],2,FALSE)","v":"Groupe F"},1.1200000000000001,6.5,15,{"$f":"VLOOKUP($D34,TABLEAU_MATCHS[#All],4,FALSE)","v":"République de Corée"},0,null,{"$f":"VLOOKUP($D34,TABLEAU_MATCHS[#All],5,FALSE)","v":"Mexique"},1,{"$f":"IF(OR(ISBLANK(RESULTATS!J34),ISBLANK(J34)),\"\",IF(AND(Alexandre!J34=RESULTATS!J34,Alexandre!M34=RESULTATS!M34),3,IF(OR(AND(Alexandre!J34>Alexandre!M34,RESULTATS!J34>RESULTATS!M34),AND(Alexandre!J34<Alexandre!M34,RESULTATS!J34<RESULTATS!M34),AND(Alexandre!J34=Alexandre!M34,RESULTATS!J34=RESULTATS!M34)),1,0)))","v":""},null,null,null,"01830Suisse",1830,2,"Suisse",{"$f":"SUMPRODUCT((Teams1=U34)*(Teams1_Score<>\"\"))+SUMPRODUCT((Teams2=U34)*(Teams2_Score<>\"\"))","v":3},{"$f":"SUMPRODUCT((Teams1=U34)*(Teams1_Score>Teams2_Score))+SUMPRODUCT((Teams2=U34)*(Teams2_Score>Teams1_Score))","v":0},{"$f":"SUMPRODUCT((Teams1=U34)*(Teams1_Score=Teams2_Score)*(Teams1_Score<>\"\"))+SUMPRODUCT((Teams2=U34)*(Teams2_Score=Teams1_Score)*(Teams2_Score<>\"\"))","v":2},{"$f":"SUMPRODUCT((Teams1=U34)*(Teams1_Score<Teams2_Score))+SUMPRODUCT((Teams2=U34)*(Teams2_Score<Teams1_Score))","v":1},{"$f":"SUMPRODUCT((Teams1=U34)*(Teams1_Score))+SUMPRODUCT((Teams2=U34)*(Teams2_Score))","v":3},{"$f":"SUMPRODUCT((Teams1=U34)*(Teams2_Score))+SUMPRODUCT((Teams2=U34)*(Teams1_Score))","v":5},{"$f":"Z34-AA34","v":-2},{"$f":"3*W34+X34","v":2},null,null,"2018-07-11",2,{"$f":"+IF(AJ39<>\"\",IF(AI39>AO39,AH39,AN39),\"Vainqueur B\")","v":"Espagne"},{"$f":"AJ34*10+AL34","v":10},1,{"$f":"IF(LEFT(AH34,5)<>\"Vainq\",COUNTIF(RESULTATS!$AG$18:$AM$19,AH34),0)","v":0},null,null,{"$f":"+IF(AJ41<>\"\",IF(AI41>AO41,AH41,AN41),\"Vainqueur D\")","v":"Allemagne"},{"$f":"AP34*10+AR34","v":0},0,{"$f":"IF(LEFT(AN34,5)<>\"Vainq\",COUNTIF(RESULTATS!$AG$18:$AM$19,AN34),0)","v":0}]
[null,{"$f":"VLOOKUP($D35,TABLEAU_MATCHS[#All],2,FALSE)","v":"2018-06-23"},{"$f":"VLOOKUP($D35,TABLEAU_MATCHS[#All],3,FALSE)","v":"17:00:00"},28,{"$f":"\"Groupe \"&VLOOKUP($I35,TABLEAU_TEAMS[[#All],[TEAM]:[GROUP_INITIAL_RANK]],2,FALSE)","v":"Groupe F"},2.8,2.95,2.4,{"$f":"VLOOKUP($D35,TABLEAU_MATCHS[#All],4,FALSE)","v":"Allemagne"},1,null,{"$f":"VLOOKUP($D35,TABLEAU_MATCHS[#All],5,FALSE)","v":"Suède"},1,{"$f":"IF(OR(ISBLANK(RESULTATS!J35),ISBLANK(J35)),\"\",IF(AND(Alexandre!J35=RESULTATS!J35,Alexandre!M35=RESULTATS!M35),3,IF(OR(AND(Alexandre!J35>Alexandre!M35,RESULTATS!J35>RESULTATS!M35),AND(Alexandre!J35<Alexandre!M35,RESULTATS!J35<RESULTATS!M35),AND(Alexandre!J35=Alexandre!M35,RESULTATS!J35=RESULTATS!M35)),1,0)))","v":""},null,null,null,"01820Serbie",1820,3,"Serbie",{"$f":"SUMPRODUCT((Teams1=U35)*(Teams1_Score<>\"\"))+SUMPRODUCT((Teams2=U35)*(Teams2_Score<>\"\"))","v":3},{"$f":"SUMPRODUCT((Teams1=U35)*(Teams1_Score>Teams2_Score))+SUMPRODUCT((Teams2=U35)*(Teams2_Score>Teams1_Score))","v":0},{"$f":"SUMPRODUCT((Teams1=U35)*(Teams1_Score=Teams2_Score)*(Teams1_Score<>\"\"))+SUMPRODUCT((Teams2=U35)*(Teams2_Score=Teams1_Score)*(Teams2_Score<>\"\"))","v":2},{"$f":"SUMPRODUCT((Teams1=U35)*(Teams1_Score<Teams2_Score))+SUMPRODUCT((Teams2=U35)*(Teams2_Score<Teams1_Score))","v":1},{"$f":"SUMPRODUCT((Teams1=U35)*(Teams1_Score))+SUMPRODUCT((Teams2=U35)*(Teams2_Score))","v":2},{"$f":"SUMPRODUCT((Teams1=U35)*(Teams2_Score))+SUMPRODUCT((Teams2=U35)*(Teams1_Score))","v":4},{"$f":"Z35-AA35","v":-2},{"$f":"3*W35+X35","v":2},null,null,null,null,null,null,null,{"$f":"SUM(AK33:AK34)","v":0},null,null,null,null,null,{"$f":"SUM(AQ33:AQ34)","v":0}]
[null,{"$f":"VLOOKUP($D36,TABLEAU_MATCHS[#All],2,FALSE)","v":"2018-06-23"},{"$f":"VLOOKUP($D36,TABLEAU_MATCHS[#All],3,FALSE)","v":"14:00:00"},29,{"$f":"\"Groupe \"&VLOOKUP($I36,TABLEAU_TEAMS[[#All],[TEAM]:[GROUP_INITIAL_RANK]],2,FALSE)","v":"Groupe G"},1.36,4,7.5,{"$f":"VLOOKUP($D36,TABLEAU_MATCHS[#All],4,FALSE)","v":"Belgique"},1,null,{"$f":"VLOOKUP($D36,TABLEAU_MATCHS[#All],5,FALSE)","v":"Tunisie"},0,{"$f":"IF(OR(ISBLANK(RESULTATS!J36),ISBLANK(J36)),\"\",IF(AND(Alexandre!J36=RESULTATS!J36,Alexandre!M36=RESULTATS!M36),3,IF(OR(AND(Alexandre!J36>Alexandre!M36,RESULTATS!J36>RESULTATS!M36),AND(Alexandre!J36<Alexandre!M36,RESULTATS!J36<RESULTATS!M36),AND(Alexandre!J36=Alexandre!M36,RESULTATS!J36=RESULTATS!M36)),1,0)))","v":""},null,null,null,"01720Costa Rica",1720,4,"Costa Rica",{"$f":"SUMPRODUCT((Teams1=U36)*(Teams1_Score<>\"\"))+SUMPRODUCT((Teams2=U36)*(Teams2_Score<>\"\"))","v":3},{"$f":"SUMPRODUCT((Teams1=U36)*(Teams1_Score>Teams2_Score))+SUMPRODUCT((Teams2=U36)*(Teams2_Score>Teams1_Score))","v":0},{"$f":"SUMPRODUCT((Teams1=U36)*(Teams1_Score=Teams2_Score)*(Teams1_Score<>\"\"))+SUMPRODUCT((Teams2=U36)*(Teams2_Score=Teams1_Score)*(Teams2_Score<>\"\"))","v":2},{"$f":"SUMPRODUCT((Teams1=U36)*(Teams1_Score<Teams2_Score))+SUMPRODUCT((Teams2=U36)*(Teams2_Score<Teams1_Score))","v":1},{"$f":"SUMPRODUCT((Teams1=U36)*(Teams1_Score))+SUMPRODUCT((Teams2=U36)*(Teams2_Score))","v":2},{"$f":"SUMPRODUCT((Teams1=U36)*(Teams2_Score))+SUMPRODUCT((Teams2=U36)*(Teams1_Score))","v":5},{"$f":"Z36-AA36","v":-3},{"$f":"3*W36+X36","v":2},null,null,"Date","Quart de Finale",null,null,"Buts",null,"Pen",null,null,null,"Buts",null,"Pen"]
[null,{"$f":"VLOOKUP($D37,TABLEAU_MATCHS[#All],2,FALSE)","v":"2018-06-24"},{"$f":"VLOOKUP($D37,TABLEAU_MATCHS[#All],3,FALSE)","v":"14:00:00"},30,{"$f":"\"Groupe \"&VLOOKUP($I37,TABLEAU_TEAMS[[#All],[TEAM]:[GROUP_INITIAL_RANK]],2,FALSE)","v":"Groupe G"},4.7,3.4,1.62,{"$f":"VLOOKUP($D37,TABLEAU_MATCHS[#All],4,FALSE)","v":"Angleterre"},2,null,{"$f":"VLOOKUP($D37,TABLEAU_MATCHS[#All],5,FALSE)","v":"Panama"},0,{"$f":"IF(OR(ISBLANK(RESULTATS!J37),ISBLANK(J37)),\"\",IF(AND(Alexandre!J37=RESULTATS!J37,Alexandre!M37=RESULTATS!M37),3,IF(OR(AND(Alexandre!J37>Alexandre!M37,RESULTATS!J37>RESULTATS!M37),AND(Alexandre!J37<Alexandre!M37,RESULTATS!J37<RESULTATS!M37),AND(Alexandre!J37=Alexandre!M37,RESULTATS!J37=RESULTATS!M37)),1,0)))","v":""}]
[null,{"$f":"VLOOKUP($D38,TABLEAU_MATCHS[#All],2,FALSE)","v":"2018-06-24"},{"$f":"VLOOKUP($D38,TABLEAU_MATCHS[#All],3,FALSE)","v":"17:00:00"},31,{"$f":"\"Groupe \"&VLOOKUP($I38,TABLEAU_TEAMS[[#All],[TEAM]:[GROUP_INITIAL_RANK]],2,FALSE)","v":"Groupe H"},2.1,2.95,3.35,{"$f":"VLOOKUP($D38,TABLEAU_MATCHS[#All],4,FALSE)","v":"Japon"},0,null,{"$f":"VLOOKUP($D38,TABLEAU_MATCHS[#All],5,FALSE)","v":"Sénégal"},1,{"$f":"IF(OR(ISBLANK(RESULTATS!J38),ISBLANK(J38)),\"\",IF(AND(Alexandre!J38=RESULTATS!J38,Alexandre!M38=RESULTATS!M38),3,IF(OR(AND(Alexandre!J38>Alexandre!M38,RESULTATS!J38>RESULTATS!M38),AND(Alexandre!J38<Alexandre!M38,RESULTATS!J38<RESULTATS!M38),AND(Alexandre!J38=Alexandre!M38,RESULTATS!J38=RESULTATS!M38)),1,0)))","v":""},null,null,null,null,null,"Rg","Groupe F","MJ","G","N","P","BP","BC","+/-","Pts",null,null,"2018-07-06","A",{"$f":"+IF(AJ45<>\"\",IF(AI45>AO45,AH45,AN45),\"Vainqueur 1\")","v":"Portugal"},{"$f":"AJ38*10+AL38","v":15},1,{"$f":"IF(LEFT(AH38,5)<>\"Vainq\",COUNTIF(RESULTATS!$AG$23:$AM$26,AH38),0)","v":0},5,null,{"$f":"+IF(AJ47<>\"\",IF(AI47>AO47,AH47,AN47),\"Vainqueur 3\")","v":"France"},{"$f":"AP38*10+AR38","v":16},1,{"$f":"IF(LEFT(AN38,5)<>\"Vainq\",COUNTIF(RESULTATS!$AG$23:$AM$26,AN38),0)","v":0},6]
[null,{"$f":"VLOOKUP($D39,TABLEAU_MATCHS[#All],2,FALSE)","v":"2018-06-24"},{"$f":"VLOOKUP($D39,TABLEAU_MATCHS[#All],3,FALSE)","v":"20:00:00"},32,{"$f":"\"Groupe \"&VLOOKUP($I39,TABLEAU_TEAMS[[#All],[TEAM]:[GROUP_INITIAL_RANK]],2,FALSE)","v":"Groupe H"},1.9,3,3.8,{"$f":"VLOOKUP($D39,TABLEAU_MATCHS[#All],4,FALSE)","v":"Pologne"},1,null,{"$f":"VLOOKUP($D39,TABLEAU_MATCHS[#All],5,FALSE)","v":"Colombie"},3,{"$f":"IF(OR(ISBLANK(RESULTATS!J39),ISBLANK(J39)),\"\",IF(AND(Alexandre!J39=RESULTATS!J39,Alexandre!M39=RESULTATS!M39),3,IF(OR(AND(Alexandre!J39>Alexandre!M39,RESULTATS!J39>RESULTATS!M39),AND(Alexandre!J39<Alexandre!M39,RESULTATS!J39<RESULTATS!M39),AND(Alexandre!J39=Alexandre!M39,RESULTATS!J39=RESULTATS!M39)),1,0)))","v":""},null,null,null,{"$f":"INDEX($R90:$R93,MATCH(SMALL(COUNTIF($R90:$R93,\">=\"&$R90:$R93),ROW(INDIRECT(\"1:\"&ROWS($R90:$R93)))),COUNTIF($R90:$R93,\">=\"&$R90:$R93),0))","v":"07560Allemagne"},{"$f":"INDEX($S90:$S93,MATCH(SMALL(COUNTIF($R90:$R93,\">=\"&$R90:$R93),ROW(INDIRECT(\"1:\"&ROWS($R90:$R93)))),COUNTIF($R90:$R93,\">=\"&$R90:$R93),0))","v":7560},{"$f":"INDEX($T90:$T93,MATCH(SMALL(COUNTIF($R90:$R93,\">=\"&$R90:$R93),ROW(INDIRECT(\"1:\"&ROWS($R90:$R93)))),COUNTIF($R90:$R93,\">=\"&$R90:$R93),0))","v":1},{"$f":"INDEX($U90:$U93,MATCH(SMALL(COUNTIF($R90:$R93,\">=\"&$R90:$R93),ROW(INDIRECT(\"1:\"&ROWS($R90:$R93)))),COUNTIF($R90:$R93,\">=\"&$R90:$R93),0))","v":"Allemagne"},{"$f":"SUMPRODUCT((Teams1=U39)*(Teams1_Score<>\"\"))+SUMPRODUCT((Teams2=U39)*(Teams2_Score<>\"\"))","v":3},{"$f":"SUMPRODUCT((Teams1=U39)*(Teams1_Score>Teams2_Score))+SUMPRODUCT((Teams2=U39)*(Teams2_Score>Teams1_Score))","v":2},{"$f":"SUMPRODUCT((Teams1=U39)*(Teams1_Score=Teams2_Score)*(Teams1_Score<>\"\"))+SUMPRODUCT((Teams2=U39)*(Teams2_Score=Teams1_Score)*(Teams2_Score<>\"\"))","v":1},{"$f":"SUMPRODUCT((Teams1=U39)*(Teams1_Score<Teams2_Score))+SUMPRODUCT((Teams2=U39)*(Teams2_Score<Teams1_Score))","v":0},{"$f":"SUMPRODUCT((Teams1=U39)*(Teams1_Score))+SUMPRODUCT((Teams2=U39)*(Teams2_Score))","v":6},{"$f":"SUMPRODUCT((Teams1=U39)*(Teams2_Score))+SUMPRODUCT((Teams2=U39)*(Teams1_Score))","v":1},{"$f":"Z39-AA39","v":5},{"$f":"3*W39+X39","v":7},null,null,"2018-07-07","B",{"$f":"+IF(AJ46<>\"\",IF(AI46>AO46,AH46,AN46),\"Vainqueur 2\")","v":"Espagne"},{"$f":"AJ39*10+AL39","v":20},2,{"$f":"IF(LEFT(AH39,5)<>\"Vainq\",COUNTIF(RESULTATS!$AG$23:$AM$26,AH39),0)","v":0},null,null,{"$f":"+IF(AJ48<>\"\",IF(AI48>AO48,AH48,AN48),\"Vainqueur 4\")","v":"Argentine"},{"$f":"AP39*10+AR39","v":10},1,{"$f":"IF(LEFT(AN39,5)<>\"Vainq\",COUNTIF(RESULTATS!$AG$23:$AM$26,AN39),0)","v":0}]
[null,{"$f":"VLOOKUP($D40,TABLEAU_MATCHS[#All],2,FALSE)","v":"2018-06-25"},{"$f":"VLOOKUP($D40,TABLEAU_MATCHS[#All],3,FALSE)","v":"16:00:00"},33,{"$f":"\"Groupe \"&VLOOKUP($I40,TABLEAU_TEAMS[[#All],[TEAM]:[GROUP_INITIAL_RANK]],2,FALSE)","v":"Groupe A"},11,6.5,1.17,{"$f":"VLOOKUP($D40,TABLEAU_MATCHS[#All],4,FALSE)","v":"Uruguay"},1,null,{"$f":"VLOOKUP($D40,TABLEAU_MATCHS[#All],5,FALSE)","v":"Russie"},1,{"$f":"IF(OR(ISBLANK(RESULTATS!J40),ISBLANK(J40)),\"\",IF(AND(Alexandre!J40=RESULTATS!J40,Alexandre!M40=RESULTATS!M40),3,IF(OR(AND(Alexandre!J40>Alexandre!M40,RESULTATS!J40>RESULTATS!M40),AND(Alexandre!J40<Alexandre!M40,RESULTATS!J40<RESULTATS!M40),AND(Alexandre!J40=Alexandre!M40,RESULTATS!J40=RESULTATS!M40)),1,0)))","v":""},null,null,null,"05350Suède",5350,2,"Suède",{"$f":"SUMPRODUCT((Teams1=U40)*(Teams1_Score<>\"\"))+SUMPRODUCT((Teams2=U40)*(Teams2_Score<>\"\"))","v":3},{"$f":"SUMPRODUCT((Teams1=U40)*(Teams1_Score>Teams2_Score))+SUMPRODUCT((Teams2=U40)*(Teams2_Score>Teams1_Score))","v":1},{"$f":"SUMPRODUCT((Teams1=U40)*(Teams1_Score=Teams2_Score)*(Teams1_Score<>\"\"))+SUMPRODUCT((Teams2=U40)*(Teams2_Score=Teams1_Score)*(Teams2_Score<>\"\"))","v":2},{"$f":"SUMPRODUCT((Teams1=U40)*(Teams1_Score<Teams2_Score))+SUMPRODUCT((Teams2=U40)*(Teams2_Score<Teams1_Score))","v":0},{"$f":"SUMPRODUCT((Teams1=U40)*(Teams1_Score))+SUMPRODUCT((Teams2=U40)*(Teams2_Score))","v":5},{"$f":"SUMPRODUCT((Teams1=U40)*(Teams2_Score))+SUMPRODUCT((Teams2=U40)*(Teams1_Score))","v":2},{"$f":"Z40-AA40","v":3},{"$f":"3*W40+X40","v":5},null,null,"2018-07-06","C",{"$f":"+IF(AJ49<>\"\",IF(AI49>AO49,AH49,AN49),\"Vainqueur 5\")","v":"Brésil"},{"$f":"AJ40*10+AL40","v":30},3,{"$f":"IF(LEFT(AH40,5)<>\"Vainq\",COUNTIF(RESULTATS!$AG$23:$AM$26,AH40),0)","v":0},null,null,{"$f":"+IF(AJ51<>\"\",IF(AI51>AO51,AH51,AN51),\"Vainqueur 7\")","v":"Colombie"},{"$f":"AP40*10+AR40","v":0},0,{"$f":"IF(LEFT(AN40,5)<>\"Vainq\",COUNTIF(RESULTATS!$AG$23:$AM$26,AN40),0)","v":0}]
[null,{"$f":"VLOOKUP($D41,TABLEAU_MATCHS[#All],2,FALSE)","v":"2018-06-25"},{"$f":"VLOOKUP($D41,TABLEAU_MATCHS[#All],3,FALSE)","v":"16:00:00"},34,{"$f":"\"Groupe \"&VLOOKUP($I41,TABLEAU_TEAMS[[#All],[TEAM]:[GROUP_INITIAL_RANK]],2,FALSE)","v":"Groupe A"},2.4,2.95,2.75,{"$f":"VLOOKUP($D41,TABLEAU_MATCHS[#All],4,FALSE)","v":"Arabie Saoudite"},0,null,{"$f":"VLOOKUP($D41,TABLEAU_MATCHS[#All],5,FALSE)","v":"Egypte"},0,{"$f":"IF(OR(ISBLANK(RESULTATS!J41),ISBLANK(J41)),\"\",IF(AND(Alexandre!J41=RESULTATS!J41,Alexandre!M41=RESULTATS!M41),3,IF(OR(AND(Alexandre!J41>Alexandre!M41,RESULTATS!J41>RESULTATS!M41),AND(Alexandre!J41<Alexandre!M41,RESULTATS!J41<RESULTATS!M41),AND(Alexandre!J41=Alexandre!M41,RESULTATS!J41=RESULTATS!M41)),1,0)))","v":""},null,null,null,"03920Mexique",3920,3,"Mexique",{"$f":"SUMPRODUCT((Teams1=U41)*(Teams1_Score<>\"\"))+SUMPRODUCT((Teams2=U41)*(Teams2_Score<>\"\"))","v":3},{"$f":"SUMPRODUCT((Teams1=U41)*(Teams1_Score>Teams2_Score))+SUMPRODUCT((Teams2=U41)*(Teams2_Score>Teams1_Score))","v":1},{"$f":"SUMPRODUCT((Teams1=U41)*(Teams1_Score=Teams2_Score)*(Teams1_Score<>\"\"))+SUMPRODUCT((Teams2=U41)*(Teams2_Score=Teams1_Score)*(Teams2_Score<>\"\"))","v":1},{"$f":"SUMPRODUCT((Teams1=U41)*(Teams1_Score<Teams2_Score))+SUMPRODUCT((Teams2=U41)*(Teams2_Score<Teams1_Score))","v":1},{"$f":"SUMPRODUCT((Teams1=U41)*(Teams1_Score))+SUMPRODUCT((Teams2=U41)*(Teams2_Score))","v":2},{"$f":"SUMPRODUCT((Teams1=U41)*(Teams2_Score))+SUMPRODUCT((Teams2=U41)*(Teams1_Score))","v":3},{"$f":"Z41-AA41","v":-1},{"$f":"3*W41+X41","v":4},null,null,"2018-07-07","D",{"$f":"+IF(AJ50<>\"\",IF(AI50>AO50,AH50,AN50),\"Vainqueur 6\")","v":"Allemagne"},{"$f":"AJ41*10+AL41","v":10},1,{"$f":"IF(LEFT(AH41,5)<>\"Vainq\",COUNTIF(RESULTATS!$AG$23:$AM$26,AH41),0)","v":0},null,null,{"$f":"+IF(AJ52<>\"\",IF(AI52>AO52,AH52,AN52),\"Vainqueur 8\")","v":"Sénégal"},{"$f":"AP41*10+AR41","v":0},0,{"$f":"IF(LEFT(AN41,5)<>\"Vainq\",COUNTIF(RESULTATS!$AG$23:$AM$26,AN41),0)","v":0}]
[null,{"$f":"VLOOKUP($D42,TABLEAU_MATCHS[#All],2,FALSE)","v":"2018-06-25"},{"$f":"VLOOKUP($D42,TABLEAU_MATCHS[#All],3,FALSE)","v":"20:00:00"},35,{"$f":"\"Groupe \"&VLOOKUP($I42,TABLEAU_TEAMS[[#All],[TEAM]:[GROUP_INITIAL_RANK]],2,FALSE)","v":"Groupe B"},13,6.5,1.1399999999999999,{"$f":"VLOOKUP($D42,TABLEAU_MATCHS[#All],4,FALSE)","v":"RI Iran"},0,null,{"$f":"VLOOKUP($D42,TABLEAU_MATCHS[#All],5,FALSE)","v":"Portugal"},2,{"$f":"IF(OR(ISBLANK(RESULTATS!J42),ISBLANK(J42)),\"\",IF(AND(Alexandre!J42=RESULTATS!J42,Alexandre!M42=RESULTATS!M42),3,IF(OR(AND(Alexandre!J42>Alexandre!M42,RESULTATS!J42>RESULTATS!M42),AND(Alexandre!J42<Alexandre!M42,RESULTATS!J42<RESULTATS!M42),AND(Alexandre!J42=Alexandre!M42,RESULTATS!J42=RESULTATS!M42)),1,0)))","v":""},null,null,null,"-00700République de Corée",-700,4,"République de Corée",{"$f":"SUMPRODUCT((Teams1=U42)*(Teams1_Score<>\"\"))+SUMPRODUCT((Teams2=U42)*(Teams2_Score<>\"\"))","v":3},{"$f":"SUMPRODUCT((Teams1=U42)*(Teams1_Score>Teams2_Score))+SUMPRODUCT((Teams2=U42)*(Teams2_Score>Teams1_Score))","v":0},{"$f":"SUMPRODUCT((Teams1=U42)*(Teams1_Score=Teams2_Score)*(Teams1_Score<>\"\"))+SUMPRODUCT((Teams2=U42)*(Teams2_Score=Teams1_Score)*(Teams2_Score<>\"\"))","v":0},{"$f":"SUMPRODUCT((Teams1=U42)*(Teams1_Score<Teams2_Score))+SUMPRODUCT((Teams2=U42)*(Teams2_Score<Teams1_Score))","v":3},{"$f":"SUMPRODUCT((Teams1=U42)*(Teams1_Score))+SUMPRODUCT((Teams2=U42)*(Teams2_Score))","v":0},{"$f":"SUMPRODUCT((Teams1=U42)*(Teams2_Score))+SUMPRODUCT((Teams2=U42)*(Teams1_Score))","v":7},{"$f":"Z42-AA42","v":-7},{"$f":"3*W42+X42","v":0},null,null,null,null,null,null,null,{"$f":"SUM(AK38:AK41)","v":0},null,null,null,null,null,{"$f":"SUM(AQ38:AQ41)","v":0}]
[null,{"$f":"VLOOKUP($D43,TABLEAU_MATCHS[#All],2,FALSE)","v":"2018-06-25"},{"$f":"VLOOKUP($D43,TABLEAU_MATCHS[#All],3,FALSE)","v":"20:00:00"},36,{"$f":"\"Groupe \"&VLOOKUP($I43,TABLEAU_TEAMS[[#All],[TEAM]:[GROUP_INITIAL_RANK]],2,FALSE)","v":"Groupe B"},2.25,3.1,2.95,{"$f":"VLOOKUP($D43,TABLEAU_MATCHS[#All],4,FALSE)","v":"Espagne"},2,null,{"$f":"VLOOKUP($D43,TABLEAU_MATCHS[#All],5,FALSE)","v":"Maroc"},1,{"$f":"IF(OR(ISBLANK(RESULTATS!J43),ISBLANK(J43)),\"\",IF(AND(Alexandre!J43=RESULTATS!J43,Alexandre!M43=RESULTATS!M43),3,IF(OR(AND(Alexandre!J43>Alexandre!M43,RESULTATS!J43>RESULTATS!M43),AND(Alexandre!J43<Alexandre!M43,RESULTATS!J43<RESULTATS!M43),AND(Alexandre!J43=Alexandre!M43,RESULTATS!J43=RESULTATS!M43)),1,0)))","v":""},null,null,null,null,null,null,null,null,null,null,null,null,null,null,null,null,null,"Date","Huitième de Finale",null,null,"Buts",null,"Pen",null,null,null,"Buts",null,"Pen"]
[null,{"$f":"VLOOKUP($D44,TABLEAU_MATCHS[#All],2,FALSE)","v":"2018-06-26"},{"$f":"VLOOKUP($D44,TABLEAU_MATCHS[#All],3,FALSE)","v":"16:00:00"},37,{"$f":"\"Groupe \"&VLOOKUP($I44,TABLEAU_TEAMS[[#All],[TEAM]:[GROUP_INITIAL_RANK]],2,FALSE)","v":"Groupe C"},4.3,3.25,1.76,{"$f":"VLOOKUP($D44,TABLEAU_MATCHS[#All],4,FALSE)","v":"Danemark"},1,null,{"$f":"VLOOKUP($D44,TABLEAU_MATCHS[#All],5,FALSE)","v":"France"},2,{"$f":"IF(OR(ISBLANK(RESULTATS!J44),ISBLANK(J44)),\"\",IF(AND(Alexandre!J44=RESULTATS!J44,Alexandre!M44=RESULTATS!M44),3,IF(OR(AND(Alexandre!J44>Alexandre!M44,RESULTATS!J44>RESULTATS!M44),AND(Alexandre!J44<Alexandre!M44,RESULTATS!J44<RESULTATS!M44),AND(Alexandre!J44=Alexandre!M44,RESULTATS!J44=RESULTATS!M44)),1,0)))","v":""},null,null,null,null,null,"Rg","Groupe G","MJ","G","N","P","BP","BC","+/-","Pts"]
[null,{"$f":"VLOOKUP($D45,TABLEAU_MATCHS[#All],2,FALSE)","v":"2018-06-26"},{"$f":"VLOOKUP($D45,TABLEAU_MATCHS[#All],3,FALSE)","v":"16:00:00"},38,{"$f":"\"Groupe \"&VLOOKUP($I45,TABLEAU_TEAMS[[#All],[TEAM]:[GROUP_INITIAL_RANK]],2,FALSE)","v":"Groupe C"},3.05,3,2.25,{"$f":"VLOOKUP($D45,TABLEAU_MATCHS[#All],4,FALSE)","v":"Australie"},0,null,{"$f":"VLOOKUP($D45,TABLEAU_MATCHS[#All],5,FALSE)","v":"Pérou"},1,{"$f":"IF(OR(ISBLANK(RESULTATS!J45),ISBLANK(J45)),\"\",IF(AND(Alexandre!J45=RESULTATS!J45,Alexandre!M45=RESULTATS!M45),3,IF(OR(AND(Alexandre!J45>Alexandre!M45,RESULTATS!J45>RESULTATS!M45),AND(Alexandre!J45<Alexandre!M45,RESULTATS!J45<RESULTATS!M45),AND(Alexandre!J45=Alexandre!M45,RESULTATS!J45=RESULTATS!M45)),1,0)))","v":""},null,null,null,{"$f":"INDEX($R96:$R99,MATCH(SMALL(COUNTIF($R96:$R99,\">=\"&$R96:$R99),ROW(INDIRECT(\"1:\"&ROWS($R96:$R99)))),COUNTIF($R96:$R99,\">=\"&$R96:$R99),0))","v":"09350Belgique"},{"$f":"INDEX($S96:$S99,MATCH(SMALL(COUNTIF($R96:$R99,\">=\"&$R96:$R99),ROW(INDIRECT(\"1:\"&ROWS($R96:$R99)))),COUNTIF($R96:$R99,\">=\"&$R96:$R99),0))","v":9350},{"$f":"INDEX($T96:$T99,MATCH(SMALL(COUNTIF($R96:$R99,\">=\"&$R96:$R99),ROW(INDIRECT(\"1:\"&ROWS($R96:$R99)))),COUNTIF($R96:$R99,\">=\"&$R96:$R99),0))","v":1},{"$f":"INDEX($U96:$U99,MATCH(SMALL(COUNTIF($R96:$R99,\">=\"&$R96:$R99),ROW(INDIRECT(\"1:\"&ROWS($R96:$R99)))),COUNTIF($R96:$R99,\">=\"&$R96:$R99),0))","v":"Belgique"},{"$f":"SUMPRODUCT((Teams1=U45)*(Teams1_Score<>\"\"))+SUMPRODUCT((Teams2=U45)*(Teams2_Score<>\"\"))","v":3},{"$f":"SUMPRODUCT((Teams1=U45)*(Teams1_Score>Teams2_Score))+SUMPRODUCT((Teams2=U45)*(Teams2_Score>Teams1_Score))","v":3},{"$f":"SUMPRODUCT((Teams1=U45)*(Teams1_Score=Teams2_Score)*(Teams1_Score<>\"\"))+SUMPRODUCT((Teams2=U45)*(Teams2_Score=Teams1_Score)*(Teams2_Score<>\"\"))","v":0},{"$f":"SUMPRODUCT((Teams1=U45)*(Teams1_Score<Teams2_Score))+SUMPRODUCT((Teams2=U45)*(Teams2_Score<Teams1_Score))","v":0},{"$f":"SUMPRODUCT((Teams1=U45)*(Teams1_Score))+SUMPRODUCT((Teams2=U45)*(Teams2_Score))","v":5},{"$f":"SUMPRODUCT((Teams1=U45)*(Teams2_Score))+SUMPRODUCT((Teams2=U45)*(Teams1_Score))","v":2},{"$f":"Z45-AA45","v":3},{"$f":"3*W45+X45","v":9},null,null,"2018-06-30",1,{"$f":"IF(SUM(V9:V12)=0,\"1er Groupe A\",IF(COUNTIF(T9:T12,1)=1,VLOOKUP(1,T9:U12,2,FALSE),IF(COUNTIF(T9:T12,1)>=2,\"Tirage au Sort A1\")))","v":"Uruguay"},{"$f":"AJ45*10+AL45","v":10},1,{"$f":"IF(AND(LEFT(AH45,3)<>\"1er\",LEFT(AH45,3)<>\"2nd\"),COUNTIF(RESULTATS!$AG$30:$AM$37,AH45),0)","v":1},null,null,{"$f":"IF(SUM(V15:V18)=0,\"2nd Groupe B\",IF(OR(COUNTIF(T15:T18,1)>1,COUNTIF(T15:T18,2)>1),\"Tirage au sort B2\",VLOOKUP(2,T15:U18,2,FALSE)))","v":"Portugal"},{"$f":"AP45*10+AR45","v":20},2,{"$f":"IF(AND(LEFT(AN45,3)<>\"1er\",LEFT(AN45,3)<>\"2nd\"),COUNTIF(RESULTATS!$AG$30:$AM$37,AN45),0)","v":0}]
[null,{"$f":"VLOOKUP($D46,TABLEAU_MATCHS[#All],2,FALSE)","v":"2018-06-26"},{"$f":"VLOOKUP($D46,TABLEAU_MATCHS[#All],3,FALSE)","v":"20:00:00"},39,{"$f":"\"Groupe \"&VLOOKUP($I46,TABLEAU_TEAMS[[#All],[TEAM]:[GROUP_INITIAL_RANK]],2,FALSE)","v":"Groupe D"},2.4,2.9,2.85,{"$f":"VLOOKUP($D46,TABLEAU_MATCHS[#All],4,FALSE)","v":"Nigeria"},0,null,{"$f":"VLOOKUP($D46,TABLEAU_MATCHS[#All],5,FALSE)","v":"Argentine"},1,{"$f":"IF(OR(ISBLANK(RESULTATS!J46),ISBLANK(J46)),\"\",IF(AND(Alexandre!J46=RESULTATS!J46,Alexandre!M46=RESULTATS!M46),3,IF(OR(AND(Alexandre!J46>Alexandre!M46,RESULTATS!J46>RESULTATS!M46),AND(Alexandre!J46<Alexandre!M46,RESULTATS!J46<RESULTATS!M46),AND(Alexandre!J46=Alexandre!M46,RESULTATS!J46=RESULTATS!M46)),1,0)))","v":""},null,null,null,"06240Angleterre",6240,2,"Angleterre",{"$f":"SUMPRODUCT((Teams1=U46)*(Teams1_Score<>\"\"))+SUMPRODUCT((Teams2=U46)*(Teams2_Score<>\"\"))","v":3},{"$f":"SUMPRODUCT((Teams1=U46)*(Teams1_Score>Teams2_Score))+SUMPRODUCT((Teams2=U46)*(Teams2_Score>Teams1_Score))","v":2},{"$f":"SUMPRODUCT((Teams1=U46)*(Teams1_Score=Teams2_Score)*(Teams1_Score<>\"\"))+SUMPRODUCT((Teams2=U46)*(Teams2_Score=Teams1_Score)*(Teams2_Score<>\"\"))","v":0},{"$f":"SUMPRODUCT((Teams1=U46)*(Teams1_Score<Teams2_Score))+SUMPRODUCT((Teams2=U46)*(Teams2_Score<Teams1_Score))","v":1},{"$f":"SUMPRODUCT((Teams1=U46)*(Teams1_Score))+SUMPRODUCT((Teams2=U46)*(Teams2_Score))","v":4},{"$f":"SUMPRODUCT((Teams1=U46)*(Teams2_Score))+SUMPRODUCT((Teams2=U46)*(Teams1_Score))","v":2},{"$f":"Z46-AA46","v":2},{"$f":"3*W46+X46","v":6},null,null,"2018-07-01",2,{"$f":"IF(SUM(V15:V18)=0,\"1er Groupe B\",IF(COUNTIF(T15:T18,1)=1,VLOOKUP(1,T15:U18,2,FALSE),IF(COUNTIF(T15:T18,1)>=2,\"Tirage au Sort B1\")))","v":"Espagne"},{"$f":"AJ46*10+AL46","v":30},3,{"$f":"IF(AND(LEFT(AH46,3)<>\"1er\",LEFT(AH46,3)<>\"2nd\"),COUNTIF(RESULTATS!$AG$30:$AM$37,AH46),0)","v":0},null,null,{"$f":"IF(SUM(V9:V12)=0,\"2nd Groupe A\",IF(OR(COUNTIF(T9:T12,1)>1,COUNTIF(T9:T12,2)>1),\"Tirage au sort A2\",VLOOKUP(2,T9:U12,2,FALSE)))","v":"Russie"},0,0,{"$f":"IF(AND(LEFT(AN46,3)<>\"1er\",LEFT(AN46,3)<>\"2nd\"),COUNTIF(RESULTATS!$AG$30:$AM$37,AN46),0)","v":1}]
[null,{"$f":"VLOOKUP($D47,TABLEAU_MATCHS[#All],2,FALSE)","v":"2018-06-26"},{"$f":"VLOOKUP($D47,TABLEAU_MATCHS[#All],3,FALSE)","v":"20:00:00"},40,{"$f":"\"Groupe \"&VLOOKUP($I47,TABLEAU_TEAMS[[#All],[TEAM]:[GROUP_INITIAL_RANK]],2,FALSE)","v":"Groupe D"},6.5,3.7,1.44,{"$f":"VLOOKUP($D47,TABLEAU_MATCHS[#All],4,FALSE)","v":"Islande"},1,null,{"$f":"VLOOKUP($D47,TABLEAU_MATCHS[#All],5,FALSE)","v":"Croatie"},1,{"$f":"IF(OR(ISBLANK(RESULTATS!J47),ISBLANK(J47)),\"\",IF(AND(Alexandre!J47=RESULTATS!J47,Alexandre!M47=RESULTATS!M47),3,IF(OR(AND(Alexandre!J47>Alexandre!M47,RESULTATS!J47>RESULTATS!M47),AND(Alexandre!J47<Alexandre!M47,RESULTATS!J47<RESULTATS!M47),AND(Alexandre!J47=Alexandre!M47,RESULTATS!J47=RESULTATS!M47)),1,0)))","v":""},null,null,null,"02920Tunisie",2920,3,"Tunisie",{"$f":"SUMPRODUCT((Teams1=U47)*(Teams1_Score<>\"\"))+SUMPRODUCT((Teams2=U47)*(Teams2_Score<>\"\"))","v":3},{"$f":"SUMPRODUCT((Teams1=U47)*(Teams1_Score>Teams2_Score))+SUMPRODUCT((Teams2=U47)*(Teams2_Score>Teams1_Score))","v":1},{"$f":"SUMPRODUCT((Teams1=U47)*(Teams1_Score=Teams2_Score)*(Teams1_Score<>\"\"))+SUMPRODUCT((Teams2=U47)*(Teams2_Score=Teams1_Score)*(Teams2_Score<>\"\"))","v":0},{"$f":"SUMPRODUCT((Teams1=U47)*(Teams1_Score<Teams2_Score))+SUMPRODUCT((Teams2=U47)*(Teams2_Score<Teams1_Score))","v":2},{"$f":"SUMPRODUCT((Teams1=U47)*(Teams1_Score))+SUMPRODUCT((Teams2=U47)*(Teams2_Score))","v":2},{"$f":"SUMPRODUCT((Teams1=U47)*(Teams2_Score))+SUMPRODUCT((Teams2=U47)*(Teams1_Score))","v":3},{"$f":"Z47-AA47","v":-1},{"$f":"3*W47+X47","v":3},null,null,"2017-06-30",3,{"$f":"IF(SUM(V21:V24)=0,\"1er Groupe C\",IF(COUNTIF(T21:T24,1)=1,VLOOKUP(1,T21:U24,2,FALSE),IF(COUNTIF(T21:T24,1)>=2,\"Tirage au Sort C1\")))","v":"France"},10,1,{"$f":"IF(AND(LEFT(AH47,3)<>\"1er\",LEFT(AH47,3)<>\"2nd\"),COUNTIF(RESULTATS!$AG$30:$AM$37,AH47),0)","v":0},null,null,{"$f":"IF(SUM(V27:V30)=0,\"2nd Groupe D\",IF(OR(COUNTIF(T27:T30,1)>1,COUNTIF(T27:T30,2)>1),\"Tirage au sort D2\",VLOOKUP(2,T27:U30,2,FALSE)))","v":"Nigeria"},0,0,{"$f":"IF(AND(LEFT(AN47,3)<>\"1er\",LEFT(AN47,3)<>\"2nd\"),COUNTIF(RESULTATS!$AG$30:$AM$37,AN47),0)","v":0}]
[null,{"$f":"VLOOKUP($D48,TABLEAU_MATCHS[#All],2,FALSE)","v":"2018-06-27"},{"$f":"VLOOKUP($D48,TABLEAU_MATCHS[#All],3,FALSE)","v":"20:00:00"},41,{"$f":"\"Groupe \"&VLOOKUP($I48,TABLEAU_TEAMS[[#All],[TEAM]:[GROUP_INITIAL_RANK]],2,FALSE)","v":"Groupe E"},6.5,3.5,1.48,{"$f":"VLOOKUP($D48,TABLEAU_MATCHS[#All],4,FALSE)","v":"Serbie"},0,null,{"$f":"VLOOKUP($D48,TABLEAU_MATCHS[#All],5,FALSE)","v":"Brésil"},2,{"$f":"IF(OR(ISBLANK(RESULTATS!J48),ISBLANK(J48)),\"\",IF(AND(Alexandre!J48=RESULTATS!J48,Alexandre!M48=RESULTATS!M48),3,IF(OR(AND(Alexandre!J48>Alexandre!M48,RESULTATS!J48>RESULTATS!M48),AND(Alexandre!J48<Alexandre!M48,RESULTATS!J48<RESULTATS!M48),AND(Alexandre!J48=Alexandre!M48,RESULTATS!J48=RESULTATS!M48)),1,0)))","v":""},null,null,null,"-00380Panama",-380,4,"Panama",{"$f":"SUMPRODUCT((Teams1=U48)*(Teams1_Score<>\"\"))+SUMPRODUCT((Teams2=U48)*(Teams2_Score<>\"\"))","v":3},{"$f":"SUMPRODUCT((Teams1=U48)*(Teams1_Score>Teams2_Score))+SUMPRODUCT((Teams2=U48)*(Teams2_Score>Teams1_Score))","v":0},{"$f":"SUMPRODUCT((Teams1=U48)*(Teams1_Score=Teams2_Score)*(Teams1_Score<>\"\"))+SUMPRODUCT((Teams2=U48)*(Teams2_Score=Teams1_Score)*(Teams2_Score<>\"\"))","v":0},{"$f":"SUMPRODUCT((Teams1=U48)*(Teams1_Score<Teams2_Score))+SUMPRODUCT((Teams2=U48)*(Teams2_Score<Teams1_Score))","v":3},{"$f":"SUMPRODUCT((Teams1=U48)*(Teams1_Score))+SUMPRODUCT((Teams2=U48)*(Teams2_Score))","v":2},{"$f":"SUMPRODUCT((Teams1=U48)*(Teams2_Score))+SUMPRODUCT((Teams2=U48)*(Teams1_Score))","v":6},{"$f":"Z48-AA48","v":-4},{"$f":"3*W48+X48","v":0},null,null,"2018-07-01",4,{"$f":"IF(SUM(V27:V30)=0,\"1er Groupe D\",IF(COUNTIF(T27:T30,1)=1,VLOOKUP(1,T27:U30,2,FALSE),IF(COUNTIF(T27:T30,1)>=2,\"Tirage au Sort D1\")))","v":"Argentine"},20,2,{"$f":"IF(AND(LEFT(AH48,3)<>\"1er\",LEFT(AH48,3)<>\"2nd\"),COUNTIF(RESULTATS!$AG$30:$AM$37,AH48),0)","v":0},null,null,{"$f":"IF(SUM(V21:V24)=0,\"2nd Groupe C\",IF(OR(COUNTIF(T21:T24,1)>1,COUNTIF(T21:T24,2)>1),\"Tirage au sort C2\",VLOOKUP(2,T21:U24,2,FALSE)))","v":"Danemark"},10,1,{"$f":"IF(AND(LEFT(AN48,3)<>\"1er\",LEFT(AN48,3)<>\"2nd\"),COUNTIF(RESULTATS!$AG$30:$AM$37,AN48),0)","v":0}]
[null,{"$f":"VLOOKUP($D49,TABLEAU_MATCHS[#All],2,FALSE)","v":"2018-06-27"},{"$f":"VLOOKUP($D49,TABLEAU_MATCHS[#All],3,FALSE)","v":"20:00:00"},42,{"$f":"\"Groupe \"&VLOOKUP($I49,TABLEAU_TEAMS[[#All],[TEAM]:[GROUP_INITIAL_RANK]],2,FALSE)","v":"Groupe E"},4,3.05,1.9,{"$f":"VLOOKUP($D49,TABLEAU_MATCHS[#All],4,FALSE)","v":"Suisse"},1,null,{"$f":"VLOOKUP($D49,TABLEAU_MATCHS[#All],5,FALSE)","v":"Costa Rica"},1,{"$f":"IF(OR(ISBLANK(RESULTATS!J49),ISBLANK(J49)),\"\",IF(AND(Alexandre!J49=RESULTATS!J49,Alexandre!M49=RESULTATS!M49),3,IF(OR(AND(Alexandre!J49>Alexandre!M49,RESULTATS!J49>RESULTATS!M49),AND(Alexandre!J49<Alexandre!M49,RESULTATS!J49<RESULTATS!M49),AND(Alexandre!J49=Alexandre!M49,RESULTATS!J49=RESULTATS!M49)),1,0)))","v":""},null,null,null,null,null,null,null,null,null,null,null,null,null,null,null,null,null,"2018-07-02",5,{"$f":"IF(SUM(V33:V36)=0,\"1er Groupe E\",IF(COUNTIF(T33:T36,1)=1,VLOOKUP(1,T33:U36,2,FALSE),IF(COUNTIF(T33:T36,1)>=2,\"Tirage au Sort E1\")))","v":"Brésil"},30,3,{"$f":"IF(AND(LEFT(AH49,3)<>\"1er\",LEFT(AH49,3)<>\"2nd\"),COUNTIF(RESULTATS!$AG$30:$AM$37,AH49),0)","v":0},null,null,{"$f":"IF(SUM(V39:V42)=0,\"2nd Groupe F\",IF(OR(COUNTIF(T39:T42,1)>1,COUNTIF(T39:T42,2)>1),\"Tirage au sort F2\",VLOOKUP(2,T39:U42,2,FALSE)))","v":"Suède"},10,1,{"$f":"IF(AND(LEFT(AN49,3)<>\"1er\",LEFT(AN49,3)<>\"2nd\"),COUNTIF(RESULTATS!$AG$30:$AM$37,AN49),0)","v":0}]
[null,{"$f":"VLOOKUP($D50,TABLEAU_MATCHS[#All],2,FALSE)","v":"2018-06-27"},{"$f":"VLOOKUP($D50,TABLEAU_MATCHS[#All],3,FALSE)","v":"16:00:00"},43,{"$f":"\"Groupe \"&VLOOKUP($I50,TABLEAU_TEAMS[[#All],[TEAM]:[GROUP_INITIAL_RANK]],2,FALSE)","v":"Groupe F"},8.5,4.3,1.3,{"$f":"VLOOKUP($D50,TABLEAU_MATCHS[#All],4,FALSE)","v":"Mexique"},1,null,{"$f":"VLOOKUP($D50,TABLEAU_MATCHS[#All],5,FALSE)","v":"Suède"},1,{"$f":"IF(OR(ISBLANK(RESULTATS!J50),ISBLANK(J50)),\"\",IF(AND(Alexandre!J50=RESULTATS!J50,Alexandre!M50=RESULTATS!M50),3,IF(OR(AND(Alexandre!J50>Alexandre!M50,RESULTATS!J50>RESULTATS!M50),AND(Alexandre!J50<Alexandre!M50,RESULTATS!J50<RESULTATS!M50),AND(Alexandre!J50=Alexandre!M50,RESULTATS!J50=RESULTATS!M50)),1,0)))","v":""},null,null,null,null,null,"Rg","Groupe H","MJ","G","N","P","BP","BC","+/-","Pts",null,null,"2018-07-03",6,{"$f":"IF(SUM(V39:V42)=0,\"1er Groupe F\",IF(COUNTIF(T39:T42,1)=1,VLOOKUP(1,T39:U42,2,FALSE),IF(COUNTIF(T39:T42,1)>=2,\"Tirage au Sort F1\")))","v":"Allemagne"},10,1,{"$f":"IF(AND(LEFT(AH50,3)<>\"1er\",LEFT(AH50,3)<>\"2nd\"),COUNTIF(RESULTATS!$AG$30:$AM$37,AH50),0)","v":0},null,null,{"$f":"IF(SUM(V33:V36)=0,\"2nd Groupe E\",IF(OR(COUNTIF(T33:T36,1)>1,COUNTIF(T33:T36,2)>1),\"Tirage au sort E2\",VLOOKUP(2,T33:U36,2,FALSE)))","v":"Suisse"},0,0,{"$f":"IF(AND(LEFT(AN50,3)<>\"1er\",LEFT(AN50,3)<>\"2nd\"),COUNTIF(RESULTATS!$AG$30:$AM$37,AN50),0)","v":0}]
[null,{"$f":"VLOOKUP($D51,TABLEAU_MATCHS[#All],2,FALSE)","v":"2018-06-27"},{"$f":"VLOOKUP($D51,TABLEAU_MATCHS[#All],3,FALSE)","v":"16:00:00"},44,{"$f":"\"Groupe \"&VLOOKUP($I51,TABLEAU_TEAMS[[#All],[TEAM]:[GROUP_INITIAL_RANK]],2,FALSE)","v":"Groupe F"},1.48,3.6,6.25,{"$f":"VLOOKUP($D51,TABLEAU_MATCHS[#All],4,FALSE)","v":"République de Corée"},0,null,{"$f":"VLOOKUP($D51,TABLEAU_MATCHS[#All],5,FALSE)","v":"Allemagne"},3,{"$f":"IF(OR(ISBLANK(RESULTATS!J51),ISBLANK(J51)),\"\",IF(AND(Alexandre!J51=RESULTATS!J51,Alexandre!M51=RESULTATS!M51),3,IF(OR(AND(Alexandre!J51>Alexandre!M51,RESULTATS!J51>RESULTATS!M51),AND(Alexandre!J51<Alexandre!M51,RESULTATS!J51<RESULTATS!M51),AND(Alexandre!J51=Alexandre!M51,RESULTATS!J51=RESULTATS!M51)),1,0)))","v":""},null,null,null,{"$f":"INDEX($R102:$R105,MATCH(SMALL(COUNTIF($R102:$R105,\">=\"&$R102:$R105),ROW(INDIRECT(\"1:\"&ROWS($R102:$R105)))),COUNTIF($R102:$R105,\">=\"&$R102:$R105),0))","v":"09340Sénégal"},{"$f":"INDEX($S102:$S105,MATCH(SMALL(COUNTIF($R102:$R105,\">=\"&$R102:$R105),ROW(INDIRECT(\"1:\"&ROWS($R102:$R105)))),COUNTIF($R102:$R105,\">=\"&$R102:$R105),0))","v":9340},{"$f":"INDEX($T102:$T105,MATCH(SMALL(COUNTIF($R102:$R105,\">=\"&$R102:$R105),ROW(INDIRECT(\"1:\"&ROWS($R102:$R105)))),COUNTIF($R102:$R105,\">=\"&$R102:$R105),0))","v":1},{"$f":"INDEX($U102:$U105,MATCH(SMALL(COUNTIF($R102:$R105,\">=\"&$R102:$R105),ROW(INDIRECT(\"1:\"&ROWS($R102:$R105)))),COUNTIF($R102:$R105,\">=\"&$R102:$R105),0))","v":"Sénégal"},{"$f":"SUMPRODUCT((Teams1=U51)*(Teams1_Score<>\"\"))+SUMPRODUCT((Teams2=U51)*(Teams2_Score<>\"\"))","v":3},{"$f":"SUMPRODUCT((Teams1=U51)*(Teams1_Score>Teams2_Score))+SUMPRODUCT((Teams2=U51)*(Teams2_Score>Teams1_Score))","v":3},{"$f":"SUMPRODUCT((Teams1=U51)*(Teams1_Score=Teams2_Score)*(Teams1_Score<>\"\"))+SUMPRODUCT((Teams2=U51)*(Teams2_Score=Teams1_Score)*(Teams2_Score<>\"\"))","v":0},{"$f":"SUMPRODUCT((Teams1=U51)*(Teams1_Score<Teams2_Score))+SUMPRODUCT((Teams2=U51)*(Teams2_Score<Teams1_Score))","v":0},{"$f":"SUMPRODUCT((Teams1=U51)*(Teams1_Score))+SUMPRODUCT((Teams2=U51)*(Teams2_Score))","v":4},{"$f":"SUMPRODUCT((Teams1=U51)*(Teams2_Score))+SUMPRODUCT((Teams2=U51)*(Teams1_Score))","v":1},{"$f":"Z51-AA51","v":3},{"$f":"3*W51+X51","v":9},null,null,"2018-07-02",7,{"$f":"IF(SUM(V45:V48)=0,\"1er Groupe G\",IF(COUNTIF(T45:T48,1)=1,VLOOKUP(1,T45:U48,2,FALSE),IF(COUNTIF(T45:T48,1)>=2,\"Tirage au Sort G1\")))","v":"Belgique"},25,2,{"$f":"IF(AND(LEFT(AH51,3)<>\"1er\",LEFT(AH51,3)<>\"2nd\"),COUNTIF(RESULTATS!$AG$30:$AM$37,AH51),0)","v":0},5,null,{"$f":"IF(SUM(V51:V54)=0,\"2nd Groupe H\",IF(OR(COUNTIF(T51:T54,1)>1,COUNTIF(T51:T54,2)>1),\"Tirage au sort H2\",VLOOKUP(2,T51:U54,2,FALSE)))","v":"Colombie"},26,2,{"$f":"IF(AND(LEFT(AN51,3)<>\"1er\",LEFT(AN51,3)<>\"2nd\"),COUNTIF(RESULTATS!$AG$30:$AM$37,AN51),0)","v":0},6]
[null,{"$f":"VLOOKUP($D52,TABLEAU_MATCHS[#All],2,FALSE)","v":"2018-06-28"},{"$f":"VLOOKUP($D52,TABLEAU_MATCHS[#All],3,FALSE)","v":"20:00:00"},45,{"$f":"\"Groupe \"&VLOOKUP($I52,TABLEAU_TEAMS[[#All],[TEAM]:[GROUP_INITIAL_RANK]],2,FALSE)","v":"Groupe G"},8,4.2,1.32,{"$f":"VLOOKUP($D52,TABLEAU_MATCHS[#All],4,FALSE)","v":"Panama"},1,null,{"$f":"VLOOKUP($D52,TABLEAU_MATCHS[#All],5,FALSE)","v":"Tunisie"},2,{"$f":"IF(OR(ISBLANK(RESULTATS!J52),ISBLANK(J52)),\"\",IF(AND(Alexandre!J52=RESULTATS!J52,Alexandre!M52=RESULTATS!M52),3,IF(OR(AND(Alexandre!J52>Alexandre!M52,RESULTATS!J52>RESULTATS!M52),AND(Alexandre!J52<Alexandre!M52,RESULTATS!J52<RESULTATS!M52),AND(Alexandre!J52=Alexandre!M52,RESULTATS!J52=RESULTATS!M52)),1,0)))","v":""},null,null,null,"06350Colombie",6350,2,"Colombie",{"$f":"SUMPRODUCT((Teams1=U52)*(Teams1_Score<>\"\"))+SUMPRODUCT((Teams2=U52)*(Teams2_Score<>\"\"))","v":3},{"$f":"SUMPRODUCT((Teams1=U52)*(Teams1_Score>Teams2_Score))+SUMPRODUCT((Teams2=U52)*(Teams2_Score>Teams1_Score))","v":2},{"$f":"SUMPRODUCT((Teams1=U52)*(Teams1_Score=Teams2_Score)*(Teams1_Score<>\"\"))+SUMPRODUCT((Teams2=U52)*(Teams2_Score=Teams1_Score)*(Teams2_Score<>\"\"))","v":0},{"$f":"SUMPRODUCT((Teams1=U52)*(Teams1_Score<Teams2_Score))+SUMPRODUCT((Teams2=U52)*(Teams2_Score<Teams1_Score))","v":1},{"$f":"SUMPRODUCT((Teams1=U52)*(Teams1_Score))+SUMPRODUCT((Teams2=U52)*(Teams2_Score))","v":5},{"$f":"SUMPRODUCT((Teams1=U52)*(Teams2_Score))+SUMPRODUCT((Teams2=U52)*(Teams1_Score))","v":2},{"$f":"Z52-AA52","v":3},{"$f":"3*W52+X52","v":6},null,null,"2018-07-03",8,{"$f":"IF(SUM(V51:V54)=0,\"1er Groupe H\",IF(COUNTIF(T51:T54,1)=1,VLOOKUP(1,T51:U54,2,FALSE),IF(COUNTIF(T51:T54,1)>=2,\"Tirage au Sort H1\")))","v":"Sénégal"},10,1,{"$f":"IF(AND(LEFT(AH52,3)<>\"1er\",LEFT(AH52,3)<>\"2nd\"),COUNTIF(RESULTATS!$AG$30:$AM$37,AH52),0)","v":0},null,null,{"$f":"IF(SUM(V45:V48)=0,\"2nd Groupe G\",IF(OR(COUNTIF(T45:T48,1)>1,COUNTIF(T45:T48,2)>1),\"Tirage au sort G2\",VLOOKUP(2,T45:U48,2,FALSE)))","v":"Angleterre"},0,0,{"$f":"IF(AND(LEFT(AN52,3)<>\"1er\",LEFT(AN52,3)<>\"2nd\"),COUNTIF(RESULTATS!$AG$30:$AM$37,AN52),0)","v":0}]
[null,{"$f":"VLOOKUP($D53,TABLEAU_MATCHS[#All],2,FALSE)","v":"2018-06-28"},{"$f":"VLOOKUP($D53,TABLEAU_MATCHS[#All],3,FALSE)","v":"20:00:00"},46,{"$f":"\"Groupe \"&VLOOKUP($I53,TABLEAU_TEAMS[[#All],[TEAM]:[GROUP_INITIAL_RANK]],2,FALSE)","v":"Groupe G"},1.74,3.2,4.0999999999999996,{"$f":"VLOOKUP($D53,TABLEAU_MATCHS[#All],4,FALSE)","v":"Angleterre"},1,null,{"$f":"VLOOKUP($D53,TABLEAU_MATCHS[#All],5,FALSE)","v":"Belgique"},2,{"$f":"IF(OR(ISBLANK(RESULTATS!J53),ISBLANK(J53)),\"\",IF(AND(Alexandre!J53=RESULTATS!J53,Alexandre!M53=RESULTATS!M53),3,IF(OR(AND(Alexandre!J53>Alexandre!M53,RESULTATS!J53>RESULTATS!M53),AND(Alexandre!J53<Alexandre!M53,RESULTATS!J53<RESULTATS!M53),AND(Alexandre!J53=Alexandre!M53,RESULTATS!J53=RESULTATS!M53)),1,0)))","v":""},null,null,null,"02830Pologne",2830,3,"Pologne",{"$f":"SUMPRODUCT((Teams1=U53)*(Teams1_Score<>\"\"))+SUMPRODUCT((Teams2=U53)*(Teams2_Score<>\"\"))","v":3},{"$f":"SUMPRODUCT((Teams1=U53)*(Teams1_Score>Teams2_Score))+SUMPRODUCT((Teams2=U53)*(Teams2_Score>Teams1_Score))","v":1},{"$f":"SUMPRODUCT((Teams1=U53)*(Teams1_Score=Teams2_Score)*(Teams1_Score<>\"\"))+SUMPRODUCT((Teams2=U53)*(Teams2_Score=Teams1_Score)*(Teams2_Score<>\"\"))","v":0},{"$f":"SUMPRODUCT((Teams1=U53)*(Teams1_Score<Teams2_Score))+SUMPRODUCT((Teams2=U53)*(Teams2_Score<Teams1_Score))","v":2},{"$f":"SUMPRODUCT((Teams1=U53)*(Teams1_Score))+SUMPRODUCT((Teams2=U53)*(Teams2_Score))","v":3},{"$f":"SUMPRODUCT((Teams1=U53)*(Teams2_Score))+SUMPRODUCT((Teams2=U53)*(Teams1_Score))","v":5},{"$f":"Z53-AA53","v":-2},{"$f":"3*W53+X53","v":3},null,null,null,null,null,null,null,{"$f":"SUM(AK45:AK52)","v":1},null,null,null,0,null,{"$f":"SUM(AQ45:AQ52)","v":1}]
[null,{"$f":"VLOOKUP($D54,TABLEAU_MATCHS[#All],2,FALSE)","v":"2018-06-28"},{"$f":"VLOOKUP($D54,TABLEAU_MATCHS[#All],3,FALSE)","v":"16:00:00"},47,{"$f":"\"Groupe \"&VLOOKUP($I54,TABLEAU_TEAMS[[#All],[TEAM]:[GROUP_INITIAL_RANK]],2,FALSE)","v":"Groupe H"},4.9000000000000004,3.25,1.62,{"$f":"VLOOKUP($D54,TABLEAU_MATCHS[#All],4,FALSE)","v":"Japon"},0,null,{"$f":"VLOOKUP($D54,TABLEAU_MATCHS[#All],5,FALSE)","v":"Pologne"},1,{"$f":"IF(OR(ISBLANK(RESULTATS!J54),ISBLANK(J54)),\"\",IF(AND(Alexandre!J54=RESULTATS!J54,Alexandre!M54=RESULTATS!M54),3,IF(OR(AND(Alexandre!J54>Alexandre!M54,RESULTATS!J54>RESULTATS!M54),AND(Alexandre!J54<Alexandre!M54,RESULTATS!J54<RESULTATS!M54),AND(Alexandre!J54=Alexandre!M54,RESULTATS!J54=RESULTATS!M54)),1,0)))","v":""},null,null,null,"-00400Japon",-400,4,"Japon",{"$f":"SUMPRODUCT((Teams1=U54)*(Teams1_Score<>\"\"))+SUMPRODUCT((Teams2=U54)*(Teams2_Score<>\"\"))","v":3},{"$f":"SUMPRODUCT((Teams1=U54)*(Teams1_Score>Teams2_Score))+SUMPRODUCT((Teams2=U54)*(Teams2_Score>Teams1_Score))","v":0},{"$f":"SUMPRODUCT((Teams1=U54)*(Teams1_Score=Teams2_Score)*(Teams1_Score<>\"\"))+SUMPRODUCT((Teams2=U54)*(Teams2_Score=Teams1_Score)*(Teams2_Score<>\"\"))","v":0},{"$f":"SUMPRODUCT((Teams1=U54)*(Teams1_Score<Teams2_Score))+SUMPRODUCT((Teams2=U54)*(Teams2_Score<Teams1_Score))","v":3},{"$f":"SUMPRODUCT((Teams1=U54)*(Teams1_Score))+SUMPRODUCT((Teams2=U54)*(Teams2_Score))","v":0},{"$f":"SUMPRODUCT((Teams1=U54)*(Teams2_Score))+SUMPRODUCT((Teams2=U54)*(Teams1_Score))","v":4},{"$f":"Z54-AA54","v":-4},{"$f":"3*W54+X54","v":0}]
[null,{"$f":"VLOOKUP($D55,TABLEAU_MATCHS[#All],2,FALSE)","v":"2018-06-28"},{"$f":"VLOOKUP($D55,TABLEAU_MATCHS[#All],3,FALSE)","v":"16:00:00"},48,{"$f":"\"Groupe \"&VLOOKUP($I55,TABLEAU_TEAMS[[#All],[TEAM]:[GROUP_INITIAL_RANK]],2,FALSE)","v":"Groupe H"},6,3.4,1.52,{"$f":"VLOOKUP($D55,TABLEAU_MATCHS[#All],4,FALSE)","v":"Sénégal"},1,null,{"$f":"VLOOKUP($D55,TABLEAU_MATCHS[#All],5,FALSE)","v":"Colombie"},0,{"$f":"IF(OR(ISBLANK(RESULTATS!J55),ISBLANK(J55)),\"\",IF(AND(Alexandre!J55=RESULTATS!J55,Alexandre!M55=RESULTATS!M55),3,IF(OR(AND(Alexandre!J55>Alexandre!M55,RESULTATS!J55>RESULTATS!M55),AND(Alexandre!J55<Alexandre!M55,RESULTATS!J55<RESULTATS!M55),AND(Alexandre!J55=Alexandre!M55,RESULTATS!J55=RESULTATS!M55)),1,0)))","v":""}]
[null,null,null,null,null,null,null,null,null,null,null,null,null,{"$f":"SUM(N8:N55)","v":2}]
[]
[]
[null,"Tirage au sort A1",null,null,null,null,null,null,null,null,null,null,null,null,null,null,null,null,null,"Rg","Groupe A","MJ","G","N","P","BP","BC","+/-","Pts"]
[null,{"$f":"IF(ROWS($1:1)<=COUNTIF($T$9:$T$12,1),INDEX($U$9:$U$12,SMALL(IF($T$9:$T$12=1,ROW(INDIRECT(\"1:\"&ROWS($T$9:$T$12)))),ROWS($1:1))),\"\")","v":"Uruguay"},null,null,null,null,null,null,null,null,null,null,null,null,null,null,"A_1",{"$f":"TEXT(S60,\"00000\")&U60","v":"07340Russie"},{"$f":"AC60*1000+AB60*100+Z60*10","v":7340},{"$f":"RANK(S60,$S60:$S64,0)","v":2},{"$f":"VLOOKUP(Q60,TABLEAU_TEAMS[#All],2,FALSE)","v":"Russie"},{"$f":"SUMPRODUCT((Teams1=U60)*(Teams1_Score<>\"\"))+SUMPRODUCT((Teams2=U60)*(Teams2_Score<>\"\"))","v":3},{"$f":"SUMPRODUCT((Teams1=U60)*(Teams1_Score>Teams2_Score))+SUMPRODUCT((Teams2=U60)*(Teams2_Score>Teams1_Score))","v":2},{"$f":"SUMPRODUCT((Teams1=U60)*(Teams1_Score=Teams2_Score)*(Teams1_Score<>\"\"))+SUMPRODUCT((Teams2=U60)*(Teams2_Score=Teams1_Score)*(Teams2_Score<>\"\"))","v":1},{"$f":"SUMPRODUCT((Teams1=U60)*(Teams1_Score<Teams2_Score))+SUMPRODUCT((Teams2=U60)*(Teams2_Score<Teams1_Score))","v":0},{"$f":"SUMPRODUCT((Teams1=U60)*(Teams1_Score))+SUMPRODUCT((Teams2=U60)*(Teams2_Score))","v":4},{"$f":"SUMPRODUCT((Teams1=U60)*(Teams2_Score))+SUMPRODUCT((Teams2=U60)*(Teams1_Score))","v":1},{"$f":"Z60-AA60","v":3},{"$f":"3*W60+X60","v":7}]
[null,{"$f":"IF(ROWS($1:2)<=COUNTIF($T$9:$T$12,1),INDEX($U$9:$U$12,SMALL(IF($T$9:$T$12=1,ROW(INDIRECT(\"1:\"&ROWS($T$9:$T$12)))),ROWS($1:2))),\"\")","v":""},null,null,null,null,null,null,null,null,null,null,null,null,null,null,"A_2",{"$f":"TEXT(S61,\"00000\")&U61","v":"00600Arabie Saoudite"},{"$f":"AC61*1000+AB61*100+Z61*10","v":600},{"$f":"RANK(S61,$S60:$S64,0)","v":4},{"$f":"VLOOKUP(Q61,TABLEAU_TEAMS[#All],2,FALSE)","v":"Arabie Saoudite"},{"$f":"SUMPRODUCT((Teams1=U61)*(Teams1_Score<>\"\"))+SUMPRODUCT((Teams2=U61)*(Teams2_Score<>\"\"))","v":3},{"$f":"SUMPRODUCT((Teams1=U61)*(Teams1_Score>Teams2_Score))+SUMPRODUCT((Teams2=U61)*(Teams2_Score>Teams1_Score))","v":0},{"$f":"SUMPRODUCT((Teams1=U61)*(Teams1_Score=Teams2_Score)*(Teams1_Score<>\"\"))+SUMPRODUCT((Teams2=U61)*(Teams2_Score=Teams1_Score)*(Teams2_Score<>\"\"))","v":1},{"$f":"SUMPRODUCT((Teams1=U61)*(Teams1_Score<Teams2_Score))+SUMPRODUCT((Teams2=U61)*(Teams2_Score<Teams1_Score))","v":2},{"$f":"SUMPRODUCT((Teams1=U61)*(Teams1_Score))+SUMPRODUCT((Teams2=U61)*(Teams2_Score))","v":0},{"$f":"SUMPRODUCT((Teams1=U61)*(Teams2_Score))+SUMPRODUCT((Teams2=U61)*(Teams1_Score))","v":4},{"$f":"Z61-AA61","v":-4},{"$f":"3*W61+X61","v":1}]
[null,{"$f":"IF(ROWS($1:3)<=COUNTIF($T$9:$T$12,1),INDEX($U$9:$U$12,SMALL(IF($T$9:$T$12=1,ROW(INDIRECT(\"1:\"&ROWS($T$9:$T$12)))),ROWS($1:3))),\"\")","v":""},null,null,null,null,null,null,null,null,null,null,null,null,null,null,"A_3",{"$f":"TEXT(S62,\"00000\")&U62","v":"00700Egypte"},{"$f":"AC62*1000+AB62*100+Z62*10","v":700},{"$f":"RANK(S62,$S60:$S64,0)","v":3},{"$f":"VLOOKUP(Q62,TABLEAU_TEAMS[#All],2,FALSE)","v":"Egypte"},{"$f":"SUMPRODUCT((Teams1=U62)*(Teams1_Score<>\"\"))+SUMPRODUCT((Teams2=U62)*(Teams2_Score<>\"\"))","v":3},{"$f":"SUMPRODUCT((Teams1=U62)*(Teams1_Score>Teams2_Score))+SUMPRODUCT((Teams2=U62)*(Teams2_Score>Teams1_Score))","v":0},{"$f":"SUMPRODUCT((Teams1=U62)*(Teams1_Score=Teams2_Score)*(Teams1_Score<>\"\"))+SUMPRODUCT((Teams2=U62)*(Teams2_Score=Teams1_Score)*(Teams2_Score<>\"\"))","v":1},{"$f":"SUMPRODUCT((Teams1=U62)*(Teams1_Score<Teams2_Score))+SUMPRODUCT((Teams2=U62)*(Teams2_Score<Teams1_Score))","v":2},{"$f":"SUMPRODUCT((Teams1=U62)*(Teams1_Score))+SUMPRODUCT((Teams2=U62)*(Teams2_Score))","v":0},{"$f":"SUMPRODUCT((Teams1=U62)*(Teams2_Score))+SUMPRODUCT((Teams2=U62)*(Teams1_Score))","v":3},{"$f":"Z62-AA62","v":-3},{"$f":"3*W62+X62","v":1}]
[null,{"$f":"IF(ROWS($1:4)<=COUNTIF($T$9:$T$12,1),INDEX($U$9:$U$12,SMALL(IF($T$9:$T$12=1,ROW(INDIRECT(\"1:\"&ROWS($T$9:$T$12)))),ROWS($1:4))),\"\")","v":""},null,null,null,null,null,null,null,null,null,null,null,null,null,null,"A_4",{"$f":"TEXT(S63,\"00000\")&U63","v":"07450Uruguay"},{"$f":"AC63*1000+AB63*100+Z63*10","v":7450},{"$f":"RANK(S63,$S60:$S64,0)","v":1},{"$f":"VLOOKUP(Q63,TABLEAU_TEAMS[#All],2,FALSE)","v":"Uruguay"},{"$f":"SUMPRODUCT((Teams1=U63)*(Teams1_Score<>\"\"))+SUMPRODUCT((Teams2=U63)*(Teams2_Score<>\"\"))","v":3},{"$f":"SUMPRODUCT((Teams1=U63)*(Teams1_Score>Teams2_Score))+SUMPRODUCT((Teams2=U63)*(Teams2_Score>Teams1_Score))","v":2},{"$f":"SUMPRODUCT((Teams1=U63)*(Teams1_Score=Teams2_Score)*(Teams1_Score<>\"\"))+SUMPRODUCT((Teams2=U63)*(Teams2_Score=Teams1_Score)*(Teams2_Score<>\"\"))","v":1},{"$f":"SUMPRODUCT((Teams1=U63)*(Teams1_Score<Teams2_Score))+SUMPRODUCT((Teams2=U63)*(Teams2_Score<Teams1_Score))","v":0},{"$f":"SUMPRODUCT((Teams1=U63)*(Teams1_Score))+SUMPRODUCT((Teams2=U63)*(Teams2_Score))","v":5},{"$f":"SUMPRODUCT((Teams1=U63)*(Teams2_Score))+SUMPRODUCT((Teams2=U63)*(Teams1_Score))","v":1},{"$f":"Z63-AA63","v":4},{"$f":"3*W63+X63","v":7}]
[null,"Tirage au sort A2"]
[null,{"$f":"IF(COUNTIF($T$9:$T$12,1)>1,IF(ROWS($1:1)<=COUNTIF($T$9:$T$12,1),INDEX($U$9:$U$12,SMALL(IF($T$9:$T$12=1,ROW(INDIRECT(\"1:\"&ROWS($T$9:$T$12)))),ROWS($1:1))),\"\"),IF(COUNTIF($T$9:$T$12,2)>1,IF(ROWS($1:1)<=COUNTIF($T$9:$T$12,2),INDEX($U$9:$U$12,SMALL(IF($T$9:$T$12=2,ROW(INDIRECT(\"1:\"&ROWS($T$9:$T$12)))),ROWS($1:1))),\"\")))","v":false},null,null,null,null,null,null,null,null,null,null,null,null,null,null,null,null,null,"Rg","Groupe B","MJ","G","N","P","BP","BC","Pts","Pts"]
[null,{"$f":"IF(COUNTIF($T$9:$T$12,1)>1,IF(ROWS($1:2)<=COUNTIF($T$9:$T$12,1),INDEX($U$9:$U$12,SMALL(IF($T$9:$T$12=1,ROW(INDIRECT(\"1:\"&ROWS($T$9:$T$12)))),ROWS($1:2))),\"\"),IF(COUNTIF($T$9:$T$12,2)>1,IF(ROWS($1:2)<=COUNTIF($T$9:$T$12,2),INDEX($U$9:$U$12,SMALL(IF($T$9:$T$12=2,ROW(INDIRECT(\"1:\"&ROWS($T$9:$T$12)))),ROWS($1:2))),\"\")))","v":false},null,null,null,null,null,null,null,null,null,null,null,null,null,null,"B_1",{"$f":"TEXT(S66,\"00000\")&U66","v":"02930Maroc"},{"$f":"AC66*1000+AB66*100+Z66*10","v":2930},{"$f":"RANK(S66,$S66:$S70,0)","v":3},{"$f":"VLOOKUP(Q66,TABLEAU_TEAMS[#All],2,FALSE)","v":"Maroc"},{"$f":"SUMPRODUCT((Teams1=U66)*(Teams1_Score<>\"\"))+SUMPRODUCT((Teams2=U66)*(Teams2_Score<>\"\"))","v":3},{"$f":"SUMPRODUCT((Teams1=U66)*(Teams1_Score>Teams2_Score))+SUMPRODUCT((Teams2=U66)*(Teams2_Score>Teams1_Score))","v":1},{"$f":"SUMPRODUCT((Teams1=U66)*(Teams1_Score=Teams2_Score)*(Teams1_Score<>\"\"))+SUMPRODUCT((Teams2=U66)*(Teams2_Score=Teams1_Score)*(Teams2_Score<>\"\"))","v":0},{"$f":"SUMPRODUCT((Teams1=U66)*(Teams1_Score<Teams2_Score))+SUMPRODUCT((Teams2=U66)*(Teams2_Score<Teams1_Score))","v":2},{"$f":"SUMPRODUCT((Teams1=U66)*(Teams1_Score))+SUMPRODUCT((Teams2=U66)*(Teams2_Score))","v":3},{"$f":"SUMPRODUCT((Teams1=U66)*(Teams2_Score))+SUMPRODUCT((Teams2=U66)*(Teams1_Score))","v":4},{"$f":"Z66-AA66","v":-1},{"$f":"3*W66+X66","v":3}]
[null,{"$f":"IF(COUNTIF($T$9:$T$12,1)>1,IF(ROWS($1:3)<=COUNTIF($T$9:$T$12,1),INDEX($U$9:$U$12,SMALL(IF($T$9:$T$12=1,ROW(INDIRECT(\"1:\"&ROWS($T$9:$T$12)))),ROWS($1:3))),\"\"),IF(COUNTIF($T$9:$T$12,2)>1,IF(ROWS($1:3)<=COUNTIF($T$9:$T$12,2),INDEX($U$9:$U$12,SMALL(IF($T$9:$T$12=2,ROW(INDIRECT(\"1:\"&ROWS($T$9:$T$12)))),ROWS($1:3))),\"\")))","v":false},null,null,null,null,null,null,null,null,null,null,null,null,null,null,"B_2",{"$f":"TEXT(S67,\"00000\")&U67","v":"-00700RI Iran"},{"$f":"AC67*1000+AB67*100+Z67*10","v":-700},{"$f":"RANK(S67,$S66:$S70,0)","v":4},{"$f":"VLOOKUP(Q67,TABLEAU_TEAMS[#All],2,FALSE)","v":"RI Iran"},{"$f":"SUMPRODUCT((Teams1=U67)*(Teams1_Score<>\"\"))+SUMPRODUCT((Teams2=U67)*(Teams2_Score<>\"\"))","v":3},{"$f":"SUMPRODUCT((Teams1=U67)*(Teams1_Score>Teams2_Score))+SUMPRODUCT((Teams2=U67)*(Teams2_Score>Teams1_Score))","v":0},{"$f":"SUMPRODUCT((Teams1=U67)*(Teams1_Score=Teams2_Score)*(Teams1_Score<>\"\"))+SUMPRODUCT((Teams2=U67)*(Teams2_Score=Teams1_Score)*(Teams2_Score<>\"\"))","v":0},{"$f":"SUMPRODUCT((Teams1=U67)*(Teams1_Score<Teams2_Score))+SUMPRODUCT((Teams2=U67)*(Teams2_Score<Teams1_Score))","v":3},{"$f":"SUMPRODUCT((Teams1=U67)*(Teams1_Score))+SUMPRODUCT((Teams2=U67)*(Teams2_Score))","v":0},{"$f":"SUMPRODUCT((Teams1=U67)*(Teams2_Score))+SUMPRODUCT((Teams2=U67)*(Teams1_Score))","v":7},{"$f":"Z67-AA67","v":-7},{"$f":"3*W67+X67","v":0}]
[null,{"$f":"IF(COUNTIF($T$9:$T$12,1)>1,IF(ROWS($1:4)<=COUNTIF($T$9:$T$12,1),INDEX($U$9:$U$12,SMALL(IF($T$9:$T$12=1,ROW(INDIRECT(\"1:\"&ROWS($T$9:$T$12)))),ROWS($1:4))),\"\"),IF(COUNTIF($T$9:$T$12,2)>1,IF(ROWS($1:4)<=COUNTIF($T$9:$T$12,2),INDEX($U$9:$U$12,SMALL(IF($T$9:$T$12=2,ROW(INDIRECT(\"1:\"&ROWS($T$9:$T$12)))),ROWS($1:4))),\"\")))","v":false},null,null,null,null,null,null,null,null,null,null,null,null,null,null,"B_3",{"$f":"TEXT(S68,\"00000\")&U68","v":"06350Portugal"},{"$f":"AC68*1000+AB68*100+Z68*10","v":6350},{"$f":"RANK(S68,$S66:$S70,0)","v":2},{"$f":"VLOOKUP(Q68,TABLEAU_TEAMS[#All],2,FALSE)","v":"Portugal"},{"$f":"SUMPRODUCT((Teams1=U68)*(Teams1_Score<>\"\"))+SUMPRODUCT((Teams2=U68)*(Teams2_Score<>\"\"))","v":3},{"$f":"SUMPRODUCT((Teams1=U68)*(Teams1_Score>Teams2_Score))+SUMPRODUCT((Teams2=U68)*(Teams2_Score>Teams1_Score))","v":2},{"$f":"SUMPRODUCT((Teams1=U68)*(Teams1_Score=Teams2_Score)*(Teams1_Score<>\"\"))+SUMPRODUCT((Teams2=U68)*(Teams2_Score=Teams1_Score)*(Teams2_Score<>\"\"))","v":0},{"$f":"SUMPRODUCT((Teams1=U68)*(Teams1_Score<Teams2_Score))+SUMPRODUCT((Teams2=U68)*(Teams2_Score<Teams1_Score))","v":1},{"$f":"SUMPRODUCT((Teams1=U68)*(Teams1_Score))+SUMPRODUCT((Teams2=U68)*(Teams2_Score))","v":5},{"$f":"SUMPRODUCT((Teams1=U68)*(Teams2_Score))+SUMPRODUCT((Teams2=U68)*(Teams1_Score))","v":2},{"$f":"Z68-AA68","v":3},{"$f":"3*W68+X68","v":6}]
[null,"Tirage au sort B1",null,null,null,null,null,null,null,null,null,null,null,null,null,null,"B_4",{"$f":"TEXT(S69,\"00000\")&U69","v":"09570Espagne"},{"$f":"AC69*1000+AB69*100+Z69*10","v":9570},{"$f":"RANK(S69,$S66:$S70,0)","v":1},{"$f":"VLOOKUP(Q69,TABLEAU_TEAMS[#All],2,FALSE)","v":"Espagne"},{"$f":"SUMPRODUCT((Teams1=U69)*(Teams1_Score<>\"\"))+SUMPRODUCT((Teams2=U69)*(Teams2_Score<>\"\"))","v":3},{"$f":"SUMPRODUCT((Teams1=U69)*(Teams1_Score>Teams2_Score))+SUMPRODUCT((Teams2=U69)*(Teams2_Score>Teams1_Score))","v":3},{"$f":"SUMPRODUCT((Teams1=U69)*(Teams1_Score=Teams2_Score)*(Teams1_Score<>\"\"))+SUMPRODUCT((Teams2=U69)*(Teams2_Score=Teams1_Score)*(Teams2_Score<>\"\"))","v":0},{"$f":"SUMPRODUCT((Teams1=U69)*(Teams1_Score<Teams2_Score))+SUMPRODUCT((Teams2=U69)*(Teams2_Score<Teams1_Score))","v":0},{"$f":"SUMPRODUCT((Teams1=U69)*(Teams1_Score))+SUMPRODUCT((Teams2=U69)*(Teams2_Score))","v":7},{"$f":"SUMPRODUCT((Teams1=U69)*(Teams2_Score))+SUMPRODUCT((Teams2=U69)*(Teams1_Score))","v":2},{"$f":"Z69-AA69","v":5},{"$f":"3*W69+X69","v":9}]
[null,{"$f":"IF(ROWS($1:1)<=COUNTIF($T$15:$T$18,1),INDEX($U$15:$U$18,SMALL(IF($T$15:$T$18=1,ROW(INDIRECT(\"1:\"&ROWS($T$15:$T$18)))),ROWS($1:1))),\"\")","v":"Espagne"}]
[null,{"$f":"IF(ROWS($1:2)<=COUNTIF($T$15:$T$18,1),INDEX($U$15:$U$18,SMALL(IF($T$15:$T$18=1,ROW(INDIRECT(\"1:\"&ROWS($T$15:$T$18)))),ROWS($1:2))),\"\")","v":""},null,null,null,null,null,null,null,null,null,null,null,null,null,null,null,null,null,"Rg","Groupe C","MJ","G","N","P","BP","BC","Pts","Pts"]
[null,{"$f":"IF(ROWS($1:3)<=COUNTIF($T$15:$T$18,1),INDEX($U$15:$U$18,SMALL(IF($T$15:$T$18=1,ROW(INDIRECT(\"1:\"&ROWS($T$15:$T$18)))),ROWS($1:3))),\"\")","v":""},null,null,null,null,null,null,null,null,null,null,null,null,null,null,"C_1",{"$f":"TEXT(S72,\"00000\")&U72","v":"09560France"},{"$f":"AC72*1000+AB72*100+Z72*10","v":9560},{"$f":"RANK(S72,$S72:$S76,0)","v":1},{"$f":"VLOOKUP(Q72,TABLEAU_TEAMS[#All],2,FALSE)","v":"France"},{"$f":"SUMPRODUCT((Teams1=U72)*(Teams1_Score<>\"\"))+SUMPRODUCT((Teams2=U72)*(Teams2_Score<>\"\"))","v":3},{"$f":"SUMPRODUCT((Teams1=U72)*(Teams1_Score>Teams2_Score))+SUMPRODUCT((Teams2=U72)*(Teams2_Score>Teams1_Score))","v":3},{"$f":"SUMPRODUCT((Teams1=U72)*(Teams1_Score=Teams2_Score)*(Teams1_Score<>\"\"))+SUMPRODUCT((Teams2=U72)*(Teams2_Score=Teams1_Score)*(Teams2_Score<>\"\"))","v":0},{"$f":"SUMPRODUCT((Teams1=U72)*(Teams1_Score<Teams2_Score))+SUMPRODUCT((Teams2=U72)*(Teams2_Score<Teams1_Score))","v":0},{"$f":"SUMPRODUCT((Teams1=U72)*(Teams1_Score))+SUMPRODUCT((Teams2=U72)*(Teams2_Score))","v":6},{"$f":"SUMPRODUCT((Teams1=U72)*(Teams2_Score))+SUMPRODUCT((Teams2=U72)*(Teams1_Score))","v":1},{"$f":"Z72-AA72","v":5},{"$f":"3*W72+X72","v":9}]
[null,{"$f":"IF(ROWS($1:4)<=COUNTIF($T$15:$T$18,1),INDEX($U$15:$U$18,SMALL(IF($T$15:$T$18=1,ROW(INDIRECT(\"1:\"&ROWS($T$15:$T$18)))),ROWS($1:4))),\"\")","v":""},null,null,null,null,null,null,null,null,null,null,null,null,null,null,"C_2",{"$f":"TEXT(S73,\"00000\")&U73","v":"-00390Australie"},{"$f":"AC73*1000+AB73*100+Z73*10","v":-390},{"$f":"RANK(S73,$S72:$S76,0)","v":4},{"$f":"VLOOKUP(Q73,TABLEAU_TEAMS[#All],2,FALSE)","v":"Australie"},{"$f":"SUMPRODUCT((Teams1=U73)*(Teams1_Score<>\"\"))+SUMPRODUCT((Teams2=U73)*(Teams2_Score<>\"\"))","v":3},{"$f":"SUMPRODUCT((Teams1=U73)*(Teams1_Score>Teams2_Score))+SUMPRODUCT((Teams2=U73)*(Teams2_Score>Teams1_Score))","v":0},{"$f":"SUMPRODUCT((Teams1=U73)*(Teams1_Score=Teams2_Score)*(Teams1_Score<>\"\"))+SUMPRODUCT((Teams2=U73)*(Teams2_Score=Teams1_Score)*(Teams2_Score<>\"\"))","v":0},{"$f":"SUMPRODUCT((Teams1=U73)*(Teams1_Score<Teams2_Score))+SUMPRODUCT((Teams2=U73)*(Teams2_Score<Teams1_Score))","v":3},{"$f":"SUMPRODUCT((Teams1=U73)*(Teams1_Score))+SUMPRODUCT((Teams2=U73)*(Teams2_Score))","v":1},{"$f":"SUMPRODUCT((Teams1=U73)*(Teams2_Score))+SUMPRODUCT((Teams2=U73)*(Teams1_Score))","v":5},{"$f":"Z73-AA73","v":-4},{"$f":"3*W73+X73","v":0}]
[null,"Tirage au sort B2",null,null,null,null,null,null,null,null,null,null,null,null,null,null,"C_3",{"$f":"TEXT(S74,\"00000\")&U74","v":"02820Pérou"},{"$f":"AC74*1000+AB74*100+Z74*10","v":2820},{"$f":"RANK(S74,$S72:$S76,0)","v":3},{"$f":"VLOOKUP(Q74,TABLEAU_TEAMS[#All],2,FALSE)","v":"Pérou"},{"$f":"SUMPRODUCT((Teams1=U74)*(Teams1_Score<>\"\"))+SUMPRODUCT((Teams2=U74)*(Teams2_Score<>\"\"))","v":3},{"$f":"SUMPRODUCT((Teams1=U74)*(Teams1_Score>Teams2_Score))+SUMPRODUCT((Teams2=U74)*(Teams2_Score>Teams1_Score))","v":1},{"$f":"SUMPRODUCT((Teams1=U74)*(Teams1_Score=Teams2_Score)*(Teams1_Score<>\"\"))+SUMPRODUCT((Teams2=U74)*(Teams2_Score=Teams1_Score)*(Teams2_Score<>\"\"))","v":0},{"$f":"SUMPRODUCT((Teams1=U74)*(Teams1_Score<Teams2_Score))+SUMPRODUCT((Teams2=U74)*(Teams2_Score<Teams1_Score))","v":2},{"$f":"SUMPRODUCT((Teams1=U74)*(Teams1_Score))+SUMPRODUCT((Teams2=U74)*(Teams2_Score))","v":2},{"$f":"SUMPRODUCT((Teams1=U74)*(Teams2_Score))+SUMPRODUCT((Teams2=U74)*(Teams1_Score))","v":4},{"$f":"Z74-AA74","v":-2},{"$f":"3*W74+X74","v":3}]
[null,{"$f":"IF(COUNTIF($T$15:$T$18,1)>1,IF(ROWS($1:1)<=COUNTIF($T$15:$T$18,1),INDEX($U$15:$U$18,SMALL(IF($T$15:$T$18=1,ROW(INDIRECT(\"1:\"&ROWS($T$15:$T$18)))),ROWS($1:1))),\"\"),IF(COUNTIF($T$15:$T$18,2)>1,IF(ROWS($1:1)<=COUNTIF($T$15:$T$18,2),INDEX($U$15:$U$18,SMALL(IF($T$15:$T$18=2,ROW(INDIRECT(\"1:\"&ROWS($T$15:$T$18)))),ROWS($1:1))),\"\")))","v":false},null,null,null,null,null,null,null,null,null,null,null,null,null,null,"C_4",{"$f":"TEXT(S75,\"00000\")&U75","v":"06150Danemark"},{"$f":"AC75*1000+AB75*100+Z75*10","v":6150},{"$f":"RANK(S75,$S72:$S76,0)","v":2},{"$f":"VLOOKUP(Q75,TABLEAU_TEAMS[#All],2,FALSE)","v":"Danemark"},{"$f":"SUMPRODUCT((Teams1=U75)*(Teams1_Score<>\"\"))+SUMPRODUCT((Teams2=U75)*(Teams2_Score<>\"\"))","v":3},{"$f":"SUMPRODUCT((Teams1=U75)*(Teams1_Score>Teams2_Score))+SUMPRODUCT((Teams2=U75)*(Teams2_Score>Teams1_Score))","v":2},{"$f":"SUMPRODUCT((Teams1=U75)*(Teams1_Score=Teams2_Score)*(Teams1_Score<>\"\"))+SUMPRODUCT((Teams2=U75)*(Teams2_Score=Teams1_Score)*(Teams2_Score<>\"\"))","v":0},{"$f":"SUMPRODUCT((Teams1=U75)*(Teams1_Score<Teams2_Score))+SUMPRODUCT((Teams2=U75)*(Teams2_Score<Teams1_Score))","v":1},{"$f":"SUMPRODUCT((Teams1=U75)*(Teams1_Score))+SUMPRODUCT((Teams2=U75)*(Teams2_Score))","v":5},{"$f":"SUMPRODUCT((Teams1=U75)*(Teams2_Score))+SUMPRODUCT((Teams2=U75)*(Teams1_Score))","v":4},{"$f":"Z75-AA75","v":1},{"$f":"3*W75+X75","v":6}]
[null,{"$f":"IF(COUNTIF($T$15:$T$18,1)>1,IF(ROWS($1:2)<=COUNTIF($T$15:$T$18,1),INDEX($U$15:$U$18,SMALL(IF($T$15:$T$18=1,ROW(INDIRECT(\"1:\"&ROWS($T$15:$T$18)))),ROWS($1:2))),\"\"),IF(COUNTIF($T$15:$T$18,2)>1,IF(ROWS($1:2)<=COUNTIF($T$15:$T$18,2),INDEX($U$15:$U$18,SMALL(IF($T$15:$T$18=2,ROW(INDIRECT(\"1:\"&ROWS($T$15:$T$18)))),ROWS($1:2))),\"\")))","v":false}]
[null,{"$f":"IF(COUNTIF($T$15:$T$18,1)>1,IF(ROWS($1:3)<=COUNTIF($T$15:$T$18,1),INDEX($U$15:$U$18,SMALL(IF($T$15:$T$18=1,ROW(INDIRECT(\"1:\"&ROWS($T$15:$T$18)))),ROWS($1:3))),\"\"),IF(COUNTIF($T$15:$T$18,2)>1,IF(ROWS($1:3)<=COUNTIF($T$15:$T$18,2),INDEX($U$15:$U$18,SMALL(IF($T$15:$T$18=2,ROW(INDIRECT(\"1:\"&ROWS($T$15:$T$18)))),ROWS($1:3))),\"\")))","v":false},null,null,null,null,null,null,null,null,null,null,null,null,null,null,null,null,null,"Rg","Groupe D","MJ","G","N","P","BP","BC","Pts","Pts"]
[null,{"$f":"IF(COUNTIF($T$15:$T$18,1)>1,IF(ROWS($1:4)<=COUNTIF($T$15:$T$18,1),INDEX($U$15:$U$18,SMALL(IF($T$15:$T$18=1,ROW(INDIRECT(\"1:\"&ROWS($T$15:$T$18)))),ROWS($1:4))),\"\"),IF(COUNTIF($T$15:$T$18,2)>1,IF(ROWS($1:4)<=COUNTIF($T$15:$T$18,2),INDEX($U$15:$U$18,SMALL(IF($T$15:$T$18=2,ROW(INDIRECT(\"1:\"&ROWS($T$15:$T$18)))),ROWS($1:4))),\"\")))","v":false},null,null,null,null,null,null,null,null,null,null,null,null,null,null,"D_1",{"$f":"TEXT(S78,\"00000\")&U78","v":"09670Argentine"},{"$f":"AC78*1000+AB78*100+Z78*10","v":9670},{"$f":"RANK(S78,$S78:$S82,0)","v":1},{"$f":"VLOOKUP(Q78,TABLEAU_TEAMS[#All],2,FALSE)","v":"Argentine"},{"$f":"SUMPRODUCT((Teams1=U78)*(Teams1_Score<>\"\"))+SUMPRODUCT((Teams2=U78)*(Teams2_Score<>\"\"))","v":3},{"$f":"SUMPRODUCT((Teams1=U78)*(Teams1_Score>Teams2_Score))+SUMPRODUCT((Teams2=U78)*(Teams2_Score>Teams1_Score))","v":3},{"$f":"SUMPRODUCT((Teams1=U78)*(Teams1_Score=Teams2_Score)*(Teams1_Score<>\"\"))+SUMPRODUCT((Teams2=U78)*(Teams2_Score=Teams1_Score)*(Teams2_Score<>\"\"))","v":0},{"$f":"SUMPRODUCT((Teams1=U78)*(Teams1_Score<Teams2_Score))+SUMPRODUCT((Teams2=U78)*(Teams2_Score<Teams1_Score))","v":0},{"$f":"SUMPRODUCT((Teams1=U78)*(Teams1_Score))+SUMPRODUCT((Teams2=U78)*(Teams2_Score))","v":7},{"$f":"SUMPRODUCT((Teams1=U78)*(Teams2_Score))+SUMPRODUCT((Teams2=U78)*(Teams1_Score))","v":1},{"$f":"Z78-AA78","v":6},{"$f":"3*W78+X78","v":9}]
[null,"Tirage au sort C1",null,null,null,null,null,null,null,null,null,null,null,null,null,null,"D_2",{"$f":"TEXT(S79,\"00000\")&U79","v":"00510Islande"},{"$f":"AC79*1000+AB79*100+Z79*10","v":510},{"$f":"RANK(S79,$S78:$S82,0)","v":4},{"$f":"VLOOKUP(Q79,TABLEAU_TEAMS[#All],2,FALSE)","v":"Islande"},{"$f":"SUMPRODUCT((Teams1=U79)*(Teams1_Score<>\"\"))+SUMPRODUCT((Teams2=U79)*(Teams2_Score<>\"\"))","v":3},{"$f":"SUMPRODUCT((Teams1=U79)*(Teams1_Score>Teams2_Score))+SUMPRODUCT((Teams2=U79)*(Teams2_Score>Teams1_Score))","v":0},{"$f":"SUMPRODUCT((Teams1=U79)*(Teams1_Score=Teams2_Score)*(Teams1_Score<>\"\"))+SUMPRODUCT((Teams2=U79)*(Teams2_Score=Teams1_Score)*(Teams2_Score<>\"\"))","v":1},{"$f":"SUMPRODUCT((Teams1=U79)*(Teams1_Score<Teams2_Score))+SUMPRODUCT((Teams2=U79)*(Teams2_Score<Teams1_Score))","v":2},{"$f":"SUMPRODUCT((Teams1=U79)*(Teams1_Score))+SUMPRODUCT((Teams2=U79)*(Teams2_Score))","v":1},{"$f":"SUMPRODUCT((Teams1=U79)*(Teams2_Score))+SUMPRODUCT((Teams2=U79)*(Teams1_Score))","v":6},{"$f":"Z79-AA79","v":-5},{"$f":"3*W79+X79","v":1}]
[null,{"$f":"IF(ROWS($1:1)<=COUNTIF($T$21:$T$24,1),INDEX($U$21:$U$24,SMALL(IF($T$21:$T$24=1,ROW(INDIRECT(\"1:\"&ROWS($T$21:$T$24)))),ROWS($1:1))),\"\")","v":"France"},null,null,null,null,null,null,null,null,null,null,null,null,null,null,"D_3",{"$f":"TEXT(S80,\"00000\")&U80","v":"01930Croatie"},{"$f":"AC80*1000+AB80*100+Z80*10","v":1930},{"$f":"RANK(S80,$S78:$S82,0)","v":3},{"$f":"VLOOKUP(Q80,TABLEAU_TEAMS[#All],2,FALSE)","v":"Croatie"},{"$f":"SUMPRODUCT((Teams1=U80)*(Teams1_Score<>\"\"))+SUMPRODUCT((Teams2=U80)*(Teams2_Score<>\"\"))","v":3},{"$f":"SUMPRODUCT((Teams1=U80)*(Teams1_Score>Teams2_Score))+SUMPRODUCT((Teams2=U80)*(Teams2_Score>Teams1_Score))","v":0},{"$f":"SUMPRODUCT((Teams1=U80)*(Teams1_Score=Teams2_Score)*(Teams1_Score<>\"\"))+SUMPRODUCT((Teams2=U80)*(Teams2_Score=Teams1_Score)*(Teams2_Score<>\"\"))","v":2},{"$f":"SUMPRODUCT((Teams1=U80)*(Teams1_Score<Teams2_Score))+SUMPRODUCT((Teams2=U80)*(Teams2_Score<Teams1_Score))","v":1},{"$f":"SUMPRODUCT((Teams1=U80)*(Teams1_Score))+SUMPRODUCT((Teams2=U80)*(Teams2_Score))","v":3},{"$f":"SUMPRODUCT((Teams1=U80)*(Teams2_Score))+SUMPRODUCT((Teams2=U80)*(Teams1_Score))","v":4},{"$f":"Z80-AA80","v":-1},{"$f":"3*W80+X80","v":2}]
[null,{"$f":"IF(ROWS($1:2)<=COUNTIF($T$21:$T$24,1),INDEX($U$21:$U$24,SMALL(IF($T$21:$T$24=1,ROW(INDIRECT(\"1:\"&ROWS($T$21:$T$24)))),ROWS($1:2))),\"\")","v":""},null,null,null,null,null,null,null,null,null,null,null,null,null,null,"D_4",{"$f":"TEXT(S81,\"00000\")&U81","v":"04020Nigeria"},{"$f":"AC81*1000+AB81*100+Z81*10","v":4020},{"$f":"RANK(S81,$S78:$S82,0)","v":2},{"$f":"VLOOKUP(Q81,TABLEAU_TEAMS[#All],2,FALSE)","v":"Nigeria"},{"$f":"SUMPRODUCT((Teams1=U81)*(Teams1_Score<>\"\"))+SUMPRODUCT((Teams2=U81)*(Teams2_Score<>\"\"))","v":3},{"$f":"SUMPRODUCT((Teams1=U81)*(Teams1_Score>Teams2_Score))+SUMPRODUCT((Teams2=U81)*(Teams2_Score>Teams1_Score))","v":1},{"$f":"SUMPRODUCT((Teams1=U81)*(Teams1_Score=Teams2_Score)*(Teams1_Score<>\"\"))+SUMPRODUCT((Teams2=U81)*(Teams2_Score=Teams1_Score)*(Teams2_Score<>\"\"))","v":1},{"$f":"SUMPRODUCT((Teams1=U81)*(Teams1_Score<Teams2_Score))+SUMPRODUCT((Teams2=U81)*(Teams2_Score<Teams1_Score))","v":1},{"$f":"SUMPRODUCT((Teams1=U81)*(Teams1_Score))+SUMPRODUCT((Teams2=U81)*(Teams2_Score))","v":2},{"$f":"SUMPRODUCT((Teams1=U81)*(Teams2_Score))+SUMPRODUCT((Teams2=U81)*(Teams1_Score))","v":2},{"$f":"Z81-AA81","v":0},{"$f":"3*W81+X81","v":4}]
[null,{"$f":"IF(ROWS($1:3)<=COUNTIF($T$21:$T$24,1),INDEX($U$21:$U$24,SMALL(IF($T$21:$T$24=1,ROW(INDIRECT(\"1:\"&ROWS($T$21:$T$24)))),ROWS($1:3))),\"\")","v":""}]
[null,{"$f":"IF(ROWS($1:4)<=COUNTIF($T$21:$T$24,1),INDEX($U$21:$U$24,SMALL(IF($T$21:$T$24=1,ROW(INDIRECT(\"1:\"&ROWS($T$21:$T$24)))),ROWS($1:4))),\"\")","v":""},null,null,null,null,null,null,null,null,null,null,null,null,null,null,null,null,null,"Rg","Groupe E","MJ","G","N","P","BP","BC","Pts","Pts"]
[null,"Tirage au sort C2",null,null,null,null,null,null,null,null,null,null,null,null,null,null,"E_1",{"$f":"TEXT(S84,\"00000\")&U84","v":"01720Costa Rica"},{"$f":"AC84*1000+AB84*100+Z84*10","v":1720},{"$f":"RANK(S84,$S84:$S88,0)","v":4},{"$f":"VLOOKUP(Q84,TABLEAU_TEAMS[#All],2,FALSE)","v":"Costa Rica"},{"$f":"SUMPRODUCT((Teams1=U84)*(Teams1_Score<>\"\"))+SUMPRODUCT((Teams2=U84)*(Teams2_Score<>\"\"))","v":3},{"$f":"SUMPRODUCT((Teams1=U84)*(Teams1_Score>Teams2_Score))+SUMPRODUCT((Teams2=U84)*(Teams2_Score>Teams1_Score))","v":0},{"$f":"SUMPRODUCT((Teams1=U84)*(Teams1_Score=Teams2_Score)*(Teams1_Score<>\"\"))+SUMPRODUCT((Teams2=U84)*(Teams2_Score=Teams1_Score)*(Teams2_Score<>\"\"))","v":2},{"$f":"SUMPRODUCT((Teams1=U84)*(Teams1_Score<Teams2_Score))+SUMPRODUCT((Teams2=U84)*(Teams2_Score<Teams1_Score))","v":1},{"$f":"SUMPRODUCT((Teams1=U84)*(Teams1_Score))+SUMPRODUCT((Teams2=U84)*(Teams2_Score))","v":2},{"$f":"SUMPRODUCT((Teams1=U84)*(Teams2_Score))+SUMPRODUCT((Teams2=U84)*(Teams1_Score))","v":5},{"$f":"Z84-AA84","v":-3},{"$f":"3*W84+X84","v":2}]
[null,{"$f":"IF(COUNTIF($T$21:$T$24,1)>1,IF(ROWS($1:1)<=COUNTIF($T$21:$T$24,1),INDEX($U$21:$U$24,SMALL(IF($T$21:$T$24=1,ROW(INDIRECT(\"1:\"&ROWS($T$21:$T$24)))),ROWS($1:1))),\"\"),IF(COUNTIF($T$21:$T$24,2)>1,IF(ROWS($1:1)<=COUNTIF($T$21:$T$24,2),INDEX($U$21:$U$24,SMALL(IF($T$21:$T$24=2,ROW(INDIRECT(\"1:\"&ROWS($T$21:$T$24)))),ROWS($1:1))),\"\")))","v":false},null,null,null,null,null,null,null,null,null,null,null,null,null,null,"E_2",{"$f":"TEXT(S85,\"00000\")&U85","v":"01820Serbie"},{"$f":"AC85*1000+AB85*100+Z85*10","v":1820},{"$f":"RANK(S85,$S84:$S88,0)","v":3},{"$f":"VLOOKUP(Q85,TABLEAU_TEAMS[#All],2,FALSE)","v":"Serbie"},{"$f":"SUMPRODUCT((Teams1=U85)*(Teams1_Score<>\"\"))+SUMPRODUCT((Teams2=U85)*(Teams2_Score<>\"\"))","v":3},{"$f":"SUMPRODUCT((Teams1=U85)*(Teams1_Score>Teams2_Score))+SUMPRODUCT((Teams2=U85)*(Teams2_Score>Teams1_Score))","v":0},{"$f":"SUMPRODUCT((Teams1=U85)*(Teams1_Score=Teams2_Score)*(Teams1_Score<>\"\"))+SUMPRODUCT((Teams2=U85)*(Teams2_Score=Teams1_Score)*(Teams2_Score<>\"\"))","v":2},{"$f":"SUMPRODUCT((Teams1=U85)*(Teams1_Score<Teams2_Score))+SUMPRODUCT((Teams2=U85)*(Teams2_Score<Teams1_Score))","v":1},{"$f":"SUMPRODUCT((Teams1=U85)*(Teams1_Score))+SUMPRODUCT((Teams2=U85)*(Teams2_Score))","v":2},{"$f":"SUMPRODUCT((Teams1=U85)*(Teams2_Score))+SUMPRODUCT((Teams2=U85)*(Teams1_Score))","v":4},{"$f":"Z85-AA85","v":-2},{"$f":"3*W85+X85","v":2}]
[null,{"$f":"IF(COUNTIF($T$21:$T$24,1)>1,IF(ROWS($1:2)<=COUNTIF($T$21:$T$24,1),INDEX($U$21:$U$24,SMALL(IF($T$21:$T$24=1,ROW(INDIRECT(\"1:\"&ROWS($T$21:$T$24)))),ROWS($1:2))),\"\"),IF(COUNTIF($T$21:$T$24,2)>1,IF(ROWS($1:2)<=COUNTIF($T$21:$T$24,2),INDEX($U$21:$U$24,SMALL(IF($T$21:$T$24=2,ROW(INDIRECT(\"1:\"&ROWS($T$21:$T$24)))),ROWS($1:2))),\"\")))","v":false},null,null,null,null,null,null,null,null,null,null,null,null,null,null,"E_3",{"$f":"TEXT(S86,\"00000\")&U86","v":"09780Brésil"},{"$f":"AC86*1000+AB86*100+Z86*10","v":9780},{"$f":"RANK(S86,$S84:$S88,0)","v":1},{"$f":"VLOOKUP(Q86,TABLEAU_TEAMS[#All],2,FALSE)","v":"Brésil"},{"$f":"SUMPRODUCT((Teams1=U86)*(Teams1_Score<>\"\"))+SUMPRODUCT((Teams2=U86)*(Teams2_Score<>\"\"))","v":3},{"$f":"SUMPRODUCT((Teams1=U86)*(Teams1_Score>Teams2_Score))+SUMPRODUCT((Teams2=U86)*(Teams2_Score>Teams1_Score))","v":3},{"$f":"SUMPRODUCT((Teams1=U86)*(Teams1_Score=Teams2_Score)*(Teams1_Score<>\"\"))+SUMPRODUCT((Teams2=U86)*(Teams2_Score=Teams1_Score)*(Teams2_Score<>\"\"))","v":0},{"$f":"SUMPRODUCT((Teams1=U86)*(Teams1_Score<Teams2_Score))+SUMPRODUCT((Teams2=U86)*(Teams2_Score<Teams1_Score))","v":0},{"$f":"SUMPRODUCT((Teams1=U86)*(Teams1_Score))+SUMPRODUCT((Teams2=U86)*(Teams2_Score))","v":8},{"$f":"SUMPRODUCT((Teams1=U86)*(Teams2_Score))+SUMPRODUCT((Teams2=U86)*(Teams1_Score))","v":1},{"$f":"Z86-AA86","v":7},{"$f":"3*W86+X86","v":9}]
[null,{"$f":"IF(COUNTIF($T$21:$T$24,1)>1,IF(ROWS($1:3)<=COUNTIF($T$21:$T$24,1),INDEX($U$21:$U$24,SMALL(IF($T$21:$T$24=1,ROW(INDIRECT(\"1:\"&ROWS($T$21:$T$24)))),ROWS($1:3))),\"\"),IF(COUNTIF($T$21:$T$24,2)>1,IF(ROWS($1:3)<=COUNTIF($T$21:$T$24,2),INDEX($U$21:$U$24,SMALL(IF($T$21:$T$24=2,ROW(INDIRECT(\"1:\"&ROWS($T$21:$T$24)))),ROWS($1:3))),\"\")))","v":false},null,null,null,null,null,null,null,null,null,null,null,null,null,null,"E_4",{"$f":"TEXT(S87,\"00000\")&U87","v":"01830Suisse"},{"$f":"AC87*1000+AB87*100+Z87*10","v":1830},{"$f":"RANK(S87,$S84:$S88,0)","v":2},{"$f":"VLOOKUP(Q87,TABLEAU_TEAMS[#All],2,FALSE)","v":"Suisse"},{"$f":"SUMPRODUCT((Teams1=U87)*(Teams1_Score<>\"\"))+SUMPRODUCT((Teams2=U87)*(Teams2_Score<>\"\"))","v":3},{"$f":"SUMPRODUCT((Teams1=U87)*(Teams1_Score>Teams2_Score))+SUMPRODUCT((Teams2=U87)*(Teams2_Score>Teams1_Score))","v":0},{"$f":"SUMPRODUCT((Teams1=U87)*(Teams1_Score=Teams2_Score)*(Teams1_Score<>\"\"))+SUMPRODUCT((Teams2=U87)*(Teams2_Score=Teams1_Score)*(Teams2_Score<>\"\"))","v":2},{"$f":"SUMPRODUCT((Teams1=U87)*(Teams1_Score<Teams2_Score))+SUMPRODUCT((Teams2=U87)*(Teams2_Score<Teams1_Score))","v":1},{"$f":"SUMPRODUCT((Teams1=U87)*(Teams1_Score))+SUMPRODUCT((Teams2=U87)*(Teams2_Score))","v":3},{"$f":"SUMPRODUCT((Teams1=U87)*(Teams2_Score))+SUMPRODUCT((Teams2=U87)*(Teams1_Score))","v":5},{"$f":"Z87-AA87","v":-2},{"$f":"3*W87+X87","v":2}]
[null,{"$f":"IF(COUNTIF($T$21:$T$24,1)>1,IF(ROWS($1:4)<=COUNTIF($T$21:$T$24,1),INDEX($U$21:$U$24,SMALL(IF($T$21:$T$24=1,ROW(INDIRECT(\"1:\"&ROWS($T$21:$T$24)))),ROWS($1:4))),\"\"),IF(COUNTIF($T$21:$T$24,2)>1,IF(ROWS($1:4)<=COUNTIF($T$21:$T$24,2),INDEX($U$21:$U$24,SMALL(IF($T$21:$T$24=2,ROW(INDIRECT(\"1:\"&ROWS($T$21:$T$24)))),ROWS($1:4))),\"\")))","v":false}]
[null,"Tirage au sort D1",null,null,null,null,null,null,null,null,null,null,null,null,null,null,null,null,null,"Rg","Groupe F","MJ","G","N","P","BP","BC","Pts","Pts"]
[null,{"$f":"IF(ROWS($1:1)<=COUNTIF($T$27:$T$30,1),INDEX($U$27:$U$30,SMALL(IF($T$27:$T$30=1,ROW(INDIRECT(\"1:\"&ROWS($T$27:$T$30)))),ROWS($1:1))),\"\")","v":"Argentine"},null,null,null,null,null,null,null,null,null,null,null,null,null,null,"F_1",{"$f":"TEXT(S90,\"00000\")&U90","v":"07560Allemagne"},{"$f":"AC90*1000+AB90*100+Z90*10","v":7560},{"$f":"RANK(S90,$S90:$S94,0)","v":1},{"$f":"VLOOKUP(Q90,TABLEAU_TEAMS[#All],2,FALSE)","v":"Allemagne"},{"$f":"SUMPRODUCT((Teams1=U90)*(Teams1_Score<>\"\"))+SUMPRODUCT((Teams2=U90)*(Teams2_Score<>\"\"))","v":3},{"$f":"SUMPRODUCT((Teams1=U90)*(Teams1_Score>Teams2_Score))+SUMPRODUCT((Teams2=U90)*(Teams2_Score>Teams1_Score))","v":2},{"$f":"SUMPRODUCT((Teams1=U90)*(Teams1_Score=Teams2_Score)*(Teams1_Score<>\"\"))+SUMPRODUCT((Teams2=U90)*(Teams2_Score=Teams1_Score)*(Teams2_Score<>\"\"))","v":1},{"$f":"SUMPRODUCT((Teams1=U90)*(Teams1_Score<Teams2_Score))+SUMPRODUCT((Teams2=U90)*(Teams2_Score<Teams1_Score))","v":0},{"$f":"SUMPRODUCT((Teams1=U90)*(Teams1_Score))+SUMPRODUCT((Teams2=U90)*(Teams2_Score))","v":6},{"$f":"SUMPRODUCT((Teams1=U90)*(Teams2_Score))+SUMPRODUCT((Teams2=U90)*(Teams1_Score))","v":1},{"$f":"Z90-AA90","v":5},{"$f":"3*W90+X90","v":7}]
[null,{"$f":"IF(ROWS($1:2)<=COUNTIF($T$27:$T$30,1),INDEX($U$27:$U$30,SMALL(IF($T$27:$T$30=1,ROW(INDIRECT(\"1:\"&ROWS($T$27:$T$30)))),ROWS($1:2))),\"\")","v":""},null,null,null,null,null,null,null,null,null,null,null,null,null,null,"F_2",{"$f":"TEXT(S91,\"00000\")&U91","v":"03920Mexique"},{"$f":"AC91*1000+AB91*100+Z91*10","v":3920},{"$f":"RANK(S91,$S90:$S94,0)","v":3},{"$f":"VLOOKUP(Q91,TABLEAU_TEAMS[#All],2,FALSE)","v":"Mexique"},{"$f":"SUMPRODUCT((Teams1=U91)*(Teams1_Score<>\"\"))+SUMPRODUCT((Teams2=U91)*(Teams2_Score<>\"\"))","v":3},{"$f":"SUMPRODUCT((Teams1=U91)*(Teams1_Score>Teams2_Score))+SUMPRODUCT((Teams2=U91)*(Teams2_Score>Teams1_Score))","v":1},{"$f":"SUMPRODUCT((Teams1=U91)*(Teams1_Score=Teams2_Score)*(Teams1_Score<>\"\"))+SUMPRODUCT((Teams2=U91)*(Teams2_Score=Teams1_Score)*(Teams2_Score<>\"\"))","v":1},{"$f":"SUMPRODUCT((Teams1=U91)*(Teams1_Score<Teams2_Score))+SUMPRODUCT((Teams2=U91)*(Teams2_Score<Teams1_Score))","v":1},{"$f":"SUMPRODUCT((Teams1=U91)*(Teams1_Score))+SUMPRODUCT((Teams2=U91)*(Teams2_Score))","v":2},{"$f":"SUMPRODUCT((Teams1=U91)*(Teams2_Score))+SUMPRODUCT((Teams2=U91)*(Teams1_Score))","v":3},{"$f":"Z91-AA91","v":-1},{"$f":"3*W91+X91","v":4}]
[null,{"$f":"IF(ROWS($1:3)<=COUNTIF($T$27:$T$30,1),INDEX($U$27:$U$30,SMALL(IF($T$27:$T$30=1,ROW(INDIRECT(\"1:\"&ROWS($T$27:$T$30)))),ROWS($1:3))),\"\")","v":""},null,null,null,null,null,null,null,null,null,null,null,null,null,null,"F_3",{"$f":"TEXT(S92,\"00000\")&U92","v":"05350Suède"},{"$f":"AC92*1000+AB92*100+Z92*10","v":5350},{"$f":"RANK(S92,$S90:$S94,0)","v":2},{"$f":"VLOOKUP(Q92,TABLEAU_TEAMS[#All],2,FALSE)","v":"Suède"},{"$f":"SUMPRODUCT((Teams1=U92)*(Teams1_Score<>\"\"))+SUMPRODUCT((Teams2=U92)*(Teams2_Score<>\"\"))","v":3},{"$f":"SUMPRODUCT((Teams1=U92)*(Teams1_Score>Teams2_Score))+SUMPRODUCT((Teams2=U92)*(Teams2_Score>Teams1_Score))","v":1},{"$f":"SUMPRODUCT((Teams1=U92)*(Teams1_Score=Teams2_Score)*(Teams1_Score<>\"\"))+SUMPRODUCT((Teams2=U92)*(Teams2_Score=Teams1_Score)*(Teams2_Score<>\"\"))","v":2},{"$f":"SUMPRODUCT((Teams1=U92)*(Teams1_Score<Teams2_Score))+SUMPRODUCT((Teams2=U92)*(Teams2_Score<Teams1_Score))","v":0},{"$f":"SUMPRODUCT((Teams1=U92)*(Teams1_Score))+SUMPRODUCT((Teams2=U92)*(Teams2_Score))","v":5},{"$f":"SUMPRODUCT((Teams1=U92)*(Teams2_Score))+SUMPRODUCT((Teams2=U92)*(Teams1_Score))","v":2},{"$f":"Z92-AA92","v":3},{"$f":"3*W92+X92","v":5}]
[null,{"$f":"IF(ROWS($1:4)<=COUNTIF($T$27:$T$30,1),INDEX($U$27:$U$30,SMALL(IF($T$27:$T$30=1,ROW(INDIRECT(\"1:\"&ROWS($T$27:$T$30)))),ROWS($1:4))),\"\")","v":""},null,null,null,null,null,null,null,null,null,null,null,null,null,null,"F_4",{"$f":"TEXT(S93,\"00000\")&U93","v":"-00700République de Corée"},{"$f":"AC93*1000+AB93*100+Z93*10","v":-700},{"$f":"RANK(S93,$S90:$S94,0)","v":4},{"$f":"VLOOKUP(Q93,TABLEAU_TEAMS[#All],2,FALSE)","v":"République de Corée"},{"$f":"SUMPRODUCT((Teams1=U93)*(Teams1_Score<>\"\"))+SUMPRODUCT((Teams2=U93)*(Teams2_Score<>\"\"))","v":3},{"$f":"SUMPRODUCT((Teams1=U93)*(Teams1_Score>Teams2_Score))+SUMPRODUCT((Teams2=U93)*(Teams2_Score>Teams1_Score))","v":0},{"$f":"SUMPRODUCT((Teams1=U93)*(Teams1_Score=Teams2_Score)*(Teams1_Score<>\"\"))+SUMPRODUCT((Teams2=U93)*(Teams2_Score=Teams1_Score)*(Teams2_Score<>\"\"))","v":0},{"$f":"SUMPRODUCT((Teams1=U93)*(Teams1_Score<Teams2_Score))+SUMPRODUCT((Teams2=U93)*(Teams2_Score<Teams1_Score))","v":3},{"$f":"SUMPRODUCT((Teams1=U93)*(Teams1_Score))+SUMPRODUCT((Teams2=U93)*(Teams2_Score))","v":0},{"$f":"SUMPRODUCT((Teams1=U93)*(Teams2_Score))+SUMPRODUCT((Teams2=U93)*(Teams1_Score))","v":7},{"$f":"Z93-AA93","v":-7},{"$f":"3*W93+X93","v":0}]
[null,"Tirage au sort D2"]
[null,{"$f":"IF(COUNTIF($T$27:$T$30,1)>1,IF(ROWS($1:1)<=COUNTIF($T$27:$T$30,1),INDEX($U$27:$U$30,SMALL(IF($T$27:$T$30=1,ROW(INDIRECT(\"1:\"&ROWS($T$27:$T$30)))),ROWS($1:1))),\"\"),IF(COUNTIF($T$27:$T$30,2)>1,IF(ROWS($1:1)<=COUNTIF($T$27:$T$30,2),INDEX($U$27:$U$30,SMALL(IF($T$27:$T$30=2,ROW(INDIRECT(\"1:\"&ROWS($T$27:$T$30)))),ROWS($1:1))),\"\")))","v":false},null,null,null,null,null,null,null,null,null,null,null,null,null,null,null,null,null,"Rg","Groupe G","MJ","G","N","P","BP","BC","Pts","Pts"]
[null,{"$f":"IF(COUNTIF($T$27:$T$30,1)>1,IF(ROWS($1:2)<=COUNTIF($T$27:$T$30,1),INDEX($U$27:$U$30,SMALL(IF($T$27:$T$30=1,ROW(INDIRECT(\"1:\"&ROWS($T$27:$T$30)))),ROWS($1:2))),\"\"),IF(COUNTIF($T$27:$T$30,2)>1,IF(ROWS($1:2)<=COUNTIF($T$27:$T$30,2),INDEX($U$27:$U$30,SMALL(IF($T$27:$T$30=2,ROW(INDIRECT(\"1:\"&ROWS($T$27:$T$30)))),ROWS($1:2))),\"\")))","v":false},null,null,null,null,null,null,null,null,null,null,null,null,null,null,"G_1",{"$f":"TEXT(S96,\"00000\")&U96","v":"09350Belgique"},{"$f":"AC96*1000+AB96*100+Z96*10","v":9350},{"$f":"RANK(S96,$S96:$S100,0)","v":1},{"$f":"VLOOKUP(Q96,TABLEAU_TEAMS[#All],2,FALSE)","v":"Belgique"},{"$f":"SUMPRODUCT((Teams1=U96)*(Teams1_Score<>\"\"))+SUMPRODUCT((Teams2=U96)*(Teams2_Score<>\"\"))","v":3},{"$f":"SUMPRODUCT((Teams1=U96)*(Teams1_Score>Teams2_Score))+SUMPRODUCT((Teams2=U96)*(Teams2_Score>Teams1_Score))","v":3},{"$f":"SUMPRODUCT((Teams1=U96)*(Teams1_Score=Teams2_Score)*(Teams1_Score<>\"\"))+SUMPRODUCT((Teams2=U96)*(Teams2_Score=Teams1_Score)*(Teams2_Score<>\"\"))","v":0},{"$f":"SUMPRODUCT((Teams1=U96)*(Teams1_Score<Teams2_Score))+SUMPRODUCT((Teams2=U96)*(Teams2_Score<Teams1_Score))","v":0},{"$f":"SUMPRODUCT((Teams1=U96)*(Teams1_Score))+SUMPRODUCT((Teams2=U96)*(Teams2_Score))","v":5},{"$f":"SUMPRODUCT((Teams1=U96)*(Teams2_Score))+SUMPRODUCT((Teams2=U96)*(Teams1_Score))","v":2},{"$f":"Z96-AA96","v":3},{"$f":"3*W96+X96","v":9}]
[null,{"$f":"IF(COUNTIF($T$27:$T$30,1)>1,IF(ROWS($1:3)<=COUNTIF($T$27:$T$30,1),INDEX($U$27:$U$30,SMALL(IF($T$27:$T$30=1,ROW(INDIRECT(\"1:\"&ROWS($T$27:$T$30)))),ROWS($1:3))),\"\"),IF(COUNTIF($T$27:$T$30,2)>1,IF(ROWS($1:3)<=COUNTIF($T$27:$T$30,2),INDEX($U$27:$U$30,SMALL(IF($T$27:$T$30=2,ROW(INDIRECT(\"1:\"&ROWS($T$27:$T$30)))),ROWS($1:3))),\"\")))","v":false},null,null,null,null,null,null,null,null,null,null,null,null,null,null,"G_2",{"$f":"TEXT(S97,\"00000\")&U97","v":"-00380Panama"},{"$f":"AC97*1000+AB97*100+Z97*10","v":-380},{"$f":"RANK(S97,$S96:$S100,0)","v":4},{"$f":"VLOOKUP(Q97,TABLEAU_TEAMS[#All],2,FALSE)","v":"Panama"},{"$f":"SUMPRODUCT((Teams1=U97)*(Teams1_Score<>\"\"))+SUMPRODUCT((Teams2=U97)*(Teams2_Score<>\"\"))","v":3},{"$f":"SUMPRODUCT((Teams1=U97)*(Teams1_Score>Teams2_Score))+SUMPRODUCT((Teams2=U97)*(Teams2_Score>Teams1_Score))","v":0},{"$f":"SUMPRODUCT((Teams1=U97)*(Teams1_Score=Teams2_Score)*(Teams1_Score<>\"\"))+SUMPRODUCT((Teams2=U97)*(Teams2_Score=Teams1_Score)*(Teams2_Score<>\"\"))","v":0},{"$f":"SUMPRODUCT((Teams1=U97)*(Teams1_Score<Teams2_Score))+SUMPRODUCT((Teams2=U97)*(Teams2_Score<Teams1_Score))","v":3},{"$f":"SUMPRODUCT((Teams1=U97)*(Teams1_Score))+SUMPRODUCT((Teams2=U97)*(Teams2_Score))","v":2},{"$f":"SUMPRODUCT((Teams1=U97)*(Teams2_Score))+SUMPRODUCT((Teams2=U97)*(Teams1_Score))","v":6},{"$f":"Z97-AA97","v":-4},{"$f":"3*W97+X97","v":0}]
[null,{"$f":"IF(COUNTIF($T$27:$T$30,1)>1,IF(ROWS($1:4)<=COUNTIF($T$27:$T$30,1),INDEX($U$27:$U$30,SMALL(IF($T$27:$T$30=1,ROW(INDIRECT(\"1:\"&ROWS($T$27:$T$30)))),ROWS($1:4))),\"\"),IF(COUNTIF($T$27:$T$30,2)>1,IF(ROWS($1:4)<=COUNTIF($T$27:$T$30,2),INDEX($U$27:$U$30,SMALL(IF($T$27:$T$30=2,ROW(INDIRECT(\"1:\"&ROWS($T$27:$T$30)))),ROWS($1:4))),\"\")))","v":false},null,null,null,null,null,null,null,null,null,null,null,null,null,null,"G_3",{"$f":"TEXT(S98,\"00000\")&U98","v":"02920Tunisie"},{"$f":"AC98*1000+AB98*100+Z98*10","v":2920},{"$f":"RANK(S98,$S96:$S100,0)","v":3},{"$f":"VLOOKUP(Q98,TABLEAU_TEAMS[#All],2,FALSE)","v":"Tunisie"},{"$f":"SUMPRODUCT((Teams1=U98)*(Teams1_Score<>\"\"))+SUMPRODUCT((Teams2=U98)*(Teams2_Score<>\"\"))","v":3},{"$f":"SUMPRODUCT((Teams1=U98)*(Teams1_Score>Teams2_Score))+SUMPRODUCT((Teams2=U98)*(Teams2_Score>Teams1_Score))","v":1},{"$f":"SUMPRODUCT((Teams1=U98)*(Teams1_Score=Teams2_Score)*(Teams1_Score<>\"\"))+SUMPRODUCT((Teams2=U98)*(Teams2_Score=Teams1_Score)*(Teams2_Score<>\"\"))","v":0},{"$f":"SUMPRODUCT((Teams1=U98)*(Teams1_Score<Teams2_Score))+SUMPRODUCT((Teams2=U98)*(Teams2_Score<Teams1_Score))","v":2},{"$f":"SUMPRODUCT((Teams1=U98)*(Teams1_Score))+SUMPRODUCT((Teams2=U98)*(Teams2_Score))","v":2},{"$f":"SUMPRODUCT((Teams1=U98)*(Teams2_Score))+SUMPRODUCT((Teams2=U98)*(Teams1_Score))","v":3},{"$f":"Z98-AA98","v":-1},{"$f":"3*W98+X98","v":3}]
[null,"Tirage au sort E1",null,null,null,null,null,null,null,null,null,null,null,null,null,null,"G_4",{"$f":"TEXT(S99,\"00000\")&U99","v":"06240Angleterre"},{"$f":"AC99*1000+AB99*100+Z99*10","v":6240},{"$f":"RANK(S99,$S96:$S100,0)","v":2},{"$f":"VLOOKUP(Q99,TABLEAU_TEAMS[#All],2,FALSE)","v":"Angleterre"},{"$f":"SUMPRODUCT((Teams1=U99)*(Teams1_Score<>\"\"))+SUMPRODUCT((Teams2=U99)*(Teams2_Score<>\"\"))","v":3},{"$f":"SUMPRODUCT((Teams1=U99)*(Teams1_Score>Teams2_Score))+SUMPRODUCT((Teams2=U99)*(Teams2_Score>Teams1_Score))","v":2},{"$f":"SUMPRODUCT((Teams1=U99)*(Teams1_Score=Teams2_Score)*(Teams1_Score<>\"\"))+SUMPRODUCT((Teams2=U99)*(Teams2_Score=Teams1_Score)*(Teams2_Score<>\"\"))","v":0},{"$f":"SUMPRODUCT((Teams1=U99)*(Teams1_Score<Teams2_Score))+SUMPRODUCT((Teams2=U99)*(Teams2_Score<Teams1_Score))","v":1},{"$f":"SUMPRODUCT((Teams1=U99)*(Teams1_Score))+SUMPRODUCT((Teams2=U99)*(Teams2_Score))","v":4},{"$f":"SUMPRODUCT((Teams1=U99)*(Teams2_Score))+SUMPRODUCT((Teams2=U99)*(Teams1_Score))","v":2},{"$f":"Z99-AA99","v":2},{"$f":"3*W99+X99","v":6}]
[null,{"$f":"IF(ROWS($1:1)<=COUNTIF($T$33:$T$36,1),INDEX($U$33:$U$36,SMALL(IF($T$33:$T$36=1,ROW(INDIRECT(\"1:\"&ROWS($T$33:$T$36)))),ROWS($1:1))),\"\")","v":"Brésil"}]
[null,{"$f":"IF(ROWS($1:2)<=COUNTIF($T$33:$T$36,1),INDEX($U$33:$U$36,SMALL(IF($T$33:$T$36=1,ROW(INDIRECT(\"1:\"&ROWS($T$33:$T$36)))),ROWS($1:2))),\"\")","v":""},null,null,null,null,null,null,null,null,null,null,null,null,null,null,null,null,null,"Rg","Groupe H","MJ","G","N","P","BP","BC","Pts","Pts"]
[null,{"$f":"IF(ROWS($1:3)<=COUNTIF($T$33:$T$36,1),INDEX($U$33:$U$36,SMALL(IF($T$33:$T$36=1,ROW(INDIRECT(\"1:\"&ROWS($T$33:$T$36)))),ROWS($1:3))),\"\")","v":""},null,null,null,null,null,null,null,null,null,null,null,null,null,null,"H_1",{"$f":"TEXT(S102,\"00000\")&U102","v":"06350Colombie"},{"$f":"AC102*1000+AB102*100+Z102*10","v":6350},{"$f":"RANK(S102,$S102:$S106,0)","v":2},{"$f":"VLOOKUP(Q102,TABLEAU_TEAMS[#All],2,FALSE)","v":"Colombie"},{"$f":"SUMPRODUCT((Teams1=U102)*(Teams1_Score<>\"\"))+SUMPRODUCT((Teams2=U102)*(Teams2_Score<>\"\"))","v":3},{"$f":"SUMPRODUCT((Teams1=U102)*(Teams1_Score>Teams2_Score))+SUMPRODUCT((Teams2=U102)*(Teams2_Score>Teams1_Score))","v":2},{"$f":"SUMPRODUCT((Teams1=U102)*(Teams1_Score=Teams2_Score)*(Teams1_Score<>\"\"))+SUMPRODUCT((Teams2=U102)*(Teams2_Score=Teams1_Score)*(Teams2_Score<>\"\"))","v":0},{"$f":"SUMPRODUCT((Teams1=U102)*(Teams1_Score<Teams2_Score))+SUMPRODUCT((Teams2=U102)*(Teams2_Score<Teams1_Score))","v":1},{"$f":"SUMPRODUCT((Teams1=U102)*(Teams1_Score))+SUMPRODUCT((Teams2=U102)*(Teams2_Score))","v":5},{"$f":"SUMPRODUCT((Teams1=U102)*(Teams2_Score))+SUMPRODUCT((Teams2=U102)*(Teams1_Score))","v":2},{"$f":"Z102-AA102","v":3},{"$f":"3*W102+X102","v":6}]
[null,{"$f":"IF(ROWS($1:4)<=COUNTIF($T$33:$T$36,1),INDEX($U$33:$U$36,SMALL(IF($T$33:$T$36=1,ROW(INDIRECT(\"1:\"&ROWS($T$33:$T$36)))),ROWS($1:4))),\"\")","v":""},null,null,null,null,null,null,null,null,null,null,null,null,null,null,"H_2",{"$f":"TEXT(S103,\"00000\")&U103","v":"-00400Japon"},{"$f":"AC103*1000+AB103*100+Z103*10","v":-400},{"$f":"RANK(S103,$S102:$S106,0)","v":4},{"$f":"VLOOKUP(Q103,TABLEAU_TEAMS[#All],2,FALSE)","v":"Japon"},{"$f":"SUMPRODUCT((Teams1=U103)*(Teams1_Score<>\"\"))+SUMPRODUCT((Teams2=U103)*(Teams2_Score<>\"\"))","v":3},{"$f":"SUMPRODUCT((Teams1=U103)*(Teams1_Score>Teams2_Score))+SUMPRODUCT((Teams2=U103)*(Teams2_Score>Teams1_Score))","v":0},{"$f":"SUMPRODUCT((Teams1=U103)*(Teams1_Score=Teams2_Score)*(Teams1_Score<>\"\"))+SUMPRODUCT((Teams2=U103)*(Teams2_Score=Teams1_Score)*(Teams2_Score<>\"\"))","v":0},{"$f":"SUMPRODUCT((Teams1=U103)*(Teams1_Score<Teams2_Score))+SUMPRODUCT((Teams2=U103)*(Teams2_Score<Teams1_Score))","v":3},{"$f":"SUMPRODUCT((Teams1=U103)*(Teams1_Score))+SUMPRODUCT((Teams2=U103)*(Teams2_Score))","v":0},{"$f":"SUMPRODUCT((Teams1=U103)*(Teams2_Score))+SUMPRODUCT((Teams2=U103)*(Teams1_Score))","v":4},{"$f":"Z103-AA103","v":-4},{"$f":"3*W103+X103","v":0}]
[null,"Tirage au sort E2",null,null,null,null,null,null,null,null,null,null,null,null,null,null,"H_3",{"$f":"TEXT(S104,\"00000\")&U104","v":"02830Pologne"},{"$f":"AC104*1000+AB104*100+Z104*10","v":2830},{"$f":"RANK(S104,$S102:$S106,0)","v":3},{"$f":"VLOOKUP(Q104,TABLEAU_TEAMS[#All],2,FALSE)","v":"Pologne"},{"$f":"SUMPRODUCT((Teams1=U104)*(Teams1_Score<>\"\"))+SUMPRODUCT((Teams2=U104)*(Teams2_Score<>\"\"))","v":3},{"$f":"SUMPRODUCT((Teams1=U104)*(Teams1_Score>Teams2_Score))+SUMPRODUCT((Teams2=U104)*(Teams2_Score>Teams1_Score))","v":1},{"$f":"SUMPRODUCT((Teams1=U104)*(Teams1_Score=Teams2_Score)*(Teams1_Score<>\"\"))+SUMPRODUCT((Teams2=U104)*(Teams2_Score=Teams1_Score)*(Teams2_Score<>\"\"))","v":0},{"$f":"SUMPRODUCT((Teams1=U104)*(Teams1_Score<Teams2_Score))+SUMPRODUCT((Teams2=U104)*(Teams2_Score<Teams1_Score))","v":2},{"$f":"SUMPRODUCT((Teams1=U104)*(Teams1_Score))+SUMPRODUCT((Teams2=U104)*(Teams2_Score))","v":3},{"$f":"SUMPRODUCT((Teams1=U104)*(Teams2_Score))+SUMPRODUCT((Teams2=U104)*(Teams1_Score))","v":5},{"$f":"Z104-AA104","v":-2},{"$f":"3*W104+X104","v":3}]
[null,{"$f":"IF(COUNTIF($T$33:$T$36,1)>1,IF(ROWS($1:1)<=COUNTIF($T$33:$T$36,1),INDEX($U$33:$U$36,SMALL(IF($T$33:$T$36=1,ROW(INDIRECT(\"1:\"&ROWS($T$33:$T$36)))),ROWS($1:1))),\"\"),IF(COUNTIF($T$33:$T$36,2)>1,IF(ROWS($1:1)<=COUNTIF($T$33:$T$36,2),INDEX($U$33:$U$36,SMALL(IF($T$33:$T$36=2,ROW(INDIRECT(\"1:\"&ROWS($T$33:$T$36)))),ROWS($1:1))),\"\")))","v":false},null,null,null,null,null,null,null,null,null,null,null,null,null,null,"H_4",{"$f":"TEXT(S105,\"00000\")&U105","v":"09340Sénégal"},{"$f":"AC105*1000+AB105*100+Z105*10","v":9340},{"$f":"RANK(S105,$S102:$S106,0)","v":1},{"$f":"VLOOKUP(Q105,TABLEAU_TEAMS[#All],2,FALSE)","v":"Sénégal"},{"$f":"SUMPRODUCT((Teams1=U105)*(Teams1_Score<>\"\"))+SUMPRODUCT((Teams2=U105)*(Teams2_Score<>\"\"))","v":3},{"$f":"SUMPRODUCT((Teams1=U105)*(Teams1_Score>Teams2_Score))+SUMPRODUCT((Teams2=U105)*(Teams2_Score>Teams1_Score))","v":3},{"$f":"SUMPRODUCT((Teams1=U105)*(Teams1_Score=Teams2_Score)*(Teams1_Score<>\"\"))+SUMPRODUCT((Teams2=U105)*(Teams2_Score=Teams1_Score)*(Teams2_Score<>\"\"))","v":0},{"$f":"SUMPRODUCT((Teams1=U105)*(Teams1_Score<Teams2_Score))+SUMPRODUCT((Teams2=U105)*(Teams2_Score<Teams1_Score))","v":0},{"$f":"SUMPRODUCT((Teams1=U105)*(Teams1_Score))+SUMPRODUCT((Teams2=U105)*(Teams2_Score))","v":4},{"$f":"SUMPRODUCT((Teams1=U105)*(Teams2_Score))+SUMPRODUCT((Teams2=U105)*(Teams1_Score))","v":1},{"$f":"Z105-AA105","v":3},{"$f":"3*W105+X105","v":9}]
[null,{"$f":"IF(COUNTIF($T$33:$T$36,1)>1,IF(ROWS($1:2)<=COUNTIF($T$33:$T$36,1),INDEX($U$33:$U$36,SMALL(IF($T$33:$T$36=1,ROW(INDIRECT(\"1:\"&ROWS($T$33:$T$36)))),ROWS($1:2))),\"\"),IF(COUNTIF($T$33:$T$36,2)>1,IF(ROWS($1:2)<=COUNTIF($T$33:$T$36,2),INDEX($U$33:$U$36,SMALL(IF($T$33:$T$36=2,ROW(INDIRECT(\"1:\"&ROWS($T$33:$T$36)))),ROWS($1:2))),\"\")))","v":false}]
[null,{"$f":"IF(COUNTIF($T$33:$T$36,1)>1,IF(ROWS($1:3)<=COUNTIF($T$33:$T$36,1),INDEX($U$33:$U$36,SMALL(IF($T$33:$T$36=1,ROW(INDIRECT(\"1:\"&ROWS($T$33:$T$36)))),ROWS($1:3))),\"\"),IF(COUNTIF($T$33:$T$36,2)>1,IF(ROWS($1:3)<=COUNTIF($T$33:$T$36,2),INDEX($U$33:$U$36,SMALL(IF($T$33:$T$36=2,ROW(INDIRECT(\"1:\"&ROWS($T$33:$T$36)))),ROWS($1:3))),\"\")))","v":false}]
[null,{"$f":"IF(COUNTIF($T$33:$T$36,1)>1,IF(ROWS($1:4)<=COUNTIF($T$33:$T$36,1),INDEX($U$33:$U$36,SMALL(IF($T$33:$T$36=1,ROW(INDIRECT(\"1:\"&ROWS($T$33:$T$36)))),ROWS($1:4))),\"\"),IF(COUNTIF($T$33:$T$36,2)>1,IF(ROWS($1:4)<=COUNTIF($T$33:$T$36,2),INDEX($U$33:$U$36,SMALL(IF($T$33:$T$36=2,ROW(INDIRECT(\"1:\"&ROWS($T$33:$T$36)))),ROWS($1:4))),\"\")))","v":false}]
[null,"Tirage au sort F1"]
[null,{"$f":"IF(ROWS($1:1)<=COUNTIF($T$39:$T$42,1),INDEX($U$39:$U$42,SMALL(IF($T$39:$T$42=1,ROW(INDIRECT(\"1:\"&ROWS($T$39:$T$42)))),ROWS($1:1))),\"\")","v":"Allemagne"}]
[null,{"$f":"IF(ROWS($1:2)<=COUNTIF($T$39:$T$42,1),INDEX($U$39:$U$42,SMALL(IF($T$39:$T$42=1,ROW(INDIRECT(\"1:\"&ROWS($T$39:$T$42)))),ROWS($1:2))),\"\")","v":""}]
[null,{"$f":"IF(ROWS($1:3)<=COUNTIF($T$39:$T$42,1),INDEX($U$39:$U$42,SMALL(IF($T$39:$T$42=1,ROW(INDIRECT(\"1:\"&ROWS($T$39:$T$42)))),ROWS($1:3))),\"\")","v":""}]
[null,{"$f":"IF(ROWS($1:4)<=COUNTIF($T$39:$T$42,1),INDEX($U$39:$U$42,SMALL(IF($T$39:$T$42=1,ROW(INDIRECT(\"1:\"&ROWS($T$39:$T$42)))),ROWS($1:4))),\"\")","v":""}]
[null,"Tirage au sort F2"]
[null,{"$f":"IF(COUNTIF($T$39:$T$42,1)>1,IF(ROWS($1:1)<=COUNTIF($T$39:$T$42,1),INDEX($U$39:$U$42,SMALL(IF($T$39:$T$42=1,ROW(INDIRECT(\"1:\"&ROWS($T$39:$T$42)))),ROWS($1:1))),\"\"),IF(COUNTIF($T$39:$T$42,2)>1,IF(ROWS($1:1)<=COUNTIF($T$39:$T$42,2),INDEX($U$39:$U$42,SMALL(IF($T$39:$T$42=2,ROW(INDIRECT(\"1:\"&ROWS($T$39:$T$42)))),ROWS($1:1))),\"\")))","v":false}]
[null,{"$f":"IF(COUNTIF($T$39:$T$42,1)>1,IF(ROWS($1:2)<=COUNTIF($T$39:$T$42,1),INDEX($U$39:$U$42,SMALL(IF($T$39:$T$42=1,ROW(INDIRECT(\"1:\"&ROWS($T$39:$T$42)))),ROWS($1:2))),\"\"),IF(COUNTIF($T$39:$T$42,2)>1,IF(ROWS($1:2)<=COUNTIF($T$39:$T$42,2),INDEX($U$39:$U$42,SMALL(IF($T$39:$T$42=2,ROW(INDIRECT(\"1:\"&ROWS($T$39:$T$42)))),ROWS($1:2))),\"\")))","v":false}]
[null,{"$f":"IF(COUNTIF($T$39:$T$42,1)>1,IF(ROWS($1:3)<=COUNTIF($T$39:$T$42,1),INDEX($U$39:$U$42,SMALL(IF($T$39:$T$42=1,ROW(INDIRECT(\"1:\"&ROWS($T$39:$T$42)))),ROWS($1:3))),\"\"),IF(COUNTIF($T$39:$T$42,2)>1,IF(ROWS($1:3)<=COUNTIF($T$39:$T$42,2),INDEX($U$39:$U$42,SMALL(IF($T$39:$T$42=2,ROW(INDIRECT(\"1:\"&ROWS($T$39:$T$42)))),ROWS($1:3))),\"\")))","v":false}]
[null,{"$f":"IF(COUNTIF($T$39:$T$42,1)>1,IF(ROWS($1:4)<=COUNTIF($T$39:$T$42,1),INDEX($U$39:$U$42,SMALL(IF($T$39:$T$42=1,ROW(INDIRECT(\"1:\"&ROWS($T$39:$T$42)))),ROWS($1:4))),\"\"),IF(COUNTIF($T$39:$T$42,2)>1,IF(ROWS($1:4)<=COUNTIF($T$39:$T$42,2),INDEX($U$39:$U$42,SMALL(IF($T$39:$T$42=2,ROW(INDIRECT(\"1:\"&ROWS($T$39:$T$42)))),ROWS($1:4))),\"\")))","v":false}]
[null,"Tirage au sort G1"]
[null,{"$f":"IF(ROWS($1:1)<=COUNTIF($T$45:$T$48,1),INDEX($U$45:$U$48,SMALL(IF($T$45:$T$48=1,ROW(INDIRECT(\"1:\"&ROWS($T$45:$T$48)))),ROWS($1:1))),\"\")","v":"Belgique"}]
[null,{"$f":"IF(ROWS($1:2)<=COUNTIF($T$45:$T$48,1),INDEX($U$45:$U$48,SMALL(IF($T$45:$T$48=1,ROW(INDIRECT(\"1:\"&ROWS($T$45:$T$48)))),ROWS($1:2))),\"\")","v":""}]
[null,{"$f":"IF(ROWS($1:3)<=COUNTIF($T$45:$T$48,1),INDEX($U$45:$U$48,SMALL(IF($T$45:$T$48=1,ROW(INDIRECT(\"1:\"&ROWS($T$45:$T$48)))),ROWS($1:3))),\"\")","v":""}]
[null,{"$f":"IF(ROWS($1:4)<=COUNTIF($T$45:$T$48,1),INDEX($U$45:$U$48,SMALL(IF($T$45:$T$48=1,ROW(INDIRECT(\"1:\"&ROWS($T$45:$T$48)))),ROWS($1:4))),\"\")","v":""}]
[null,"Tirage au sort G2"]
[null,{"$f":"IF(COUNTIF($T$45:$T$48,1)>1,IF(ROWS($1:1)<=COUNTIF($T$45:$T$48,1),INDEX($U$45:$U$48,SMALL(IF($T$45:$T$48=1,ROW(INDIRECT(\"1:\"&ROWS($T$45:$T$48)))),ROWS($1:1))),\"\"),IF(COUNTIF($T$45:$T$48,2)>1,IF(ROWS($1:1)<=COUNTIF($T$45:$T$48,2),INDEX($U$45:$U$48,SMALL(IF($T$45:$T$48=2,ROW(INDIRECT(\"1:\"&ROWS($T$45:$T$48)))),ROWS($1:1))),\"\")))","v":false}]
[null,{"$f":"IF(COUNTIF($T$45:$T$48,1)>1,IF(ROWS($1:2)<=COUNTIF($T$45:$T$48,1),INDEX($U$45:$U$48,SMALL(IF($T$45:$T$48=1,ROW(INDIRECT(\"1:\"&ROWS($T$45:$T$48)))),ROWS($1:2))),\"\"),IF(COUNTIF($T$45:$T$48,2)>1,IF(ROWS($1:2)<=COUNTIF($T$45:$T$48,2),INDEX($U$45:$U$48,SMALL(IF($T$45:$T$48=2,ROW(INDIRECT(\"1:\"&ROWS($T$45:$T$48)))),ROWS($1:2))),\"\")))","v":false}]
[null,{"$f":"IF(COUNTIF($T$45:$T$48,1)>1,IF(ROWS($1:3)<=COUNTIF($T$45:$T$48,1),INDEX($U$45:$U$48,SMALL(IF($T$45:$T$48=1,ROW(INDIRECT(\"1:\"&ROWS($T$45:$T$48)))),ROWS($1:3))),\"\"),IF(COUNTIF($T$45:$T$48,2)>1,IF(ROWS($1:3)<=COUNTIF($T$45:$T$48,2),INDEX($U$45:$U$48,SMALL(IF($T$45:$T$48=2,ROW(INDIRECT(\"1:\"&ROWS($T$45:$T$48)))),ROWS($1:3))),\"\")))","v":false}]
[null,{"$f":"IF(COUNTIF($T$45:$T$48,1)>1,IF(ROWS($1:4)<=COUNTIF($T$45:$T$48,1),INDEX($U$45:$U$48,SMALL(IF($T$45:$T$48=1,ROW(INDIRECT(\"1:\"&ROWS($T$45:$T$48)))),ROWS($1:4))),\"\"),IF(COUNTIF($T$45:$T$48,2)>1,IF(ROWS($1:4)<=COUNTIF($T$45:$T$48,2),INDEX($U$45:$U$48,SMALL(IF($T$45:$T$48=2,ROW(INDIRECT(\"1:\"&ROWS($T$45:$T$48)))),ROWS($1:4))),\"\")))","v":false}]
[null,"Tirage au sort H1"]
[null,{"$f":"IF(ROWS($1:1)<=COUNTIF($T$51:$T$54,1),INDEX($U$51:$U$54,SMALL(IF($T$51:$T$54=1,ROW(INDIRECT(\"1:\"&ROWS($T$51:$T$54)))),ROWS($1:1))),\"\")","v":"Sénégal"}]
[null,{"$f":"IF(ROWS($1:2)<=COUNTIF($T$51:$T$54,1),INDEX($U$51:$U$54,SMALL(IF($T$51:$T$54=1,ROW(INDIRECT(\"1:\"&ROWS($T$51:$T$54)))),ROWS($1:2))),\"\")","v":""}]
[null,{"$f":"IF(ROWS($1:3)<=COUNTIF($T$51:$T$54,1),INDEX($U$51:$U$54,SMALL(IF($T$51:$T$54=1,ROW(INDIRECT(\"1:\"&ROWS($T$51:$T$54)))),ROWS($1:3))),\"\")","v":""}]
[null,{"$f":"IF(ROWS($1:4)<=COUNTIF($T$51:$T$54,1),INDEX($U$51:$U$54,SMALL(IF($T$51:$T$54=1,ROW(INDIRECT(\"1:\"&ROWS($T$51:$T$54)))),ROWS($1:4))),\"\")","v":""}]
[null,"Tirage au sort H2"]
[null,{"$f":"IF(COUNTIF($T$51:$T$54,1)>1,IF(ROWS($1:1)<=COUNTIF($T$51:$T$54,1),INDEX($U$51:$U$54,SMALL(IF($T$51:$T$54=1,ROW(INDIRECT(\"1:\"&ROWS($T$51:$T$54)))),ROWS($1:1))),\"\"),IF(COUNTIF($T$51:$T$54,2)>1,IF(ROWS($1:1)<=COUNTIF($T$51:$T$54,2),INDEX($U$51:$U$54,SMALL(IF($T$51:$T$54=2,ROW(INDIRECT(\"1:\"&ROWS($T$51:$T$54)))),ROWS($1:1))),\"\")))","v":false}]
[null,{"$f":"IF(COUNTIF($T$51:$T$54,1)>1,IF(ROWS($1:2)<=COUNTIF($T$51:$T$54,1),INDEX($U$51:$U$54,SMALL(IF($T$51:$T$54=1,ROW(INDIRECT(\"1:\"&ROWS($T$51:$T$54)))),ROWS($1:2))),\"\"),IF(COUNTIF($T$51:$T$54,2)>1,IF(ROWS($1:2)<=COUNTIF($T$51:$T$54,2),INDEX($U$51:$U$54,SMALL(IF($T$51:$T$54=2,ROW(INDIRECT(\"1:\"&ROWS($T$51:$T$54)))),ROWS($1:2))),\"\")))","v":false}]
[null,{"$f":"IF(COUNTIF($T$51:$T$54,1)>1,IF(ROWS($1:3)<=COUNTIF($T$51:$T$54,1),INDEX($U$51:$U$54,SMALL(IF($T$51:$T$54=1,ROW(INDIRECT(\"1:\"&ROWS($T$51:$T$54)))),ROWS($1:3))),\"\"),IF(COUNTIF($T$51:$T$54,2)>1,IF(ROWS($1:3)<=COUNTIF($T$51:$T$54,2),INDEX($U$51:$U$54,SMALL(IF($T$51:$T$54=2,ROW(INDIRECT(\"1:\"&ROWS($T$51:$T$54)))),ROWS($1:3))),\"\")))","v":false}]
[null,{"$f":"IF(COUNTIF($T$51:$T$54,1)>1,IF(ROWS($1:4)<=COUNTIF($T$51:$T$54,1),INDEX($U$51:$U$54,SMALL(IF($T$51:$T$54=1,ROW(INDIRECT(\"1:\"&ROWS($T$51:$T$54)))),ROWS($1:4))),\"\"),IF(COUNTIF($T$51:$T$54,2)>1,IF(ROWS($1:4)<=COUNTIF($T$51:$T$54,2),INDEX($U$51:$U$54,SMALL(IF($T$51:$T$54=2,ROW(INDIRECT(\"1:\"&ROWS($T$51:$T$54)))),ROWS($1:4))),\"\")))","v":false}]

{"sheet":"Alaeddine","index":14,"n_rows":138,"n_cols":46,"rows_kept":138,"cut":false,"hidden":false,"merged":[[2,1,2,8],[3,1,3,8],[3,9,3,12]]}
[]
[null,"Pronostics de :"]
[]
[null,{"$f":"MID(CELL(\"filename\",A1),FIND(\"]\",CELL(\"filename\",A1))+1,32)","v":"Alaeddine"}]
[]
[null,"SAISIE DES PRONOSTICS",null,null,null,null,null,null,null,null,null,null,null,null,null,null,null,null,null,"GROUPES",null,null,null,null,null,null,null,null,null,null,null,null,"SCORE PRONOSTIQUEUR",null,null,null,null,null,null,null,null,{"$f":"AN8+AN12","v":2}]
[null,"Date","Heure","Match","Groupe",1,"N",2,null,"Buts",null,null,"Buts"]
[null,{"$f":"VLOOKUP($D8,TABLEAU_MATCHS[#All],2,FALSE)","v":"2018-06-14"},{"$f":"VLOOKUP($D8,TABLEAU_MATCHS[#All],3,FALSE)","v":"17:00:00"},1,{"$f":"\"Groupe \"&VLOOKUP($I8,TABLEAU_TEAMS[[#All],[TEAM]:[GROUP_INITIAL_RANK]],2,FALSE)","v":"Groupe A"},1.3,4.3,10,{"$f":"VLOOKUP($D8,TABLEAU_MATCHS[#All],4,FALSE)","v":"Russie"},1,null,{"$f":"VLOOKUP($D8,TABLEAU_MATCHS[#All],5,FALSE)","v":"Arabie Saoudite"},0,{"$f":"IF(OR(ISBLANK(RESULTATS!J8),ISBLANK(J8)),\"\",IF(AND(Alaeddine!J8=RESULTATS!J8,Alaeddine!M8=RESULTATS!M8),3,IF(OR(AND(Alaeddine!J8>Alaeddine!M8,RESULTATS!J8>RESULTATS!M8),AND(Alaeddine!J8<Alaeddine!M8,RESULTATS!J8<RESULTATS!M8),AND(Alaeddine!J8=Alaeddine!M8,RESULTATS!J8=RESULTATS!M8)),1,0)))","v":1},null,null,null,null,null,"Rg","Groupe A","MJ","G","N","P","BP","BC","+/-","Pts",null,null,null,"Phases de groupes",null,null,null,null,null,null,{"$f":"N56","v":2},null,"points"]
[null,{"$f":"VLOOKUP($D9,TABLEAU_MATCHS[#All],2,FALSE)","v":"2018-06-15"},{"$f":"VLOOKUP($D9,TABLEAU_MATCHS[#All],3,FALSE)","v":"14:00:00"},2,{"$f":"\"Groupe \"&VLOOKUP($I9,TABLEAU_TEAMS[[#All],[TEAM]:[GROUP_INITIAL_RANK]],2,FALSE)","v":"Groupe A"},2.2000000000000002,2.9,3.25,{"$f":"VLOOKUP($D9,TABLEAU_MATCHS[#All],4,FALSE)","v":"Egypte"},2,null,{"$f":"VLOOKUP($D9,TABLEAU_MATCHS[#All],5,FALSE)","v":"Uruguay"},2,{"$f":"IF(OR(ISBLANK(RESULTATS!J9),ISBLANK(J9)),\"\",IF(AND(Alaeddine!J9=RESULTATS!J9,Alaeddine!M9=RESULTATS!M9),3,IF(OR(AND(Alaeddine!J9>Alaeddine!M9,RESULTATS!J9>RESULTATS!M9),AND(Alaeddine!J9<Alaeddine!M9,RESULTATS!J9<RESULTATS!M9),AND(Alaeddine!J9=Alaeddine!M9,RESULTATS!J9=RESULTATS!M9)),1,0)))","v":0},null,null,null,{"$f":"INDEX($R60:$R63,MATCH(SMALL(COUNTIF($R60:$R63,\">=\"&$R60:$R63),ROW(INDIRECT(\"1:\"&ROWS($R60:$R63)))),COUNTIF($R60:$R63,\">=\"&$R60:$R63),0))","v":"07360Russie"},{"$f":"INDEX($S60:$S63,MATCH(SMALL(COUNTIF($R60:$R63,\">=\"&$R60:$R63),ROW(INDIRECT(\"1:\"&ROWS($R60:$R63)))),COUNTIF($R60:$R63,\">=\"&$R60:$R63),0))","v":7360},{"$f":"INDEX($T60:$T63,MATCH(SMALL(COUNTIF($R60:$R63,\">=\"&$R60:$R63),ROW(INDIRECT(\"1:\"&ROWS($R60:$R63)))),COUNTIF($R60:$R63,\">=\"&$R60:$R63),0))","v":1},{"$f":"INDEX($U60:$U63,MATCH(SMALL(COUNTIF($R60:$R63,\">=\"&$R60:$R63),ROW(INDIRECT(\"1:\"&ROWS($R60:$R63)))),COUNTIF($R60:$R63,\">=\"&$R60:$R63),0))","v":"Russie"},{"$f":"SUMPRODUCT((Teams1=U9)*(Teams1_Score<>\"\"))+SUMPRODUCT((Teams2=U9)*(Teams2_Score<>\"\"))","v":3},{"$f":"SUMPRODUCT((Teams1=U9)*(Teams1_Score>Teams2_Score))+SUMPRODUCT((Teams2=U9)*(Teams2_Score>Teams1_Score))","v":2},{"$f":"SUMPRODUCT((Teams1=U9)*(Teams1_Score=Teams2_Score)*(Teams1_Score<>\"\"))+SUMPRODUCT((Teams2=U9)*(Teams2_Score=Teams1_Score)*(Teams2_Score<>\"\"))","v":1},{"$f":"SUMPRODUCT((Teams1=U9)*(Teams1_Score<Teams2_Score))+SUMPRODUCT((Teams2=U9)*(Teams2_Score<Teams1_Score))","v":0},{"$f":"SUMPRODUCT((Teams1=U9)*(Teams1_Score))+SUMPRODUCT((Teams2=U9)*(Teams2_Score))","v":6},{"$f":"SUMPRODUCT((Teams1=U9)*(Teams2_Score))+SUMPRODUCT((Teams2=U9)*(Teams1_Score))","v":3},{"$f":"Z9-AA9","v":3},{"$f":"3*W9+X9","v":7},null,null,null,"Vainqueur ou nul trouvé (1 pt)",null,null,{"$f":"COUNTIF($N$8:$N$55,1)+COUNTIF($N$8:$N$55,3)","v":2},"matchs",null,null,{"$f":"AJ9","v":2},null,"points"]
[null,{"$f":"VLOOKUP($D10,TABLEAU_MATCHS[#All],2,FALSE)","v":"2018-06-15"},{"$f":"VLOOKUP($D10,TABLEAU_MATCHS[#All],3,FALSE)","v":"17:00:00"},3,{"$f":"\"Groupe \"&VLOOKUP($I10,TABLEAU_TEAMS[[#All],[TEAM]:[GROUP_INITIAL_RANK]],2,FALSE)","v":"Groupe B"},1.8,3.05,4.5,{"$f":"VLOOKUP($D10,TABLEAU_MATCHS[#All],4,FALSE)","v":"Maroc"},2,null,{"$f":"VLOOKUP($D10,TABLEAU_MATCHS[#All],5,FALSE)","v":"RI Iran"},1,{"$f":"IF(OR(ISBLANK(RESULTATS!J10),ISBLANK(J10)),\"\",IF(AND(Alaeddine!J10=RESULTATS!J10,Alaeddine!M10=RESULTATS!M10),3,IF(OR(AND(Alaeddine!J10>Alaeddine!M10,RESULTATS!J10>RESULTATS!M10),AND(Alaeddine!J10<Alaeddine!M10,RESULTATS!J10<RESULTATS!M10),AND(Alaeddine!J10=Alaeddine!M10,RESULTATS!J10=RESULTATS!M10)),1,0)))","v":0},null,null,null,"05480Uruguay",5480,2,"Uruguay",{"$f":"SUMPRODUCT((Teams1=U10)*(Teams1_Score<>\"\"))+SUMPRODUCT((Teams2=U10)*(Teams2_Score<>\"\"))","v":3},{"$f":"SUMPRODUCT((Teams1=U10)*(Teams1_Score>Teams2_Score))+SUMPRODUCT((Teams2=U10)*(Teams2_Score>Teams1_Score))","v":1},{"$f":"SUMPRODUCT((Teams1=U10)*(Teams1_Score=Teams2_Score)*(Teams1_Score<>\"\"))+SUMPRODUCT((Teams2=U10)*(Teams2_Score=Teams1_Score)*(Teams2_Score<>\"\"))","v":2},{"$f":"SUMPRODUCT((Teams1=U10)*(Teams1_Score<Teams2_Score))+SUMPRODUCT((Teams2=U10)*(Teams2_Score<Teams1_Score))","v":0},{"$f":"SUMPRODUCT((Teams1=U10)*(Teams1_Score))+SUMPRODUCT((Teams2=U10)*(Teams2_Score))","v":8},{"$f":"SUMPRODUCT((Teams1=U10)*(Teams2_Score))+SUMPRODUCT((Teams2=U10)*(Teams1_Score))","v":4},{"$f":"Z10-AA10","v":4},{"$f":"3*W10+X10","v":5},null,null,null,"Bonus score exact (2 pts)",null,null,{"$f":"+COUNTIF($N$8:$N$55,3)","v":0},"matchs",null,null,{"$f":"AJ10*2","v":0},null,"points"]
[null,{"$f":"VLOOKUP($D11,TABLEAU_MATCHS[#All],2,FALSE)","v":"2018-06-15"},{"$f":"VLOOKUP($D11,TABLEAU_MATCHS[#All],3,FALSE)","v":"20:00:00"},4,{"$f":"\"Groupe \"&VLOOKUP($I11,TABLEAU_TEAMS[[#All],[TEAM]:[GROUP_INITIAL_RANK]],2,FALSE)","v":"Groupe B"},1.42,3.9,7,{"$f":"VLOOKUP($D11,TABLEAU_MATCHS[#All],4,FALSE)","v":"Portugal"},1,null,{"$f":"VLOOKUP($D11,TABLEAU_MATCHS[#All],5,FALSE)","v":"Espagne"},1,{"$f":"IF(OR(ISBLANK(RESULTATS!J11),ISBLANK(J11)),\"\",IF(AND(Alaeddine!J11=RESULTATS!J11,Alaeddine!M11=RESULTATS!M11),3,IF(OR(AND(Alaeddine!J11>Alaeddine!M11,RESULTATS!J11>RESULTATS!M11),AND(Alaeddine!J11<Alaeddine!M11,RESULTATS!J11<RESULTATS!M11),AND(Alaeddine!J11=Alaeddine!M11,RESULTATS!J11=RESULTATS!M11)),1,0)))","v":1},null,null,null,"03950Egypte",3950,3,"Egypte",{"$f":"SUMPRODUCT((Teams1=U11)*(Teams1_Score<>\"\"))+SUMPRODUCT((Teams2=U11)*(Teams2_Score<>\"\"))","v":3},{"$f":"SUMPRODUCT((Teams1=U11)*(Teams1_Score>Teams2_Score))+SUMPRODUCT((Teams2=U11)*(Teams2_Score>Teams1_Score))","v":1},{"$f":"SUMPRODUCT((Teams1=U11)*(Teams1_Score=Teams2_Score)*(Teams1_Score<>\"\"))+SUMPRODUCT((Teams2=U11)*(Teams2_Score=Teams1_Score)*(Teams2_Score<>\"\"))","v":1},{"$f":"SUMPRODUCT((Teams1=U11)*(Teams1_Score<Teams2_Score))+SUMPRODUCT((Teams2=U11)*(Teams2_Score<Teams1_Score))","v":1},{"$f":"SUMPRODUCT((Teams1=U11)*(Teams1_Score))+SUMPRODUCT((Teams2=U11)*(Teams2_Score))","v":5},{"$f":"SUMPRODUCT((Teams1=U11)*(Teams2_Score))+SUMPRODUCT((Teams2=U11)*(Teams1_Score))","v":6},{"$f":"Z11-AA11","v":-1},{"$f":"3*W11+X11","v":4}]
[null,{"$f":"VLOOKUP($D12,TABLEAU_MATCHS[#All],2,FALSE)","v":"2018-06-16"},{"$f":"VLOOKUP($D12,TABLEAU_MATCHS[#All],3,FALSE)","v":"12:00:00"},5,{"$f":"\"Groupe \"&VLOOKUP($I12,TABLEAU_TEAMS[[#All],[TEAM]:[GROUP_INITIAL_RANK]],2,FALSE)","v":"Groupe C"},1.7,3.1,5,{"$f":"VLOOKUP($D12,TABLEAU_MATCHS[#All],4,FALSE)","v":"France"},2,null,{"$f":"VLOOKUP($D12,TABLEAU_MATCHS[#All],5,FALSE)","v":"Australie"},0,{"$f":"IF(OR(ISBLANK(RESULTATS!J12),ISBLANK(J12)),\"\",IF(AND(Alaeddine!J12=RESULTATS!J12,Alaeddine!M12=RESULTATS!M12),3,IF(OR(AND(Alaeddine!J12>Alaeddine!M12,RESULTATS!J12>RESULTATS!M12),AND(Alaeddine!J12<Alaeddine!M12,RESULTATS!J12<RESULTATS!M12),AND(Alaeddine!J12=Alaeddine!M12,RESULTATS!J12=RESULTATS!M12)),1,0)))","v":""},null,null,null,"-00590Arabie Saoudite",-590,4,"Arabie Saoudite",{"$f":"SUMPRODUCT((Teams1=U12)*(Teams1_Score<>\"\"))+SUMPRODUCT((Teams2=U12)*(Teams2_Score<>\"\"))","v":3},{"$f":"SUMPRODUCT((Teams1=U12)*(Teams1_Score>Teams2_Score))+SUMPRODUCT((Teams2=U12)*(Teams2_Score>Teams1_Score))","v":0},{"$f":"SUMPRODUCT((Teams1=U12)*(Teams1_Score=Teams2_Score)*(Teams1_Score<>\"\"))+SUMPRODUCT((Teams2=U12)*(Teams2_Score=Teams1_Score)*(Teams2_Score<>\"\"))","v":0},{"$f":"SUMPRODUCT((Teams1=U12)*(Teams1_Score<Teams2_Score))+SUMPRODUCT((Teams2=U12)*(Teams2_Score<Teams1_Score))","v":3},{"$f":"SUMPRODUCT((Teams1=U12)*(Teams1_Score))+SUMPRODUCT((Teams2=U12)*(Teams2_Score))","v":1},{"$f":"SUMPRODUCT((Teams1=U12)*(Teams2_Score))+SUMPRODUCT((Teams2=U12)*(Teams1_Score))","v":7},{"$f":"Z12-AA12","v":-6},{"$f":"3*W12+X12","v":0},null,null,null,"Phases finales",null,null,null,null,null,null,{"$f":"SUM(AN13:AN17)","v":0},null,"points"]
[null,{"$f":"VLOOKUP($D13,TABLEAU_MATCHS[#All],2,FALSE)","v":"2018-06-16"},{"$f":"VLOOKUP($D13,TABLEAU_MATCHS[#All],3,FALSE)","v":"18:00:00"},6,{"$f":"\"Groupe \"&VLOOKUP($I13,TABLEAU_TEAMS[[#All],[TEAM]:[GROUP_INITIAL_RANK]],2,FALSE)","v":"Groupe C"},2.5499999999999998,2.9,2.7,{"$f":"VLOOKUP($D13,TABLEAU_MATCHS[#All],4,FALSE)","v":"Pérou"},0,null,{"$f":"VLOOKUP($D13,TABLEAU_MATCHS[#All],5,FALSE)","v":"Danemark"},2,{"$f":"IF(OR(ISBLANK(RESULTATS!J13),ISBLANK(J13)),\"\",IF(AND(Alaeddine!J13=RESULTATS!J13,Alaeddine!M13=RESULTATS!M13),3,IF(OR(AND(Alaeddine!J13>Alaeddine!M13,RESULTATS!J13>RESULTATS!M13),AND(Alaeddine!J13<Alaeddine!M13,RESULTATS!J13<RESULTATS!M13),AND(Alaeddine!J13=Alaeddine!M13,RESULTATS!J13=RESULTATS!M13)),1,0)))","v":""},null,null,null,null,null,null,null,null,null,null,null,null,null,null,null,null,null,null,"Huitièmes de finaliste trouvés (2 pts)",null,null,{"$f":"IF(CLASSEMENT!PHASES_FINALES=\"OUI\",$AK$53+$AQ$53,0)","v":0},"équipe(s) ",null,null,{"$f":"AJ13*2","v":0},null,"points"]
[null,{"$f":"VLOOKUP($D14,TABLEAU_MATCHS[#All],2,FALSE)","v":"2018-06-16"},{"$f":"VLOOKUP($D14,TABLEAU_MATCHS[#All],3,FALSE)","v":"15:00:00"},7,{"$f":"\"Groupe \"&VLOOKUP($I14,TABLEAU_TEAMS[[#All],[TEAM]:[GROUP_INITIAL_RANK]],2,FALSE)","v":"Groupe D"},1.4,4,7.25,{"$f":"VLOOKUP($D14,TABLEAU_MATCHS[#All],4,FALSE)","v":"Argentine"},3,null,{"$f":"VLOOKUP($D14,TABLEAU_MATCHS[#All],5,FALSE)","v":"Islande"},2,{"$f":"IF(OR(ISBLANK(RESULTATS!J14),ISBLANK(J14)),\"\",IF(AND(Alaeddine!J14=RESULTATS!J14,Alaeddine!M14=RESULTATS!M14),3,IF(OR(AND(Alaeddine!J14>Alaeddine!M14,RESULTATS!J14>RESULTATS!M14),AND(Alaeddine!J14<Alaeddine!M14,RESULTATS!J14<RESULTATS!M14),AND(Alaeddine!J14=Alaeddine!M14,RESULTATS!J14=RESULTATS!M14)),1,0)))","v":""},null,null,null,null,null,"Rg","Groupe B","MJ","G","N","P","BP","BC","+/-","Pts",null,null,null,"Quarts de finalistes trouvés (4 pts)",null,null,{"$f":"IF(CLASSEMENT!PHASES_FINALES=\"OUI\",$AK$42+$AQ$42,0)","v":0},"équipe(s) ",null,null,{"$f":"AJ14*4","v":0},null,"points"]
[null,{"$f":"VLOOKUP($D15,TABLEAU_MATCHS[#All],2,FALSE)","v":"2018-06-16"},{"$f":"VLOOKUP($D15,TABLEAU_MATCHS[#All],3,FALSE)","v":"21:00:00"},8,{"$f":"\"Groupe \"&VLOOKUP($I15,TABLEAU_TEAMS[[#All],[TEAM]:[GROUP_INITIAL_RANK]],2,FALSE)","v":"Groupe D"},2.95,2.7,2.5499999999999998,{"$f":"VLOOKUP($D15,TABLEAU_MATCHS[#All],4,FALSE)","v":"Croatie"},3,null,{"$f":"VLOOKUP($D15,TABLEAU_MATCHS[#All],5,FALSE)","v":"Nigeria"},1,{"$f":"IF(OR(ISBLANK(RESULTATS!J15),ISBLANK(J15)),\"\",IF(AND(Alaeddine!J15=RESULTATS!J15,Alaeddine!M15=RESULTATS!M15),3,IF(OR(AND(Alaeddine!J15>Alaeddine!M15,RESULTATS!J15>RESULTATS!M15),AND(Alaeddine!J15<Alaeddine!M15,RESULTATS!J15<RESULTATS!M15),AND(Alaeddine!J15=Alaeddine!M15,RESULTATS!J15=RESULTATS!M15)),1,0)))","v":""},null,null,null,{"$f":"INDEX($R66:$R69,MATCH(SMALL(COUNTIF($R66:$R69,\">=\"&$R66:$R69),ROW(INDIRECT(\"1:\"&ROWS($R66:$R69)))),COUNTIF($R66:$R69,\">=\"&$R66:$R69),0))","v":"07680Espagne"},{"$f":"INDEX($S66:$S69,MATCH(SMALL(COUNTIF($R66:$R69,\">=\"&$R66:$R69),ROW(INDIRECT(\"1:\"&ROWS($R66:$R69)))),COUNTIF($R66:$R69,\">=\"&$R66:$R69),0))","v":7680},{"$f":"INDEX($T66:$T69,MATCH(SMALL(COUNTIF($R66:$R69,\">=\"&$R66:$R69),ROW(INDIRECT(\"1:\"&ROWS($R66:$R69)))),COUNTIF($R66:$R69,\">=\"&$R66:$R69),0))","v":1},{"$f":"INDEX($U66:$U69,MATCH(SMALL(COUNTIF($R66:$R69,\">=\"&$R66:$R69),ROW(INDIRECT(\"1:\"&ROWS($R66:$R69)))),COUNTIF($R66:$R69,\">=\"&$R66:$R69),0))","v":"Espagne"},{"$f":"SUMPRODUCT((Teams1=U15)*(Teams1_Score<>\"\"))+SUMPRODUCT((Teams2=U15)*(Teams2_Score<>\"\"))","v":3},{"$f":"SUMPRODUCT((Teams1=U15)*(Teams1_Score>Teams2_Score))+SUMPRODUCT((Teams2=U15)*(Teams2_Score>Teams1_Score))","v":2},{"$f":"SUMPRODUCT((Teams1=U15)*(Teams1_Score=Teams2_Score)*(Teams1_Score<>\"\"))+SUMPRODUCT((Teams2=U15)*(Teams2_Score=Teams1_Score)*(Teams2_Score<>\"\"))","v":1},{"$f":"SUMPRODUCT((Teams1=U15)*(Teams1_Score<Teams2_Score))+SUMPRODUCT((Teams2=U15)*(Teams2_Score<Teams1_Score))","v":0},{"$f":"SUMPRODUCT((Teams1=U15)*(Teams1_Score))+SUMPRODUCT((Teams2=U15)*(Teams2_Score))","v":8},{"$f":"SUMPRODUCT((Teams1=U15)*(Teams2_Score))+SUMPRODUCT((Teams2=U15)*(Teams1_Score))","v":2},{"$f":"Z15-AA15","v":6},{"$f":"3*W15+X15","v":7},null,null,null,"Demi finalistes trouvés (5 pts)",null,null,{"$f":"IF(CLASSEMENT!PHASES_FINALES=\"OUI\",$AK$35+$AQ$35,0)","v":0},"équipe(s) ",null,null,{"$f":"AJ15*5","v":0},null,"points"]
[null,{"$f":"VLOOKUP($D16,TABLEAU_MATCHS[#All],2,FALSE)","v":"2018-06-17"},{"$f":"VLOOKUP($D16,TABLEAU_MATCHS[#All],3,FALSE)","v":"14:00:00"},9,{"$f":"\"Groupe \"&VLOOKUP($I16,TABLEAU_TEAMS[[#All],[TEAM]:[GROUP_INITIAL_RANK]],2,FALSE)","v":"Groupe E"},2.35,2.9,2.95,{"$f":"VLOOKUP($D16,TABLEAU_MATCHS[#All],4,FALSE)","v":"Costa Rica"},0,null,{"$f":"VLOOKUP($D16,TABLEAU_MATCHS[#All],5,FALSE)","v":"Serbie"},2,{"$f":"IF(OR(ISBLANK(RESULTATS!J16),ISBLANK(J16)),\"\",IF(AND(Alaeddine!J16=RESULTATS!J16,Alaeddine!M16=RESULTATS!M16),3,IF(OR(AND(Alaeddine!J16>Alaeddine!M16,RESULTATS!J16>RESULTATS!M16),AND(Alaeddine!J16<Alaeddine!M16,RESULTATS!J16<RESULTATS!M16),AND(Alaeddine!J16=Alaeddine!M16,RESULTATS!J16=RESULTATS!M16)),1,0)))","v":""},null,null,null,"07670Portugal",7670,2,"Portugal",{"$f":"SUMPRODUCT((Teams1=U16)*(Teams1_Score<>\"\"))+SUMPRODUCT((Teams2=U16)*(Teams2_Score<>\"\"))","v":3},{"$f":"SUMPRODUCT((Teams1=U16)*(Teams1_Score>Teams2_Score))+SUMPRODUCT((Teams2=U16)*(Teams2_Score>Teams1_Score))","v":2},{"$f":"SUMPRODUCT((Teams1=U16)*(Teams1_Score=Teams2_Score)*(Teams1_Score<>\"\"))+SUMPRODUCT((Teams2=U16)*(Teams2_Score=Teams1_Score)*(Teams2_Score<>\"\"))","v":1},{"$f":"SUMPRODUCT((Teams1=U16)*(Teams1_Score<Teams2_Score))+SUMPRODUCT((Teams2=U16)*(Teams2_Score<Teams1_Score))","v":0},{"$f":"SUMPRODUCT((Teams1=U16)*(Teams1_Score))+SUMPRODUCT((Teams2=U16)*(Teams2_Score))","v":7},{"$f":"SUMPRODUCT((Teams1=U16)*(Teams2_Score))+SUMPRODUCT((Teams2=U16)*(Teams1_Score))","v":1},{"$f":"Z16-AA16","v":6},{"$f":"3*W16+X16","v":7},null,null,null,"Finalistes trouvés (6 pts)",null,null,{"$f":"IF(CLASSEMENT!PHASES_FINALES=\"OUI\",$AK$25+$AQ$25,0)","v":0},"équipe(s) ",null,null,{"$f":"AJ16*6","v":0},null,"points"]
[null,{"$f":"VLOOKUP($D17,TABLEAU_MATCHS[#All],2,FALSE)","v":"2018-06-17"},{"$f":"VLOOKUP($D17,TABLEAU_MATCHS[#All],3,FALSE)","v":"20:00:00"},10,{"$f":"\"Groupe \"&VLOOKUP($I17,TABLEAU_TEAMS[[#All],[TEAM]:[GROUP_INITIAL_RANK]],2,FALSE)","v":"Groupe E"},1.28,4.7,9.5,{"$f":"VLOOKUP($D17,TABLEAU_MATCHS[#All],4,FALSE)","v":"Brésil"},3,null,{"$f":"VLOOKUP($D17,TABLEAU_MATCHS[#All],5,FALSE)","v":"Suisse"},0,{"$f":"IF(OR(ISBLANK(RESULTATS!J17),ISBLANK(J17)),\"\",IF(AND(Alaeddine!J17=RESULTATS!J17,Alaeddine!M17=RESULTATS!M17),3,IF(OR(AND(Alaeddine!J17>Alaeddine!M17,RESULTATS!J17>RESULTATS!M17),AND(Alaeddine!J17<Alaeddine!M17,RESULTATS!J17<RESULTATS!M17),AND(Alaeddine!J17=Alaeddine!M17,RESULTATS!J17=RESULTATS!M17)),1,0)))","v":""},null,null,null,"02630Maroc",2630,3,"Maroc",{"$f":"SUMPRODUCT((Teams1=U17)*(Teams1_Score<>\"\"))+SUMPRODUCT((Teams2=U17)*(Teams2_Score<>\"\"))","v":3},{"$f":"SUMPRODUCT((Teams1=U17)*(Teams1_Score>Teams2_Score))+SUMPRODUCT((Teams2=U17)*(Teams2_Score>Teams1_Score))","v":1},{"$f":"SUMPRODUCT((Teams1=U17)*(Teams1_Score=Teams2_Score)*(Teams1_Score<>\"\"))+SUMPRODUCT((Teams2=U17)*(Teams2_Score=Teams1_Score)*(Teams2_Score<>\"\"))","v":0},{"$f":"SUMPRODUCT((Teams1=U17)*(Teams1_Score<Teams2_Score))+SUMPRODUCT((Teams2=U17)*(Teams2_Score<Teams1_Score))","v":2},{"$f":"SUMPRODUCT((Teams1=U17)*(Teams1_Score))+SUMPRODUCT((Teams2=U17)*(Teams2_Score))","v":3},{"$f":"SUMPRODUCT((Teams1=U17)*(Teams2_Score))+SUMPRODUCT((Teams2=U17)*(Teams1_Score))","v":7},{"$f":"Z17-AA17","v":-4},{"$f":"3*W17+X17","v":3},null,null,null,"Champion du monde trouvé (7 pts)",null,null,{"$f":"IF(CLASSEMENT!PHASES_FINALES=\"OUI\",IF(AJ25<>\"\",IF($AT$25=RESULTATS!AS10,1,0),0),0)","v":0},"équipe",null,null,{"$f":"AJ17*7","v":0},null,"points"]
[null,{"$f":"VLOOKUP($D18,TABLEAU_MATCHS[#All],2,FALSE)","v":"2018-06-17"},{"$f":"VLOOKUP($D18,TABLEAU_MATCHS[#All],3,FALSE)","v":"17:00:00"},11,{"$f":"\"Groupe \"&VLOOKUP($I18,TABLEAU_TEAMS[[#All],[TEAM]:[GROUP_INITIAL_RANK]],2,FALSE)","v":"Groupe F"},1.34,4.3,7.5,{"$f":"VLOOKUP($D18,TABLEAU_MATCHS[#All],4,FALSE)","v":"Allemagne"},2,null,{"$f":"VLOOKUP($D18,TABLEAU_MATCHS[#All],5,FALSE)","v":"Mexique"},1,{"$f":"IF(OR(ISBLANK(RESULTATS!J18),ISBLANK(J18)),\"\",IF(AND(Alaeddine!J18=RESULTATS!J18,Alaeddine!M18=RESULTATS!M18),3,IF(OR(AND(Alaeddine!J18>Alaeddine!M18,RESULTATS!J18>RESULTATS!M18),AND(Alaeddine!J18<Alaeddine!M18,RESULTATS!J18<RESULTATS!M18),AND(Alaeddine!J18=Alaeddine!M18,RESULTATS!J18=RESULTATS!M18)),1,0)))","v":""},null,null,null,"-00790RI Iran",-790,4,"RI Iran",{"$f":"SUMPRODUCT((Teams1=U18)*(Teams1_Score<>\"\"))+SUMPRODUCT((Teams2=U18)*(Teams2_Score<>\"\"))","v":3},{"$f":"SUMPRODUCT((Teams1=U18)*(Teams1_Score>Teams2_Score))+SUMPRODUCT((Teams2=U18)*(Teams2_Score>Teams1_Score))","v":0},{"$f":"SUMPRODUCT((Teams1=U18)*(Teams1_Score=Teams2_Score)*(Teams1_Score<>\"\"))+SUMPRODUCT((Teams2=U18)*(Teams2_Score=Teams1_Score)*(Teams2_Score<>\"\"))","v":0},{"$f":"SUMPRODUCT((Teams1=U18)*(Teams1_Score<Teams2_Score))+SUMPRODUCT((Teams2=U18)*(Teams2_Score<Teams1_Score))","v":3},{"$f":"SUMPRODUCT((Teams1=U18)*(Teams1_Score))+SUMPRODUCT((Teams2=U18)*(Teams2_Score))","v":1},{"$f":"SUMPRODUCT((Teams1=U18)*(Teams2_Score))+SUMPRODUCT((Teams2=U18)*(Teams1_Score))","v":9},{"$f":"Z18-AA18","v":-8},{"$f":"3*W18+X18","v":0}]
[null,{"$f":"VLOOKUP($D19,TABLEAU_MATCHS[#All],2,FALSE)","v":"2018-06-18"},{"$f":"VLOOKUP($D19,TABLEAU_MATCHS[#All],3,FALSE)","v":"14:00:00"},12,{"$f":"\"Groupe \"&VLOOKUP($I19,TABLEAU_TEAMS[[#All],[TEAM]:[GROUP_INITIAL_RANK]],2,FALSE)","v":"Groupe F"},3.3,2.95,2.15,{"$f":"VLOOKUP($D19,TABLEAU_MATCHS[#All],4,FALSE)","v":"Suède"},1,null,{"$f":"VLOOKUP($D19,TABLEAU_MATCHS[#All],5,FALSE)","v":"République de Corée"},1,{"$f":"IF(OR(ISBLANK(RESULTATS!J19),ISBLANK(J19)),\"\",IF(AND(Alaeddine!J19=RESULTATS!J19,Alaeddine!M19=RESULTATS!M19),3,IF(OR(AND(Alaeddine!J19>Alaeddine!M19,RESULTATS!J19>RESULTATS!M19),AND(Alaeddine!J19<Alaeddine!M19,RESULTATS!J19<RESULTATS!M19),AND(Alaeddine!J19=Alaeddine!M19,RESULTATS!J19=RESULTATS!M19)),1,0)))","v":""}]
[null,{"$f":"VLOOKUP($D20,TABLEAU_MATCHS[#All],2,FALSE)","v":"2018-06-18"},{"$f":"VLOOKUP($D20,TABLEAU_MATCHS[#All],3,FALSE)","v":"17:00:00"},13,{"$f":"\"Groupe \"&VLOOKUP($I20,TABLEAU_TEAMS[[#All],[TEAM]:[GROUP_INITIAL_RANK]],2,FALSE)","v":"Groupe G"},1.95,2.95,4,{"$f":"VLOOKUP($D20,TABLEAU_MATCHS[#All],4,FALSE)","v":"Belgique"},3,null,{"$f":"VLOOKUP($D20,TABLEAU_MATCHS[#All],5,FALSE)","v":"Panama"},0,{"$f":"IF(OR(ISBLANK(RESULTATS!J20),ISBLANK(J20)),\"\",IF(AND(Alaeddine!J20=RESULTATS!J20,Alaeddine!M20=RESULTATS!M20),3,IF(OR(AND(Alaeddine!J20>Alaeddine!M20,RESULTATS!J20>RESULTATS!M20),AND(Alaeddine!J20<Alaeddine!M20,RESULTATS!J20<RESULTATS!M20),AND(Alaeddine!J20=Alaeddine!M20,RESULTATS!J20=RESULTATS!M20)),1,0)))","v":""},null,null,null,null,null,"Rg","Groupe C","MJ","G","N","P","BP","BC","+/-","Pts"]
[null,{"$f":"VLOOKUP($D21,TABLEAU_MATCHS[#All],2,FALSE)","v":"2018-06-18"},{"$f":"VLOOKUP($D21,TABLEAU_MATCHS[#All],3,FALSE)","v":"20:00:00"},14,{"$f":"\"Groupe \"&VLOOKUP($I21,TABLEAU_TEAMS[[#All],[TEAM]:[GROUP_INITIAL_RANK]],2,FALSE)","v":"Groupe G"},2.5499999999999998,2.9,2.7,{"$f":"VLOOKUP($D21,TABLEAU_MATCHS[#All],4,FALSE)","v":"Tunisie"},0,null,{"$f":"VLOOKUP($D21,TABLEAU_MATCHS[#All],5,FALSE)","v":"Angleterre"},2,{"$f":"IF(OR(ISBLANK(RESULTATS!J21),ISBLANK(J21)),\"\",IF(AND(Alaeddine!J21=RESULTATS!J21,Alaeddine!M21=RESULTATS!M21),3,IF(OR(AND(Alaeddine!J21>Alaeddine!M21,RESULTATS!J21>RESULTATS!M21),AND(Alaeddine!J21<Alaeddine!M21,RESULTATS!J21<RESULTATS!M21),AND(Alaeddine!J21=Alaeddine!M21,RESULTATS!J21=RESULTATS!M21)),1,0)))","v":""},null,null,null,{"$f":"INDEX($R72:$R75,MATCH(SMALL(COUNTIF($R72:$R75,\">=\"&$R72:$R75),ROW(INDIRECT(\"1:\"&ROWS($R72:$R75)))),COUNTIF($R72:$R75,\">=\"&$R72:$R75),0))","v":"09670France"},{"$f":"INDEX($S72:$S75,MATCH(SMALL(COUNTIF($R72:$R75,\">=\"&$R72:$R75),ROW(INDIRECT(\"1:\"&ROWS($R72:$R75)))),COUNTIF($R72:$R75,\">=\"&$R72:$R75),0))","v":9670},{"$f":"INDEX($T72:$T75,MATCH(SMALL(COUNTIF($R72:$R75,\">=\"&$R72:$R75),ROW(INDIRECT(\"1:\"&ROWS($R72:$R75)))),COUNTIF($R72:$R75,\">=\"&$R72:$R75),0))","v":1},{"$f":"INDEX($U72:$U75,MATCH(SMALL(COUNTIF($R72:$R75,\">=\"&$R72:$R75),ROW(INDIRECT(\"1:\"&ROWS($R72:$R75)))),COUNTIF($R72:$R75,\">=\"&$R72:$R75),0))","v":"France"},{"$f":"SUMPRODUCT((Teams1=U21)*(Teams1_Score<>\"\"))+SUMPRODUCT((Teams2=U21)*(Teams2_Score<>\"\"))","v":3},{"$f":"SUMPRODUCT((Teams1=U21)*(Teams1_Score>Teams2_Score))+SUMPRODUCT((Teams2=U21)*(Teams2_Score>Teams1_Score))","v":3},{"$f":"SUMPRODUCT((Teams1=U21)*(Teams1_Score=Teams2_Score)*(Teams1_Score<>\"\"))+SUMPRODUCT((Teams2=U21)*(Teams2_Score=Teams1_Score)*(Teams2_Score<>\"\"))","v":0},{"$f":"SUMPRODUCT((Teams1=U21)*(Teams1_Score<Teams2_Score))+SUMPRODUCT((Teams2=U21)*(Teams2_Score<Teams1_Score))","v":0},{"$f":"SUMPRODUCT((Teams1=U21)*(Teams1_Score))+SUMPRODUCT((Teams2=U21)*(Teams2_Score))","v":7},{"$f":"SUMPRODUCT((Teams1=U21)*(Teams2_Score))+SUMPRODUCT((Teams2=U21)*(Teams1_Score))","v":1},{"$f":"Z21-AA21","v":6},{"$f":"3*W21+X21","v":9},null,null,null,"PHASES FINALES"]
[null,{"$f":"VLOOKUP($D22,TABLEAU_MATCHS[#All],2,FALSE)","v":"2018-06-19"},{"$f":"VLOOKUP($D22,TABLEAU_MATCHS[#All],3,FALSE)","v":"17:00:00"},15,{"$f":"\"Groupe \"&VLOOKUP($I22,TABLEAU_TEAMS[[#All],[TEAM]:[GROUP_INITIAL_RANK]],2,FALSE)","v":"Groupe H"},1.38,3.9,8,{"$f":"VLOOKUP($D22,TABLEAU_MATCHS[#All],4,FALSE)","v":"Colombie"},2,null,{"$f":"VLOOKUP($D22,TABLEAU_MATCHS[#All],5,FALSE)","v":"Japon"},0,{"$f":"IF(OR(ISBLANK(RESULTATS!J22),ISBLANK(J22)),\"\",IF(AND(Alaeddine!J22=RESULTATS!J22,Alaeddine!M22=RESULTATS!M22),3,IF(OR(AND(Alaeddine!J22>Alaeddine!M22,RESULTATS!J22>RESULTATS!M22),AND(Alaeddine!J22<Alaeddine!M22,RESULTATS!J22<RESULTATS!M22),AND(Alaeddine!J22=Alaeddine!M22,RESULTATS!J22=RESULTATS!M22)),1,0)))","v":""},null,null,null,"04130Danemark",4130,2,"Danemark",{"$f":"SUMPRODUCT((Teams1=U22)*(Teams1_Score<>\"\"))+SUMPRODUCT((Teams2=U22)*(Teams2_Score<>\"\"))","v":3},{"$f":"SUMPRODUCT((Teams1=U22)*(Teams1_Score>Teams2_Score))+SUMPRODUCT((Teams2=U22)*(Teams2_Score>Teams1_Score))","v":1},{"$f":"SUMPRODUCT((Teams1=U22)*(Teams1_Score=Teams2_Score)*(Teams1_Score<>\"\"))+SUMPRODUCT((Teams2=U22)*(Teams2_Score=Teams1_Score)*(Teams2_Score<>\"\"))","v":1},{"$f":"SUMPRODUCT((Teams1=U22)*(Teams1_Score<Teams2_Score))+SUMPRODUCT((Teams2=U22)*(Teams2_Score<Teams1_Score))","v":1},{"$f":"SUMPRODUCT((Teams1=U22)*(Teams1_Score))+SUMPRODUCT((Teams2=U22)*(Teams2_Score))","v":3},{"$f":"SUMPRODUCT((Teams1=U22)*(Teams2_Score))+SUMPRODUCT((Teams2=U22)*(Teams1_Score))","v":2},{"$f":"Z22-AA22","v":1},{"$f":"3*W22+X22","v":4}]
[null,{"$f":"VLOOKUP($D23,TABLEAU_MATCHS[#All],2,FALSE)","v":"2018-06-19"},{"$f":"VLOOKUP($D23,TABLEAU_MATCHS[#All],3,FALSE)","v":"14:00:00"},16,{"$f":"\"Groupe \"&VLOOKUP($I23,TABLEAU_TEAMS[[#All],[TEAM]:[GROUP_INITIAL_RANK]],2,FALSE)","v":"Groupe H"},2.0499999999999998,2.9,3.5,{"$f":"VLOOKUP($D23,TABLEAU_MATCHS[#All],4,FALSE)","v":"Pologne"},2,null,{"$f":"VLOOKUP($D23,TABLEAU_MATCHS[#All],5,FALSE)","v":"Sénégal"},1,{"$f":"IF(OR(ISBLANK(RESULTATS!J23),ISBLANK(J23)),\"\",IF(AND(Alaeddine!J23=RESULTATS!J23,Alaeddine!M23=RESULTATS!M23),3,IF(OR(AND(Alaeddine!J23>Alaeddine!M23,RESULTATS!J23>RESULTATS!M23),AND(Alaeddine!J23<Alaeddine!M23,RESULTATS!J23<RESULTATS!M23),AND(Alaeddine!J23=Alaeddine!M23,RESULTATS!J23=RESULTATS!M23)),1,0)))","v":""},null,null,null,"04020Australie",4020,3,"Australie",{"$f":"SUMPRODUCT((Teams1=U23)*(Teams1_Score<>\"\"))+SUMPRODUCT((Teams2=U23)*(Teams2_Score<>\"\"))","v":3},{"$f":"SUMPRODUCT((Teams1=U23)*(Teams1_Score>Teams2_Score))+SUMPRODUCT((Teams2=U23)*(Teams2_Score>Teams1_Score))","v":1},{"$f":"SUMPRODUCT((Teams1=U23)*(Teams1_Score=Teams2_Score)*(Teams1_Score<>\"\"))+SUMPRODUCT((Teams2=U23)*(Teams2_Score=Teams1_Score)*(Teams2_Score<>\"\"))","v":1},{"$f":"SUMPRODUCT((Teams1=U23)*(Teams1_Score<Teams2_Score))+SUMPRODUCT((Teams2=U23)*(Teams2_Score<Teams1_Score))","v":1},{"$f":"SUMPRODUCT((Teams1=U23)*(Teams1_Score))+SUMPRODUCT((Teams2=U23)*(Teams2_Score))","v":2},{"$f":"SUMPRODUCT((Teams1=U23)*(Teams2_Score))+SUMPRODUCT((Teams2=U23)*(Teams1_Score))","v":2},{"$f":"Z23-AA23","v":0},{"$f":"3*W23+X23","v":4},null,null,"Date","Finale",null,null,"Buts",null,"Pen",null,null,null,"Buts",null,"Pen"]
[null,{"$f":"VLOOKUP($D24,TABLEAU_MATCHS[#All],2,FALSE)","v":"2018-06-19"},{"$f":"VLOOKUP($D24,TABLEAU_MATCHS[#All],3,FALSE)","v":"20:00:00"},17,{"$f":"\"Groupe \"&VLOOKUP($I24,TABLEAU_TEAMS[[#All],[TEAM]:[GROUP_INITIAL_RANK]],2,FALSE)","v":"Groupe A"},1.26,4.8,9,{"$f":"VLOOKUP($D24,TABLEAU_MATCHS[#All],4,FALSE)","v":"Russie"},3,null,{"$f":"VLOOKUP($D24,TABLEAU_MATCHS[#All],5,FALSE)","v":"Egypte"},1,{"$f":"IF(OR(ISBLANK(RESULTATS!J24),ISBLANK(J24)),\"\",IF(AND(Alaeddine!J24=RESULTATS!J24,Alaeddine!M24=RESULTATS!M24),3,IF(OR(AND(Alaeddine!J24>Alaeddine!M24,RESULTATS!J24>RESULTATS!M24),AND(Alaeddine!J24<Alaeddine!M24,RESULTATS!J24<RESULTATS!M24),AND(Alaeddine!J24=Alaeddine!M24,RESULTATS!J24=RESULTATS!M24)),1,0)))","v":""},null,null,null,"-00700Pérou",-700,4,"Pérou",{"$f":"SUMPRODUCT((Teams1=U24)*(Teams1_Score<>\"\"))+SUMPRODUCT((Teams2=U24)*(Teams2_Score<>\"\"))","v":3},{"$f":"SUMPRODUCT((Teams1=U24)*(Teams1_Score>Teams2_Score))+SUMPRODUCT((Teams2=U24)*(Teams2_Score>Teams1_Score))","v":0},{"$f":"SUMPRODUCT((Teams1=U24)*(Teams1_Score=Teams2_Score)*(Teams1_Score<>\"\"))+SUMPRODUCT((Teams2=U24)*(Teams2_Score=Teams1_Score)*(Teams2_Score<>\"\"))","v":0},{"$f":"SUMPRODUCT((Teams1=U24)*(Teams1_Score<Teams2_Score))+SUMPRODUCT((Teams2=U24)*(Teams2_Score<Teams1_Score))","v":3},{"$f":"SUMPRODUCT((Teams1=U24)*(Teams1_Score))+SUMPRODUCT((Teams2=U24)*(Teams2_Score))","v":0},{"$f":"SUMPRODUCT((Teams1=U24)*(Teams2_Score))+SUMPRODUCT((Teams2=U24)*(Teams1_Score))","v":7},{"$f":"Z24-AA24","v":-7},{"$f":"3*W24+X24","v":0}]
[null,{"$f":"VLOOKUP($D25,TABLEAU_MATCHS[#All],2,FALSE)","v":"2018-06-20"},{"$f":"VLOOKUP($D25,TABLEAU_MATCHS[#All],3,FALSE)","v":"17:00:00"},18,{"$f":"\"Groupe \"&VLOOKUP($I25,TABLEAU_TEAMS[[#All],[TEAM]:[GROUP_INITIAL_RANK]],2,FALSE)","v":"Groupe A"},3.5,3,2,{"$f":"VLOOKUP($D25,TABLEAU_MATCHS[#All],4,FALSE)","v":"Uruguay"},4,null,{"$f":"VLOOKUP($D25,TABLEAU_MATCHS[#All],5,FALSE)","v":"Arabie Saoudite"},0,{"$f":"IF(OR(ISBLANK(RESULTATS!J25),ISBLANK(J25)),\"\",IF(AND(Alaeddine!J25=RESULTATS!J25,Alaeddine!M25=RESULTATS!M25),3,IF(OR(AND(Alaeddine!J25>Alaeddine!M25,RESULTATS!J25>RESULTATS!M25),AND(Alaeddine!J25<Alaeddine!M25,RESULTATS!J25<RESULTATS!M25),AND(Alaeddine!J25=Alaeddine!M25,RESULTATS!J25=RESULTATS!M25)),1,0)))","v":""},null,null,null,null,null,null,null,null,null,null,null,null,null,null,null,null,null,"2018-07-15",null,{"$f":"+IF(AJ33<>\"\",IF(AI33>AO33,AH33,AN33),\"Vainqueur 1\")","v":"Brésil"},{"$f":"AJ25*10+AL25","v":20},2,{"$f":"IF(LEFT(AH25,5)<>\"Vainq\",COUNTIF(RESULTATS!$AG$10:$AM$10,AH25),0)","v":0},null,null,{"$f":"+IF(AJ34<>\"\",IF(AI34>AO34,AH34,AN34),\"Vainqueur 2\")","v":"Allemagne"},{"$f":"AP25*10+AR25","v":10},1,{"$f":"IF(LEFT(AN25,5)<>\"Vainq\",COUNTIF(RESULTATS!$AG$10:$AM$10,AN25),0)","v":0},null,null,{"$f":"IF(AJ25<>\"\",IF(AI25>AO25,AH25,AN25),\"\")","v":"Brésil"}]
[null,{"$f":"VLOOKUP($D26,TABLEAU_MATCHS[#All],2,FALSE)","v":"2018-06-20"},{"$f":"VLOOKUP($D26,TABLEAU_MATCHS[#All],3,FALSE)","v":"14:00:00"},19,{"$f":"\"Groupe \"&VLOOKUP($I26,TABLEAU_TEAMS[[#All],[TEAM]:[GROUP_INITIAL_RANK]],2,FALSE)","v":"Groupe B"},1.66,3.35,4.8,{"$f":"VLOOKUP($D26,TABLEAU_MATCHS[#All],4,FALSE)","v":"Portugal"},3,null,{"$f":"VLOOKUP($D26,TABLEAU_MATCHS[#All],5,FALSE)","v":"Maroc"},0,{"$f":"IF(OR(ISBLANK(RESULTATS!J26),ISBLANK(J26)),\"\",IF(AND(Alaeddine!J26=RESULTATS!J26,Alaeddine!M26=RESULTATS!M26),3,IF(OR(AND(Alaeddine!J26>Alaeddine!M26,RESULTATS!J26>RESULTATS!M26),AND(Alaeddine!J26<Alaeddine!M26,RESULTATS!J26<RESULTATS!M26),AND(Alaeddine!J26=Alaeddine!M26,RESULTATS!J26=RESULTATS!M26)),1,0)))","v":""},null,null,null,null,null,"Rg","Groupe D","MJ","G","N","P","BP","BC","+/-","Pts"]
[null,{"$f":"VLOOKUP($D27,TABLEAU_MATCHS[#All],2,FALSE)","v":"2018-06-20"},{"$f":"VLOOKUP($D27,TABLEAU_MATCHS[#All],3,FALSE)","v":"20:00:00"},20,{"$f":"\"Groupe \"&VLOOKUP($I27,TABLEAU_TEAMS[[#All],[TEAM]:[GROUP_INITIAL_RANK]],2,FALSE)","v":"Groupe B"},8.5,4.7,1.28,{"$f":"VLOOKUP($D27,TABLEAU_MATCHS[#All],4,FALSE)","v":"RI Iran"},0,null,{"$f":"VLOOKUP($D27,TABLEAU_MATCHS[#All],5,FALSE)","v":"Espagne"},4,{"$f":"IF(OR(ISBLANK(RESULTATS!J27),ISBLANK(J27)),\"\",IF(AND(Alaeddine!J27=RESULTATS!J27,Alaeddine!M27=RESULTATS!M27),3,IF(OR(AND(Alaeddine!J27>Alaeddine!M27,RESULTATS!J27>RESULTATS!M27),AND(Alaeddine!J27<Alaeddine!M27,RESULTATS!J27<RESULTATS!M27),AND(Alaeddine!J27=Alaeddine!M27,RESULTATS!J27=RESULTATS!M27)),1,0)))","v":""},null,null,null,{"$f":"INDEX($R78:$R81,MATCH(SMALL(COUNTIF($R78:$R81,\">=\"&$R78:$R81),ROW(INDIRECT(\"1:\"&ROWS($R78:$R81)))),COUNTIF($R78:$R81,\">=\"&$R78:$R81),0))","v":"09580Argentine"},{"$f":"INDEX($S78:$S81,MATCH(SMALL(COUNTIF($R78:$R81,\">=\"&$R78:$R81),ROW(INDIRECT(\"1:\"&ROWS($R78:$R81)))),COUNTIF($R78:$R81,\">=\"&$R78:$R81),0))","v":9580},{"$f":"INDEX($T78:$T81,MATCH(SMALL(COUNTIF($R78:$R81,\">=\"&$R78:$R81),ROW(INDIRECT(\"1:\"&ROWS($R78:$R81)))),COUNTIF($R78:$R81,\">=\"&$R78:$R81),0))","v":1},{"$f":"INDEX($U78:$U81,MATCH(SMALL(COUNTIF($R78:$R81,\">=\"&$R78:$R81),ROW(INDIRECT(\"1:\"&ROWS($R78:$R81)))),COUNTIF($R78:$R81,\">=\"&$R78:$R81),0))","v":"Argentine"},{"$f":"SUMPRODUCT((Teams1=U27)*(Teams1_Score<>\"\"))+SUMPRODUCT((Teams2=U27)*(Teams2_Score<>\"\"))","v":3},{"$f":"SUMPRODUCT((Teams1=U27)*(Teams1_Score>Teams2_Score))+SUMPRODUCT((Teams2=U27)*(Teams2_Score>Teams1_Score))","v":3},{"$f":"SUMPRODUCT((Teams1=U27)*(Teams1_Score=Teams2_Score)*(Teams1_Score<>\"\"))+SUMPRODUCT((Teams2=U27)*(Teams2_Score=Teams1_Score)*(Teams2_Score<>\"\"))","v":0},{"$f":"SUMPRODUCT((Teams1=U27)*(Teams1_Score<Teams2_Score))+SUMPRODUCT((Teams2=U27)*(Teams2_Score<Teams1_Score))","v":0},{"$f":"SUMPRODUCT((Teams1=U27)*(Teams1_Score))+SUMPRODUCT((Teams2=U27)*(Teams2_Score))","v":8},{"$f":"SUMPRODUCT((Teams1=U27)*(Teams2_Score))+SUMPRODUCT((Teams2=U27)*(Teams1_Score))","v":3},{"$f":"Z27-AA27","v":5},{"$f":"3*W27+X27","v":9},null,null,"Date","Petite Finale",null,null,"Buts",null,"Pen",null,null,null,"Buts",null,"Pen"]
[null,{"$f":"VLOOKUP($D28,TABLEAU_MATCHS[#All],2,FALSE)","v":"2018-06-21"},{"$f":"VLOOKUP($D28,TABLEAU_MATCHS[#All],3,FALSE)","v":"14:00:00"},21,{"$f":"\"Groupe \"&VLOOKUP($I28,TABLEAU_TEAMS[[#All],[TEAM]:[GROUP_INITIAL_RANK]],2,FALSE)","v":"Groupe C"},1.85,3,4,{"$f":"VLOOKUP($D28,TABLEAU_MATCHS[#All],4,FALSE)","v":"Danemark"},0,null,{"$f":"VLOOKUP($D28,TABLEAU_MATCHS[#All],5,FALSE)","v":"Australie"},0,{"$f":"IF(OR(ISBLANK(RESULTATS!J28),ISBLANK(J28)),\"\",IF(AND(Alaeddine!J28=RESULTATS!J28,Alaeddine!M28=RESULTATS!M28),3,IF(OR(AND(Alaeddine!J28>Alaeddine!M28,RESULTATS!J28>RESULTATS!M28),AND(Alaeddine!J28<Alaeddine!M28,RESULTATS!J28<RESULTATS!M28),AND(Alaeddine!J28=Alaeddine!M28,RESULTATS!J28=RESULTATS!M28)),1,0)))","v":""},null,null,null,"06250Croatie",6250,2,"Croatie",{"$f":"SUMPRODUCT((Teams1=U28)*(Teams1_Score<>\"\"))+SUMPRODUCT((Teams2=U28)*(Teams2_Score<>\"\"))","v":3},{"$f":"SUMPRODUCT((Teams1=U28)*(Teams1_Score>Teams2_Score))+SUMPRODUCT((Teams2=U28)*(Teams2_Score>Teams1_Score))","v":2},{"$f":"SUMPRODUCT((Teams1=U28)*(Teams1_Score=Teams2_Score)*(Teams1_Score<>\"\"))+SUMPRODUCT((Teams2=U28)*(Teams2_Score=Teams1_Score)*(Teams2_Score<>\"\"))","v":0},{"$f":"SUMPRODUCT((Teams1=U28)*(Teams1_Score<Teams2_Score))+SUMPRODUCT((Teams2=U28)*(Teams2_Score<Teams1_Score))","v":1},{"$f":"SUMPRODUCT((Teams1=U28)*(Teams1_Score))+SUMPRODUCT((Teams2=U28)*(Teams2_Score))","v":5},{"$f":"SUMPRODUCT((Teams1=U28)*(Teams2_Score))+SUMPRODUCT((Teams2=U28)*(Teams1_Score))","v":3},{"$f":"Z28-AA28","v":2},{"$f":"3*W28+X28","v":6}]
[null,{"$f":"VLOOKUP($D29,TABLEAU_MATCHS[#All],2,FALSE)","v":"2018-06-21"},{"$f":"VLOOKUP($D29,TABLEAU_MATCHS[#All],3,FALSE)","v":"17:00:00"},22,{"$f":"\"Groupe \"&VLOOKUP($I29,TABLEAU_TEAMS[[#All],[TEAM]:[GROUP_INITIAL_RANK]],2,FALSE)","v":"Groupe C"},2.2999999999999998,3,2.9,{"$f":"VLOOKUP($D29,TABLEAU_MATCHS[#All],4,FALSE)","v":"France"},3,null,{"$f":"VLOOKUP($D29,TABLEAU_MATCHS[#All],5,FALSE)","v":"Pérou"},0,{"$f":"IF(OR(ISBLANK(RESULTATS!J29),ISBLANK(J29)),\"\",IF(AND(Alaeddine!J29=RESULTATS!J29,Alaeddine!M29=RESULTATS!M29),3,IF(OR(AND(Alaeddine!J29>Alaeddine!M29,RESULTATS!J29>RESULTATS!M29),AND(Alaeddine!J29<Alaeddine!M29,RESULTATS!J29<RESULTATS!M29),AND(Alaeddine!J29=Alaeddine!M29,RESULTATS!J29=RESULTATS!M29)),1,0)))","v":""},null,null,null,"03040Islande",3040,3,"Islande",{"$f":"SUMPRODUCT((Teams1=U29)*(Teams1_Score<>\"\"))+SUMPRODUCT((Teams2=U29)*(Teams2_Score<>\"\"))","v":3},{"$f":"SUMPRODUCT((Teams1=U29)*(Teams1_Score>Teams2_Score))+SUMPRODUCT((Teams2=U29)*(Teams2_Score>Teams1_Score))","v":1},{"$f":"SUMPRODUCT((Teams1=U29)*(Teams1_Score=Teams2_Score)*(Teams1_Score<>\"\"))+SUMPRODUCT((Teams2=U29)*(Teams2_Score=Teams1_Score)*(Teams2_Score<>\"\"))","v":0},{"$f":"SUMPRODUCT((Teams1=U29)*(Teams1_Score<Teams2_Score))+SUMPRODUCT((Teams2=U29)*(Teams2_Score<Teams1_Score))","v":2},{"$f":"SUMPRODUCT((Teams1=U29)*(Teams1_Score))+SUMPRODUCT((Teams2=U29)*(Teams2_Score))","v":4},{"$f":"SUMPRODUCT((Teams1=U29)*(Teams2_Score))+SUMPRODUCT((Teams2=U29)*(Teams1_Score))","v":4},{"$f":"Z29-AA29","v":0},{"$f":"3*W29+X29","v":3},null,null,"2018-07-14",null,{"$f":"+IF(AJ33<>\"\",IF(AI33>AO33,AN33,AH33),\"Perdant 1\")","v":"France"},{"$f":"AJ29*10+AL29","v":10},1,null,null,null,{"$f":"+IF(AJ34<>\"\",IF(AI34>AO34,AN34,AH34),\"Perdant 2\")","v":"Espagne"},{"$f":"AP29*10+AR29","v":20},2]
[null,{"$f":"VLOOKUP($D30,TABLEAU_MATCHS[#All],2,FALSE)","v":"2018-06-21"},{"$f":"VLOOKUP($D30,TABLEAU_MATCHS[#All],3,FALSE)","v":"20:00:00"},23,{"$f":"\"Groupe \"&VLOOKUP($I30,TABLEAU_TEAMS[[#All],[TEAM]:[GROUP_INITIAL_RANK]],2,FALSE)","v":"Groupe D"},2.4,3,2.8,{"$f":"VLOOKUP($D30,TABLEAU_MATCHS[#All],4,FALSE)","v":"Argentine"},2,null,{"$f":"VLOOKUP($D30,TABLEAU_MATCHS[#All],5,FALSE)","v":"Croatie"},1,{"$f":"IF(OR(ISBLANK(RESULTATS!J30),ISBLANK(J30)),\"\",IF(AND(Alaeddine!J30=RESULTATS!J30,Alaeddine!M30=RESULTATS!M30),3,IF(OR(AND(Alaeddine!J30>Alaeddine!M30,RESULTATS!J30>RESULTATS!M30),AND(Alaeddine!J30<Alaeddine!M30,RESULTATS!J30<RESULTATS!M30),AND(Alaeddine!J30=Alaeddine!M30,RESULTATS!J30=RESULTATS!M30)),1,0)))","v":""},null,null,null,"-00690Nigeria",-690,4,"Nigeria",{"$f":"SUMPRODUCT((Teams1=U30)*(Teams1_Score<>\"\"))+SUMPRODUCT((Teams2=U30)*(Teams2_Score<>\"\"))","v":3},{"$f":"SUMPRODUCT((Teams1=U30)*(Teams1_Score>Teams2_Score))+SUMPRODUCT((Teams2=U30)*(Teams2_Score>Teams1_Score))","v":0},{"$f":"SUMPRODUCT((Teams1=U30)*(Teams1_Score=Teams2_Score)*(Teams1_Score<>\"\"))+SUMPRODUCT((Teams2=U30)*(Teams2_Score=Teams1_Score)*(Teams2_Score<>\"\"))","v":0},{"$f":"SUMPRODUCT((Teams1=U30)*(Teams1_Score<Teams2_Score))+SUMPRODUCT((Teams2=U30)*(Teams2_Score<Teams1_Score))","v":3},{"$f":"SUMPRODUCT((Teams1=U30)*(Teams1_Score))+SUMPRODUCT((Teams2=U30)*(Teams2_Score))","v":1},{"$f":"SUMPRODUCT((Teams1=U30)*(Teams2_Score))+SUMPRODUCT((Teams2=U30)*(Teams1_Score))","v":8},{"$f":"Z30-AA30","v":-7},{"$f":"3*W30+X30","v":0}]
[null,{"$f":"VLOOKUP($D31,TABLEAU_MATCHS[#All],2,FALSE)","v":"2018-06-22"},{"$f":"VLOOKUP($D31,TABLEAU_MATCHS[#All],3,FALSE)","v":"17:00:00"},24,{"$f":"\"Groupe \"&VLOOKUP($I31,TABLEAU_TEAMS[[#All],[TEAM]:[GROUP_INITIAL_RANK]],2,FALSE)","v":"Groupe D"},1.26,4.5999999999999996,9.5,{"$f":"VLOOKUP($D31,TABLEAU_MATCHS[#All],4,FALSE)","v":"Nigeria"},0,null,{"$f":"VLOOKUP($D31,TABLEAU_MATCHS[#All],5,FALSE)","v":"Islande"},2,{"$f":"IF(OR(ISBLANK(RESULTATS!J31),ISBLANK(J31)),\"\",IF(AND(Alaeddine!J31=RESULTATS!J31,Alaeddine!M31=RESULTATS!M31),3,IF(OR(AND(Alaeddine!J31>Alaeddine!M31,RESULTATS!J31>RESULTATS!M31),AND(Alaeddine!J31<Alaeddine!M31,RESULTATS!J31<RESULTATS!M31),AND(Alaeddine!J31=Alaeddine!M31,RESULTATS!J31=RESULTATS!M31)),1,0)))","v":""},null,null,null,null,null,null,null,null,null,null,null,null,null,null,null,null,null,"Date","Demi Finale",null,null,"Buts",null,"Pen",null,null,null,"Buts",null,"Pen"]
[null,{"$f":"VLOOKUP($D32,TABLEAU_MATCHS[#All],2,FALSE)","v":"2018-06-22"},{"$f":"VLOOKUP($D32,TABLEAU_MATCHS[#All],3,FALSE)","v":"14:00:00"},25,{"$f":"\"Groupe \"&VLOOKUP($I32,TABLEAU_TEAMS[[#All],[TEAM]:[GROUP_INITIAL_RANK]],2,FALSE)","v":"Groupe E"},3.5,2.95,2.1,{"$f":"VLOOKUP($D32,TABLEAU_MATCHS[#All],4,FALSE)","v":"Brésil"},4,null,{"$f":"VLOOKUP($D32,TABLEAU_MATCHS[#All],5,FALSE)","v":"Costa Rica"},0,{"$f":"IF(OR(ISBLANK(RESULTATS!J32),ISBLANK(J32)),\"\",IF(AND(Alaeddine!J32=RESULTATS!J32,Alaeddine!M32=RESULTATS!M32),3,IF(OR(AND(Alaeddine!J32>Alaeddine!M32,RESULTATS!J32>RESULTATS!M32),AND(Alaeddine!J32<Alaeddine!M32,RESULTATS!J32<RESULTATS!M32),AND(Alaeddine!J32=Alaeddine!M32,RESULTATS!J32=RESULTATS!M32)),1,0)))","v":""},null,null,null,null,null,"Rg","Groupe E","MJ","G","N","P","BP","BC","+/-","Pts"]
[null,{"$f":"VLOOKUP($D33,TABLEAU_MATCHS[#All],2,FALSE)","v":"2018-06-22"},{"$f":"VLOOKUP($D33,TABLEAU_MATCHS[#All],3,FALSE)","v":"20:00:00"},26,{"$f":"\"Groupe \"&VLOOKUP($I33,TABLEAU_TEAMS[[#All],[TEAM]:[GROUP_INITIAL_RANK]],2,FALSE)","v":"Groupe E"},4.8,3.25,1.62,{"$f":"VLOOKUP($D33,TABLEAU_MATCHS[#All],4,FALSE)","v":"Serbie"},0,null,{"$f":"VLOOKUP($D33,TABLEAU_MATCHS[#All],5,FALSE)","v":"Suisse"},0,{"$f":"IF(OR(ISBLANK(RESULTATS!J33),ISBLANK(J33)),\"\",IF(AND(Alaeddine!J33=RESULTATS!J33,Alaeddine!M33=RESULTATS!M33),3,IF(OR(AND(Alaeddine!J33>Alaeddine!M33,RESULTATS!J33>RESULTATS!M33),AND(Alaeddine!J33<Alaeddine!M33,RESULTATS!J33<RESULTATS!M33),AND(Alaeddine!J33=Alaeddine!M33,RESULTATS!J33=RESULTATS!M33)),1,0)))","v":""},null,null,null,{"$f":"INDEX($R84:$R87,MATCH(SMALL(COUNTIF($R84:$R87,\">=\"&$R84:$R87),ROW(INDIRECT(\"1:\"&ROWS($R84:$R87)))),COUNTIF($R84:$R87,\">=\"&$R84:$R87),0))","v":"10100Brésil"},{"$f":"INDEX($S84:$S87,MATCH(SMALL(COUNTIF($R84:$R87,\">=\"&$R84:$R87),ROW(INDIRECT(\"1:\"&ROWS($R84:$R87)))),COUNTIF($R84:$R87,\">=\"&$R84:$R87),0))","v":10100},{"$f":"INDEX($T84:$T87,MATCH(SMALL(COUNTIF($R84:$R87,\">=\"&$R84:$R87),ROW(INDIRECT(\"1:\"&ROWS($R84:$R87)))),COUNTIF($R84:$R87,\">=\"&$R84:$R87),0))","v":1},{"$f":"INDEX($U84:$U87,MATCH(SMALL(COUNTIF($R84:$R87,\">=\"&$R84:$R87),ROW(INDIRECT(\"1:\"&ROWS($R84:$R87)))),COUNTIF($R84:$R87,\">=\"&$R84:$R87),0))","v":"Brésil"},{"$f":"SUMPRODUCT((Teams1=U33)*(Teams1_Score<>\"\"))+SUMPRODUCT((Teams2=U33)*(Teams2_Score<>\"\"))","v":3},{"$f":"SUMPRODUCT((Teams1=U33)*(Teams1_Score>Teams2_Score))+SUMPRODUCT((Teams2=U33)*(Teams2_Score>Teams1_Score))","v":3},{"$f":"SUMPRODUCT((Teams1=U33)*(Teams1_Score=Teams2_Score)*(Teams1_Score<>\"\"))+SUMPRODUCT((Teams2=U33)*(Teams2_Score=Teams1_Score)*(Teams2_Score<>\"\"))","v":0},{"$f":"SUMPRODUCT((Teams1=U33)*(Teams1_Score<Teams2_Score))+SUMPRODUCT((Teams2=U33)*(Teams2_Score<Teams1_Score))","v":0},{"$f":"SUMPRODUCT((Teams1=U33)*(Teams1_Score))+SUMPRODUCT((Teams2=U33)*(Teams2_Score))","v":10},{"$f":"SUMPRODUCT((Teams1=U33)*(Teams2_Score))+SUMPRODUCT((Teams2=U33)*(Teams1_Score))","v":0},{"$f":"Z33-AA33","v":10},{"$f":"3*W33+X33","v":9},null,null,"2018-07-10",1,{"$f":"+IF(AJ38<>\"\",IF(AI38>AO38,AH38,AN38),\"Vainqueur A\")","v":"France"},{"$f":"AJ33*10+AL33","v":10},1,{"$f":"IF(LEFT(AH33,5)<>\"Vainq\",COUNTIF(RESULTATS!$AG$18:$AM$19,AH33),0)","v":0},null,null,{"$f":"+IF(AJ40<>\"\",IF(AI40>AO40,AH40,AN40),\"Vainqueur C\")","v":"Brésil"},{"$f":"AP33*10+AR33","v":20},2,{"$f":"IF(LEFT(AN33,5)<>\"Vainq\",COUNTIF(RESULTATS!$AG$18:$AM$19,AN33),0)","v":0}]
[null,{"$f":"VLOOKUP($D34,TABLEAU_MATCHS[#All],2,FALSE)","v":"2018-06-23"},{"$f":"VLOOKUP($D34,TABLEAU_MATCHS[#All],3,FALSE)","v":"20:00:00"},27,{"$f":"\"Groupe \"&VLOOKUP($I34,TABLEAU_TEAMS[[#All],[TEAM]:[GROUP_INITIAL_RANK]],2,FALSE)","v":"Groupe F"},1.1200000000000001,6.5,15,{"$f":"VLOOKUP($D34,TABLEAU_MATCHS[#All],4,FALSE)","v":"République de Corée"},0,null,{"$f":"VLOOKUP($D34,TABLEAU_MATCHS[#All],5,FALSE)","v":"Mexique"},2,{"$f":"IF(OR(ISBLANK(RESULTATS!J34),ISBLANK(J34)),\"\",IF(AND(Alaeddine!J34=RESULTATS!J34,Alaeddine!M34=RESULTATS!M34),3,IF(OR(AND(Alaeddine!J34>Alaeddine!M34,RESULTATS!J34>RESULTATS!M34),AND(Alaeddine!J34<Alaeddine!M34,RESULTATS!J34<RESULTATS!M34),AND(Alaeddine!J34=Alaeddine!M34,RESULTATS!J34=RESULTATS!M34)),1,0)))","v":""},null,null,null,"03920Suisse",3920,2,"Suisse",{"$f":"SUMPRODUCT((Teams1=U34)*(Teams1_Score<>\"\"))+SUMPRODUCT((Teams2=U34)*(Teams2_Score<>\"\"))","v":3},{"$f":"SUMPRODUCT((Teams1=U34)*(Teams1_Score>Teams2_Score))+SUMPRODUCT((Teams2=U34)*(Teams2_Score>Teams1_Score))","v":1},{"$f":"SUMPRODUCT((Teams1=U34)*(Teams1_Score=Teams2_Score)*(Teams1_Score<>\"\"))+SUMPRODUCT((Teams2=U34)*(Teams2_Score=Teams1_Score)*(Teams2_Score<>\"\"))","v":1},{"$f":"SUMPRODUCT((Teams1=U34)*(Teams1_Score<Teams2_Score))+SUMPRODUCT((Teams2=U34)*(Teams2_Score<Teams1_Score))","v":1},{"$f":"SUMPRODUCT((Teams1=U34)*(Teams1_Score))+SUMPRODUCT((Teams2=U34)*(Teams2_Score))","v":2},{"$f":"SUMPRODUCT((Teams1=U34)*(Teams2_Score))+SUMPRODUCT((Teams2=U34)*(Teams1_Score))","v":3},{"$f":"Z34-AA34","v":-1},{"$f":"3*W34+X34","v":4},null,null,"2018-07-11",2,{"$f":"+IF(AJ39<>\"\",IF(AI39>AO39,AH39,AN39),\"Vainqueur B\")","v":"Espagne"},{"$f":"AJ34*10+AL34","v":24},2,{"$f":"IF(LEFT(AH34,5)<>\"Vainq\",COUNTIF(RESULTATS!$AG$18:$AM$19,AH34),0)","v":0},4,null,{"$f":"+IF(AJ41<>\"\",IF(AI41>AO41,AH41,AN41),\"Vainqueur D\")","v":"Allemagne"},{"$f":"AP34*10+AR34","v":25},2,{"$f":"IF(LEFT(AN34,5)<>\"Vainq\",COUNTIF(RESULTATS!$AG$18:$AM$19,AN34),0)","v":0},5]
[null,{"$f":"VLOOKUP($D35,TABLEAU_MATCHS[#All],2,FALSE)","v":"2018-06-23"},{"$f":"VLOOKUP($D35,TABLEAU_MATCHS[#All],3,FALSE)","v":"17:00:00"},28,{"$f":"\"Groupe \"&VLOOKUP($I35,TABLEAU_TEAMS[[#All],[TEAM]:[GROUP_INITIAL_RANK]],2,FALSE)","v":"Groupe F"},2.8,2.95,2.4,{"$f":"VLOOKUP($D35,TABLEAU_MATCHS[#All],4,FALSE)","v":"Allemagne"},2,null,{"$f":"VLOOKUP($D35,TABLEAU_MATCHS[#All],5,FALSE)","v":"Suède"},1,{"$f":"IF(OR(ISBLANK(RESULTATS!J35),ISBLANK(J35)),\"\",IF(AND(Alaeddine!J35=RESULTATS!J35,Alaeddine!M35=RESULTATS!M35),3,IF(OR(AND(Alaeddine!J35>Alaeddine!M35,RESULTATS!J35>RESULTATS!M35),AND(Alaeddine!J35<Alaeddine!M35,RESULTATS!J35<RESULTATS!M35),AND(Alaeddine!J35=Alaeddine!M35,RESULTATS!J35=RESULTATS!M35)),1,0)))","v":""},null,null,null,"03920Serbie",3920,2,"Serbie",{"$f":"SUMPRODUCT((Teams1=U35)*(Teams1_Score<>\"\"))+SUMPRODUCT((Teams2=U35)*(Teams2_Score<>\"\"))","v":3},{"$f":"SUMPRODUCT((Teams1=U35)*(Teams1_Score>Teams2_Score))+SUMPRODUCT((Teams2=U35)*(Teams2_Score>Teams1_Score))","v":1},{"$f":"SUMPRODUCT((Teams1=U35)*(Teams1_Score=Teams2_Score)*(Teams1_Score<>\"\"))+SUMPRODUCT((Teams2=U35)*(Teams2_Score=Teams1_Score)*(Teams2_Score<>\"\"))","v":1},{"$f":"SUMPRODUCT((Teams1=U35)*(Teams1_Score<Teams2_Score))+SUMPRODUCT((Teams2=U35)*(Teams2_Score<Teams1_Score))","v":1},{"$f":"SUMPRODUCT((Teams1=U35)*(Teams1_Score))+SUMPRODUCT((Teams2=U35)*(Teams2_Score))","v":2},{"$f":"SUMPRODUCT((Teams1=U35)*(Teams2_Score))+SUMPRODUCT((Teams2=U35)*(Teams1_Score))","v":3},{"$f":"Z35-AA35","v":-1},{"$f":"3*W35+X35","v":4},null,null,null,null,null,null,null,{"$f":"SUM(AK33:AK34)","v":0},null,null,null,null,null,{"$f":"SUM(AQ33:AQ34)","v":0}]
[null,{"$f":"VLOOKUP($D36,TABLEAU_MATCHS[#All],2,FALSE)","v":"2018-06-23"},{"$f":"VLOOKUP($D36,TABLEAU_MATCHS[#All],3,FALSE)","v":"14:00:00"},29,{"$f":"\"Groupe \"&VLOOKUP($I36,TABLEAU_TEAMS[[#All],[TEAM]:[GROUP_INITIAL_RANK]],2,FALSE)","v":"Groupe G"},1.36,4,7.5,{"$f":"VLOOKUP($D36,TABLEAU_MATCHS[#All],4,FALSE)","v":"Belgique"},2,null,{"$f":"VLOOKUP($D36,TABLEAU_MATCHS[#All],5,FALSE)","v":"Tunisie"},2,{"$f":"IF(OR(ISBLANK(RESULTATS!J36),ISBLANK(J36)),\"\",IF(AND(Alaeddine!J36=RESULTATS!J36,Alaeddine!M36=RESULTATS!M36),3,IF(OR(AND(Alaeddine!J36>Alaeddine!M36,RESULTATS!J36>RESULTATS!M36),AND(Alaeddine!J36<Alaeddine!M36,RESULTATS!J36<RESULTATS!M36),AND(Alaeddine!J36=Alaeddine!M36,RESULTATS!J36=RESULTATS!M36)),1,0)))","v":""},null,null,null,"-00800Costa Rica",-800,4,"Costa Rica",{"$f":"SUMPRODUCT((Teams1=U36)*(Teams1_Score<>\"\"))+SUMPRODUCT((Teams2=U36)*(Teams2_Score<>\"\"))","v":3},{"$f":"SUMPRODUCT((Teams1=U36)*(Teams1_Score>Teams2_Score))+SUMPRODUCT((Teams2=U36)*(Teams2_Score>Teams1_Score))","v":0},{"$f":"SUMPRODUCT((Teams1=U36)*(Teams1_Score=Teams2_Score)*(Teams1_Score<>\"\"))+SUMPRODUCT((Teams2=U36)*(Teams2_Score=Teams1_Score)*(Teams2_Score<>\"\"))","v":0},{"$f":"SUMPRODUCT((Teams1=U36)*(Teams1_Score<Teams2_Score))+SUMPRODUCT((Teams2=U36)*(Teams2_Score<Teams1_Score))","v":3},{"$f":"SUMPRODUCT((Teams1=U36)*(Teams1_Score))+SUMPRODUCT((Teams2=U36)*(Teams2_Score))","v":0},{"$f":"SUMPRODUCT((Teams1=U36)*(Teams2_Score))+SUMPRODUCT((Teams2=U36)*(Teams1_Score))","v":8},{"$f":"Z36-AA36","v":-8},{"$f":"3*W36+X36","v":0},null,null,"Date","Quart de Finale",null,null,"Buts",null,"Pen",null,null,null,"Buts",null,"Pen"]
[null,{"$f":"VLOOKUP($D37,TABLEAU_MATCHS[#All],2,FALSE)","v":"2018-06-24"},{"$f":"VLOOKUP($D37,TABLEAU_MATCHS[#All],3,FALSE)","v":"14:00:00"},30,{"$f":"\"Groupe \"&VLOOKUP($I37,TABLEAU_TEAMS[[#All],[TEAM]:[GROUP_INITIAL_RANK]],2,FALSE)","v":"Groupe G"},4.7,3.4,1.62,{"$f":"VLOOKUP($D37,TABLEAU_MATCHS[#All],4,FALSE)","v":"Angleterre"},3,null,{"$f":"VLOOKUP($D37,TABLEAU_MATCHS[#All],5,FALSE)","v":"Panama"},1,{"$f":"IF(OR(ISBLANK(RESULTATS!J37),ISBLANK(J37)),\"\",IF(AND(Alaeddine!J37=RESULTATS!J37,Alaeddine!M37=RESULTATS!M37),3,IF(OR(AND(Alaeddine!J37>Alaeddine!M37,RESULTATS!J37>RESULTATS!M37),AND(Alaeddine!J37<Alaeddine!M37,RESULTATS!J37<RESULTATS!M37),AND(Alaeddine!J37=Alaeddine!M37,RESULTATS!J37=RESULTATS!M37)),1,0)))","v":""}]
[null,{"$f":"VLOOKUP($D38,TABLEAU_MATCHS[#All],2,FALSE)","v":"2018-06-24"},{"$f":"VLOOKUP($D38,TABLEAU_MATCHS[#All],3,FALSE)","v":"17:00:00"},31,{"$f":"\"Groupe \"&VLOOKUP($I38,TABLEAU_TEAMS[[#All],[TEAM]:[GROUP_INITIAL_RANK]],2,FALSE)","v":"Groupe H"},2.1,2.95,3.35,{"$f":"VLOOKUP($D38,TABLEAU_MATCHS[#All],4,FALSE)","v":"Japon"},0,null,{"$f":"VLOOKUP($D38,TABLEAU_MATCHS[#All],5,FALSE)","v":"Sénégal"},0,{"$f":"IF(OR(ISBLANK(RESULTATS!J38),ISBLANK(J38)),\"\",IF(AND(Alaeddine!J38=RESULTATS!J38,Alaeddine!M38=RESULTATS!M38),3,IF(OR(AND(Alaeddine!J38>Alaeddine!M38,RESULTATS!J38>RESULTATS!M38),AND(Alaeddine!J38<Alaeddine!M38,RESULTATS!J38<RESULTATS!M38),AND(Alaeddine!J38=Alaeddine!M38,RESULTATS!J38=RESULTATS!M38)),1,0)))","v":""},null,null,null,null,null,"Rg","Groupe F","MJ","G","N","P","BP","BC","+/-","Pts",null,null,"2018-07-06","A",{"$f":"+IF(AJ45<>\"\",IF(AI45>AO45,AH45,AN45),\"Vainqueur 1\")","v":"Russie"},{"$f":"AJ38*10+AL38","v":14},1,{"$f":"IF(LEFT(AH38,5)<>\"Vainq\",COUNTIF(RESULTATS!$AG$23:$AM$26,AH38),0)","v":0},4,null,{"$f":"+IF(AJ47<>\"\",IF(AI47>AO47,AH47,AN47),\"Vainqueur 3\")","v":"France"},{"$f":"AP38*10+AR38","v":16},1,{"$f":"IF(LEFT(AN38,5)<>\"Vainq\",COUNTIF(RESULTATS!$AG$23:$AM$26,AN38),0)","v":0},6]
[null,{"$f":"VLOOKUP($D39,TABLEAU_MATCHS[#All],2,FALSE)","v":"2018-06-24"},{"$f":"VLOOKUP($D39,TABLEAU_MATCHS[#All],3,FALSE)","v":"20:00:00"},32,{"$f":"\"Groupe \"&VLOOKUP($I39,TABLEAU_TEAMS[[#All],[TEAM]:[GROUP_INITIAL_RANK]],2,FALSE)","v":"Groupe H"},1.9,3,3.8,{"$f":"VLOOKUP($D39,TABLEAU_MATCHS[#All],4,FALSE)","v":"Pologne"},0,null,{"$f":"VLOOKUP($D39,TABLEAU_MATCHS[#All],5,FALSE)","v":"Colombie"},0,{"$f":"IF(OR(ISBLANK(RESULTATS!J39),ISBLANK(J39)),\"\",IF(AND(Alaeddine!J39=RESULTATS!J39,Alaeddine!M39=RESULTATS!M39),3,IF(OR(AND(Alaeddine!J39>Alaeddine!M39,RESULTATS!J39>RESULTATS!M39),AND(Alaeddine!J39<Alaeddine!M39,RESULTATS!J39<RESULTATS!M39),AND(Alaeddine!J39=Alaeddine!M39,RESULTATS!J39=RESULTATS!M39)),1,0)))","v":""},null,null,null,{"$f":"INDEX($R90:$R93,MATCH(SMALL(COUNTIF($R90:$R93,\">=\"&$R90:$R93),ROW(INDIRECT(\"1:\"&ROWS($R90:$R93)))),COUNTIF($R90:$R93,\">=\"&$R90:$R93),0))","v":"09570Allemagne"},{"$f":"INDEX($S90:$S93,MATCH(SMALL(COUNTIF($R90:$R93,\">=\"&$R90:$R93),ROW(INDIRECT(\"1:\"&ROWS($R90:$R93)))),COUNTIF($R90:$R93,\">=\"&$R90:$R93),0))","v":9570},{"$f":"INDEX($T90:$T93,MATCH(SMALL(COUNTIF($R90:$R93,\">=\"&$R90:$R93),ROW(INDIRECT(\"1:\"&ROWS($R90:$R93)))),COUNTIF($R90:$R93,\">=\"&$R90:$R93),0))","v":1},{"$f":"INDEX($U90:$U93,MATCH(SMALL(COUNTIF($R90:$R93,\">=\"&$R90:$R93),ROW(INDIRECT(\"1:\"&ROWS($R90:$R93)))),COUNTIF($R90:$R93,\">=\"&$R90:$R93),0))","v":"Allemagne"},{"$f":"SUMPRODUCT((Teams1=U39)*(Teams1_Score<>\"\"))+SUMPRODUCT((Teams2=U39)*(Teams2_Score<>\"\"))","v":3},{"$f":"SUMPRODUCT((Teams1=U39)*(Teams1_Score>Teams2_Score))+SUMPRODUCT((Teams2=U39)*(Teams2_Score>Teams1_Score))","v":3},{"$f":"SUMPRODUCT((Teams1=U39)*(Teams1_Score=Teams2_Score)*(Teams1_Score<>\"\"))+SUMPRODUCT((Teams2=U39)*(Teams2_Score=Teams1_Score)*(Teams2_Score<>\"\"))","v":0},{"$f":"SUMPRODUCT((Teams1=U39)*(Teams1_Score<Teams2_Score))+SUMPRODUCT((Teams2=U39)*(Teams2_Score<Teams1_Score))","v":0},{"$f":"SUMPRODUCT((Teams1=U39)*(Teams1_Score))+SUMPRODUCT((Teams2=U39)*(Teams2_Score))","v":7},{"$f":"SUMPRODUCT((Teams1=U39)*(Teams2_Score))+SUMPRODUCT((Teams2=U39)*(Teams1_Score))","v":2},{"$f":"Z39-AA39","v":5},{"$f":"3*W39+X39","v":9},null,null,"2018-07-07","B",{"$f":"+IF(AJ46<>\"\",IF(AI46>AO46,AH46,AN46),\"Vainqueur 2\")","v":"Espagne"},{"$f":"AJ39*10+AL39","v":15},1,{"$f":"IF(LEFT(AH39,5)<>\"Vainq\",COUNTIF(RESULTATS!$AG$23:$AM$26,AH39),0)","v":0},5,null,{"$f":"+IF(AJ48<>\"\",IF(AI48>AO48,AH48,AN48),\"Vainqueur 4\")","v":"Argentine"},{"$f":"AP39*10+AR39","v":14},1,{"$f":"IF(LEFT(AN39,5)<>\"Vainq\",COUNTIF(RESULTATS!$AG$23:$AM$26,AN39),0)","v":0},4]
[null,{"$f":"VLOOKUP($D40,TABLEAU_MATCHS[#All],2,FALSE)","v":"2018-06-25"},{"$f":"VLOOKUP($D40,TABLEAU_MATCHS[#All],3,FALSE)","v":"16:00:00"},33,{"$f":"\"Groupe \"&VLOOKUP($I40,TABLEAU_TEAMS[[#All],[TEAM]:[GROUP_INITIAL_RANK]],2,FALSE)","v":"Groupe A"},11,6.5,1.17,{"$f":"VLOOKUP($D40,TABLEAU_MATCHS[#All],4,FALSE)","v":"Uruguay"},2,null,{"$f":"VLOOKUP($D40,TABLEAU_MATCHS[#All],5,FALSE)","v":"Russie"},2,{"$f":"IF(OR(ISBLANK(RESULTATS!J40),ISBLANK(J40)),\"\",IF(AND(Alaeddine!J40=RESULTATS!J40,Alaeddine!M40=RESULTATS!M40),3,IF(OR(AND(Alaeddine!J40>Alaeddine!M40,RESULTATS!J40>RESULTATS!M40),AND(Alaeddine!J40<Alaeddine!M40,RESULTATS!J40<RESULTATS!M40),AND(Alaeddine!J40=Alaeddine!M40,RESULTATS!J40=RESULTATS!M40)),1,0)))","v":""},null,null,null,"06350Mexique",6350,2,"Mexique",{"$f":"SUMPRODUCT((Teams1=U40)*(Teams1_Score<>\"\"))+SUMPRODUCT((Teams2=U40)*(Teams2_Score<>\"\"))","v":3},{"$f":"SUMPRODUCT((Teams1=U40)*(Teams1_Score>Teams2_Score))+SUMPRODUCT((Teams2=U40)*(Teams2_Score>Teams1_Score))","v":2},{"$f":"SUMPRODUCT((Teams1=U40)*(Teams1_Score=Teams2_Score)*(Teams1_Score<>\"\"))+SUMPRODUCT((Teams2=U40)*(Teams2_Score=Teams1_Score)*(Teams2_Score<>\"\"))","v":0},{"$f":"SUMPRODUCT((Teams1=U40)*(Teams1_Score<Teams2_Score))+SUMPRODUCT((Teams2=U40)*(Teams2_Score<Teams1_Score))","v":1},{"$f":"SUMPRODUCT((Teams1=U40)*(Teams1_Score))+SUMPRODUCT((Teams2=U40)*(Teams2_Score))","v":5},{"$f":"SUMPRODUCT((Teams1=U40)*(Teams2_Score))+SUMPRODUCT((Teams2=U40)*(Teams1_Score))","v":2},{"$f":"Z40-AA40","v":3},{"$f":"3*W40+X40","v":6},null,null,"2018-07-06","C",{"$f":"+IF(AJ49<>\"\",IF(AI49>AO49,AH49,AN49),\"Vainqueur 5\")","v":"Brésil"},{"$f":"AJ40*10+AL40","v":20},2,{"$f":"IF(LEFT(AH40,5)<>\"Vainq\",COUNTIF(RESULTATS!$AG$23:$AM$26,AH40),0)","v":0},null,null,{"$f":"+IF(AJ51<>\"\",IF(AI51>AO51,AH51,AN51),\"Vainqueur 7\")","v":"Angleterre"},{"$f":"AP40*10+AR40","v":10},1,{"$f":"IF(LEFT(AN40,5)<>\"Vainq\",COUNTIF(RESULTATS!$AG$23:$AM$26,AN40),0)","v":0}]
[null,{"$f":"VLOOKUP($D41,TABLEAU_MATCHS[#All],2,FALSE)","v":"2018-06-25"},{"$f":"VLOOKUP($D41,TABLEAU_MATCHS[#All],3,FALSE)","v":"16:00:00"},34,{"$f":"\"Groupe \"&VLOOKUP($I41,TABLEAU_TEAMS[[#All],[TEAM]:[GROUP_INITIAL_RANK]],2,FALSE)","v":"Groupe A"},2.4,2.95,2.75,{"$f":"VLOOKUP($D41,TABLEAU_MATCHS[#All],4,FALSE)","v":"Arabie Saoudite"},1,null,{"$f":"VLOOKUP($D41,TABLEAU_MATCHS[#All],5,FALSE)","v":"Egypte"},2,{"$f":"IF(OR(ISBLANK(RESULTATS!J41),ISBLANK(J41)),\"\",IF(AND(Alaeddine!J41=RESULTATS!J41,Alaeddine!M41=RESULTATS!M41),3,IF(OR(AND(Alaeddine!J41>Alaeddine!M41,RESULTATS!J41>RESULTATS!M41),AND(Alaeddine!J41<Alaeddine!M41,RESULTATS!J41<RESULTATS!M41),AND(Alaeddine!J41=Alaeddine!M41,RESULTATS!J41=RESULTATS!M41)),1,0)))","v":""},null,null,null,"00720Suède",720,3,"Suède",{"$f":"SUMPRODUCT((Teams1=U41)*(Teams1_Score<>\"\"))+SUMPRODUCT((Teams2=U41)*(Teams2_Score<>\"\"))","v":3},{"$f":"SUMPRODUCT((Teams1=U41)*(Teams1_Score>Teams2_Score))+SUMPRODUCT((Teams2=U41)*(Teams2_Score>Teams1_Score))","v":0},{"$f":"SUMPRODUCT((Teams1=U41)*(Teams1_Score=Teams2_Score)*(Teams1_Score<>\"\"))+SUMPRODUCT((Teams2=U41)*(Teams2_Score=Teams1_Score)*(Teams2_Score<>\"\"))","v":1},{"$f":"SUMPRODUCT((Teams1=U41)*(Teams1_Score<Teams2_Score))+SUMPRODUCT((Teams2=U41)*(Teams2_Score<Teams1_Score))","v":2},{"$f":"SUMPRODUCT((Teams1=U41)*(Teams1_Score))+SUMPRODUCT((Teams2=U41)*(Teams2_Score))","v":2},{"$f":"SUMPRODUCT((Teams1=U41)*(Teams2_Score))+SUMPRODUCT((Teams2=U41)*(Teams1_Score))","v":5},{"$f":"Z41-AA41","v":-3},{"$f":"3*W41+X41","v":1},null,null,"2018-07-07","D",{"$f":"+IF(AJ50<>\"\",IF(AI50>AO50,AH50,AN50),\"Vainqueur 6\")","v":"Allemagne"},{"$f":"AJ41*10+AL41","v":30},3,{"$f":"IF(LEFT(AH41,5)<>\"Vainq\",COUNTIF(RESULTATS!$AG$23:$AM$26,AH41),0)","v":0},null,null,{"$f":"+IF(AJ52<>\"\",IF(AI52>AO52,AH52,AN52),\"Vainqueur 8\")","v":"Pologne"},{"$f":"AP41*10+AR41","v":10},1,{"$f":"IF(LEFT(AN41,5)<>\"Vainq\",COUNTIF(RESULTATS!$AG$23:$AM$26,AN41),0)","v":0}]
[null,{"$f":"VLOOKUP($D42,TABLEAU_MATCHS[#All],2,FALSE)","v":"2018-06-25"},{"$f":"VLOOKUP($D42,TABLEAU_MATCHS[#All],3,FALSE)","v":"20:00:00"},35,{"$f":"\"Groupe \"&VLOOKUP($I42,TABLEAU_TEAMS[[#All],[TEAM]:[GROUP_INITIAL_RANK]],2,FALSE)","v":"Groupe B"},13,6.5,1.1399999999999999,{"$f":"VLOOKUP($D42,TABLEAU_MATCHS[#All],4,FALSE)","v":"RI Iran"},0,null,{"$f":"VLOOKUP($D42,TABLEAU_MATCHS[#All],5,FALSE)","v":"Portugal"},3,{"$f":"IF(OR(ISBLANK(RESULTATS!J42),ISBLANK(J42)),\"\",IF(AND(Alaeddine!J42=RESULTATS!J42,Alaeddine!M42=RESULTATS!M42),3,IF(OR(AND(Alaeddine!J42>Alaeddine!M42,RESULTATS!J42>RESULTATS!M42),AND(Alaeddine!J42<Alaeddine!M42,RESULTATS!J42<RESULTATS!M42),AND(Alaeddine!J42=Alaeddine!M42,RESULTATS!J42=RESULTATS!M42)),1,0)))","v":""},null,null,null,"00510République de Corée",510,4,"République de Corée",{"$f":"SUMPRODUCT((Teams1=U42)*(Teams1_Score<>\"\"))+SUMPRODUCT((Teams2=U42)*(Teams2_Score<>\"\"))","v":3},{"$f":"SUMPRODUCT((Teams1=U42)*(Teams1_Score>Teams2_Score))+SUMPRODUCT((Teams2=U42)*(Teams2_Score>Teams1_Score))","v":0},{"$f":"SUMPRODUCT((Teams1=U42)*(Teams1_Score=Teams2_Score)*(Teams1_Score<>\"\"))+SUMPRODUCT((Teams2=U42)*(Teams2_Score=Teams1_Score)*(Teams2_Score<>\"\"))","v":1},{"$f":"SUMPRODUCT((Teams1=U42)*(Teams1_Score<Teams2_Score))+SUMPRODUCT((Teams2=U42)*(Teams2_Score<Teams1_Score))","v":2},{"$f":"SUMPRODUCT((Teams1=U42)*(Teams1_Score))+SUMPRODUCT((Teams2=U42)*(Teams2_Score))","v":1},{"$f":"SUMPRODUCT((Teams1=U42)*(Teams2_Score))+SUMPRODUCT((Teams2=U42)*(Teams1_Score))","v":6},{"$f":"Z42-AA42","v":-5},{"$f":"3*W42+X42","v":1},null,null,null,null,null,null,null,{"$f":"SUM(AK38:AK41)","v":0},null,null,null,null,null,{"$f":"SUM(AQ38:AQ41)","v":0}]
[null,{"$f":"VLOOKUP($D43,TABLEAU_MATCHS[#All],2,FALSE)","v":"2018-06-25"},{"$f":"VLOOKUP($D43,TABLEAU_MATCHS[#All],3,FALSE)","v":"20:00:00"},36,{"$f":"\"Groupe \"&VLOOKUP($I43,TABLEAU_TEAMS[[#All],[TEAM]:[GROUP_INITIAL_RANK]],2,FALSE)","v":"Groupe B"},2.25,3.1,2.95,{"$f":"VLOOKUP($D43,TABLEAU_MATCHS[#All],4,FALSE)","v":"Espagne"},3,null,{"$f":"VLOOKUP($D43,TABLEAU_MATCHS[#All],5,FALSE)","v":"Maroc"},1,{"$f":"IF(OR(ISBLANK(RESULTATS!J43),ISBLANK(J43)),\"\",IF(AND(Alaeddine!J43=RESULTATS!J43,Alaeddine!M43=RESULTATS!M43),3,IF(OR(AND(Alaeddine!J43>Alaeddine!M43,RESULTATS!J43>RESULTATS!M43),AND(Alaeddine!J43<Alaeddine!M43,RESULTATS!J43<RESULTATS!M43),AND(Alaeddine!J43=Alaeddine!M43,RESULTATS!J43=RESULTATS!M43)),1,0)))","v":""},null,null,null,null,null,null,null,null,null,null,null,null,null,null,null,null,null,"Date","Huitième de Finale",null,null,"Buts",null,"Pen",null,null,null,"Buts",null,"Pen"]
[null,{"$f":"VLOOKUP($D44,TABLEAU_MATCHS[#All],2,FALSE)","v":"2018-06-26"},{"$f":"VLOOKUP($D44,TABLEAU_MATCHS[#All],3,FALSE)","v":"16:00:00"},37,{"$f":"\"Groupe \"&VLOOKUP($I44,TABLEAU_TEAMS[[#All],[TEAM]:[GROUP_INITIAL_RANK]],2,FALSE)","v":"Groupe C"},4.3,3.25,1.76,{"$f":"VLOOKUP($D44,TABLEAU_MATCHS[#All],4,FALSE)","v":"Danemark"},1,null,{"$f":"VLOOKUP($D44,TABLEAU_MATCHS[#All],5,FALSE)","v":"France"},2,{"$f":"IF(OR(ISBLANK(RESULTATS!J44),ISBLANK(J44)),\"\",IF(AND(Alaeddine!J44=RESULTATS!J44,Alaeddine!M44=RESULTATS!M44),3,IF(OR(AND(Alaeddine!J44>Alaeddine!M44,RESULTATS!J44>RESULTATS!M44),AND(Alaeddine!J44<Alaeddine!M44,RESULTATS!J44<RESULTATS!M44),AND(Alaeddine!J44=Alaeddine!M44,RESULTATS!J44=RESULTATS!M44)),1,0)))","v":""},null,null,null,null,null,"Rg","Groupe G","MJ","G","N","P","BP","BC","+/-","Pts"]
[null,{"$f":"VLOOKUP($D45,TABLEAU_MATCHS[#All],2,FALSE)","v":"2018-06-26"},{"$f":"VLOOKUP($D45,TABLEAU_MATCHS[#All],3,FALSE)","v":"16:00:00"},38,{"$f":"\"Groupe \"&VLOOKUP($I45,TABLEAU_TEAMS[[#All],[TEAM]:[GROUP_INITIAL_RANK]],2,FALSE)","v":"Groupe C"},3.05,3,2.25,{"$f":"VLOOKUP($D45,TABLEAU_MATCHS[#All],4,FALSE)","v":"Australie"},2,null,{"$f":"VLOOKUP($D45,TABLEAU_MATCHS[#All],5,FALSE)","v":"Pérou"},0,{"$f":"IF(OR(ISBLANK(RESULTATS!J45),ISBLANK(J45)),\"\",IF(AND(Alaeddine!J45=RESULTATS!J45,Alaeddine!M45=RESULTATS!M45),3,IF(OR(AND(Alaeddine!J45>Alaeddine!M45,RESULTATS!J45>RESULTATS!M45),AND(Alaeddine!J45<Alaeddine!M45,RESULTATS!J45<RESULTATS!M45),AND(Alaeddine!J45=Alaeddine!M45,RESULTATS!J45=RESULTATS!M45)),1,0)))","v":""},null,null,null,{"$f":"INDEX($R96:$R99,MATCH(SMALL(COUNTIF($R96:$R99,\">=\"&$R96:$R99),ROW(INDIRECT(\"1:\"&ROWS($R96:$R99)))),COUNTIF($R96:$R99,\">=\"&$R96:$R99),0))","v":"07450Angleterre"},{"$f":"INDEX($S96:$S99,MATCH(SMALL(COUNTIF($R96:$R99,\">=\"&$R96:$R99),ROW(INDIRECT(\"1:\"&ROWS($R96:$R99)))),COUNTIF($R96:$R99,\">=\"&$R96:$R99),0))","v":7450},{"$f":"INDEX($T96:$T99,MATCH(SMALL(COUNTIF($R96:$R99,\">=\"&$R96:$R99),ROW(INDIRECT(\"1:\"&ROWS($R96:$R99)))),COUNTIF($R96:$R99,\">=\"&$R96:$R99),0))","v":1},{"$f":"INDEX($U96:$U99,MATCH(SMALL(COUNTIF($R96:$R99,\">=\"&$R96:$R99),ROW(INDIRECT(\"1:\"&ROWS($R96:$R99)))),COUNTIF($R96:$R99,\">=\"&$R96:$R99),0))","v":"Angleterre"},{"$f":"SUMPRODUCT((Teams1=U45)*(Teams1_Score<>\"\"))+SUMPRODUCT((Teams2=U45)*(Teams2_Score<>\"\"))","v":3},{"$f":"SUMPRODUCT((Teams1=U45)*(Teams1_Score>Teams2_Score))+SUMPRODUCT((Teams2=U45)*(Teams2_Score>Teams1_Score))","v":2},{"$f":"SUMPRODUCT((Teams1=U45)*(Teams1_Score=Teams2_Score)*(Teams1_Score<>\"\"))+SUMPRODUCT((Teams2=U45)*(Teams2_Score=Teams1_Score)*(Teams2_Score<>\"\"))","v":1},{"$f":"SUMPRODUCT((Teams1=U45)*(Teams1_Score<Teams2_Score))+SUMPRODUCT((Teams2=U45)*(Teams2_Score<Teams1_Score))","v":0},{"$f":"SUMPRODUCT((Teams1=U45)*(Teams1_Score))+SUMPRODUCT((Teams2=U45)*(Teams2_Score))","v":5},{"$f":"SUMPRODUCT((Teams1=U45)*(Teams2_Score))+SUMPRODUCT((Teams2=U45)*(Teams1_Score))","v":1},{"$f":"Z45-AA45","v":4},{"$f":"3*W45+X45","v":7},null,null,"2018-06-30",1,{"$f":"IF(SUM(V9:V12)=0,\"1er Groupe A\",IF(COUNTIF(T9:T12,1)=1,VLOOKUP(1,T9:U12,2,FALSE),IF(COUNTIF(T9:T12,1)>=2,\"Tirage au Sort A1\")))","v":"Russie"},{"$f":"AJ45*10+AL45","v":25},2,{"$f":"IF(AND(LEFT(AH45,3)<>\"1er\",LEFT(AH45,3)<>\"2nd\"),COUNTIF(RESULTATS!$AG$30:$AM$37,AH45),0)","v":1},5,null,{"$f":"IF(SUM(V15:V18)=0,\"2nd Groupe B\",IF(OR(COUNTIF(T15:T18,1)>1,COUNTIF(T15:T18,2)>1),\"Tirage au sort B2\",VLOOKUP(2,T15:U18,2,FALSE)))","v":"Portugal"},{"$f":"AP45*10+AR45","v":24},2,{"$f":"IF(AND(LEFT(AN45,3)<>\"1er\",LEFT(AN45,3)<>\"2nd\"),COUNTIF(RESULTATS!$AG$30:$AM$37,AN45),0)","v":0},4]
[null,{"$f":"VLOOKUP($D46,TABLEAU_MATCHS[#All],2,FALSE)","v":"2018-06-26"},{"$f":"VLOOKUP($D46,TABLEAU_MATCHS[#All],3,FALSE)","v":"20:00:00"},39,{"$f":"\"Groupe \"&VLOOKUP($I46,TABLEAU_TEAMS[[#All],[TEAM]:[GROUP_INITIAL_RANK]],2,FALSE)","v":"Groupe D"},2.4,2.9,2.85,{"$f":"VLOOKUP($D46,TABLEAU_MATCHS[#All],4,FALSE)","v":"Nigeria"},0,null,{"$f":"VLOOKUP($D46,TABLEAU_MATCHS[#All],5,FALSE)","v":"Argentine"},3,{"$f":"IF(OR(ISBLANK(RESULTATS!J46),ISBLANK(J46)),\"\",IF(AND(Alaeddine!J46=RESULTATS!J46,Alaeddine!M46=RESULTATS!M46),3,IF(OR(AND(Alaeddine!J46>Alaeddine!M46,RESULTATS!J46>RESULTATS!M46),AND(Alaeddine!J46<Alaeddine!M46,RESULTATS!J46<RESULTATS!M46),AND(Alaeddine!J46=Alaeddine!M46,RESULTATS!J46=RESULTATS!M46)),1,0)))","v":""},null,null,null,"05350Belgique",5350,2,"Belgique",{"$f":"SUMPRODUCT((Teams1=U46)*(Teams1_Score<>\"\"))+SUMPRODUCT((Teams2=U46)*(Teams2_Score<>\"\"))","v":3},{"$f":"SUMPRODUCT((Teams1=U46)*(Teams1_Score>Teams2_Score))+SUMPRODUCT((Teams2=U46)*(Teams2_Score>Teams1_Score))","v":1},{"$f":"SUMPRODUCT((Teams1=U46)*(Teams1_Score=Teams2_Score)*(Teams1_Score<>\"\"))+SUMPRODUCT((Teams2=U46)*(Teams2_Score=Teams1_Score)*(Teams2_Score<>\"\"))","v":2},{"$f":"SUMPRODUCT((Teams1=U46)*(Teams1_Score<Teams2_Score))+SUMPRODUCT((Teams2=U46)*(Teams2_Score<Teams1_Score))","v":0},{"$f":"SUMPRODUCT((Teams1=U46)*(Teams1_Score))+SUMPRODUCT((Teams2=U46)*(Teams2_Score))","v":5},{"$f":"SUMPRODUCT((Teams1=U46)*(Teams2_Score))+SUMPRODUCT((Teams2=U46)*(Teams1_Score))","v":2},{"$f":"Z46-AA46","v":3},{"$f":"3*W46+X46","v":5},null,null,"2018-07-01",2,{"$f":"IF(SUM(V15:V18)=0,\"1er Groupe B\",IF(COUNTIF(T15:T18,1)=1,VLOOKUP(1,T15:U18,2,FALSE),IF(COUNTIF(T15:T18,1)>=2,\"Tirage au Sort B1\")))","v":"Espagne"},{"$f":"AJ46*10+AL46","v":20},2,{"$f":"IF(AND(LEFT(AH46,3)<>\"1er\",LEFT(AH46,3)<>\"2nd\"),COUNTIF(RESULTATS!$AG$30:$AM$37,AH46),0)","v":0},null,null,{"$f":"IF(SUM(V9:V12)=0,\"2nd Groupe A\",IF(OR(COUNTIF(T9:T12,1)>1,COUNTIF(T9:T12,2)>1),\"Tirage au sort A2\",VLOOKUP(2,T9:U12,2,FALSE)))","v":"Uruguay"},10,1,{"$f":"IF(AND(LEFT(AN46,3)<>\"1er\",LEFT(AN46,3)<>\"2nd\"),COUNTIF(RESULTATS!$AG$30:$AM$37,AN46),0)","v":1}]
[null,{"$f":"VLOOKUP($D47,TABLEAU_MATCHS[#All],2,FALSE)","v":"2018-06-26"},{"$f":"VLOOKUP($D47,TABLEAU_MATCHS[#All],3,FALSE)","v":"20:00:00"},40,{"$f":"\"Groupe \"&VLOOKUP($I47,TABLEAU_TEAMS[[#All],[TEAM]:[GROUP_INITIAL_RANK]],2,FALSE)","v":"Groupe D"},6.5,3.7,1.44,{"$f":"VLOOKUP($D47,TABLEAU_MATCHS[#All],4,FALSE)","v":"Islande"},0,null,{"$f":"VLOOKUP($D47,TABLEAU_MATCHS[#All],5,FALSE)","v":"Croatie"},1,{"$f":"IF(OR(ISBLANK(RESULTATS!J47),ISBLANK(J47)),\"\",IF(AND(Alaeddine!J47=RESULTATS!J47,Alaeddine!M47=RESULTATS!M47),3,IF(OR(AND(Alaeddine!J47>Alaeddine!M47,RESULTATS!J47>RESULTATS!M47),AND(Alaeddine!J47<Alaeddine!M47,RESULTATS!J47<RESULTATS!M47),AND(Alaeddine!J47=Alaeddine!M47,RESULTATS!J47=RESULTATS!M47)),1,0)))","v":""},null,null,null,"03940Tunisie",3940,3,"Tunisie",{"$f":"SUMPRODUCT((Teams1=U47)*(Teams1_Score<>\"\"))+SUMPRODUCT((Teams2=U47)*(Teams2_Score<>\"\"))","v":3},{"$f":"SUMPRODUCT((Teams1=U47)*(Teams1_Score>Teams2_Score))+SUMPRODUCT((Teams2=U47)*(Teams2_Score>Teams1_Score))","v":1},{"$f":"SUMPRODUCT((Teams1=U47)*(Teams1_Score=Teams2_Score)*(Teams1_Score<>\"\"))+SUMPRODUCT((Teams2=U47)*(Teams2_Score=Teams1_Score)*(Teams2_Score<>\"\"))","v":1},{"$f":"SUMPRODUCT((Teams1=U47)*(Teams1_Score<Teams2_Score))+SUMPRODUCT((Teams2=U47)*(Teams2_Score<Teams1_Score))","v":1},{"$f":"SUMPRODUCT((Teams1=U47)*(Teams1_Score))+SUMPRODUCT((Teams2=U47)*(Teams2_Score))","v":4},{"$f":"SUMPRODUCT((Teams1=U47)*(Teams2_Score))+SUMPRODUCT((Teams2=U47)*(Teams1_Score))","v":5},{"$f":"Z47-AA47","v":-1},{"$f":"3*W47+X47","v":4},null,null,"2017-06-30",3,{"$f":"IF(SUM(V21:V24)=0,\"1er Groupe C\",IF(COUNTIF(T21:T24,1)=1,VLOOKUP(1,T21:U24,2,FALSE),IF(COUNTIF(T21:T24,1)>=2,\"Tirage au Sort C1\")))","v":"France"},10,1,{"$f":"IF(AND(LEFT(AH47,3)<>\"1er\",LEFT(AH47,3)<>\"2nd\"),COUNTIF(RESULTATS!$AG$30:$AM$37,AH47),0)","v":0},null,null,{"$f":"IF(SUM(V27:V30)=0,\"2nd Groupe D\",IF(OR(COUNTIF(T27:T30,1)>1,COUNTIF(T27:T30,2)>1),\"Tirage au sort D2\",VLOOKUP(2,T27:U30,2,FALSE)))","v":"Croatie"},0,0,{"$f":"IF(AND(LEFT(AN47,3)<>\"1er\",LEFT(AN47,3)<>\"2nd\"),COUNTIF(RESULTATS!$AG$30:$AM$37,AN47),0)","v":0}]
[null,{"$f":"VLOOKUP($D48,TABLEAU_MATCHS[#All],2,FALSE)","v":"2018-06-27"},{"$f":"VLOOKUP($D48,TABLEAU_MATCHS[#All],3,FALSE)","v":"20:00:00"},41,{"$f":"\"Groupe \"&VLOOKUP($I48,TABLEAU_TEAMS[[#All],[TEAM]:[GROUP_INITIAL_RANK]],2,FALSE)","v":"Groupe E"},6.5,3.5,1.48,{"$f":"VLOOKUP($D48,TABLEAU_MATCHS[#All],4,FALSE)","v":"Serbie"},0,null,{"$f":"VLOOKUP($D48,TABLEAU_MATCHS[#All],5,FALSE)","v":"Brésil"},3,{"$f":"IF(OR(ISBLANK(RESULTATS!J48),ISBLANK(J48)),\"\",IF(AND(Alaeddine!J48=RESULTATS!J48,Alaeddine!M48=RESULTATS!M48),3,IF(OR(AND(Alaeddine!J48>Alaeddine!M48,RESULTATS!J48>RESULTATS!M48),AND(Alaeddine!J48<Alaeddine!M48,RESULTATS!J48<RESULTATS!M48),AND(Alaeddine!J48=Alaeddine!M48,RESULTATS!J48=RESULTATS!M48)),1,0)))","v":""},null,null,null,"-00580Panama",-580,4,"Panama",{"$f":"SUMPRODUCT((Teams1=U48)*(Teams1_Score<>\"\"))+SUMPRODUCT((Teams2=U48)*(Teams2_Score<>\"\"))","v":3},{"$f":"SUMPRODUCT((Teams1=U48)*(Teams1_Score>Teams2_Score))+SUMPRODUCT((Teams2=U48)*(Teams2_Score>Teams1_Score))","v":0},{"$f":"SUMPRODUCT((Teams1=U48)*(Teams1_Score=Teams2_Score)*(Teams1_Score<>\"\"))+SUMPRODUCT((Teams2=U48)*(Teams2_Score=Teams1_Score)*(Teams2_Score<>\"\"))","v":0},{"$f":"SUMPRODUCT((Teams1=U48)*(Teams1_Score<Teams2_Score))+SUMPRODUCT((Teams2=U48)*(Teams2_Score<Teams1_Score))","v":3},{"$f":"SUMPRODUCT((Teams1=U48)*(Teams1_Score))+SUMPRODUCT((Teams2=U48)*(Teams2_Score))","v":2},{"$f":"SUMPRODUCT((Teams1=U48)*(Teams2_Score))+SUMPRODUCT((Teams2=U48)*(Teams1_Score))","v":8},{"$f":"Z48-AA48","v":-6},{"$f":"3*W48+X48","v":0},null,null,"2018-07-01",4,{"$f":"IF(SUM(V27:V30)=0,\"1er Groupe D\",IF(COUNTIF(T27:T30,1)=1,VLOOKUP(1,T27:U30,2,FALSE),IF(COUNTIF(T27:T30,1)>=2,\"Tirage au Sort D1\")))","v":"Argentine"},20,2,{"$f":"IF(AND(LEFT(AH48,3)<>\"1er\",LEFT(AH48,3)<>\"2nd\"),COUNTIF(RESULTATS!$AG$30:$AM$37,AH48),0)","v":0},null,null,{"$f":"IF(SUM(V21:V24)=0,\"2nd Groupe C\",IF(OR(COUNTIF(T21:T24,1)>1,COUNTIF(T21:T24,2)>1),\"Tirage au sort C2\",VLOOKUP(2,T21:U24,2,FALSE)))","v":"Danemark"},0,0,{"$f":"IF(AND(LEFT(AN48,3)<>\"1er\",LEFT(AN48,3)<>\"2nd\"),COUNTIF(RESULTATS!$AG$30:$AM$37,AN48),0)","v":0}]
[null,{"$f":"VLOOKUP($D49,TABLEAU_MATCHS[#All],2,FALSE)","v":"2018-06-27"},{"$f":"VLOOKUP($D49,TABLEAU_MATCHS[#All],3,FALSE)","v":"20:00:00"},42,{"$f":"\"Groupe \"&VLOOKUP($I49,TABLEAU_TEAMS[[#All],[TEAM]:[GROUP_INITIAL_RANK]],2,FALSE)","v":"Groupe E"},4,3.05,1.9,{"$f":"VLOOKUP($D49,TABLEAU_MATCHS[#All],4,FALSE)","v":"Suisse"},2,null,{"$f":"VLOOKUP($D49,TABLEAU_MATCHS[#All],5,FALSE)","v":"Costa Rica"},0,{"$f":"IF(OR(ISBLANK(RESULTATS!J49),ISBLANK(J49)),\"\",IF(AND(Alaeddine!J49=RESULTATS!J49,Alaeddine!M49=RESULTATS!M49),3,IF(OR(AND(Alaeddine!J49>Alaeddine!M49,RESULTATS!J49>RESULTATS!M49),AND(Alaeddine!J49<Alaeddine!M49,RESULTATS!J49<RESULTATS!M49),AND(Alaeddine!J49=Alaeddine!M49,RESULTATS!J49=RESULTATS!M49)),1,0)))","v":""},null,null,null,null,null,null,null,null,null,null,null,null,null,null,null,null,null,"2018-07-02",5,{"$f":"IF(SUM(V33:V36)=0,\"1er Groupe E\",IF(COUNTIF(T33:T36,1)=1,VLOOKUP(1,T33:U36,2,FALSE),IF(COUNTIF(T33:T36,1)>=2,\"Tirage au Sort E1\")))","v":"Brésil"},20,2,{"$f":"IF(AND(LEFT(AH49,3)<>\"1er\",LEFT(AH49,3)<>\"2nd\"),COUNTIF(RESULTATS!$AG$30:$AM$37,AH49),0)","v":0},null,null,{"$f":"IF(SUM(V39:V42)=0,\"2nd Groupe F\",IF(OR(COUNTIF(T39:T42,1)>1,COUNTIF(T39:T42,2)>1),\"Tirage au sort F2\",VLOOKUP(2,T39:U42,2,FALSE)))","v":"Mexique"},10,1,{"$f":"IF(AND(LEFT(AN49,3)<>\"1er\",LEFT(AN49,3)<>\"2nd\"),COUNTIF(RESULTATS!$AG$30:$AM$37,AN49),0)","v":0}]
[null,{"$f":"VLOOKUP($D50,TABLEAU_MATCHS[#All],2,FALSE)","v":"2018-06-27"},{"$f":"VLOOKUP($D50,TABLEAU_MATCHS[#All],3,FALSE)","v":"16:00:00"},43,{"$f":"\"Groupe \"&VLOOKUP($I50,TABLEAU_TEAMS[[#All],[TEAM]:[GROUP_INITIAL_RANK]],2,FALSE)","v":"Groupe F"},8.5,4.3,1.3,{"$f":"VLOOKUP($D50,TABLEAU_MATCHS[#All],4,FALSE)","v":"Mexique"},2,null,{"$f":"VLOOKUP($D50,TABLEAU_MATCHS[#All],5,FALSE)","v":"Suède"},0,{"$f":"IF(OR(ISBLANK(RESULTATS!J50),ISBLANK(J50)),\"\",IF(AND(Alaeddine!J50=RESULTATS!J50,Alaeddine!M50=RESULTATS!M50),3,IF(OR(AND(Alaeddine!J50>Alaeddine!M50,RESULTATS!J50>RESULTATS!M50),AND(Alaeddine!J50<Alaeddine!M50,RESULTATS!J50<RESULTATS!M50),AND(Alaeddine!J50=Alaeddine!M50,RESULTATS!J50=RESULTATS!M50)),1,0)))","v":""},null,null,null,null,null,"Rg","Groupe H","MJ","G","N","P","BP","BC","+/-","Pts",null,null,"2018-07-03",6,{"$f":"IF(SUM(V39:V42)=0,\"1er Groupe F\",IF(COUNTIF(T39:T42,1)=1,VLOOKUP(1,T39:U42,2,FALSE),IF(COUNTIF(T39:T42,1)>=2,\"Tirage au Sort F1\")))","v":"Allemagne"},30,3,{"$f":"IF(AND(LEFT(AH50,3)<>\"1er\",LEFT(AH50,3)<>\"2nd\"),COUNTIF(RESULTATS!$AG$30:$AM$37,AH50),0)","v":0},null,null,"Suisse",10,1,{"$f":"IF(AND(LEFT(AN50,3)<>\"1er\",LEFT(AN50,3)<>\"2nd\"),COUNTIF(RESULTATS!$AG$30:$AM$37,AN50),0)","v":0}]
[null,{"$f":"VLOOKUP($D51,TABLEAU_MATCHS[#All],2,FALSE)","v":"2018-06-27"},{"$f":"VLOOKUP($D51,TABLEAU_MATCHS[#All],3,FALSE)","v":"16:00:00"},44,{"$f":"\"Groupe \"&VLOOKUP($I51,TABLEAU_TEAMS[[#All],[TEAM]:[GROUP_INITIAL_RANK]],2,FALSE)","v":"Groupe F"},1.48,3.6,6.25,{"$f":"VLOOKUP($D51,TABLEAU_MATCHS[#All],4,FALSE)","v":"République de Corée"},0,null,{"$f":"VLOOKUP($D51,TABLEAU_MATCHS[#All],5,FALSE)","v":"Allemagne"},3,{"$f":"IF(OR(ISBLANK(RESULTATS!J51),ISBLANK(J51)),\"\",IF(AND(Alaeddine!J51=RESULTATS!J51,Alaeddine!M51=RESULTATS!M51),3,IF(OR(AND(Alaeddine!J51>Alaeddine!M51,RESULTATS!J51>RESULTATS!M51),AND(Alaeddine!J51<Alaeddine!M51,RESULTATS!J51<RESULTATS!M51),AND(Alaeddine!J51=Alaeddine!M51,RESULTATS!J51=RESULTATS!M51)),1,0)))","v":""},null,null,null,{"$f":"INDEX($R102:$R105,MATCH(SMALL(COUNTIF($R102:$R105,\">=\"&$R102:$R105),ROW(INDIRECT(\"1:\"&ROWS($R102:$R105)))),COUNTIF($R102:$R105,\">=\"&$R102:$R105),0))","v":"07240Pologne"},{"$f":"INDEX($S102:$S105,MATCH(SMALL(COUNTIF($R102:$R105,\">=\"&$R102:$R105),ROW(INDIRECT(\"1:\"&ROWS($R102:$R105)))),COUNTIF($R102:$R105,\">=\"&$R102:$R105),0))","v":7240},{"$f":"INDEX($T102:$T105,MATCH(SMALL(COUNTIF($R102:$R105,\">=\"&$R102:$R105),ROW(INDIRECT(\"1:\"&ROWS($R102:$R105)))),COUNTIF($R102:$R105,\">=\"&$R102:$R105),0))","v":1},{"$f":"INDEX($U102:$U105,MATCH(SMALL(COUNTIF($R102:$R105,\">=\"&$R102:$R105),ROW(INDIRECT(\"1:\"&ROWS($R102:$R105)))),COUNTIF($R102:$R105,\">=\"&$R102:$R105),0))","v":"Pologne"},{"$f":"SUMPRODUCT((Teams1=U51)*(Teams1_Score<>\"\"))+SUMPRODUCT((Teams2=U51)*(Teams2_Score<>\"\"))","v":3},{"$f":"SUMPRODUCT((Teams1=U51)*(Teams1_Score>Teams2_Score))+SUMPRODUCT((Teams2=U51)*(Teams2_Score>Teams1_Score))","v":2},{"$f":"SUMPRODUCT((Teams1=U51)*(Teams1_Score=Teams2_Score)*(Teams1_Score<>\"\"))+SUMPRODUCT((Teams2=U51)*(Teams2_Score=Teams1_Score)*(Teams2_Score<>\"\"))","v":1},{"$f":"SUMPRODUCT((Teams1=U51)*(Teams1_Score<Teams2_Score))+SUMPRODUCT((Teams2=U51)*(Teams2_Score<Teams1_Score))","v":0},{"$f":"SUMPRODUCT((Teams1=U51)*(Teams1_Score))+SUMPRODUCT((Teams2=U51)*(Teams2_Score))","v":4},{"$f":"SUMPRODUCT((Teams1=U51)*(Teams2_Score))+SUMPRODUCT((Teams2=U51)*(Teams1_Score))","v":2},{"$f":"Z51-AA51","v":2},{"$f":"3*W51+X51","v":7},null,null,"2018-07-02",7,{"$f":"IF(SUM(V45:V48)=0,\"1er Groupe G\",IF(COUNTIF(T45:T48,1)=1,VLOOKUP(1,T45:U48,2,FALSE),IF(COUNTIF(T45:T48,1)>=2,\"Tirage au Sort G1\")))","v":"Angleterre"},20,2,{"$f":"IF(AND(LEFT(AH51,3)<>\"1er\",LEFT(AH51,3)<>\"2nd\"),COUNTIF(RESULTATS!$AG$30:$AM$37,AH51),0)","v":0},null,null,{"$f":"IF(SUM(V51:V54)=0,\"2nd Groupe H\",IF(OR(COUNTIF(T51:T54,1)>1,COUNTIF(T51:T54,2)>1),\"Tirage au sort H2\",VLOOKUP(2,T51:U54,2,FALSE)))","v":"Colombie"},10,1,{"$f":"IF(AND(LEFT(AN51,3)<>\"1er\",LEFT(AN51,3)<>\"2nd\"),COUNTIF(RESULTATS!$AG$30:$AM$37,AN51),0)","v":0}]
[null,{"$f":"VLOOKUP($D52,TABLEAU_MATCHS[#All],2,FALSE)","v":"2018-06-28"},{"$f":"VLOOKUP($D52,TABLEAU_MATCHS[#All],3,FALSE)","v":"20:00:00"},45,{"$f":"\"Groupe \"&VLOOKUP($I52,TABLEAU_TEAMS[[#All],[TEAM]:[GROUP_INITIAL_RANK]],2,FALSE)","v":"Groupe G"},8,4.2,1.32,{"$f":"VLOOKUP($D52,TABLEAU_MATCHS[#All],4,FALSE)","v":"Panama"},1,null,{"$f":"VLOOKUP($D52,TABLEAU_MATCHS[#All],5,FALSE)","v":"Tunisie"},2,{"$f":"IF(OR(ISBLANK(RESULTATS!J52),ISBLANK(J52)),\"\",IF(AND(Alaeddine!J52=RESULTATS!J52,Alaeddine!M52=RESULTATS!M52),3,IF(OR(AND(Alaeddine!J52>Alaeddine!M52,RESULTATS!J52>RESULTATS!M52),AND(Alaeddine!J52<Alaeddine!M52,RESULTATS!J52<RESULTATS!M52),AND(Alaeddine!J52=Alaeddine!M52,RESULTATS!J52=RESULTATS!M52)),1,0)))","v":""},null,null,null,"05240Colombie",5240,2,"Colombie",{"$f":"SUMPRODUCT((Teams1=U52)*(Teams1_Score<>\"\"))+SUMPRODUCT((Teams2=U52)*(Teams2_Score<>\"\"))","v":3},{"$f":"SUMPRODUCT((Teams1=U52)*(Teams1_Score>Teams2_Score))+SUMPRODUCT((Teams2=U52)*(Teams2_Score>Teams1_Score))","v":1},{"$f":"SUMPRODUCT((Teams1=U52)*(Teams1_Score=Teams2_Score)*(Teams1_Score<>\"\"))+SUMPRODUCT((Teams2=U52)*(Teams2_Score=Teams1_Score)*(Teams2_Score<>\"\"))","v":2},{"$f":"SUMPRODUCT((Teams1=U52)*(Teams1_Score<Teams2_Score))+SUMPRODUCT((Teams2=U52)*(Teams2_Score<Teams1_Score))","v":0},{"$f":"SUMPRODUCT((Teams1=U52)*(Teams1_Score))+SUMPRODUCT((Teams2=U52)*(Teams2_Score))","v":4},{"$f":"SUMPRODUCT((Teams1=U52)*(Teams2_Score))+SUMPRODUCT((Teams2=U52)*(Teams1_Score))","v":2},{"$f":"Z52-AA52","v":2},{"$f":"3*W52+X52","v":5},null,null,"2018-07-03",8,{"$f":"IF(SUM(V51:V54)=0,\"1er Groupe H\",IF(COUNTIF(T51:T54,1)=1,VLOOKUP(1,T51:U54,2,FALSE),IF(COUNTIF(T51:T54,1)>=2,\"Tirage au Sort H1\")))","v":"Pologne"},15,1,{"$f":"IF(AND(LEFT(AH52,3)<>\"1er\",LEFT(AH52,3)<>\"2nd\"),COUNTIF(RESULTATS!$AG$30:$AM$37,AH52),0)","v":0},5,null,{"$f":"IF(SUM(V45:V48)=0,\"2nd Groupe G\",IF(OR(COUNTIF(T45:T48,1)>1,COUNTIF(T45:T48,2)>1),\"Tirage au sort G2\",VLOOKUP(2,T45:U48,2,FALSE)))","v":"Belgique"},13,1,{"$f":"IF(AND(LEFT(AN52,3)<>\"1er\",LEFT(AN52,3)<>\"2nd\"),COUNTIF(RESULTATS!$AG$30:$AM$37,AN52),0)","v":0},3]
[null,{"$f":"VLOOKUP($D53,TABLEAU_MATCHS[#All],2,FALSE)","v":"2018-06-28"},{"$f":"VLOOKUP($D53,TABLEAU_MATCHS[#All],3,FALSE)","v":"20:00:00"},46,{"$f":"\"Groupe \"&VLOOKUP($I53,TABLEAU_TEAMS[[#All],[TEAM]:[GROUP_INITIAL_RANK]],2,FALSE)","v":"Groupe G"},1.74,3.2,4.0999999999999996,{"$f":"VLOOKUP($D53,TABLEAU_MATCHS[#All],4,FALSE)","v":"Angleterre"},0,null,{"$f":"VLOOKUP($D53,TABLEAU_MATCHS[#All],5,FALSE)","v":"Belgique"},0,{"$f":"IF(OR(ISBLANK(RESULTATS!J53),ISBLANK(J53)),\"\",IF(AND(Alaeddine!J53=RESULTATS!J53,Alaeddine!M53=RESULTATS!M53),3,IF(OR(AND(Alaeddine!J53>Alaeddine!M53,RESULTATS!J53>RESULTATS!M53),AND(Alaeddine!J53<Alaeddine!M53,RESULTATS!J53<RESULTATS!M53),AND(Alaeddine!J53=Alaeddine!M53,RESULTATS!J53=RESULTATS!M53)),1,0)))","v":""},null,null,null,"01930Sénégal",1930,3,"Sénégal",{"$f":"SUMPRODUCT((Teams1=U53)*(Teams1_Score<>\"\"))+SUMPRODUCT((Teams2=U53)*(Teams2_Score<>\"\"))","v":3},{"$f":"SUMPRODUCT((Teams1=U53)*(Teams1_Score>Teams2_Score))+SUMPRODUCT((Teams2=U53)*(Teams2_Score>Teams1_Score))","v":0},{"$f":"SUMPRODUCT((Teams1=U53)*(Teams1_Score=Teams2_Score)*(Teams1_Score<>\"\"))+SUMPRODUCT((Teams2=U53)*(Teams2_Score=Teams1_Score)*(Teams2_Score<>\"\"))","v":2},{"$f":"SUMPRODUCT((Teams1=U53)*(Teams1_Score<Teams2_Score))+SUMPRODUCT((Teams2=U53)*(Teams2_Score<Teams1_Score))","v":1},{"$f":"SUMPRODUCT((Teams1=U53)*(Teams1_Score))+SUMPRODUCT((Teams2=U53)*(Teams2_Score))","v":3},{"$f":"SUMPRODUCT((Teams1=U53)*(Teams2_Score))+SUMPRODUCT((Teams2=U53)*(Teams1_Score))","v":4},{"$f":"Z53-AA53","v":-1},{"$f":"3*W53+X53","v":2},null,null,null,null,null,null,null,{"$f":"SUM(AK45:AK52)","v":1},null,null,null,0,null,{"$f":"SUM(AQ45:AQ52)","v":1}]
[null,{"$f":"VLOOKUP($D54,TABLEAU_MATCHS[#All],2,FALSE)","v":"2018-06-28"},{"$f":"VLOOKUP($D54,TABLEAU_MATCHS[#All],3,FALSE)","v":"16:00:00"},47,{"$f":"\"Groupe \"&VLOOKUP($I54,TABLEAU_TEAMS[[#All],[TEAM]:[GROUP_INITIAL_RANK]],2,FALSE)","v":"Groupe H"},4.9000000000000004,3.25,1.62,{"$f":"VLOOKUP($D54,TABLEAU_MATCHS[#All],4,FALSE)","v":"Japon"},1,null,{"$f":"VLOOKUP($D54,TABLEAU_MATCHS[#All],5,FALSE)","v":"Pologne"},2,{"$f":"IF(OR(ISBLANK(RESULTATS!J54),ISBLANK(J54)),\"\",IF(AND(Alaeddine!J54=RESULTATS!J54,Alaeddine!M54=RESULTATS!M54),3,IF(OR(AND(Alaeddine!J54>Alaeddine!M54,RESULTATS!J54>RESULTATS!M54),AND(Alaeddine!J54<Alaeddine!M54,RESULTATS!J54<RESULTATS!M54),AND(Alaeddine!J54=Alaeddine!M54,RESULTATS!J54=RESULTATS!M54)),1,0)))","v":""},null,null,null,"00710Japon",710,4,"Japon",{"$f":"SUMPRODUCT((Teams1=U54)*(Teams1_Score<>\"\"))+SUMPRODUCT((Teams2=U54)*(Teams2_Score<>\"\"))","v":3},{"$f":"SUMPRODUCT((Teams1=U54)*(Teams1_Score>Teams2_Score))+SUMPRODUCT((Teams2=U54)*(Teams2_Score>Teams1_Score))","v":0},{"$f":"SUMPRODUCT((Teams1=U54)*(Teams1_Score=Teams2_Score)*(Teams1_Score<>\"\"))+SUMPRODUCT((Teams2=U54)*(Teams2_Score=Teams1_Score)*(Teams2_Score<>\"\"))","v":1},{"$f":"SUMPRODUCT((Teams1=U54)*(Teams1_Score<Teams2_Score))+SUMPRODUCT((Teams2=U54)*(Teams2_Score<Teams1_Score))","v":2},{"$f":"SUMPRODUCT((Teams1=U54)*(Teams1_Score))+SUMPRODUCT((Teams2=U54)*(Teams2_Score))","v":1},{"$f":"SUMPRODUCT((Teams1=U54)*(Teams2_Score))+SUMPRODUCT((Teams2=U54)*(Teams1_Score))","v":4},{"$f":"Z54-AA54","v":-3},{"$f":"3*W54+X54","v":1}]
[null,{"$f":"VLOOKUP($D55,TABLEAU_MATCHS[#All],2,FALSE)","v":"2018-06-28"},{"$f":"VLOOKUP($D55,TABLEAU_MATCHS[#All],3,FALSE)","v":"16:00:00"},48,{"$f":"\"Groupe \"&VLOOKUP($I55,TABLEAU_TEAMS[[#All],[TEAM]:[GROUP_INITIAL_RANK]],2,FALSE)","v":"Groupe H"},6,3.4,1.52,{"$f":"VLOOKUP($D55,TABLEAU_MATCHS[#All],4,FALSE)","v":"Sénégal"},2,null,{"$f":"VLOOKUP($D55,TABLEAU_MATCHS[#All],5,FALSE)","v":"Colombie"},2,{"$f":"IF(OR(ISBLANK(RESULTATS!J55),ISBLANK(J55)),\"\",IF(AND(Alaeddine!J55=RESULTATS!J55,Alaeddine!M55=RESULTATS!M55),3,IF(OR(AND(Alaeddine!J55>Alaeddine!M55,RESULTATS!J55>RESULTATS!M55),AND(Alaeddine!J55<Alaeddine!M55,RESULTATS!J55<RESULTATS!M55),AND(Alaeddine!J55=Alaeddine!M55,RESULTATS!J55=RESULTATS!M55)),1,0)))","v":""}]
[null,null,null,null,null,null,null,null,null,null,null,null,null,{"$f":"SUM(N8:N55)","v":2}]
[]
[]
[null,"Tirage au sort A1",null,null,null,null,null,null,null,null,null,null,null,null,null,null,null,null,null,"Rg","Groupe A","MJ","G","N","P","BP","BC","+/-","Pts"]
[null,{"$f":"IF(ROWS($1:1)<=COUNTIF($T$9:$T$12,1),INDEX($U$9:$U$12,SMALL(IF($T$9:$T$12=1,ROW(INDIRECT(\"1:\"&ROWS($T$9:$T$12)))),ROWS($1:1))),\"\")","v":"Russie"},null,null,null,null,null,null,null,null,null,null,null,null,null,null,"A_1",{"$f":"TEXT(S60,\"00000\")&U60","v":"07360Russie"},{"$f":"AC60*1000+AB60*100+Z60*10","v":7360},{"$f":"RANK(S60,$S60:$S64,0)","v":1},{"$f":"VLOOKUP(Q60,TABLEAU_TEAMS[#All],2,FALSE)","v":"Russie"},{"$f":"SUMPRODUCT((Teams1=U60)*(Teams1_Score<>\"\"))+SUMPRODUCT((Teams2=U60)*(Teams2_Score<>\"\"))","v":3},{"$f":"SUMPRODUCT((Teams1=U60)*(Teams1_Score>Teams2_Score))+SUMPRODUCT((Teams2=U60)*(Teams2_Score>Teams1_Score))","v":2},{"$f":"SUMPRODUCT((Teams1=U60)*(Teams1_Score=Teams2_Score)*(Teams1_Score<>\"\"))+SUMPRODUCT((Teams2=U60)*(Teams2_Score=Teams1_Score)*(Teams2_Score<>\"\"))","v":1},{"$f":"SUMPRODUCT((Teams1=U60)*(Teams1_Score<Teams2_Score))+SUMPRODUCT((Teams2=U60)*(Teams2_Score<Teams1_Score))","v":0},{"$f":"SUMPRODUCT((Teams1=U60)*(Teams1_Score))+SUMPRODUCT((Teams2=U60)*(Teams2_Score))","v":6},{"$f":"SUMPRODUCT((Teams1=U60)*(Teams2_Score))+SUMPRODUCT((Teams2=U60)*(Teams1_Score))","v":3},{"$f":"Z60-AA60","v":3},{"$f":"3*W60+X60","v":7}]
[null,{"$f":"IF(ROWS($1:2)<=COUNTIF($T$9:$T$12,1),INDEX($U$9:$U$12,SMALL(IF($T$9:$T$12=1,ROW(INDIRECT(\"1:\"&ROWS($T$9:$T$12)))),ROWS($1:2))),\"\")","v":""},null,null,null,null,null,null,null,null,null,null,null,null,null,null,"A_2",{"$f":"TEXT(S61,\"00000\")&U61","v":"-00590Arabie Saoudite"},{"$f":"AC61*1000+AB61*100+Z61*10","v":-590},{"$f":"RANK(S61,$S60:$S64,0)","v":4},{"$f":"VLOOKUP(Q61,TABLEAU_TEAMS[#All],2,FALSE)","v":"Arabie Saoudite"},{"$f":"SUMPRODUCT((Teams1=U61)*(Teams1_Score<>\"\"))+SUMPRODUCT((Teams2=U61)*(Teams2_Score<>\"\"))","v":3},{"$f":"SUMPRODUCT((Teams1=U61)*(Teams1_Score>Teams2_Score))+SUMPRODUCT((Teams2=U61)*(Teams2_Score>Teams1_Score))","v":0},{"$f":"SUMPRODUCT((Teams1=U61)*(Teams1_Score=Teams2_Score)*(Teams1_Score<>\"\"))+SUMPRODUCT((Teams2=U61)*(Teams2_Score=Teams1_Score)*(Teams2_Score<>\"\"))","v":0},{"$f":"SUMPRODUCT((Teams1=U61)*(Teams1_Score<Teams2_Score))+SUMPRODUCT((Teams2=U61)*(Teams2_Score<Teams1_Score))","v":3},{"$f":"SUMPRODUCT((Teams1=U61)*(Teams1_Score))+SUMPRODUCT((Teams2=U61)*(Teams2_Score))","v":1},{"$f":"SUMPRODUCT((Teams1=U61)*(Teams2_Score))+SUMPRODUCT((Teams2=U61)*(Teams1_Score))","v":7},{"$f":"Z61-AA61","v":-6},{"$f":"3*W61+X61","v":0}]
[null,{"$f":"IF(ROWS($1:3)<=COUNTIF($T$9:$T$12,1),INDEX($U$9:$U$12,SMALL(IF($T$9:$T$12=1,ROW(INDIRECT(\"1:\"&ROWS($T$9:$T$12)))),ROWS($1:3))),\"\")","v":""},null,null,null,null,null,null,null,null,null,null,null,null,null,null,"A_3",{"$f":"TEXT(S62,\"00000\")&U62","v":"03950Egypte"},{"$f":"AC62*1000+AB62*100+Z62*10","v":3950},{"$f":"RANK(S62,$S60:$S64,0)","v":3},{"$f":"VLOOKUP(Q62,TABLEAU_TEAMS[#All],2,FALSE)","v":"Egypte"},{"$f":"SUMPRODUCT((Teams1=U62)*(Teams1_Score<>\"\"))+SUMPRODUCT((Teams2=U62)*(Teams2_Score<>\"\"))","v":3},{"$f":"SUMPRODUCT((Teams1=U62)*(Teams1_Score>Teams2_Score))+SUMPRODUCT((Teams2=U62)*(Teams2_Score>Teams1_Score))","v":1},{"$f":"SUMPRODUCT((Teams1=U62)*(Teams1_Score=Teams2_Score)*(Teams1_Score<>\"\"))+SUMPRODUCT((Teams2=U62)*(Teams2_Score=Teams1_Score)*(Teams2_Score<>\"\"))","v":1},{"$f":"SUMPRODUCT((Teams1=U62)*(Teams1_Score<Teams2_Score))+SUMPRODUCT((Teams2=U62)*(Teams2_Score<Teams1_Score))","v":1},{"$f":"SUMPRODUCT((Teams1=U62)*(Teams1_Score))+SUMPRODUCT((Teams2=U62)*(Teams2_Score))","v":5},{"$f":"SUMPRODUCT((Teams1=U62)*(Teams2_Score))+SUMPRODUCT((Teams2=U62)*(Teams1_Score))","v":6},{"$f":"Z62-AA62","v":-1},{"$f":"3*W62+X62","v":4}]
[null,{"$f":"IF(ROWS($1:4)<=COUNTIF($T$9:$T$12,1),INDEX($U$9:$U$12,SMALL(IF($T$9:$T$12=1,ROW(INDIRECT(\"1:\"&ROWS($T$9:$T$12)))),ROWS($1:4))),\"\")","v":""},null,null,null,null,null,null,null,null,null,null,null,null,null,null,"A_4",{"$f":"TEXT(S63,\"00000\")&U63","v":"05480Uruguay"},{"$f":"AC63*1000+AB63*100+Z63*10","v":5480},{"$f":"RANK(S63,$S60:$S64,0)","v":2},{"$f":"VLOOKUP(Q63,TABLEAU_TEAMS[#All],2,FALSE)","v":"Uruguay"},{"$f":"SUMPRODUCT((Teams1=U63)*(Teams1_Score<>\"\"))+SUMPRODUCT((Teams2=U63)*(Teams2_Score<>\"\"))","v":3},{"$f":"SUMPRODUCT((Teams1=U63)*(Teams1_Score>Teams2_Score))+SUMPRODUCT((Teams2=U63)*(Teams2_Score>Teams1_Score))","v":1},{"$f":"SUMPRODUCT((Teams1=U63)*(Teams1_Score=Teams2_Score)*(Teams1_Score<>\"\"))+SUMPRODUCT((Teams2=U63)*(Teams2_Score=Teams1_Score)*(Teams2_Score<>\"\"))","v":2},{"$f":"SUMPRODUCT((Teams1=U63)*(Teams1_Score<Teams2_Score))+SUMPRODUCT((Teams2=U63)*(Teams2_Score<Teams1_Score))","v":0},{"$f":"SUMPRODUCT((Teams1=U63)*(Teams1_Score))+SUMPRODUCT((Teams2=U63)*(Teams2_Score))","v":8},{"$f":"SUMPRODUCT((Teams1=U63)*(Teams2_Score))+SUMPRODUCT((Teams2=U63)*(Teams1_Score))","v":4},{"$f":"Z63-AA63","v":4},{"$f":"3*W63+X63","v":5}]
[null,"Tirage au sort A2"]
[null,{"$f":"IF(COUNTIF($T$9:$T$12,1)>1,IF(ROWS($1:1)<=COUNTIF($T$9:$T$12,1),INDEX($U$9:$U$12,SMALL(IF($T$9:$T$12=1,ROW(INDIRECT(\"1:\"&ROWS($T$9:$T$12)))),ROWS($1:1))),\"\"),IF(COUNTIF($T$9:$T$12,2)>1,IF(ROWS($1:1)<=COUNTIF($T$9:$T$12,2),INDEX($U$9:$U$12,SMALL(IF($T$9:$T$12=2,ROW(INDIRECT(\"1:\"&ROWS($T$9:$T$12)))),ROWS($1:1))),\"\")))","v":false},null,null,null,null,null,null,null,null,null,null,null,null,null,null,null,null,null,"Rg","Groupe B","MJ","G","N","P","BP","BC","Pts","Pts"]
[null,{"$f":"IF(COUNTIF($T$9:$T$12,1)>1,IF(ROWS($1:2)<=COUNTIF($T$9:$T$12,1),INDEX($U$9:$U$12,SMALL(IF($T$9:$T$12=1,ROW(INDIRECT(\"1:\"&ROWS($T$9:$T$12)))),ROWS($1:2))),\"\"),IF(COUNTIF($T$9:$T$12,2)>1,IF(ROWS($1:2)<=COUNTIF($T$9:$T$12,2),INDEX($U$9:$U$12,SMALL(IF($T$9:$T$12=2,ROW(INDIRECT(\"1:\"&ROWS($T$9:$T$12)))),ROWS($1:2))),\"\")))","v":false},null,null,null,null,null,null,null,null,null,null,null,null,null,null,"B_1",{"$f":"TEXT(S66,\"00000\")&U66","v":"02630Maroc"},{"$f":"AC66*1000+AB66*100+Z66*10","v":2630},{"$f":"RANK(S66,$S66:$S70,0)","v":3},{"$f":"VLOOKUP(Q66,TABLEAU_TEAMS[#All],2,FALSE)","v":"Maroc"},{"$f":"SUMPRODUCT((Teams1=U66)*(Teams1_Score<>\"\"))+SUMPRODUCT((Teams2=U66)*(Teams2_Score<>\"\"))","v":3},{"$f":"SUMPRODUCT((Teams1=U66)*(Teams1_Score>Teams2_Score))+SUMPRODUCT((Teams2=U66)*(Teams2_Score>Teams1_Score))","v":1},{"$f":"SUMPRODUCT((Teams1=U66)*(Teams1_Score=Teams2_Score)*(Teams1_Score<>\"\"))+SUMPRODUCT((Teams2=U66)*(Teams2_Score=Teams1_Score)*(Teams2_Score<>\"\"))","v":0},{"$f":"SUMPRODUCT((Teams1=U66)*(Teams1_Score<Teams2_Score))+SUMPRODUCT((Teams2=U66)*(Teams2_Score<Teams1_Score))","v":2},{"$f":"SUMPRODUCT((Teams1=U66)*(Teams1_Score))+SUMPRODUCT((Teams2=U66)*(Teams2_Score))","v":3},{"$f":"SUMPRODUCT((Teams1=U66)*(Teams2_Score))+SUMPRODUCT((Teams2=U66)*(Teams1_Score))","v":7},{"$f":"Z66-AA66","v":-4},{"$f":"3*W66+X66","v":3}]
[null,{"$f":"IF(COUNTIF($T$9:$T$12,1)>1,IF(ROWS($1:3)<=COUNTIF($T$9:$T$12,1),INDEX($U$9:$U$12,SMALL(IF($T$9:$T$12=1,ROW(INDIRECT(\"1:\"&ROWS($T$9:$T$12)))),ROWS($1:3))),\"\"),IF(COUNTIF($T$9:$T$12,2)>1,IF(ROWS($1:3)<=COUNTIF($T$9:$T$12,2),INDEX($U$9:$U$12,SMALL(IF($T$9:$T$12=2,ROW(INDIRECT(\"1:\"&ROWS($T$9:$T$12)))),ROWS($1:3))),\"\")))","v":false},null,null,null,null,null,null,null,null,null,null,null,null,null,null,"B_2",{"$f":"TEXT(S67,\"00000\")&U67","v":"-00790RI Iran"},{"$f":"AC67*1000+AB67*100+Z67*10","v":-790},{"$f":"RANK(S67,$S66:$S70,0)","v":4},{"$f":"VLOOKUP(Q67,TABLEAU_TEAMS[#All],2,FALSE)","v":"RI Iran"},{"$f":"SUMPRODUCT((Teams1=U67)*(Teams1_Score<>\"\"))+SUMPRODUCT((Teams2=U67)*(Teams2_Score<>\"\"))","v":3},{"$f":"SUMPRODUCT((Teams1=U67)*(Teams1_Score>Teams2_Score))+SUMPRODUCT((Teams2=U67)*(Teams2_Score>Teams1_Score))","v":0},{"$f":"SUMPRODUCT((Teams1=U67)*(Teams1_Score=Teams2_Score)*(Teams1_Score<>\"\"))+SUMPRODUCT((Teams2=U67)*(Teams2_Score=Teams1_Score)*(Teams2_Score<>\"\"))","v":0},{"$f":"SUMPRODUCT((Teams1=U67)*(Teams1_Score<Teams2_Score))+SUMPRODUCT((Teams2=U67)*(Teams2_Score<Teams1_Score))","v":3},{"$f":"SUMPRODUCT((Teams1=U67)*(Teams1_Score))+SUMPRODUCT((Teams2=U67)*(Teams2_Score))","v":1},{"$f":"SUMPRODUCT((Teams1=U67)*(Teams2_Score))+SUMPRODUCT((Teams2=U67)*(Teams1_Score))","v":9},{"$f":"Z67-AA67","v":-8},{"$f":"3*W67+X67","v":0}]
[null,{"$f":"IF(COUNTIF($T$9:$T$12,1)>1,IF(ROWS($1:4)<=COUNTIF($T$9:$T$12,1),INDEX($U$9:$U$12,SMALL(IF($T$9:$T$12=1,ROW(INDIRECT(\"1:\"&ROWS($T$9:$T$12)))),ROWS($1:4))),\"\"),IF(COUNTIF($T$9:$T$12,2)>1,IF(ROWS($1:4)<=COUNTIF($T$9:$T$12,2),INDEX($U$9:$U$12,SMALL(IF($T$9:$T$12=2,ROW(INDIRECT(\"1:\"&ROWS($T$9:$T$12)))),ROWS($1:4))),\"\")))","v":false},null,null,null,null,null,null,null,null,null,null,null,null,null,null,"B_3",{"$f":"TEXT(S68,\"00000\")&U68","v":"07670Portugal"},{"$f":"AC68*1000+AB68*100+Z68*10","v":7670},{"$f":"RANK(S68,$S66:$S70,0)","v":2},{"$f":"VLOOKUP(Q68,TABLEAU_TEAMS[#All],2,FALSE)","v":"Portugal"},{"$f":"SUMPRODUCT((Teams1=U68)*(Teams1_Score<>\"\"))+SUMPRODUCT((Teams2=U68)*(Teams2_Score<>\"\"))","v":3},{"$f":"SUMPRODUCT((Teams1=U68)*(Teams1_Score>Teams2_Score))+SUMPRODUCT((Teams2=U68)*(Teams2_Score>Teams1_Score))","v":2},{"$f":"SUMPRODUCT((Teams1=U68)*(Teams1_Score=Teams2_Score)*(Teams1_Score<>\"\"))+SUMPRODUCT((Teams2=U68)*(Teams2_Score=Teams1_Score)*(Teams2_Score<>\"\"))","v":1},{"$f":"SUMPRODUCT((Teams1=U68)*(Teams1_Score<Teams2_Score))+SUMPRODUCT((Teams2=U68)*(Teams2_Score<Teams1_Score))","v":0},{"$f":"SUMPRODUCT((Teams1=U68)*(Teams1_Score))+SUMPRODUCT((Teams2=U68)*(Teams2_Score))","v":7},{"$f":"SUMPRODUCT((Teams1=U68)*(Teams2_Score))+SUMPRODUCT((Teams2=U68)*(Teams1_Score))","v":1},{"$f":"Z68-AA68","v":6},{"$f":"3*W68+X68","v":7}]
[null,"Tirage au sort B1",null,null,null,null,null,null,null,null,null,null,null,null,null,null,"B_4",{"$f":"TEXT(S69,\"00000\")&U69","v":"07680Espagne"},{"$f":"AC69*1000+AB69*100+Z69*10","v":7680},{"$f":"RANK(S69,$S66:$S70,0)","v":1},{"$f":"VLOOKUP(Q69,TABLEAU_TEAMS[#All],2,FALSE)","v":"Espagne"},{"$f":"SUMPRODUCT((Teams1=U69)*(Teams1_Score<>\"\"))+SUMPRODUCT((Teams2=U69)*(Teams2_Score<>\"\"))","v":3},{"$f":"SUMPRODUCT((Teams1=U69)*(Teams1_Score>Teams2_Score))+SUMPRODUCT((Teams2=U69)*(Teams2_Score>Teams1_Score))","v":2},{"$f":"SUMPRODUCT((Teams1=U69)*(Teams1_Score=Teams2_Score)*(Teams1_Score<>\"\"))+SUMPRODUCT((Teams2=U69)*(Teams2_Score=Teams1_Score)*(Teams2_Score<>\"\"))","v":1},{"$f":"SUMPRODUCT((Teams1=U69)*(Teams1_Score<Teams2_Score))+SUMPRODUCT((Teams2=U69)*(Teams2_Score<Teams1_Score))","v":0},{"$f":"SUMPRODUCT((Teams1=U69)*(Teams1_Score))+SUMPRODUCT((Teams2=U69)*(Teams2_Score))","v":8},{"$f":"SUMPRODUCT((Teams1=U69)*(Teams2_Score))+SUMPRODUCT((Teams2=U69)*(Teams1_Score))","v":2},{"$f":"Z69-AA69","v":6},{"$f":"3*W69+X69","v":7}]
[null,{"$f":"IF(ROWS($1:1)<=COUNTIF($T$15:$T$18,1),INDEX($U$15:$U$18,SMALL(IF($T$15:$T$18=1,ROW(INDIRECT(\"1:\"&ROWS($T$15:$T$18)))),ROWS($1:1))),\"\")","v":"Espagne"}]
[null,{"$f":"IF(ROWS($1:2)<=COUNTIF($T$15:$T$18,1),INDEX($U$15:$U$18,SMALL(IF($T$15:$T$18=1,ROW(INDIRECT(\"1:\"&ROWS($T$15:$T$18)))),ROWS($1:2))),\"\")","v":""},null,null,null,null,null,null,null,null,null,null,null,null,null,null,null,null,null,"Rg","Groupe C","MJ","G","N","P","BP","BC","Pts","Pts"]
[null,{"$f":"IF(ROWS($1:3)<=COUNTIF($T$15:$T$18,1),INDEX($U$15:$U$18,SMALL(IF($T$15:$T$18=1,ROW(INDIRECT(\"1:\"&ROWS($T$15:$T$18)))),ROWS($1:3))),\"\")","v":""},null,null,null,null,null,null,null,null,null,null,null,null,null,null,"C_1",{"$f":"TEXT(S72,\"00000\")&U72","v":"09670France"},{"$f":"AC72*1000+AB72*100+Z72*10","v":9670},{"$f":"RANK(S72,$S72:$S76,0)","v":1},{"$f":"VLOOKUP(Q72,TABLEAU_TEAMS[#All],2,FALSE)","v":"France"},{"$f":"SUMPRODUCT((Teams1=U72)*(Teams1_Score<>\"\"))+SUMPRODUCT((Teams2=U72)*(Teams2_Score<>\"\"))","v":3},{"$f":"SUMPRODUCT((Teams1=U72)*(Teams1_Score>Teams2_Score))+SUMPRODUCT((Teams2=U72)*(Teams2_Score>Teams1_Score))","v":3},{"$f":"SUMPRODUCT((Teams1=U72)*(Teams1_Score=Teams2_Score)*(Teams1_Score<>\"\"))+SUMPRODUCT((Teams2=U72)*(Teams2_Score=Teams1_Score)*(Teams2_Score<>\"\"))","v":0},{"$f":"SUMPRODUCT((Teams1=U72)*(Teams1_Score<Teams2_Score))+SUMPRODUCT((Teams2=U72)*(Teams2_Score<Teams1_Score))","v":0},{"$f":"SUMPRODUCT((Teams1=U72)*(Teams1_Score))+SUMPRODUCT((Teams2=U72)*(Teams2_Score))","v":7},{"$f":"SUMPRODUCT((Teams1=U72)*(Teams2_Score))+SUMPRODUCT((Teams2=U72)*(Teams1_Score))","v":1},{"$f":"Z72-AA72","v":6},{"$f":"3*W72+X72","v":9}]
[null,{"$f":"IF(ROWS($1:4)<=COUNTIF($T$15:$T$18,1),INDEX($U$15:$U$18,SMALL(IF($T$15:$T$18=1,ROW(INDIRECT(\"1:\"&ROWS($T$15:$T$18)))),ROWS($1:4))),\"\")","v":""},null,null,null,null,null,null,null,null,null,null,null,null,null,null,"C_2",{"$f":"TEXT(S73,\"00000\")&U73","v":"04020Australie"},{"$f":"AC73*1000+AB73*100+Z73*10","v":4020},{"$f":"RANK(S73,$S72:$S76,0)","v":3},{"$f":"VLOOKUP(Q73,TABLEAU_TEAMS[#All],2,FALSE)","v":"Australie"},{"$f":"SUMPRODUCT((Teams1=U73)*(Teams1_Score<>\"\"))+SUMPRODUCT((Teams2=U73)*(Teams2_Score<>\"\"))","v":3},{"$f":"SUMPRODUCT((Teams1=U73)*(Teams1_Score>Teams2_Score))+SUMPRODUCT((Teams2=U73)*(Teams2_Score>Teams1_Score))","v":1},{"$f":"SUMPRODUCT((Teams1=U73)*(Teams1_Score=Teams2_Score)*(Teams1_Score<>\"\"))+SUMPRODUCT((Teams2=U73)*(Teams2_Score=Teams1_Score)*(Teams2_Score<>\"\"))","v":1},{"$f":"SUMPRODUCT((Teams1=U73)*(Teams1_Score<Teams2_Score))+SUMPRODUCT((Teams2=U73)*(Teams2_Score<Teams1_Score))","v":1},{"$f":"SUMPRODUCT((Teams1=U73)*(Teams1_Score))+SUMPRODUCT((Teams2=U73)*(Teams2_Score))","v":2},{"$f":"SUMPRODUCT((Teams1=U73)*(Teams2_Score))+SUMPRODUCT((Teams2=U73)*(Teams1_Score))","v":2},{"$f":"Z73-AA73","v":0},{"$f":"3*W73+X73","v":4}]
[null,"Tirage au sort B2",null,null,null,null,null,null,null,null,null,null,null,null,null,null,"C_3",{"$f":"TEXT(S74,\"00000\")&U74","v":"-00700Pérou"},{"$f":"AC74*1000+AB74*100+Z74*10","v":-700},{"$f":"RANK(S74,$S72:$S76,0)","v":4},{"$f":"VLOOKUP(Q74,TABLEAU_TEAMS[#All],2,FALSE)","v":"Pérou"},{"$f":"SUMPRODUCT((Teams1=U74)*(Teams1_Score<>\"\"))+SUMPRODUCT((Teams2=U74)*(Teams2_Score<>\"\"))","v":3},{"$f":"SUMPRODUCT((Teams1=U74)*(Teams1_Score>Teams2_Score))+SUMPRODUCT((Teams2=U74)*(Teams2_Score>Teams1_Score))","v":0},{"$f":"SUMPRODUCT((Teams1=U74)*(Teams1_Score=Teams2_Score)*(Teams1_Score<>\"\"))+SUMPRODUCT((Teams2=U74)*(Teams2_Score=Teams1_Score)*(Teams2_Score<>\"\"))","v":0},{"$f":"SUMPRODUCT((Teams1=U74)*(Teams1_Score<Teams2_Score))+SUMPRODUCT((Teams2=U74)*(Teams2_Score<Teams1_Score))","v":3},{"$f":"SUMPRODUCT((Teams1=U74)*(Teams1_Score))+SUMPRODUCT((Teams2=U74)*(Teams2_Score))","v":0},{"$f":"SUMPRODUCT((Teams1=U74)*(Teams2_Score))+SUMPRODUCT((Teams2=U74)*(Teams1_Score))","v":7},{"$f":"Z74-AA74","v":-7},{"$f":"3*W74+X74","v":0}]
[null,{"$f":"IF(COUNTIF($T$15:$T$18,1)>1,IF(ROWS($1:1)<=COUNTIF($T$15:$T$18,1),INDEX($U$15:$U$18,SMALL(IF($T$15:$T$18=1,ROW(INDIRECT(\"1:\"&ROWS($T$15:$T$18)))),ROWS($1:1))),\"\"),IF(COUNTIF($T$15:$T$18,2)>1,IF(ROWS($1:1)<=COUNTIF($T$15:$T$18,2),INDEX($U$15:$U$18,SMALL(IF($T$15:$T$18=2,ROW(INDIRECT(\"1:\"&ROWS($T$15:$T$18)))),ROWS($1:1))),\"\")))","v":false},null,null,null,null,null,null,null,null,null,null,null,null,null,null,"C_4",{"$f":"TEXT(S75,\"00000\")&U75","v":"04130Danemark"},{"$f":"AC75*1000+AB75*100+Z75*10","v":4130},{"$f":"RANK(S75,$S72:$S76,0)","v":2},{"$f":"VLOOKUP(Q75,TABLEAU_TEAMS[#All],2,FALSE)","v":"Danemark"},{"$f":"SUMPRODUCT((Teams1=U75)*(Teams1_Score<>\"\"))+SUMPRODUCT((Teams2=U75)*(Teams2_Score<>\"\"))","v":3},{"$f":"SUMPRODUCT((Teams1=U75)*(Teams1_Score>Teams2_Score))+SUMPRODUCT((Teams2=U75)*(Teams2_Score>Teams1_Score))","v":1},{"$f":"SUMPRODUCT((Teams1=U75)*(Teams1_Score=Teams2_Score)*(Teams1_Score<>\"\"))+SUMPRODUCT((Teams2=U75)*(Teams2_Score=Teams1_Score)*(Teams2_Score<>\"\"))","v":1},{"$f":"SUMPRODUCT((Teams1=U75)*(Teams1_Score<Teams2_Score))+SUMPRODUCT((Teams2=U75)*(Teams2_Score<Teams1_Score))","v":1},{"$f":"SUMPRODUCT((Teams1=U75)*(Teams1_Score))+SUMPRODUCT((Teams2=U75)*(Teams2_Score))","v":3},{"$f":"SUMPRODUCT((Teams1=U75)*(Teams2_Score))+SUMPRODUCT((Teams2=U75)*(Teams1_Score))","v":2},{"$f":"Z75-AA75","v":1},{"$f":"3*W75+X75","v":4}]
[null,{"$f":"IF(COUNTIF($T$15:$T$18,1)>1,IF(ROWS($1:2)<=COUNTIF($T$15:$T$18,1),INDEX($U$15:$U$18,SMALL(IF($T$15:$T$18=1,ROW(INDIRECT(\"1:\"&ROWS($T$15:$T$18)))),ROWS($1:2))),\"\"),IF(COUNTIF($T$15:$T$18,2)>1,IF(ROWS($1:2)<=COUNTIF($T$15:$T$18,2),INDEX($U$15:$U$18,SMALL(IF($T$15:$T$18=2,ROW(INDIRECT(\"1:\"&ROWS($T$15:$T$18)))),ROWS($1:2))),\"\")))","v":false}]
[null,{"$f":"IF(COUNTIF($T$15:$T$18,1)>1,IF(ROWS($1:3)<=COUNTIF($T$15:$T$18,1),INDEX($U$15:$U$18,SMALL(IF($T$15:$T$18=1,ROW(INDIRECT(\"1:\"&ROWS($T$15:$T$18)))),ROWS($1:3))),\"\"),IF(COUNTIF($T$15:$T$18,2)>1,IF(ROWS($1:3)<=COUNTIF($T$15:$T$18,2),INDEX($U$15:$U$18,SMALL(IF($T$15:$T$18=2,ROW(INDIRECT(\"1:\"&ROWS($T$15:$T$18)))),ROWS($1:3))),\"\")))","v":false},null,null,null,null,null,null,null,null,null,null,null,null,null,null,null,null,null,"Rg","Groupe D","MJ","G","N","P","BP","BC","Pts","Pts"]
[null,{"$f":"IF(COUNTIF($T$15:$T$18,1)>1,IF(ROWS($1:4)<=COUNTIF($T$15:$T$18,1),INDEX($U$15:$U$18,SMALL(IF($T$15:$T$18=1,ROW(INDIRECT(\"1:\"&ROWS($T$15:$T$18)))),ROWS($1:4))),\"\"),IF(COUNTIF($T$15:$T$18,2)>1,IF(ROWS($1:4)<=COUNTIF($T$15:$T$18,2),INDEX($U$15:$U$18,SMALL(IF($T$15:$T$18=2,ROW(INDIRECT(\"1:\"&ROWS($T$15:$T$18)))),ROWS($1:4))),\"\")))","v":false},null,null,null,null,null,null,null,null,null,null,null,null,null,null,"D_1",{"$f":"TEXT(S78,\"00000\")&U78","v":"09580Argentine"},{"$f":"AC78*1000+AB78*100+Z78*10","v":9580},{"$f":"RANK(S78,$S78:$S82,0)","v":1},{"$f":"VLOOKUP(Q78,TABLEAU_TEAMS[#All],2,FALSE)","v":"Argentine"},{"$f":"SUMPRODUCT((Teams1=U78)*(Teams1_Score<>\"\"))+SUMPRODUCT((Teams2=U78)*(Teams2_Score<>\"\"))","v":3},{"$f":"SUMPRODUCT((Teams1=U78)*(Teams1_Score>Teams2_Score))+SUMPRODUCT((Teams2=U78)*(Teams2_Score>Teams1_Score))","v":3},{"$f":"SUMPRODUCT((Teams1=U78)*(Teams1_Score=Teams2_Score)*(Teams1_Score<>\"\"))+SUMPRODUCT((Teams2=U78)*(Teams2_Score=Teams1_Score)*(Teams2_Score<>\"\"))","v":0},{"$f":"SUMPRODUCT((Teams1=U78)*(Teams1_Score<Teams2_Score))+SUMPRODUCT((Teams2=U78)*(Teams2_Score<Teams1_Score))","v":0},{"$f":"SUMPRODUCT((Teams1=U78)*(Teams1_Score))+SUMPRODUCT((Teams2=U78)*(Teams2_Score))","v":8},{"$f":"SUMPRODUCT((Teams1=U78)*(Teams2_Score))+SUMPRODUCT((Teams2=U78)*(Teams1_Score))","v":3},{"$f":"Z78-AA78","v":5},{"$f":"3*W78+X78","v":9}]
[null,"Tirage au sort C1",null,null,null,null,null,null,null,null,null,null,null,null,null,null,"D_2",{"$f":"TEXT(S79,\"00000\")&U79","v":"03040Islande"},{"$f":"AC79*1000+AB79*100+Z79*10","v":3040},{"$f":"RANK(S79,$S78:$S82,0)","v":3},{"$f":"VLOOKUP(Q79,TABLEAU_TEAMS[#All],2,FALSE)","v":"Islande"},{"$f":"SUMPRODUCT((Teams1=U79)*(Teams1_Score<>\"\"))+SUMPRODUCT((Teams2=U79)*(Teams2_Score<>\"\"))","v":3},{"$f":"SUMPRODUCT((Teams1=U79)*(Teams1_Score>Teams2_Score))+SUMPRODUCT((Teams2=U79)*(Teams2_Score>Teams1_Score))","v":1},{"$f":"SUMPRODUCT((Teams1=U79)*(Teams1_Score=Teams2_Score)*(Teams1_Score<>\"\"))+SUMPRODUCT((Teams2=U79)*(Teams2_Score=Teams1_Score)*(Teams2_Score<>\"\"))","v":0},{"$f":"SUMPRODUCT((Teams1=U79)*(Teams1_Score<Teams2_Score))+SUMPRODUCT((Teams2=U79)*(Teams2_Score<Teams1_Score))","v":2},{"$f":"SUMPRODUCT((Teams1=U79)*(Teams1_Score))+SUMPRODUCT((Teams2=U79)*(Teams2_Score))","v":4},{"$f":"SUMPRODUCT((Teams1=U79)*(Teams2_Score))+SUMPRODUCT((Teams2=U79)*(Teams1_Score))","v":4},{"$f":"Z79-AA79","v":0},{"$f":"3*W79+X79","v":3}]
[null,{"$f":"IF(ROWS($1:1)<=COUNTIF($T$21:$T$24,1),INDEX($U$21:$U$24,SMALL(IF($T$21:$T$24=1,ROW(INDIRECT(\"1:\"&ROWS($T$21:$T$24)))),ROWS($1:1))),\"\")","v":"France"},null,null,null,null,null,null,null,null,null,null,null,null,null,null,"D_3",{"$f":"TEXT(S80,\"00000\")&U80","v":"06250Croatie"},{"$f":"AC80*1000+AB80*100+Z80*10","v":6250},{"$f":"RANK(S80,$S78:$S82,0)","v":2},{"$f":"VLOOKUP(Q80,TABLEAU_TEAMS[#All],2,FALSE)","v":"Croatie"},{"$f":"SUMPRODUCT((Teams1=U80)*(Teams1_Score<>\"\"))+SUMPRODUCT((Teams2=U80)*(Teams2_Score<>\"\"))","v":3},{"$f":"SUMPRODUCT((Teams1=U80)*(Teams1_Score>Teams2_Score))+SUMPRODUCT((Teams2=U80)*(Teams2_Score>Teams1_Score))","v":2},{"$f":"SUMPRODUCT((Teams1=U80)*(Teams1_Score=Teams2_Score)*(Teams1_Score<>\"\"))+SUMPRODUCT((Teams2=U80)*(Teams2_Score=Teams1_Score)*(Teams2_Score<>\"\"))","v":0},{"$f":"SUMPRODUCT((Teams1=U80)*(Teams1_Score<Teams2_Score))+SUMPRODUCT((Teams2=U80)*(Teams2_Score<Teams1_Score))","v":1},{"$f":"SUMPRODUCT((Teams1=U80)*(Teams1_Score))+SUMPRODUCT((Teams2=U80)*(Teams2_Score))","v":5},{"$f":"SUMPRODUCT((Teams1=U80)*(Teams2_Score))+SUMPRODUCT((Teams2=U80)*(Teams1_Score))","v":3},{"$f":"Z80-AA80","v":2},{"$f":"3*W80+X80","v":6}]
[null,{"$f":"IF(ROWS($1:2)<=COUNTIF($T$21:$T$24,1),INDEX($U$21:$U$24,SMALL(IF($T$21:$T$24=1,ROW(INDIRECT(\"1:\"&ROWS($T$21:$T$24)))),ROWS($1:2))),\"\")","v":""},null,null,null,null,null,null,null,null,null,null,null,null,null,null,"D_4",{"$f":"TEXT(S81,\"00000\")&U81","v":"-00690Nigeria"},{"$f":"AC81*1000+AB81*100+Z81*10","v":-690},{"$f":"RANK(S81,$S78:$S82,0)","v":4},{"$f":"VLOOKUP(Q81,TABLEAU_TEAMS[#All],2,FALSE)","v":"Nigeria"},{"$f":"SUMPRODUCT((Teams1=U81)*(Teams1_Score<>\"\"))+SUMPRODUCT((Teams2=U81)*(Teams2_Score<>\"\"))","v":3},{"$f":"SUMPRODUCT((Teams1=U81)*(Teams1_Score>Teams2_Score))+SUMPRODUCT((Teams2=U81)*(Teams2_Score>Teams1_Score))","v":0},{"$f":"SUMPRODUCT((Teams1=U81)*(Teams1_Score=Teams2_Score)*(Teams1_Score<>\"\"))+SUMPRODUCT((Teams2=U81)*(Teams2_Score=Teams1_Score)*(Teams2_Score<>\"\"))","v":0},{"$f":"SUMPRODUCT((Teams1=U81)*(Teams1_Score<Teams2_Score))+SUMPRODUCT((Teams2=U81)*(Teams2_Score<Teams1_Score))","v":3},{"$f":"SUMPRODUCT((Teams1=U81)*(Teams1_Score))+SUMPRODUCT((Teams2=U81)*(Teams2_Score))","v":1},{"$f":"SUMPRODUCT((Teams1=U81)*(Teams2_Score))+SUMPRODUCT((Teams2=U81)*(Teams1_Score))","v":8},{"$f":"Z81-AA81","v":-7},{"$f":"3*W81+X81","v":0}]
[null,{"$f":"IF(ROWS($1:3)<=COUNTIF($T$21:$T$24,1),INDEX($U$21:$U$24,SMALL(IF($T$21:$T$24=1,ROW(INDIRECT(\"1:\"&ROWS($T$21:$T$24)))),ROWS($1:3))),\"\")","v":""}]
[null,{"$f":"IF(ROWS($1:4)<=COUNTIF($T$21:$T$24,1),INDEX($U$21:$U$24,SMALL(IF($T$21:$T$24=1,ROW(INDIRECT(\"1:\"&ROWS($T$21:$T$24)))),ROWS($1:4))),\"\")","v":""},null,null,null,null,null,null,null,null,null,null,null,null,null,null,null,null,null,"Rg","Groupe E","MJ","G","N","P","BP","BC","Pts","Pts"]
[null,"Tirage au sort C2",null,null,null,null,null,null,null,null,null,null,null,null,null,null,"E_1",{"$f":"TEXT(S84,\"00000\")&U84","v":"-00800Costa Rica"},{"$f":"AC84*1000+AB84*100+Z84*10","v":-800},{"$f":"RANK(S84,$S84:$S88,0)","v":4},{"$f":"VLOOKUP(Q84,TABLEAU_TEAMS[#All],2,FALSE)","v":"Costa Rica"},{"$f":"SUMPRODUCT((Teams1=U84)*(Teams1_Score<>\"\"))+SUMPRODUCT((Teams2=U84)*(Teams2_Score<>\"\"))","v":3},{"$f":"SUMPRODUCT((Teams1=U84)*(Teams1_Score>Teams2_Score))+SUMPRODUCT((Teams2=U84)*(Teams2_Score>Teams1_Score))","v":0},{"$f":"SUMPRODUCT((Teams1=U84)*(Teams1_Score=Teams2_Score)*(Teams1_Score<>\"\"))+SUMPRODUCT((Teams2=U84)*(Teams2_Score=Teams1_Score)*(Teams2_Score<>\"\"))","v":0},{"$f":"SUMPRODUCT((Teams1=U84)*(Teams1_Score<Teams2_Score))+SUMPRODUCT((Teams2=U84)*(Teams2_Score<Teams1_Score))","v":3},{"$f":"SUMPRODUCT((Teams1=U84)*(Teams1_Score))+SUMPRODUCT((Teams2=U84)*(Teams2_Score))","v":0},{"$f":"SUMPRODUCT((Teams1=U84)*(Teams2_Score))+SUMPRODUCT((Teams2=U84)*(Teams1_Score))","v":8},{"$f":"Z84-AA84","v":-8},{"$f":"3*W84+X84","v":0}]
[null,{"$f":"IF(COUNTIF($T$21:$T$24,1)>1,IF(ROWS($1:1)<=COUNTIF($T$21:$T$24,1),INDEX($U$21:$U$24,SMALL(IF($T$21:$T$24=1,ROW(INDIRECT(\"1:\"&ROWS($T$21:$T$24)))),ROWS($1:1))),\"\"),IF(COUNTIF($T$21:$T$24,2)>1,IF(ROWS($1:1)<=COUNTIF($T$21:$T$24,2),INDEX($U$21:$U$24,SMALL(IF($T$21:$T$24=2,ROW(INDIRECT(\"1:\"&ROWS($T$21:$T$24)))),ROWS($1:1))),\"\")))","v":false},null,null,null,null,null,null,null,null,null,null,null,null,null,null,"E_2",{"$f":"TEXT(S85,\"00000\")&U85","v":"03920Serbie"},{"$f":"AC85*1000+AB85*100+Z85*10","v":3920},{"$f":"RANK(S85,$S84:$S88,0)","v":2},{"$f":"VLOOKUP(Q85,TABLEAU_TEAMS[#All],2,FALSE)","v":"Serbie"},{"$f":"SUMPRODUCT((Teams1=U85)*(Teams1_Score<>\"\"))+SUMPRODUCT((Teams2=U85)*(Teams2_Score<>\"\"))","v":3},{"$f":"SUMPRODUCT((Teams1=U85)*(Teams1_Score>Teams2_Score))+SUMPRODUCT((Teams2=U85)*(Teams2_Score>Teams1_Score))","v":1},{"$f":"SUMPRODUCT((Teams1=U85)*(Teams1_Score=Teams2_Score)*(Teams1_Score<>\"\"))+SUMPRODUCT((Teams2=U85)*(Teams2_Score=Teams1_Score)*(Teams2_Score<>\"\"))","v":1},{"$f":"SUMPRODUCT((Teams1=U85)*(Teams1_Score<Teams2_Score))+SUMPRODUCT((Teams2=U85)*(Teams2_Score<Teams1_Score))","v":1},{"$f":"SUMPRODUCT((Teams1=U85)*(Teams1_Score))+SUMPRODUCT((Teams2=U85)*(Teams2_Score))","v":2},{"$f":"SUMPRODUCT((Teams1=U85)*(Teams2_Score))+SUMPRODUCT((Teams2=U85)*(Teams1_Score))","v":3},{"$f":"Z85-AA85","v":-1},{"$f":"3*W85+X85","v":4}]
[null,{"$f":"IF(COUNTIF($T$21:$T$24,1)>1,IF(ROWS($1:2)<=COUNTIF($T$21:$T$24,1),INDEX($U$21:$U$24,SMALL(IF($T$21:$T$24=1,ROW(INDIRECT(\"1:\"&ROWS($T$21:$T$24)))),ROWS($1:2))),\"\"),IF(COUNTIF($T$21:$T$24,2)>1,IF(ROWS($1:2)<=COUNTIF($T$21:$T$24,2),INDEX($U$21:$U$24,SMALL(IF($T$21:$T$24=2,ROW(INDIRECT(\"1:\"&ROWS($T$21:$T$24)))),ROWS($1:2))),\"\")))","v":false},null,null,null,null,null,null,null,null,null,null,null,null,null,null,"E_3",{"$f":"TEXT(S86,\"00000\")&U86","v":"10100Brésil"},{"$f":"AC86*1000+AB86*100+Z86*10","v":10100},{"$f":"RANK(S86,$S84:$S88,0)","v":1},{"$f":"VLOOKUP(Q86,TABLEAU_TEAMS[#All],2,FALSE)","v":"Brésil"},{"$f":"SUMPRODUCT((Teams1=U86)*(Teams1_Score<>\"\"))+SUMPRODUCT((Teams2=U86)*(Teams2_Score<>\"\"))","v":3},{"$f":"SUMPRODUCT((Teams1=U86)*(Teams1_Score>Teams2_Score))+SUMPRODUCT((Teams2=U86)*(Teams2_Score>Teams1_Score))","v":3},{"$f":"SUMPRODUCT((Teams1=U86)*(Teams1_Score=Teams2_Score)*(Teams1_Score<>\"\"))+SUMPRODUCT((Teams2=U86)*(Teams2_Score=Teams1_Score)*(Teams2_Score<>\"\"))","v":0},{"$f":"SUMPRODUCT((Teams1=U86)*(Teams1_Score<Teams2_Score))+SUMPRODUCT((Teams2=U86)*(Teams2_Score<Teams1_Score))","v":0},{"$f":"SUMPRODUCT((Teams1=U86)*(Teams1_Score))+SUMPRODUCT((Teams2=U86)*(Teams2_Score))","v":10},{"$f":"SUMPRODUCT((Teams1=U86)*(Teams2_Score))+SUMPRODUCT((Teams2=U86)*(Teams1_Score))","v":0},{"$f":"Z86-AA86","v":10},{"$f":"3*W86+X86","v":9}]
[null,{"$f":"IF(COUNTIF($T$21:$T$24,1)>1,IF(ROWS($1:3)<=COUNTIF($T$21:$T$24,1),INDEX($U$21:$U$24,SMALL(IF($T$21:$T$24=1,ROW(INDIRECT(\"1:\"&ROWS($T$21:$T$24)))),ROWS($1:3))),\"\"),IF(COUNTIF($T$21:$T$24,2)>1,IF(ROWS($1:3)<=COUNTIF($T$21:$T$24,2),INDEX($U$21:$U$24,SMALL(IF($T$21:$T$24=2,ROW(INDIRECT(\"1:\"&ROWS($T$21:$T$24)))),ROWS($1:3))),\"\")))","v":false},null,null,null,null,null,null,null,null,null,null,null,null,null,null,"E_4",{"$f":"TEXT(S87,\"00000\")&U87","v":"03920Suisse"},{"$f":"AC87*1000+AB87*100+Z87*10","v":3920},{"$f":"RANK(S87,$S84:$S88,0)","v":2},{"$f":"VLOOKUP(Q87,TABLEAU_TEAMS[#All],2,FALSE)","v":"Suisse"},{"$f":"SUMPRODUCT((Teams1=U87)*(Teams1_Score<>\"\"))+SUMPRODUCT((Teams2=U87)*(Teams2_Score<>\"\"))","v":3},{"$f":"SUMPRODUCT((Teams1=U87)*(Teams1_Score>Teams2_Score))+SUMPRODUCT((Teams2=U87)*(Teams2_Score>Teams1_Score))","v":1},{"$f":"SUMPRODUCT((Teams1=U87)*(Teams1_Score=Teams2_Score)*(Teams1_Score<>\"\"))+SUMPRODUCT((Teams2=U87)*(Teams2_Score=Teams1_Score)*(Teams2_Score<>\"\"))","v":1},{"$f":"SUMPRODUCT((Teams1=U87)*(Teams1_Score<Teams2_Score))+SUMPRODUCT((Teams2=U87)*(Teams2_Score<Teams1_Score))","v":1},{"$f":"SUMPRODUCT((Teams1=U87)*(Teams1_Score))+SUMPRODUCT((Teams2=U87)*(Teams2_Score))","v":2},{"$f":"SUMPRODUCT((Teams1=U87)*(Teams2_Score))+SUMPRODUCT((Teams2=U87)*(Teams1_Score))","v":3},{"$f":"Z87-AA87","v":-1},{"$f":"3*W87+X87","v":4}]
[null,{"$f":"IF(COUNTIF($T$21:$T$24,1)>1,IF(ROWS($1:4)<=COUNTIF($T$21:$T$24,1),INDEX($U$21:$U$24,SMALL(IF($T$21:$T$24=1,ROW(INDIRECT(\"1:\"&ROWS($T$21:$T$24)))),ROWS($1:4))),\"\"),IF(COUNTIF($T$21:$T$24,2)>1,IF(ROWS($1:4)<=COUNTIF($T$21:$T$24,2),INDEX($U$21:$U$24,SMALL(IF($T$21:$T$24=2,ROW(INDIRECT(\"1:\"&ROWS($T$21:$T$24)))),ROWS($1:4))),\"\")))","v":false}]
[null,"Tirage au sort D1",null,null,null,null,null,null,null,null,null,null,null,null,null,null,null,null,null,"Rg","Groupe F","MJ","G","N","P","BP","BC","Pts","Pts"]
[null,{"$f":"IF(ROWS($1:1)<=COUNTIF($T$27:$T$30,1),INDEX($U$27:$U$30,SMALL(IF($T$27:$T$30=1,ROW(INDIRECT(\"1:\"&ROWS($T$27:$T$30)))),ROWS($1:1))),\"\")","v":"Argentine"},null,null,null,null,null,null,null,null,null,null,null,null,null,null,"F_1",{"$f":"TEXT(S90,\"00000\")&U90","v":"09570Allemagne"},{"$f":"AC90*1000+AB90*100+Z90*10","v":9570},{"$f":"RANK(S90,$S90:$S94,0)","v":1},{"$f":"VLOOKUP(Q90,TABLEAU_TEAMS[#All],2,FALSE)","v":"Allemagne"},{"$f":"SUMPRODUCT((Teams1=U90)*(Teams1_Score<>\"\"))+SUMPRODUCT((Teams2=U90)*(Teams2_Score<>\"\"))","v":3},{"$f":"SUMPRODUCT((Teams1=U90)*(Teams1_Score>Teams2_Score))+SUMPRODUCT((Teams2=U90)*(Teams2_Score>Teams1_Score))","v":3},{"$f":"SUMPRODUCT((Teams1=U90)*(Teams1_Score=Teams2_Score)*(Teams1_Score<>\"\"))+SUMPRODUCT((Teams2=U90)*(Teams2_Score=Teams1_Score)*(Teams2_Score<>\"\"))","v":0},{"$f":"SUMPRODUCT((Teams1=U90)*(Teams1_Score<Teams2_Score))+SUMPRODUCT((Teams2=U90)*(Teams2_Score<Teams1_Score))","v":0},{"$f":"SUMPRODUCT((Teams1=U90)*(Teams1_Score))+SUMPRODUCT((Teams2=U90)*(Teams2_Score))","v":7},{"$f":"SUMPRODUCT((Teams1=U90)*(Teams2_Score))+SUMPRODUCT((Teams2=U90)*(Teams1_Score))","v":2},{"$f":"Z90-AA90","v":5},{"$f":"3*W90+X90","v":9}]
[null,{"$f":"IF(ROWS($1:2)<=COUNTIF($T$27:$T$30,1),INDEX($U$27:$U$30,SMALL(IF($T$27:$T$30=1,ROW(INDIRECT(\"1:\"&ROWS($T$27:$T$30)))),ROWS($1:2))),\"\")","v":""},null,null,null,null,null,null,null,null,null,null,null,null,null,null,"F_2",{"$f":"TEXT(S91,\"00000\")&U91","v":"06350Mexique"},{"$f":"AC91*1000+AB91*100+Z91*10","v":6350},{"$f":"RANK(S91,$S90:$S94,0)","v":2},{"$f":"VLOOKUP(Q91,TABLEAU_TEAMS[#All],2,FALSE)","v":"Mexique"},{"$f":"SUMPRODUCT((Teams1=U91)*(Teams1_Score<>\"\"))+SUMPRODUCT((Teams2=U91)*(Teams2_Score<>\"\"))","v":3},{"$f":"SUMPRODUCT((Teams1=U91)*(Teams1_Score>Teams2_Score))+SUMPRODUCT((Teams2=U91)*(Teams2_Score>Teams1_Score))","v":2},{"$f":"SUMPRODUCT((Teams1=U91)*(Teams1_Score=Teams2_Score)*(Teams1_Score<>\"\"))+SUMPRODUCT((Teams2=U91)*(Teams2_Score=Teams1_Score)*(Teams2_Score<>\"\"))","v":0},{"$f":"SUMPRODUCT((Teams1=U91)*(Teams1_Score<Teams2_Score))+SUMPRODUCT((Teams2=U91)*(Teams2_Score<Teams1_Score))","v":1},{"$f":"SUMPRODUCT((Teams1=U91)*(Teams1_Score))+SUMPRODUCT((Teams2=U91)*(Teams2_Score))","v":5},{"$f":"SUMPRODUCT((Teams1=U91)*(Teams2_Score))+SUMPRODUCT((Teams2=U91)*(Teams1_Score))","v":2},{"$f":"Z91-AA91","v":3},{"$f":"3*W91+X91","v":6}]
[null,{"$f":"IF(ROWS($1:3)<=COUNTIF($T$27:$T$30,1),INDEX($U$27:$U$30,SMALL(IF($T$27:$T$30=1,ROW(INDIRECT(\"1:\"&ROWS($T$27:$T$30)))),ROWS($1:3))),\"\")","v":""},null,null,null,null,null,null,null,null,null,null,null,null,null,null,"F_3",{"$f":"TEXT(S92,\"00000\")&U92","v":"00720Suède"},{"$f":"AC92*1000+AB92*100+Z92*10","v":720},{"$f":"RANK(S92,$S90:$S94,0)","v":3},{"$f":"VLOOKUP(Q92,TABLEAU_TEAMS[#All],2,FALSE)","v":"Suède"},{"$f":"SUMPRODUCT((Teams1=U92)*(Teams1_Score<>\"\"))+SUMPRODUCT((Teams2=U92)*(Teams2_Score<>\"\"))","v":3},{"$f":"SUMPRODUCT((Teams1=U92)*(Teams1_Score>Teams2_Score))+SUMPRODUCT((Teams2=U92)*(Teams2_Score>Teams1_Score))","v":0},{"$f":"SUMPRODUCT((Teams1=U92)*(Teams1_Score=Teams2_Score)*(Teams1_Score<>\"\"))+SUMPRODUCT((Teams2=U92)*(Teams2_Score=Teams1_Score)*(Teams2_Score<>\"\"))","v":1},{"$f":"SUMPRODUCT((Teams1=U92)*(Teams1_Score<Teams2_Score))+SUMPRODUCT((Teams2=U92)*(Teams2_Score<Teams1_Score))","v":2},{"$f":"SUMPRODUCT((Teams1=U92)*(Teams1_Score))+SUMPRODUCT((Teams2=U92)*(Teams2_Score))","v":2},{"$f":"SUMPRODUCT((Teams1=U92)*(Teams2_Score))+SUMPRODUCT((Teams2=U92)*(Teams1_Score))","v":5},{"$f":"Z92-AA92","v":-3},{"$f":"3*W92+X92","v":1}]
[null,{"$f":"IF(ROWS($1:4)<=COUNTIF($T$27:$T$30,1),INDEX($U$27:$U$30,SMALL(IF($T$27:$T$30=1,ROW(INDIRECT(\"1:\"&ROWS($T$27:$T$30)))),ROWS($1:4))),\"\")","v":""},null,null,null,null,null,null,null,null,null,null,null,null,null,null,"F_4",{"$f":"TEXT(S93,\"00000\")&U93","v":"00510République de Corée"},{"$f":"AC93*1000+AB93*100+Z93*10","v":510},{"$f":"RANK(S93,$S90:$S94,0)","v":4},{"$f":"VLOOKUP(Q93,TABLEAU_TEAMS[#All],2,FALSE)","v":"République de Corée"},{"$f":"SUMPRODUCT((Teams1=U93)*(Teams1_Score<>\"\"))+SUMPRODUCT((Teams2=U93)*(Teams2_Score<>\"\"))","v":3},{"$f":"SUMPRODUCT((Teams1=U93)*(Teams1_Score>Teams2_Score))+SUMPRODUCT((Teams2=U93)*(Teams2_Score>Teams1_Score))","v":0},{"$f":"SUMPRODUCT((Teams1=U93)*(Teams1_Score=Teams2_Score)*(Teams1_Score<>\"\"))+SUMPRODUCT((Teams2=U93)*(Teams2_Score=Teams1_Score)*(Teams2_Score<>\"\"))","v":1},{"$f":"SUMPRODUCT((Teams1=U93)*(Teams1_Score<Teams2_Score))+SUMPRODUCT((Teams2=U93)*(Teams2_Score<Teams1_Score))","v":2},{"$f":"SUMPRODUCT((Teams1=U93)*(Teams1_Score))+SUMPRODUCT((Teams2=U93)*(Teams2_Score))","v":1},{"$f":"SUMPRODUCT((Teams1=U93)*(Teams2_Score))+SUMPRODUCT((Teams2=U93)*(Teams1_Score))","v":6},{"$f":"Z93-AA93","v":-5},{"$f":"3*W93+X93","v":1}]
[null,"Tirage au sort D2"]
[null,{"$f":"IF(COUNTIF($T$27:$T$30,1)>1,IF(ROWS($1:1)<=COUNTIF($T$27:$T$30,1),INDEX($U$27:$U$30,SMALL(IF($T$27:$T$30=1,ROW(INDIRECT(\"1:\"&ROWS($T$27:$T$30)))),ROWS($1:1))),\"\"),IF(COUNTIF($T$27:$T$30,2)>1,IF(ROWS($1:1)<=COUNTIF($T$27:$T$30,2),INDEX($U$27:$U$30,SMALL(IF($T$27:$T$30=2,ROW(INDIRECT(\"1:\"&ROWS($T$27:$T$30)))),ROWS($1:1))),\"\")))","v":false},null,null,null,null,null,null,null,null,null,null,null,null,null,null,null,null,null,"Rg","Groupe G","MJ","G","N","P","BP","BC","Pts","Pts"]
[null,{"$f":"IF(COUNTIF($T$27:$T$30,1)>1,IF(ROWS($1:2)<=COUNTIF($T$27:$T$30,1),INDEX($U$27:$U$30,SMALL(IF($T$27:$T$30=1,ROW(INDIRECT(\"1:\"&ROWS($T$27:$T$30)))),ROWS($1:2))),\"\"),IF(COUNTIF($T$27:$T$30,2)>1,IF(ROWS($1:2)<=COUNTIF($T$27:$T$30,2),INDEX($U$27:$U$30,SMALL(IF($T$27:$T$30=2,ROW(INDIRECT(\"1:\"&ROWS($T$27:$T$30)))),ROWS($1:2))),\"\")))","v":false},null,null,null,null,null,null,null,null,null,null,null,null,null,null,"G_1",{"$f":"TEXT(S96,\"00000\")&U96","v":"05350Belgique"},{"$f":"AC96*1000+AB96*100+Z96*10","v":5350},{"$f":"RANK(S96,$S96:$S100,0)","v":2},{"$f":"VLOOKUP(Q96,TABLEAU_TEAMS[#All],2,FALSE)","v":"Belgique"},{"$f":"SUMPRODUCT((Teams1=U96)*(Teams1_Score<>\"\"))+SUMPRODUCT((Teams2=U96)*(Teams2_Score<>\"\"))","v":3},{"$f":"SUMPRODUCT((Teams1=U96)*(Teams1_Score>Teams2_Score))+SUMPRODUCT((Teams2=U96)*(Teams2_Score>Teams1_Score))","v":1},{"$f":"SUMPRODUCT((Teams1=U96)*(Teams1_Score=Teams2_Score)*(Teams1_Score<>\"\"))+SUMPRODUCT((Teams2=U96)*(Teams2_Score=Teams1_Score)*(Teams2_Score<>\"\"))","v":2},{"$f":"SUMPRODUCT((Teams1=U96)*(Teams1_Score<Teams2_Score))+SUMPRODUCT((Teams2=U96)*(Teams2_Score<Teams1_Score))","v":0},{"$f":"SUMPRODUCT((Teams1=U96)*(Teams1_Score))+SUMPRODUCT((Teams2=U96)*(Teams2_Score))","v":5},{"$f":"SUMPRODUCT((Teams1=U96)*(Teams2_Score))+SUMPRODUCT((Teams2=U96)*(Teams1_Score))","v":2},{"$f":"Z96-AA96","v":3},{"$f":"3*W96+X96","v":5}]
[null,{"$f":"IF(COUNTIF($T$27:$T$30,1)>1,IF(ROWS($1:3)<=COUNTIF($T$27:$T$30,1),INDEX($U$27:$U$30,SMALL(IF($T$27:$T$30=1,ROW(INDIRECT(\"1:\"&ROWS($T$27:$T$30)))),ROWS($1:3))),\"\"),IF(COUNTIF($T$27:$T$30,2)>1,IF(ROWS($1:3)<=COUNTIF($T$27:$T$30,2),INDEX($U$27:$U$30,SMALL(IF($T$27:$T$30=2,ROW(INDIRECT(\"1:\"&ROWS($T$27:$T$30)))),ROWS($1:3))),\"\")))","v":false},null,null,null,null,null,null,null,null,null,null,null,null,null,null,"G_2",{"$f":"TEXT(S97,\"00000\")&U97","v":"-00580Panama"},{"$f":"AC97*1000+AB97*100+Z97*10","v":-580},{"$f":"RANK(S97,$S96:$S100,0)","v":4},{"$f":"VLOOKUP(Q97,TABLEAU_TEAMS[#All],2,FALSE)","v":"Panama"},{"$f":"SUMPRODUCT((Teams1=U97)*(Teams1_Score<>\"\"))+SUMPRODUCT((Teams2=U97)*(Teams2_Score<>\"\"))","v":3},{"$f":"SUMPRODUCT((Teams1=U97)*(Teams1_Score>Teams2_Score))+SUMPRODUCT((Teams2=U97)*(Teams2_Score>Teams1_Score))","v":0},{"$f":"SUMPRODUCT((Teams1=U97)*(Teams1_Score=Teams2_Score)*(Teams1_Score<>\"\"))+SUMPRODUCT((Teams2=U97)*(Teams2_Score=Teams1_Score)*(Teams2_Score<>\"\"))","v":0},{"$f":"SUMPRODUCT((Teams1=U97)*(Teams1_Score<Teams2_Score))+SUMPRODUCT((Teams2=U97)*(Teams2_Score<Teams1_Score))","v":3},{"$f":"SUMPRODUCT((Teams1=U97)*(Teams1_Score))+SUMPRODUCT((Teams2=U97)*(Teams2_Score))","v":2},{"$f":"SUMPRODUCT((Teams1=U97)*(Teams2_Score))+SUMPRODUCT((Teams2=U97)*(Teams1_Score))","v":8},{"$f":"Z97-AA97","v":-6},{"$f":"3*W97+X97","v":0}]
[null,{"$f":"IF(COUNTIF($T$27:$T$30,1)>1,IF(ROWS($1:4)<=COUNTIF($T$27:$T$30,1),INDEX($U$27:$U$30,SMALL(IF($T$27:$T$30=1,ROW(INDIRECT(\"1:\"&ROWS($T$27:$T$30)))),ROWS($1:4))),\"\"),IF(COUNTIF($T$27:$T$30,2)>1,IF(ROWS($1:4)<=COUNTIF($T$27:$T$30,2),INDEX($U$27:$U$30,SMALL(IF($T$27:$T$30=2,ROW(INDIRECT(\"1:\"&ROWS($T$27:$T$30)))),ROWS($1:4))),\"\")))","v":false},null,null,null,null,null,null,null,null,null,null,null,null,null,null,"G_3",{"$f":"TEXT(S98,\"00000\")&U98","v":"03940Tunisie"},{"$f":"AC98*1000+AB98*100+Z98*10","v":3940},{"$f":"RANK(S98,$S96:$S100,0)","v":3},{"$f":"VLOOKUP(Q98,TABLEAU_TEAMS[#All],2,FALSE)","v":"Tunisie"},{"$f":"SUMPRODUCT((Teams1=U98)*(Teams1_Score<>\"\"))+SUMPRODUCT((Teams2=U98)*(Teams2_Score<>\"\"))","v":3},{"$f":"SUMPRODUCT((Teams1=U98)*(Teams1_Score>Teams2_Score))+SUMPRODUCT((Teams2=U98)*(Teams2_Score>Teams1_Score))","v":1},{"$f":"SUMPRODUCT((Teams1=U98)*(Teams1_Score=Teams2_Score)*(Teams1_Score<>\"\"))+SUMPRODUCT((Teams2=U98)*(Teams2_Score=Teams1_Score)*(Teams2_Score<>\"\"))","v":1},{"$f":"SUMPRODUCT((Teams1=U98)*(Teams1_Score<Teams2_Score))+SUMPRODUCT((Teams2=U98)*(Teams2_Score<Teams1_Score))","v":1},{"$f":"SUMPRODUCT((Teams1=U98)*(Teams1_Score))+SUMPRODUCT((Teams2=U98)*(Teams2_Score))","v":4},{"$f":"SUMPRODUCT((Teams1=U98)*(Teams2_Score))+SUMPRODUCT((Teams2=U98)*(Teams1_Score))","v":5},{"$f":"Z98-AA98","v":-1},{"$f":"3*W98+X98","v":4}]
[null,"Tirage au sort E1",null,null,null,null,null,null,null,null,null,null,null,null,null,null,"G_4",{"$f":"TEXT(S99,\"00000\")&U99","v":"07450Angleterre"},{"$f":"AC99*1000+AB99*100+Z99*10","v":7450},{"$f":"RANK(S99,$S96:$S100,0)","v":1},{"$f":"VLOOKUP(Q99,TABLEAU_TEAMS[#All],2,FALSE)","v":"Angleterre"},{"$f":"SUMPRODUCT((Teams1=U99)*(Teams1_Score<>\"\"))+SUMPRODUCT((Teams2=U99)*(Teams2_Score<>\"\"))","v":3},{"$f":"SUMPRODUCT((Teams1=U99)*(Teams1_Score>Teams2_Score))+SUMPRODUCT((Teams2=U99)*(Teams2_Score>Teams1_Score))","v":2},{"$f":"SUMPRODUCT((Teams1=U99)*(Teams1_Score=Teams2_Score)*(Teams1_Score<>\"\"))+SUMPRODUCT((Teams2=U99)*(Teams2_Score=Teams1_Score)*(Teams2_Score<>\"\"))","v":1},{"$f":"SUMPRODUCT((Teams1=U99)*(Teams1_Score<Teams2_Score))+SUMPRODUCT((Teams2=U99)*(Teams2_Score<Teams1_Score))","v":0},{"$f":"SUMPRODUCT((Teams1=U99)*(Teams1_Score))+SUMPRODUCT((Teams2=U99)*(Teams2_Score))","v":5},{"$f":"SUMPRODUCT((Teams1=U99)*(Teams2_Score))+SUMPRODUCT((Teams2=U99)*(Teams1_Score))","v":1},{"$f":"Z99-AA99","v":4},{"$f":"3*W99+X99","v":7}]
[null,{"$f":"IF(ROWS($1:1)<=COUNTIF($T$33:$T$36,1),INDEX($U$33:$U$36,SMALL(IF($T$33:$T$36=1,ROW(INDIRECT(\"1:\"&ROWS($T$33:$T$36)))),ROWS($1:1))),\"\")","v":"Brésil"}]
[null,{"$f":"IF(ROWS($1:2)<=COUNTIF($T$33:$T$36,1),INDEX($U$33:$U$36,SMALL(IF($T$33:$T$36=1,ROW(INDIRECT(\"1:\"&ROWS($T$33:$T$36)))),ROWS($1:2))),\"\")","v":""},null,null,null,null,null,null,null,null,null,null,null,null,null,null,null,null,null,"Rg","Groupe H","MJ","G","N","P","BP","BC","Pts","Pts"]
[null,{"$f":"IF(ROWS($1:3)<=COUNTIF($T$33:$T$36,1),INDEX($U$33:$U$36,SMALL(IF($T$33:$T$36=1,ROW(INDIRECT(\"1:\"&ROWS($T$33:$T$36)))),ROWS($1:3))),\"\")","v":""},null,null,null,null,null,null,null,null,null,null,null,null,null,null,"H_1",{"$f":"TEXT(S102,\"00000\")&U102","v":"05240Colombie"},{"$f":"AC102*1000+AB102*100+Z102*10","v":5240},{"$f":"RANK(S102,$S102:$S106,0)","v":2},{"$f":"VLOOKUP(Q102,TABLEAU_TEAMS[#All],2,FALSE)","v":"Colombie"},{"$f":"SUMPRODUCT((Teams1=U102)*(Teams1_Score<>\"\"))+SUMPRODUCT((Teams2=U102)*(Teams2_Score<>\"\"))","v":3},{"$f":"SUMPRODUCT((Teams1=U102)*(Teams1_Score>Teams2_Score))+SUMPRODUCT((Teams2=U102)*(Teams2_Score>Teams1_Score))","v":1},{"$f":"SUMPRODUCT((Teams1=U102)*(Teams1_Score=Teams2_Score)*(Teams1_Score<>\"\"))+SUMPRODUCT((Teams2=U102)*(Teams2_Score=Teams1_Score)*(Teams2_Score<>\"\"))","v":2},{"$f":"SUMPRODUCT((Teams1=U102)*(Teams1_Score<Teams2_Score))+SUMPRODUCT((Teams2=U102)*(Teams2_Score<Teams1_Score))","v":0},{"$f":"SUMPRODUCT((Teams1=U102)*(Teams1_Score))+SUMPRODUCT((Teams2=U102)*(Teams2_Score))","v":4},{"$f":"SUMPRODUCT((Teams1=U102)*(Teams2_Score))+SUMPRODUCT((Teams2=U102)*(Teams1_Score))","v":2},{"$f":"Z102-AA102","v":2},{"$f":"3*W102+X102","v":5}]
[null,{"$f":"IF(ROWS($1:4)<=COUNTIF($T$33:$T$36,1),INDEX($U$33:$U$36,SMALL(IF($T$33:$T$36=1,ROW(INDIRECT(\"1:\"&ROWS($T$33:$T$36)))),ROWS($1:4))),\"\")","v":""},null,null,null,null,null,null,null,null,null,null,null,null,null,null,"H_2",{"$f":"TEXT(S103,\"00000\")&U103","v":"00710Japon"},{"$f":"AC103*1000+AB103*100+Z103*10","v":710},{"$f":"RANK(S103,$S102:$S106,0)","v":4},{"$f":"VLOOKUP(Q103,TABLEAU_TEAMS[#All],2,FALSE)","v":"Japon"},{"$f":"SUMPRODUCT((Teams1=U103)*(Teams1_Score<>\"\"))+SUMPRODUCT((Teams2=U103)*(Teams2_Score<>\"\"))","v":3},{"$f":"SUMPRODUCT((Teams1=U103)*(Teams1_Score>Teams2_Score))+SUMPRODUCT((Teams2=U103)*(Teams2_Score>Teams1_Score))","v":0},{"$f":"SUMPRODUCT((Teams1=U103)*(Teams1_Score=Teams2_Score)*(Teams1_Score<>\"\"))+SUMPRODUCT((Teams2=U103)*(Teams2_Score=Teams1_Score)*(Teams2_Score<>\"\"))","v":1},{"$f":"SUMPRODUCT((Teams1=U103)*(Teams1_Score<Teams2_Score))+SUMPRODUCT((Teams2=U103)*(Teams2_Score<Teams1_Score))","v":2},{"$f":"SUMPRODUCT((Teams1=U103)*(Teams1_Score))+SUMPRODUCT((Teams2=U103)*(Teams2_Score))","v":1},{"$f":"SUMPRODUCT((Teams1=U103)*(Teams2_Score))+SUMPRODUCT((Teams2=U103)*(Teams1_Score))","v":4},{"$f":"Z103-AA103","v":-3},{"$f":"3*W103+X103","v":1}]
[null,"Tirage au sort E2",null,null,null,null,null,null,null,null,null,null,null,null,null,null,"H_3",{"$f":"TEXT(S104,\"00000\")&U104","v":"07240Pologne"},{"$f":"AC104*1000+AB104*100+Z104*10","v":7240},{"$f":"RANK(S104,$S102:$S106,0)","v":1},{"$f":"VLOOKUP(Q104,TABLEAU_TEAMS[#All],2,FALSE)","v":"Pologne"},{"$f":"SUMPRODUCT((Teams1=U104)*(Teams1_Score<>\"\"))+SUMPRODUCT((Teams2=U104)*(Teams2_Score<>\"\"))","v":3},{"$f":"SUMPRODUCT((Teams1=U104)*(Teams1_Score>Teams2_Score))+SUMPRODUCT((Teams2=U104)*(Teams2_Score>Teams1_Score))","v":2},{"$f":"SUMPRODUCT((Teams1=U104)*(Teams1_Score=Teams2_Score)*(Teams1_Score<>\"\"))+SUMPRODUCT((Teams2=U104)*(Teams2_Score=Teams1_Score)*(Teams2_Score<>\"\"))","v":1},{"$f":"SUMPRODUCT((Teams1=U104)*(Teams1_Score<Teams2_Score))+SUMPRODUCT((Teams2=U104)*(Teams2_Score<Teams1_Score))","v":0},{"$f":"SUMPRODUCT((Teams1=U104)*(Teams1_Score))+SUMPRODUCT((Teams2=U104)*(Teams2_Score))","v":4},{"$f":"SUMPRODUCT((Teams1=U104)*(Teams2_Score))+SUMPRODUCT((Teams2=U104)*(Teams1_Score))","v":2},{"$f":"Z104-AA104","v":2},{"$f":"3*W104+X104","v":7}]
[null,{"$f":"IF(COUNTIF($T$33:$T$36,1)>1,IF(ROWS($1:1)<=COUNTIF($T$33:$T$36,1),INDEX($U$33:$U$36,SMALL(IF($T$33:$T$36=1,ROW(INDIRECT(\"1:\"&ROWS($T$33:$T$36)))),ROWS($1:1))),\"\"),IF(COUNTIF($T$33:$T$36,2)>1,IF(ROWS($1:1)<=COUNTIF($T$33:$T$36,2),INDEX($U$33:$U$36,SMALL(IF($T$33:$T$36=2,ROW(INDIRECT(\"1:\"&ROWS($T$33:$T$36)))),ROWS($1:1))),\"\")))","v":"Suisse"},null,null,null,null,null,null,null,null,null,null,null,null,null,null,"H_4",{"$f":"TEXT(S105,\"00000\")&U105","v":"01930Sénégal"},{"$f":"AC105*1000+AB105*100+Z105*10","v":1930},{"$f":"RANK(S105,$S102:$S106,0)","v":3},{"$f":"VLOOKUP(Q105,TABLEAU_TEAMS[#All],2,FALSE)","v":"Sénégal"},{"$f":"SUMPRODUCT((Teams1=U105)*(Teams1_Score<>\"\"))+SUMPRODUCT((Teams2=U105)*(Teams2_Score<>\"\"))","v":3},{"$f":"SUMPRODUCT((Teams1=U105)*(Teams1_Score>Teams2_Score))+SUMPRODUCT((Teams2=U105)*(Teams2_Score>Teams1_Score))","v":0},{"$f":"SUMPRODUCT((Teams1=U105)*(Teams1_Score=Teams2_Score)*(Teams1_Score<>\"\"))+SUMPRODUCT((Teams2=U105)*(Teams2_Score=Teams1_Score)*(Teams2_Score<>\"\"))","v":2},{"$f":"SUMPRODUCT((Teams1=U105)*(Teams1_Score<Teams2_Score))+SUMPRODUCT((Teams2=U105)*(Teams2_Score<Teams1_Score))","v":1},{"$f":"SUMPRODUCT((Teams1=U105)*(Teams1_Score))+SUMPRODUCT((Teams2=U105)*(Teams2_Score))","v":3},{"$f":"SUMPRODUCT((Teams1=U105)*(Teams2_Score))+SUMPRODUCT((Teams2=U105)*(Teams1_Score))","v":4},{"$f":"Z105-AA105","v":-1},{"$f":"3*W105+X105","v":2}]
[null,{"$f":"IF(COUNTIF($T$33:$T$36,1)>1,IF(ROWS($1:2)<=COUNTIF($T$33:$T$36,1),INDEX($U$33:$U$36,SMALL(IF($T$33:$T$36=1,ROW(INDIRECT(\"1:\"&ROWS($T$33:$T$36)))),ROWS($1:2))),\"\"),IF(COUNTIF($T$33:$T$36,2)>1,IF(ROWS($1:2)<=COUNTIF($T$33:$T$36,2),INDEX($U$33:$U$36,SMALL(IF($T$33:$T$36=2,ROW(INDIRECT(\"1:\"&ROWS($T$33:$T$36)))),ROWS($1:2))),\"\")))","v":"Serbie"}]
[null,{"$f":"IF(COUNTIF($T$33:$T$36,1)>1,IF(ROWS($1:3)<=COUNTIF($T$33:$T$36,1),INDEX($U$33:$U$36,SMALL(IF($T$33:$T$36=1,ROW(INDIRECT(\"1:\"&ROWS($T$33:$T$36)))),ROWS($1:3))),\"\"),IF(COUNTIF($T$33:$T$36,2)>1,IF(ROWS($1:3)<=COUNTIF($T$33:$T$36,2),INDEX($U$33:$U$36,SMALL(IF($T$33:$T$36=2,ROW(INDIRECT(\"1:\"&ROWS($T$33:$T$36)))),ROWS($1:3))),\"\")))","v":""}]
[null,{"$f":"IF(COUNTIF($T$33:$T$36,1)>1,IF(ROWS($1:4)<=COUNTIF($T$33:$T$36,1),INDEX($U$33:$U$36,SMALL(IF($T$33:$T$36=1,ROW(INDIRECT(\"1:\"&ROWS($T$33:$T$36)))),ROWS($1:4))),\"\"),IF(COUNTIF($T$33:$T$36,2)>1,IF(ROWS($1:4)<=COUNTIF($T$33:$T$36,2),INDEX($U$33:$U$36,SMALL(IF($T$33:$T$36=2,ROW(INDIRECT(\"1:\"&ROWS($T$33:$T$36)))),ROWS($1:4))),\"\")))","v":""}]
[null,"Tirage au sort F1"]
[null,{"$f":"IF(ROWS($1:1)<=COUNTIF($T$39:$T$42,1),INDEX($U$39:$U$42,SMALL(IF($T$39:$T$42=1,ROW(INDIRECT(\"1:\"&ROWS($T$39:$T$42)))),ROWS($1:1))),\"\")","v":"Allemagne"}]
[null,{"$f":"IF(ROWS($1:2)<=COUNTIF($T$39:$T$42,1),INDEX($U$39:$U$42,SMALL(IF($T$39:$T$42=1,ROW(INDIRECT(\"1:\"&ROWS($T$39:$T$42)))),ROWS($1:2))),\"\")","v":""}]
[null,{"$f":"IF(ROWS($1:3)<=COUNTIF($T$39:$T$42,1),INDEX($U$39:$U$42,SMALL(IF($T$39:$T$42=1,ROW(INDIRECT(\"1:\"&ROWS($T$39:$T$42)))),ROWS($1:3))),\"\")","v":""}]
[null,{"$f":"IF(ROWS($1:4)<=COUNTIF($T$39:$T$42,1),INDEX($U$39:$U$42,SMALL(IF($T$39:$T$42=1,ROW(INDIRECT(\"1:\"&ROWS($T$39:$T$42)))),ROWS($1:4))),\"\")","v":""}]
[null,"Tirage au sort F2"]
[null,{"$f":"IF(COUNTIF($T$39:$T$42,1)>1,IF(ROWS($1:1)<=COUNTIF($T$39:$T$42,1),INDEX($U$39:$U$42,SMALL(IF($T$39:$T$42=1,ROW(INDIRECT(\"1:\"&ROWS($T$39:$T$42)))),ROWS($1:1))),\"\"),IF(COUNTIF($T$39:$T$42,2)>1,IF(ROWS($1:1)<=COUNTIF($T$39:$T$42,2),INDEX($U$39:$U$42,SMALL(IF($T$39:$T$42=2,ROW(INDIRECT(\"1:\"&ROWS($T$39:$T$42)))),ROWS($1:1))),\"\")))","v":false}]
[null,{"$f":"IF(COUNTIF($T$39:$T$42,1)>1,IF(ROWS($1:2)<=COUNTIF($T$39:$T$42,1),INDEX($U$39:$U$42,SMALL(IF($T$39:$T$42=1,ROW(INDIRECT(\"1:\"&ROWS($T$39:$T$42)))),ROWS($1:2))),\"\"),IF(COUNTIF($T$39:$T$42,2)>1,IF(ROWS($1:2)<=COUNTIF($T$39:$T$42,2),INDEX($U$39:$U$42,SMALL(IF($T$39:$T$42=2,ROW(INDIRECT(\"1:\"&ROWS($T$39:$T$42)))),ROWS($1:2))),\"\")))","v":false}]
[null,{"$f":"IF(COUNTIF($T$39:$T$42,1)>1,IF(ROWS($1:3)<=COUNTIF($T$39:$T$42,1),INDEX($U$39:$U$42,SMALL(IF($T$39:$T$42=1,ROW(INDIRECT(\"1:\"&ROWS($T$39:$T$42)))),ROWS($1:3))),\"\"),IF(COUNTIF($T$39:$T$42,2)>1,IF(ROWS($1:3)<=COUNTIF($T$39:$T$42,2),INDEX($U$39:$U$42,SMALL(IF($T$39:$T$42=2,ROW(INDIRECT(\"1:\"&ROWS($T$39:$T$42)))),ROWS($1:3))),\"\")))","v":false}]
[null,{"$f":"IF(COUNTIF($T$39:$T$42,1)>1,IF(ROWS($1:4)<=COUNTIF($T$39:$T$42,1),INDEX($U$39:$U$42,SMALL(IF($T$39:$T$42=1,ROW(INDIRECT(\"1:\"&ROWS($T$39:$T$42)))),ROWS($1:4))),\"\"),IF(COUNTIF($T$39:$T$42,2)>1,IF(ROWS($1:4)<=COUNTIF($T$39:$T$42,2),INDEX($U$39:$U$42,SMALL(IF($T$39:$T$42=2,ROW(INDIRECT(\"1:\"&ROWS($T$39:$T$42)))),ROWS($1:4))),\"\")))","v":false}]
[null,"Tirage au sort G1"]
[null,{"$f":"IF(ROWS($1:1)<=COUNTIF($T$45:$T$48,1),INDEX($U$45:$U$48,SMALL(IF($T$45:$T$48=1,ROW(INDIRECT(\"1:\"&ROWS($T$45:$T$48)))),ROWS($1:1))),\"\")","v":"Angleterre"}]
[null,{"$f":"IF(ROWS($1:2)<=COUNTIF($T$45:$T$48,1),INDEX($U$45:$U$48,SMALL(IF($T$45:$T$48=1,ROW(INDIRECT(\"1:\"&ROWS($T$45:$T$48)))),ROWS($1:2))),\"\")","v":""}]
[null,{"$f":"IF(ROWS($1:3)<=COUNTIF($T$45:$T$48,1),INDEX($U$45:$U$48,SMALL(IF($T$45:$T$48=1,ROW(INDIRECT(\"1:\"&ROWS($T$45:$T$48)))),ROWS($1:3))),\"\")","v":""}]
[null,{"$f":"IF(ROWS($1:4)<=COUNTIF($T$45:$T$48,1),INDEX($U$45:$U$48,SMALL(IF($T$45:$T$48=1,ROW(INDIRECT(\"1:\"&ROWS($T$45:$T$48)))),ROWS($1:4))),\"\")","v":""}]
[null,"Tirage au sort G2"]
[null,{"$f":"IF(COUNTIF($T$45:$T$48,1)>1,IF(ROWS($1:1)<=COUNTIF($T$45:$T$48,1),INDEX($U$45:$U$48,SMALL(IF($T$45:$T$48=1,ROW(INDIRECT(\"1:\"&ROWS($T$45:$T$48)))),ROWS($1:1))),\"\"),IF(COUNTIF($T$45:$T$48,2)>1,IF(ROWS($1:1)<=COUNTIF($T$45:$T$48,2),INDEX($U$45:$U$48,SMALL(IF($T$45:$T$48=2,ROW(INDIRECT(\"1:\"&ROWS($T$45:$T$48)))),ROWS($1:1))),\"\")))","v":false}]
[null,{"$f":"IF(COUNTIF($T$45:$T$48,1)>1,IF(ROWS($1:2)<=COUNTIF($T$45:$T$48,1),INDEX($U$45:$U$48,SMALL(IF($T$45:$T$48=1,ROW(INDIRECT(\"1:\"&ROWS($T$45:$T$48)))),ROWS($1:2))),\"\"),IF(COUNTIF($T$45:$T$48,2)>1,IF(ROWS($1:2)<=COUNTIF($T$45:$T$48,2),INDEX($U$45:$U$48,SMALL(IF($T$45:$T$48=2,ROW(INDIRECT(\"1:\"&ROWS($T$45:$T$48)))),ROWS($1:2))),\"\")))","v":false}]
[null,{"$f":"IF(COUNTIF($T$45:$T$48,1)>1,IF(ROWS($1:3)<=COUNTIF($T$45:$T$48,1),INDEX($U$45:$U$48,SMALL(IF($T$45:$T$48=1,ROW(INDIRECT(\"1:\"&ROWS($T$45:$T$48)))),ROWS($1:3))),\"\"),IF(COUNTIF($T$45:$T$48,2)>1,IF(ROWS($1:3)<=COUNTIF($T$45:$T$48,2),INDEX($U$45:$U$48,SMALL(IF($T$45:$T$48=2,ROW(INDIRECT(\"1:\"&ROWS($T$45:$T$48)))),ROWS($1:3))),\"\")))","v":false}]
[null,{"$f":"IF(COUNTIF($T$45:$T$48,1)>1,IF(ROWS($1:4)<=COUNTIF($T$45:$T$48,1),INDEX($U$45:$U$48,SMALL(IF($T$45:$T$48=1,ROW(INDIRECT(\"1:\"&ROWS($T$45:$T$48)))),ROWS($1:4))),\"\"),IF(COUNTIF($T$45:$T$48,2)>1,IF(ROWS($1:4)<=COUNTIF($T$45:$T$48,2),INDEX($U$45:$U$48,SMALL(IF($T$45:$T$48=2,ROW(INDIRECT(\"1:\"&ROWS($T$45:$T$48)))),ROWS($1:4))),\"\")))","v":false}]
[null,"Tirage au sort H1"]
[null,{"$f":"IF(ROWS($1:1)<=COUNTIF($T$51:$T$54,1),INDEX($U$51:$U$54,SMALL(IF($T$51:$T$54=1,ROW(INDIRECT(\"1:\"&ROWS($T$51:$T$54)))),ROWS($1:1))),\"\")","v":"Pologne"}]
[null,{"$f":"IF(ROWS($1:2)<=COUNTIF($T$51:$T$54,1),INDEX($U$51:$U$54,SMALL(IF($T$51:$T$54=1,ROW(INDIRECT(\"1:\"&ROWS($T$51:$T$54)))),ROWS($1:2))),\"\")","v":""}]
[null,{"$f":"IF(ROWS($1:3)<=COUNTIF($T$51:$T$54,1),INDEX($U$51:$U$54,SMALL(IF($T$51:$T$54=1,ROW(INDIRECT(\"1:\"&ROWS($T$51:$T$54)))),ROWS($1:3))),\"\")","v":""}]
[null,{"$f":"IF(ROWS($1:4)<=COUNTIF($T$51:$T$54,1),INDEX($U$51:$U$54,SMALL(IF($T$51:$T$54=1,ROW(INDIRECT(\"1:\"&ROWS($T$51:$T$54)))),ROWS($1:4))),\"\")","v":""}]
[null,"Tirage au sort H2"]
[null,{"$f":"IF(COUNTIF($T$51:$T$54,1)>1,IF(ROWS($1:1)<=COUNTIF($T$51:$T$54,1),INDEX($U$51:$U$54,SMALL(IF($T$51:$T$54=1,ROW(INDIRECT(\"1:\"&ROWS($T$51:$T$54)))),ROWS($1:1))),\"\"),IF(COUNTIF($T$51:$T$54,2)>1,IF(ROWS($1:1)<=COUNTIF($T$51:$T$54,2),INDEX($U$51:$U$54,SMALL(IF($T$51:$T$54=2,ROW(INDIRECT(\"1:\"&ROWS($T$51:$T$54)))),ROWS($1:1))),\"\")))","v":false}]
[null,{"$f":"IF(COUNTIF($T$51:$T$54,1)>1,IF(ROWS($1:2)<=COUNTIF($T$51:$T$54,1),INDEX($U$51:$U$54,SMALL(IF($T$51:$T$54=1,ROW(INDIRECT(\"1:\"&ROWS($T$51:$T$54)))),ROWS($1:2))),\"\"),IF(COUNTIF($T$51:$T$54,2)>1,IF(ROWS($1:2)<=COUNTIF($T$51:$T$54,2),INDEX($U$51:$U$54,SMALL(IF($T$51:$T$54=2,ROW(INDIRECT(\"1:\"&ROWS($T$51:$T$54)))),ROWS($1:2))),\"\")))","v":false}]
[null,{"$f":"IF(COUNTIF($T$51:$T$54,1)>1,IF(ROWS($1:3)<=COUNTIF($T$51:$T$54,1),INDEX($U$51:$U$54,SMALL(IF($T$51:$T$54=1,ROW(INDIRECT(\"1:\"&ROWS($T$51:$T$54)))),ROWS($1:3))),\"\"),IF(COUNTIF($T$51:$T$54,2)>1,IF(ROWS($1:3)<=COUNTIF($T$51:$T$54,2),INDEX($U$51:$U$54,SMALL(IF($T$51:$T$54=2,ROW(INDIRECT(\"1:\"&ROWS($T$51:$T$54)))),ROWS($1:3))),\"\")))","v":false}]
[null,{"$f":"IF(COUNTIF($T$51:$T$54,1)>1,IF(ROWS($1:4)<=COUNTIF($T$51:$T$54,1),INDEX($U$51:$U$54,SMALL(IF($T$51:$T$54=1,ROW(INDIRECT(\"1:\"&ROWS($T$51:$T$54)))),ROWS($1:4))),\"\"),IF(COUNTIF($T$51:$T$54,2)>1,IF(ROWS($1:4)<=COUNTIF($T$51:$T$54,2),INDEX($U$51:$U$54,SMALL(IF($T$51:$T$54=2,ROW(INDIRECT(\"1:\"&ROWS($T$51:$T$54)))),ROWS($1:4))),\"\")))","v":false}]

{"sheet":"Kociancic","index":15,"n_rows":138,"n_cols":46,"rows_kept":138,"cut":false,"hidden":false,"merged":[[2,1,2,8],[3,1,3,8],[3,9,3,12]]}
[]
[null,"Pronostics de :"]
[]
[null,{"$f":"MID(CELL(\"filename\",A1),FIND(\"]\",CELL(\"filename\",A1))+1,32)","v":"Kociancic"}]
[]
[null,"SAISIE DES PRONOSTICS",null,null,null,null,null,null,null,null,null,null,null,null,null,null,null,null,null,"GROUPES",null,null,null,null,null,null,null,null,null,null,null,null,"SCORE PRONOSTIQUEUR",null,null,null,null,null,null,null,null,{"$f":"AN8+AN12","v":3}]
[null,"Date","Heure","Match","Groupe",1,"N",2,null,"Buts",null,null,"Buts"]
[null,{"$f":"VLOOKUP($D8,TABLEAU_MATCHS[#All],2,FALSE)","v":"2018-06-14"},{"$f":"VLOOKUP($D8,TABLEAU_MATCHS[#All],3,FALSE)","v":"17:00:00"},1,{"$f":"\"Groupe \"&VLOOKUP($I8,TABLEAU_TEAMS[[#All],[TEAM]:[GROUP_INITIAL_RANK]],2,FALSE)","v":"Groupe A"},1.3,4.3,10,{"$f":"VLOOKUP($D8,TABLEAU_MATCHS[#All],4,FALSE)","v":"Russie"},0,null,{"$f":"VLOOKUP($D8,TABLEAU_MATCHS[#All],5,FALSE)","v":"Arabie Saoudite"},0,{"$f":"IF(OR(ISBLANK(RESULTATS!J8),ISBLANK(J8)),\"\",IF(AND(Kociancic!J8=RESULTATS!J8,Kociancic!M8=RESULTATS!M8),3,IF(OR(AND(Kociancic!J8>Kociancic!M8,RESULTATS!J8>RESULTATS!M8),AND(Kociancic!J8<Kociancic!M8,RESULTATS!J8<RESULTATS!M8),AND(Kociancic!J8=Kociancic!M8,RESULTATS!J8=RESULTATS!M8)),1,0)))","v":0},null,null,null,null,null,"Rg","Groupe A","MJ","G","N","P","BP","BC","+/-","Pts",null,null,null,"Phases de groupes",null,null,null,null,null,null,{"$f":"N56","v":3},null,"points"]
[null,{"$f":"VLOOKUP($D9,TABLEAU_MATCHS[#All],2,FALSE)","v":"2018-06-15"},{"$f":"VLOOKUP($D9,TABLEAU_MATCHS[#All],3,FALSE)","v":"14:00:00"},2,{"$f":"\"Groupe \"&VLOOKUP($I9,TABLEAU_TEAMS[[#All],[TEAM]:[GROUP_INITIAL_RANK]],2,FALSE)","v":"Groupe A"},2.2000000000000002,2.9,3.25,{"$f":"VLOOKUP($D9,TABLEAU_MATCHS[#All],4,FALSE)","v":"Egypte"},0,null,{"$f":"VLOOKUP($D9,TABLEAU_MATCHS[#All],5,FALSE)","v":"Uruguay"},1,{"$f":"IF(OR(ISBLANK(RESULTATS!J9),ISBLANK(J9)),\"\",IF(AND(Kociancic!J9=RESULTATS!J9,Kociancic!M9=RESULTATS!M9),3,IF(OR(AND(Kociancic!J9>Kociancic!M9,RESULTATS!J9>RESULTATS!M9),AND(Kociancic!J9<Kociancic!M9,RESULTATS!J9<RESULTATS!M9),AND(Kociancic!J9=Kociancic!M9,RESULTATS!J9=RESULTATS!M9)),1,0)))","v":3},null,null,null,{"$f":"INDEX($R60:$R63,MATCH(SMALL(COUNTIF($R60:$R63,\">=\"&$R60:$R63),ROW(INDIRECT(\"1:\"&ROWS($R60:$R63)))),COUNTIF($R60:$R63,\">=\"&$R60:$R63),0))","v":"07460Russie"},{"$f":"INDEX($S60:$S63,MATCH(SMALL(COUNTIF($R60:$R63,\">=\"&$R60:$R63),ROW(INDIRECT(\"1:\"&ROWS($R60:$R63)))),COUNTIF($R60:$R63,\">=\"&$R60:$R63),0))","v":7460},{"$f":"INDEX($T60:$T63,MATCH(SMALL(COUNTIF($R60:$R63,\">=\"&$R60:$R63),ROW(INDIRECT(\"1:\"&ROWS($R60:$R63)))),COUNTIF($R60:$R63,\">=\"&$R60:$R63),0))","v":1},{"$f":"INDEX($U60:$U63,MATCH(SMALL(COUNTIF($R60:$R63,\">=\"&$R60:$R63),ROW(INDIRECT(\"1:\"&ROWS($R60:$R63)))),COUNTIF($R60:$R63,\">=\"&$R60:$R63),0))","v":"Russie"},{"$f":"SUMPRODUCT((Teams1=U9)*(Teams1_Score<>\"\"))+SUMPRODUCT((Teams2=U9)*(Teams2_Score<>\"\"))","v":3},{"$f":"SUMPRODUCT((Teams1=U9)*(Teams1_Score>Teams2_Score))+SUMPRODUCT((Teams2=U9)*(Teams2_Score>Teams1_Score))","v":2},{"$f":"SUMPRODUCT((Teams1=U9)*(Teams1_Score=Teams2_Score)*(Teams1_Score<>\"\"))+SUMPRODUCT((Teams2=U9)*(Teams2_Score=Teams1_Score)*(Teams2_Score<>\"\"))","v":1},{"$f":"SUMPRODUCT((Teams1=U9)*(Teams1_Score<Teams2_Score))+SUMPRODUCT((Teams2=U9)*(Teams2_Score<Teams1_Score))","v":0},{"$f":"SUMPRODUCT((Teams1=U9)*(Teams1_Score))+SUMPRODUCT((Teams2=U9)*(Teams2_Score))","v":6},{"$f":"SUMPRODUCT((Teams1=U9)*(Teams2_Score))+SUMPRODUCT((Teams2=U9)*(Teams1_Score))","v":2},{"$f":"Z9-AA9","v":4},{"$f":"3*W9+X9","v":7},null,null,null,"Vainqueur ou nul trouvé (1 pt)",null,null,{"$f":"COUNTIF($N$8:$N$55,1)+COUNTIF($N$8:$N$55,3)","v":1},"matchs",null,null,{"$f":"AJ9","v":1},null,"points"]
[null,{"$f":"VLOOKUP($D10,TABLEAU_MATCHS[#All],2,FALSE)","v":"2018-06-15"},{"$f":"VLOOKUP($D10,TABLEAU_MATCHS[#All],3,FALSE)","v":"17:00:00"},3,{"$f":"\"Groupe \"&VLOOKUP($I10,TABLEAU_TEAMS[[#All],[TEAM]:[GROUP_INITIAL_RANK]],2,FALSE)","v":"Groupe B"},1.8,3.05,4.5,{"$f":"VLOOKUP($D10,TABLEAU_MATCHS[#All],4,FALSE)","v":"Maroc"},2,null,{"$f":"VLOOKUP($D10,TABLEAU_MATCHS[#All],5,FALSE)","v":"RI Iran"},1,{"$f":"IF(OR(ISBLANK(RESULTATS!J10),ISBLANK(J10)),\"\",IF(AND(Kociancic!J10=RESULTATS!J10,Kociancic!M10=RESULTATS!M10),3,IF(OR(AND(Kociancic!J10>Kociancic!M10,RESULTATS!J10>RESULTATS!M10),AND(Kociancic!J10<Kociancic!M10,RESULTATS!J10<RESULTATS!M10),AND(Kociancic!J10=Kociancic!M10,RESULTATS!J10=RESULTATS!M10)),1,0)))","v":0},null,null,null,"06240Uruguay",6240,2,"Uruguay",{"$f":"SUMPRODUCT((Teams1=U10)*(Teams1_Score<>\"\"))+SUMPRODUCT((Teams2=U10)*(Teams2_Score<>\"\"))","v":3},{"$f":"SUMPRODUCT((Teams1=U10)*(Teams1_Score>Teams2_Score))+SUMPRODUCT((Teams2=U10)*(Teams2_Score>Teams1_Score))","v":2},{"$f":"SUMPRODUCT((Teams1=U10)*(Teams1_Score=Teams2_Score)*(Teams1_Score<>\"\"))+SUMPRODUCT((Teams2=U10)*(Teams2_Score=Teams1_Score)*(Teams2_Score<>\"\"))","v":0},{"$f":"SUMPRODUCT((Teams1=U10)*(Teams1_Score<Teams2_Score))+SUMPRODUCT((Teams2=U10)*(Teams2_Score<Teams1_Score))","v":1},{"$f":"SUMPRODUCT((Teams1=U10)*(Teams1_Score))+SUMPRODUCT((Teams2=U10)*(Teams2_Score))","v":4},{"$f":"SUMPRODUCT((Teams1=U10)*(Teams2_Score))+SUMPRODUCT((Teams2=U10)*(Teams1_Score))","v":2},{"$f":"Z10-AA10","v":2},{"$f":"3*W10+X10","v":6},null,null,null,"Bonus score exact (2 pts)",null,null,{"$f":"+COUNTIF($N$8:$N$55,3)","v":1},"matchs",null,null,{"$f":"AJ10*2","v":2},null,"points"]
[null,{"$f":"VLOOKUP($D11,TABLEAU_MATCHS[#All],2,FALSE)","v":"2018-06-15"},{"$f":"VLOOKUP($D11,TABLEAU_MATCHS[#All],3,FALSE)","v":"20:00:00"},4,{"$f":"\"Groupe \"&VLOOKUP($I11,TABLEAU_TEAMS[[#All],[TEAM]:[GROUP_INITIAL_RANK]],2,FALSE)","v":"Groupe B"},1.42,3.9,7,{"$f":"VLOOKUP($D11,TABLEAU_MATCHS[#All],4,FALSE)","v":"Portugal"},0,null,{"$f":"VLOOKUP($D11,TABLEAU_MATCHS[#All],5,FALSE)","v":"Espagne"},1,{"$f":"IF(OR(ISBLANK(RESULTATS!J11),ISBLANK(J11)),\"\",IF(AND(Kociancic!J11=RESULTATS!J11,Kociancic!M11=RESULTATS!M11),3,IF(OR(AND(Kociancic!J11>Kociancic!M11,RESULTATS!J11>RESULTATS!M11),AND(Kociancic!J11<Kociancic!M11,RESULTATS!J11<RESULTATS!M11),AND(Kociancic!J11=Kociancic!M11,RESULTATS!J11=RESULTATS!M11)),1,0)))","v":0},null,null,null,"01810Arabie Saoudite",1810,3,"Arabie Saoudite",{"$f":"SUMPRODUCT((Teams1=U11)*(Teams1_Score<>\"\"))+SUMPRODUCT((Teams2=U11)*(Teams2_Score<>\"\"))","v":3},{"$f":"SUMPRODUCT((Teams1=U11)*(Teams1_Score>Teams2_Score))+SUMPRODUCT((Teams2=U11)*(Teams2_Score>Teams1_Score))","v":0},{"$f":"SUMPRODUCT((Teams1=U11)*(Teams1_Score=Teams2_Score)*(Teams1_Score<>\"\"))+SUMPRODUCT((Teams2=U11)*(Teams2_Score=Teams1_Score)*(Teams2_Score<>\"\"))","v":2},{"$f":"SUMPRODUCT((Teams1=U11)*(Teams1_Score<Teams2_Score))+SUMPRODUCT((Teams2=U11)*(Teams2_Score<Teams1_Score))","v":1},{"$f":"SUMPRODUCT((Teams1=U11)*(Teams1_Score))+SUMPRODUCT((Teams2=U11)*(Teams2_Score))","v":1},{"$f":"SUMPRODUCT((Teams1=U11)*(Teams2_Score))+SUMPRODUCT((Teams2=U11)*(Teams1_Score))","v":3},{"$f":"Z11-AA11","v":-2},{"$f":"3*W11+X11","v":2}]
[null,{"$f":"VLOOKUP($D12,TABLEAU_MATCHS[#All],2,FALSE)","v":"2018-06-16"},{"$f":"VLOOKUP($D12,TABLEAU_MATCHS[#All],3,FALSE)","v":"12:00:00"},5,{"$f":"\"Groupe \"&VLOOKUP($I12,TABLEAU_TEAMS[[#All],[TEAM]:[GROUP_INITIAL_RANK]],2,FALSE)","v":"Groupe C"},1.7,3.1,5,{"$f":"VLOOKUP($D12,TABLEAU_MATCHS[#All],4,FALSE)","v":"France"},2,null,{"$f":"VLOOKUP($D12,TABLEAU_MATCHS[#All],5,FALSE)","v":"Australie"},0,{"$f":"IF(OR(ISBLANK(RESULTATS!J12),ISBLANK(J12)),\"\",IF(AND(Kociancic!J12=RESULTATS!J12,Kociancic!M12=RESULTATS!M12),3,IF(OR(AND(Kociancic!J12>Kociancic!M12,RESULTATS!J12>RESULTATS!M12),AND(Kociancic!J12<Kociancic!M12,RESULTATS!J12<RESULTATS!M12),AND(Kociancic!J12=Kociancic!M12,RESULTATS!J12=RESULTATS!M12)),1,0)))","v":""},null,null,null,"00620Egypte",620,4,"Egypte",{"$f":"SUMPRODUCT((Teams1=U12)*(Teams1_Score<>\"\"))+SUMPRODUCT((Teams2=U12)*(Teams2_Score<>\"\"))","v":3},{"$f":"SUMPRODUCT((Teams1=U12)*(Teams1_Score>Teams2_Score))+SUMPRODUCT((Teams2=U12)*(Teams2_Score>Teams1_Score))","v":0},{"$f":"SUMPRODUCT((Teams1=U12)*(Teams1_Score=Teams2_Score)*(Teams1_Score<>\"\"))+SUMPRODUCT((Teams2=U12)*(Teams2_Score=Teams1_Score)*(Teams2_Score<>\"\"))","v":1},{"$f":"SUMPRODUCT((Teams1=U12)*(Teams1_Score<Teams2_Score))+SUMPRODUCT((Teams2=U12)*(Teams2_Score<Teams1_Score))","v":2},{"$f":"SUMPRODUCT((Teams1=U12)*(Teams1_Score))+SUMPRODUCT((Teams2=U12)*(Teams2_Score))","v":2},{"$f":"SUMPRODUCT((Teams1=U12)*(Teams2_Score))+SUMPRODUCT((Teams2=U12)*(Teams1_Score))","v":6},{"$f":"Z12-AA12","v":-4},{"$f":"3*W12+X12","v":1},null,null,null,"Phases finales",null,null,null,null,null,null,{"$f":"SUM(AN13:AN17)","v":0},null,"points"]
[null,{"$f":"VLOOKUP($D13,TABLEAU_MATCHS[#All],2,FALSE)","v":"2018-06-16"},{"$f":"VLOOKUP($D13,TABLEAU_MATCHS[#All],3,FALSE)","v":"18:00:00"},6,{"$f":"\"Groupe \"&VLOOKUP($I13,TABLEAU_TEAMS[[#All],[TEAM]:[GROUP_INITIAL_RANK]],2,FALSE)","v":"Groupe C"},2.5499999999999998,2.9,2.7,{"$f":"VLOOKUP($D13,TABLEAU_MATCHS[#All],4,FALSE)","v":"Pérou"},1,null,{"$f":"VLOOKUP($D13,TABLEAU_MATCHS[#All],5,FALSE)","v":"Danemark"},1,{"$f":"IF(OR(ISBLANK(RESULTATS!J13),ISBLANK(J13)),\"\",IF(AND(Kociancic!J13=RESULTATS!J13,Kociancic!M13=RESULTATS!M13),3,IF(OR(AND(Kociancic!J13>Kociancic!M13,RESULTATS!J13>RESULTATS!M13),AND(Kociancic!J13<Kociancic!M13,RESULTATS!J13<RESULTATS!M13),AND(Kociancic!J13=Kociancic!M13,RESULTATS!J13=RESULTATS!M13)),1,0)))","v":""},null,null,null,null,null,null,null,null,null,null,null,null,null,null,null,null,null,null,"Huitièmes de finaliste trouvés (2 pts)",null,null,{"$f":"IF(CLASSEMENT!PHASES_FINALES=\"OUI\",$AK$53+$AQ$53,0)","v":0},"équipe(s) ",null,null,{"$f":"AJ13*2","v":0},null,"points"]
[null,{"$f":"VLOOKUP($D14,TABLEAU_MATCHS[#All],2,FALSE)","v":"2018-06-16"},{"$f":"VLOOKUP($D14,TABLEAU_MATCHS[#All],3,FALSE)","v":"15:00:00"},7,{"$f":"\"Groupe \"&VLOOKUP($I14,TABLEAU_TEAMS[[#All],[TEAM]:[GROUP_INITIAL_RANK]],2,FALSE)","v":"Groupe D"},1.4,4,7.25,{"$f":"VLOOKUP($D14,TABLEAU_MATCHS[#All],4,FALSE)","v":"Argentine"},4,null,{"$f":"VLOOKUP($D14,TABLEAU_MATCHS[#All],5,FALSE)","v":"Islande"},2,{"$f":"IF(OR(ISBLANK(RESULTATS!J14),ISBLANK(J14)),\"\",IF(AND(Kociancic!J14=RESULTATS!J14,Kociancic!M14=RESULTATS!M14),3,IF(OR(AND(Kociancic!J14>Kociancic!M14,RESULTATS!J14>RESULTATS!M14),AND(Kociancic!J14<Kociancic!M14,RESULTATS!J14<RESULTATS!M14),AND(Kociancic!J14=Kociancic!M14,RESULTATS!J14=RESULTATS!M14)),1,0)))","v":""},null,null,null,null,null,"Rg","Groupe B","MJ","G","N","P","BP","BC","+/-","Pts",null,null,null,"Quarts de finalistes trouvés (4 pts)",null,null,{"$f":"IF(CLASSEMENT!PHASES_FINALES=\"OUI\",$AK$42+$AQ$42,0)","v":0},"équipe(s) ",null,null,{"$f":"AJ14*4","v":0},null,"points"]
[null,{"$f":"VLOOKUP($D15,TABLEAU_MATCHS[#All],2,FALSE)","v":"2018-06-16"},{"$f":"VLOOKUP($D15,TABLEAU_MATCHS[#All],3,FALSE)","v":"21:00:00"},8,{"$f":"\"Groupe \"&VLOOKUP($I15,TABLEAU_TEAMS[[#All],[TEAM]:[GROUP_INITIAL_RANK]],2,FALSE)","v":"Groupe D"},2.95,2.7,2.5499999999999998,{"$f":"VLOOKUP($D15,TABLEAU_MATCHS[#All],4,FALSE)","v":"Croatie"},1,null,{"$f":"VLOOKUP($D15,TABLEAU_MATCHS[#All],5,FALSE)","v":"Nigeria"},0,{"$f":"IF(OR(ISBLANK(RESULTATS!J15),ISBLANK(J15)),\"\",IF(AND(Kociancic!J15=RESULTATS!J15,Kociancic!M15=RESULTATS!M15),3,IF(OR(AND(Kociancic!J15>Kociancic!M15,RESULTATS!J15>RESULTATS!M15),AND(Kociancic!J15<Kociancic!M15,RESULTATS!J15<RESULTATS!M15),AND(Kociancic!J15=Kociancic!M15,RESULTATS!J15=RESULTATS!M15)),1,0)))","v":""},null,null,null,{"$f":"INDEX($R66:$R69,MATCH(SMALL(COUNTIF($R66:$R69,\">=\"&$R66:$R69),ROW(INDIRECT(\"1:\"&ROWS($R66:$R69)))),COUNTIF($R66:$R69,\">=\"&$R66:$R69),0))","v":"09880Espagne"},{"$f":"INDEX($S66:$S69,MATCH(SMALL(COUNTIF($R66:$R69,\">=\"&$R66:$R69),ROW(INDIRECT(\"1:\"&ROWS($R66:$R69)))),COUNTIF($R66:$R69,\">=\"&$R66:$R69),0))","v":9880},{"$f":"INDEX($T66:$T69,MATCH(SMALL(COUNTIF($R66:$R69,\">=\"&$R66:$R69),ROW(INDIRECT(\"1:\"&ROWS($R66:$R69)))),COUNTIF($R66:$R69,\">=\"&$R66:$R69),0))","v":1},{"$f":"INDEX($U66:$U69,MATCH(SMALL(COUNTIF($R66:$R69,\">=\"&$R66:$R69),ROW(INDIRECT(\"1:\"&ROWS($R66:$R69)))),COUNTIF($R66:$R69,\">=\"&$R66:$R69),0))","v":"Espagne"},{"$f":"SUMPRODUCT((Teams1=U15)*(Teams1_Score<>\"\"))+SUMPRODUCT((Teams2=U15)*(Teams2_Score<>\"\"))","v":3},{"$f":"SUMPRODUCT((Teams1=U15)*(Teams1_Score>Teams2_Score))+SUMPRODUCT((Teams2=U15)*(Teams2_Score>Teams1_Score))","v":3},{"$f":"SUMPRODUCT((Teams1=U15)*(Teams1_Score=Teams2_Score)*(Teams1_Score<>\"\"))+SUMPRODUCT((Teams2=U15)*(Teams2_Score=Teams1_Score)*(Teams2_Score<>\"\"))","v":0},{"$f":"SUMPRODUCT((Teams1=U15)*(Teams1_Score<Teams2_Score))+SUMPRODUCT((Teams2=U15)*(Teams2_Score<Teams1_Score))","v":0},{"$f":"SUMPRODUCT((Teams1=U15)*(Teams1_Score))+SUMPRODUCT((Teams2=U15)*(Teams2_Score))","v":8},{"$f":"SUMPRODUCT((Teams1=U15)*(Teams2_Score))+SUMPRODUCT((Teams2=U15)*(Teams1_Score))","v":0},{"$f":"Z15-AA15","v":8},{"$f":"3*W15+X15","v":9},null,null,null,"Demi finalistes trouvés (5 pts)",null,null,{"$f":"IF(CLASSEMENT!PHASES_FINALES=\"OUI\",$AK$35+$AQ$35,0)","v":0},"équipe(s) ",null,null,{"$f":"AJ15*5","v":0},null,"points"]
[null,{"$f":"VLOOKUP($D16,TABLEAU_MATCHS[#All],2,FALSE)","v":"2018-06-17"},{"$f":"VLOOKUP($D16,TABLEAU_MATCHS[#All],3,FALSE)","v":"14:00:00"},9,{"$f":"\"Groupe \"&VLOOKUP($I16,TABLEAU_TEAMS[[#All],[TEAM]:[GROUP_INITIAL_RANK]],2,FALSE)","v":"Groupe E"},2.35,2.9,2.95,{"$f":"VLOOKUP($D16,TABLEAU_MATCHS[#All],4,FALSE)","v":"Costa Rica"},0,null,{"$f":"VLOOKUP($D16,TABLEAU_MATCHS[#All],5,FALSE)","v":"Serbie"},0,{"$f":"IF(OR(ISBLANK(RESULTATS!J16),ISBLANK(J16)),\"\",IF(AND(Kociancic!J16=RESULTATS!J16,Kociancic!M16=RESULTATS!M16),3,IF(OR(AND(Kociancic!J16>Kociancic!M16,RESULTATS!J16>RESULTATS!M16),AND(Kociancic!J16<Kociancic!M16,RESULTATS!J16<RESULTATS!M16),AND(Kociancic!J16=Kociancic!M16,RESULTATS!J16=RESULTATS!M16)),1,0)))","v":""},null,null,null,"06790Portugal",6790,2,"Portugal",{"$f":"SUMPRODUCT((Teams1=U16)*(Teams1_Score<>\"\"))+SUMPRODUCT((Teams2=U16)*(Teams2_Score<>\"\"))","v":3},{"$f":"SUMPRODUCT((Teams1=U16)*(Teams1_Score>Teams2_Score))+SUMPRODUCT((Teams2=U16)*(Teams2_Score>Teams1_Score))","v":2},{"$f":"SUMPRODUCT((Teams1=U16)*(Teams1_Score=Teams2_Score)*(Teams1_Score<>\"\"))+SUMPRODUCT((Teams2=U16)*(Teams2_Score=Teams1_Score)*(Teams2_Score<>\"\"))","v":0},{"$f":"SUMPRODUCT((Teams1=U16)*(Teams1_Score<Teams2_Score))+SUMPRODUCT((Teams2=U16)*(Teams2_Score<Teams1_Score))","v":1},{"$f":"SUMPRODUCT((Teams1=U16)*(Teams1_Score))+SUMPRODUCT((Teams2=U16)*(Teams2_Score))","v":9},{"$f":"SUMPRODUCT((Teams1=U16)*(Teams2_Score))+SUMPRODUCT((Teams2=U16)*(Teams1_Score))","v":2},{"$f":"Z16-AA16","v":7},{"$f":"3*W16+X16","v":6},null,null,null,"Finalistes trouvés (6 pts)",null,null,{"$f":"IF(CLASSEMENT!PHASES_FINALES=\"OUI\",$AK$25+$AQ$25,0)","v":0},"équipe(s) ",null,null,{"$f":"AJ16*6","v":0},null,"points"]
[null,{"$f":"VLOOKUP($D17,TABLEAU_MATCHS[#All],2,FALSE)","v":"2018-06-17"},{"$f":"VLOOKUP($D17,TABLEAU_MATCHS[#All],3,FALSE)","v":"20:00:00"},10,{"$f":"\"Groupe \"&VLOOKUP($I17,TABLEAU_TEAMS[[#All],[TEAM]:[GROUP_INITIAL_RANK]],2,FALSE)","v":"Groupe E"},1.28,4.7,9.5,{"$f":"VLOOKUP($D17,TABLEAU_MATCHS[#All],4,FALSE)","v":"Brésil"},2,null,{"$f":"VLOOKUP($D17,TABLEAU_MATCHS[#All],5,FALSE)","v":"Suisse"},1,{"$f":"IF(OR(ISBLANK(RESULTATS!J17),ISBLANK(J17)),\"\",IF(AND(Kociancic!J17=RESULTATS!J17,Kociancic!M17=RESULTATS!M17),3,IF(OR(AND(Kociancic!J17>Kociancic!M17,RESULTATS!J17>RESULTATS!M17),AND(Kociancic!J17<Kociancic!M17,RESULTATS!J17<RESULTATS!M17),AND(Kociancic!J17=Kociancic!M17,RESULTATS!J17=RESULTATS!M17)),1,0)))","v":""},null,null,null,"02330Maroc",2330,3,"Maroc",{"$f":"SUMPRODUCT((Teams1=U17)*(Teams1_Score<>\"\"))+SUMPRODUCT((Teams2=U17)*(Teams2_Score<>\"\"))","v":3},{"$f":"SUMPRODUCT((Teams1=U17)*(Teams1_Score>Teams2_Score))+SUMPRODUCT((Teams2=U17)*(Teams2_Score>Teams1_Score))","v":1},{"$f":"SUMPRODUCT((Teams1=U17)*(Teams1_Score=Teams2_Score)*(Teams1_Score<>\"\"))+SUMPRODUCT((Teams2=U17)*(Teams2_Score=Teams1_Score)*(Teams2_Score<>\"\"))","v":0},{"$f":"SUMPRODUCT((Teams1=U17)*(Teams1_Score<Teams2_Score))+SUMPRODUCT((Teams2=U17)*(Teams2_Score<Teams1_Score))","v":2},{"$f":"SUMPRODUCT((Teams1=U17)*(Teams1_Score))+SUMPRODUCT((Teams2=U17)*(Teams2_Score))","v":3},{"$f":"SUMPRODUCT((Teams1=U17)*(Teams2_Score))+SUMPRODUCT((Teams2=U17)*(Teams1_Score))","v":10},{"$f":"Z17-AA17","v":-7},{"$f":"3*W17+X17","v":3},null,null,null,"Champion du monde trouvé (7 pts)",null,null,{"$f":"IF(CLASSEMENT!PHASES_FINALES=\"OUI\",IF(AJ25<>\"\",IF($AT$25=RESULTATS!AS10,1,0),0),0)","v":0},"équipe",null,null,{"$f":"AJ17*7","v":0},null,"points"]
[null,{"$f":"VLOOKUP($D18,TABLEAU_MATCHS[#All],2,FALSE)","v":"2018-06-17"},{"$f":"VLOOKUP($D18,TABLEAU_MATCHS[#All],3,FALSE)","v":"17:00:00"},11,{"$f":"\"Groupe \"&VLOOKUP($I18,TABLEAU_TEAMS[[#All],[TEAM]:[GROUP_INITIAL_RANK]],2,FALSE)","v":"Groupe F"},1.34,4.3,7.5,{"$f":"VLOOKUP($D18,TABLEAU_MATCHS[#All],4,FALSE)","v":"Allemagne"},4,null,{"$f":"VLOOKUP($D18,TABLEAU_MATCHS[#All],5,FALSE)","v":"Mexique"},1,{"$f":"IF(OR(ISBLANK(RESULTATS!J18),ISBLANK(J18)),\"\",IF(AND(Kociancic!J18=RESULTATS!J18,Kociancic!M18=RESULTATS!M18),3,IF(OR(AND(Kociancic!J18>Kociancic!M18,RESULTATS!J18>RESULTATS!M18),AND(Kociancic!J18<Kociancic!M18,RESULTATS!J18<RESULTATS!M18),AND(Kociancic!J18=Kociancic!M18,RESULTATS!J18=RESULTATS!M18)),1,0)))","v":""},null,null,null,"-00790RI Iran",-790,4,"RI Iran",{"$f":"SUMPRODUCT((Teams1=U18)*(Teams1_Score<>\"\"))+SUMPRODUCT((Teams2=U18)*(Teams2_Score<>\"\"))","v":3},{"$f":"SUMPRODUCT((Teams1=U18)*(Teams1_Score>Teams2_Score))+SUMPRODUCT((Teams2=U18)*(Teams2_Score>Teams1_Score))","v":0},{"$f":"SUMPRODUCT((Teams1=U18)*(Teams1_Score=Teams2_Score)*(Teams1_Score<>\"\"))+SUMPRODUCT((Teams2=U18)*(Teams2_Score=Teams1_Score)*(Teams2_Score<>\"\"))","v":0},{"$f":"SUMPRODUCT((Teams1=U18)*(Teams1_Score<Teams2_Score))+SUMPRODUCT((Teams2=U18)*(Teams2_Score<Teams1_Score))","v":3},{"$f":"SUMPRODUCT((Teams1=U18)*(Teams1_Score))+SUMPRODUCT((Teams2=U18)*(Teams2_Score))","v":1},{"$f":"SUMPRODUCT((Teams1=U18)*(Teams2_Score))+SUMPRODUCT((Teams2=U18)*(Teams1_Score))","v":9},{"$f":"Z18-AA18","v":-8},{"$f":"3*W18+X18","v":0}]
[null,{"$f":"VLOOKUP($D19,TABLEAU_MATCHS[#All],2,FALSE)","v":"2018-06-18"},{"$f":"VLOOKUP($D19,TABLEAU_MATCHS[#All],3,FALSE)","v":"14:00:00"},12,{"$f":"\"Groupe \"&VLOOKUP($I19,TABLEAU_TEAMS[[#All],[TEAM]:[GROUP_INITIAL_RANK]],2,FALSE)","v":"Groupe F"},3.3,2.95,2.15,{"$f":"VLOOKUP($D19,TABLEAU_MATCHS[#All],4,FALSE)","v":"Suède"},1,null,{"$f":"VLOOKUP($D19,TABLEAU_MATCHS[#All],5,FALSE)","v":"République de Corée"},3,{"$f":"IF(OR(ISBLANK(RESULTATS!J19),ISBLANK(J19)),\"\",IF(AND(Kociancic!J19=RESULTATS!J19,Kociancic!M19=RESULTATS!M19),3,IF(OR(AND(Kociancic!J19>Kociancic!M19,RESULTATS!J19>RESULTATS!M19),AND(Kociancic!J19<Kociancic!M19,RESULTATS!J19<RESULTATS!M19),AND(Kociancic!J19=Kociancic!M19,RESULTATS!J19=RESULTATS!M19)),1,0)))","v":""}]
[null,{"$f":"VLOOKUP($D20,TABLEAU_MATCHS[#All],2,FALSE)","v":"2018-06-18"},{"$f":"VLOOKUP($D20,TABLEAU_MATCHS[#All],3,FALSE)","v":"17:00:00"},13,{"$f":"\"Groupe \"&VLOOKUP($I20,TABLEAU_TEAMS[[#All],[TEAM]:[GROUP_INITIAL_RANK]],2,FALSE)","v":"Groupe G"},1.95,2.95,4,{"$f":"VLOOKUP($D20,TABLEAU_MATCHS[#All],4,FALSE)","v":"Belgique"},1,null,{"$f":"VLOOKUP($D20,TABLEAU_MATCHS[#All],5,FALSE)","v":"Panama"},1,{"$f":"IF(OR(ISBLANK(RESULTATS!J20),ISBLANK(J20)),\"\",IF(AND(Kociancic!J20=RESULTATS!J20,Kociancic!M20=RESULTATS!M20),3,IF(OR(AND(Kociancic!J20>Kociancic!M20,RESULTATS!J20>RESULTATS!M20),AND(Kociancic!J20<Kociancic!M20,RESULTATS!J20<RESULTATS!M20),AND(Kociancic!J20=Kociancic!M20,RESULTATS!J20=RESULTATS!M20)),1,0)))","v":""},null,null,null,null,null,"Rg","Groupe C","MJ","G","N","P","BP","BC","+/-","Pts"]
[null,{"$f":"VLOOKUP($D21,TABLEAU_MATCHS[#All],2,FALSE)","v":"2018-06-18"},{"$f":"VLOOKUP($D21,TABLEAU_MATCHS[#All],3,FALSE)","v":"20:00:00"},14,{"$f":"\"Groupe \"&VLOOKUP($I21,TABLEAU_TEAMS[[#All],[TEAM]:[GROUP_INITIAL_RANK]],2,FALSE)","v":"Groupe G"},2.5499999999999998,2.9,2.7,{"$f":"VLOOKUP($D21,TABLEAU_MATCHS[#All],4,FALSE)","v":"Tunisie"},0,null,{"$f":"VLOOKUP($D21,TABLEAU_MATCHS[#All],5,FALSE)","v":"Angleterre"},0,{"$f":"IF(OR(ISBLANK(RESULTATS!J21),ISBLANK(J21)),\"\",IF(AND(Kociancic!J21=RESULTATS!J21,Kociancic!M21=RESULTATS!M21),3,IF(OR(AND(Kociancic!J21>Kociancic!M21,RESULTATS!J21>RESULTATS!M21),AND(Kociancic!J21<Kociancic!M21,RESULTATS!J21<RESULTATS!M21),AND(Kociancic!J21=Kociancic!M21,RESULTATS!J21=RESULTATS!M21)),1,0)))","v":""},null,null,null,{"$f":"INDEX($R72:$R75,MATCH(SMALL(COUNTIF($R72:$R75,\">=\"&$R72:$R75),ROW(INDIRECT(\"1:\"&ROWS($R72:$R75)))),COUNTIF($R72:$R75,\">=\"&$R72:$R75),0))","v":"09450France"},{"$f":"INDEX($S72:$S75,MATCH(SMALL(COUNTIF($R72:$R75,\">=\"&$R72:$R75),ROW(INDIRECT(\"1:\"&ROWS($R72:$R75)))),COUNTIF($R72:$R75,\">=\"&$R72:$R75),0))","v":9450},{"$f":"INDEX($T72:$T75,MATCH(SMALL(COUNTIF($R72:$R75,\">=\"&$R72:$R75),ROW(INDIRECT(\"1:\"&ROWS($R72:$R75)))),COUNTIF($R72:$R75,\">=\"&$R72:$R75),0))","v":1},{"$f":"INDEX($U72:$U75,MATCH(SMALL(COUNTIF($R72:$R75,\">=\"&$R72:$R75),ROW(INDIRECT(\"1:\"&ROWS($R72:$R75)))),COUNTIF($R72:$R75,\">=\"&$R72:$R75),0))","v":"France"},{"$f":"SUMPRODUCT((Teams1=U21)*(Teams1_Score<>\"\"))+SUMPRODUCT((Teams2=U21)*(Teams2_Score<>\"\"))","v":3},{"$f":"SUMPRODUCT((Teams1=U21)*(Teams1_Score>Teams2_Score))+SUMPRODUCT((Teams2=U21)*(Teams2_Score>Teams1_Score))","v":3},{"$f":"SUMPRODUCT((Teams1=U21)*(Teams1_Score=Teams2_Score)*(Teams1_Score<>\"\"))+SUMPRODUCT((Teams2=U21)*(Teams2_Score=Teams1_Score)*(Teams2_Score<>\"\"))","v":0},{"$f":"SUMPRODUCT((Teams1=U21)*(Teams1_Score<Teams2_Score))+SUMPRODUCT((Teams2=U21)*(Teams2_Score<Teams1_Score))","v":0},{"$f":"SUMPRODUCT((Teams1=U21)*(Teams1_Score))+SUMPRODUCT((Teams2=U21)*(Teams2_Score))","v":5},{"$f":"SUMPRODUCT((Teams1=U21)*(Teams2_Score))+SUMPRODUCT((Teams2=U21)*(Teams1_Score))","v":1},{"$f":"Z21-AA21","v":4},{"$f":"3*W21+X21","v":9},null,null,null,"PHASES FINALES"]
[null,{"$f":"VLOOKUP($D22,TABLEAU_MATCHS[#All],2,FALSE)","v":"2018-06-19"},{"$f":"VLOOKUP($D22,TABLEAU_MATCHS[#All],3,FALSE)","v":"17:00:00"},15,{"$f":"\"Groupe \"&VLOOKUP($I22,TABLEAU_TEAMS[[#All],[TEAM]:[GROUP_INITIAL_RANK]],2,FALSE)","v":"Groupe H"},1.38,3.9,8,{"$f":"VLOOKUP($D22,TABLEAU_MATCHS[#All],4,FALSE)","v":"Colombie"},3,null,{"$f":"VLOOKUP($D22,TABLEAU_MATCHS[#All],5,FALSE)","v":"Japon"},1,{"$f":"IF(OR(ISBLANK(RESULTATS!J22),ISBLANK(J22)),\"\",IF(AND(Kociancic!J22=RESULTATS!J22,Kociancic!M22=RESULTATS!M22),3,IF(OR(AND(Kociancic!J22>Kociancic!M22,RESULTATS!J22>RESULTATS!M22),AND(Kociancic!J22<Kociancic!M22,RESULTATS!J22<RESULTATS!M22),AND(Kociancic!J22=Kociancic!M22,RESULTATS!J22=RESULTATS!M22)),1,0)))","v":""},null,null,null,"01940Danemark",1940,2,"Danemark",{"$f":"SUMPRODUCT((Teams1=U22)*(Teams1_Score<>\"\"))+SUMPRODUCT((Teams2=U22)*(Teams2_Score<>\"\"))","v":3},{"$f":"SUMPRODUCT((Teams1=U22)*(Teams1_Score>Teams2_Score))+SUMPRODUCT((Teams2=U22)*(Teams2_Score>Teams1_Score))","v":0},{"$f":"SUMPRODUCT((Teams1=U22)*(Teams1_Score=Teams2_Score)*(Teams1_Score<>\"\"))+SUMPRODUCT((Teams2=U22)*(Teams2_Score=Teams1_Score)*(Teams2_Score<>\"\"))","v":2},{"$f":"SUMPRODUCT((Teams1=U22)*(Teams1_Score<Teams2_Score))+SUMPRODUCT((Teams2=U22)*(Teams2_Score<Teams1_Score))","v":1},{"$f":"SUMPRODUCT((Teams1=U22)*(Teams1_Score))+SUMPRODUCT((Teams2=U22)*(Teams2_Score))","v":4},{"$f":"SUMPRODUCT((Teams1=U22)*(Teams2_Score))+SUMPRODUCT((Teams2=U22)*(Teams1_Score))","v":5},{"$f":"Z22-AA22","v":-1},{"$f":"3*W22+X22","v":2}]
[null,{"$f":"VLOOKUP($D23,TABLEAU_MATCHS[#All],2,FALSE)","v":"2018-06-19"},{"$f":"VLOOKUP($D23,TABLEAU_MATCHS[#All],3,FALSE)","v":"14:00:00"},16,{"$f":"\"Groupe \"&VLOOKUP($I23,TABLEAU_TEAMS[[#All],[TEAM]:[GROUP_INITIAL_RANK]],2,FALSE)","v":"Groupe H"},2.0499999999999998,2.9,3.5,{"$f":"VLOOKUP($D23,TABLEAU_MATCHS[#All],4,FALSE)","v":"Pologne"},2,null,{"$f":"VLOOKUP($D23,TABLEAU_MATCHS[#All],5,FALSE)","v":"Sénégal"},2,{"$f":"IF(OR(ISBLANK(RESULTATS!J23),ISBLANK(J23)),\"\",IF(AND(Kociancic!J23=RESULTATS!J23,Kociancic!M23=RESULTATS!M23),3,IF(OR(AND(Kociancic!J23>Kociancic!M23,RESULTATS!J23>RESULTATS!M23),AND(Kociancic!J23<Kociancic!M23,RESULTATS!J23<RESULTATS!M23),AND(Kociancic!J23=Kociancic!M23,RESULTATS!J23=RESULTATS!M23)),1,0)))","v":""},null,null,null,"01920Pérou",1920,3,"Pérou",{"$f":"SUMPRODUCT((Teams1=U23)*(Teams1_Score<>\"\"))+SUMPRODUCT((Teams2=U23)*(Teams2_Score<>\"\"))","v":3},{"$f":"SUMPRODUCT((Teams1=U23)*(Teams1_Score>Teams2_Score))+SUMPRODUCT((Teams2=U23)*(Teams2_Score>Teams1_Score))","v":0},{"$f":"SUMPRODUCT((Teams1=U23)*(Teams1_Score=Teams2_Score)*(Teams1_Score<>\"\"))+SUMPRODUCT((Teams2=U23)*(Teams2_Score=Teams1_Score)*(Teams2_Score<>\"\"))","v":2},{"$f":"SUMPRODUCT((Teams1=U23)*(Teams1_Score<Teams2_Score))+SUMPRODUCT((Teams2=U23)*(Teams2_Score<Teams1_Score))","v":1},{"$f":"SUMPRODUCT((Teams1=U23)*(Teams1_Score))+SUMPRODUCT((Teams2=U23)*(Teams2_Score))","v":2},{"$f":"SUMPRODUCT((Teams1=U23)*(Teams2_Score))+SUMPRODUCT((Teams2=U23)*(Teams1_Score))","v":3},{"$f":"Z23-AA23","v":-1},{"$f":"3*W23+X23","v":2},null,null,"Date","Finale",null,null,"Buts",null,"Pen",null,null,null,"Buts",null,"Pen"]
[null,{"$f":"VLOOKUP($D24,TABLEAU_MATCHS[#All],2,FALSE)","v":"2018-06-19"},{"$f":"VLOOKUP($D24,TABLEAU_MATCHS[#All],3,FALSE)","v":"20:00:00"},17,{"$f":"\"Groupe \"&VLOOKUP($I24,TABLEAU_TEAMS[[#All],[TEAM]:[GROUP_INITIAL_RANK]],2,FALSE)","v":"Groupe A"},1.26,4.8,9,{"$f":"VLOOKUP($D24,TABLEAU_MATCHS[#All],4,FALSE)","v":"Russie"},4,null,{"$f":"VLOOKUP($D24,TABLEAU_MATCHS[#All],5,FALSE)","v":"Egypte"},1,{"$f":"IF(OR(ISBLANK(RESULTATS!J24),ISBLANK(J24)),\"\",IF(AND(Kociancic!J24=RESULTATS!J24,Kociancic!M24=RESULTATS!M24),3,IF(OR(AND(Kociancic!J24>Kociancic!M24,RESULTATS!J24>RESULTATS!M24),AND(Kociancic!J24<Kociancic!M24,RESULTATS!J24<RESULTATS!M24),AND(Kociancic!J24=Kociancic!M24,RESULTATS!J24=RESULTATS!M24)),1,0)))","v":""},null,null,null,"01830Australie",1830,4,"Australie",{"$f":"SUMPRODUCT((Teams1=U24)*(Teams1_Score<>\"\"))+SUMPRODUCT((Teams2=U24)*(Teams2_Score<>\"\"))","v":3},{"$f":"SUMPRODUCT((Teams1=U24)*(Teams1_Score>Teams2_Score))+SUMPRODUCT((Teams2=U24)*(Teams2_Score>Teams1_Score))","v":0},{"$f":"SUMPRODUCT((Teams1=U24)*(Teams1_Score=Teams2_Score)*(Teams1_Score<>\"\"))+SUMPRODUCT((Teams2=U24)*(Teams2_Score=Teams1_Score)*(Teams2_Score<>\"\"))","v":2},{"$f":"SUMPRODUCT((Teams1=U24)*(Teams1_Score<Teams2_Score))+SUMPRODUCT((Teams2=U24)*(Teams2_Score<Teams1_Score))","v":1},{"$f":"SUMPRODUCT((Teams1=U24)*(Teams1_Score))+SUMPRODUCT((Teams2=U24)*(Teams2_Score))","v":3},{"$f":"SUMPRODUCT((Teams1=U24)*(Teams2_Score))+SUMPRODUCT((Teams2=U24)*(Teams1_Score))","v":5},{"$f":"Z24-AA24","v":-2},{"$f":"3*W24+X24","v":2}]
[null,{"$f":"VLOOKUP($D25,TABLEAU_MATCHS[#All],2,FALSE)","v":"2018-06-20"},{"$f":"VLOOKUP($D25,TABLEAU_MATCHS[#All],3,FALSE)","v":"17:00:00"},18,{"$f":"\"Groupe \"&VLOOKUP($I25,TABLEAU_TEAMS[[#All],[TEAM]:[GROUP_INITIAL_RANK]],2,FALSE)","v":"Groupe A"},3.5,3,2,{"$f":"VLOOKUP($D25,TABLEAU_MATCHS[#All],4,FALSE)","v":"Uruguay"},2,null,{"$f":"VLOOKUP($D25,TABLEAU_MATCHS[#All],5,FALSE)","v":"Arabie Saoudite"},0,{"$f":"IF(OR(ISBLANK(RESULTATS!J25),ISBLANK(J25)),\"\",IF(AND(Kociancic!J25=RESULTATS!J25,Kociancic!M25=RESULTATS!M25),3,IF(OR(AND(Kociancic!J25>Kociancic!M25,RESULTATS!J25>RESULTATS!M25),AND(Kociancic!J25<Kociancic!M25,RESULTATS!J25<RESULTATS!M25),AND(Kociancic!J25=Kociancic!M25,RESULTATS!J25=RESULTATS!M25)),1,0)))","v":""},null,null,null,null,null,null,null,null,null,null,null,null,null,null,null,null,null,"2018-07-15",null,{"$f":"+IF(AJ33<>\"\",IF(AI33>AO33,AH33,AN33),\"Vainqueur 1\")","v":"Brésil"},{"$f":"AJ25*10+AL25","v":70},7,{"$f":"IF(LEFT(AH25,5)<>\"Vainq\",COUNTIF(RESULTATS!$AG$10:$AM$10,AH25),0)","v":0},null,null,{"$f":"+IF(AJ34<>\"\",IF(AI34>AO34,AH34,AN34),\"Vainqueur 2\")","v":"Allemagne"},{"$f":"AP25*10+AR25","v":10},1,{"$f":"IF(LEFT(AN25,5)<>\"Vainq\",COUNTIF(RESULTATS!$AG$10:$AM$10,AN25),0)","v":0},null,null,{"$f":"IF(AJ25<>\"\",IF(AI25>AO25,AH25,AN25),\"\")","v":"Brésil"}]
[null,{"$f":"VLOOKUP($D26,TABLEAU_MATCHS[#All],2,FALSE)","v":"2018-06-20"},{"$f":"VLOOKUP($D26,TABLEAU_MATCHS[#All],3,FALSE)","v":"14:00:00"},19,{"$f":"\"Groupe \"&VLOOKUP($I26,TABLEAU_TEAMS[[#All],[TEAM]:[GROUP_INITIAL_RANK]],2,FALSE)","v":"Groupe B"},1.66,3.35,4.8,{"$f":"VLOOKUP($D26,TABLEAU_MATCHS[#All],4,FALSE)","v":"Portugal"},5,null,{"$f":"VLOOKUP($D26,TABLEAU_MATCHS[#All],5,FALSE)","v":"Maroc"},1,{"$f":"IF(OR(ISBLANK(RESULTATS!J26),ISBLANK(J26)),\"\",IF(AND(Kociancic!J26=RESULTATS!J26,Kociancic!M26=RESULTATS!M26),3,IF(OR(AND(Kociancic!J26>Kociancic!M26,RESULTATS!J26>RESULTATS!M26),AND(Kociancic!J26<Kociancic!M26,RESULTATS!J26<RESULTATS!M26),AND(Kociancic!J26=Kociancic!M26,RESULTATS!J26=RESULTATS!M26)),1,0)))","v":""},null,null,null,null,null,"Rg","Groupe D","MJ","G","N","P","BP","BC","+/-","Pts"]
[null,{"$f":"VLOOKUP($D27,TABLEAU_MATCHS[#All],2,FALSE)","v":"2018-06-20"},{"$f":"VLOOKUP($D27,TABLEAU_MATCHS[#All],3,FALSE)","v":"20:00:00"},20,{"$f":"\"Groupe \"&VLOOKUP($I27,TABLEAU_TEAMS[[#All],[TEAM]:[GROUP_INITIAL_RANK]],2,FALSE)","v":"Groupe B"},8.5,4.7,1.28,{"$f":"VLOOKUP($D27,TABLEAU_MATCHS[#All],4,FALSE)","v":"RI Iran"},0,null,{"$f":"VLOOKUP($D27,TABLEAU_MATCHS[#All],5,FALSE)","v":"Espagne"},3,{"$f":"IF(OR(ISBLANK(RESULTATS!J27),ISBLANK(J27)),\"\",IF(AND(Kociancic!J27=RESULTATS!J27,Kociancic!M27=RESULTATS!M27),3,IF(OR(AND(Kociancic!J27>Kociancic!M27,RESULTATS!J27>RESULTATS!M27),AND(Kociancic!J27<Kociancic!M27,RESULTATS!J27<RESULTATS!M27),AND(Kociancic!J27=Kociancic!M27,RESULTATS!J27=RESULTATS!M27)),1,0)))","v":""},null,null,null,{"$f":"INDEX($R78:$R81,MATCH(SMALL(COUNTIF($R78:$R81,\">=\"&$R78:$R81),ROW(INDIRECT(\"1:\"&ROWS($R78:$R81)))),COUNTIF($R78:$R81,\">=\"&$R78:$R81),0))","v":"07580Argentine"},{"$f":"INDEX($S78:$S81,MATCH(SMALL(COUNTIF($R78:$R81,\">=\"&$R78:$R81),ROW(INDIRECT(\"1:\"&ROWS($R78:$R81)))),COUNTIF($R78:$R81,\">=\"&$R78:$R81),0))","v":7580},{"$f":"INDEX($T78:$T81,MATCH(SMALL(COUNTIF($R78:$R81,\">=\"&$R78:$R81),ROW(INDIRECT(\"1:\"&ROWS($R78:$R81)))),COUNTIF($R78:$R81,\">=\"&$R78:$R81),0))","v":1},{"$f":"INDEX($U78:$U81,MATCH(SMALL(COUNTIF($R78:$R81,\">=\"&$R78:$R81),ROW(INDIRECT(\"1:\"&ROWS($R78:$R81)))),COUNTIF($R78:$R81,\">=\"&$R78:$R81),0))","v":"Argentine"},{"$f":"SUMPRODUCT((Teams1=U27)*(Teams1_Score<>\"\"))+SUMPRODUCT((Teams2=U27)*(Teams2_Score<>\"\"))","v":3},{"$f":"SUMPRODUCT((Teams1=U27)*(Teams1_Score>Teams2_Score))+SUMPRODUCT((Teams2=U27)*(Teams2_Score>Teams1_Score))","v":2},{"$f":"SUMPRODUCT((Teams1=U27)*(Teams1_Score=Teams2_Score)*(Teams1_Score<>\"\"))+SUMPRODUCT((Teams2=U27)*(Teams2_Score=Teams1_Score)*(Teams2_Score<>\"\"))","v":1},{"$f":"SUMPRODUCT((Teams1=U27)*(Teams1_Score<Teams2_Score))+SUMPRODUCT((Teams2=U27)*(Teams2_Score<Teams1_Score))","v":0},{"$f":"SUMPRODUCT((Teams1=U27)*(Teams1_Score))+SUMPRODUCT((Teams2=U27)*(Teams2_Score))","v":8},{"$f":"SUMPRODUCT((Teams1=U27)*(Teams2_Score))+SUMPRODUCT((Teams2=U27)*(Teams1_Score))","v":3},{"$f":"Z27-AA27","v":5},{"$f":"3*W27+X27","v":7},null,null,"Date","Petite Finale",null,null,"Buts",null,"Pen",null,null,null,"Buts",null,"Pen"]
[null,{"$f":"VLOOKUP($D28,TABLEAU_MATCHS[#All],2,FALSE)","v":"2018-06-21"},{"$f":"VLOOKUP($D28,TABLEAU_MATCHS[#All],3,FALSE)","v":"14:00:00"},21,{"$f":"\"Groupe \"&VLOOKUP($I28,TABLEAU_TEAMS[[#All],[TEAM]:[GROUP_INITIAL_RANK]],2,FALSE)","v":"Groupe C"},1.85,3,4,{"$f":"VLOOKUP($D28,TABLEAU_MATCHS[#All],4,FALSE)","v":"Danemark"},2,null,{"$f":"VLOOKUP($D28,TABLEAU_MATCHS[#All],5,FALSE)","v":"Australie"},2,{"$f":"IF(OR(ISBLANK(RESULTATS!J28),ISBLANK(J28)),\"\",IF(AND(Kociancic!J28=RESULTATS!J28,Kociancic!M28=RESULTATS!M28),3,IF(OR(AND(Kociancic!J28>Kociancic!M28,RESULTATS!J28>RESULTATS!M28),AND(Kociancic!J28<Kociancic!M28,RESULTATS!J28<RESULTATS!M28),AND(Kociancic!J28=Kociancic!M28,RESULTATS!J28=RESULTATS!M28)),1,0)))","v":""},null,null,null,"06370Islande",6370,2,"Islande",{"$f":"SUMPRODUCT((Teams1=U28)*(Teams1_Score<>\"\"))+SUMPRODUCT((Teams2=U28)*(Teams2_Score<>\"\"))","v":3},{"$f":"SUMPRODUCT((Teams1=U28)*(Teams1_Score>Teams2_Score))+SUMPRODUCT((Teams2=U28)*(Teams2_Score>Teams1_Score))","v":2},{"$f":"SUMPRODUCT((Teams1=U28)*(Teams1_Score=Teams2_Score)*(Teams1_Score<>\"\"))+SUMPRODUCT((Teams2=U28)*(Teams2_Score=Teams1_Score)*(Teams2_Score<>\"\"))","v":0},{"$f":"SUMPRODUCT((Teams1=U28)*(Teams1_Score<Teams2_Score))+SUMPRODUCT((Teams2=U28)*(Teams2_Score<Teams1_Score))","v":1},{"$f":"SUMPRODUCT((Teams1=U28)*(Teams1_Score))+SUMPRODUCT((Teams2=U28)*(Teams2_Score))","v":7},{"$f":"SUMPRODUCT((Teams1=U28)*(Teams2_Score))+SUMPRODUCT((Teams2=U28)*(Teams1_Score))","v":4},{"$f":"Z28-AA28","v":3},{"$f":"3*W28+X28","v":6}]
[null,{"$f":"VLOOKUP($D29,TABLEAU_MATCHS[#All],2,FALSE)","v":"2018-06-21"},{"$f":"VLOOKUP($D29,TABLEAU_MATCHS[#All],3,FALSE)","v":"17:00:00"},22,{"$f":"\"Groupe \"&VLOOKUP($I29,TABLEAU_TEAMS[[#All],[TEAM]:[GROUP_INITIAL_RANK]],2,FALSE)","v":"Groupe C"},2.2999999999999998,3,2.9,{"$f":"VLOOKUP($D29,TABLEAU_MATCHS[#All],4,FALSE)","v":"France"},1,null,{"$f":"VLOOKUP($D29,TABLEAU_MATCHS[#All],5,FALSE)","v":"Pérou"},0,{"$f":"IF(OR(ISBLANK(RESULTATS!J29),ISBLANK(J29)),\"\",IF(AND(Kociancic!J29=RESULTATS!J29,Kociancic!M29=RESULTATS!M29),3,IF(OR(AND(Kociancic!J29>Kociancic!M29,RESULTATS!J29>RESULTATS!M29),AND(Kociancic!J29<Kociancic!M29,RESULTATS!J29<RESULTATS!M29),AND(Kociancic!J29=Kociancic!M29,RESULTATS!J29=RESULTATS!M29)),1,0)))","v":""},null,null,null,"03820Croatie",3820,3,"Croatie",{"$f":"SUMPRODUCT((Teams1=U29)*(Teams1_Score<>\"\"))+SUMPRODUCT((Teams2=U29)*(Teams2_Score<>\"\"))","v":3},{"$f":"SUMPRODUCT((Teams1=U29)*(Teams1_Score>Teams2_Score))+SUMPRODUCT((Teams2=U29)*(Teams2_Score>Teams1_Score))","v":1},{"$f":"SUMPRODUCT((Teams1=U29)*(Teams1_Score=Teams2_Score)*(Teams1_Score<>\"\"))+SUMPRODUCT((Teams2=U29)*(Teams2_Score=Teams1_Score)*(Teams2_Score<>\"\"))","v":1},{"$f":"SUMPRODUCT((Teams1=U29)*(Teams1_Score<Teams2_Score))+SUMPRODUCT((Teams2=U29)*(Teams2_Score<Teams1_Score))","v":1},{"$f":"SUMPRODUCT((Teams1=U29)*(Teams1_Score))+SUMPRODUCT((Teams2=U29)*(Teams2_Score))","v":2},{"$f":"SUMPRODUCT((Teams1=U29)*(Teams2_Score))+SUMPRODUCT((Teams2=U29)*(Teams1_Score))","v":4},{"$f":"Z29-AA29","v":-2},{"$f":"3*W29+X29","v":4},null,null,"2018-07-14",null,{"$f":"+IF(AJ33<>\"\",IF(AI33>AO33,AN33,AH33),\"Perdant 1\")","v":"France"},{"$f":"AJ29*10+AL29","v":40},4,null,null,null,{"$f":"+IF(AJ34<>\"\",IF(AI34>AO34,AN34,AH34),\"Perdant 2\")","v":"Argentine"},{"$f":"AP29*10+AR29","v":0},0]
[null,{"$f":"VLOOKUP($D30,TABLEAU_MATCHS[#All],2,FALSE)","v":"2018-06-21"},{"$f":"VLOOKUP($D30,TABLEAU_MATCHS[#All],3,FALSE)","v":"20:00:00"},23,{"$f":"\"Groupe \"&VLOOKUP($I30,TABLEAU_TEAMS[[#All],[TEAM]:[GROUP_INITIAL_RANK]],2,FALSE)","v":"Groupe D"},2.4,3,2.8,{"$f":"VLOOKUP($D30,TABLEAU_MATCHS[#All],4,FALSE)","v":"Argentine"},1,null,{"$f":"VLOOKUP($D30,TABLEAU_MATCHS[#All],5,FALSE)","v":"Croatie"},1,{"$f":"IF(OR(ISBLANK(RESULTATS!J30),ISBLANK(J30)),\"\",IF(AND(Kociancic!J30=RESULTATS!J30,Kociancic!M30=RESULTATS!M30),3,IF(OR(AND(Kociancic!J30>Kociancic!M30,RESULTATS!J30>RESULTATS!M30),AND(Kociancic!J30<Kociancic!M30,RESULTATS!J30<RESULTATS!M30),AND(Kociancic!J30=Kociancic!M30,RESULTATS!J30=RESULTATS!M30)),1,0)))","v":""},null,null,null,"-00600Nigeria",-600,4,"Nigeria",{"$f":"SUMPRODUCT((Teams1=U30)*(Teams1_Score<>\"\"))+SUMPRODUCT((Teams2=U30)*(Teams2_Score<>\"\"))","v":3},{"$f":"SUMPRODUCT((Teams1=U30)*(Teams1_Score>Teams2_Score))+SUMPRODUCT((Teams2=U30)*(Teams2_Score>Teams1_Score))","v":0},{"$f":"SUMPRODUCT((Teams1=U30)*(Teams1_Score=Teams2_Score)*(Teams1_Score<>\"\"))+SUMPRODUCT((Teams2=U30)*(Teams2_Score=Teams1_Score)*(Teams2_Score<>\"\"))","v":0},{"$f":"SUMPRODUCT((Teams1=U30)*(Teams1_Score<Teams2_Score))+SUMPRODUCT((Teams2=U30)*(Teams2_Score<Teams1_Score))","v":3},{"$f":"SUMPRODUCT((Teams1=U30)*(Teams1_Score))+SUMPRODUCT((Teams2=U30)*(Teams2_Score))","v":0},{"$f":"SUMPRODUCT((Teams1=U30)*(Teams2_Score))+SUMPRODUCT((Teams2=U30)*(Teams1_Score))","v":6},{"$f":"Z30-AA30","v":-6},{"$f":"3*W30+X30","v":0}]
[null,{"$f":"VLOOKUP($D31,TABLEAU_MATCHS[#All],2,FALSE)","v":"2018-06-22"},{"$f":"VLOOKUP($D31,TABLEAU_MATCHS[#All],3,FALSE)","v":"17:00:00"},24,{"$f":"\"Groupe \"&VLOOKUP($I31,TABLEAU_TEAMS[[#All],[TEAM]:[GROUP_INITIAL_RANK]],2,FALSE)","v":"Groupe D"},1.26,4.5999999999999996,9.5,{"$f":"VLOOKUP($D31,TABLEAU_MATCHS[#All],4,FALSE)","v":"Nigeria"},0,null,{"$f":"VLOOKUP($D31,TABLEAU_MATCHS[#All],5,FALSE)","v":"Islande"},2,{"$f":"IF(OR(ISBLANK(RESULTATS!J31),ISBLANK(J31)),\"\",IF(AND(Kociancic!J31=RESULTATS!J31,Kociancic!M31=RESULTATS!M31),3,IF(OR(AND(Kociancic!J31>Kociancic!M31,RESULTATS!J31>RESULTATS!M31),AND(Kociancic!J31<Kociancic!M31,RESULTATS!J31<RESULTATS!M31),AND(Kociancic!J31=Kociancic!M31,RESULTATS!J31=RESULTATS!M31)),1,0)))","v":""},null,null,null,null,null,null,null,null,null,null,null,null,null,null,null,null,null,"Date","Demi Finale",null,null,"Buts",null,"Pen",null,null,null,"Buts",null,"Pen"]
[null,{"$f":"VLOOKUP($D32,TABLEAU_MATCHS[#All],2,FALSE)","v":"2018-06-22"},{"$f":"VLOOKUP($D32,TABLEAU_MATCHS[#All],3,FALSE)","v":"14:00:00"},25,{"$f":"\"Groupe \"&VLOOKUP($I32,TABLEAU_TEAMS[[#All],[TEAM]:[GROUP_INITIAL_RANK]],2,FALSE)","v":"Groupe E"},3.5,2.95,2.1,{"$f":"VLOOKUP($D32,TABLEAU_MATCHS[#All],4,FALSE)","v":"Brésil"},3,null,{"$f":"VLOOKUP($D32,TABLEAU_MATCHS[#All],5,FALSE)","v":"Costa Rica"},1,{"$f":"IF(OR(ISBLANK(RESULTATS!J32),ISBLANK(J32)),\"\",IF(AND(Kociancic!J32=RESULTATS!J32,Kociancic!M32=RESULTATS!M32),3,IF(OR(AND(Kociancic!J32>Kociancic!M32,RESULTATS!J32>RESULTATS!M32),AND(Kociancic!J32<Kociancic!M32,RESULTATS!J32<RESULTATS!M32),AND(Kociancic!J32=Kociancic!M32,RESULTATS!J32=RESULTATS!M32)),1,0)))","v":""},null,null,null,null,null,"Rg","Groupe E","MJ","G","N","P","BP","BC","+/-","Pts"]
[null,{"$f":"VLOOKUP($D33,TABLEAU_MATCHS[#All],2,FALSE)","v":"2018-06-22"},{"$f":"VLOOKUP($D33,TABLEAU_MATCHS[#All],3,FALSE)","v":"20:00:00"},26,{"$f":"\"Groupe \"&VLOOKUP($I33,TABLEAU_TEAMS[[#All],[TEAM]:[GROUP_INITIAL_RANK]],2,FALSE)","v":"Groupe E"},4.8,3.25,1.62,{"$f":"VLOOKUP($D33,TABLEAU_MATCHS[#All],4,FALSE)","v":"Serbie"},2,null,{"$f":"VLOOKUP($D33,TABLEAU_MATCHS[#All],5,FALSE)","v":"Suisse"},1,{"$f":"IF(OR(ISBLANK(RESULTATS!J33),ISBLANK(J33)),\"\",IF(AND(Kociancic!J33=RESULTATS!J33,Kociancic!M33=RESULTATS!M33),3,IF(OR(AND(Kociancic!J33>Kociancic!M33,RESULTATS!J33>RESULTATS!M33),AND(Kociancic!J33<Kociancic!M33,RESULTATS!J33<RESULTATS!M33),AND(Kociancic!J33=Kociancic!M33,RESULTATS!J33=RESULTATS!M33)),1,0)))","v":""},null,null,null,{"$f":"INDEX($R84:$R87,MATCH(SMALL(COUNTIF($R84:$R87,\">=\"&$R84:$R87),ROW(INDIRECT(\"1:\"&ROWS($R84:$R87)))),COUNTIF($R84:$R87,\">=\"&$R84:$R87),0))","v":"07350Brésil"},{"$f":"INDEX($S84:$S87,MATCH(SMALL(COUNTIF($R84:$R87,\">=\"&$R84:$R87),ROW(INDIRECT(\"1:\"&ROWS($R84:$R87)))),COUNTIF($R84:$R87,\">=\"&$R84:$R87),0))","v":7350},{"$f":"INDEX($T84:$T87,MATCH(SMALL(COUNTIF($R84:$R87,\">=\"&$R84:$R87),ROW(INDIRECT(\"1:\"&ROWS($R84:$R87)))),COUNTIF($R84:$R87,\">=\"&$R84:$R87),0))","v":1},{"$f":"INDEX($U84:$U87,MATCH(SMALL(COUNTIF($R84:$R87,\">=\"&$R84:$R87),ROW(INDIRECT(\"1:\"&ROWS($R84:$R87)))),COUNTIF($R84:$R87,\">=\"&$R84:$R87),0))","v":"Brésil"},{"$f":"SUMPRODUCT((Teams1=U33)*(Teams1_Score<>\"\"))+SUMPRODUCT((Teams2=U33)*(Teams2_Score<>\"\"))","v":3},{"$f":"SUMPRODUCT((Teams1=U33)*(Teams1_Score>Teams2_Score))+SUMPRODUCT((Teams2=U33)*(Teams2_Score>Teams1_Score))","v":2},{"$f":"SUMPRODUCT((Teams1=U33)*(Teams1_Score=Teams2_Score)*(Teams1_Score<>\"\"))+SUMPRODUCT((Teams2=U33)*(Teams2_Score=Teams1_Score)*(Teams2_Score<>\"\"))","v":1},{"$f":"SUMPRODUCT((Teams1=U33)*(Teams1_Score<Teams2_Score))+SUMPRODUCT((Teams2=U33)*(Teams2_Score<Teams1_Score))","v":0},{"$f":"SUMPRODUCT((Teams1=U33)*(Teams1_Score))+SUMPRODUCT((Teams2=U33)*(Teams2_Score))","v":5},{"$f":"SUMPRODUCT((Teams1=U33)*(Teams2_Score))+SUMPRODUCT((Teams2=U33)*(Teams1_Score))","v":2},{"$f":"Z33-AA33","v":3},{"$f":"3*W33+X33","v":7},null,null,"2018-07-10",1,{"$f":"+IF(AJ38<>\"\",IF(AI38>AO38,AH38,AN38),\"Vainqueur A\")","v":"France"},{"$f":"AJ33*10+AL33","v":0},0,{"$f":"IF(LEFT(AH33,5)<>\"Vainq\",COUNTIF(RESULTATS!$AG$18:$AM$19,AH33),0)","v":0},null,null,{"$f":"+IF(AJ40<>\"\",IF(AI40>AO40,AH40,AN40),\"Vainqueur C\")","v":"Brésil"},{"$f":"AP33*10+AR33","v":30},3,{"$f":"IF(LEFT(AN33,5)<>\"Vainq\",COUNTIF(RESULTATS!$AG$18:$AM$19,AN33),0)","v":0}]
[null,{"$f":"VLOOKUP($D34,TABLEAU_MATCHS[#All],2,FALSE)","v":"2018-06-23"},{"$f":"VLOOKUP($D34,TABLEAU_MATCHS[#All],3,FALSE)","v":"20:00:00"},27,{"$f":"\"Groupe \"&VLOOKUP($I34,TABLEAU_TEAMS[[#All],[TEAM]:[GROUP_INITIAL_RANK]],2,FALSE)","v":"Groupe F"},1.1200000000000001,6.5,15,{"$f":"VLOOKUP($D34,TABLEAU_MATCHS[#All],4,FALSE)","v":"République de Corée"},3,null,{"$f":"VLOOKUP($D34,TABLEAU_MATCHS[#All],5,FALSE)","v":"Mexique"},1,{"$f":"IF(OR(ISBLANK(RESULTATS!J34),ISBLANK(J34)),\"\",IF(AND(Kociancic!J34=RESULTATS!J34,Kociancic!M34=RESULTATS!M34),3,IF(OR(AND(Kociancic!J34>Kociancic!M34,RESULTATS!J34>RESULTATS!M34),AND(Kociancic!J34<Kociancic!M34,RESULTATS!J34<RESULTATS!M34),AND(Kociancic!J34=Kociancic!M34,RESULTATS!J34=RESULTATS!M34)),1,0)))","v":""},null,null,null,"05120Serbie",5120,2,"Serbie",{"$f":"SUMPRODUCT((Teams1=U34)*(Teams1_Score<>\"\"))+SUMPRODUCT((Teams2=U34)*(Teams2_Score<>\"\"))","v":3},{"$f":"SUMPRODUCT((Teams1=U34)*(Teams1_Score>Teams2_Score))+SUMPRODUCT((Teams2=U34)*(Teams2_Score>Teams1_Score))","v":1},{"$f":"SUMPRODUCT((Teams1=U34)*(Teams1_Score=Teams2_Score)*(Teams1_Score<>\"\"))+SUMPRODUCT((Teams2=U34)*(Teams2_Score=Teams1_Score)*(Teams2_Score<>\"\"))","v":2},{"$f":"SUMPRODUCT((Teams1=U34)*(Teams1_Score<Teams2_Score))+SUMPRODUCT((Teams2=U34)*(Teams2_Score<Teams1_Score))","v":0},{"$f":"SUMPRODUCT((Teams1=U34)*(Teams1_Score))+SUMPRODUCT((Teams2=U34)*(Teams2_Score))","v":2},{"$f":"SUMPRODUCT((Teams1=U34)*(Teams2_Score))+SUMPRODUCT((Teams2=U34)*(Teams1_Score))","v":1},{"$f":"Z34-AA34","v":1},{"$f":"3*W34+X34","v":5},null,null,"2018-07-11",2,{"$f":"+IF(AJ39<>\"\",IF(AI39>AO39,AH39,AN39),\"Vainqueur B\")","v":"Argentine"},{"$f":"AJ34*10+AL34","v":0},0,{"$f":"IF(LEFT(AH34,5)<>\"Vainq\",COUNTIF(RESULTATS!$AG$18:$AM$19,AH34),0)","v":0},null,null,{"$f":"+IF(AJ41<>\"\",IF(AI41>AO41,AH41,AN41),\"Vainqueur D\")","v":"Allemagne"},{"$f":"AP34*10+AR34","v":10},1,{"$f":"IF(LEFT(AN34,5)<>\"Vainq\",COUNTIF(RESULTATS!$AG$18:$AM$19,AN34),0)","v":0}]
[null,{"$f":"VLOOKUP($D35,TABLEAU_MATCHS[#All],2,FALSE)","v":"2018-06-23"},{"$f":"VLOOKUP($D35,TABLEAU_MATCHS[#All],3,FALSE)","v":"17:00:00"},28,{"$f":"\"Groupe \"&VLOOKUP($I35,TABLEAU_TEAMS[[#All],[TEAM]:[GROUP_INITIAL_RANK]],2,FALSE)","v":"Groupe F"},2.8,2.95,2.4,{"$f":"VLOOKUP($D35,TABLEAU_MATCHS[#All],4,FALSE)","v":"Allemagne"},1,null,{"$f":"VLOOKUP($D35,TABLEAU_MATCHS[#All],5,FALSE)","v":"Suède"},3,{"$f":"IF(OR(ISBLANK(RESULTATS!J35),ISBLANK(J35)),\"\",IF(AND(Kociancic!J35=RESULTATS!J35,Kociancic!M35=RESULTATS!M35),3,IF(OR(AND(Kociancic!J35>Kociancic!M35,RESULTATS!J35>RESULTATS!M35),AND(Kociancic!J35<Kociancic!M35,RESULTATS!J35<RESULTATS!M35),AND(Kociancic!J35=Kociancic!M35,RESULTATS!J35=RESULTATS!M35)),1,0)))","v":""},null,null,null,"03040Suisse",3040,3,"Suisse",{"$f":"SUMPRODUCT((Teams1=U35)*(Teams1_Score<>\"\"))+SUMPRODUCT((Teams2=U35)*(Teams2_Score<>\"\"))","v":3},{"$f":"SUMPRODUCT((Teams1=U35)*(Teams1_Score>Teams2_Score))+SUMPRODUCT((Teams2=U35)*(Teams2_Score>Teams1_Score))","v":1},{"$f":"SUMPRODUCT((Teams1=U35)*(Teams1_Score=Teams2_Score)*(Teams1_Score<>\"\"))+SUMPRODUCT((Teams2=U35)*(Teams2_Score=Teams1_Score)*(Teams2_Score<>\"\"))","v":0},{"$f":"SUMPRODUCT((Teams1=U35)*(Teams1_Score<Teams2_Score))+SUMPRODUCT((Teams2=U35)*(Teams2_Score<Teams1_Score))","v":2},{"$f":"SUMPRODUCT((Teams1=U35)*(Teams1_Score))+SUMPRODUCT((Teams2=U35)*(Teams2_Score))","v":4},{"$f":"SUMPRODUCT((Teams1=U35)*(Teams2_Score))+SUMPRODUCT((Teams2=U35)*(Teams1_Score))","v":4},{"$f":"Z35-AA35","v":0},{"$f":"3*W35+X35","v":3},null,null,null,null,null,null,null,{"$f":"SUM(AK33:AK34)","v":0},null,null,null,null,null,{"$f":"SUM(AQ33:AQ34)","v":0}]
[null,{"$f":"VLOOKUP($D36,TABLEAU_MATCHS[#All],2,FALSE)","v":"2018-06-23"},{"$f":"VLOOKUP($D36,TABLEAU_MATCHS[#All],3,FALSE)","v":"14:00:00"},29,{"$f":"\"Groupe \"&VLOOKUP($I36,TABLEAU_TEAMS[[#All],[TEAM]:[GROUP_INITIAL_RANK]],2,FALSE)","v":"Groupe G"},1.36,4,7.5,{"$f":"VLOOKUP($D36,TABLEAU_MATCHS[#All],4,FALSE)","v":"Belgique"},2,null,{"$f":"VLOOKUP($D36,TABLEAU_MATCHS[#All],5,FALSE)","v":"Tunisie"},1,{"$f":"IF(OR(ISBLANK(RESULTATS!J36),ISBLANK(J36)),\"\",IF(AND(Kociancic!J36=RESULTATS!J36,Kociancic!M36=RESULTATS!M36),3,IF(OR(AND(Kociancic!J36>Kociancic!M36,RESULTATS!J36>RESULTATS!M36),AND(Kociancic!J36<Kociancic!M36,RESULTATS!J36<RESULTATS!M36),AND(Kociancic!J36=Kociancic!M36,RESULTATS!J36=RESULTATS!M36)),1,0)))","v":""},null,null,null,"00610Costa Rica",610,4,"Costa Rica",{"$f":"SUMPRODUCT((Teams1=U36)*(Teams1_Score<>\"\"))+SUMPRODUCT((Teams2=U36)*(Teams2_Score<>\"\"))","v":3},{"$f":"SUMPRODUCT((Teams1=U36)*(Teams1_Score>Teams2_Score))+SUMPRODUCT((Teams2=U36)*(Teams2_Score>Teams1_Score))","v":0},{"$f":"SUMPRODUCT((Teams1=U36)*(Teams1_Score=Teams2_Score)*(Teams1_Score<>\"\"))+SUMPRODUCT((Teams2=U36)*(Teams2_Score=Teams1_Score)*(Teams2_Score<>\"\"))","v":1},{"$f":"SUMPRODUCT((Teams1=U36)*(Teams1_Score<Teams2_Score))+SUMPRODUCT((Teams2=U36)*(Teams2_Score<Teams1_Score))","v":2},{"$f":"SUMPRODUCT((Teams1=U36)*(Teams1_Score))+SUMPRODUCT((Teams2=U36)*(Teams2_Score))","v":1},{"$f":"SUMPRODUCT((Teams1=U36)*(Teams2_Score))+SUMPRODUCT((Teams2=U36)*(Teams1_Score))","v":5},{"$f":"Z36-AA36","v":-4},{"$f":"3*W36+X36","v":1},null,null,"Date","Quart de Finale",null,null,"Buts",null,"Pen",null,null,null,"Buts",null,"Pen"]
[null,{"$f":"VLOOKUP($D37,TABLEAU_MATCHS[#All],2,FALSE)","v":"2018-06-24"},{"$f":"VLOOKUP($D37,TABLEAU_MATCHS[#All],3,FALSE)","v":"14:00:00"},30,{"$f":"\"Groupe \"&VLOOKUP($I37,TABLEAU_TEAMS[[#All],[TEAM]:[GROUP_INITIAL_RANK]],2,FALSE)","v":"Groupe G"},4.7,3.4,1.62,{"$f":"VLOOKUP($D37,TABLEAU_MATCHS[#All],4,FALSE)","v":"Angleterre"},1,null,{"$f":"VLOOKUP($D37,TABLEAU_MATCHS[#All],5,FALSE)","v":"Panama"},1,{"$f":"IF(OR(ISBLANK(RESULTATS!J37),ISBLANK(J37)),\"\",IF(AND(Kociancic!J37=RESULTATS!J37,Kociancic!M37=RESULTATS!M37),3,IF(OR(AND(Kociancic!J37>Kociancic!M37,RESULTATS!J37>RESULTATS!M37),AND(Kociancic!J37<Kociancic!M37,RESULTATS!J37<RESULTATS!M37),AND(Kociancic!J37=Kociancic!M37,RESULTATS!J37=RESULTATS!M37)),1,0)))","v":""}]
[null,{"$f":"VLOOKUP($D38,TABLEAU_MATCHS[#All],2,FALSE)","v":"2018-06-24"},{"$f":"VLOOKUP($D38,TABLEAU_MATCHS[#All],3,FALSE)","v":"17:00:00"},31,{"$f":"\"Groupe \"&VLOOKUP($I38,TABLEAU_TEAMS[[#All],[TEAM]:[GROUP_INITIAL_RANK]],2,FALSE)","v":"Groupe H"},2.1,2.95,3.35,{"$f":"VLOOKUP($D38,TABLEAU_MATCHS[#All],4,FALSE)","v":"Japon"},2,null,{"$f":"VLOOKUP($D38,TABLEAU_MATCHS[#All],5,FALSE)","v":"Sénégal"},0,{"$f":"IF(OR(ISBLANK(RESULTATS!J38),ISBLANK(J38)),\"\",IF(AND(Kociancic!J38=RESULTATS!J38,Kociancic!M38=RESULTATS!M38),3,IF(OR(AND(Kociancic!J38>Kociancic!M38,RESULTATS!J38>RESULTATS!M38),AND(Kociancic!J38<Kociancic!M38,RESULTATS!J38<RESULTATS!M38),AND(Kociancic!J38=Kociancic!M38,RESULTATS!J38=RESULTATS!M38)),1,0)))","v":""},null,null,null,null,null,"Rg","Groupe F","MJ","G","N","P","BP","BC","+/-","Pts",null,null,"2018-07-06","A",{"$f":"+IF(AJ45<>\"\",IF(AI45>AO45,AH45,AN45),\"Vainqueur 1\")","v":"Russie"},{"$f":"AJ38*10+AL38","v":20},2,{"$f":"IF(LEFT(AH38,5)<>\"Vainq\",COUNTIF(RESULTATS!$AG$23:$AM$26,AH38),0)","v":0},null,null,{"$f":"+IF(AJ47<>\"\",IF(AI47>AO47,AH47,AN47),\"Vainqueur 3\")","v":"France"},{"$f":"AP38*10+AR38","v":30},3,{"$f":"IF(LEFT(AN38,5)<>\"Vainq\",COUNTIF(RESULTATS!$AG$23:$AM$26,AN38),0)","v":0}]
[null,{"$f":"VLOOKUP($D39,TABLEAU_MATCHS[#All],2,FALSE)","v":"2018-06-24"},{"$f":"VLOOKUP($D39,TABLEAU_MATCHS[#All],3,FALSE)","v":"20:00:00"},32,{"$f":"\"Groupe \"&VLOOKUP($I39,TABLEAU_TEAMS[[#All],[TEAM]:[GROUP_INITIAL_RANK]],2,FALSE)","v":"Groupe H"},1.9,3,3.8,{"$f":"VLOOKUP($D39,TABLEAU_MATCHS[#All],4,FALSE)","v":"Pologne"},1,null,{"$f":"VLOOKUP($D39,TABLEAU_MATCHS[#All],5,FALSE)","v":"Colombie"},1,{"$f":"IF(OR(ISBLANK(RESULTATS!J39),ISBLANK(J39)),\"\",IF(AND(Kociancic!J39=RESULTATS!J39,Kociancic!M39=RESULTATS!M39),3,IF(OR(AND(Kociancic!J39>Kociancic!M39,RESULTATS!J39>RESULTATS!M39),AND(Kociancic!J39<Kociancic!M39,RESULTATS!J39<RESULTATS!M39),AND(Kociancic!J39=Kociancic!M39,RESULTATS!J39=RESULTATS!M39)),1,0)))","v":""},null,null,null,{"$f":"INDEX($R90:$R93,MATCH(SMALL(COUNTIF($R90:$R93,\">=\"&$R90:$R93),ROW(INDIRECT(\"1:\"&ROWS($R90:$R93)))),COUNTIF($R90:$R93,\">=\"&$R90:$R93),0))","v":"06380Allemagne"},{"$f":"INDEX($S90:$S93,MATCH(SMALL(COUNTIF($R90:$R93,\">=\"&$R90:$R93),ROW(INDIRECT(\"1:\"&ROWS($R90:$R93)))),COUNTIF($R90:$R93,\">=\"&$R90:$R93),0))","v":6380},{"$f":"INDEX($T90:$T93,MATCH(SMALL(COUNTIF($R90:$R93,\">=\"&$R90:$R93),ROW(INDIRECT(\"1:\"&ROWS($R90:$R93)))),COUNTIF($R90:$R93,\">=\"&$R90:$R93),0))","v":1},{"$f":"INDEX($U90:$U93,MATCH(SMALL(COUNTIF($R90:$R93,\">=\"&$R90:$R93),ROW(INDIRECT(\"1:\"&ROWS($R90:$R93)))),COUNTIF($R90:$R93,\">=\"&$R90:$R93),0))","v":"Allemagne"},{"$f":"SUMPRODUCT((Teams1=U39)*(Teams1_Score<>\"\"))+SUMPRODUCT((Teams2=U39)*(Teams2_Score<>\"\"))","v":3},{"$f":"SUMPRODUCT((Teams1=U39)*(Teams1_Score>Teams2_Score))+SUMPRODUCT((Teams2=U39)*(Teams2_Score>Teams1_Score))","v":2},{"$f":"SUMPRODUCT((Teams1=U39)*(Teams1_Score=Teams2_Score)*(Teams1_Score<>\"\"))+SUMPRODUCT((Teams2=U39)*(Teams2_Score=Teams1_Score)*(Teams2_Score<>\"\"))","v":0},{"$f":"SUMPRODUCT((Teams1=U39)*(Teams1_Score<Teams2_Score))+SUMPRODUCT((Teams2=U39)*(Teams2_Score<Teams1_Score))","v":1},{"$f":"SUMPRODUCT((Teams1=U39)*(Teams1_Score))+SUMPRODUCT((Teams2=U39)*(Teams2_Score))","v":8},{"$f":"SUMPRODUCT((Teams1=U39)*(Teams2_Score))+SUMPRODUCT((Teams2=U39)*(Teams1_Score))","v":5},{"$f":"Z39-AA39","v":3},{"$f":"3*W39+X39","v":6},null,null,"2018-07-07","B",{"$f":"+IF(AJ46<>\"\",IF(AI46>AO46,AH46,AN46),\"Vainqueur 2\")","v":"Espagne"},{"$f":"AJ39*10+AL39","v":10},1,{"$f":"IF(LEFT(AH39,5)<>\"Vainq\",COUNTIF(RESULTATS!$AG$23:$AM$26,AH39),0)","v":0},null,null,{"$f":"+IF(AJ48<>\"\",IF(AI48>AO48,AH48,AN48),\"Vainqueur 4\")","v":"Argentine"},{"$f":"AP39*10+AR39","v":30},3,{"$f":"IF(LEFT(AN39,5)<>\"Vainq\",COUNTIF(RESULTATS!$AG$23:$AM$26,AN39),0)","v":0}]
[null,{"$f":"VLOOKUP($D40,TABLEAU_MATCHS[#All],2,FALSE)","v":"2018-06-25"},{"$f":"VLOOKUP($D40,TABLEAU_MATCHS[#All],3,FALSE)","v":"16:00:00"},33,{"$f":"\"Groupe \"&VLOOKUP($I40,TABLEAU_TEAMS[[#All],[TEAM]:[GROUP_INITIAL_RANK]],2,FALSE)","v":"Groupe A"},11,6.5,1.17,{"$f":"VLOOKUP($D40,TABLEAU_MATCHS[#All],4,FALSE)","v":"Uruguay"},1,null,{"$f":"VLOOKUP($D40,TABLEAU_MATCHS[#All],5,FALSE)","v":"Russie"},2,{"$f":"IF(OR(ISBLANK(RESULTATS!J40),ISBLANK(J40)),\"\",IF(AND(Kociancic!J40=RESULTATS!J40,Kociancic!M40=RESULTATS!M40),3,IF(OR(AND(Kociancic!J40>Kociancic!M40,RESULTATS!J40>RESULTATS!M40),AND(Kociancic!J40<Kociancic!M40,RESULTATS!J40<RESULTATS!M40),AND(Kociancic!J40=Kociancic!M40,RESULTATS!J40=RESULTATS!M40)),1,0)))","v":""},null,null,null,"06270République de Corée",6270,2,"République de Corée",{"$f":"SUMPRODUCT((Teams1=U40)*(Teams1_Score<>\"\"))+SUMPRODUCT((Teams2=U40)*(Teams2_Score<>\"\"))","v":3},{"$f":"SUMPRODUCT((Teams1=U40)*(Teams1_Score>Teams2_Score))+SUMPRODUCT((Teams2=U40)*(Teams2_Score>Teams1_Score))","v":2},{"$f":"SUMPRODUCT((Teams1=U40)*(Teams1_Score=Teams2_Score)*(Teams1_Score<>\"\"))+SUMPRODUCT((Teams2=U40)*(Teams2_Score=Teams1_Score)*(Teams2_Score<>\"\"))","v":0},{"$f":"SUMPRODUCT((Teams1=U40)*(Teams1_Score<Teams2_Score))+SUMPRODUCT((Teams2=U40)*(Teams2_Score<Teams1_Score))","v":1},{"$f":"SUMPRODUCT((Teams1=U40)*(Teams1_Score))+SUMPRODUCT((Teams2=U40)*(Teams2_Score))","v":7},{"$f":"SUMPRODUCT((Teams1=U40)*(Teams2_Score))+SUMPRODUCT((Teams2=U40)*(Teams1_Score))","v":5},{"$f":"Z40-AA40","v":2},{"$f":"3*W40+X40","v":6},null,null,"2018-07-06","C",{"$f":"+IF(AJ49<>\"\",IF(AI49>AO49,AH49,AN49),\"Vainqueur 5\")","v":"Brésil"},{"$f":"AJ40*10+AL40","v":20},2,{"$f":"IF(LEFT(AH40,5)<>\"Vainq\",COUNTIF(RESULTATS!$AG$23:$AM$26,AH40),0)","v":0},null,null,{"$f":"+IF(AJ51<>\"\",IF(AI51>AO51,AH51,AN51),\"Vainqueur 7\")","v":"Colombie"},{"$f":"AP40*10+AR40","v":0},0,{"$f":"IF(LEFT(AN40,5)<>\"Vainq\",COUNTIF(RESULTATS!$AG$23:$AM$26,AN40),0)","v":0}]
[null,{"$f":"VLOOKUP($D41,TABLEAU_MATCHS[#All],2,FALSE)","v":"2018-06-25"},{"$f":"VLOOKUP($D41,TABLEAU_MATCHS[#All],3,FALSE)","v":"16:00:00"},34,{"$f":"\"Groupe \"&VLOOKUP($I41,TABLEAU_TEAMS[[#All],[TEAM]:[GROUP_INITIAL_RANK]],2,FALSE)","v":"Groupe A"},2.4,2.95,2.75,{"$f":"VLOOKUP($D41,TABLEAU_MATCHS[#All],4,FALSE)","v":"Arabie Saoudite"},1,null,{"$f":"VLOOKUP($D41,TABLEAU_MATCHS[#All],5,FALSE)","v":"Egypte"},1,{"$f":"IF(OR(ISBLANK(RESULTATS!J41),ISBLANK(J41)),\"\",IF(AND(Kociancic!J41=RESULTATS!J41,Kociancic!M41=RESULTATS!M41),3,IF(OR(AND(Kociancic!J41>Kociancic!M41,RESULTATS!J41>RESULTATS!M41),AND(Kociancic!J41<Kociancic!M41,RESULTATS!J41<RESULTATS!M41),AND(Kociancic!J41=Kociancic!M41,RESULTATS!J41=RESULTATS!M41)),1,0)))","v":""},null,null,null,"06260Suède",6260,3,"Suède",{"$f":"SUMPRODUCT((Teams1=U41)*(Teams1_Score<>\"\"))+SUMPRODUCT((Teams2=U41)*(Teams2_Score<>\"\"))","v":3},{"$f":"SUMPRODUCT((Teams1=U41)*(Teams1_Score>Teams2_Score))+SUMPRODUCT((Teams2=U41)*(Teams2_Score>Teams1_Score))","v":2},{"$f":"SUMPRODUCT((Teams1=U41)*(Teams1_Score=Teams2_Score)*(Teams1_Score<>\"\"))+SUMPRODUCT((Teams2=U41)*(Teams2_Score=Teams1_Score)*(Teams2_Score<>\"\"))","v":0},{"$f":"SUMPRODUCT((Teams1=U41)*(Teams1_Score<Teams2_Score))+SUMPRODUCT((Teams2=U41)*(Teams2_Score<Teams1_Score))","v":1},{"$f":"SUMPRODUCT((Teams1=U41)*(Teams1_Score))+SUMPRODUCT((Teams2=U41)*(Teams2_Score))","v":6},{"$f":"SUMPRODUCT((Teams1=U41)*(Teams2_Score))+SUMPRODUCT((Teams2=U41)*(Teams1_Score))","v":4},{"$f":"Z41-AA41","v":2},{"$f":"3*W41+X41","v":6},null,null,"2018-07-07","D",{"$f":"+IF(AJ50<>\"\",IF(AI50>AO50,AH50,AN50),\"Vainqueur 6\")","v":"Allemagne"},{"$f":"AJ41*10+AL41","v":10},1,{"$f":"IF(LEFT(AH41,5)<>\"Vainq\",COUNTIF(RESULTATS!$AG$23:$AM$26,AH41),0)","v":0},null,null,{"$f":"+IF(AJ52<>\"\",IF(AI52>AO52,AH52,AN52),\"Vainqueur 8\")","v":"Japon"},{"$f":"AP41*10+AR41","v":0},0,{"$f":"IF(LEFT(AN41,5)<>\"Vainq\",COUNTIF(RESULTATS!$AG$23:$AM$26,AN41),0)","v":0}]
[null,{"$f":"VLOOKUP($D42,TABLEAU_MATCHS[#All],2,FALSE)","v":"2018-06-25"},{"$f":"VLOOKUP($D42,TABLEAU_MATCHS[#All],3,FALSE)","v":"20:00:00"},35,{"$f":"\"Groupe \"&VLOOKUP($I42,TABLEAU_TEAMS[[#All],[TEAM]:[GROUP_INITIAL_RANK]],2,FALSE)","v":"Groupe B"},13,6.5,1.1399999999999999,{"$f":"VLOOKUP($D42,TABLEAU_MATCHS[#All],4,FALSE)","v":"RI Iran"},0,null,{"$f":"VLOOKUP($D42,TABLEAU_MATCHS[#All],5,FALSE)","v":"Portugal"},4,{"$f":"IF(OR(ISBLANK(RESULTATS!J42),ISBLANK(J42)),\"\",IF(AND(Kociancic!J42=RESULTATS!J42,Kociancic!M42=RESULTATS!M42),3,IF(OR(AND(Kociancic!J42>Kociancic!M42,RESULTATS!J42>RESULTATS!M42),AND(Kociancic!J42<Kociancic!M42,RESULTATS!J42<RESULTATS!M42),AND(Kociancic!J42=Kociancic!M42,RESULTATS!J42=RESULTATS!M42)),1,0)))","v":""},null,null,null,"-00680Mexique",-680,4,"Mexique",{"$f":"SUMPRODUCT((Teams1=U42)*(Teams1_Score<>\"\"))+SUMPRODUCT((Teams2=U42)*(Teams2_Score<>\"\"))","v":3},{"$f":"SUMPRODUCT((Teams1=U42)*(Teams1_Score>Teams2_Score))+SUMPRODUCT((Teams2=U42)*(Teams2_Score>Teams1_Score))","v":0},{"$f":"SUMPRODUCT((Teams1=U42)*(Teams1_Score=Teams2_Score)*(Teams1_Score<>\"\"))+SUMPRODUCT((Teams2=U42)*(Teams2_Score=Teams1_Score)*(Teams2_Score<>\"\"))","v":0},{"$f":"SUMPRODUCT((Teams1=U42)*(Teams1_Score<Teams2_Score))+SUMPRODUCT((Teams2=U42)*(Teams2_Score<Teams1_Score))","v":3},{"$f":"SUMPRODUCT((Teams1=U42)*(Teams1_Score))+SUMPRODUCT((Teams2=U42)*(Teams2_Score))","v":2},{"$f":"SUMPRODUCT((Teams1=U42)*(Teams2_Score))+SUMPRODUCT((Teams2=U42)*(Teams1_Score))","v":9},{"$f":"Z42-AA42","v":-7},{"$f":"3*W42+X42","v":0},null,null,null,null,null,null,null,{"$f":"SUM(AK38:AK41)","v":0},null,null,null,null,null,{"$f":"SUM(AQ38:AQ41)","v":0}]
[null,{"$f":"VLOOKUP($D43,TABLEAU_MATCHS[#All],2,FALSE)","v":"2018-06-25"},{"$f":"VLOOKUP($D43,TABLEAU_MATCHS[#All],3,FALSE)","v":"20:00:00"},36,{"$f":"\"Groupe \"&VLOOKUP($I43,TABLEAU_TEAMS[[#All],[TEAM]:[GROUP_INITIAL_RANK]],2,FALSE)","v":"Groupe B"},2.25,3.1,2.95,{"$f":"VLOOKUP($D43,TABLEAU_MATCHS[#All],4,FALSE)","v":"Espagne"},4,null,{"$f":"VLOOKUP($D43,TABLEAU_MATCHS[#All],5,FALSE)","v":"Maroc"},0,{"$f":"IF(OR(ISBLANK(RESULTATS!J43),ISBLANK(J43)),\"\",IF(AND(Kociancic!J43=RESULTATS!J43,Kociancic!M43=RESULTATS!M43),3,IF(OR(AND(Kociancic!J43>Kociancic!M43,RESULTATS!J43>RESULTATS!M43),AND(Kociancic!J43<Kociancic!M43,RESULTATS!J43<RESULTATS!M43),AND(Kociancic!J43=Kociancic!M43,RESULTATS!J43=RESULTATS!M43)),1,0)))","v":""},null,null,null,null,null,null,null,null,null,null,null,null,null,null,null,null,null,"Date","Huitième de Finale",null,null,"Buts",null,"Pen",null,null,null,"Buts",null,"Pen"]
[null,{"$f":"VLOOKUP($D44,TABLEAU_MATCHS[#All],2,FALSE)","v":"2018-06-26"},{"$f":"VLOOKUP($D44,TABLEAU_MATCHS[#All],3,FALSE)","v":"16:00:00"},37,{"$f":"\"Groupe \"&VLOOKUP($I44,TABLEAU_TEAMS[[#All],[TEAM]:[GROUP_INITIAL_RANK]],2,FALSE)","v":"Groupe C"},4.3,3.25,1.76,{"$f":"VLOOKUP($D44,TABLEAU_MATCHS[#All],4,FALSE)","v":"Danemark"},1,null,{"$f":"VLOOKUP($D44,TABLEAU_MATCHS[#All],5,FALSE)","v":"France"},2,{"$f":"IF(OR(ISBLANK(RESULTATS!J44),ISBLANK(J44)),\"\",IF(AND(Kociancic!J44=RESULTATS!J44,Kociancic!M44=RESULTATS!M44),3,IF(OR(AND(Kociancic!J44>Kociancic!M44,RESULTATS!J44>RESULTATS!M44),AND(Kociancic!J44<Kociancic!M44,RESULTATS!J44<RESULTATS!M44),AND(Kociancic!J44=Kociancic!M44,RESULTATS!J44=RESULTATS!M44)),1,0)))","v":""},null,null,null,null,null,"Rg","Groupe G","MJ","G","N","P","BP","BC","+/-","Pts"]
[null,{"$f":"VLOOKUP($D45,TABLEAU_MATCHS[#All],2,FALSE)","v":"2018-06-26"},{"$f":"VLOOKUP($D45,TABLEAU_MATCHS[#All],3,FALSE)","v":"16:00:00"},38,{"$f":"\"Groupe \"&VLOOKUP($I45,TABLEAU_TEAMS[[#All],[TEAM]:[GROUP_INITIAL_RANK]],2,FALSE)","v":"Groupe C"},3.05,3,2.25,{"$f":"VLOOKUP($D45,TABLEAU_MATCHS[#All],4,FALSE)","v":"Australie"},1,null,{"$f":"VLOOKUP($D45,TABLEAU_MATCHS[#All],5,FALSE)","v":"Pérou"},1,{"$f":"IF(OR(ISBLANK(RESULTATS!J45),ISBLANK(J45)),\"\",IF(AND(Kociancic!J45=RESULTATS!J45,Kociancic!M45=RESULTATS!M45),3,IF(OR(AND(Kociancic!J45>Kociancic!M45,RESULTATS!J45>RESULTATS!M45),AND(Kociancic!J45<Kociancic!M45,RESULTATS!J45<RESULTATS!M45),AND(Kociancic!J45=Kociancic!M45,RESULTATS!J45=RESULTATS!M45)),1,0)))","v":""},null,null,null,{"$f":"INDEX($R96:$R99,MATCH(SMALL(COUNTIF($R96:$R99,\">=\"&$R96:$R99),ROW(INDIRECT(\"1:\"&ROWS($R96:$R99)))),COUNTIF($R96:$R99,\">=\"&$R96:$R99),0))","v":"05140Belgique"},{"$f":"INDEX($S96:$S99,MATCH(SMALL(COUNTIF($R96:$R99,\">=\"&$R96:$R99),ROW(INDIRECT(\"1:\"&ROWS($R96:$R99)))),COUNTIF($R96:$R99,\">=\"&$R96:$R99),0))","v":5140},{"$f":"INDEX($T96:$T99,MATCH(SMALL(COUNTIF($R96:$R99,\">=\"&$R96:$R99),ROW(INDIRECT(\"1:\"&ROWS($R96:$R99)))),COUNTIF($R96:$R99,\">=\"&$R96:$R99),0))","v":1},{"$f":"INDEX($U96:$U99,MATCH(SMALL(COUNTIF($R96:$R99,\">=\"&$R96:$R99),ROW(INDIRECT(\"1:\"&ROWS($R96:$R99)))),COUNTIF($R96:$R99,\">=\"&$R96:$R99),0))","v":"Belgique"},{"$f":"SUMPRODUCT((Teams1=U45)*(Teams1_Score<>\"\"))+SUMPRODUCT((Teams2=U45)*(Teams2_Score<>\"\"))","v":3},{"$f":"SUMPRODUCT((Teams1=U45)*(Teams1_Score>Teams2_Score))+SUMPRODUCT((Teams2=U45)*(Teams2_Score>Teams1_Score))","v":1},{"$f":"SUMPRODUCT((Teams1=U45)*(Teams1_Score=Teams2_Score)*(Teams1_Score<>\"\"))+SUMPRODUCT((Teams2=U45)*(Teams2_Score=Teams1_Score)*(Teams2_Score<>\"\"))","v":2},{"$f":"SUMPRODUCT((Teams1=U45)*(Teams1_Score<Teams2_Score))+SUMPRODUCT((Teams2=U45)*(Teams2_Score<Teams1_Score))","v":0},{"$f":"SUMPRODUCT((Teams1=U45)*(Teams1_Score))+SUMPRODUCT((Teams2=U45)*(Teams2_Score))","v":4},{"$f":"SUMPRODUCT((Teams1=U45)*(Teams2_Score))+SUMPRODUCT((Teams2=U45)*(Teams1_Score))","v":3},{"$f":"Z45-AA45","v":1},{"$f":"3*W45+X45","v":5},null,null,"2018-06-30",1,{"$f":"IF(SUM(V9:V12)=0,\"1er Groupe A\",IF(COUNTIF(T9:T12,1)=1,VLOOKUP(1,T9:U12,2,FALSE),IF(COUNTIF(T9:T12,1)>=2,\"Tirage au Sort A1\")))","v":"Russie"},{"$f":"AJ45*10+AL45","v":35},3,{"$f":"IF(AND(LEFT(AH45,3)<>\"1er\",LEFT(AH45,3)<>\"2nd\"),COUNTIF(RESULTATS!$AG$30:$AM$37,AH45),0)","v":1},5,null,{"$f":"IF(SUM(V15:V18)=0,\"2nd Groupe B\",IF(OR(COUNTIF(T15:T18,1)>1,COUNTIF(T15:T18,2)>1),\"Tirage au sort B2\",VLOOKUP(2,T15:U18,2,FALSE)))","v":"Portugal"},{"$f":"AP45*10+AR45","v":33},3,{"$f":"IF(AND(LEFT(AN45,3)<>\"1er\",LEFT(AN45,3)<>\"2nd\"),COUNTIF(RESULTATS!$AG$30:$AM$37,AN45),0)","v":0},3]
[null,{"$f":"VLOOKUP($D46,TABLEAU_MATCHS[#All],2,FALSE)","v":"2018-06-26"},{"$f":"VLOOKUP($D46,TABLEAU_MATCHS[#All],3,FALSE)","v":"20:00:00"},39,{"$f":"\"Groupe \"&VLOOKUP($I46,TABLEAU_TEAMS[[#All],[TEAM]:[GROUP_INITIAL_RANK]],2,FALSE)","v":"Groupe D"},2.4,2.9,2.85,{"$f":"VLOOKUP($D46,TABLEAU_MATCHS[#All],4,FALSE)","v":"Nigeria"},0,null,{"$f":"VLOOKUP($D46,TABLEAU_MATCHS[#All],5,FALSE)","v":"Argentine"},3,{"$f":"IF(OR(ISBLANK(RESULTATS!J46),ISBLANK(J46)),\"\",IF(AND(Kociancic!J46=RESULTATS!J46,Kociancic!M46=RESULTATS!M46),3,IF(OR(AND(Kociancic!J46>Kociancic!M46,RESULTATS!J46>RESULTATS!M46),AND(Kociancic!J46<Kociancic!M46,RESULTATS!J46<RESULTATS!M46),AND(Kociancic!J46=Kociancic!M46,RESULTATS!J46=RESULTATS!M46)),1,0)))","v":""},null,null,null,"04130Tunisie",4130,2,"Tunisie",{"$f":"SUMPRODUCT((Teams1=U46)*(Teams1_Score<>\"\"))+SUMPRODUCT((Teams2=U46)*(Teams2_Score<>\"\"))","v":3},{"$f":"SUMPRODUCT((Teams1=U46)*(Teams1_Score>Teams2_Score))+SUMPRODUCT((Teams2=U46)*(Teams2_Score>Teams1_Score))","v":1},{"$f":"SUMPRODUCT((Teams1=U46)*(Teams1_Score=Teams2_Score)*(Teams1_Score<>\"\"))+SUMPRODUCT((Teams2=U46)*(Teams2_Score=Teams1_Score)*(Teams2_Score<>\"\"))","v":1},{"$f":"SUMPRODUCT((Teams1=U46)*(Teams1_Score<Teams2_Score))+SUMPRODUCT((Teams2=U46)*(Teams2_Score<Teams1_Score))","v":1},{"$f":"SUMPRODUCT((Teams1=U46)*(Teams1_Score))+SUMPRODUCT((Teams2=U46)*(Teams2_Score))","v":3},{"$f":"SUMPRODUCT((Teams1=U46)*(Teams2_Score))+SUMPRODUCT((Teams2=U46)*(Teams1_Score))","v":2},{"$f":"Z46-AA46","v":1},{"$f":"3*W46+X46","v":4},null,null,"2018-07-01",2,{"$f":"IF(SUM(V15:V18)=0,\"1er Groupe B\",IF(COUNTIF(T15:T18,1)=1,VLOOKUP(1,T15:U18,2,FALSE),IF(COUNTIF(T15:T18,1)>=2,\"Tirage au Sort B1\")))","v":"Espagne"},{"$f":"AJ46*10+AL46","v":20},2,{"$f":"IF(AND(LEFT(AH46,3)<>\"1er\",LEFT(AH46,3)<>\"2nd\"),COUNTIF(RESULTATS!$AG$30:$AM$37,AH46),0)","v":0},null,null,{"$f":"IF(SUM(V9:V12)=0,\"2nd Groupe A\",IF(OR(COUNTIF(T9:T12,1)>1,COUNTIF(T9:T12,2)>1),\"Tirage au sort A2\",VLOOKUP(2,T9:U12,2,FALSE)))","v":"Uruguay"},0,0,{"$f":"IF(AND(LEFT(AN46,3)<>\"1er\",LEFT(AN46,3)<>\"2nd\"),COUNTIF(RESULTATS!$AG$30:$AM$37,AN46),0)","v":1}]
[null,{"$f":"VLOOKUP($D47,TABLEAU_MATCHS[#All],2,FALSE)","v":"2018-06-26"},{"$f":"VLOOKUP($D47,TABLEAU_MATCHS[#All],3,FALSE)","v":"20:00:00"},40,{"$f":"\"Groupe \"&VLOOKUP($I47,TABLEAU_TEAMS[[#All],[TEAM]:[GROUP_INITIAL_RANK]],2,FALSE)","v":"Groupe D"},6.5,3.7,1.44,{"$f":"VLOOKUP($D47,TABLEAU_MATCHS[#All],4,FALSE)","v":"Islande"},3,null,{"$f":"VLOOKUP($D47,TABLEAU_MATCHS[#All],5,FALSE)","v":"Croatie"},0,{"$f":"IF(OR(ISBLANK(RESULTATS!J47),ISBLANK(J47)),\"\",IF(AND(Kociancic!J47=RESULTATS!J47,Kociancic!M47=RESULTATS!M47),3,IF(OR(AND(Kociancic!J47>Kociancic!M47,RESULTATS!J47>RESULTATS!M47),AND(Kociancic!J47<Kociancic!M47,RESULTATS!J47<RESULTATS!M47),AND(Kociancic!J47=Kociancic!M47,RESULTATS!J47=RESULTATS!M47)),1,0)))","v":""},null,null,null,"03020Angleterre",3020,3,"Angleterre",{"$f":"SUMPRODUCT((Teams1=U47)*(Teams1_Score<>\"\"))+SUMPRODUCT((Teams2=U47)*(Teams2_Score<>\"\"))","v":3},{"$f":"SUMPRODUCT((Teams1=U47)*(Teams1_Score>Teams2_Score))+SUMPRODUCT((Teams2=U47)*(Teams2_Score>Teams1_Score))","v":0},{"$f":"SUMPRODUCT((Teams1=U47)*(Teams1_Score=Teams2_Score)*(Teams1_Score<>\"\"))+SUMPRODUCT((Teams2=U47)*(Teams2_Score=Teams1_Score)*(Teams2_Score<>\"\"))","v":3},{"$f":"SUMPRODUCT((Teams1=U47)*(Teams1_Score<Teams2_Score))+SUMPRODUCT((Teams2=U47)*(Teams2_Score<Teams1_Score))","v":0},{"$f":"SUMPRODUCT((Teams1=U47)*(Teams1_Score))+SUMPRODUCT((Teams2=U47)*(Teams2_Score))","v":2},{"$f":"SUMPRODUCT((Teams1=U47)*(Teams2_Score))+SUMPRODUCT((Teams2=U47)*(Teams1_Score))","v":2},{"$f":"Z47-AA47","v":0},{"$f":"3*W47+X47","v":3},null,null,"2017-06-30",3,{"$f":"IF(SUM(V21:V24)=0,\"1er Groupe C\",IF(COUNTIF(T21:T24,1)=1,VLOOKUP(1,T21:U24,2,FALSE),IF(COUNTIF(T21:T24,1)>=2,\"Tirage au Sort C1\")))","v":"France"},10,1,{"$f":"IF(AND(LEFT(AH47,3)<>\"1er\",LEFT(AH47,3)<>\"2nd\"),COUNTIF(RESULTATS!$AG$30:$AM$37,AH47),0)","v":0},null,null,{"$f":"IF(SUM(V27:V30)=0,\"2nd Groupe D\",IF(OR(COUNTIF(T27:T30,1)>1,COUNTIF(T27:T30,2)>1),\"Tirage au sort D2\",VLOOKUP(2,T27:U30,2,FALSE)))","v":"Islande"},0,0,{"$f":"IF(AND(LEFT(AN47,3)<>\"1er\",LEFT(AN47,3)<>\"2nd\"),COUNTIF(RESULTATS!$AG$30:$AM$37,AN47),0)","v":0}]
[null,{"$f":"VLOOKUP($D48,TABLEAU_MATCHS[#All],2,FALSE)","v":"2018-06-27"},{"$f":"VLOOKUP($D48,TABLEAU_MATCHS[#All],3,FALSE)","v":"20:00:00"},41,{"$f":"\"Groupe \"&VLOOKUP($I48,TABLEAU_TEAMS[[#All],[TEAM]:[GROUP_INITIAL_RANK]],2,FALSE)","v":"Groupe E"},6.5,3.5,1.48,{"$f":"VLOOKUP($D48,TABLEAU_MATCHS[#All],4,FALSE)","v":"Serbie"},0,null,{"$f":"VLOOKUP($D48,TABLEAU_MATCHS[#All],5,FALSE)","v":"Brésil"},0,{"$f":"IF(OR(ISBLANK(RESULTATS!J48),ISBLANK(J48)),\"\",IF(AND(Kociancic!J48=RESULTATS!J48,Kociancic!M48=RESULTATS!M48),3,IF(OR(AND(Kociancic!J48>Kociancic!M48,RESULTATS!J48>RESULTATS!M48),AND(Kociancic!J48<Kociancic!M48,RESULTATS!J48<RESULTATS!M48),AND(Kociancic!J48=Kociancic!M48,RESULTATS!J48=RESULTATS!M48)),1,0)))","v":""},null,null,null,"01820Panama",1820,4,"Panama",{"$f":"SUMPRODUCT((Teams1=U48)*(Teams1_Score<>\"\"))+SUMPRODUCT((Teams2=U48)*(Teams2_Score<>\"\"))","v":3},{"$f":"SUMPRODUCT((Teams1=U48)*(Teams1_Score>Teams2_Score))+SUMPRODUCT((Teams2=U48)*(Teams2_Score>Teams1_Score))","v":0},{"$f":"SUMPRODUCT((Teams1=U48)*(Teams1_Score=Teams2_Score)*(Teams1_Score<>\"\"))+SUMPRODUCT((Teams2=U48)*(Teams2_Score=Teams1_Score)*(Teams2_Score<>\"\"))","v":2},{"$f":"SUMPRODUCT((Teams1=U48)*(Teams1_Score<Teams2_Score))+SUMPRODUCT((Teams2=U48)*(Teams2_Score<Teams1_Score))","v":1},{"$f":"SUMPRODUCT((Teams1=U48)*(Teams1_Score))+SUMPRODUCT((Teams2=U48)*(Teams2_Score))","v":2},{"$f":"SUMPRODUCT((Teams1=U48)*(Teams2_Score))+SUMPRODUCT((Teams2=U48)*(Teams1_Score))","v":4},{"$f":"Z48-AA48","v":-2},{"$f":"3*W48+X48","v":2},null,null,"2018-07-01",4,{"$f":"IF(SUM(V27:V30)=0,\"1er Groupe D\",IF(COUNTIF(T27:T30,1)=1,VLOOKUP(1,T27:U30,2,FALSE),IF(COUNTIF(T27:T30,1)>=2,\"Tirage au Sort D1\")))","v":"Argentine"},20,2,{"$f":"IF(AND(LEFT(AH48,3)<>\"1er\",LEFT(AH48,3)<>\"2nd\"),COUNTIF(RESULTATS!$AG$30:$AM$37,AH48),0)","v":0},null,null,{"$f":"IF(SUM(V21:V24)=0,\"2nd Groupe C\",IF(OR(COUNTIF(T21:T24,1)>1,COUNTIF(T21:T24,2)>1),\"Tirage au sort C2\",VLOOKUP(2,T21:U24,2,FALSE)))","v":"Danemark"},0,0,{"$f":"IF(AND(LEFT(AN48,3)<>\"1er\",LEFT(AN48,3)<>\"2nd\"),COUNTIF(RESULTATS!$AG$30:$AM$37,AN48),0)","v":0}]
[null,{"$f":"VLOOKUP($D49,TABLEAU_MATCHS[#All],2,FALSE)","v":"2018-06-27"},{"$f":"VLOOKUP($D49,TABLEAU_MATCHS[#All],3,FALSE)","v":"20:00:00"},42,{"$f":"\"Groupe \"&VLOOKUP($I49,TABLEAU_TEAMS[[#All],[TEAM]:[GROUP_INITIAL_RANK]],2,FALSE)","v":"Groupe E"},4,3.05,1.9,{"$f":"VLOOKUP($D49,TABLEAU_MATCHS[#All],4,FALSE)","v":"Suisse"},2,null,{"$f":"VLOOKUP($D49,TABLEAU_MATCHS[#All],5,FALSE)","v":"Costa Rica"},0,{"$f":"IF(OR(ISBLANK(RESULTATS!J49),ISBLANK(J49)),\"\",IF(AND(Kociancic!J49=RESULTATS!J49,Kociancic!M49=RESULTATS!M49),3,IF(OR(AND(Kociancic!J49>Kociancic!M49,RESULTATS!J49>RESULTATS!M49),AND(Kociancic!J49<Kociancic!M49,RESULTATS!J49<RESULTATS!M49),AND(Kociancic!J49=Kociancic!M49,RESULTATS!J49=RESULTATS!M49)),1,0)))","v":""},null,null,null,null,null,null,null,null,null,null,null,null,null,null,null,null,null,"2018-07-02",5,{"$f":"IF(SUM(V33:V36)=0,\"1er Groupe E\",IF(COUNTIF(T33:T36,1)=1,VLOOKUP(1,T33:U36,2,FALSE),IF(COUNTIF(T33:T36,1)>=2,\"Tirage au Sort E1\")))","v":"Brésil"},40,4,{"$f":"IF(AND(LEFT(AH49,3)<>\"1er\",LEFT(AH49,3)<>\"2nd\"),COUNTIF(RESULTATS!$AG$30:$AM$37,AH49),0)","v":0},null,null,{"$f":"IF(SUM(V39:V42)=0,\"2nd Groupe F\",IF(OR(COUNTIF(T39:T42,1)>1,COUNTIF(T39:T42,2)>1),\"Tirage au sort F2\",VLOOKUP(2,T39:U42,2,FALSE)))","v":"République de Corée"},10,1,{"$f":"IF(AND(LEFT(AN49,3)<>\"1er\",LEFT(AN49,3)<>\"2nd\"),COUNTIF(RESULTATS!$AG$30:$AM$37,AN49),0)","v":0}]
[null,{"$f":"VLOOKUP($D50,TABLEAU_MATCHS[#All],2,FALSE)","v":"2018-06-27"},{"$f":"VLOOKUP($D50,TABLEAU_MATCHS[#All],3,FALSE)","v":"16:00:00"},43,{"$f":"\"Groupe \"&VLOOKUP($I50,TABLEAU_TEAMS[[#All],[TEAM]:[GROUP_INITIAL_RANK]],2,FALSE)","v":"Groupe F"},8.5,4.3,1.3,{"$f":"VLOOKUP($D50,TABLEAU_MATCHS[#All],4,FALSE)","v":"Mexique"},0,null,{"$f":"VLOOKUP($D50,TABLEAU_MATCHS[#All],5,FALSE)","v":"Suède"},2,{"$f":"IF(OR(ISBLANK(RESULTATS!J50),ISBLANK(J50)),\"\",IF(AND(Kociancic!J50=RESULTATS!J50,Kociancic!M50=RESULTATS!M50),3,IF(OR(AND(Kociancic!J50>Kociancic!M50,RESULTATS!J50>RESULTATS!M50),AND(Kociancic!J50<Kociancic!M50,RESULTATS!J50<RESULTATS!M50),AND(Kociancic!J50=Kociancic!M50,RESULTATS!J50=RESULTATS!M50)),1,0)))","v":""},null,null,null,null,null,"Rg","Groupe H","MJ","G","N","P","BP","BC","+/-","Pts",null,null,"2018-07-03",6,{"$f":"IF(SUM(V39:V42)=0,\"1er Groupe F\",IF(COUNTIF(T39:T42,1)=1,VLOOKUP(1,T39:U42,2,FALSE),IF(COUNTIF(T39:T42,1)>=2,\"Tirage au Sort F1\")))","v":"Allemagne"},10,1,{"$f":"IF(AND(LEFT(AH50,3)<>\"1er\",LEFT(AH50,3)<>\"2nd\"),COUNTIF(RESULTATS!$AG$30:$AM$37,AH50),0)","v":0},null,null,{"$f":"IF(SUM(V33:V36)=0,\"2nd Groupe E\",IF(OR(COUNTIF(T33:T36,1)>1,COUNTIF(T33:T36,2)>1),\"Tirage au sort E2\",VLOOKUP(2,T33:U36,2,FALSE)))","v":"Serbie"},0,0,{"$f":"IF(AND(LEFT(AN50,3)<>\"1er\",LEFT(AN50,3)<>\"2nd\"),COUNTIF(RESULTATS!$AG$30:$AM$37,AN50),0)","v":0}]
[null,{"$f":"VLOOKUP($D51,TABLEAU_MATCHS[#All],2,FALSE)","v":"2018-06-27"},{"$f":"VLOOKUP($D51,TABLEAU_MATCHS[#All],3,FALSE)","v":"16:00:00"},44,{"$f":"\"Groupe \"&VLOOKUP($I51,TABLEAU_TEAMS[[#All],[TEAM]:[GROUP_INITIAL_RANK]],2,FALSE)","v":"Groupe F"},1.48,3.6,6.25,{"$f":"VLOOKUP($D51,TABLEAU_MATCHS[#All],4,FALSE)","v":"République de Corée"},1,null,{"$f":"VLOOKUP($D51,TABLEAU_MATCHS[#All],5,FALSE)","v":"Allemagne"},3,{"$f":"IF(OR(ISBLANK(RESULTATS!J51),ISBLANK(J51)),\"\",IF(AND(Kociancic!J51=RESULTATS!J51,Kociancic!M51=RESULTATS!M51),3,IF(OR(AND(Kociancic!J51>Kociancic!M51,RESULTATS!J51>RESULTATS!M51),AND(Kociancic!J51<Kociancic!M51,RESULTATS!J51<RESULTATS!M51),AND(Kociancic!J51=Kociancic!M51,RESULTATS!J51=RESULTATS!M51)),1,0)))","v":""},null,null,null,{"$f":"INDEX($R102:$R105,MATCH(SMALL(COUNTIF($R102:$R105,\">=\"&$R102:$R105),ROW(INDIRECT(\"1:\"&ROWS($R102:$R105)))),COUNTIF($R102:$R105,\">=\"&$R102:$R105),0))","v":"06470Japon"},{"$f":"INDEX($S102:$S105,MATCH(SMALL(COUNTIF($R102:$R105,\">=\"&$R102:$R105),ROW(INDIRECT(\"1:\"&ROWS($R102:$R105)))),COUNTIF($R102:$R105,\">=\"&$R102:$R105),0))","v":6470},{"$f":"INDEX($T102:$T105,MATCH(SMALL(COUNTIF($R102:$R105,\">=\"&$R102:$R105),ROW(INDIRECT(\"1:\"&ROWS($R102:$R105)))),COUNTIF($R102:$R105,\">=\"&$R102:$R105),0))","v":1},{"$f":"INDEX($U102:$U105,MATCH(SMALL(COUNTIF($R102:$R105,\">=\"&$R102:$R105),ROW(INDIRECT(\"1:\"&ROWS($R102:$R105)))),COUNTIF($R102:$R105,\">=\"&$R102:$R105),0))","v":"Japon"},{"$f":"SUMPRODUCT((Teams1=U51)*(Teams1_Score<>\"\"))+SUMPRODUCT((Teams2=U51)*(Teams2_Score<>\"\"))","v":3},{"$f":"SUMPRODUCT((Teams1=U51)*(Teams1_Score>Teams2_Score))+SUMPRODUCT((Teams2=U51)*(Teams2_Score>Teams1_Score))","v":2},{"$f":"SUMPRODUCT((Teams1=U51)*(Teams1_Score=Teams2_Score)*(Teams1_Score<>\"\"))+SUMPRODUCT((Teams2=U51)*(Teams2_Score=Teams1_Score)*(Teams2_Score<>\"\"))","v":0},{"$f":"SUMPRODUCT((Teams1=U51)*(Teams1_Score<Teams2_Score))+SUMPRODUCT((Teams2=U51)*(Teams2_Score<Teams1_Score))","v":1},{"$f":"SUMPRODUCT((Teams1=U51)*(Teams1_Score))+SUMPRODUCT((Teams2=U51)*(Teams2_Score))","v":7},{"$f":"SUMPRODUCT((Teams1=U51)*(Teams2_Score))+SUMPRODUCT((Teams2=U51)*(Teams1_Score))","v":3},{"$f":"Z51-AA51","v":4},{"$f":"3*W51+X51","v":6},null,null,"2018-07-02",7,{"$f":"IF(SUM(V45:V48)=0,\"1er Groupe G\",IF(COUNTIF(T45:T48,1)=1,VLOOKUP(1,T45:U48,2,FALSE),IF(COUNTIF(T45:T48,1)>=2,\"Tirage au Sort G1\")))","v":"Belgique"},0,0,{"$f":"IF(AND(LEFT(AH51,3)<>\"1er\",LEFT(AH51,3)<>\"2nd\"),COUNTIF(RESULTATS!$AG$30:$AM$37,AH51),0)","v":0},null,null,{"$f":"IF(SUM(V51:V54)=0,\"2nd Groupe H\",IF(OR(COUNTIF(T51:T54,1)>1,COUNTIF(T51:T54,2)>1),\"Tirage au sort H2\",VLOOKUP(2,T51:U54,2,FALSE)))","v":"Colombie"},20,2,{"$f":"IF(AND(LEFT(AN51,3)<>\"1er\",LEFT(AN51,3)<>\"2nd\"),COUNTIF(RESULTATS!$AG$30:$AM$37,AN51),0)","v":0}]
[null,{"$f":"VLOOKUP($D52,TABLEAU_MATCHS[#All],2,FALSE)","v":"2018-06-28"},{"$f":"VLOOKUP($D52,TABLEAU_MATCHS[#All],3,FALSE)","v":"20:00:00"},45,{"$f":"\"Groupe \"&VLOOKUP($I52,TABLEAU_TEAMS[[#All],[TEAM]:[GROUP_INITIAL_RANK]],2,FALSE)","v":"Groupe G"},8,4.2,1.32,{"$f":"VLOOKUP($D52,TABLEAU_MATCHS[#All],4,FALSE)","v":"Panama"},0,null,{"$f":"VLOOKUP($D52,TABLEAU_MATCHS[#All],5,FALSE)","v":"Tunisie"},2,{"$f":"IF(OR(ISBLANK(RESULTATS!J52),ISBLANK(J52)),\"\",IF(AND(Kociancic!J52=RESULTATS!J52,Kociancic!M52=RESULTATS!M52),3,IF(OR(AND(Kociancic!J52>Kociancic!M52,RESULTATS!J52>RESULTATS!M52),AND(Kociancic!J52<Kociancic!M52,RESULTATS!J52<RESULTATS!M52),AND(Kociancic!J52=Kociancic!M52,RESULTATS!J52=RESULTATS!M52)),1,0)))","v":""},null,null,null,"05260Colombie",5260,2,"Colombie",{"$f":"SUMPRODUCT((Teams1=U52)*(Teams1_Score<>\"\"))+SUMPRODUCT((Teams2=U52)*(Teams2_Score<>\"\"))","v":3},{"$f":"SUMPRODUCT((Teams1=U52)*(Teams1_Score>Teams2_Score))+SUMPRODUCT((Teams2=U52)*(Teams2_Score>Teams1_Score))","v":1},{"$f":"SUMPRODUCT((Teams1=U52)*(Teams1_Score=Teams2_Score)*(Teams1_Score<>\"\"))+SUMPRODUCT((Teams2=U52)*(Teams2_Score=Teams1_Score)*(Teams2_Score<>\"\"))","v":2},{"$f":"SUMPRODUCT((Teams1=U52)*(Teams1_Score<Teams2_Score))+SUMPRODUCT((Teams2=U52)*(Teams2_Score<Teams1_Score))","v":0},{"$f":"SUMPRODUCT((Teams1=U52)*(Teams1_Score))+SUMPRODUCT((Teams2=U52)*(Teams2_Score))","v":6},{"$f":"SUMPRODUCT((Teams1=U52)*(Teams2_Score))+SUMPRODUCT((Teams2=U52)*(Teams1_Score))","v":4},{"$f":"Z52-AA52","v":2},{"$f":"3*W52+X52","v":5},null,null,"2018-07-03",8,{"$f":"IF(SUM(V51:V54)=0,\"1er Groupe H\",IF(COUNTIF(T51:T54,1)=1,VLOOKUP(1,T51:U54,2,FALSE),IF(COUNTIF(T51:T54,1)>=2,\"Tirage au Sort H1\")))","v":"Japon"},10,1,{"$f":"IF(AND(LEFT(AH52,3)<>\"1er\",LEFT(AH52,3)<>\"2nd\"),COUNTIF(RESULTATS!$AG$30:$AM$37,AH52),0)","v":0},null,null,{"$f":"IF(SUM(V45:V48)=0,\"2nd Groupe G\",IF(OR(COUNTIF(T45:T48,1)>1,COUNTIF(T45:T48,2)>1),\"Tirage au sort G2\",VLOOKUP(2,T45:U48,2,FALSE)))","v":"Tunisie"},0,0,{"$f":"IF(AND(LEFT(AN52,3)<>\"1er\",LEFT(AN52,3)<>\"2nd\"),COUNTIF(RESULTATS!$AG$30:$AM$37,AN52),0)","v":0}]
[null,{"$f":"VLOOKUP($D53,TABLEAU_MATCHS[#All],2,FALSE)","v":"2018-06-28"},{"$f":"VLOOKUP($D53,TABLEAU_MATCHS[#All],3,FALSE)","v":"20:00:00"},46,{"$f":"\"Groupe \"&VLOOKUP($I53,TABLEAU_TEAMS[[#All],[TEAM]:[GROUP_INITIAL_RANK]],2,FALSE)","v":"Groupe G"},1.74,3.2,4.0999999999999996,{"$f":"VLOOKUP($D53,TABLEAU_MATCHS[#All],4,FALSE)","v":"Angleterre"},1,null,{"$f":"VLOOKUP($D53,TABLEAU_MATCHS[#All],5,FALSE)","v":"Belgique"},1,{"$f":"IF(OR(ISBLANK(RESULTATS!J53),ISBLANK(J53)),\"\",IF(AND(Kociancic!J53=RESULTATS!J53,Kociancic!M53=RESULTATS!M53),3,IF(OR(AND(Kociancic!J53>Kociancic!M53,RESULTATS!J53>RESULTATS!M53),AND(Kociancic!J53<Kociancic!M53,RESULTATS!J53<RESULTATS!M53),AND(Kociancic!J53=Kociancic!M53,RESULTATS!J53=RESULTATS!M53)),1,0)))","v":""},null,null,null,"01840Sénégal",1840,3,"Sénégal",{"$f":"SUMPRODUCT((Teams1=U53)*(Teams1_Score<>\"\"))+SUMPRODUCT((Teams2=U53)*(Teams2_Score<>\"\"))","v":3},{"$f":"SUMPRODUCT((Teams1=U53)*(Teams1_Score>Teams2_Score))+SUMPRODUCT((Teams2=U53)*(Teams2_Score>Teams1_Score))","v":0},{"$f":"SUMPRODUCT((Teams1=U53)*(Teams1_Score=Teams2_Score)*(Teams1_Score<>\"\"))+SUMPRODUCT((Teams2=U53)*(Teams2_Score=Teams1_Score)*(Teams2_Score<>\"\"))","v":2},{"$f":"SUMPRODUCT((Teams1=U53)*(Teams1_Score<Teams2_Score))+SUMPRODUCT((Teams2=U53)*(Teams2_Score<Teams1_Score))","v":1},{"$f":"SUMPRODUCT((Teams1=U53)*(Teams1_Score))+SUMPRODUCT((Teams2=U53)*(Teams2_Score))","v":4},{"$f":"SUMPRODUCT((Teams1=U53)*(Teams2_Score))+SUMPRODUCT((Teams2=U53)*(Teams1_Score))","v":6},{"$f":"Z53-AA53","v":-2},{"$f":"3*W53+X53","v":2},null,null,null,null,null,null,null,{"$f":"SUM(AK45:AK52)","v":1},null,null,null,0,null,{"$f":"SUM(AQ45:AQ52)","v":1}]
[null,{"$f":"VLOOKUP($D54,TABLEAU_MATCHS[#All],2,FALSE)","v":"2018-06-28"},{"$f":"VLOOKUP($D54,TABLEAU_MATCHS[#All],3,FALSE)","v":"16:00:00"},47,{"$f":"\"Groupe \"&VLOOKUP($I54,TABLEAU_TEAMS[[#All],[TEAM]:[GROUP_INITIAL_RANK]],2,FALSE)","v":"Groupe H"},4.9000000000000004,3.25,1.62,{"$f":"VLOOKUP($D54,TABLEAU_MATCHS[#All],4,FALSE)","v":"Japon"},4,null,{"$f":"VLOOKUP($D54,TABLEAU_MATCHS[#All],5,FALSE)","v":"Pologne"},0,{"$f":"IF(OR(ISBLANK(RESULTATS!J54),ISBLANK(J54)),\"\",IF(AND(Kociancic!J54=RESULTATS!J54,Kociancic!M54=RESULTATS!M54),3,IF(OR(AND(Kociancic!J54>Kociancic!M54,RESULTATS!J54>RESULTATS!M54),AND(Kociancic!J54<Kociancic!M54,RESULTATS!J54<RESULTATS!M54),AND(Kociancic!J54=Kociancic!M54,RESULTATS!J54=RESULTATS!M54)),1,0)))","v":""},null,null,null,"01630Pologne",1630,4,"Pologne",{"$f":"SUMPRODUCT((Teams1=U54)*(Teams1_Score<>\"\"))+SUMPRODUCT((Teams2=U54)*(Teams2_Score<>\"\"))","v":3},{"$f":"SUMPRODUCT((Teams1=U54)*(Teams1_Score>Teams2_Score))+SUMPRODUCT((Teams2=U54)*(Teams2_Score>Teams1_Score))","v":0},{"$f":"SUMPRODUCT((Teams1=U54)*(Teams1_Score=Teams2_Score)*(Teams1_Score<>\"\"))+SUMPRODUCT((Teams2=U54)*(Teams2_Score=Teams1_Score)*(Teams2_Score<>\"\"))","v":2},{"$f":"SUMPRODUCT((Teams1=U54)*(Teams1_Score<Teams2_Score))+SUMPRODUCT((Teams2=U54)*(Teams2_Score<Teams1_Score))","v":1},{"$f":"SUMPRODUCT((Teams1=U54)*(Teams1_Score))+SUMPRODUCT((Teams2=U54)*(Teams2_Score))","v":3},{"$f":"SUMPRODUCT((Teams1=U54)*(Teams2_Score))+SUMPRODUCT((Teams2=U54)*(Teams1_Score))","v":7},{"$f":"Z54-AA54","v":-4},{"$f":"3*W54+X54","v":2}]
[null,{"$f":"VLOOKUP($D55,TABLEAU_MATCHS[#All],2,FALSE)","v":"2018-06-28"},{"$f":"VLOOKUP($D55,TABLEAU_MATCHS[#All],3,FALSE)","v":"16:00:00"},48,{"$f":"\"Groupe \"&VLOOKUP($I55,TABLEAU_TEAMS[[#All],[TEAM]:[GROUP_INITIAL_RANK]],2,FALSE)","v":"Groupe H"},6,3.4,1.52,{"$f":"VLOOKUP($D55,TABLEAU_MATCHS[#All],4,FALSE)","v":"Sénégal"},2,null,{"$f":"VLOOKUP($D55,TABLEAU_MATCHS[#All],5,FALSE)","v":"Colombie"},2,{"$f":"IF(OR(ISBLANK(RESULTATS!J55),ISBLANK(J55)),\"\",IF(AND(Kociancic!J55=RESULTATS!J55,Kociancic!M55=RESULTATS!M55),3,IF(OR(AND(Kociancic!J55>Kociancic!M55,RESULTATS!J55>RESULTATS!M55),AND(Kociancic!J55<Kociancic!M55,RESULTATS!J55<RESULTATS!M55),AND(Kociancic!J55=Kociancic!M55,RESULTATS!J55=RESULTATS!M55)),1,0)))","v":""}]
[null,null,null,null,null,null,null,null,null,null,null,null,null,{"$f":"SUM(N8:N55)","v":3}]
[]
[]
[null,"Tirage au sort A1",null,null,null,null,null,null,null,null,null,null,null,null,null,null,null,null,null,"Rg","Groupe A","MJ","G","N","P","BP","BC","+/-","Pts"]
[null,{"$f":"IF(ROWS($1:1)<=COUNTIF($T$9:$T$12,1),INDEX($U$9:$U$12,SMALL(IF($T$9:$T$12=1,ROW(INDIRECT(\"1:\"&ROWS($T$9:$T$12)))),ROWS($1:1))),\"\")","v":"Russie"},null,null,null,null,null,null,null,null,null,null,null,null,null,null,"A_1",{"$f":"TEXT(S60,\"00000\")&U60","v":"07460Russie"},{"$f":"AC60*1000+AB60*100+Z60*10","v":7460},{"$f":"RANK(S60,$S60:$S64,0)","v":1},{"$f":"VLOOKUP(Q60,TABLEAU_TEAMS[#All],2,FALSE)","v":"Russie"},{"$f":"SUMPRODUCT((Teams1=U60)*(Teams1_Score<>\"\"))+SUMPRODUCT((Teams2=U60)*(Teams2_Score<>\"\"))","v":3},{"$f":"SUMPRODUCT((Teams1=U60)*(Teams1_Score>Teams2_Score))+SUMPRODUCT((Teams2=U60)*(Teams2_Score>Teams1_Score))","v":2},{"$f":"SUMPRODUCT((Teams1=U60)*(Teams1_Score=Teams2_Score)*(Teams1_Score<>\"\"))+SUMPRODUCT((Teams2=U60)*(Teams2_Score=Teams1_Score)*(Teams2_Score<>\"\"))","v":1},{"$f":"SUMPRODUCT((Teams1=U60)*(Teams1_Score<Teams2_Score))+SUMPRODUCT((Teams2=U60)*(Teams2_Score<Teams1_Score))","v":0},{"$f":"SUMPRODUCT((Teams1=U60)*(Teams1_Score))+SUMPRODUCT((Teams2=U60)*(Teams2_Score))","v":6},{"$f":"SUMPRODUCT((Teams1=U60)*(Teams2_Score))+SUMPRODUCT((Teams2=U60)*(Teams1_Score))","v":2},{"$f":"Z60-AA60","v":4},{"$f":"3*W60+X60","v":7}]
[null,{"$f":"IF(ROWS($1:2)<=COUNTIF($T$9:$T$12,1),INDEX($U$9:$U$12,SMALL(IF($T$9:$T$12=1,ROW(INDIRECT(\"1:\"&ROWS($T$9:$T$12)))),ROWS($1:2))),\"\")","v":""},null,null,null,null,null,null,null,null,null,null,null,null,null,null,"A_2",{"$f":"TEXT(S61,\"00000\")&U61","v":"01810Arabie Saoudite"},{"$f":"AC61*1000+AB61*100+Z61*10","v":1810},{"$f":"RANK(S61,$S60:$S64,0)","v":3},{"$f":"VLOOKUP(Q61,TABLEAU_TEAMS[#All],2,FALSE)","v":"Arabie Saoudite"},{"$f":"SUMPRODUCT((Teams1=U61)*(Teams1_Score<>\"\"))+SUMPRODUCT((Teams2=U61)*(Teams2_Score<>\"\"))","v":3},{"$f":"SUMPRODUCT((Teams1=U61)*(Teams1_Score>Teams2_Score))+SUMPRODUCT((Teams2=U61)*(Teams2_Score>Teams1_Score))","v":0},{"$f":"SUMPRODUCT((Teams1=U61)*(Teams1_Score=Teams2_Score)*(Teams1_Score<>\"\"))+SUMPRODUCT((Teams2=U61)*(Teams2_Score=Teams1_Score)*(Teams2_Score<>\"\"))","v":2},{"$f":"SUMPRODUCT((Teams1=U61)*(Teams1_Score<Teams2_Score))+SUMPRODUCT((Teams2=U61)*(Teams2_Score<Teams1_Score))","v":1},{"$f":"SUMPRODUCT((Teams1=U61)*(Teams1_Score))+SUMPRODUCT((Teams2=U61)*(Teams2_Score))","v":1},{"$f":"SUMPRODUCT((Teams1=U61)*(Teams2_Score))+SUMPRODUCT((Teams2=U61)*(Teams1_Score))","v":3},{"$f":"Z61-AA61","v":-2},{"$f":"3*W61+X61","v":2}]
[null,{"$f":"IF(ROWS($1:3)<=COUNTIF($T$9:$T$12,1),INDEX($U$9:$U$12,SMALL(IF($T$9:$T$12=1,ROW(INDIRECT(\"1:\"&ROWS($T$9:$T$12)))),ROWS($1:3))),\"\")","v":""},null,null,null,null,null,null,null,null,null,null,null,null,null,null,"A_3",{"$f":"TEXT(S62,\"00000\")&U62","v":"00620Egypte"},{"$f":"AC62*1000+AB62*100+Z62*10","v":620},{"$f":"RANK(S62,$S60:$S64,0)","v":4},{"$f":"VLOOKUP(Q62,TABLEAU_TEAMS[#All],2,FALSE)","v":"Egypte"},{"$f":"SUMPRODUCT((Teams1=U62)*(Teams1_Score<>\"\"))+SUMPRODUCT((Teams2=U62)*(Teams2_Score<>\"\"))","v":3},{"$f":"SUMPRODUCT((Teams1=U62)*(Teams1_Score>Teams2_Score))+SUMPRODUCT((Teams2=U62)*(Teams2_Score>Teams1_Score))","v":0},{"$f":"SUMPRODUCT((Teams1=U62)*(Teams1_Score=Teams2_Score)*(Teams1_Score<>\"\"))+SUMPRODUCT((Teams2=U62)*(Teams2_Score=Teams1_Score)*(Teams2_Score<>\"\"))","v":1},{"$f":"SUMPRODUCT((Teams1=U62)*(Teams1_Score<Teams2_Score))+SUMPRODUCT((Teams2=U62)*(Teams2_Score<Teams1_Score))","v":2},{"$f":"SUMPRODUCT((Teams1=U62)*(Teams1_Score))+SUMPRODUCT((Teams2=U62)*(Teams2_Score))","v":2},{"$f":"SUMPRODUCT((Teams1=U62)*(Teams2_Score))+SUMPRODUCT((Teams2=U62)*(Teams1_Score))","v":6},{"$f":"Z62-AA62","v":-4},{"$f":"3*W62+X62","v":1}]
[null,{"$f":"IF(ROWS($1:4)<=COUNTIF($T$9:$T$12,1),INDEX($U$9:$U$12,SMALL(IF($T$9:$T$12=1,ROW(INDIRECT(\"1:\"&ROWS($T$9:$T$12)))),ROWS($1:4))),\"\")","v":""},null,null,null,null,null,null,null,null,null,null,null,null,null,null,"A_4",{"$f":"TEXT(S63,\"00000\")&U63","v":"06240Uruguay"},{"$f":"AC63*1000+AB63*100+Z63*10","v":6240},{"$f":"RANK(S63,$S60:$S64,0)","v":2},{"$f":"VLOOKUP(Q63,TABLEAU_TEAMS[#All],2,FALSE)","v":"Uruguay"},{"$f":"SUMPRODUCT((Teams1=U63)*(Teams1_Score<>\"\"))+SUMPRODUCT((Teams2=U63)*(Teams2_Score<>\"\"))","v":3},{"$f":"SUMPRODUCT((Teams1=U63)*(Teams1_Score>Teams2_Score))+SUMPRODUCT((Teams2=U63)*(Teams2_Score>Teams1_Score))","v":2},{"$f":"SUMPRODUCT((Teams1=U63)*(Teams1_Score=Teams2_Score)*(Teams1_Score<>\"\"))+SUMPRODUCT((Teams2=U63)*(Teams2_Score=Teams1_Score)*(Teams2_Score<>\"\"))","v":0},{"$f":"SUMPRODUCT((Teams1=U63)*(Teams1_Score<Teams2_Score))+SUMPRODUCT((Teams2=U63)*(Teams2_Score<Teams1_Score))","v":1},{"$f":"SUMPRODUCT((Teams1=U63)*(Teams1_Score))+SUMPRODUCT((Teams2=U63)*(Teams2_Score))","v":4},{"$f":"SUMPRODUCT((Teams1=U63)*(Teams2_Score))+SUMPRODUCT((Teams2=U63)*(Teams1_Score))","v":2},{"$f":"Z63-AA63","v":2},{"$f":"3*W63+X63","v":6}]
[null,"Tirage au sort A2"]
[null,{"$f":"IF(COUNTIF($T$9:$T$12,1)>1,IF(ROWS($1:1)<=COUNTIF($T$9:$T$12,1),INDEX($U$9:$U$12,SMALL(IF($T$9:$T$12=1,ROW(INDIRECT(\"1:\"&ROWS($T$9:$T$12)))),ROWS($1:1))),\"\"),IF(COUNTIF($T$9:$T$12,2)>1,IF(ROWS($1:1)<=COUNTIF($T$9:$T$12,2),INDEX($U$9:$U$12,SMALL(IF($T$9:$T$12=2,ROW(INDIRECT(\"1:\"&ROWS($T$9:$T$12)))),ROWS($1:1))),\"\")))","v":false},null,null,null,null,null,null,null,null,null,null,null,null,null,null,null,null,null,"Rg","Groupe B","MJ","G","N","P","BP","BC","Pts","Pts"]
[null,{"$f":"IF(COUNTIF($T$9:$T$12,1)>1,IF(ROWS($1:2)<=COUNTIF($T$9:$T$12,1),INDEX($U$9:$U$12,SMALL(IF($T$9:$T$12=1,ROW(INDIRECT(\"1:\"&ROWS($T$9:$T$12)))),ROWS($1:2))),\"\"),IF(COUNTIF($T$9:$T$12,2)>1,IF(ROWS($1:2)<=COUNTIF($T$9:$T$12,2),INDEX($U$9:$U$12,SMALL(IF($T$9:$T$12=2,ROW(INDIRECT(\"1:\"&ROWS($T$9:$T$12)))),ROWS($1:2))),\"\")))","v":false},null,null,null,null,null,null,null,null,null,null,null,null,null,null,"B_1",{"$f":"TEXT(S66,\"00000\")&U66","v":"02330Maroc"},{"$f":"AC66*1000+AB66*100+Z66*10","v":2330},{"$f":"RANK(S66,$S66:$S70,0)","v":3},{"$f":"VLOOKUP(Q66,TABLEAU_TEAMS[#All],2,FALSE)","v":"Maroc"},{"$f":"SUMPRODUCT((Teams1=U66)*(Teams1_Score<>\"\"))+SUMPRODUCT((Teams2=U66)*(Teams2_Score<>\"\"))","v":3},{"$f":"SUMPRODUCT((Teams1=U66)*(Teams1_Score>Teams2_Score))+SUMPRODUCT((Teams2=U66)*(Teams2_Score>Teams1_Score))","v":1},{"$f":"SUMPRODUCT((Teams1=U66)*(Teams1_Score=Teams2_Score)*(Teams1_Score<>\"\"))+SUMPRODUCT((Teams2=U66)*(Teams2_Score=Teams1_Score)*(Teams2_Score<>\"\"))","v":0},{"$f":"SUMPRODUCT((Teams1=U66)*(Teams1_Score<Teams2_Score))+SUMPRODUCT((Teams2=U66)*(Teams2_Score<Teams1_Score))","v":2},{"$f":"SUMPRODUCT((Teams1=U66)*(Teams1_Score))+SUMPRODUCT((Teams2=U66)*(Teams2_Score))","v":3},{"$f":"SUMPRODUCT((Teams1=U66)*(Teams2_Score))+SUMPRODUCT((Teams2=U66)*(Teams1_Score))","v":10},{"$f":"Z66-AA66","v":-7},{"$f":"3*W66+X66","v":3}]
[null,{"$f":"IF(COUNTIF($T$9:$T$12,1)>1,IF(ROWS($1:3)<=COUNTIF($T$9:$T$12,1),INDEX($U$9:$U$12,SMALL(IF($T$9:$T$12=1,ROW(INDIRECT(\"1:\"&ROWS($T$9:$T$12)))),ROWS($1:3))),\"\"),IF(COUNTIF($T$9:$T$12,2)>1,IF(ROWS($1:3)<=COUNTIF($T$9:$T$12,2),INDEX($U$9:$U$12,SMALL(IF($T$9:$T$12=2,ROW(INDIRECT(\"1:\"&ROWS($T$9:$T$12)))),ROWS($1:3))),\"\")))","v":false},null,null,null,null,null,null,null,null,null,null,null,null,null,null,"B_2",{"$f":"TEXT(S67,\"00000\")&U67","v":"-00790RI Iran"},{"$f":"AC67*1000+AB67*100+Z67*10","v":-790},{"$f":"RANK(S67,$S66:$S70,0)","v":4},{"$f":"VLOOKUP(Q67,TABLEAU_TEAMS[#All],2,FALSE)","v":"RI Iran"},{"$f":"SUMPRODUCT((Teams1=U67)*(Teams1_Score<>\"\"))+SUMPRODUCT((Teams2=U67)*(Teams2_Score<>\"\"))","v":3},{"$f":"SUMPRODUCT((Teams1=U67)*(Teams1_Score>Teams2_Score))+SUMPRODUCT((Teams2=U67)*(Teams2_Score>Teams1_Score))","v":0},{"$f":"SUMPRODUCT((Teams1=U67)*(Teams1_Score=Teams2_Score)*(Teams1_Score<>\"\"))+SUMPRODUCT((Teams2=U67)*(Teams2_Score=Teams1_Score)*(Teams2_Score<>\"\"))","v":0},{"$f":"SUMPRODUCT((Teams1=U67)*(Teams1_Score<Teams2_Score))+SUMPRODUCT((Teams2=U67)*(Teams2_Score<Teams1_Score))","v":3},{"$f":"SUMPRODUCT((Teams1=U67)*(Teams1_Score))+SUMPRODUCT((Teams2=U67)*(Teams2_Score))","v":1},{"$f":"SUMPRODUCT((Teams1=U67)*(Teams2_Score))+SUMPRODUCT((Teams2=U67)*(Teams1_Score))","v":9},{"$f":"Z67-AA67","v":-8},{"$f":"3*W67+X67","v":0}]
[null,{"$f":"IF(COUNTIF($T$9:$T$12,1)>1,IF(ROWS($1:4)<=COUNTIF($T$9:$T$12,1),INDEX($U$9:$U$12,SMALL(IF($T$9:$T$12=1,ROW(INDIRECT(\"1:\"&ROWS($T$9:$T$12)))),ROWS($1:4))),\"\"),IF(COUNTIF($T$9:$T$12,2)>1,IF(ROWS($1:4)<=COUNTIF($T$9:$T$12,2),INDEX($U$9:$U$12,SMALL(IF($T$9:$T$12=2,ROW(INDIRECT(\"1:\"&ROWS($T$9:$T$12)))),ROWS($1:4))),\"\")))","v":false},null,null,null,null,null,null,null,null,null,null,null,null,null,null,"B_3",{"$f":"TEXT(S68,\"00000\")&U68","v":"06790Portugal"},{"$f":"AC68*1000+AB68*100+Z68*10","v":6790},{"$f":"RANK(S68,$S66:$S70,0)","v":2},{"$f":"VLOOKUP(Q68,TABLEAU_TEAMS[#All],2,FALSE)","v":"Portugal"},{"$f":"SUMPRODUCT((Teams1=U68)*(Teams1_Score<>\"\"))+SUMPRODUCT((Teams2=U68)*(Teams2_Score<>\"\"))","v":3},{"$f":"SUMPRODUCT((Teams1=U68)*(Teams1_Score>Teams2_Score))+SUMPRODUCT((Teams2=U68)*(Teams2_Score>Teams1_Score))","v":2},{"$f":"SUMPRODUCT((Teams1=U68)*(Teams1_Score=Teams2_Score)*(Teams1_Score<>\"\"))+SUMPRODUCT((Teams2=U68)*(Teams2_Score=Teams1_Score)*(Teams2_Score<>\"\"))","v":0},{"$f":"SUMPRODUCT((Teams1=U68)*(Teams1_Score<Teams2_Score))+SUMPRODUCT((Teams2=U68)*(Teams2_Score<Teams1_Score))","v":1},{"$f":"SUMPRODUCT((Teams1=U68)*(Teams1_Score))+SUMPRODUCT((Teams2=U68)*(Teams2_Score))","v":9},{"$f":"SUMPRODUCT((Teams1=U68)*(Teams2_Score))+SUMPRODUCT((Teams2=U68)*(Teams1_Score))","v":2},{"$f":"Z68-AA68","v":7},{"$f":"3*W68+X68","v":6}]
[null,"Tirage au sort B1",null,null,null,null,null,null,null,null,null,null,null,null,null,null,"B_4",{"$f":"TEXT(S69,\"00000\")&U69","v":"09880Espagne"},{"$f":"AC69*1000+AB69*100+Z69*10","v":9880},{"$f":"RANK(S69,$S66:$S70,0)","v":1},{"$f":"VLOOKUP(Q69,TABLEAU_TEAMS[#All],2,FALSE)","v":"Espagne"},{"$f":"SUMPRODUCT((Teams1=U69)*(Teams1_Score<>\"\"))+SUMPRODUCT((Teams2=U69)*(Teams2_Score<>\"\"))","v":3},{"$f":"SUMPRODUCT((Teams1=U69)*(Teams1_Score>Teams2_Score))+SUMPRODUCT((Teams2=U69)*(Teams2_Score>Teams1_Score))","v":3},{"$f":"SUMPRODUCT((Teams1=U69)*(Teams1_Score=Teams2_Score)*(Teams1_Score<>\"\"))+SUMPRODUCT((Teams2=U69)*(Teams2_Score=Teams1_Score)*(Teams2_Score<>\"\"))","v":0},{"$f":"SUMPRODUCT((Teams1=U69)*(Teams1_Score<Teams2_Score))+SUMPRODUCT((Teams2=U69)*(Teams2_Score<Teams1_Score))","v":0},{"$f":"SUMPRODUCT((Teams1=U69)*(Teams1_Score))+SUMPRODUCT((Teams2=U69)*(Teams2_Score))","v":8},{"$f":"SUMPRODUCT((Teams1=U69)*(Teams2_Score))+SUMPRODUCT((Teams2=U69)*(Teams1_Score))","v":0},{"$f":"Z69-AA69","v":8},{"$f":"3*W69+X69","v":9}]
[null,{"$f":"IF(ROWS($1:1)<=COUNTIF($T$15:$T$18,1),INDEX($U$15:$U$18,SMALL(IF($T$15:$T$18=1,ROW(INDIRECT(\"1:\"&ROWS($T$15:$T$18)))),ROWS($1:1))),\"\")","v":"Espagne"}]
[null,{"$f":"IF(ROWS($1:2)<=COUNTIF($T$15:$T$18,1),INDEX($U$15:$U$18,SMALL(IF($T$15:$T$18=1,ROW(INDIRECT(\"1:\"&ROWS($T$15:$T$18)))),ROWS($1:2))),\"\")","v":""},null,null,null,null,null,null,null,null,null,null,null,null,null,null,null,null,null,"Rg","Groupe C","MJ","G","N","P","BP","BC","Pts","Pts"]
[null,{"$f":"IF(ROWS($1:3)<=COUNTIF($T$15:$T$18,1),INDEX($U$15:$U$18,SMALL(IF($T$15:$T$18=1,ROW(INDIRECT(\"1:\"&ROWS($T$15:$T$18)))),ROWS($1:3))),\"\")","v":""},null,null,null,null,null,null,null,null,null,null,null,null,null,null,"C_1",{"$f":"TEXT(S72,\"00000\")&U72","v":"09450France"},{"$f":"AC72*1000+AB72*100+Z72*10","v":9450},{"$f":"RANK(S72,$S72:$S76,0)","v":1},{"$f":"VLOOKUP(Q72,TABLEAU_TEAMS[#All],2,FALSE)","v":"France"},{"$f":"SUMPRODUCT((Teams1=U72)*(Teams1_Score<>\"\"))+SUMPRODUCT((Teams2=U72)*(Teams2_Score<>\"\"))","v":3},{"$f":"SUMPRODUCT((Teams1=U72)*(Teams1_Score>Teams2_Score))+SUMPRODUCT((Teams2=U72)*(Teams2_Score>Teams1_Score))","v":3},{"$f":"SUMPRODUCT((Teams1=U72)*(Teams1_Score=Teams2_Score)*(Teams1_Score<>\"\"))+SUMPRODUCT((Teams2=U72)*(Teams2_Score=Teams1_Score)*(Teams2_Score<>\"\"))","v":0},{"$f":"SUMPRODUCT((Teams1=U72)*(Teams1_Score<Teams2_Score))+SUMPRODUCT((Teams2=U72)*(Teams2_Score<Teams1_Score))","v":0},{"$f":"SUMPRODUCT((Teams1=U72)*(Teams1_Score))+SUMPRODUCT((Teams2=U72)*(Teams2_Score))","v":5},{"$f":"SUMPRODUCT((Teams1=U72)*(Teams2_Score))+SUMPRODUCT((Teams2=U72)*(Teams1_Score))","v":1},{"$f":"Z72-AA72","v":4},{"$f":"3*W72+X72","v":9}]
[null,{"$f":"IF(ROWS($1:4)<=COUNTIF($T$15:$T$18,1),INDEX($U$15:$U$18,SMALL(IF($T$15:$T$18=1,ROW(INDIRECT(\"1:\"&ROWS($T$15:$T$18)))),ROWS($1:4))),\"\")","v":""},null,null,null,null,null,null,null,null,null,null,null,null,null,null,"C_2",{"$f":"TEXT(S73,\"00000\")&U73","v":"01830Australie"},{"$f":"AC73*1000+AB73*100+Z73*10","v":1830},{"$f":"RANK(S73,$S72:$S76,0)","v":4},{"$f":"VLOOKUP(Q73,TABLEAU_TEAMS[#All],2,FALSE)","v":"Australie"},{"$f":"SUMPRODUCT((Teams1=U73)*(Teams1_Score<>\"\"))+SUMPRODUCT((Teams2=U73)*(Teams2_Score<>\"\"))","v":3},{"$f":"SUMPRODUCT((Teams1=U73)*(Teams1_Score>Teams2_Score))+SUMPRODUCT((Teams2=U73)*(Teams2_Score>Teams1_Score))","v":0},{"$f":"SUMPRODUCT((Teams1=U73)*(Teams1_Score=Teams2_Score)*(Teams1_Score<>\"\"))+SUMPRODUCT((Teams2=U73)*(Teams2_Score=Teams1_Score)*(Teams2_Score<>\"\"))","v":2},{"$f":"SUMPRODUCT((Teams1=U73)*(Teams1_Score<Teams2_Score))+SUMPRODUCT((Teams2=U73)*(Teams2_Score<Teams1_Score))","v":1},{"$f":"SUMPRODUCT((Teams1=U73)*(Teams1_Score))+SUMPRODUCT((Teams2=U73)*(Teams2_Score))","v":3},{"$f":"SUMPRODUCT((Teams1=U73)*(Teams2_Score))+SUMPRODUCT((Teams2=U73)*(Teams1_Score))","v":5},{"$f":"Z73-AA73","v":-2},{"$f":"3*W73+X73","v":2}]
[null,"Tirage au sort B2",null,null,null,null,null,null,null,null,null,null,null,null,null,null,"C_3",{"$f":"TEXT(S74,\"00000\")&U74","v":"01920Pérou"},{"$f":"AC74*1000+AB74*100+Z74*10","v":1920},{"$f":"RANK(S74,$S72:$S76,0)","v":3},{"$f":"VLOOKUP(Q74,TABLEAU_TEAMS[#All],2,FALSE)","v":"Pérou"},{"$f":"SUMPRODUCT((Teams1=U74)*(Teams1_Score<>\"\"))+SUMPRODUCT((Teams2=U74)*(Teams2_Score<>\"\"))","v":3},{"$f":"SUMPRODUCT((Teams1=U74)*(Teams1_Score>Teams2_Score))+SUMPRODUCT((Teams2=U74)*(Teams2_Score>Teams1_Score))","v":0},{"$f":"SUMPRODUCT((Teams1=U74)*(Teams1_Score=Teams2_Score)*(Teams1_Score<>\"\"))+SUMPRODUCT((Teams2=U74)*(Teams2_Score=Teams1_Score)*(Teams2_Score<>\"\"))","v":2},{"$f":"SUMPRODUCT((Teams1=U74)*(Teams1_Score<Teams2_Score))+SUMPRODUCT((Teams2=U74)*(Teams2_Score<Teams1_Score))","v":1},{"$f":"SUMPRODUCT((Teams1=U74)*(Teams1_Score))+SUMPRODUCT((Teams2=U74)*(Teams2_Score))","v":2},{"$f":"SUMPRODUCT((Teams1=U74)*(Teams2_Score))+SUMPRODUCT((Teams2=U74)*(Teams1_Score))","v":3},{"$f":"Z74-AA74","v":-1},{"$f":"3*W74+X74","v":2}]
[null,{"$f":"IF(COUNTIF($T$15:$T$18,1)>1,IF(ROWS($1:1)<=COUNTIF($T$15:$T$18,1),INDEX($U$15:$U$18,SMALL(IF($T$15:$T$18=1,ROW(INDIRECT(\"1:\"&ROWS($T$15:$T$18)))),ROWS($1:1))),\"\"),IF(COUNTIF($T$15:$T$18,2)>1,IF(ROWS($1:1)<=COUNTIF($T$15:$T$18,2),INDEX($U$15:$U$18,SMALL(IF($T$15:$T$18=2,ROW(INDIRECT(\"1:\"&ROWS($T$15:$T$18)))),ROWS($1:1))),\"\")))","v":false},null,null,null,null,null,null,null,null,null,null,null,null,null,null,"C_4",{"$f":"TEXT(S75,\"00000\")&U75","v":"01940Danemark"},{"$f":"AC75*1000+AB75*100+Z75*10","v":1940},{"$f":"RANK(S75,$S72:$S76,0)","v":2},{"$f":"VLOOKUP(Q75,TABLEAU_TEAMS[#All],2,FALSE)","v":"Danemark"},{"$f":"SUMPRODUCT((Teams1=U75)*(Teams1_Score<>\"\"))+SUMPRODUCT((Teams2=U75)*(Teams2_Score<>\"\"))","v":3},{"$f":"SUMPRODUCT((Teams1=U75)*(Teams1_Score>Teams2_Score))+SUMPRODUCT((Teams2=U75)*(Teams2_Score>Teams1_Score))","v":0},{"$f":"SUMPRODUCT((Teams1=U75)*(Teams1_Score=Teams2_Score)*(Teams1_Score<>\"\"))+SUMPRODUCT((Teams2=U75)*(Teams2_Score=Teams1_Score)*(Teams2_Score<>\"\"))","v":2},{"$f":"SUMPRODUCT((Teams1=U75)*(Teams1_Score<Teams2_Score))+SUMPRODUCT((Teams2=U75)*(Teams2_Score<Teams1_Score))","v":1},{"$f":"SUMPRODUCT((Teams1=U75)*(Teams1_Score))+SUMPRODUCT((Teams2=U75)*(Teams2_Score))","v":4},{"$f":"SUMPRODUCT((Teams1=U75)*(Teams2_Score))+SUMPRODUCT((Teams2=U75)*(Teams1_Score))","v":5},{"$f":"Z75-AA75","v":-1},{"$f":"3*W75+X75","v":2}]
[null,{"$f":"IF(COUNTIF($T$15:$T$18,1)>1,IF(ROWS($1:2)<=COUNTIF($T$15:$T$18,1),INDEX($U$15:$U$18,SMALL(IF($T$15:$T$18=1,ROW(INDIRECT(\"1:\"&ROWS($T$15:$T$18)))),ROWS($1:2))),\"\"),IF(COUNTIF($T$15:$T$18,2)>1,IF(ROWS($1:2)<=COUNTIF($T$15:$T$18,2),INDEX($U$15:$U$18,SMALL(IF($T$15:$T$18=2,ROW(INDIRECT(\"1:\"&ROWS($T$15:$T$18)))),ROWS($1:2))),\"\")))","v":false}]
[null,{"$f":"IF(COUNTIF($T$15:$T$18,1)>1,IF(ROWS($1:3)<=COUNTIF($T$15:$T$18,1),INDEX($U$15:$U$18,SMALL(IF($T$15:$T$18=1,ROW(INDIRECT(\"1:\"&ROWS($T$15:$T$18)))),ROWS($1:3))),\"\"),IF(COUNTIF($T$15:$T$18,2)>1,IF(ROWS($1:3)<=COUNTIF($T$15:$T$18,2),INDEX($U$15:$U$18,SMALL(IF($T$15:$T$18=2,ROW(INDIRECT(\"1:\"&ROWS($T$15:$T$18)))),ROWS($1:3))),\"\")))","v":false},null,null,null,null,null,null,null,null,null,null,null,null,null,null,null,null,null,"Rg","Groupe D","MJ","G","N","P","BP","BC","Pts","Pts"]
[null,{"$f":"IF(COUNTIF($T$15:$T$18,1)>1,IF(ROWS($1:4)<=COUNTIF($T$15:$T$18,1),INDEX($U$15:$U$18,SMALL(IF($T$15:$T$18=1,ROW(INDIRECT(\"1:\"&ROWS($T$15:$T$18)))),ROWS($1:4))),\"\"),IF(COUNTIF($T$15:$T$18,2)>1,IF(ROWS($1:4)<=COUNTIF($T$15:$T$18,2),INDEX($U$15:$U$18,SMALL(IF($T$15:$T$18=2,ROW(INDIRECT(\"1:\"&ROWS($T$15:$T$18)))),ROWS($1:4))),\"\")))","v":false},null,null,null,null,null,null,null,null,null,null,null,null,null,null,"D_1",{"$f":"TEXT(S78,\"00000\")&U78","v":"07580Argentine"},{"$f":"AC78*1000+AB78*100+Z78*10","v":7580},{"$f":"RANK(S78,$S78:$S82,0)","v":1},{"$f":"VLOOKUP(Q78,TABLEAU_TEAMS[#All],2,FALSE)","v":"Argentine"},{"$f":"SUMPRODUCT((Teams1=U78)*(Teams1_Score<>\"\"))+SUMPRODUCT((Teams2=U78)*(Teams2_Score<>\"\"))","v":3},{"$f":"SUMPRODUCT((Teams1=U78)*(Teams1_Score>Teams2_Score))+SUMPRODUCT((Teams2=U78)*(Teams2_Score>Teams1_Score))","v":2},{"$f":"SUMPRODUCT((Teams1=U78)*(Teams1_Score=Teams2_Score)*(Teams1_Score<>\"\"))+SUMPRODUCT((Teams2=U78)*(Teams2_Score=Teams1_Score)*(Teams2_Score<>\"\"))","v":1},{"$f":"SUMPRODUCT((Teams1=U78)*(Teams1_Score<Teams2_Score))+SUMPRODUCT((Teams2=U78)*(Teams2_Score<Teams1_Score))","v":0},{"$f":"SUMPRODUCT((Teams1=U78)*(Teams1_Score))+SUMPRODUCT((Teams2=U78)*(Teams2_Score))","v":8},{"$f":"SUMPRODUCT((Teams1=U78)*(Teams2_Score))+SUMPRODUCT((Teams2=U78)*(Teams1_Score))","v":3},{"$f":"Z78-AA78","v":5},{"$f":"3*W78+X78","v":7}]
[null,"Tirage au sort C1",null,null,null,null,null,null,null,null,null,null,null,null,null,null,"D_2",{"$f":"TEXT(S79,\"00000\")&U79","v":"06370Islande"},{"$f":"AC79*1000+AB79*100+Z79*10","v":6370},{"$f":"RANK(S79,$S78:$S82,0)","v":2},{"$f":"VLOOKUP(Q79,TABLEAU_TEAMS[#All],2,FALSE)","v":"Islande"},{"$f":"SUMPRODUCT((Teams1=U79)*(Teams1_Score<>\"\"))+SUMPRODUCT((Teams2=U79)*(Teams2_Score<>\"\"))","v":3},{"$f":"SUMPRODUCT((Teams1=U79)*(Teams1_Score>Teams2_Score))+SUMPRODUCT((Teams2=U79)*(Teams2_Score>Teams1_Score))","v":2},{"$f":"SUMPRODUCT((Teams1=U79)*(Teams1_Score=Teams2_Score)*(Teams1_Score<>\"\"))+SUMPRODUCT((Teams2=U79)*(Teams2_Score=Teams1_Score)*(Teams2_Score<>\"\"))","v":0},{"$f":"SUMPRODUCT((Teams1=U79)*(Teams1_Score<Teams2_Score))+SUMPRODUCT((Teams2=U79)*(Teams2_Score<Teams1_Score))","v":1},{"$f":"SUMPRODUCT((Teams1=U79)*(Teams1_Score))+SUMPRODUCT((Teams2=U79)*(Teams2_Score))","v":7},{"$f":"SUMPRODUCT((Teams1=U79)*(Teams2_Score))+SUMPRODUCT((Teams2=U79)*(Teams1_Score))","v":4},{"$f":"Z79-AA79","v":3},{"$f":"3*W79+X79","v":6}]
[null,{"$f":"IF(ROWS($1:1)<=COUNTIF($T$21:$T$24,1),INDEX($U$21:$U$24,SMALL(IF($T$21:$T$24=1,ROW(INDIRECT(\"1:\"&ROWS($T$21:$T$24)))),ROWS($1:1))),\"\")","v":"France"},null,null,null,null,null,null,null,null,null,null,null,null,null,null,"D_3",{"$f":"TEXT(S80,\"00000\")&U80","v":"03820Croatie"},{"$f":"AC80*1000+AB80*100+Z80*10","v":3820},{"$f":"RANK(S80,$S78:$S82,0)","v":3},{"$f":"VLOOKUP(Q80,TABLEAU_TEAMS[#All],2,FALSE)","v":"Croatie"},{"$f":"SUMPRODUCT((Teams1=U80)*(Teams1_Score<>\"\"))+SUMPRODUCT((Teams2=U80)*(Teams2_Score<>\"\"))","v":3},{"$f":"SUMPRODUCT((Teams1=U80)*(Teams1_Score>Teams2_Score))+SUMPRODUCT((Teams2=U80)*(Teams2_Score>Teams1_Score))","v":1},{"$f":"SUMPRODUCT((Teams1=U80)*(Teams1_Score=Teams2_Score)*(Teams1_Score<>\"\"))+SUMPRODUCT((Teams2=U80)*(Teams2_Score=Teams1_Score)*(Teams2_Score<>\"\"))","v":1},{"$f":"SUMPRODUCT((Teams1=U80)*(Teams1_Score<Teams2_Score))+SUMPRODUCT((Teams2=U80)*(Teams2_Score<Teams1_Score))","v":1},{"$f":"SUMPRODUCT((Teams1=U80)*(Teams1_Score))+SUMPRODUCT((Teams2=U80)*(Teams2_Score))","v":2},{"$f":"SUMPRODUCT((Teams1=U80)*(Teams2_Score))+SUMPRODUCT((Teams2=U80)*(Teams1_Score))","v":4},{"$f":"Z80-AA80","v":-2},{"$f":"3*W80+X80","v":4}]
[null,{"$f":"IF(ROWS($1:2)<=COUNTIF($T$21:$T$24,1),INDEX($U$21:$U$24,SMALL(IF($T$21:$T$24=1,ROW(INDIRECT(\"1:\"&ROWS($T$21:$T$24)))),ROWS($1:2))),\"\")","v":""},null,null,null,null,null,null,null,null,null,null,null,null,null,null,"D_4",{"$f":"TEXT(S81,\"00000\")&U81","v":"-00600Nigeria"},{"$f":"AC81*1000+AB81*100+Z81*10","v":-600},{"$f":"RANK(S81,$S78:$S82,0)","v":4},{"$f":"VLOOKUP(Q81,TABLEAU_TEAMS[#All],2,FALSE)","v":"Nigeria"},{"$f":"SUMPRODUCT((Teams1=U81)*(Teams1_Score<>\"\"))+SUMPRODUCT((Teams2=U81)*(Teams2_Score<>\"\"))","v":3},{"$f":"SUMPRODUCT((Teams1=U81)*(Teams1_Score>Teams2_Score))+SUMPRODUCT((Teams2=U81)*(Teams2_Score>Teams1_Score))","v":0},{"$f":"SUMPRODUCT((Teams1=U81)*(Teams1_Score=Teams2_Score)*(Teams1_Score<>\"\"))+SUMPRODUCT((Teams2=U81)*(Teams2_Score=Teams1_Score)*(Teams2_Score<>\"\"))","v":0},{"$f":"SUMPRODUCT((Teams1=U81)*(Teams1_Score<Teams2_Score))+SUMPRODUCT((Teams2=U81)*(Teams2_Score<Teams1_Score))","v":3},{"$f":"SUMPRODUCT((Teams1=U81)*(Teams1_Score))+SUMPRODUCT((Teams2=U81)*(Teams2_Score))","v":0},{"$f":"SUMPRODUCT((Teams1=U81)*(Teams2_Score))+SUMPRODUCT((Teams2=U81)*(Teams1_Score))","v":6},{"$f":"Z81-AA81","v":-6},{"$f":"3*W81+X81","v":0}]
[null,{"$f":"IF(ROWS($1:3)<=COUNTIF($T$21:$T$24,1),INDEX($U$21:$U$24,SMALL(IF($T$21:$T$24=1,ROW(INDIRECT(\"1:\"&ROWS($T$21:$T$24)))),ROWS($1:3))),\"\")","v":""}]
[null,{"$f":"IF(ROWS($1:4)<=COUNTIF($T$21:$T$24,1),INDEX($U$21:$U$24,SMALL(IF($T$21:$T$24=1,ROW(INDIRECT(\"1:\"&ROWS($T$21:$T$24)))),ROWS($1:4))),\"\")","v":""},null,null,null,null,null,null,null,null,null,null,null,null,null,null,null,null,null,"Rg","Groupe E","MJ","G","N","P","BP","BC","Pts","Pts"]
[null,"Tirage au sort C2",null,null,null,null,null,null,null,null,null,null,null,null,null,null,"E_1",{"$f":"TEXT(S84,\"00000\")&U84","v":"00610Costa Rica"},{"$f":"AC84*1000+AB84*100+Z84*10","v":610},{"$f":"RANK(S84,$S84:$S88,0)","v":4},{"$f":"VLOOKUP(Q84,TABLEAU_TEAMS[#All],2,FALSE)","v":"Costa Rica"},{"$f":"SUMPRODUCT((Teams1=U84)*(Teams1_Score<>\"\"))+SUMPRODUCT((Teams2=U84)*(Teams2_Score<>\"\"))","v":3},{"$f":"SUMPRODUCT((Teams1=U84)*(Teams1_Score>Teams2_Score))+SUMPRODUCT((Teams2=U84)*(Teams2_Score>Teams1_Score))","v":0},{"$f":"SUMPRODUCT((Teams1=U84)*(Teams1_Score=Teams2_Score)*(Teams1_Score<>\"\"))+SUMPRODUCT((Teams2=U84)*(Teams2_Score=Teams1_Score)*(Teams2_Score<>\"\"))","v":1},{"$f":"SUMPRODUCT((Teams1=U84)*(Teams1_Score<Teams2_Score))+SUMPRODUCT((Teams2=U84)*(Teams2_Score<Teams1_Score))","v":2},{"$f":"SUMPRODUCT((Teams1=U84)*(Teams1_Score))+SUMPRODUCT((Teams2=U84)*(Teams2_Score))","v":1},{"$f":"SUMPRODUCT((Teams1=U84)*(Teams2_Score))+SUMPRODUCT((Teams2=U84)*(Teams1_Score))","v":5},{"$f":"Z84-AA84","v":-4},{"$f":"3*W84+X84","v":1}]
[null,{"$f":"IF(COUNTIF($T$21:$T$24,1)>1,IF(ROWS($1:1)<=COUNTIF($T$21:$T$24,1),INDEX($U$21:$U$24,SMALL(IF($T$21:$T$24=1,ROW(INDIRECT(\"1:\"&ROWS($T$21:$T$24)))),ROWS($1:1))),\"\"),IF(COUNTIF($T$21:$T$24,2)>1,IF(ROWS($1:1)<=COUNTIF($T$21:$T$24,2),INDEX($U$21:$U$24,SMALL(IF($T$21:$T$24=2,ROW(INDIRECT(\"1:\"&ROWS($T$21:$T$24)))),ROWS($1:1))),\"\")))","v":false},null,null,null,null,null,null,null,null,null,null,null,null,null,null,"E_2",{"$f":"TEXT(S85,\"00000\")&U85","v":"05120Serbie"},{"$f":"AC85*1000+AB85*100+Z85*10","v":5120},{"$f":"RANK(S85,$S84:$S88,0)","v":2},{"$f":"VLOOKUP(Q85,TABLEAU_TEAMS[#All],2,FALSE)","v":"Serbie"},{"$f":"SUMPRODUCT((Teams1=U85)*(Teams1_Score<>\"\"))+SUMPRODUCT((Teams2=U85)*(Teams2_Score<>\"\"))","v":3},{"$f":"SUMPRODUCT((Teams1=U85)*(Teams1_Score>Teams2_Score))+SUMPRODUCT((Teams2=U85)*(Teams2_Score>Teams1_Score))","v":1},{"$f":"SUMPRODUCT((Teams1=U85)*(Teams1_Score=Teams2_Score)*(Teams1_Score<>\"\"))+SUMPRODUCT((Teams2=U85)*(Teams2_Score=Teams1_Score)*(Teams2_Score<>\"\"))","v":2},{"$f":"SUMPRODUCT((Teams1=U85)*(Teams1_Score<Teams2_Score))+SUMPRODUCT((Teams2=U85)*(Teams2_Score<Teams1_Score))","v":0},{"$f":"SUMPRODUCT((Teams1=U85)*(Teams1_Score))+SUMPRODUCT((Teams2=U85)*(Teams2_Score))","v":2},{"$f":"SUMPRODUCT((Teams1=U85)*(Teams2_Score))+SUMPRODUCT((Teams2=U85)*(Teams1_Score))","v":1},{"$f":"Z85-AA85","v":1},{"$f":"3*W85+X85","v":5}]
[null,{"$f":"IF(COUNTIF($T$21:$T$24,1)>1,IF(ROWS($1:2)<=COUNTIF($T$21:$T$24,1),INDEX($U$21:$U$24,SMALL(IF($T$21:$T$24=1,ROW(INDIRECT(\"1:\"&ROWS($T$21:$T$24)))),ROWS($1:2))),\"\"),IF(COUNTIF($T$21:$T$24,2)>1,IF(ROWS($1:2)<=COUNTIF($T$21:$T$24,2),INDEX($U$21:$U$24,SMALL(IF($T$21:$T$24=2,ROW(INDIRECT(\"1:\"&ROWS($T$21:$T$24)))),ROWS($1:2))),\"\")))","v":false},null,null,null,null,null,null,null,null,null,null,null,null,null,null,"E_3",{"$f":"TEXT(S86,\"00000\")&U86","v":"07350Brésil"},{"$f":"AC86*1000+AB86*100+Z86*10","v":7350},{"$f":"RANK(S86,$S84:$S88,0)","v":1},{"$f":"VLOOKUP(Q86,TABLEAU_TEAMS[#All],2,FALSE)","v":"Brésil"},{"$f":"SUMPRODUCT((Teams1=U86)*(Teams1_Score<>\"\"))+SUMPRODUCT((Teams2=U86)*(Teams2_Score<>\"\"))","v":3},{"$f":"SUMPRODUCT((Teams1=U86)*(Teams1_Score>Teams2_Score))+SUMPRODUCT((Teams2=U86)*(Teams2_Score>Teams1_Score))","v":2},{"$f":"SUMPRODUCT((Teams1=U86)*(Teams1_Score=Teams2_Score)*(Teams1_Score<>\"\"))+SUMPRODUCT((Teams2=U86)*(Teams2_Score=Teams1_Score)*(Teams2_Score<>\"\"))","v":1},{"$f":"SUMPRODUCT((Teams1=U86)*(Teams1_Score<Teams2_Score))+SUMPRODUCT((Teams2=U86)*(Teams2_Score<Teams1_Score))","v":0},{"$f":"SUMPRODUCT((Teams1=U86)*(Teams1_Score))+SUMPRODUCT((Teams2=U86)*(Teams2_Score))","v":5},{"$f":"SUMPRODUCT((Teams1=U86)*(Teams2_Score))+SUMPRODUCT((Teams2=U86)*(Teams1_Score))","v":2},{"$f":"Z86-AA86","v":3},{"$f":"3*W86+X86","v":7}]
[null,{"$f":"IF(COUNTIF($T$21:$T$24,1)>1,IF(ROWS($1:3)<=COUNTIF($T$21:$T$24,1),INDEX($U$21:$U$24,SMALL(IF($T$21:$T$24=1,ROW(INDIRECT(\"1:\"&ROWS($T$21:$T$24)))),ROWS($1:3))),\"\"),IF(COUNTIF($T$21:$T$24,2)>1,IF(ROWS($1:3)<=COUNTIF($T$21:$T$24,2),INDEX($U$21:$U$24,SMALL(IF($T$21:$T$24=2,ROW(INDIRECT(\"1:\"&ROWS($T$21:$T$24)))),ROWS($1:3))),\"\")))","v":false},null,null,null,null,null,null,null,null,null,null,null,null,null,null,"E_4",{"$f":"TEXT(S87,\"00000\")&U87","v":"03040Suisse"},{"$f":"AC87*1000+AB87*100+Z87*10","v":3040},{"$f":"RANK(S87,$S84:$S88,0)","v":3},{"$f":"VLOOKUP(Q87,TABLEAU_TEAMS[#All],2,FALSE)","v":"Suisse"},{"$f":"SUMPRODUCT((Teams1=U87)*(Teams1_Score<>\"\"))+SUMPRODUCT((Teams2=U87)*(Teams2_Score<>\"\"))","v":3},{"$f":"SUMPRODUCT((Teams1=U87)*(Teams1_Score>Teams2_Score))+SUMPRODUCT((Teams2=U87)*(Teams2_Score>Teams1_Score))","v":1},{"$f":"SUMPRODUCT((Teams1=U87)*(Teams1_Score=Teams2_Score)*(Teams1_Score<>\"\"))+SUMPRODUCT((Teams2=U87)*(Teams2_Score=Teams1_Score)*(Teams2_Score<>\"\"))","v":0},{"$f":"SUMPRODUCT((Teams1=U87)*(Teams1_Score<Teams2_Score))+SUMPRODUCT((Teams2=U87)*(Teams2_Score<Teams1_Score))","v":2},{"$f":"SUMPRODUCT((Teams1=U87)*(Teams1_Score))+SUMPRODUCT((Teams2=U87)*(Teams2_Score))","v":4},{"$f":"SUMPRODUCT((Teams1=U87)*(Teams2_Score))+SUMPRODUCT((Teams2=U87)*(Teams1_Score))","v":4},{"$f":"Z87-AA87","v":0},{"$f":"3*W87+X87","v":3}]
[null,{"$f":"IF(COUNTIF($T$21:$T$24,1)>1,IF(ROWS($1:4)<=COUNTIF($T$21:$T$24,1),INDEX($U$21:$U$24,SMALL(IF($T$21:$T$24=1,ROW(INDIRECT(\"1:\"&ROWS($T$21:$T$24)))),ROWS($1:4))),\"\"),IF(COUNTIF($T$21:$T$24,2)>1,IF(ROWS($1:4)<=COUNTIF($T$21:$T$24,2),INDEX($U$21:$U$24,SMALL(IF($T$21:$T$24=2,ROW(INDIRECT(\"1:\"&ROWS($T$21:$T$24)))),ROWS($1:4))),\"\")))","v":false}]
[null,"Tirage au sort D1",null,null,null,null,null,null,null,null,null,null,null,null,null,null,null,null,null,"Rg","Groupe F","MJ","G","N","P","BP","BC","Pts","Pts"]
[null,{"$f":"IF(ROWS($1:1)<=COUNTIF($T$27:$T$30,1),INDEX($U$27:$U$30,SMALL(IF($T$27:$T$30=1,ROW(INDIRECT(\"1:\"&ROWS($T$27:$T$30)))),ROWS($1:1))),\"\")","v":"Argentine"},null,null,null,null,null,null,null,null,null,null,null,null,null,null,"F_1",{"$f":"TEXT(S90,\"00000\")&U90","v":"06380Allemagne"},{"$f":"AC90*1000+AB90*100+Z90*10","v":6380},{"$f":"RANK(S90,$S90:$S94,0)","v":1},{"$f":"VLOOKUP(Q90,TABLEAU_TEAMS[#All],2,FALSE)","v":"Allemagne"},{"$f":"SUMPRODUCT((Teams1=U90)*(Teams1_Score<>\"\"))+SUMPRODUCT((Teams2=U90)*(Teams2_Score<>\"\"))","v":3},{"$f":"SUMPRODUCT((Teams1=U90)*(Teams1_Score>Teams2_Score))+SUMPRODUCT((Teams2=U90)*(Teams2_Score>Teams1_Score))","v":2},{"$f":"SUMPRODUCT((Teams1=U90)*(Teams1_Score=Teams2_Score)*(Teams1_Score<>\"\"))+SUMPRODUCT((Teams2=U90)*(Teams2_Score=Teams1_Score)*(Teams2_Score<>\"\"))","v":0},{"$f":"SUMPRODUCT((Teams1=U90)*(Teams1_Score<Teams2_Score))+SUMPRODUCT((Teams2=U90)*(Teams2_Score<Teams1_Score))","v":1},{"$f":"SUMPRODUCT((Teams1=U90)*(Teams1_Score))+SUMPRODUCT((Teams2=U90)*(Teams2_Score))","v":8},{"$f":"SUMPRODUCT((Teams1=U90)*(Teams2_Score))+SUMPRODUCT((Teams2=U90)*(Teams1_Score))","v":5},{"$f":"Z90-AA90","v":3},{"$f":"3*W90+X90","v":6}]
[null,{"$f":"IF(ROWS($1:2)<=COUNTIF($T$27:$T$30,1),INDEX($U$27:$U$30,SMALL(IF($T$27:$T$30=1,ROW(INDIRECT(\"1:\"&ROWS($T$27:$T$30)))),ROWS($1:2))),\"\")","v":""},null,null,null,null,null,null,null,null,null,null,null,null,null,null,"F_2",{"$f":"TEXT(S91,\"00000\")&U91","v":"-00680Mexique"},{"$f":"AC91*1000+AB91*100+Z91*10","v":-680},{"$f":"RANK(S91,$S90:$S94,0)","v":4},{"$f":"VLOOKUP(Q91,TABLEAU_TEAMS[#All],2,FALSE)","v":"Mexique"},{"$f":"SUMPRODUCT((Teams1=U91)*(Teams1_Score<>\"\"))+SUMPRODUCT((Teams2=U91)*(Teams2_Score<>\"\"))","v":3},{"$f":"SUMPRODUCT((Teams1=U91)*(Teams1_Score>Teams2_Score))+SUMPRODUCT((Teams2=U91)*(Teams2_Score>Teams1_Score))","v":0},{"$f":"SUMPRODUCT((Teams1=U91)*(Teams1_Score=Teams2_Score)*(Teams1_Score<>\"\"))+SUMPRODUCT((Teams2=U91)*(Teams2_Score=Teams1_Score)*(Teams2_Score<>\"\"))","v":0},{"$f":"SUMPRODUCT((Teams1=U91)*(Teams1_Score<Teams2_Score))+SUMPRODUCT((Teams2=U91)*(Teams2_Score<Teams1_Score))","v":3},{"$f":"SUMPRODUCT((Teams1=U91)*(Teams1_Score))+SUMPRODUCT((Teams2=U91)*(Teams2_Score))","v":2},{"$f":"SUMPRODUCT((Teams1=U91)*(Teams2_Score))+SUMPRODUCT((Teams2=U91)*(Teams1_Score))","v":9},{"$f":"Z91-AA91","v":-7},{"$f":"3*W91+X91","v":0}]
[null,{"$f":"IF(ROWS($1:3)<=COUNTIF($T$27:$T$30,1),INDEX($U$27:$U$30,SMALL(IF($T$27:$T$30=1,ROW(INDIRECT(\"1:\"&ROWS($T$27:$T$30)))),ROWS($1:3))),\"\")","v":""},null,null,null,null,null,null,null,null,null,null,null,null,null,null,"F_3",{"$f":"TEXT(S92,\"00000\")&U92","v":"06260Suède"},{"$f":"AC92*1000+AB92*100+Z92*10","v":6260},{"$f":"RANK(S92,$S90:$S94,0)","v":3},{"$f":"VLOOKUP(Q92,TABLEAU_TEAMS[#All],2,FALSE)","v":"Suède"},{"$f":"SUMPRODUCT((Teams1=U92)*(Teams1_Score<>\"\"))+SUMPRODUCT((Teams2=U92)*(Teams2_Score<>\"\"))","v":3},{"$f":"SUMPRODUCT((Teams1=U92)*(Teams1_Score>Teams2_Score))+SUMPRODUCT((Teams2=U92)*(Teams2_Score>Teams1_Score))","v":2},{"$f":"SUMPRODUCT((Teams1=U92)*(Teams1_Score=Teams2_Score)*(Teams1_Score<>\"\"))+SUMPRODUCT((Teams2=U92)*(Teams2_Score=Teams1_Score)*(Teams2_Score<>\"\"))","v":0},{"$f":"SUMPRODUCT((Teams1=U92)*(Teams1_Score<Teams2_Score))+SUMPRODUCT((Teams2=U92)*(Teams2_Score<Teams1_Score))","v":1},{"$f":"SUMPRODUCT((Teams1=U92)*(Teams1_Score))+SUMPRODUCT((Teams2=U92)*(Teams2_Score))","v":6},{"$f":"SUMPRODUCT((Teams1=U92)*(Teams2_Score))+SUMPRODUCT((Teams2=U92)*(Teams1_Score))","v":4},{"$f":"Z92-AA92","v":2},{"$f":"3*W92+X92","v":6}]
[null,{"$f":"IF(ROWS($1:4)<=COUNTIF($T$27:$T$30,1),INDEX($U$27:$U$30,SMALL(IF($T$27:$T$30=1,ROW(INDIRECT(\"1:\"&ROWS($T$27:$T$30)))),ROWS($1:4))),\"\")","v":""},null,null,null,null,null,null,null,null,null,null,null,null,null,null,"F_4",{"$f":"TEXT(S93,\"00000\")&U93","v":"06270République de Corée"},{"$f":"AC93*1000+AB93*100+Z93*10","v":6270},{"$f":"RANK(S93,$S90:$S94,0)","v":2},{"$f":"VLOOKUP(Q93,TABLEAU_TEAMS[#All],2,FALSE)","v":"République de Corée"},{"$f":"SUMPRODUCT((Teams1=U93)*(Teams1_Score<>\"\"))+SUMPRODUCT((Teams2=U93)*(Teams2_Score<>\"\"))","v":3},{"$f":"SUMPRODUCT((Teams1=U93)*(Teams1_Score>Teams2_Score))+SUMPRODUCT((Teams2=U93)*(Teams2_Score>Teams1_Score))","v":2},{"$f":"SUMPRODUCT((Teams1=U93)*(Teams1_Score=Teams2_Score)*(Teams1_Score<>\"\"))+SUMPRODUCT((Teams2=U93)*(Teams2_Score=Teams1_Score)*(Teams2_Score<>\"\"))","v":0},{"$f":"SUMPRODUCT((Teams1=U93)*(Teams1_Score<Teams2_Score))+SUMPRODUCT((Teams2=U93)*(Teams2_Score<Teams1_Score))","v":1},{"$f":"SUMPRODUCT((Teams1=U93)*(Teams1_Score))+SUMPRODUCT((Teams2=U93)*(Teams2_Score))","v":7},{"$f":"SUMPRODUCT((Teams1=U93)*(Teams2_Score))+SUMPRODUCT((Teams2=U93)*(Teams1_Score))","v":5},{"$f":"Z93-AA93","v":2},{"$f":"3*W93+X93","v":6}]
[null,"Tirage au sort D2"]
[null,{"$f":"IF(COUNTIF($T$27:$T$30,1)>1,IF(ROWS($1:1)<=COUNTIF($T$27:$T$30,1),INDEX($U$27:$U$30,SMALL(IF($T$27:$T$30=1,ROW(INDIRECT(\"1:\"&ROWS($T$27:$T$30)))),ROWS($1:1))),\"\"),IF(COUNTIF($T$27:$T$30,2)>1,IF(ROWS($1:1)<=COUNTIF($T$27:$T$30,2),INDEX($U$27:$U$30,SMALL(IF($T$27:$T$30=2,ROW(INDIRECT(\"1:\"&ROWS($T$27:$T$30)))),ROWS($1:1))),\"\")))","v":false},null,null,null,null,null,null,null,null,null,null,null,null,null,null,null,null,null,"Rg","Groupe G","MJ","G","N","P","BP","BC","Pts","Pts"]
[null,{"$f":"IF(COUNTIF($T$27:$T$30,1)>1,IF(ROWS($1:2)<=COUNTIF($T$27:$T$30,1),INDEX($U$27:$U$30,SMALL(IF($T$27:$T$30=1,ROW(INDIRECT(\"1:\"&ROWS($T$27:$T$30)))),ROWS($1:2))),\"\"),IF(COUNTIF($T$27:$T$30,2)>1,IF(ROWS($1:2)<=COUNTIF($T$27:$T$30,2),INDEX($U$27:$U$30,SMALL(IF($T$27:$T$30=2,ROW(INDIRECT(\"1:\"&ROWS($T$27:$T$30)))),ROWS($1:2))),\"\")))","v":false},null,null,null,null,null,null,null,null,null,null,null,null,null,null,"G_1",{"$f":"TEXT(S96,\"00000\")&U96","v":"05140Belgique"},{"$f":"AC96*1000+AB96*100+Z96*10","v":5140},{"$f":"RANK(S96,$S96:$S100,0)","v":1},{"$f":"VLOOKUP(Q96,TABLEAU_TEAMS[#All],2,FALSE)","v":"Belgique"},{"$f":"SUMPRODUCT((Teams1=U96)*(Teams1_Score<>\"\"))+SUMPRODUCT((Teams2=U96)*(Teams2_Score<>\"\"))","v":3},{"$f":"SUMPRODUCT((Teams1=U96)*(Teams1_Score>Teams2_Score))+SUMPRODUCT((Teams2=U96)*(Teams2_Score>Teams1_Score))","v":1},{"$f":"SUMPRODUCT((Teams1=U96)*(Teams1_Score=Teams2_Score)*(Teams1_Score<>\"\"))+SUMPRODUCT((Teams2=U96)*(Teams2_Score=Teams1_Score)*(Teams2_Score<>\"\"))","v":2},{"$f":"SUMPRODUCT((Teams1=U96)*(Teams1_Score<Teams2_Score))+SUMPRODUCT((Teams2=U96)*(Teams2_Score<Teams1_Score))","v":0},{"$f":"SUMPRODUCT((Teams1=U96)*(Teams1_Score))+SUMPRODUCT((Teams2=U96)*(Teams2_Score))","v":4},{"$f":"SUMPRODUCT((Teams1=U96)*(Teams2_Score))+SUMPRODUCT((Teams2=U96)*(Teams1_Score))","v":3},{"$f":"Z96-AA96","v":1},{"$f":"3*W96+X96","v":5}]
[null,{"$f":"IF(COUNTIF($T$27:$T$30,1)>1,IF(ROWS($1:3)<=COUNTIF($T$27:$T$30,1),INDEX($U$27:$U$30,SMALL(IF($T$27:$T$30=1,ROW(INDIRECT(\"1:\"&ROWS($T$27:$T$30)))),ROWS($1:3))),\"\"),IF(COUNTIF($T$27:$T$30,2)>1,IF(ROWS($1:3)<=COUNTIF($T$27:$T$30,2),INDEX($U$27:$U$30,SMALL(IF($T$27:$T$30=2,ROW(INDIRECT(\"1:\"&ROWS($T$27:$T$30)))),ROWS($1:3))),\"\")))","v":false},null,null,null,null,null,null,null,null,null,null,null,null,null,null,"G_2",{"$f":"TEXT(S97,\"00000\")&U97","v":"01820Panama"},{"$f":"AC97*1000+AB97*100+Z97*10","v":1820},{"$f":"RANK(S97,$S96:$S100,0)","v":4},{"$f":"VLOOKUP(Q97,TABLEAU_TEAMS[#All],2,FALSE)","v":"Panama"},{"$f":"SUMPRODUCT((Teams1=U97)*(Teams1_Score<>\"\"))+SUMPRODUCT((Teams2=U97)*(Teams2_Score<>\"\"))","v":3},{"$f":"SUMPRODUCT((Teams1=U97)*(Teams1_Score>Teams2_Score))+SUMPRODUCT((Teams2=U97)*(Teams2_Score>Teams1_Score))","v":0},{"$f":"SUMPRODUCT((Teams1=U97)*(Teams1_Score=Teams2_Score)*(Teams1_Score<>\"\"))+SUMPRODUCT((Teams2=U97)*(Teams2_Score=Teams1_Score)*(Teams2_Score<>\"\"))","v":2},{"$f":"SUMPRODUCT((Teams1=U97)*(Teams1_Score<Teams2_Score))+SUMPRODUCT((Teams2=U97)*(Teams2_Score<Teams1_Score))","v":1},{"$f":"SUMPRODUCT((Teams1=U97)*(Teams1_Score))+SUMPRODUCT((Teams2=U97)*(Teams2_Score))","v":2},{"$f":"SUMPRODUCT((Teams1=U97)*(Teams2_Score))+SUMPRODUCT((Teams2=U97)*(Teams1_Score))","v":4},{"$f":"Z97-AA97","v":-2},{"$f":"3*W97+X97","v":2}]
[null,{"$f":"IF(COUNTIF($T$27:$T$30,1)>1,IF(ROWS($1:4)<=COUNTIF($T$27:$T$30,1),INDEX($U$27:$U$30,SMALL(IF($T$27:$T$30=1,ROW(INDIRECT(\"1:\"&ROWS($T$27:$T$30)))),ROWS($1:4))),\"\"),IF(COUNTIF($T$27:$T$30,2)>1,IF(ROWS($1:4)<=COUNTIF($T$27:$T$30,2),INDEX($U$27:$U$30,SMALL(IF($T$27:$T$30=2,ROW(INDIRECT(\"1:\"&ROWS($T$27:$T$30)))),ROWS($1:4))),\"\")))","v":false},null,null,null,null,null,null,null,null,null,null,null,null,null,null,"G_3",{"$f":"TEXT(S98,\"00000\")&U98","v":"04130Tunisie"},{"$f":"AC98*1000+AB98*100+Z98*10","v":4130},{"$f":"RANK(S98,$S96:$S100,0)","v":2},{"$f":"VLOOKUP(Q98,TABLEAU_TEAMS[#All],2,FALSE)","v":"Tunisie"},{"$f":"SUMPRODUCT((Teams1=U98)*(Teams1_Score<>\"\"))+SUMPRODUCT((Teams2=U98)*(Teams2_Score<>\"\"))","v":3},{"$f":"SUMPRODUCT((Teams1=U98)*(Teams1_Score>Teams2_Score))+SUMPRODUCT((Teams2=U98)*(Teams2_Score>Teams1_Score))","v":1},{"$f":"SUMPRODUCT((Teams1=U98)*(Teams1_Score=Teams2_Score)*(Teams1_Score<>\"\"))+SUMPRODUCT((Teams2=U98)*(Teams2_Score=Teams1_Score)*(Teams2_Score<>\"\"))","v":1},{"$f":"SUMPRODUCT((Teams1=U98)*(Teams1_Score<Teams2_Score))+SUMPRODUCT((Teams2=U98)*(Teams2_Score<Teams1_Score))","v":1},{"$f":"SUMPRODUCT((Teams1=U98)*(Teams1_Score))+SUMPRODUCT((Teams2=U98)*(Teams2_Score))","v":3},{"$f":"SUMPRODUCT((Teams1=U98)*(Teams2_Score))+SUMPRODUCT((Teams2=U98)*(Teams1_Score))","v":2},{"$f":"Z98-AA98","v":1},{"$f":"3*W98+X98","v":4}]
[null,"Tirage au sort E1",null,null,null,null,null,null,null,null,null,null,null,null,null,null,"G_4",{"$f":"TEXT(S99,\"00000\")&U99","v":"03020Angleterre"},{"$f":"AC99*1000+AB99*100+Z99*10","v":3020},{"$f":"RANK(S99,$S96:$S100,0)","v":3},{"$f":"VLOOKUP(Q99,TABLEAU_TEAMS[#All],2,FALSE)","v":"Angleterre"},{"$f":"SUMPRODUCT((Teams1=U99)*(Teams1_Score<>\"\"))+SUMPRODUCT((Teams2=U99)*(Teams2_Score<>\"\"))","v":3},{"$f":"SUMPRODUCT((Teams1=U99)*(Teams1_Score>Teams2_Score))+SUMPRODUCT((Teams2=U99)*(Teams2_Score>Teams1_Score))","v":0},{"$f":"SUMPRODUCT((Teams1=U99)*(Teams1_Score=Teams2_Score)*(Teams1_Score<>\"\"))+SUMPRODUCT((Teams2=U99)*(Teams2_Score=Teams1_Score)*(Teams2_Score<>\"\"))","v":3},{"$f":"SUMPRODUCT((Teams1=U99)*(Teams1_Score<Teams2_Score))+SUMPRODUCT((Teams2=U99)*(Teams2_Score<Teams1_Score))","v":0},{"$f":"SUMPRODUCT((Teams1=U99)*(Teams1_Score))+SUMPRODUCT((Teams2=U99)*(Teams2_Score))","v":2},{"$f":"SUMPRODUCT((Teams1=U99)*(Teams2_Score))+SUMPRODUCT((Teams2=U99)*(Teams1_Score))","v":2},{"$f":"Z99-AA99","v":0},{"$f":"3*W99+X99","v":3}]
[null,{"$f":"IF(ROWS($1:1)<=COUNTIF($T$33:$T$36,1),INDEX($U$33:$U$36,SMALL(IF($T$33:$T$36=1,ROW(INDIRECT(\"1:\"&ROWS($T$33:$T$36)))),ROWS($1:1))),\"\")","v":"Brésil"}]
[null,{"$f":"IF(ROWS($1:2)<=COUNTIF($T$33:$T$36,1),INDEX($U$33:$U$36,SMALL(IF($T$33:$T$36=1,ROW(INDIRECT(\"1:\"&ROWS($T$33:$T$36)))),ROWS($1:2))),\"\")","v":""},null,null,null,null,null,null,null,null,null,null,null,null,null,null,null,null,null,"Rg","Groupe H","MJ","G","N","P","BP","BC","Pts","Pts"]
[null,{"$f":"IF(ROWS($1:3)<=COUNTIF($T$33:$T$36,1),INDEX($U$33:$U$36,SMALL(IF($T$33:$T$36=1,ROW(INDIRECT(\"1:\"&ROWS($T$33:$T$36)))),ROWS($1:3))),\"\")","v":""},null,null,null,null,null,null,null,null,null,null,null,null,null,null,"H_1",{"$f":"TEXT(S102,\"00000\")&U102","v":"05260Colombie"},{"$f":"AC102*1000+AB102*100+Z102*10","v":5260},{"$f":"RANK(S102,$S102:$S106,0)","v":2},{"$f":"VLOOKUP(Q102,TABLEAU_TEAMS[#All],2,FALSE)","v":"Colombie"},{"$f":"SUMPRODUCT((Teams1=U102)*(Teams1_Score<>\"\"))+SUMPRODUCT((Teams2=U102)*(Teams2_Score<>\"\"))","v":3},{"$f":"SUMPRODUCT((Teams1=U102)*(Teams1_Score>Teams2_Score))+SUMPRODUCT((Teams2=U102)*(Teams2_Score>Teams1_Score))","v":1},{"$f":"SUMPRODUCT((Teams1=U102)*(Teams1_Score=Teams2_Score)*(Teams1_Score<>\"\"))+SUMPRODUCT((Teams2=U102)*(Teams2_Score=Teams1_Score)*(Teams2_Score<>\"\"))","v":2},{"$f":"SUMPRODUCT((Teams1=U102)*(Teams1_Score<Teams2_Score))+SUMPRODUCT((Teams2=U102)*(Teams2_Score<Teams1_Score))","v":0},{"$f":"SUMPRODUCT((Teams1=U102)*(Teams1_Score))+SUMPRODUCT((Teams2=U102)*(Teams2_Score))","v":6},{"$f":"SUMPRODUCT((Teams1=U102)*(Teams2_Score))+SUMPRODUCT((Teams2=U102)*(Teams1_Score))","v":4},{"$f":"Z102-AA102","v":2},{"$f":"3*W102+X102","v":5}]
[null,{"$f":"IF(ROWS($1:4)<=COUNTIF($T$33:$T$36,1),INDEX($U$33:$U$36,SMALL(IF($T$33:$T$36=1,ROW(INDIRECT(\"1:\"&ROWS($T$33:$T$36)))),ROWS($1:4))),\"\")","v":""},null,null,null,null,null,null,null,null,null,null,null,null,null,null,"H_2",{"$f":"TEXT(S103,\"00000\")&U103","v":"06470Japon"},{"$f":"AC103*1000+AB103*100+Z103*10","v":6470},{"$f":"RANK(S103,$S102:$S106,0)","v":1},{"$f":"VLOOKUP(Q103,TABLEAU_TEAMS[#All],2,FALSE)","v":"Japon"},{"$f":"SUMPRODUCT((Teams1=U103)*(Teams1_Score<>\"\"))+SUMPRODUCT((Teams2=U103)*(Teams2_Score<>\"\"))","v":3},{"$f":"SUMPRODUCT((Teams1=U103)*(Teams1_Score>Teams2_Score))+SUMPRODUCT((Teams2=U103)*(Teams2_Score>Teams1_Score))","v":2},{"$f":"SUMPRODUCT((Teams1=U103)*(Teams1_Score=Teams2_Score)*(Teams1_Score<>\"\"))+SUMPRODUCT((Teams2=U103)*(Teams2_Score=Teams1_Score)*(Teams2_Score<>\"\"))","v":0},{"$f":"SUMPRODUCT((Teams1=U103)*(Teams1_Score<Teams2_Score))+SUMPRODUCT((Teams2=U103)*(Teams2_Score<Teams1_Score))","v":1},{"$f":"SUMPRODUCT((Teams1=U103)*(Teams1_Score))+SUMPRODUCT((Teams2=U103)*(Teams2_Score))","v":7},{"$f":"SUMPRODUCT((Teams1=U103)*(Teams2_Score))+SUMPRODUCT((Teams2=U103)*(Teams1_Score))","v":3},{"$f":"Z103-AA103","v":4},{"$f":"3*W103+X103","v":6}]
[null,"Tirage au sort E2",null,null,null,null,null,null,null,null,null,null,null,null,null,null,"H_3",{"$f":"TEXT(S104,\"00000\")&U104","v":"01630Pologne"},{"$f":"AC104*1000+AB104*100+Z104*10","v":1630},{"$f":"RANK(S104,$S102:$S106,0)","v":4},{"$f":"VLOOKUP(Q104,TABLEAU_TEAMS[#All],2,FALSE)","v":"Pologne"},{"$f":"SUMPRODUCT((Teams1=U104)*(Teams1_Score<>\"\"))+SUMPRODUCT((Teams2=U104)*(Teams2_Score<>\"\"))","v":3},{"$f":"SUMPRODUCT((Teams1=U104)*(Teams1_Score>Teams2_Score))+SUMPRODUCT((Teams2=U104)*(Teams2_Score>Teams1_Score))","v":0},{"$f":"SUMPRODUCT((Teams1=U104)*(Teams1_Score=Teams2_Score)*(Teams1_Score<>\"\"))+SUMPRODUCT((Teams2=U104)*(Teams2_Score=Teams1_Score)*(Teams2_Score<>\"\"))","v":2},{"$f":"SUMPRODUCT((Teams1=U104)*(Teams1_Score<Teams2_Score))+SUMPRODUCT((Teams2=U104)*(Teams2_Score<Teams1_Score))","v":1},{"$f":"SUMPRODUCT((Teams1=U104)*(Teams1_Score))+SUMPRODUCT((Teams2=U104)*(Teams2_Score))","v":3},{"$f":"SUMPRODUCT((Teams1=U104)*(Teams2_Score))+SUMPRODUCT((Teams2=U104)*(Teams1_Score))","v":7},{"$f":"Z104-AA104","v":-4},{"$f":"3*W104+X104","v":2}]
[null,{"$f":"IF(COUNTIF($T$33:$T$36,1)>1,IF(ROWS($1:1)<=COUNTIF($T$33:$T$36,1),INDEX($U$33:$U$36,SMALL(IF($T$33:$T$36=1,ROW(INDIRECT(\"1:\"&ROWS($T$33:$T$36)))),ROWS($1:1))),\"\"),IF(COUNTIF($T$33:$T$36,2)>1,IF(ROWS($1:1)<=COUNTIF($T$33:$T$36,2),INDEX($U$33:$U$36,SMALL(IF($T$33:$T$36=2,ROW(INDIRECT(\"1:\"&ROWS($T$33:$T$36)))),ROWS($1:1))),\"\")))","v":false},null,null,null,null,null,null,null,null,null,null,null,null,null,null,"H_4",{"$f":"TEXT(S105,\"00000\")&U105","v":"01840Sénégal"},{"$f":"AC105*1000+AB105*100+Z105*10","v":1840},{"$f":"RANK(S105,$S102:$S106,0)","v":3},{"$f":"VLOOKUP(Q105,TABLEAU_TEAMS[#All],2,FALSE)","v":"Sénégal"},{"$f":"SUMPRODUCT((Teams1=U105)*(Teams1_Score<>\"\"))+SUMPRODUCT((Teams2=U105)*(Teams2_Score<>\"\"))","v":3},{"$f":"SUMPRODUCT((Teams1=U105)*(Teams1_Score>Teams2_Score))+SUMPRODUCT((Teams2=U105)*(Teams2_Score>Teams1_Score))","v":0},{"$f":"SUMPRODUCT((Teams1=U105)*(Teams1_Score=Teams2_Score)*(Teams1_Score<>\"\"))+SUMPRODUCT((Teams2=U105)*(Teams2_Score=Teams1_Score)*(Teams2_Score<>\"\"))","v":2},{"$f":"SUMPRODUCT((Teams1=U105)*(Teams1_Score<Teams2_Score))+SUMPRODUCT((Teams2=U105)*(Teams2_Score<Teams1_Score))","v":1},{"$f":"SUMPRODUCT((Teams1=U105)*(Teams1_Score))+SUMPRODUCT((Teams2=U105)*(Teams2_Score))","v":4},{"$f":"SUMPRODUCT((Teams1=U105)*(Teams2_Score))+SUMPRODUCT((Teams2=U105)*(Teams1_Score))","v":6},{"$f":"Z105-AA105","v":-2},{"$f":"3*W105+X105","v":2}]
[null,{"$f":"IF(COUNTIF($T$33:$T$36,1)>1,IF(ROWS($1:2)<=COUNTIF($T$33:$T$36,1),INDEX($U$33:$U$36,SMALL(IF($T$33:$T$36=1,ROW(INDIRECT(\"1:\"&ROWS($T$33:$T$36)))),ROWS($1:2))),\"\"),IF(COUNTIF($T$33:$T$36,2)>1,IF(ROWS($1:2)<=COUNTIF($T$33:$T$36,2),INDEX($U$33:$U$36,SMALL(IF($T$33:$T$36=2,ROW(INDIRECT(\"1:\"&ROWS($T$33:$T$36)))),ROWS($1:2))),\"\")))","v":false}]
[null,{"$f":"IF(COUNTIF($T$33:$T$36,1)>1,IF(ROWS($1:3)<=COUNTIF($T$33:$T$36,1),INDEX($U$33:$U$36,SMALL(IF($T$33:$T$36=1,ROW(INDIRECT(\"1:\"&ROWS($T$33:$T$36)))),ROWS($1:3))),\"\"),IF(COUNTIF($T$33:$T$36,2)>1,IF(ROWS($1:3)<=COUNTIF($T$33:$T$36,2),INDEX($U$33:$U$36,SMALL(IF($T$33:$T$36=2,ROW(INDIRECT(\"1:\"&ROWS($T$33:$T$36)))),ROWS($1:3))),\"\")))","v":false}]
[null,{"$f":"IF(COUNTIF($T$33:$T$36,1)>1,IF(ROWS($1:4)<=COUNTIF($T$33:$T$36,1),INDEX($U$33:$U$36,SMALL(IF($T$33:$T$36=1,ROW(INDIRECT(\"1:\"&ROWS($T$33:$T$36)))),ROWS($1:4))),\"\"),IF(COUNTIF($T$33:$T$36,2)>1,IF(ROWS($1:4)<=COUNTIF($T$33:$T$36,2),INDEX($U$33:$U$36,SMALL(IF($T$33:$T$36=2,ROW(INDIRECT(\"1:\"&ROWS($T$33:$T$36)))),ROWS($1:4))),\"\")))","v":false}]
[null,"Tirage au sort F1"]
[null,{"$f":"IF(ROWS($1:1)<=COUNTIF($T$39:$T$42,1),INDEX($U$39:$U$42,SMALL(IF($T$39:$T$42=1,ROW(INDIRECT(\"1:\"&ROWS($T$39:$T$42)))),ROWS($1:1))),\"\")","v":"Allemagne"}]
[null,{"$f":"IF(ROWS($1:2)<=COUNTIF($T$39:$T$42,1),INDEX($U$39:$U$42,SMALL(IF($T$39:$T$42=1,ROW(INDIRECT(\"1:\"&ROWS($T$39:$T$42)))),ROWS($1:2))),\"\")","v":""}]
[null,{"$f":"IF(ROWS($1:3)<=COUNTIF($T$39:$T$42,1),INDEX($U$39:$U$42,SMALL(IF($T$39:$T$42=1,ROW(INDIRECT(\"1:\"&ROWS($T$39:$T$42)))),ROWS($1:3))),\"\")","v":""}]
[null,{"$f":"IF(ROWS($1:4)<=COUNTIF($T$39:$T$42,1),INDEX($U$39:$U$42,SMALL(IF($T$39:$T$42=1,ROW(INDIRECT(\"1:\"&ROWS($T$39:$T$42)))),ROWS($1:4))),\"\")","v":""}]
[null,"Tirage au sort F2"]
[null,{"$f":"IF(COUNTIF($T$39:$T$42,1)>1,IF(ROWS($1:1)<=COUNTIF($T$39:$T$42,1),INDEX($U$39:$U$42,SMALL(IF($T$39:$T$42=1,ROW(INDIRECT(\"1:\"&ROWS($T$39:$T$42)))),ROWS($1:1))),\"\"),IF(COUNTIF($T$39:$T$42,2)>1,IF(ROWS($1:1)<=COUNTIF($T$39:$T$42,2),INDEX($U$39:$U$42,SMALL(IF($T$39:$T$42=2,ROW(INDIRECT(\"1:\"&ROWS($T$39:$T$42)))),ROWS($1:1))),\"\")))","v":false}]
[null,{"$f":"IF(COUNTIF($T$39:$T$42,1)>1,IF(ROWS($1:2)<=COUNTIF($T$39:$T$42,1),INDEX($U$39:$U$42,SMALL(IF($T$39:$T$42=1,ROW(INDIRECT(\"1:\"&ROWS($T$39:$T$42)))),ROWS($1:2))),\"\"),IF(COUNTIF($T$39:$T$42,2)>1,IF(ROWS($1:2)<=COUNTIF($T$39:$T$42,2),INDEX($U$39:$U$42,SMALL(IF($T$39:$T$42=2,ROW(INDIRECT(\"1:\"&ROWS($T$39:$T$42)))),ROWS($1:2))),\"\")))","v":false}]
[null,{"$f":"IF(COUNTIF($T$39:$T$42,1)>1,IF(ROWS($1:3)<=COUNTIF($T$39:$T$42,1),INDEX($U$39:$U$42,SMALL(IF($T$39:$T$42=1,ROW(INDIRECT(\"1:\"&ROWS($T$39:$T$42)))),ROWS($1:3))),\"\"),IF(COUNTIF($T$39:$T$42,2)>1,IF(ROWS($1:3)<=COUNTIF($T$39:$T$42,2),INDEX($U$39:$U$42,SMALL(IF($T$39:$T$42=2,ROW(INDIRECT(\"1:\"&ROWS($T$39:$T$42)))),ROWS($1:3))),\"\")))","v":false}]
[null,{"$f":"IF(COUNTIF($T$39:$T$42,1)>1,IF(ROWS($1:4)<=COUNTIF($T$39:$T$42,1),INDEX($U$39:$U$42,SMALL(IF($T$39:$T$42=1,ROW(INDIRECT(\"1:\"&ROWS($T$39:$T$42)))),ROWS($1:4))),\"\"),IF(COUNTIF($T$39:$T$42,2)>1,IF(ROWS($1:4)<=COUNTIF($T$39:$T$42,2),INDEX($U$39:$U$42,SMALL(IF($T$39:$T$42=2,ROW(INDIRECT(\"1:\"&ROWS($T$39:$T$42)))),ROWS($1:4))),\"\")))","v":false}]
[null,"Tirage au sort G1"]
[null,{"$f":"IF(ROWS($1:1)<=COUNTIF($T$45:$T$48,1),INDEX($U$45:$U$48,SMALL(IF($T$45:$T$48=1,ROW(INDIRECT(\"1:\"&ROWS($T$45:$T$48)))),ROWS($1:1))),\"\")","v":"Belgique"}]
[null,{"$f":"IF(ROWS($1:2)<=COUNTIF($T$45:$T$48,1),INDEX($U$45:$U$48,SMALL(IF($T$45:$T$48=1,ROW(INDIRECT(\"1:\"&ROWS($T$45:$T$48)))),ROWS($1:2))),\"\")","v":""}]
[null,{"$f":"IF(ROWS($1:3)<=COUNTIF($T$45:$T$48,1),INDEX($U$45:$U$48,SMALL(IF($T$45:$T$48=1,ROW(INDIRECT(\"1:\"&ROWS($T$45:$T$48)))),ROWS($1:3))),\"\")","v":""}]
[null,{"$f":"IF(ROWS($1:4)<=COUNTIF($T$45:$T$48,1),INDEX($U$45:$U$48,SMALL(IF($T$45:$T$48=1,ROW(INDIRECT(\"1:\"&ROWS($T$45:$T$48)))),ROWS($1:4))),\"\")","v":""}]
[null,"Tirage au sort G2"]
[null,{"$f":"IF(COUNTIF($T$45:$T$48,1)>1,IF(ROWS($1:1)<=COUNTIF($T$45:$T$48,1),INDEX($U$45:$U$48,SMALL(IF($T$45:$T$48=1,ROW(INDIRECT(\"1:\"&ROWS($T$45:$T$48)))),ROWS($1:1))),\"\"),IF(COUNTIF($T$45:$T$48,2)>1,IF(ROWS($1:1)<=COUNTIF($T$45:$T$48,2),INDEX($U$45:$U$48,SMALL(IF($T$45:$T$48=2,ROW(INDIRECT(\"1:\"&ROWS($T$45:$T$48)))),ROWS($1:1))),\"\")))","v":false}]
[null,{"$f":"IF(COUNTIF($T$45:$T$48,1)>1,IF(ROWS($1:2)<=COUNTIF($T$45:$T$48,1),INDEX($U$45:$U$48,SMALL(IF($T$45:$T$48=1,ROW(INDIRECT(\"1:\"&ROWS($T$45:$T$48)))),ROWS($1:2))),\"\"),IF(COUNTIF($T$45:$T$48,2)>1,IF(ROWS($1:2)<=COUNTIF($T$45:$T$48,2),INDEX($U$45:$U$48,SMALL(IF($T$45:$T$48=2,ROW(INDIRECT(\"1:\"&ROWS($T$45:$T$48)))),ROWS($1:2))),\"\")))","v":false}]
[null,{"$f":"IF(COUNTIF($T$45:$T$48,1)>1,IF(ROWS($1:3)<=COUNTIF($T$45:$T$48,1),INDEX($U$45:$U$48,SMALL(IF($T$45:$T$48=1,ROW(INDIRECT(\"1:\"&ROWS($T$45:$T$48)))),ROWS($1:3))),\"\"),IF(COUNTIF($T$45:$T$48,2)>1,IF(ROWS($1:3)<=COUNTIF($T$45:$T$48,2),INDEX($U$45:$U$48,SMALL(IF($T$45:$T$48=2,ROW(INDIRECT(\"1:\"&ROWS($T$45:$T$48)))),ROWS($1:3))),\"\")))","v":false}]
[null,{"$f":"IF(COUNTIF($T$45:$T$48,1)>1,IF(ROWS($1:4)<=COUNTIF($T$45:$T$48,1),INDEX($U$45:$U$48,SMALL(IF($T$45:$T$48=1,ROW(INDIRECT(\"1:\"&ROWS($T$45:$T$48)))),ROWS($1:4))),\"\"),IF(COUNTIF($T$45:$T$48,2)>1,IF(ROWS($1:4)<=COUNTIF($T$45:$T$48,2),INDEX($U$45:$U$48,SMALL(IF($T$45:$T$48=2,ROW(INDIRECT(\"1:\"&ROWS($T$45:$T$48)))),ROWS($1:4))),\"\")))","v":false}]
[null,"Tirage au sort H1"]
[null,{"$f":"IF(ROWS($1:1)<=COUNTIF($T$51:$T$54,1),INDEX($U$51:$U$54,SMALL(IF($T$51:$T$54=1,ROW(INDIRECT(\"1:\"&ROWS($T$51:$T$54)))),ROWS($1:1))),\"\")","v":"Japon"}]
[null,{"$f":"IF(ROWS($1:2)<=COUNTIF($T$51:$T$54,1),INDEX($U$51:$U$54,SMALL(IF($T$51:$T$54=1,ROW(INDIRECT(\"1:\"&ROWS($T$51:$T$54)))),ROWS($1:2))),\"\")","v":""}]
[null,{"$f":"IF(ROWS($1:3)<=COUNTIF($T$51:$T$54,1),INDEX($U$51:$U$54,SMALL(IF($T$51:$T$54=1,ROW(INDIRECT(\"1:\"&ROWS($T$51:$T$54)))),ROWS($1:3))),\"\")","v":""}]
[null,{"$f":"IF(ROWS($1:4)<=COUNTIF($T$51:$T$54,1),INDEX($U$51:$U$54,SMALL(IF($T$51:$T$54=1,ROW(INDIRECT(\"1:\"&ROWS($T$51:$T$54)))),ROWS($1:4))),\"\")","v":""}]
[null,"Tirage au sort H2"]
[null,{"$f":"IF(COUNTIF($T$51:$T$54,1)>1,IF(ROWS($1:1)<=COUNTIF($T$51:$T$54,1),INDEX($U$51:$U$54,SMALL(IF($T$51:$T$54=1,ROW(INDIRECT(\"1:\"&ROWS($T$51:$T$54)))),ROWS($1:1))),\"\"),IF(COUNTIF($T$51:$T$54,2)>1,IF(ROWS($1:1)<=COUNTIF($T$51:$T$54,2),INDEX($U$51:$U$54,SMALL(IF($T$51:$T$54=2,ROW(INDIRECT(\"1:\"&ROWS($T$51:$T$54)))),ROWS($1:1))),\"\")))","v":false}]
[null,{"$f":"IF(COUNTIF($T$51:$T$54,1)>1,IF(ROWS($1:2)<=COUNTIF($T$51:$T$54,1),INDEX($U$51:$U$54,SMALL(IF($T$51:$T$54=1,ROW(INDIRECT(\"1:\"&ROWS($T$51:$T$54)))),ROWS($1:2))),\"\"),IF(COUNTIF($T$51:$T$54,2)>1,IF(ROWS($1:2)<=COUNTIF($T$51:$T$54,2),INDEX($U$51:$U$54,SMALL(IF($T$51:$T$54=2,ROW(INDIRECT(\"1:\"&ROWS($T$51:$T$54)))),ROWS($1:2))),\"\")))","v":false}]
[null,{"$f":"IF(COUNTIF($T$51:$T$54,1)>1,IF(ROWS($1:3)<=COUNTIF($T$51:$T$54,1),INDEX($U$51:$U$54,SMALL(IF($T$51:$T$54=1,ROW(INDIRECT(\"1:\"&ROWS($T$51:$T$54)))),ROWS($1:3))),\"\"),IF(COUNTIF($T$51:$T$54,2)>1,IF(ROWS($1:3)<=COUNTIF($T$51:$T$54,2),INDEX($U$51:$U$54,SMALL(IF($T$51:$T$54=2,ROW(INDIRECT(\"1:\"&ROWS($T$51:$T$54)))),ROWS($1:3))),\"\")))","v":false}]
[null,{"$f":"IF(COUNTIF($T$51:$T$54,1)>1,IF(ROWS($1:4)<=COUNTIF($T$51:$T$54,1),INDEX($U$51:$U$54,SMALL(IF($T$51:$T$54=1,ROW(INDIRECT(\"1:\"&ROWS($T$51:$T$54)))),ROWS($1:4))),\"\"),IF(COUNTIF($T$51:$T$54,2)>1,IF(ROWS($1:4)<=COUNTIF($T$51:$T$54,2),INDEX($U$51:$U$54,SMALL(IF($T$51:$T$54=2,ROW(INDIRECT(\"1:\"&ROWS($T$51:$T$54)))),ROWS($1:4))),\"\")))","v":false}]

{"sheet":"PRONOSTIQUEUR","index":16,"n_rows":138,"n_cols":46,"rows_kept":138,"cut":false,"hidden":false,"merged":[[2,1,2,8],[3,1,3,8],[3,9,3,12]]}
[]
[null,"Pronostics de :"]
[]
[null,{"$f":"MID(CELL(\"filename\",A1),FIND(\"]\",CELL(\"filename\",A1))+1,32)","v":"PRONOSTIQUEUR"}]
[]
[null,"SAISIE DES PRONOSTICS",null,null,null,null,null,null,null,null,null,null,null,null,null,null,null,null,null,"GROUPES",null,null,null,null,null,null,null,null,null,null,null,null,"SCORE PRONOSTIQUEUR",null,null,null,null,null,null,null,null,{"$f":"AN8+AN12","v":0}]
[null,"Date","Heure","Match","Groupe",1,"N",2,null,"Buts",null,null,"Buts"]
[null,{"$f":"VLOOKUP($D8,TABLEAU_MATCHS[#All],2,FALSE)","v":"2018-06-14"},{"$f":"VLOOKUP($D8,TABLEAU_MATCHS[#All],3,FALSE)","v":"17:00:00"},1,{"$f":"\"Groupe \"&VLOOKUP($I8,TABLEAU_TEAMS[[#All],[TEAM]:[GROUP_INITIAL_RANK]],2,FALSE)","v":"Groupe A"},1.3,4.3,10,{"$f":"VLOOKUP($D8,TABLEAU_MATCHS[#All],4,FALSE)","v":"Russie"},null,null,{"$f":"VLOOKUP($D8,TABLEAU_MATCHS[#All],5,FALSE)","v":"Arabie Saoudite"},null,{"$f":"IF(OR(ISBLANK(RESULTATS!J8),ISBLANK(J8)),\"\",IF(AND(PRONOSTIQUEUR!J8=RESULTATS!J8,PRONOSTIQUEUR!M8=RESULTATS!M8),3,IF(OR(AND(PRONOSTIQUEUR!J8>PRONOSTIQUEUR!M8,RESULTATS!J8>RESULTATS!M8),AND(PRONOSTIQUEUR!J8<PRONOSTIQUEUR!M8,RESULTATS!J8<RESULTATS!M8),AND(PRONOSTIQUEUR!J8=PRONOSTIQUEUR!M8,RESULTATS!J8=RESULTATS!M8)),1,0)))","v":""},null,null,null,null,null,"Rg","Groupe A","MJ","G","N","P","BP","BC","+/-","Pts",null,null,null,"Phases de groupes",null,null,null,null,null,null,{"$f":"N56","v":0},null,"points"]
[null,{"$f":"VLOOKUP($D9,TABLEAU_MATCHS[#All],2,FALSE)","v":"2018-06-15"},{"$f":"VLOOKUP($D9,TABLEAU_MATCHS[#All],3,FALSE)","v":"14:00:00"},2,{"$f":"\"Groupe \"&VLOOKUP($I9,TABLEAU_TEAMS[[#All],[TEAM]:[GROUP_INITIAL_RANK]],2,FALSE)","v":"Groupe A"},2.2000000000000002,2.9,3.25,{"$f":"VLOOKUP($D9,TABLEAU_MATCHS[#All],4,FALSE)","v":"Egypte"},null,null,{"$f":"VLOOKUP($D9,TABLEAU_MATCHS[#All],5,FALSE)","v":"Uruguay"},null,{"$f":"IF(OR(ISBLANK(RESULTATS!J9),ISBLANK(J9)),\"\",IF(AND(PRONOSTIQUEUR!J9=RESULTATS!J9,PRONOSTIQUEUR!M9=RESULTATS!M9),3,IF(OR(AND(PRONOSTIQUEUR!J9>PRONOSTIQUEUR!M9,RESULTATS!J9>RESULTATS!M9),AND(PRONOSTIQUEUR!J9<PRONOSTIQUEUR!M9,RESULTATS!J9<RESULTATS!M9),AND(PRONOSTIQUEUR!J9=PRONOSTIQUEUR!M9,RESULTATS!J9=RESULTATS!M9)),1,0)))","v":""},null,null,null,{"$f":"INDEX($R60:$R63,MATCH(SMALL(COUNTIF($R60:$R63,\">=\"&$R60:$R63),ROW(INDIRECT(\"1:\"&ROWS($R60:$R63)))),COUNTIF($R60:$R63,\">=\"&$R60:$R63),0))","v":"00000Uruguay"},{"$f":"INDEX($S60:$S63,MATCH(SMALL(COUNTIF($R60:$R63,\">=\"&$R60:$R63),ROW(INDIRECT(\"1:\"&ROWS($R60:$R63)))),COUNTIF($R60:$R63,\">=\"&$R60:$R63),0))","v":0},{"$f":"INDEX($T60:$T63,MATCH(SMALL(COUNTIF($R60:$R63,\">=\"&$R60:$R63),ROW(INDIRECT(\"1:\"&ROWS($R60:$R63)))),COUNTIF($R60:$R63,\">=\"&$R60:$R63),0))","v":1},{"$f":"INDEX($U60:$U63,MATCH(SMALL(COUNTIF($R60:$R63,\">=\"&$R60:$R63),ROW(INDIRECT(\"1:\"&ROWS($R60:$R63)))),COUNTIF($R60:$R63,\">=\"&$R60:$R63),0))","v":"Uruguay"},{"$f":"SUMPRODUCT((Teams1=U9)*(Teams1_Score<>\"\"))+SUMPRODUCT((Teams2=U9)*(Teams2_Score<>\"\"))","v":0},{"$f":"SUMPRODUCT((Teams1=U9)*(Teams1_Score>Teams2_Score))+SUMPRODUCT((Teams2=U9)*(Teams2_Score>Teams1_Score))","v":0},{"$f":"SUMPRODUCT((Teams1=U9)*(Teams1_Score=Teams2_Score)*(Teams1_Score<>\"\"))+SUMPRODUCT((Teams2=U9)*(Teams2_Score=Teams1_Score)*(Teams2_Score<>\"\"))","v":0},{"$f":"SUMPRODUCT((Teams1=U9)*(Teams1_Score<Teams2_Score))+SUMPRODUCT((Teams2=U9)*(Teams2_Score<Teams1_Score))","v":0},{"$f":"SUMPRODUCT((Teams1=U9)*(Teams1_Score))+SUMPRODUCT((Teams2=U9)*(Teams2_Score))","v":0},{"$f":"SUMPRODUCT((Teams1=U9)*(Teams2_Score))+SUMPRODUCT((Teams2=U9)*(Teams1_Score))","v":0},{"$f":"Z9-AA9","v":0},{"$f":"3*W9+X9","v":0},null,null,null,"Vainqueur ou nul trouvé (1 pt)",null,null,{"$f":"COUNTIF($N$8:$N$55,1)+COUNTIF($N$8:$N$55,3)","v":0},"matchs",null,null,{"$f":"AJ9","v":0},null,"points"]
[null,{"$f":"VLOOKUP($D10,TABLEAU_MATCHS[#All],2,FALSE)","v":"2018-06-15"},{"$f":"VLOOKUP($D10,TABLEAU_MATCHS[#All],3,FALSE)","v":"17:00:00"},3,{"$f":"\"Groupe \"&VLOOKUP($I10,TABLEAU_TEAMS[[#All],[TEAM]:[GROUP_INITIAL_RANK]],2,FALSE)","v":"Groupe B"},1.8,3.05,4.5,{"$f":"VLOOKUP($D10,TABLEAU_MATCHS[#All],4,FALSE)","v":"Maroc"},null,null,{"$f":"VLOOKUP($D10,TABLEAU_MATCHS[#All],5,FALSE)","v":"RI Iran"},null,{"$f":"IF(OR(ISBLANK(RESULTATS!J10),ISBLANK(J10)),\"\",IF(AND(PRONOSTIQUEUR!J10=RESULTATS!J10,PRONOSTIQUEUR!M10=RESULTATS!M10),3,IF(OR(AND(PRONOSTIQUEUR!J10>PRONOSTIQUEUR!M10,RESULTATS!J10>RESULTATS!M10),AND(PRONOSTIQUEUR!J10<PRONOSTIQUEUR!M10,RESULTATS!J10<RESULTATS!M10),AND(PRONOSTIQUEUR!J10=PRONOSTIQUEUR!M10,RESULTATS!J10=RESULTATS!M10)),1,0)))","v":""},null,null,null,"00000Russie",0,1,"Russie",{"$f":"SUMPRODUCT((Teams1=U10)*(Teams1_Score<>\"\"))+SUMPRODUCT((Teams2=U10)*(Teams2_Score<>\"\"))","v":0},{"$f":"SUMPRODUCT((Teams1=U10)*(Teams1_Score>Teams2_Score))+SUMPRODUCT((Teams2=U10)*(Teams2_Score>Teams1_Score))","v":0},{"$f":"SUMPRODUCT((Teams1=U10)*(Teams1_Score=Teams2_Score)*(Teams1_Score<>\"\"))+SUMPRODUCT((Teams2=U10)*(Teams2_Score=Teams1_Score)*(Teams2_Score<>\"\"))","v":0},{"$f":"SUMPRODUCT((Teams1=U10)*(Teams1_Score<Teams2_Score))+SUMPRODUCT((Teams2=U10)*(Teams2_Score<Teams1_Score))","v":0},{"$f":"SUMPRODUCT((Teams1=U10)*(Teams1_Score))+SUMPRODUCT((Teams2=U10)*(Teams2_Score))","v":0},{"$f":"SUMPRODUCT((Teams1=U10)*(Teams2_Score))+SUMPRODUCT((Teams2=U10)*(Teams1_Score))","v":0},{"$f":"Z10-AA10","v":0},{"$f":"3*W10+X10","v":0},null,null,null,"Bonus score exact (2 pts)",null,null,{"$f":"+COUNTIF($N$8:$N$55,3)","v":0},"matchs",null,null,{"$f":"AJ10*2","v":0},null,"points"]
[null,{"$f":"VLOOKUP($D11,TABLEAU_MATCHS[#All],2,FALSE)","v":"2018-06-15"},{"$f":"VLOOKUP($D11,TABLEAU_MATCHS[#All],3,FALSE)","v":"20:00:00"},4,{"$f":"\"Groupe \"&VLOOKUP($I11,TABLEAU_TEAMS[[#All],[TEAM]:[GROUP_INITIAL_RANK]],2,FALSE)","v":"Groupe B"},1.42,3.9,7,{"$f":"VLOOKUP($D11,TABLEAU_MATCHS[#All],4,FALSE)","v":"Portugal"},null,null,{"$f":"VLOOKUP($D11,TABLEAU_MATCHS[#All],5,FALSE)","v":"Espagne"},null,{"$f":"IF(OR(ISBLANK(RESULTATS!J11),ISBLANK(J11)),\"\",IF(AND(PRONOSTIQUEUR!J11=RESULTATS!J11,PRONOSTIQUEUR!M11=RESULTATS!M11),3,IF(OR(AND(PRONOSTIQUEUR!J11>PRONOSTIQUEUR!M11,RESULTATS!J11>RESULTATS!M11),AND(PRONOSTIQUEUR!J11<PRONOSTIQUEUR!M11,RESULTATS!J11<RESULTATS!M11),AND(PRONOSTIQUEUR!J11=PRONOSTIQUEUR!M11,RESULTATS!J11=RESULTATS!M11)),1,0)))","v":""},null,null,null,"00000Egypte",0,1,"Egypte",{"$f":"SUMPRODUCT((Teams1=U11)*(Teams1_Score<>\"\"))+SUMPRODUCT((Teams2=U11)*(Teams2_Score<>\"\"))","v":0},{"$f":"SUMPRODUCT((Teams1=U11)*(Teams1_Score>Teams2_Score))+SUMPRODUCT((Teams2=U11)*(Teams2_Score>Teams1_Score))","v":0},{"$f":"SUMPRODUCT((Teams1=U11)*(Teams1_Score=Teams2_Score)*(Teams1_Score<>\"\"))+SUMPRODUCT((Teams2=U11)*(Teams2_Score=Teams1_Score)*(Teams2_Score<>\"\"))","v":0},{"$f":"SUMPRODUCT((Teams1=U11)*(Teams1_Score<Teams2_Score))+SUMPRODUCT((Teams2=U11)*(Teams2_Score<Teams1_Score))","v":0},{"$f":"SUMPRODUCT((Teams1=U11)*(Teams1_Score))+SUMPRODUCT((Teams2=U11)*(Teams2_Score))","v":0},{"$f":"SUMPRODUCT((Teams1=U11)*(Teams2_Score))+SUMPRODUCT((Teams2=U11)*(Teams1_Score))","v":0},{"$f":"Z11-AA11","v":0},{"$f":"3*W11+X11","v":0}]
[null,{"$f":"VLOOKUP($D12,TABLEAU_MATCHS[#All],2,FALSE)","v":"2018-06-16"},{"$f":"VLOOKUP($D12,TABLEAU_MATCHS[#All],3,FALSE)","v":"12:00:00"},5,{"$f":"\"Groupe \"&VLOOKUP($I12,TABLEAU_TEAMS[[#All],[TEAM]:[GROUP_INITIAL_RANK]],2,FALSE)","v":"Groupe C"},1.7,3.1,5,{"$f":"VLOOKUP($D12,TABLEAU_MATCHS[#All],4,FALSE)","v":"France"},null,null,{"$f":"VLOOKUP($D12,TABLEAU_MATCHS[#All],5,FALSE)","v":"Australie"},null,{"$f":"IF(OR(ISBLANK(RESULTATS!J12),ISBLANK(J12)),\"\",IF(AND(PRONOSTIQUEUR!J12=RESULTATS!J12,PRONOSTIQUEUR!M12=RESULTATS!M12),3,IF(OR(AND(PRONOSTIQUEUR!J12>PRONOSTIQUEUR!M12,RESULTATS!J12>RESULTATS!M12),AND(PRONOSTIQUEUR!J12<PRONOSTIQUEUR!M12,RESULTATS!J12<RESULTATS!M12),AND(PRONOSTIQUEUR!J12=PRONOSTIQUEUR!M12,RESULTATS!J12=RESULTATS!M12)),1,0)))","v":""},null,null,null,"00000Arabie Saoudite",0,1,"Arabie Saoudite",{"$f":"SUMPRODUCT((Teams1=U12)*(Teams1_Score<>\"\"))+SUMPRODUCT((Teams2=U12)*(Teams2_Score<>\"\"))","v":0},{"$f":"SUMPRODUCT((Teams1=U12)*(Teams1_Score>Teams2_Score))+SUMPRODUCT((Teams2=U12)*(Teams2_Score>Teams1_Score))","v":0},{"$f":"SUMPRODUCT((Teams1=U12)*(Teams1_Score=Teams2_Score)*(Teams1_Score<>\"\"))+SUMPRODUCT((Teams2=U12)*(Teams2_Score=Teams1_Score)*(Teams2_Score<>\"\"))","v":0},{"$f":"SUMPRODUCT((Teams1=U12)*(Teams1_Score<Teams2_Score))+SUMPRODUCT((Teams2=U12)*(Teams2_Score<Teams1_Score))","v":0},{"$f":"SUMPRODUCT((Teams1=U12)*(Teams1_Score))+SUMPRODUCT((Teams2=U12)*(Teams2_Score))","v":0},{"$f":"SUMPRODUCT((Teams1=U12)*(Teams2_Score))+SUMPRODUCT((Teams2=U12)*(Teams1_Score))","v":0},{"$f":"Z12-AA12","v":0},{"$f":"3*W12+X12","v":0},null,null,null,"Phases finales",null,null,null,null,null,null,{"$f":"SUM(AN13:AN17)","v":0},null,"points"]
[null,{"$f":"VLOOKUP($D13,TABLEAU_MATCHS[#All],2,FALSE)","v":"2018-06-16"},{"$f":"VLOOKUP($D13,TABLEAU_MATCHS[#All],3,FALSE)","v":"18:00:00"},6,{"$f":"\"Groupe \"&VLOOKUP($I13,TABLEAU_TEAMS[[#All],[TEAM]:[GROUP_INITIAL_RANK]],2,FALSE)","v":"Groupe C"},2.5499999999999998,2.9,2.7,{"$f":"VLOOKUP($D13,TABLEAU_MATCHS[#All],4,FALSE)","v":"Pérou"},null,null,{"$f":"VLOOKUP($D13,TABLEAU_MATCHS[#All],5,FALSE)","v":"Danemark"},null,{"$f":"IF(OR(ISBLANK(RESULTATS!J13),ISBLANK(J13)),\"\",IF(AND(PRONOSTIQUEUR!J13=RESULTATS!J13,PRONOSTIQUEUR!M13=RESULTATS!M13),3,IF(OR(AND(PRONOSTIQUEUR!J13>PRONOSTIQUEUR!M13,RESULTATS!J13>RESULTATS!M13),AND(PRONOSTIQUEUR!J13<PRONOSTIQUEUR!M13,RESULTATS!J13<RESULTATS!M13),AND(PRONOSTIQUEUR!J13=PRONOSTIQUEUR!M13,RESULTATS!J13=RESULTATS!M13)),1,0)))","v":""},null,null,null,null,null,null,null,null,null,null,null,null,null,null,null,null,null,null,"Huitièmes de finaliste trouvés (2 pts)",null,null,{"$f":"IF(CLASSEMENT!PHASES_FINALES=\"OUI\",$AK$53+$AQ$53,0)","v":0},"équipe(s) ",null,null,{"$f":"AJ13*2","v":0},null,"points"]
[null,{"$f":"VLOOKUP($D14,TABLEAU_MATCHS[#All],2,FALSE)","v":"2018-06-16"},{"$f":"VLOOKUP($D14,TABLEAU_MATCHS[#All],3,FALSE)","v":"15:00:00"},7,{"$f":"\"Groupe \"&VLOOKUP($I14,TABLEAU_TEAMS[[#All],[TEAM]:[GROUP_INITIAL_RANK]],2,FALSE)","v":"Groupe D"},1.4,4,7.25,{"$f":"VLOOKUP($D14,TABLEAU_MATCHS[#All],4,FALSE)","v":"Argentine"},null,null,{"$f":"VLOOKUP($D14,TABLEAU_MATCHS[#All],5,FALSE)","v":"Islande"},null,{"$f":"IF(OR(ISBLANK(RESULTATS!J14),ISBLANK(J14)),\"\",IF(AND(PRONOSTIQUEUR!J14=RESULTATS!J14,PRONOSTIQUEUR!M14=RESULTATS!M14),3,IF(OR(AND(PRONOSTIQUEUR!J14>PRONOSTIQUEUR!M14,RESULTATS!J14>RESULTATS!M14),AND(PRONOSTIQUEUR!J14<PRONOSTIQUEUR!M14,RESULTATS!J14<RESULTATS!M14),AND(PRONOSTIQUEUR!J14=PRONOSTIQUEUR!M14,RESULTATS!J14=RESULTATS!M14)),1,0)))","v":""},null,null,null,null,null,"Rg","Groupe B","MJ","G","N","P","BP","BC","+/-","Pts",null,null,null,"Quarts de finalistes trouvés (4 pts)",null,null,{"$f":"IF(CLASSEMENT!PHASES_FINALES=\"OUI\",$AK$42+$AQ$42,0)","v":0},"équipe(s) ",null,null,{"$f":"AJ14*4","v":0},null,"points"]
[null,{"$f":"VLOOKUP($D15,TABLEAU_MATCHS[#All],2,FALSE)","v":"2018-06-16"},{"$f":"VLOOKUP($D15,TABLEAU_MATCHS[#All],3,FALSE)","v":"21:00:00"},8,{"$f":"\"Groupe \"&VLOOKUP($I15,TABLEAU_TEAMS[[#All],[TEAM]:[GROUP_INITIAL_RANK]],2,FALSE)","v":"Groupe D"},2.95,2.7,2.5499999999999998,{"$f":"VLOOKUP($D15,TABLEAU_MATCHS[#All],4,FALSE)","v":"Croatie"},null,null,{"$f":"VLOOKUP($D15,TABLEAU_MATCHS[#All],5,FALSE)","v":"Nigeria"},null,{"$f":"IF(OR(ISBLANK(RESULTATS!J15),ISBLANK(J15)),\"\",IF(AND(PRONOSTIQUEUR!J15=RESULTATS!J15,PRONOSTIQUEUR!M15=RESULTATS!M15),3,IF(OR(AND(PRONOSTIQUEUR!J15>PRONOSTIQUEUR!M15,RESULTATS!J15>RESULTATS!M15),AND(PRONOSTIQUEUR!J15<PRONOSTIQUEUR!M15,RESULTATS!J15<RESULTATS!M15),AND(PRONOSTIQUEUR!J15=PRONOSTIQUEUR!M15,RESULTATS!J15=RESULTATS!M15)),1,0)))","v":""},null,null,null,{"$f":"INDEX($R66:$R69,MATCH(SMALL(COUNTIF($R66:$R69,\">=\"&$R66:$R69),ROW(INDIRECT(\"1:\"&ROWS($R66:$R69)))),COUNTIF($R66:$R69,\">=\"&$R66:$R69),0))","v":"00000RI Iran"},{"$f":"INDEX($S66:$S69,MATCH(SMALL(COUNTIF($R66:$R69,\">=\"&$R66:$R69),ROW(INDIRECT(\"1:\"&ROWS($R66:$R69)))),COUNTIF($R66:$R69,\">=\"&$R66:$R69),0))","v":0},{"$f":"INDEX($T66:$T69,MATCH(SMALL(COUNTIF($R66:$R69,\">=\"&$R66:$R69),ROW(INDIRECT(\"1:\"&ROWS($R66:$R69)))),COUNTIF($R66:$R69,\">=\"&$R66:$R69),0))","v":1},{"$f":"INDEX($U66:$U69,MATCH(SMALL(COUNTIF($R66:$R69,\">=\"&$R66:$R69),ROW(INDIRECT(\"1:\"&ROWS($R66:$R69)))),COUNTIF($R66:$R69,\">=\"&$R66:$R69),0))","v":"RI Iran"},{"$f":"SUMPRODUCT((Teams1=U15)*(Teams1_Score<>\"\"))+SUMPRODUCT((Teams2=U15)*(Teams2_Score<>\"\"))","v":0},{"$f":"SUMPRODUCT((Teams1=U15)*(Teams1_Score>Teams2_Score))+SUMPRODUCT((Teams2=U15)*(Teams2_Score>Teams1_Score))","v":0},{"$f":"SUMPRODUCT((Teams1=U15)*(Teams1_Score=Teams2_Score)*(Teams1_Score<>\"\"))+SUMPRODUCT((Teams2=U15)*(Teams2_Score=Teams1_Score)*(Teams2_Score<>\"\"))","v":0},{"$f":"SUMPRODUCT((Teams1=U15)*(Teams1_Score<Teams2_Score))+SUMPRODUCT((Teams2=U15)*(Teams2_Score<Teams1_Score))","v":0},{"$f":"SUMPRODUCT((Teams1=U15)*(Teams1_Score))+SUMPRODUCT((Teams2=U15)*(Teams2_Score))","v":0},{"$f":"SUMPRODUCT((Teams1=U15)*(Teams2_Score))+SUMPRODUCT((Teams2=U15)*(Teams1_Score))","v":0},{"$f":"Z15-AA15","v":0},{"$f":"3*W15+X15","v":0},null,null,null,"Demi finalistes trouvés (5 pts)",null,null,{"$f":"IF(CLASSEMENT!PHASES_FINALES=\"OUI\",$AK$35+$AQ$35,0)","v":0},"équipe(s) ",null,null,{"$f":"AJ15*5","v":0},null,"points"]
[null,{"$f":"VLOOKUP($D16,TABLEAU_MATCHS[#All],2,FALSE)","v":"2018-06-17"},{"$f":"VLOOKUP($D16,TABLEAU_MATCHS[#All],3,FALSE)","v":"14:00:00"},9,{"$f":"\"Groupe \"&VLOOKUP($I16,TABLEAU_TEAMS[[#All],[TEAM]:[GROUP_INITIAL_RANK]],2,FALSE)","v":"Groupe E"},2.35,2.9,2.95,{"$f":"VLOOKUP($D16,TABLEAU_MATCHS[#All],4,FALSE)","v":"Costa Rica"},null,null,{"$f":"VLOOKUP($D16,TABLEAU_MATCHS[#All],5,FALSE)","v":"Serbie"},null,{"$f":"IF(OR(ISBLANK(RESULTATS!J16),ISBLANK(J16)),\"\",IF(AND(PRONOSTIQUEUR!J16=RESULTATS!J16,PRONOSTIQUEUR!M16=RESULTATS!M16),3,IF(OR(AND(PRONOSTIQUEUR!J16>PRONOSTIQUEUR!M16,RESULTATS!J16>RESULTATS!M16),AND(PRONOSTIQUEUR!J16<PRONOSTIQUEUR!M16,RESULTATS!J16<RESULTATS!M16),AND(PRONOSTIQUEUR!J16=PRONOSTIQUEUR!M16,RESULTATS!J16=RESULTATS!M16)),1,0)))","v":""},null,null,null,"00000Portugal",0,1,"Portugal",{"$f":"SUMPRODUCT((Teams1=U16)*(Teams1_Score<>\"\"))+SUMPRODUCT((Teams2=U16)*(Teams2_Score<>\"\"))","v":0},{"$f":"SUMPRODUCT((Teams1=U16)*(Teams1_Score>Teams2_Score))+SUMPRODUCT((Teams2=U16)*(Teams2_Score>Teams1_Score))","v":0},{"$f":"SUMPRODUCT((Teams1=U16)*(Teams1_Score=Teams2_Score)*(Teams1_Score<>\"\"))+SUMPRODUCT((Teams2=U16)*(Teams2_Score=Teams1_Score)*(Teams2_Score<>\"\"))","v":0},{"$f":"SUMPRODUCT((Teams1=U16)*(Teams1_Score<Teams2_Score))+SUMPRODUCT((Teams2=U16)*(Teams2_Score<Teams1_Score))","v":0},{"$f":"SUMPRODUCT((Teams1=U16)*(Teams1_Score))+SUMPRODUCT((Teams2=U16)*(Teams2_Score))","v":0},{"$f":"SUMPRODUCT((Teams1=U16)*(Teams2_Score))+SUMPRODUCT((Teams2=U16)*(Teams1_Score))","v":0},{"$f":"Z16-AA16","v":0},{"$f":"3*W16+X16","v":0},null,null,null,"Finalistes trouvés (6 pts)",null,null,{"$f":"IF(CLASSEMENT!PHASES_FINALES=\"OUI\",$AK$25+$AQ$25,0)","v":0},"équipe(s) ",null,null,{"$f":"AJ16*6","v":0},null,"points"]
[null,{"$f":"VLOOKUP($D17,TABLEAU_MATCHS[#All],2,FALSE)","v":"2018-06-17"},{"$f":"VLOOKUP($D17,TABLEAU_MATCHS[#All],3,FALSE)","v":"20:00:00"},10,{"$f":"\"Groupe \"&VLOOKUP($I17,TABLEAU_TEAMS[[#All],[TEAM]:[GROUP_INITIAL_RANK]],2,FALSE)","v":"Groupe E"},1.28,4.7,9.5,{"$f":"VLOOKUP($D17,TABLEAU_MATCHS[#All],4,FALSE)","v":"Brésil"},null,null,{"$f":"VLOOKUP($D17,TABLEAU_MATCHS[#All],5,FALSE)","v":"Suisse"},null,{"$f":"IF(OR(ISBLANK(RESULTATS!J17),ISBLANK(J17)),\"\",IF(AND(PRONOSTIQUEUR!J17=RESULTATS!J17,PRONOSTIQUEUR!M17=RESULTATS!M17),3,IF(OR(AND(PRONOSTIQUEUR!J17>PRONOSTIQUEUR!M17,RESULTATS!J17>RESULTATS!M17),AND(PRONOSTIQUEUR!J17<PRONOSTIQUEUR!M17,RESULTATS!J17<RESULTATS!M17),AND(PRONOSTIQUEUR!J17=PRONOSTIQUEUR!M17,RESULTATS!J17=RESULTATS!M17)),1,0)))","v":""},null,null,null,"00000Maroc",0,1,"Maroc",{"$f":"SUMPRODUCT((Teams1=U17)*(Teams1_Score<>\"\"))+SUMPRODUCT((Teams2=U17)*(Teams2_Score<>\"\"))","v":0},{"$f":"SUMPRODUCT((Teams1=U17)*(Teams1_Score>Teams2_Score))+SUMPRODUCT((Teams2=U17)*(Teams2_Score>Teams1_Score))","v":0},{"$f":"SUMPRODUCT((Teams1=U17)*(Teams1_Score=Teams2_Score)*(Teams1_Score<>\"\"))+SUMPRODUCT((Teams2=U17)*(Teams2_Score=Teams1_Score)*(Teams2_Score<>\"\"))","v":0},{"$f":"SUMPRODUCT((Teams1=U17)*(Teams1_Score<Teams2_Score))+SUMPRODUCT((Teams2=U17)*(Teams2_Score<Teams1_Score))","v":0},{"$f":"SUMPRODUCT((Teams1=U17)*(Teams1_Score))+SUMPRODUCT((Teams2=U17)*(Teams2_Score))","v":0},{"$f":"SUMPRODUCT((Teams1=U17)*(Teams2_Score))+SUMPRODUCT((Teams2=U17)*(Teams1_Score))","v":0},{"$f":"Z17-AA17","v":0},{"$f":"3*W17+X17","v":0},null,null,null,"Champion du monde trouvé (7 pts)",null,null,{"$f":"IF(CLASSEMENT!PHASES_FINALES=\"OUI\",IF(AJ25<>\"\",IF($AT$25=RESULTATS!AS10,1,0),0),0)","v":0},"équipe",null,null,{"$f":"AJ17*7","v":0},null,"points"]
[null,{"$f":"VLOOKUP($D18,TABLEAU_MATCHS[#All],2,FALSE)","v":"2018-06-17"},{"$f":"VLOOKUP($D18,TABLEAU_MATCHS[#All],3,FALSE)","v":"17:00:00"},11,{"$f":"\"Groupe \"&VLOOKUP($I18,TABLEAU_TEAMS[[#All],[TEAM]:[GROUP_INITIAL_RANK]],2,FALSE)","v":"Groupe F"},1.34,4.3,7.5,{"$f":"VLOOKUP($D18,TABLEAU_MATCHS[#All],4,FALSE)","v":"Allemagne"},null,null,{"$f":"VLOOKUP($D18,TABLEAU_MATCHS[#All],5,FALSE)","v":"Mexique"},null,{"$f":"IF(OR(ISBLANK(RESULTATS!J18),ISBLANK(J18)),\"\",IF(AND(PRONOSTIQUEUR!J18=RESULTATS!J18,PRONOSTIQUEUR!M18=RESULTATS!M18),3,IF(OR(AND(PRONOSTIQUEUR!J18>PRONOSTIQUEUR!M18,RESULTATS!J18>RESULTATS!M18),AND(PRONOSTIQUEUR!J18<PRONOSTIQUEUR!M18,RESULTATS!J18<RESULTATS!M18),AND(PRONOSTIQUEUR!J18=PRONOSTIQUEUR!M18,RESULTATS!J18=RESULTATS!M18)),1,0)))","v":""},null,null,null,"00000Espagne",0,1,"Espagne",{"$f":"SUMPRODUCT((Teams1=U18)*(Teams1_Score<>\"\"))+SUMPRODUCT((Teams2=U18)*(Teams2_Score<>\"\"))","v":0},{"$f":"SUMPRODUCT((Teams1=U18)*(Teams1_Score>Teams2_Score))+SUMPRODUCT((Teams2=U18)*(Teams2_Score>Teams1_Score))","v":0},{"$f":"SUMPRODUCT((Teams1=U18)*(Teams1_Score=Teams2_Score)*(Teams1_Score<>\"\"))+SUMPRODUCT((Teams2=U18)*(Teams2_Score=Teams1_Score)*(Teams2_Score<>\"\"))","v":0},{"$f":"SUMPRODUCT((Teams1=U18)*(Teams1_Score<Teams2_Score))+SUMPRODUCT((Teams2=U18)*(Teams2_Score<Teams1_Score))","v":0},{"$f":"SUMPRODUCT((Teams1=U18)*(Teams1_Score))+SUMPRODUCT((Teams2=U18)*(Teams2_Score))","v":0},{"$f":"SUMPRODUCT((Teams1=U18)*(Teams2_Score))+SUMPRODUCT((Teams2=U18)*(Teams1_Score))","v":0},{"$f":"Z18-AA18","v":0},{"$f":"3*W18+X18","v":0}]
[null,{"$f":"VLOOKUP($D19,TABLEAU_MATCHS[#All],2,FALSE)","v":"2018-06-18"},{"$f":"VLOOKUP($D19,TABLEAU_MATCHS[#All],3,FALSE)","v":"14:00:00"},12,{"$f":"\"Groupe \"&VLOOKUP($I19,TABLEAU_TEAMS[[#All],[TEAM]:[GROUP_INITIAL_RANK]],2,FALSE)","v":"Groupe F"},3.3,2.95,2.15,{"$f":"VLOOKUP($D19,TABLEAU_MATCHS[#All],4,FALSE)","v":"Suède"},null,null,{"$f":"VLOOKUP($D19,TABLEAU_MATCHS[#All],5,FALSE)","v":"République de Corée"},null,{"$f":"IF(OR(ISBLANK(RESULTATS!J19),ISBLANK(J19)),\"\",IF(AND(PRONOSTIQUEUR!J19=RESULTATS!J19,PRONOSTIQUEUR!M19=RESULTATS!M19),3,IF(OR(AND(PRONOSTIQUEUR!J19>PRONOSTIQUEUR!M19,RESULTATS!J19>RESULTATS!M19),AND(PRONOSTIQUEUR!J19<PRONOSTIQUEUR!M19,RESULTATS!J19<RESULTATS!M19),AND(PRONOSTIQUEUR!J19=PRONOSTIQUEUR!M19,RESULTATS!J19=RESULTATS!M19)),1,0)))","v":""}]
[null,{"$f":"VLOOKUP($D20,TABLEAU_MATCHS[#All],2,FALSE)","v":"2018-06-18"},{"$f":"VLOOKUP($D20,TABLEAU_MATCHS[#All],3,FALSE)","v":"17:00:00"},13,{"$f":"\"Groupe \"&VLOOKUP($I20,TABLEAU_TEAMS[[#All],[TEAM]:[GROUP_INITIAL_RANK]],2,FALSE)","v":"Groupe G"},1.95,2.95,4,{"$f":"VLOOKUP($D20,TABLEAU_MATCHS[#All],4,FALSE)","v":"Belgique"},null,null,{"$f":"VLOOKUP($D20,TABLEAU_MATCHS[#All],5,FALSE)","v":"Panama"},null,{"$f":"IF(OR(ISBLANK(RESULTATS!J20),ISBLANK(J20)),\"\",IF(AND(PRONOSTIQUEUR!J20=RESULTATS!J20,PRONOSTIQUEUR!M20=RESULTATS!M20),3,IF(OR(AND(PRONOSTIQUEUR!J20>PRONOSTIQUEUR!M20,RESULTATS!J20>RESULTATS!M20),AND(PRONOSTIQUEUR!J20<PRONOSTIQUEUR!M20,RESULTATS!J20<RESULTATS!M20),AND(PRONOSTIQUEUR!J20=PRONOSTIQUEUR!M20,RESULTATS!J20=RESULTATS!M20)),1,0)))","v":""},null,null,null,null,null,"Rg","Groupe C","MJ","G","N","P","BP","BC","+/-","Pts"]
[null,{"$f":"VLOOKUP($D21,TABLEAU_MATCHS[#All],2,FALSE)","v":"2018-06-18"},{"$f":"VLOOKUP($D21,TABLEAU_MATCHS[#All],3,FALSE)","v":"20:00:00"},14,{"$f":"\"Groupe \"&VLOOKUP($I21,TABLEAU_TEAMS[[#All],[TEAM]:[GROUP_INITIAL_RANK]],2,FALSE)","v":"Groupe G"},2.5499999999999998,2.9,2.7,{"$f":"VLOOKUP($D21,TABLEAU_MATCHS[#All],4,FALSE)","v":"Tunisie"},null,null,{"$f":"VLOOKUP($D21,TABLEAU_MATCHS[#All],5,FALSE)","v":"Angleterre"},null,{"$f":"IF(OR(ISBLANK(RESULTATS!J21),ISBLANK(J21)),\"\",IF(AND(PRONOSTIQUEUR!J21=RESULTATS!J21,PRONOSTIQUEUR!M21=RESULTATS!M21),3,IF(OR(AND(PRONOSTIQUEUR!J21>PRONOSTIQUEUR!M21,RESULTATS!J21>RESULTATS!M21),AND(PRONOSTIQUEUR!J21<PRONOSTIQUEUR!M21,RESULTATS!J21<RESULTATS!M21),AND(PRONOSTIQUEUR!J21=PRONOSTIQUEUR!M21,RESULTATS!J21=RESULTATS!M21)),1,0)))","v":""},null,null,null,{"$f":"INDEX($R72:$R75,MATCH(SMALL(COUNTIF($R72:$R75,\">=\"&$R72:$R75),ROW(INDIRECT(\"1:\"&ROWS($R72:$R75)))),COUNTIF($R72:$R75,\">=\"&$R72:$R75),0))","v":"00000Pérou"},{"$f":"INDEX($S72:$S75,MATCH(SMALL(COUNTIF($R72:$R75,\">=\"&$R72:$R75),ROW(INDIRECT(\"1:\"&ROWS($R72:$R75)))),COUNTIF($R72:$R75,\">=\"&$R72:$R75),0))","v":0},{"$f":"INDEX($T72:$T75,MATCH(SMALL(COUNTIF($R72:$R75,\">=\"&$R72:$R75),ROW(INDIRECT(\"1:\"&ROWS($R72:$R75)))),COUNTIF($R72:$R75,\">=\"&$R72:$R75),0))","v":1},{"$f":"INDEX($U72:$U75,MATCH(SMALL(COUNTIF($R72:$R75,\">=\"&$R72:$R75),ROW(INDIRECT(\"1:\"&ROWS($R72:$R75)))),COUNTIF($R72:$R75,\">=\"&$R72:$R75),0))","v":"Pérou"},{"$f":"SUMPRODUCT((Teams1=U21)*(Teams1_Score<>\"\"))+SUMPRODUCT((Teams2=U21)*(Teams2_Score<>\"\"))","v":0},{"$f":"SUMPRODUCT((Teams1=U21)*(Teams1_Score>Teams2_Score))+SUMPRODUCT((Teams2=U21)*(Teams2_Score>Teams1_Score))","v":0},{"$f":"SUMPRODUCT((Teams1=U21)*(Teams1_Score=Teams2_Score)*(Teams1_Score<>\"\"))+SUMPRODUCT((Teams2=U21)*(Teams2_Score=Teams1_Score)*(Teams2_Score<>\"\"))","v":0},{"$f":"SUMPRODUCT((Teams1=U21)*(Teams1_Score<Teams2_Score))+SUMPRODUCT((Teams2=U21)*(Teams2_Score<Teams1_Score))","v":0},{"$f":"SUMPRODUCT((Teams1=U21)*(Teams1_Score))+SUMPRODUCT((Teams2=U21)*(Teams2_Score))","v":0},{"$f":"SUMPRODUCT((Teams1=U21)*(Teams2_Score))+SUMPRODUCT((Teams2=U21)*(Teams1_Score))","v":0},{"$f":"Z21-AA21","v":0},{"$f":"3*W21+X21","v":0},null,null,null,"PHASES FINALES"]
[null,{"$f":"VLOOKUP($D22,TABLEAU_MATCHS[#All],2,FALSE)","v":"2018-06-19"},{"$f":"VLOOKUP($D22,TABLEAU_MATCHS[#All],3,FALSE)","v":"17:00:00"},15,{"$f":"\"Groupe \"&VLOOKUP($I22,TABLEAU_TEAMS[[#All],[TEAM]:[GROUP_INITIAL_RANK]],2,FALSE)","v":"Groupe H"},1.38,3.9,8,{"$f":"VLOOKUP($D22,TABLEAU_MATCHS[#All],4,FALSE)","v":"Colombie"},null,null,{"$f":"VLOOKUP($D22,TABLEAU_MATCHS[#All],5,FALSE)","v":"Japon"},null,{"$f":"IF(OR(ISBLANK(RESULTATS!J22),ISBLANK(J22)),\"\",IF(AND(PRONOSTIQUEUR!J22=RESULTATS!J22,PRONOSTIQUEUR!M22=RESULTATS!M22),3,IF(OR(AND(PRONOSTIQUEUR!J22>PRONOSTIQUEUR!M22,RESULTATS!J22>RESULTATS!M22),AND(PRONOSTIQUEUR!J22<PRONOSTIQUEUR!M22,RESULTATS!J22<RESULTATS!M22),AND(PRONOSTIQUEUR!J22=PRONOSTIQUEUR!M22,RESULTATS!J22=RESULTATS!M22)),1,0)))","v":""},null,null,null,"00000France",0,1,"France",{"$f":"SUMPRODUCT((Teams1=U22)*(Teams1_Score<>\"\"))+SUMPRODUCT((Teams2=U22)*(Teams2_Score<>\"\"))","v":0},{"$f":"SUMPRODUCT((Teams1=U22)*(Teams1_Score>Teams2_Score))+SUMPRODUCT((Teams2=U22)*(Teams2_Score>Teams1_Score))","v":0},{"$f":"SUMPRODUCT((Teams1=U22)*(Teams1_Score=Teams2_Score)*(Teams1_Score<>\"\"))+SUMPRODUCT((Teams2=U22)*(Teams2_Score=Teams1_Score)*(Teams2_Score<>\"\"))","v":0},{"$f":"SUMPRODUCT((Teams1=U22)*(Teams1_Score<Teams2_Score))+SUMPRODUCT((Teams2=U22)*(Teams2_Score<Teams1_Score))","v":0},{"$f":"SUMPRODUCT((Teams1=U22)*(Teams1_Score))+SUMPRODUCT((Teams2=U22)*(Teams2_Score))","v":0},{"$f":"SUMPRODUCT((Teams1=U22)*(Teams2_Score))+SUMPRODUCT((Teams2=U22)*(Teams1_Score))","v":0},{"$f":"Z22-AA22","v":0},{"$f":"3*W22+X22","v":0}]
[null,{"$f":"VLOOKUP($D23,TABLEAU_MATCHS[#All],2,FALSE)","v":"2018-06-19"},{"$f":"VLOOKUP($D23,TABLEAU_MATCHS[#All],3,FALSE)","v":"14:00:00"},16,{"$f":"\"Groupe \"&VLOOKUP($I23,TABLEAU_TEAMS[[#All],[TEAM]:[GROUP_INITIAL_RANK]],2,FALSE)","v":"Groupe H"},2.0499999999999998,2.9,3.5,{"$f":"VLOOKUP($D23,TABLEAU_MATCHS[#All],4,FALSE)","v":"Pologne"},null,null,{"$f":"VLOOKUP($D23,TABLEAU_MATCHS[#All],5,FALSE)","v":"Sénégal"},null,{"$f":"IF(OR(ISBLANK(RESULTATS!J23),ISBLANK(J23)),\"\",IF(AND(PRONOSTIQUEUR!J23=RESULTATS!J23,PRONOSTIQUEUR!M23=RESULTATS!M23),3,IF(OR(AND(PRONOSTIQUEUR!J23>PRONOSTIQUEUR!M23,RESULTATS!J23>RESULTATS!M23),AND(PRONOSTIQUEUR!J23<PRONOSTIQUEUR!M23,RESULTATS!J23<RESULTATS!M23),AND(PRONOSTIQUEUR!J23=PRONOSTIQUEUR!M23,RESULTATS!J23=RESULTATS!M23)),1,0)))","v":""},null,null,null,"00000Danemark",0,1,"Danemark",{"$f":"SUMPRODUCT((Teams1=U23)*(Teams1_Score<>\"\"))+SUMPRODUCT((Teams2=U23)*(Teams2_Score<>\"\"))","v":0},{"$f":"SUMPRODUCT((Teams1=U23)*(Teams1_Score>Teams2_Score))+SUMPRODUCT((Teams2=U23)*(Teams2_Score>Teams1_Score))","v":0},{"$f":"SUMPRODUCT((Teams1=U23)*(Teams1_Score=Teams2_Score)*(Teams1_Score<>\"\"))+SUMPRODUCT((Teams2=U23)*(Teams2_Score=Teams1_Score)*(Teams2_Score<>\"\"))","v":0},{"$f":"SUMPRODUCT((Teams1=U23)*(Teams1_Score<Teams2_Score))+SUMPRODUCT((Teams2=U23)*(Teams2_Score<Teams1_Score))","v":0},{"$f":"SUMPRODUCT((Teams1=U23)*(Teams1_Score))+SUMPRODUCT((Teams2=U23)*(Teams2_Score))","v":0},{"$f":"SUMPRODUCT((Teams1=U23)*(Teams2_Score))+SUMPRODUCT((Teams2=U23)*(Teams1_Score))","v":0},{"$f":"Z23-AA23","v":0},{"$f":"3*W23+X23","v":0},null,null,"Date","Finale",null,null,"Buts",null,"Pen",null,null,null,"Buts",null,"Pen"]
[null,{"$f":"VLOOKUP($D24,TABLEAU_MATCHS[#All],2,FALSE)","v":"2018-06-19"},{"$f":"VLOOKUP($D24,TABLEAU_MATCHS[#All],3,FALSE)","v":"20:00:00"},17,{"$f":"\"Groupe \"&VLOOKUP($I24,TABLEAU_TEAMS[[#All],[TEAM]:[GROUP_INITIAL_RANK]],2,FALSE)","v":"Groupe A"},1.26,4.8,9,{"$f":"VLOOKUP($D24,TABLEAU_MATCHS[#All],4,FALSE)","v":"Russie"},null,null,{"$f":"VLOOKUP($D24,TABLEAU_MATCHS[#All],5,FALSE)","v":"Egypte"},null,{"$f":"IF(OR(ISBLANK(RESULTATS!J24),ISBLANK(J24)),\"\",IF(AND(PRONOSTIQUEUR!J24=RESULTATS!J24,PRONOSTIQUEUR!M24=RESULTATS!M24),3,IF(OR(AND(PRONOSTIQUEUR!J24>PRONOSTIQUEUR!M24,RESULTATS!J24>RESULTATS!M24),AND(PRONOSTIQUEUR!J24<PRONOSTIQUEUR!M24,RESULTATS!J24<RESULTATS!M24),AND(PRONOSTIQUEUR!J24=PRONOSTIQUEUR!M24,RESULTATS!J24=RESULTATS!M24)),1,0)))","v":""},null,null,null,"00000Australie",0,1,"Australie",{"$f":"SUMPRODUCT((Teams1=U24)*(Teams1_Score<>\"\"))+SUMPRODUCT((Teams2=U24)*(Teams2_Score<>\"\"))","v":0},{"$f":"SUMPRODUCT((Teams1=U24)*(Teams1_Score>Teams2_Score))+SUMPRODUCT((Teams2=U24)*(Teams2_Score>Teams1_Score))","v":0},{"$f":"SUMPRODUCT((Teams1=U24)*(Teams1_Score=Teams2_Score)*(Teams1_Score<>\"\"))+SUMPRODUCT((Teams2=U24)*(Teams2_Score=Teams1_Score)*(Teams2_Score<>\"\"))","v":0},{"$f":"SUMPRODUCT((Teams1=U24)*(Teams1_Score<Teams2_Score))+SUMPRODUCT((Teams2=U24)*(Teams2_Score<Teams1_Score))","v":0},{"$f":"SUMPRODUCT((Teams1=U24)*(Teams1_Score))+SUMPRODUCT((Teams2=U24)*(Teams2_Score))","v":0},{"$f":"SUMPRODUCT((Teams1=U24)*(Teams2_Score))+SUMPRODUCT((Teams2=U24)*(Teams1_Score))","v":0},{"$f":"Z24-AA24","v":0},{"$f":"3*W24+X24","v":0}]
[null,{"$f":"VLOOKUP($D25,TABLEAU_MATCHS[#All],2,FALSE)","v":"2018-06-20"},{"$f":"VLOOKUP($D25,TABLEAU_MATCHS[#All],3,FALSE)","v":"17:00:00"},18,{"$f":"\"Groupe \"&VLOOKUP($I25,TABLEAU_TEAMS[[#All],[TEAM]:[GROUP_INITIAL_RANK]],2,FALSE)","v":"Groupe A"},3.5,3,2,{"$f":"VLOOKUP($D25,TABLEAU_MATCHS[#All],4,FALSE)","v":"Uruguay"},null,null,{"$f":"VLOOKUP($D25,TABLEAU_MATCHS[#All],5,FALSE)","v":"Arabie Saoudite"},null,{"$f":"IF(OR(ISBLANK(RESULTATS!J25),ISBLANK(J25)),\"\",IF(AND(PRONOSTIQUEUR!J25=RESULTATS!J25,PRONOSTIQUEUR!M25=RESULTATS!M25),3,IF(OR(AND(PRONOSTIQUEUR!J25>PRONOSTIQUEUR!M25,RESULTATS!J25>RESULTATS!M25),AND(PRONOSTIQUEUR!J25<PRONOSTIQUEUR!M25,RESULTATS!J25<RESULTATS!M25),AND(PRONOSTIQUEUR!J25=PRONOSTIQUEUR!M25,RESULTATS!J25=RESULTATS!M25)),1,0)))","v":""},null,null,null,null,null,null,null,null,null,null,null,null,null,null,null,null,null,"2018-07-15",null,{"$f":"+IF(AJ33<>\"\",IF(AI33>AO33,AH33,AN33),\"Vainqueur 1\")","v":"Vainqueur 1"},{"$f":"AJ25*10+AL25","v":0},null,{"$f":"IF(LEFT(AH25,5)<>\"Vainq\",COUNTIF(RESULTATS!$AG$10:$AM$10,AH25),0)","v":0},null,null,{"$f":"+IF(AJ34<>\"\",IF(AI34>AO34,AH34,AN34),\"Vainqueur 2\")","v":"Vainqueur 2"},{"$f":"AP25*10+AR25","v":0},null,{"$f":"IF(LEFT(AN25,5)<>\"Vainq\",COUNTIF(RESULTATS!$AG$10:$AM$10,AN25),0)","v":0},null,null,{"$f":"IF(AJ25<>\"\",IF(AI25>AO25,AH25,AN25),\"\")","v":""}]
[null,{"$f":"VLOOKUP($D26,TABLEAU_MATCHS[#All],2,FALSE)","v":"2018-06-20"},{"$f":"VLOOKUP($D26,TABLEAU_MATCHS[#All],3,FALSE)","v":"14:00:00"},19,{"$f":"\"Groupe \"&VLOOKUP($I26,TABLEAU_TEAMS[[#All],[TEAM]:[GROUP_INITIAL_RANK]],2,FALSE)","v":"Groupe B"},1.66,3.35,4.8,{"$f":"VLOOKUP($D26,TABLEAU_MATCHS[#All],4,FALSE)","v":"Portugal"},null,null,{"$f":"VLOOKUP($D26,TABLEAU_MATCHS[#All],5,FALSE)","v":"Maroc"},null,{"$f":"IF(OR(ISBLANK(RESULTATS!J26),ISBLANK(J26)),\"\",IF(AND(PRONOSTIQUEUR!J26=RESULTATS!J26,PRONOSTIQUEUR!M26=RESULTATS!M26),3,IF(OR(AND(PRONOSTIQUEUR!J26>PRONOSTIQUEUR!M26,RESULTATS!J26>RESULTATS!M26),AND(PRONOSTIQUEUR!J26<PRONOSTIQUEUR!M26,RESULTATS!J26<RESULTATS!M26),AND(PRONOSTIQUEUR!J26=PRONOSTIQUEUR!M26,RESULTATS!J26=RESULTATS!M26)),1,0)))","v":""},null,null,null,null,null,"Rg","Groupe D","MJ","G","N","P","BP","BC","+/-","Pts"]
[null,{"$f":"VLOOKUP($D27,TABLEAU_MATCHS[#All],2,FALSE)","v":"2018-06-20"},{"$f":"VLOOKUP($D27,TABLEAU_MATCHS[#All],3,FALSE)","v":"20:00:00"},20,{"$f":"\"Groupe \"&VLOOKUP($I27,TABLEAU_TEAMS[[#All],[TEAM]:[GROUP_INITIAL_RANK]],2,FALSE)","v":"Groupe B"},8.5,4.7,1.28,{"$f":"VLOOKUP($D27,TABLEAU_MATCHS[#All],4,FALSE)","v":"RI Iran"},null,null,{"$f":"VLOOKUP($D27,TABLEAU_MATCHS[#All],5,FALSE)","v":"Espagne"},null,{"$f":"IF(OR(ISBLANK(RESULTATS!J27),ISBLANK(J27)),\"\",IF(AND(PRONOSTIQUEUR!J27=RESULTATS!J27,PRONOSTIQUEUR!M27=RESULTATS!M27),3,IF(OR(AND(PRONOSTIQUEUR!J27>PRONOSTIQUEUR!M27,RESULTATS!J27>RESULTATS!M27),AND(PRONOSTIQUEUR!J27<PRONOSTIQUEUR!M27,RESULTATS!J27<RESULTATS!M27),AND(PRONOSTIQUEUR!J27=PRONOSTIQUEUR!M27,RESULTATS!J27=RESULTATS!M27)),1,0)))","v":""},null,null,null,{"$f":"INDEX($R78:$R81,MATCH(SMALL(COUNTIF($R78:$R81,\">=\"&$R78:$R81),ROW(INDIRECT(\"1:\"&ROWS($R78:$R81)))),COUNTIF($R78:$R81,\">=\"&$R78:$R81),0))","v":"00000Nigeria"},{"$f":"INDEX($S78:$S81,MATCH(SMALL(COUNTIF($R78:$R81,\">=\"&$R78:$R81),ROW(INDIRECT(\"1:\"&ROWS($R78:$R81)))),COUNTIF($R78:$R81,\">=\"&$R78:$R81),0))","v":0},{"$f":"INDEX($T78:$T81,MATCH(SMALL(COUNTIF($R78:$R81,\">=\"&$R78:$R81),ROW(INDIRECT(\"1:\"&ROWS($R78:$R81)))),COUNTIF($R78:$R81,\">=\"&$R78:$R81),0))","v":1},{"$f":"INDEX($U78:$U81,MATCH(SMALL(COUNTIF($R78:$R81,\">=\"&$R78:$R81),ROW(INDIRECT(\"1:\"&ROWS($R78:$R81)))),COUNTIF($R78:$R81,\">=\"&$R78:$R81),0))","v":"Nigeria"},{"$f":"SUMPRODUCT((Teams1=U27)*(Teams1_Score<>\"\"))+SUMPRODUCT((Teams2=U27)*(Teams2_Score<>\"\"))","v":0},{"$f":"SUMPRODUCT((Teams1=U27)*(Teams1_Score>Teams2_Score))+SUMPRODUCT((Teams2=U27)*(Teams2_Score>Teams1_Score))","v":0},{"$f":"SUMPRODUCT((Teams1=U27)*(Teams1_Score=Teams2_Score)*(Teams1_Score<>\"\"))+SUMPRODUCT((Teams2=U27)*(Teams2_Score=Teams1_Score)*(Teams2_Score<>\"\"))","v":0},{"$f":"SUMPRODUCT((Teams1=U27)*(Teams1_Score<Teams2_Score))+SUMPRODUCT((Teams2=U27)*(Teams2_Score<Teams1_Score))","v":0},{"$f":"SUMPRODUCT((Teams1=U27)*(Teams1_Score))+SUMPRODUCT((Teams2=U27)*(Teams2_Score))","v":0},{"$f":"SUMPRODUCT((Teams1=U27)*(Teams2_Score))+SUMPRODUCT((Teams2=U27)*(Teams1_Score))","v":0},{"$f":"Z27-AA27","v":0},{"$f":"3*W27+X27","v":0},null,null,"Date","Petite Finale",null,null,"Buts",null,"Pen",null,null,null,"Buts",null,"Pen"]
[null,{"$f":"VLOOKUP($D28,TABLEAU_MATCHS[#All],2,FALSE)","v":"2018-06-21"},{"$f":"VLOOKUP($D28,TABLEAU_MATCHS[#All],3,FALSE)","v":"14:00:00"},21,{"$f":"\"Groupe \"&VLOOKUP($I28,TABLEAU_TEAMS[[#All],[TEAM]:[GROUP_INITIAL_RANK]],2,FALSE)","v":"Groupe C"},1.85,3,4,{"$f":"VLOOKUP($D28,TABLEAU_MATCHS[#All],4,FALSE)","v":"Danemark"},null,null,{"$f":"VLOOKUP($D28,TABLEAU_MATCHS[#All],5,FALSE)","v":"Australie"},null,{"$f":"IF(OR(ISBLANK(RESULTATS!J28),ISBLANK(J28)),\"\",IF(AND(PRONOSTIQUEUR!J28=RESULTATS!J28,PRONOSTIQUEUR!M28=RESULTATS!M28),3,IF(OR(AND(PRONOSTIQUEUR!J28>PRONOSTIQUEUR!M28,RESULTATS!J28>RESULTATS!M28),AND(PRONOSTIQUEUR!J28<PRONOSTIQUEUR!M28,RESULTATS!J28<RESULTATS!M28),AND(PRONOSTIQUEUR!J28=PRONOSTIQUEUR!M28,RESULTATS!J28=RESULTATS!M28)),1,0)))","v":""},null,null,null,"00000Islande",0,1,"Islande",{"$f":"SUMPRODUCT((Teams1=U28)*(Teams1_Score<>\"\"))+SUMPRODUCT((Teams2=U28)*(Teams2_Score<>\"\"))","v":0},{"$f":"SUMPRODUCT((Teams1=U28)*(Teams1_Score>Teams2_Score))+SUMPRODUCT((Teams2=U28)*(Teams2_Score>Teams1_Score))","v":0},{"$f":"SUMPRODUCT((Teams1=U28)*(Teams1_Score=Teams2_Score)*(Teams1_Score<>\"\"))+SUMPRODUCT((Teams2=U28)*(Teams2_Score=Teams1_Score)*(Teams2_Score<>\"\"))","v":0},{"$f":"SUMPRODUCT((Teams1=U28)*(Teams1_Score<Teams2_Score))+SUMPRODUCT((Teams2=U28)*(Teams2_Score<Teams1_Score))","v":0},{"$f":"SUMPRODUCT((Teams1=U28)*(Teams1_Score))+SUMPRODUCT((Teams2=U28)*(Teams2_Score))","v":0},{"$f":"SUMPRODUCT((Teams1=U28)*(Teams2_Score))+SUMPRODUCT((Teams2=U28)*(Teams1_Score))","v":0},{"$f":"Z28-AA28","v":0},{"$f":"3*W28+X28","v":0}]
[null,{"$f":"VLOOKUP($D29,TABLEAU_MATCHS[#All],2,FALSE)","v":"2018-06-21"},{"$f":"VLOOKUP($D29,TABLEAU_MATCHS[#All],3,FALSE)","v":"17:00:00"},22,{"$f":"\"Groupe \"&VLOOKUP($I29,TABLEAU_TEAMS[[#All],[TEAM]:[GROUP_INITIAL_RANK]],2,FALSE)","v":"Groupe C"},2.2999999999999998,3,2.9,{"$f":"VLOOKUP($D29,TABLEAU_MATCHS[#All],4,FALSE)","v":"France"},null,null,{"$f":"VLOOKUP($D29,TABLEAU_MATCHS[#All],5,FALSE)","v":"Pérou"},null,{"$f":"IF(OR(ISBLANK(RESULTATS!J29),ISBLANK(J29)),\"\",IF(AND(PRONOSTIQUEUR!J29=RESULTATS!J29,PRONOSTIQUEUR!M29=RESULTATS!M29),3,IF(OR(AND(PRONOSTIQUEUR!J29>PRONOSTIQUEUR!M29,RESULTATS!J29>RESULTATS!M29),AND(PRONOSTIQUEUR!J29<PRONOSTIQUEUR!M29,RESULTATS!J29<RESULTATS!M29),AND(PRONOSTIQUEUR!J29=PRONOSTIQUEUR!M29,RESULTATS!J29=RESULTATS!M29)),1,0)))","v":""},null,null,null,"00000Croatie",0,1,"Croatie",{"$f":"SUMPRODUCT((Teams1=U29)*(Teams1_Score<>\"\"))+SUMPRODUCT((Teams2=U29)*(Teams2_Score<>\"\"))","v":0},{"$f":"SUMPRODUCT((Teams1=U29)*(Teams1_Score>Teams2_Score))+SUMPRODUCT((Teams2=U29)*(Teams2_Score>Teams1_Score))","v":0},{"$f":"SUMPRODUCT((Teams1=U29)*(Teams1_Score=Teams2_Score)*(Teams1_Score<>\"\"))+SUMPRODUCT((Teams2=U29)*(Teams2_Score=Teams1_Score)*(Teams2_Score<>\"\"))","v":0},{"$f":"SUMPRODUCT((Teams1=U29)*(Teams1_Score<Teams2_Score))+SUMPRODUCT((Teams2=U29)*(Teams2_Score<Teams1_Score))","v":0},{"$f":"SUMPRODUCT((Teams1=U29)*(Teams1_Score))+SUMPRODUCT((Teams2=U29)*(Teams2_Score))","v":0},{"$f":"SUMPRODUCT((Teams1=U29)*(Teams2_Score))+SUMPRODUCT((Teams2=U29)*(Teams1_Score))","v":0},{"$f":"Z29-AA29","v":0},{"$f":"3*W29+X29","v":0},null,null,"2018-07-14",null,{"$f":"+IF(AJ33<>\"\",IF(AI33>AO33,AN33,AH33),\"Perdant 1\")","v":"Perdant 1"},{"$f":"AJ29*10+AL29","v":0},null,null,null,null,{"$f":"+IF(AJ34<>\"\",IF(AI34>AO34,AN34,AH34),\"Perdant 2\")","v":"Perdant 2"},{"$f":"AP29*10+AR29","v":0}]
[null,{"$f":"VLOOKUP($D30,TABLEAU_MATCHS[#All],2,FALSE)","v":"2018-06-21"},{"$f":"VLOOKUP($D30,TABLEAU_MATCHS[#All],3,FALSE)","v":"20:00:00"},23,{"$f":"\"Groupe \"&VLOOKUP($I30,TABLEAU_TEAMS[[#All],[TEAM]:[GROUP_INITIAL_RANK]],2,FALSE)","v":"Groupe D"},2.4,3,2.8,{"$f":"VLOOKUP($D30,TABLEAU_MATCHS[#All],4,FALSE)","v":"Argentine"},null,null,{"$f":"VLOOKUP($D30,TABLEAU_MATCHS[#All],5,FALSE)","v":"Croatie"},null,{"$f":"IF(OR(ISBLANK(RESULTATS!J30),ISBLANK(J30)),\"\",IF(AND(PRONOSTIQUEUR!J30=RESULTATS!J30,PRONOSTIQUEUR!M30=RESULTATS!M30),3,IF(OR(AND(PRONOSTIQUEUR!J30>PRONOSTIQUEUR!M30,RESULTATS!J30>RESULTATS!M30),AND(PRONOSTIQUEUR!J30<PRONOSTIQUEUR!M30,RESULTATS!J30<RESULTATS!M30),AND(PRONOSTIQUEUR!J30=PRONOSTIQUEUR!M30,RESULTATS!J30=RESULTATS!M30)),1,0)))","v":""},null,null,null,"00000Argentine",0,1,"Argentine",{"$f":"SUMPRODUCT((Teams1=U30)*(Teams1_Score<>\"\"))+SUMPRODUCT((Teams2=U30)*(Teams2_Score<>\"\"))","v":0},{"$f":"SUMPRODUCT((Teams1=U30)*(Teams1_Score>Teams2_Score))+SUMPRODUCT((Teams2=U30)*(Teams2_Score>Teams1_Score))","v":0},{"$f":"SUMPRODUCT((Teams1=U30)*(Teams1_Score=Teams2_Score)*(Teams1_Score<>\"\"))+SUMPRODUCT((Teams2=U30)*(Teams2_Score=Teams1_Score)*(Teams2_Score<>\"\"))","v":0},{"$f":"SUMPRODUCT((Teams1=U30)*(Teams1_Score<Teams2_Score))+SUMPRODUCT((Teams2=U30)*(Teams2_Score<Teams1_Score))","v":0},{"$f":"SUMPRODUCT((Teams1=U30)*(Teams1_Score))+SUMPRODUCT((Teams2=U30)*(Teams2_Score))","v":0},{"$f":"SUMPRODUCT((Teams1=U30)*(Teams2_Score))+SUMPRODUCT((Teams2=U30)*(Teams1_Score))","v":0},{"$f":"Z30-AA30","v":0},{"$f":"3*W30+X30","v":0}]
[null,{"$f":"VLOOKUP($D31,TABLEAU_MATCHS[#All],2,FALSE)","v":"2018-06-22"},{"$f":"VLOOKUP($D31,TABLEAU_MATCHS[#All],3,FALSE)","v":"17:00:00"},24,{"$f":"\"Groupe \"&VLOOKUP($I31,TABLEAU_TEAMS[[#All],[TEAM]:[GROUP_INITIAL_RANK]],2,FALSE)","v":"Groupe D"},1.26,4.5999999999999996,9.5,{"$f":"VLOOKUP($D31,TABLEAU_MATCHS[#All],4,FALSE)","v":"Nigeria"},null,null,{"$f":"VLOOKUP($D31,TABLEAU_MATCHS[#All],5,FALSE)","v":"Islande"},null,{"$f":"IF(OR(ISBLANK(RESULTATS!J31),ISBLANK(J31)),\"\",IF(AND(PRONOSTIQUEUR!J31=RESULTATS!J31,PRONOSTIQUEUR!M31=RESULTATS!M31),3,IF(OR(AND(PRONOSTIQUEUR!J31>PRONOSTIQUEUR!M31,RESULTATS!J31>RESULTATS!M31),AND(PRONOSTIQUEUR!J31<PRONOSTIQUEUR!M31,RESULTATS!J31<RESULTATS!M31),AND(PRONOSTIQUEUR!J31=PRONOSTIQUEUR!M31,RESULTATS!J31=RESULTATS!M31)),1,0)))","v":""},null,null,null,null,null,null,null,null,null,null,null,null,null,null,null,null,null,"Date","Demi Finale",null,null,"Buts",null,"Pen",null,null,null,"Buts",null,"Pen"]
[null,{"$f":"VLOOKUP($D32,TABLEAU_MATCHS[#All],2,FALSE)","v":"2018-06-22"},{"$f":"VLOOKUP($D32,TABLEAU_MATCHS[#All],3,FALSE)","v":"14:00:00"},25,{"$f":"\"Groupe \"&VLOOKUP($I32,TABLEAU_TEAMS[[#All],[TEAM]:[GROUP_INITIAL_RANK]],2,FALSE)","v":"Groupe E"},3.5,2.95,2.1,{"$f":"VLOOKUP($D32,TABLEAU_MATCHS[#All],4,FALSE)","v":"Brésil"},null,null,{"$f":"VLOOKUP($D32,TABLEAU_MATCHS[#All],5,FALSE)","v":"Costa Rica"},null,{"$f":"IF(OR(ISBLANK(RESULTATS!J32),ISBLANK(J32)),\"\",IF(AND(PRONOSTIQUEUR!J32=RESULTATS!J32,PRONOSTIQUEUR!M32=RESULTATS!M32),3,IF(OR(AND(PRONOSTIQUEUR!J32>PRONOSTIQUEUR!M32,RESULTATS!J32>RESULTATS!M32),AND(PRONOSTIQUEUR!J32<PRONOSTIQUEUR!M32,RESULTATS!J32<RESULTATS!M32),AND(PRONOSTIQUEUR!J32=PRONOSTIQUEUR!M32,RESULTATS!J32=RESULTATS!M32)),1,0)))","v":""},null,null,null,null,null,"Rg","Groupe E","MJ","G","N","P","BP","BC","+/-","Pts"]
[null,{"$f":"VLOOKUP($D33,TABLEAU_MATCHS[#All],2,FALSE)","v":"2018-06-22"},{"$f":"VLOOKUP($D33,TABLEAU_MATCHS[#All],3,FALSE)","v":"20:00:00"},26,{"$f":"\"Groupe \"&VLOOKUP($I33,TABLEAU_TEAMS[[#All],[TEAM]:[GROUP_INITIAL_RANK]],2,FALSE)","v":"Groupe E"},4.8,3.25,1.62,{"$f":"VLOOKUP($D33,TABLEAU_MATCHS[#All],4,FALSE)","v":"Serbie"},null,null,{"$f":"VLOOKUP($D33,TABLEAU_MATCHS[#All],5,FALSE)","v":"Suisse"},null,{"$f":"IF(OR(ISBLANK(RESULTATS!J33),ISBLANK(J33)),\"\",IF(AND(PRONOSTIQUEUR!J33=RESULTATS!J33,PRONOSTIQUEUR!M33=RESULTATS!M33),3,IF(OR(AND(PRONOSTIQUEUR!J33>PRONOSTIQUEUR!M33,RESULTATS!J33>RESULTATS!M33),AND(PRONOSTIQUEUR!J33<PRONOSTIQUEUR!M33,RESULTATS!J33<RESULTATS!M33),AND(PRONOSTIQUEUR!J33=PRONOSTIQUEUR!M33,RESULTATS!J33=RESULTATS!M33)),1,0)))","v":""},null,null,null,{"$f":"INDEX($R84:$R87,MATCH(SMALL(COUNTIF($R84:$R87,\">=\"&$R84:$R87),ROW(INDIRECT(\"1:\"&ROWS($R84:$R87)))),COUNTIF($R84:$R87,\">=\"&$R84:$R87),0))","v":"00000Suisse"},{"$f":"INDEX($S84:$S87,MATCH(SMALL(COUNTIF($R84:$R87,\">=\"&$R84:$R87),ROW(INDIRECT(\"1:\"&ROWS($R84:$R87)))),COUNTIF($R84:$R87,\">=\"&$R84:$R87),0))","v":0},{"$f":"INDEX($T84:$T87,MATCH(SMALL(COUNTIF($R84:$R87,\">=\"&$R84:$R87),ROW(INDIRECT(\"1:\"&ROWS($R84:$R87)))),COUNTIF($R84:$R87,\">=\"&$R84:$R87),0))","v":1},{"$f":"INDEX($U84:$U87,MATCH(SMALL(COUNTIF($R84:$R87,\">=\"&$R84:$R87),ROW(INDIRECT(\"1:\"&ROWS($R84:$R87)))),COUNTIF($R84:$R87,\">=\"&$R84:$R87),0))","v":"Suisse"},{"$f":"SUMPRODUCT((Teams1=U33)*(Teams1_Score<>\"\"))+SUMPRODUCT((Teams2=U33)*(Teams2_Score<>\"\"))","v":0},{"$f":"SUMPRODUCT((Teams1=U33)*(Teams1_Score>Teams2_Score))+SUMPRODUCT((Teams2=U33)*(Teams2_Score>Teams1_Score))","v":0},{"$f":"SUMPRODUCT((Teams1=U33)*(Teams1_Score=Teams2_Score)*(Teams1_Score<>\"\"))+SUMPRODUCT((Teams2=U33)*(Teams2_Score=Teams1_Score)*(Teams2_Score<>\"\"))","v":0},{"$f":"SUMPRODUCT((Teams1=U33)*(Teams1_Score<Teams2_Score))+SUMPRODUCT((Teams2=U33)*(Teams2_Score<Teams1_Score))","v":0},{"$f":"SUMPRODUCT((Teams1=U33)*(Teams1_Score))+SUMPRODUCT((Teams2=U33)*(Teams2_Score))","v":0},{"$f":"SUMPRODUCT((Teams1=U33)*(Teams2_Score))+SUMPRODUCT((Teams2=U33)*(Teams1_Score))","v":0},{"$f":"Z33-AA33","v":0},{"$f":"3*W33+X33","v":0},null,null,"2018-07-10",1,{"$f":"+IF(AJ38<>\"\",IF(AI38>AO38,AH38,AN38),\"Vainqueur A\")","v":"Vainqueur A"},{"$f":"AJ33*10+AL33","v":0},null,{"$f":"IF(LEFT(AH33,5)<>\"Vainq\",COUNTIF(RESULTATS!$AG$18:$AM$19,AH33),0)","v":0},null,null,{"$f":"+IF(AJ40<>\"\",IF(AI40>AO40,AH40,AN40),\"Vainqueur C\")","v":"Vainqueur C"},{"$f":"AP33*10+AR33","v":0},null,{"$f":"IF(LEFT(AN33,5)<>\"Vainq\",COUNTIF(RESULTATS!$AG$18:$AM$19,AN33),0)","v":0}]
[null,{"$f":"VLOOKUP($D34,TABLEAU_MATCHS[#All],2,FALSE)","v":"2018-06-23"},{"$f":"VLOOKUP($D34,TABLEAU_MATCHS[#All],3,FALSE)","v":"20:00:00"},27,{"$f":"\"Groupe \"&VLOOKUP($I34,TABLEAU_TEAMS[[#All],[TEAM]:[GROUP_INITIAL_RANK]],2,FALSE)","v":"Groupe F"},1.1200000000000001,6.5,15,{"$f":"VLOOKUP($D34,TABLEAU_MATCHS[#All],4,FALSE)","v":"République de Corée"},null,null,{"$f":"VLOOKUP($D34,TABLEAU_MATCHS[#All],5,FALSE)","v":"Mexique"},null,{"$f":"IF(OR(ISBLANK(RESULTATS!J34),ISBLANK(J34)),\"\",IF(AND(PRONOSTIQUEUR!J34=RESULTATS!J34,PRONOSTIQUEUR!M34=RESULTATS!M34),3,IF(OR(AND(PRONOSTIQUEUR!J34>PRONOSTIQUEUR!M34,RESULTATS!J34>RESULTATS!M34),AND(PRONOSTIQUEUR!J34<PRONOSTIQUEUR!M34,RESULTATS!J34<RESULTATS!M34),AND(PRONOSTIQUEUR!J34=PRONOSTIQUEUR!M34,RESULTATS!J34=RESULTATS!M34)),1,0)))","v":""},null,null,null,"00000Serbie",0,1,"Serbie",{"$f":"SUMPRODUCT((Teams1=U34)*(Teams1_Score<>\"\"))+SUMPRODUCT((Teams2=U34)*(Teams2_Score<>\"\"))","v":0},{"$f":"SUMPRODUCT((Teams1=U34)*(Teams1_Score>Teams2_Score))+SUMPRODUCT((Teams2=U34)*(Teams2_Score>Teams1_Score))","v":0},{"$f":"SUMPRODUCT((Teams1=U34)*(Teams1_Score=Teams2_Score)*(Teams1_Score<>\"\"))+SUMPRODUCT((Teams2=U34)*(Teams2_Score=Teams1_Score)*(Teams2_Score<>\"\"))","v":0},{"$f":"SUMPRODUCT((Teams1=U34)*(Teams1_Score<Teams2_Score))+SUMPRODUCT((Teams2=U34)*(Teams2_Score<Teams1_Score))","v":0},{"$f":"SUMPRODUCT((Teams1=U34)*(Teams1_Score))+SUMPRODUCT((Teams2=U34)*(Teams2_Score))","v":0},{"$f":"SUMPRODUCT((Teams1=U34)*(Teams2_Score))+SUMPRODUCT((Teams2=U34)*(Teams1_Score))","v":0},{"$f":"Z34-AA34","v":0},{"$f":"3*W34+X34","v":0},null,null,"2018-07-11",2,{"$f":"+IF(AJ39<>\"\",IF(AI39>AO39,AH39,AN39),\"Vainqueur B\")","v":"Vainqueur B"},{"$f":"AJ34*10+AL34","v":0},null,{"$f":"IF(LEFT(AH34,5)<>\"Vainq\",COUNTIF(RESULTATS!$AG$18:$AM$19,AH34),0)","v":0},null,null,{"$f":"+IF(AJ41<>\"\",IF(AI41>AO41,AH41,AN41),\"Vainqueur D\")","v":"Vainqueur D"},{"$f":"AP34*10+AR34","v":0},null,{"$f":"IF(LEFT(AN34,5)<>\"Vainq\",COUNTIF(RESULTATS!$AG$18:$AM$19,AN34),0)","v":0}]
[null,{"$f":"VLOOKUP($D35,TABLEAU_MATCHS[#All],2,FALSE)","v":"2018-06-23"},{"$f":"VLOOKUP($D35,TABLEAU_MATCHS[#All],3,FALSE)","v":"17:00:00"},28,{"$f":"\"Groupe \"&VLOOKUP($I35,TABLEAU_TEAMS[[#All],[TEAM]:[GROUP_INITIAL_RANK]],2,FALSE)","v":"Groupe F"},2.8,2.95,2.4,{"$f":"VLOOKUP($D35,TABLEAU_MATCHS[#All],4,FALSE)","v":"Allemagne"},null,null,{"$f":"VLOOKUP($D35,TABLEAU_MATCHS[#All],5,FALSE)","v":"Suède"},null,{"$f":"IF(OR(ISBLANK(RESULTATS!J35),ISBLANK(J35)),\"\",IF(AND(PRONOSTIQUEUR!J35=RESULTATS!J35,PRONOSTIQUEUR!M35=RESULTATS!M35),3,IF(OR(AND(PRONOSTIQUEUR!J35>PRONOSTIQUEUR!M35,RESULTATS!J35>RESULTATS!M35),AND(PRONOSTIQUEUR!J35<PRONOSTIQUEUR!M35,RESULTATS!J35<RESULTATS!M35),AND(PRONOSTIQUEUR!J35=PRONOSTIQUEUR!M35,RESULTATS!J35=RESULTATS!M35)),1,0)))","v":""},null,null,null,"00000Costa Rica",0,1,"Costa Rica",{"$f":"SUMPRODUCT((Teams1=U35)*(Teams1_Score<>\"\"))+SUMPRODUCT((Teams2=U35)*(Teams2_Score<>\"\"))","v":0},{"$f":"SUMPRODUCT((Teams1=U35)*(Teams1_Score>Teams2_Score))+SUMPRODUCT((Teams2=U35)*(Teams2_Score>Teams1_Score))","v":0},{"$f":"SUMPRODUCT((Teams1=U35)*(Teams1_Score=Teams2_Score)*(Teams1_Score<>\"\"))+SUMPRODUCT((Teams2=U35)*(Teams2_Score=Teams1_Score)*(Teams2_Score<>\"\"))","v":0},{"$f":"SUMPRODUCT((Teams1=U35)*(Teams1_Score<Teams2_Score))+SUMPRODUCT((Teams2=U35)*(Teams2_Score<Teams1_Score))","v":0},{"$f":"SUMPRODUCT((Teams1=U35)*(Teams1_Score))+SUMPRODUCT((Teams2=U35)*(Teams2_Score))","v":0},{"$f":"SUMPRODUCT((Teams1=U35)*(Teams2_Score))+SUMPRODUCT((Teams2=U35)*(Teams1_Score))","v":0},{"$f":"Z35-AA35","v":0},{"$f":"3*W35+X35","v":0},null,null,null,null,null,null,null,{"$f":"SUM(AK33:AK34)","v":0},null,null,null,null,null,{"$f":"SUM(AQ33:AQ34)","v":0}]
[null,{"$f":"VLOOKUP($D36,TABLEAU_MATCHS[#All],2,FALSE)","v":"2018-06-23"},{"$f":"VLOOKUP($D36,TABLEAU_MATCHS[#All],3,FALSE)","v":"14:00:00"},29,{"$f":"\"Groupe \"&VLOOKUP($I36,TABLEAU_TEAMS[[#All],[TEAM]:[GROUP_INITIAL_RANK]],2,FALSE)","v":"Groupe G"},1.36,4,7.5,{"$f":"VLOOKUP($D36,TABLEAU_MATCHS[#All],4,FALSE)","v":"Belgique"},null,null,{"$f":"VLOOKUP($D36,TABLEAU_MATCHS[#All],5,FALSE)","v":"Tunisie"},null,{"$f":"IF(OR(ISBLANK(RESULTATS!J36),ISBLANK(J36)),\"\",IF(AND(PRONOSTIQUEUR!J36=RESULTATS!J36,PRONOSTIQUEUR!M36=RESULTATS!M36),3,IF(OR(AND(PRONOSTIQUEUR!J36>PRONOSTIQUEUR!M36,RESULTATS!J36>RESULTATS!M36),AND(PRONOSTIQUEUR!J36<PRONOSTIQUEUR!M36,RESULTATS!J36<RESULTATS!M36),AND(PRONOSTIQUEUR!J36=PRONOSTIQUEUR!M36,RESULTATS!J36=RESULTATS!M36)),1,0)))","v":""},null,null,null,"00000Brésil",0,1,"Brésil",{"$f":"SUMPRODUCT((Teams1=U36)*(Teams1_Score<>\"\"))+SUMPRODUCT((Teams2=U36)*(Teams2_Score<>\"\"))","v":0},{"$f":"SUMPRODUCT((Teams1=U36)*(Teams1_Score>Teams2_Score))+SUMPRODUCT((Teams2=U36)*(Teams2_Score>Teams1_Score))","v":0},{"$f":"SUMPRODUCT((Teams1=U36)*(Teams1_Score=Teams2_Score)*(Teams1_Score<>\"\"))+SUMPRODUCT((Teams2=U36)*(Teams2_Score=Teams1_Score)*(Teams2_Score<>\"\"))","v":0},{"$f":"SUMPRODUCT((Teams1=U36)*(Teams1_Score<Teams2_Score))+SUMPRODUCT((Teams2=U36)*(Teams2_Score<Teams1_Score))","v":0},{"$f":"SUMPRODUCT((Teams1=U36)*(Teams1_Score))+SUMPRODUCT((Teams2=U36)*(Teams2_Score))","v":0},{"$f":"SUMPRODUCT((Teams1=U36)*(Teams2_Score))+SUMPRODUCT((Teams2=U36)*(Teams1_Score))","v":0},{"$f":"Z36-AA36","v":0},{"$f":"3*W36+X36","v":0},null,null,"Date","Quart de Finale",null,null,"Buts",null,"Pen",null,null,null,"Buts",null,"Pen"]
[null,{"$f":"VLOOKUP($D37,TABLEAU_MATCHS[#All],2,FALSE)","v":"2018-06-24"},{"$f":"VLOOKUP($D37,TABLEAU_MATCHS[#All],3,FALSE)","v":"14:00:00"},30,{"$f":"\"Groupe \"&VLOOKUP($I37,TABLEAU_TEAMS[[#All],[TEAM]:[GROUP_INITIAL_RANK]],2,FALSE)","v":"Groupe G"},4.7,3.4,1.62,{"$f":"VLOOKUP($D37,TABLEAU_MATCHS[#All],4,FALSE)","v":"Angleterre"},null,null,{"$f":"VLOOKUP($D37,TABLEAU_MATCHS[#All],5,FALSE)","v":"Panama"},null,{"$f":"IF(OR(ISBLANK(RESULTATS!J37),ISBLANK(J37)),\"\",IF(AND(PRONOSTIQUEUR!J37=RESULTATS!J37,PRONOSTIQUEUR!M37=RESULTATS!M37),3,IF(OR(AND(PRONOSTIQUEUR!J37>PRONOSTIQUEUR!M37,RESULTATS!J37>RESULTATS!M37),AND(PRONOSTIQUEUR!J37<PRONOSTIQUEUR!M37,RESULTATS!J37<RESULTATS!M37),AND(PRONOSTIQUEUR!J37=PRONOSTIQUEUR!M37,RESULTATS!J37=RESULTATS!M37)),1,0)))","v":""}]
[null,{"$f":"VLOOKUP($D38,TABLEAU_MATCHS[#All],2,FALSE)","v":"2018-06-24"},{"$f":"VLOOKUP($D38,TABLEAU_MATCHS[#All],3,FALSE)","v":"17:00:00"},31,{"$f":"\"Groupe \"&VLOOKUP($I38,TABLEAU_TEAMS[[#All],[TEAM]:[GROUP_INITIAL_RANK]],2,FALSE)","v":"Groupe H"},2.1,2.95,3.35,{"$f":"VLOOKUP($D38,TABLEAU_MATCHS[#All],4,FALSE)","v":"Japon"},null,null,{"$f":"VLOOKUP($D38,TABLEAU_MATCHS[#All],5,FALSE)","v":"Sénégal"},null,{"$f":"IF(OR(ISBLANK(RESULTATS!J38),ISBLANK(J38)),\"\",IF(AND(PRONOSTIQUEUR!J38=RESULTATS!J38,PRONOSTIQUEUR!M38=RESULTATS!M38),3,IF(OR(AND(PRONOSTIQUEUR!J38>PRONOSTIQUEUR!M38,RESULTATS!J38>RESULTATS!M38),AND(PRONOSTIQUEUR!J38<PRONOSTIQUEUR!M38,RESULTATS!J38<RESULTATS!M38),AND(PRONOSTIQUEUR!J38=PRONOSTIQUEUR!M38,RESULTATS!J38=RESULTATS!M38)),1,0)))","v":""},null,null,null,null,null,"Rg","Groupe F","MJ","G","N","P","BP","BC","+/-","Pts",null,null,"2018-07-06","A",{"$f":"+IF(AJ45<>\"\",IF(AI45>AO45,AH45,AN45),\"Vainqueur 1\")","v":"Vainqueur 1"},{"$f":"AJ38*10+AL38","v":0},null,{"$f":"IF(LEFT(AH38,5)<>\"Vainq\",COUNTIF(RESULTATS!$AG$23:$AM$26,AH38),0)","v":0},null,null,{"$f":"+IF(AJ47<>\"\",IF(AI47>AO47,AH47,AN47),\"Vainqueur 3\")","v":"Vainqueur 3"},{"$f":"AP38*10+AR38","v":0},null,{"$f":"IF(LEFT(AN38,5)<>\"Vainq\",COUNTIF(RESULTATS!$AG$23:$AM$26,AN38),0)","v":0}]
[null,{"$f":"VLOOKUP($D39,TABLEAU_MATCHS[#All],2,FALSE)","v":"2018-06-24"},{"$f":"VLOOKUP($D39,TABLEAU_MATCHS[#All],3,FALSE)","v":"20:00:00"},32,{"$f":"\"Groupe \"&VLOOKUP($I39,TABLEAU_TEAMS[[#All],[TEAM]:[GROUP_INITIAL_RANK]],2,FALSE)","v":"Groupe H"},1.9,3,3.8,{"$f":"VLOOKUP($D39,TABLEAU_MATCHS[#All],4,FALSE)","v":"Pologne"},null,null,{"$f":"VLOOKUP($D39,TABLEAU_MATCHS[#All],5,FALSE)","v":"Colombie"},null,{"$f":"IF(OR(ISBLANK(RESULTATS!J39),ISBLANK(J39)),\"\",IF(AND(PRONOSTIQUEUR!J39=RESULTATS!J39,PRONOSTIQUEUR!M39=RESULTATS!M39),3,IF(OR(AND(PRONOSTIQUEUR!J39>PRONOSTIQUEUR!M39,RESULTATS!J39>RESULTATS!M39),AND(PRONOSTIQUEUR!J39<PRONOSTIQUEUR!M39,RESULTATS!J39<RESULTATS!M39),AND(PRONOSTIQUEUR!J39=PRONOSTIQUEUR!M39,RESULTATS!J39=RESULTATS!M39)),1,0)))","v":""},null,null,null,{"$f":"INDEX($R90:$R93,MATCH(SMALL(COUNTIF($R90:$R93,\">=\"&$R90:$R93),ROW(INDIRECT(\"1:\"&ROWS($R90:$R93)))),COUNTIF($R90:$R93,\">=\"&$R90:$R93),0))","v":"00000Suède"},{"$f":"INDEX($S90:$S93,MATCH(SMALL(COUNTIF($R90:$R93,\">=\"&$R90:$R93),ROW(INDIRECT(\"1:\"&ROWS($R90:$R93)))),COUNTIF($R90:$R93,\">=\"&$R90:$R93),0))","v":0},{"$f":"INDEX($T90:$T93,MATCH(SMALL(COUNTIF($R90:$R93,\">=\"&$R90:$R93),ROW(INDIRECT(\"1:\"&ROWS($R90:$R93)))),COUNTIF($R90:$R93,\">=\"&$R90:$R93),0))","v":1},{"$f":"INDEX($U90:$U93,MATCH(SMALL(COUNTIF($R90:$R93,\">=\"&$R90:$R93),ROW(INDIRECT(\"1:\"&ROWS($R90:$R93)))),COUNTIF($R90:$R93,\">=\"&$R90:$R93),0))","v":"Suède"},{"$f":"SUMPRODUCT((Teams1=U39)*(Teams1_Score<>\"\"))+SUMPRODUCT((Teams2=U39)*(Teams2_Score<>\"\"))","v":0},{"$f":"SUMPRODUCT((Teams1=U39)*(Teams1_Score>Teams2_Score))+SUMPRODUCT((Teams2=U39)*(Teams2_Score>Teams1_Score))","v":0},{"$f":"SUMPRODUCT((Teams1=U39)*(Teams1_Score=Teams2_Score)*(Teams1_Score<>\"\"))+SUMPRODUCT((Teams2=U39)*(Teams2_Score=Teams1_Score)*(Teams2_Score<>\"\"))","v":0},{"$f":"SUMPRODUCT((Teams1=U39)*(Teams1_Score<Teams2_Score))+SUMPRODUCT((Teams2=U39)*(Teams2_Score<Teams1_Score))","v":0},{"$f":"SUMPRODUCT((Teams1=U39)*(Teams1_Score))+SUMPRODUCT((Teams2=U39)*(Teams2_Score))","v":0},{"$f":"SUMPRODUCT((Teams1=U39)*(Teams2_Score))+SUMPRODUCT((Teams2=U39)*(Teams1_Score))","v":0},{"$f":"Z39-AA39","v":0},{"$f":"3*W39+X39","v":0},null,null,"2018-07-07","B",{"$f":"+IF(AJ46<>\"\",IF(AI46>AO46,AH46,AN46),\"Vainqueur 2\")","v":"Vainqueur 2"},{"$f":"AJ39*10+AL39","v":0},null,{"$f":"IF(LEFT(AH39,5)<>\"Vainq\",COUNTIF(RESULTATS!$AG$23:$AM$26,AH39),0)","v":0},null,null,{"$f":"+IF(AJ48<>\"\",IF(AI48>AO48,AH48,AN48),\"Vainqueur 4\")","v":"Vainqueur 4"},{"$f":"AP39*10+AR39","v":0},null,{"$f":"IF(LEFT(AN39,5)<>\"Vainq\",COUNTIF(RESULTATS!$AG$23:$AM$26,AN39),0)","v":0}]
[null,{"$f":"VLOOKUP($D40,TABLEAU_MATCHS[#All],2,FALSE)","v":"2018-06-25"},{"$f":"VLOOKUP($D40,TABLEAU_MATCHS[#All],3,FALSE)","v":"16:00:00"},33,{"$f":"\"Groupe \"&VLOOKUP($I40,TABLEAU_TEAMS[[#All],[TEAM]:[GROUP_INITIAL_RANK]],2,FALSE)","v":"Groupe A"},11,6.5,1.17,{"$f":"VLOOKUP($D40,TABLEAU_MATCHS[#All],4,FALSE)","v":"Uruguay"},null,null,{"$f":"VLOOKUP($D40,TABLEAU_MATCHS[#All],5,FALSE)","v":"Russie"},null,{"$f":"IF(OR(ISBLANK(RESULTATS!J40),ISBLANK(J40)),\"\",IF(AND(PRONOSTIQUEUR!J40=RESULTATS!J40,PRONOSTIQUEUR!M40=RESULTATS!M40),3,IF(OR(AND(PRONOSTIQUEUR!J40>PRONOSTIQUEUR!M40,RESULTATS!J40>RESULTATS!M40),AND(PRONOSTIQUEUR!J40<PRONOSTIQUEUR!M40,RESULTATS!J40<RESULTATS!M40),AND(PRONOSTIQUEUR!J40=PRONOSTIQUEUR!M40,RESULTATS!J40=RESULTATS!M40)),1,0)))","v":""},null,null,null,"00000République de Corée",0,1,"République de Corée",{"$f":"SUMPRODUCT((Teams1=U40)*(Teams1_Score<>\"\"))+SUMPRODUCT((Teams2=U40)*(Teams2_Score<>\"\"))","v":0},{"$f":"SUMPRODUCT((Teams1=U40)*(Teams1_Score>Teams2_Score))+SUMPRODUCT((Teams2=U40)*(Teams2_Score>Teams1_Score))","v":0},{"$f":"SUMPRODUCT((Teams1=U40)*(Teams1_Score=Teams2_Score)*(Teams1_Score<>\"\"))+SUMPRODUCT((Teams2=U40)*(Teams2_Score=Teams1_Score)*(Teams2_Score<>\"\"))","v":0},{"$f":"SUMPRODUCT((Teams1=U40)*(Teams1_Score<Teams2_Score))+SUMPRODUCT((Teams2=U40)*(Teams2_Score<Teams1_Score))","v":0},{"$f":"SUMPRODUCT((Teams1=U40)*(Teams1_Score))+SUMPRODUCT((Teams2=U40)*(Teams2_Score))","v":0},{"$f":"SUMPRODUCT((Teams1=U40)*(Teams2_Score))+SUMPRODUCT((Teams2=U40)*(Teams1_Score))","v":0},{"$f":"Z40-AA40","v":0},{"$f":"3*W40+X40","v":0},null,null,"2018-07-06","C",{"$f":"+IF(AJ49<>\"\",IF(AI49>AO49,AH49,AN49),\"Vainqueur 5\")","v":"Vainqueur 5"},{"$f":"AJ40*10+AL40","v":0},null,{"$f":"IF(LEFT(AH40,5)<>\"Vainq\",COUNTIF(RESULTATS!$AG$23:$AM$26,AH40),0)","v":0},null,null,{"$f":"+IF(AJ51<>\"\",IF(AI51>AO51,AH51,AN51),\"Vainqueur 7\")","v":"Vainqueur 7"},{"$f":"AP40*10+AR40","v":0},null,{"$f":"IF(LEFT(AN40,5)<>\"Vainq\",COUNTIF(RESULTATS!$AG$23:$AM$26,AN40),0)","v":0}]
[null,{"$f":"VLOOKUP($D41,TABLEAU_MATCHS[#All],2,FALSE)","v":"2018-06-25"},{"$f":"VLOOKUP($D41,TABLEAU_MATCHS[#All],3,FALSE)","v":"16:00:00"},34,{"$f":"\"Groupe \"&VLOOKUP($I41,TABLEAU_TEAMS[[#All],[TEAM]:[GROUP_INITIAL_RANK]],2,FALSE)","v":"Groupe A"},2.4,2.95,2.75,{"$f":"VLOOKUP($D41,TABLEAU_MATCHS[#All],4,FALSE)","v":"Arabie Saoudite"},null,null,{"$f":"VLOOKUP($D41,TABLEAU_MATCHS[#All],5,FALSE)","v":"Egypte"},null,{"$f":"IF(OR(ISBLANK(RESULTATS!J41),ISBLANK(J41)),\"\",IF(AND(PRONOSTIQUEUR!J41=RESULTATS!J41,PRONOSTIQUEUR!M41=RESULTATS!M41),3,IF(OR(AND(PRONOSTIQUEUR!J41>PRONOSTIQUEUR!M41,RESULTATS!J41>RESULTATS!M41),AND(PRONOSTIQUEUR!J41<PRONOSTIQUEUR!M41,RESULTATS!J41<RESULTATS!M41),AND(PRONOSTIQUEUR!J41=PRONOSTIQUEUR!M41,RESULTATS!J41=RESULTATS!M41)),1,0)))","v":""},null,null,null,"00000Mexique",0,1,"Mexique",{"$f":"SUMPRODUCT((Teams1=U41)*(Teams1_Score<>\"\"))+SUMPRODUCT((Teams2=U41)*(Teams2_Score<>\"\"))","v":0},{"$f":"SUMPRODUCT((Teams1=U41)*(Teams1_Score>Teams2_Score))+SUMPRODUCT((Teams2=U41)*(Teams2_Score>Teams1_Score))","v":0},{"$f":"SUMPRODUCT((Teams1=U41)*(Teams1_Score=Teams2_Score)*(Teams1_Score<>\"\"))+SUMPRODUCT((Teams2=U41)*(Teams2_Score=Teams1_Score)*(Teams2_Score<>\"\"))","v":0},{"$f":"SUMPRODUCT((Teams1=U41)*(Teams1_Score<Teams2_Score))+SUMPRODUCT((Teams2=U41)*(Teams2_Score<Teams1_Score))","v":0},{"$f":"SUMPRODUCT((Teams1=U41)*(Teams1_Score))+SUMPRODUCT((Teams2=U41)*(Teams2_Score))","v":0},{"$f":"SUMPRODUCT((Teams1=U41)*(Teams2_Score))+SUMPRODUCT((Teams2=U41)*(Teams1_Score))","v":0},{"$f":"Z41-AA41","v":0},{"$f":"3*W41+X41","v":0},null,null,"2018-07-07","D",{"$f":"+IF(AJ50<>\"\",IF(AI50>AO50,AH50,AN50),\"Vainqueur 6\")","v":"Vainqueur 6"},{"$f":"AJ41*10+AL41","v":0},null,{"$f":"IF(LEFT(AH41,5)<>\"Vainq\",COUNTIF(RESULTATS!$AG$23:$AM$26,AH41),0)","v":0},null,null,{"$f":"+IF(AJ52<>\"\",IF(AI52>AO52,AH52,AN52),\"Vainqueur 8\")","v":"Vainqueur 8"},{"$f":"AP41*10+AR41","v":0},null,{"$f":"IF(LEFT(AN41,5)<>\"Vainq\",COUNTIF(RESULTATS!$AG$23:$AM$26,AN41),0)","v":0}]
[null,{"$f":"VLOOKUP($D42,TABLEAU_MATCHS[#All],2,FALSE)","v":"2018-06-25"},{"$f":"VLOOKUP($D42,TABLEAU_MATCHS[#All],3,FALSE)","v":"20:00:00"},35,{"$f":"\"Groupe \"&VLOOKUP($I42,TABLEAU_TEAMS[[#All],[TEAM]:[GROUP_INITIAL_RANK]],2,FALSE)","v":"Groupe B"},13,6.5,1.1399999999999999,{"$f":"VLOOKUP($D42,TABLEAU_MATCHS[#All],4,FALSE)","v":"RI Iran"},null,null,{"$f":"VLOOKUP($D42,TABLEAU_MATCHS[#All],5,FALSE)","v":"Portugal"},null,{"$f":"IF(OR(ISBLANK(RESULTATS!J42),ISBLANK(J42)),\"\",IF(AND(PRONOSTIQUEUR!J42=RESULTATS!J42,PRONOSTIQUEUR!M42=RESULTATS!M42),3,IF(OR(AND(PRONOSTIQUEUR!J42>PRONOSTIQUEUR!M42,RESULTATS!J42>RESULTATS!M42),AND(PRONOSTIQUEUR!J42<PRONOSTIQUEUR!M42,RESULTATS!J42<RESULTATS!M42),AND(PRONOSTIQUEUR!J42=PRONOSTIQUEUR!M42,RESULTATS!J42=RESULTATS!M42)),1,0)))","v":""},null,null,null,"00000Allemagne",0,1,"Allemagne",{"$f":"SUMPRODUCT((Teams1=U42)*(Teams1_Score<>\"\"))+SUMPRODUCT((Teams2=U42)*(Teams2_Score<>\"\"))","v":0},{"$f":"SUMPRODUCT((Teams1=U42)*(Teams1_Score>Teams2_Score))+SUMPRODUCT((Teams2=U42)*(Teams2_Score>Teams1_Score))","v":0},{"$f":"SUMPRODUCT((Teams1=U42)*(Teams1_Score=Teams2_Score)*(Teams1_Score<>\"\"))+SUMPRODUCT((Teams2=U42)*(Teams2_Score=Teams1_Score)*(Teams2_Score<>\"\"))","v":0},{"$f":"SUMPRODUCT((Teams1=U42)*(Teams1_Score<Teams2_Score))+SUMPRODUCT((Teams2=U42)*(Teams2_Score<Teams1_Score))","v":0},{"$f":"SUMPRODUCT((Teams1=U42)*(Teams1_Score))+SUMPRODUCT((Teams2=U42)*(Teams2_Score))","v":0},{"$f":"SUMPRODUCT((Teams1=U42)*(Teams2_Score))+SUMPRODUCT((Teams2=U42)*(Teams1_Score))","v":0},{"$f":"Z42-AA42","v":0},{"$f":"3*W42+X42","v":0},null,null,null,null,null,null,null,{"$f":"SUM(AK38:AK41)","v":0},null,null,null,null,null,{"$f":"SUM(AQ38:AQ41)","v":0}]
[null,{"$f":"VLOOKUP($D43,TABLEAU_MATCHS[#All],2,FALSE)","v":"2018-06-25"},{"$f":"VLOOKUP($D43,TABLEAU_MATCHS[#All],3,FALSE)","v":"20:00:00"},36,{"$f":"\"Groupe \"&VLOOKUP($I43,TABLEAU_TEAMS[[#All],[TEAM]:[GROUP_INITIAL_RANK]],2,FALSE)","v":"Groupe B"},2.25,3.1,2.95,{"$f":"VLOOKUP($D43,TABLEAU_MATCHS[#All],4,FALSE)","v":"Espagne"},null,null,{"$f":"VLOOKUP($D43,TABLEAU_MATCHS[#All],5,FALSE)","v":"Maroc"},null,{"$f":"IF(OR(ISBLANK(RESULTATS!J43),ISBLANK(J43)),\"\",IF(AND(PRONOSTIQUEUR!J43=RESULTATS!J43,PRONOSTIQUEUR!M43=RESULTATS!M43),3,IF(OR(AND(PRONOSTIQUEUR!J43>PRONOSTIQUEUR!M43,RESULTATS!J43>RESULTATS!M43),AND(PRONOSTIQUEUR!J43<PRONOSTIQUEUR!M43,RESULTATS!J43<RESULTATS!M43),AND(PRONOSTIQUEUR!J43=PRONOSTIQUEUR!M43,RESULTATS!J43=RESULTATS!M43)),1,0)))","v":""},null,null,null,null,null,null,null,null,null,null,null,null,null,null,null,null,null,"Date","Huitième de Finale",null,null,"Buts",null,"Pen",null,null,null,"Buts",null,"Pen"]
[null,{"$f":"VLOOKUP($D44,TABLEAU_MATCHS[#All],2,FALSE)","v":"2018-06-26"},{"$f":"VLOOKUP($D44,TABLEAU_MATCHS[#All],3,FALSE)","v":"16:00:00"},37,{"$f":"\"Groupe \"&VLOOKUP($I44,TABLEAU_TEAMS[[#All],[TEAM]:[GROUP_INITIAL_RANK]],2,FALSE)","v":"Groupe C"},4.3,3.25,1.76,{"$f":"VLOOKUP($D44,TABLEAU_MATCHS[#All],4,FALSE)","v":"Danemark"},null,null,{"$f":"VLOOKUP($D44,TABLEAU_MATCHS[#All],5,FALSE)","v":"France"},null,{"$f":"IF(OR(ISBLANK(RESULTATS!J44),ISBLANK(J44)),\"\",IF(AND(PRONOSTIQUEUR!J44=RESULTATS!J44,PRONOSTIQUEUR!M44=RESULTATS!M44),3,IF(OR(AND(PRONOSTIQUEUR!J44>PRONOSTIQUEUR!M44,RESULTATS!J44>RESULTATS!M44),AND(PRONOSTIQUEUR!J44<PRONOSTIQUEUR!M44,RESULTATS!J44<RESULTATS!M44),AND(PRONOSTIQUEUR!J44=PRONOSTIQUEUR!M44,RESULTATS!J44=RESULTATS!M44)),1,0)))","v":""},null,null,null,null,null,"Rg","Groupe G","MJ","G","N","P","BP","BC","+/-","Pts"]
[null,{"$f":"VLOOKUP($D45,TABLEAU_MATCHS[#All],2,FALSE)","v":"2018-06-26"},{"$f":"VLOOKUP($D45,TABLEAU_MATCHS[#All],3,FALSE)","v":"16:00:00"},38,{"$f":"\"Groupe \"&VLOOKUP($I45,TABLEAU_TEAMS[[#All],[TEAM]:[GROUP_INITIAL_RANK]],2,FALSE)","v":"Groupe C"},3.05,3,2.25,{"$f":"VLOOKUP($D45,TABLEAU_MATCHS[#All],4,FALSE)","v":"Australie"},null,null,{"$f":"VLOOKUP($D45,TABLEAU_MATCHS[#All],5,FALSE)","v":"Pérou"},null,{"$f":"IF(OR(ISBLANK(RESULTATS!J45),ISBLANK(J45)),\"\",IF(AND(PRONOSTIQUEUR!J45=RESULTATS!J45,PRONOSTIQUEUR!M45=RESULTATS!M45),3,IF(OR(AND(PRONOSTIQUEUR!J45>PRONOSTIQUEUR!M45,RESULTATS!J45>RESULTATS!M45),AND(PRONOSTIQUEUR!J45<PRONOSTIQUEUR!M45,RESULTATS!J45<RESULTATS!M45),AND(PRONOSTIQUEUR!J45=PRONOSTIQUEUR!M45,RESULTATS!J45=RESULTATS!M45)),1,0)))","v":""},null,null,null,{"$f":"INDEX($R96:$R99,MATCH(SMALL(COUNTIF($R96:$R99,\">=\"&$R96:$R99),ROW(INDIRECT(\"1:\"&ROWS($R96:$R99)))),COUNTIF($R96:$R99,\">=\"&$R96:$R99),0))","v":"00000Tunisie"},{"$f":"INDEX($S96:$S99,MATCH(SMALL(COUNTIF($R96:$R99,\">=\"&$R96:$R99),ROW(INDIRECT(\"1:\"&ROWS($R96:$R99)))),COUNTIF($R96:$R99,\">=\"&$R96:$R99),0))","v":0},{"$f":"INDEX($T96:$T99,MATCH(SMALL(COUNTIF($R96:$R99,\">=\"&$R96:$R99),ROW(INDIRECT(\"1:\"&ROWS($R96:$R99)))),COUNTIF($R96:$R99,\">=\"&$R96:$R99),0))","v":1},{"$f":"INDEX($U96:$U99,MATCH(SMALL(COUNTIF($R96:$R99,\">=\"&$R96:$R99),ROW(INDIRECT(\"1:\"&ROWS($R96:$R99)))),COUNTIF($R96:$R99,\">=\"&$R96:$R99),0))","v":"Tunisie"},{"$f":"SUMPRODUCT((Teams1=U45)*(Teams1_Score<>\"\"))+SUMPRODUCT((Teams2=U45)*(Teams2_Score<>\"\"))","v":0},{"$f":"SUMPRODUCT((Teams1=U45)*(Teams1_Score>Teams2_Score))+SUMPRODUCT((Teams2=U45)*(Teams2_Score>Teams1_Score))","v":0},{"$f":"SUMPRODUCT((Teams1=U45)*(Teams1_Score=Teams2_Score)*(Teams1_Score<>\"\"))+SUMPRODUCT((Teams2=U45)*(Teams2_Score=Teams1_Score)*(Teams2_Score<>\"\"))","v":0},{"$f":"SUMPRODUCT((Teams1=U45)*(Teams1_Score<Teams2_Score))+SUMPRODUCT((Teams2=U45)*(Teams2_Score<Teams1_Score))","v":0},{"$f":"SUMPRODUCT((Teams1=U45)*(Teams1_Score))+SUMPRODUCT((Teams2=U45)*(Teams2_Score))","v":0},{"$f":"SUMPRODUCT((Teams1=U45)*(Teams2_Score))+SUMPRODUCT((Teams2=U45)*(Teams1_Score))","v":0},{"$f":"Z45-AA45","v":0},{"$f":"3*W45+X45","v":0},null,null,"2018-06-30",1,{"$f":"IF(SUM(V9:V12)=0,\"1er Groupe A\",IF(COUNTIF(T9:T12,1)=1,VLOOKUP(1,T9:U12,2,FALSE),IF(COUNTIF(T9:T12,1)>=2,\"Tirage au Sort A1\")))","v":"1er Groupe A"},{"$f":"AJ45*10+AL45","v":0},null,{"$f":"IF(AND(LEFT(AH45,3)<>\"1er\",LEFT(AH45,3)<>\"2nd\"),COUNTIF(RESULTATS!$AG$30:$AM$37,AH45),0)","v":0},null,null,{"$f":"IF(SUM(V15:V18)=0,\"2nd Groupe B\",IF(OR(COUNTIF(T15:T18,1)>1,COUNTIF(T15:T18,2)>1),\"Tirage au sort B2\",VLOOKUP(2,T15:U18,2,FALSE)))","v":"2nd Groupe B"},{"$f":"AP45*10+AR45","v":0},null,{"$f":"IF(AND(LEFT(AN45,3)<>\"1er\",LEFT(AN45,3)<>\"2nd\"),COUNTIF(RESULTATS!$AG$30:$AM$37,AN45),0)","v":0}]
[null,{"$f":"VLOOKUP($D46,TABLEAU_MATCHS[#All],2,FALSE)","v":"2018-06-26"},{"$f":"VLOOKUP($D46,TABLEAU_MATCHS[#All],3,FALSE)","v":"20:00:00"},39,{"$f":"\"Groupe \"&VLOOKUP($I46,TABLEAU_TEAMS[[#All],[TEAM]:[GROUP_INITIAL_RANK]],2,FALSE)","v":"Groupe D"},2.4,2.9,2.85,{"$f":"VLOOKUP($D46,TABLEAU_MATCHS[#All],4,FALSE)","v":"Nigeria"},null,null,{"$f":"VLOOKUP($D46,TABLEAU_MATCHS[#All],5,FALSE)","v":"Argentine"},null,{"$f":"IF(OR(ISBLANK(RESULTATS!J46),ISBLANK(J46)),\"\",IF(AND(PRONOSTIQUEUR!J46=RESULTATS!J46,PRONOSTIQUEUR!M46=RESULTATS!M46),3,IF(OR(AND(PRONOSTIQUEUR!J46>PRONOSTIQUEUR!M46,RESULTATS!J46>RESULTATS!M46),AND(PRONOSTIQUEUR!J46<PRONOSTIQUEUR!M46,RESULTATS!J46<RESULTATS!M46),AND(PRONOSTIQUEUR!J46=PRONOSTIQUEUR!M46,RESULTATS!J46=RESULTATS!M46)),1,0)))","v":""},null,null,null,"00000Panama",0,1,"Panama",{"$f":"SUMPRODUCT((Teams1=U46)*(Teams1_Score<>\"\"))+SUMPRODUCT((Teams2=U46)*(Teams2_Score<>\"\"))","v":0},{"$f":"SUMPRODUCT((Teams1=U46)*(Teams1_Score>Teams2_Score))+SUMPRODUCT((Teams2=U46)*(Teams2_Score>Teams1_Score))","v":0},{"$f":"SUMPRODUCT((Teams1=U46)*(Teams1_Score=Teams2_Score)*(Teams1_Score<>\"\"))+SUMPRODUCT((Teams2=U46)*(Teams2_Score=Teams1_Score)*(Teams2_Score<>\"\"))","v":0},{"$f":"SUMPRODUCT((Teams1=U46)*(Teams1_Score<Teams2_Score))+SUMPRODUCT((Teams2=U46)*(Teams2_Score<Teams1_Score))","v":0},{"$f":"SUMPRODUCT((Teams1=U46)*(Teams1_Score))+SUMPRODUCT((Teams2=U46)*(Teams2_Score))","v":0},{"$f":"SUMPRODUCT((Teams1=U46)*(Teams2_Score))+SUMPRODUCT((Teams2=U46)*(Teams1_Score))","v":0},{"$f":"Z46-AA46","v":0},{"$f":"3*W46+X46","v":0},null,null,"2018-07-01",2,{"$f":"IF(SUM(V15:V18)=0,\"1er Groupe B\",IF(COUNTIF(T15:T18,1)=1,VLOOKUP(1,T15:U18,2,FALSE),IF(COUNTIF(T15:T18,1)>=2,\"Tirage au Sort B1\")))","v":"1er Groupe B"},{"$f":"AJ46*10+AL46","v":0},null,{"$f":"IF(AND(LEFT(AH46,3)<>\"1er\",LEFT(AH46,3)<>\"2nd\"),COUNTIF(RESULTATS!$AG$30:$AM$37,AH46),0)","v":0},null,null,{"$f":"IF(SUM(V9:V12)=0,\"2nd Groupe A\",IF(OR(COUNTIF(T9:T12,1)>1,COUNTIF(T9:T12,2)>1),\"Tirage au sort A2\",VLOOKUP(2,T9:U12,2,FALSE)))","v":"2nd Groupe A"},0,null,{"$f":"IF(AND(LEFT(AN46,3)<>\"1er\",LEFT(AN46,3)<>\"2nd\"),COUNTIF(RESULTATS!$AG$30:$AM$37,AN46),0)","v":0}]
[null,{"$f":"VLOOKUP($D47,TABLEAU_MATCHS[#All],2,FALSE)","v":"2018-06-26"},{"$f":"VLOOKUP($D47,TABLEAU_MATCHS[#All],3,FALSE)","v":"20:00:00"},40,{"$f":"\"Groupe \"&VLOOKUP($I47,TABLEAU_TEAMS[[#All],[TEAM]:[GROUP_INITIAL_RANK]],2,FALSE)","v":"Groupe D"},6.5,3.7,1.44,{"$f":"VLOOKUP($D47,TABLEAU_MATCHS[#All],4,FALSE)","v":"Islande"},null,null,{"$f":"VLOOKUP($D47,TABLEAU_MATCHS[#All],5,FALSE)","v":"Croatie"},null,{"$f":"IF(OR(ISBLANK(RESULTATS!J47),ISBLANK(J47)),\"\",IF(AND(PRONOSTIQUEUR!J47=RESULTATS!J47,PRONOSTIQUEUR!M47=RESULTATS!M47),3,IF(OR(AND(PRONOSTIQUEUR!J47>PRONOSTIQUEUR!M47,RESULTATS!J47>RESULTATS!M47),AND(PRONOSTIQUEUR!J47<PRONOSTIQUEUR!M47,RESULTATS!J47<RESULTATS!M47),AND(PRONOSTIQUEUR!J47=PRONOSTIQUEUR!M47,RESULTATS!J47=RESULTATS!M47)),1,0)))","v":""},null,null,null,"00000Belgique",0,1,"Belgique",{"$f":"SUMPRODUCT((Teams1=U47)*(Teams1_Score<>\"\"))+SUMPRODUCT((Teams2=U47)*(Teams2_Score<>\"\"))","v":0},{"$f":"SUMPRODUCT((Teams1=U47)*(Teams1_Score>Teams2_Score))+SUMPRODUCT((Teams2=U47)*(Teams2_Score>Teams1_Score))","v":0},{"$f":"SUMPRODUCT((Teams1=U47)*(Teams1_Score=Teams2_Score)*(Teams1_Score<>\"\"))+SUMPRODUCT((Teams2=U47)*(Teams2_Score=Teams1_Score)*(Teams2_Score<>\"\"))","v":0},{"$f":"SUMPRODUCT((Teams1=U47)*(Teams1_Score<Teams2_Score))+SUMPRODUCT((Teams2=U47)*(Teams2_Score<Teams1_Score))","v":0},{"$f":"SUMPRODUCT((Teams1=U47)*(Teams1_Score))+SUMPRODUCT((Teams2=U47)*(Teams2_Score))","v":0},{"$f":"SUMPRODUCT((Teams1=U47)*(Teams2_Score))+SUMPRODUCT((Teams2=U47)*(Teams1_Score))","v":0},{"$f":"Z47-AA47","v":0},{"$f":"3*W47+X47","v":0},null,null,"2017-06-30",3,{"$f":"IF(SUM(V21:V24)=0,\"1er Groupe C\",IF(COUNTIF(T21:T24,1)=1,VLOOKUP(1,T21:U24,2,FALSE),IF(COUNTIF(T21:T24,1)>=2,\"Tirage au Sort C1\")))","v":"1er Groupe C"},0,null,{"$f":"IF(AND(LEFT(AH47,3)<>\"1er\",LEFT(AH47,3)<>\"2nd\"),COUNTIF(RESULTATS!$AG$30:$AM$37,AH47),0)","v":0},null,null,{"$f":"IF(SUM(V27:V30)=0,\"2nd Groupe D\",IF(OR(COUNTIF(T27:T30,1)>1,COUNTIF(T27:T30,2)>1),\"Tirage au sort D2\",VLOOKUP(2,T27:U30,2,FALSE)))","v":"2nd Groupe D"},0,null,{"$f":"IF(AND(LEFT(AN47,3)<>\"1er\",LEFT(AN47,3)<>\"2nd\"),COUNTIF(RESULTATS!$AG$30:$AM$37,AN47),0)","v":0}]
[null,{"$f":"VLOOKUP($D48,TABLEAU_MATCHS[#All],2,FALSE)","v":"2018-06-27"},{"$f":"VLOOKUP($D48,TABLEAU_MATCHS[#All],3,FALSE)","v":"20:00:00"},41,{"$f":"\"Groupe \"&VLOOKUP($I48,TABLEAU_TEAMS[[#All],[TEAM]:[GROUP_INITIAL_RANK]],2,FALSE)","v":"Groupe E"},6.5,3.5,1.48,{"$f":"VLOOKUP($D48,TABLEAU_MATCHS[#All],4,FALSE)","v":"Serbie"},null,null,{"$f":"VLOOKUP($D48,TABLEAU_MATCHS[#All],5,FALSE)","v":"Brésil"},null,{"$f":"IF(OR(ISBLANK(RESULTATS!J48),ISBLANK(J48)),\"\",IF(AND(PRONOSTIQUEUR!J48=RESULTATS!J48,PRONOSTIQUEUR!M48=RESULTATS!M48),3,IF(OR(AND(PRONOSTIQUEUR!J48>PRONOSTIQUEUR!M48,RESULTATS!J48>RESULTATS!M48),AND(PRONOSTIQUEUR!J48<PRONOSTIQUEUR!M48,RESULTATS!J48<RESULTATS!M48),AND(PRONOSTIQUEUR!J48=PRONOSTIQUEUR!M48,RESULTATS!J48=RESULTATS!M48)),1,0)))","v":""},null,null,null,"00000Angleterre",0,1,"Angleterre",{"$f":"SUMPRODUCT((Teams1=U48)*(Teams1_Score<>\"\"))+SUMPRODUCT((Teams2=U48)*(Teams2_Score<>\"\"))","v":0},{"$f":"SUMPRODUCT((Teams1=U48)*(Teams1_Score>Teams2_Score))+SUMPRODUCT((Teams2=U48)*(Teams2_Score>Teams1_Score))","v":0},{"$f":"SUMPRODUCT((Teams1=U48)*(Teams1_Score=Teams2_Score)*(Teams1_Score<>\"\"))+SUMPRODUCT((Teams2=U48)*(Teams2_Score=Teams1_Score)*(Teams2_Score<>\"\"))","v":0},{"$f":"SUMPRODUCT((Teams1=U48)*(Teams1_Score<Teams2_Score))+SUMPRODUCT((Teams2=U48)*(Teams2_Score<Teams1_Score))","v":0},{"$f":"SUMPRODUCT((Teams1=U48)*(Teams1_Score))+SUMPRODUCT((Teams2=U48)*(Teams2_Score))","v":0},{"$f":"SUMPRODUCT((Teams1=U48)*(Teams2_Score))+SUMPRODUCT((Teams2=U48)*(Teams1_Score))","v":0},{"$f":"Z48-AA48","v":0},{"$f":"3*W48+X48","v":0},null,null,"2018-07-01",4,{"$f":"IF(SUM(V27:V30)=0,\"1er Groupe D\",IF(COUNTIF(T27:T30,1)=1,VLOOKUP(1,T27:U30,2,FALSE),IF(COUNTIF(T27:T30,1)>=2,\"Tirage au Sort D1\")))","v":"1er Groupe D"},0,null,{"$f":"IF(AND(LEFT(AH48,3)<>\"1er\",LEFT(AH48,3)<>\"2nd\"),COUNTIF(RESULTATS!$AG$30:$AM$37,AH48),0)","v":0},null,null,{"$f":"IF(SUM(V21:V24)=0,\"2nd Groupe C\",IF(OR(COUNTIF(T21:T24,1)>1,COUNTIF(T21:T24,2)>1),\"Tirage au sort C2\",VLOOKUP(2,T21:U24,2,FALSE)))","v":"2nd Groupe C"},0,null,{"$f":"IF(AND(LEFT(AN48,3)<>\"1er\",LEFT(AN48,3)<>\"2nd\"),COUNTIF(RESULTATS!$AG$30:$AM$37,AN48),0)","v":0}]
[null,{"$f":"VLOOKUP($D49,TABLEAU_MATCHS[#All],2,FALSE)","v":"2018-06-27"},{"$f":"VLOOKUP($D49,TABLEAU_MATCHS[#All],3,FALSE)","v":"20:00:00"},42,{"$f":"\"Groupe \"&VLOOKUP($I49,TABLEAU_TEAMS[[#All],[TEAM]:[GROUP_INITIAL_RANK]],2,FALSE)","v":"Groupe E"},4,3.05,1.9,{"$f":"VLOOKUP($D49,TABLEAU_MATCHS[#All],4,FALSE)","v":"Suisse"},null,null,{"$f":"VLOOKUP($D49,TABLEAU_MATCHS[#All],5,FALSE)","v":"Costa Rica"},null,{"$f":"IF(OR(ISBLANK(RESULTATS!J49),ISBLANK(J49)),\"\",IF(AND(PRONOSTIQUEUR!J49=RESULTATS!J49,PRONOSTIQUEUR!M49=RESULTATS!M49),3,IF(OR(AND(PRONOSTIQUEUR!J49>PRONOSTIQUEUR!M49,RESULTATS!J49>RESULTATS!M49),AND(PRONOSTIQUEUR!J49<PRONOSTIQUEUR!M49,RESULTATS!J49<RESULTATS!M49),AND(PRONOSTIQUEUR!J49=PRONOSTIQUEUR!M49,RESULTATS!J49=RESULTATS!M49)),1,0)))","v":""},null,null,null,null,null,null,null,null,null,null,null,null,null,null,null,null,null,"2018-07-02",5,{"$f":"IF(SUM(V33:V36)=0,\"1er Groupe E\",IF(COUNTIF(T33:T36,1)=1,VLOOKUP(1,T33:U36,2,FALSE),IF(COUNTIF(T33:T36,1)>=2,\"Tirage au Sort E1\")))","v":"1er Groupe E"},0,null,{"$f":"IF(AND(LEFT(AH49,3)<>\"1er\",LEFT(AH49,3)<>\"2nd\"),COUNTIF(RESULTATS!$AG$30:$AM$37,AH49),0)","v":0},null,null,{"$f":"IF(SUM(V39:V42)=0,\"2nd Groupe F\",IF(OR(COUNTIF(T39:T42,1)>1,COUNTIF(T39:T42,2)>1),\"Tirage au sort F2\",VLOOKUP(2,T39:U42,2,FALSE)))","v":"2nd Groupe F"},0,null,{"$f":"IF(AND(LEFT(AN49,3)<>\"1er\",LEFT(AN49,3)<>\"2nd\"),COUNTIF(RESULTATS!$AG$30:$AM$37,AN49),0)","v":0}]
[null,{"$f":"VLOOKUP($D50,TABLEAU_MATCHS[#All],2,FALSE)","v":"2018-06-27"},{"$f":"VLOOKUP($D50,TABLEAU_MATCHS[#All],3,FALSE)","v":"16:00:00"},43,{"$f":"\"Groupe \"&VLOOKUP($I50,TABLEAU_TEAMS[[#All],[TEAM]:[GROUP_INITIAL_RANK]],2,FALSE)","v":"Groupe F"},8.5,4.3,1.3,{"$f":"VLOOKUP($D50,TABLEAU_MATCHS[#All],4,FALSE)","v":"Mexique"},null,null,{"$f":"VLOOKUP($D50,TABLEAU_MATCHS[#All],5,FALSE)","v":"Suède"},null,{"$f":"IF(OR(ISBLANK(RESULTATS!J50),ISBLANK(J50)),\"\",IF(AND(PRONOSTIQUEUR!J50=RESULTATS!J50,PRONOSTIQUEUR!M50=RESULTATS!M50),3,IF(OR(AND(PRONOSTIQUEUR!J50>PRONOSTIQUEUR!M50,RESULTATS!J50>RESULTATS!M50),AND(PRONOSTIQUEUR!J50<PRONOSTIQUEUR!M50,RESULTATS!J50<RESULTATS!M50),AND(PRONOSTIQUEUR!J50=PRONOSTIQUEUR!M50,RESULTATS!J50=RESULTATS!M50)),1,0)))","v":""},null,null,null,null,null,"Rg","Groupe H","MJ","G","N","P","BP","BC","+/-","Pts",null,null,"2018-07-03",6,{"$f":"IF(SUM(V39:V42)=0,\"1er Groupe F\",IF(COUNTIF(T39:T42,1)=1,VLOOKUP(1,T39:U42,2,FALSE),IF(COUNTIF(T39:T42,1)>=2,\"Tirage au Sort F1\")))","v":"1er Groupe F"},0,null,{"$f":"IF(AND(LEFT(AH50,3)<>\"1er\",LEFT(AH50,3)<>\"2nd\"),COUNTIF(RESULTATS!$AG$30:$AM$37,AH50),0)","v":0},null,null,{"$f":"IF(SUM(V33:V36)=0,\"2nd Groupe E\",IF(OR(COUNTIF(T33:T36,1)>1,COUNTIF(T33:T36,2)>1),\"Tirage au sort E2\",VLOOKUP(2,T33:U36,2,FALSE)))","v":"2nd Groupe E"},0,null,{"$f":"IF(AND(LEFT(AN50,3)<>\"1er\",LEFT(AN50,3)<>\"2nd\"),COUNTIF(RESULTATS!$AG$30:$AM$37,AN50),0)","v":0}]
[null,{"$f":"VLOOKUP($D51,TABLEAU_MATCHS[#All],2,FALSE)","v":"2018-06-27"},{"$f":"VLOOKUP($D51,TABLEAU_MATCHS[#All],3,FALSE)","v":"16:00:00"},44,{"$f":"\"Groupe \"&VLOOKUP($I51,TABLEAU_TEAMS[[#All],[TEAM]:[GROUP_INITIAL_RANK]],2,FALSE)","v":"Groupe F"},1.48,3.6,6.25,{"$f":"VLOOKUP($D51,TABLEAU_MATCHS[#All],4,FALSE)","v":"République de Corée"},null,null,{"$f":"VLOOKUP($D51,TABLEAU_MATCHS[#All],5,FALSE)","v":"Allemagne"},null,{"$f":"IF(OR(ISBLANK(RESULTATS!J51),ISBLANK(J51)),\"\",IF(AND(PRONOSTIQUEUR!J51=RESULTATS!J51,PRONOSTIQUEUR!M51=RESULTATS!M51),3,IF(OR(AND(PRONOSTIQUEUR!J51>PRONOSTIQUEUR!M51,RESULTATS!J51>RESULTATS!M51),AND(PRONOSTIQUEUR!J51<PRONOSTIQUEUR!M51,RESULTATS!J51<RESULTATS!M51),AND(PRONOSTIQUEUR!J51=PRONOSTIQUEUR!M51,RESULTATS!J51=RESULTATS!M51)),1,0)))","v":""},null,null,null,{"$f":"INDEX($R102:$R105,MATCH(SMALL(COUNTIF($R102:$R105,\">=\"&$R102:$R105),ROW(INDIRECT(\"1:\"&ROWS($R102:$R105)))),COUNTIF($R102:$R105,\">=\"&$R102:$R105),0))","v":"00000Sénégal"},{"$f":"INDEX($S102:$S105,MATCH(SMALL(COUNTIF($R102:$R105,\">=\"&$R102:$R105),ROW(INDIRECT(\"1:\"&ROWS($R102:$R105)))),COUNTIF($R102:$R105,\">=\"&$R102:$R105),0))","v":0},{"$f":"INDEX($T102:$T105,MATCH(SMALL(COUNTIF($R102:$R105,\">=\"&$R102:$R105),ROW(INDIRECT(\"1:\"&ROWS($R102:$R105)))),COUNTIF($R102:$R105,\">=\"&$R102:$R105),0))","v":1},{"$f":"INDEX($U102:$U105,MATCH(SMALL(COUNTIF($R102:$R105,\">=\"&$R102:$R105),ROW(INDIRECT(\"1:\"&ROWS($R102:$R105)))),COUNTIF($R102:$R105,\">=\"&$R102:$R105),0))","v":"Sénégal"},{"$f":"SUMPRODUCT((Teams1=U51)*(Teams1_Score<>\"\"))+SUMPRODUCT((Teams2=U51)*(Teams2_Score<>\"\"))","v":0},{"$f":"SUMPRODUCT((Teams1=U51)*(Teams1_Score>Teams2_Score))+SUMPRODUCT((Teams2=U51)*(Teams2_Score>Teams1_Score))","v":0},{"$f":"SUMPRODUCT((Teams1=U51)*(Teams1_Score=Teams2_Score)*(Teams1_Score<>\"\"))+SUMPRODUCT((Teams2=U51)*(Teams2_Score=Teams1_Score)*(Teams2_Score<>\"\"))","v":0},{"$f":"SUMPRODUCT((Teams1=U51)*(Teams1_Score<Teams2_Score))+SUMPRODUCT((Teams2=U51)*(Teams2_Score<Teams1_Score))","v":0},{"$f":"SUMPRODUCT((Teams1=U51)*(Teams1_Score))+SUMPRODUCT((Teams2=U51)*(Teams2_Score))","v":0},{"$f":"SUMPRODUCT((Teams1=U51)*(Teams2_Score))+SUMPRODUCT((Teams2=U51)*(Teams1_Score))","v":0},{"$f":"Z51-AA51","v":0},{"$f":"3*W51+X51","v":0},null,null,"2018-07-02",7,{"$f":"IF(SUM(V45:V48)=0,\"1er Groupe G\",IF(COUNTIF(T45:T48,1)=1,VLOOKUP(1,T45:U48,2,FALSE),IF(COUNTIF(T45:T48,1)>=2,\"Tirage au Sort G1\")))","v":"1er Groupe G"},0,null,{"$f":"IF(AND(LEFT(AH51,3)<>\"1er\",LEFT(AH51,3)<>\"2nd\"),COUNTIF(RESULTATS!$AG$30:$AM$37,AH51),0)","v":0},null,null,{"$f":"IF(SUM(V51:V54)=0,\"2nd Groupe H\",IF(OR(COUNTIF(T51:T54,1)>1,COUNTIF(T51:T54,2)>1),\"Tirage au sort H2\",VLOOKUP(2,T51:U54,2,FALSE)))","v":"2nd Groupe H"},0,null,{"$f":"IF(AND(LEFT(AN51,3)<>\"1er\",LEFT(AN51,3)<>\"2nd\"),COUNTIF(RESULTATS!$AG$30:$AM$37,AN51),0)","v":0}]
[null,{"$f":"VLOOKUP($D52,TABLEAU_MATCHS[#All],2,FALSE)","v":"2018-06-28"},{"$f":"VLOOKUP($D52,TABLEAU_MATCHS[#All],3,FALSE)","v":"20:00:00"},45,{"$f":"\"Groupe \"&VLOOKUP($I52,TABLEAU_TEAMS[[#All],[TEAM]:[GROUP_INITIAL_RANK]],2,FALSE)","v":"Groupe G"},8,4.2,1.32,{"$f":"VLOOKUP($D52,TABLEAU_MATCHS[#All],4,FALSE)","v":"Panama"},null,null,{"$f":"VLOOKUP($D52,TABLEAU_MATCHS[#All],5,FALSE)","v":"Tunisie"},null,{"$f":"IF(OR(ISBLANK(RESULTATS!J52),ISBLANK(J52)),\"\",IF(AND(PRONOSTIQUEUR!J52=RESULTATS!J52,PRONOSTIQUEUR!M52=RESULTATS!M52),3,IF(OR(AND(PRONOSTIQUEUR!J52>PRONOSTIQUEUR!M52,RESULTATS!J52>RESULTATS!M52),AND(PRONOSTIQUEUR!J52<PRONOSTIQUEUR!M52,RESULTATS!J52<RESULTATS!M52),AND(PRONOSTIQUEUR!J52=PRONOSTIQUEUR!M52,RESULTATS!J52=RESULTATS!M52)),1,0)))","v":""},null,null,null,"00000Pologne",0,1,"Pologne",{"$f":"SUMPRODUCT((Teams1=U52)*(Teams1_Score<>\"\"))+SUMPRODUCT((Teams2=U52)*(Teams2_Score<>\"\"))","v":0},{"$f":"SUMPRODUCT((Teams1=U52)*(Teams1_Score>Teams2_Score))+SUMPRODUCT((Teams2=U52)*(Teams2_Score>Teams1_Score))","v":0},{"$f":"SUMPRODUCT((Teams1=U52)*(Teams1_Score=Teams2_Score)*(Teams1_Score<>\"\"))+SUMPRODUCT((Teams2=U52)*(Teams2_Score=Teams1_Score)*(Teams2_Score<>\"\"))","v":0},{"$f":"SUMPRODUCT((Teams1=U52)*(Teams1_Score<Teams2_Score))+SUMPRODUCT((Teams2=U52)*(Teams2_Score<Teams1_Score))","v":0},{"$f":"SUMPRODUCT((Teams1=U52)*(Teams1_Score))+SUMPRODUCT((Teams2=U52)*(Teams2_Score))","v":0},{"$f":"SUMPRODUCT((Teams1=U52)*(Teams2_Score))+SUMPRODUCT((Teams2=U52)*(Teams1_Score))","v":0},{"$f":"Z52-AA52","v":0},{"$f":"3*W52+X52","v":0},null,null,"2018-07-03",8,{"$f":"IF(SUM(V51:V54)=0,\"1er Groupe H\",IF(COUNTIF(T51:T54,1)=1,VLOOKUP(1,T51:U54,2,FALSE),IF(COUNTIF(T51:T54,1)>=2,\"Tirage au Sort H1\")))","v":"1er Groupe H"},0,null,{"$f":"IF(AND(LEFT(AH52,3)<>\"1er\",LEFT(AH52,3)<>\"2nd\"),COUNTIF(RESULTATS!$AG$30:$AM$37,AH52),0)","v":0},null,null,{"$f":"IF(SUM(V45:V48)=0,\"2nd Groupe G\",IF(OR(COUNTIF(T45:T48,1)>1,COUNTIF(T45:T48,2)>1),\"Tirage au sort G2\",VLOOKUP(2,T45:U48,2,FALSE)))","v":"2nd Groupe G"},0,null,{"$f":"IF(AND(LEFT(AN52,3)<>\"1er\",LEFT(AN52,3)<>\"2nd\"),COUNTIF(RESULTATS!$AG$30:$AM$37,AN52),0)","v":0}]
[null,{"$f":"VLOOKUP($D53,TABLEAU_MATCHS[#All],2,FALSE)","v":"2018-06-28"},{"$f":"VLOOKUP($D53,TABLEAU_MATCHS[#All],3,FALSE)","v":"20:00:00"},46,{"$f":"\"Groupe \"&VLOOKUP($I53,TABLEAU_TEAMS[[#All],[TEAM]:[GROUP_INITIAL_RANK]],2,FALSE)","v":"Groupe G"},1.74,3.2,4.0999999999999996,{"$f":"VLOOKUP($D53,TABLEAU_MATCHS[#All],4,FALSE)","v":"Angleterre"},null,null,{"$f":"VLOOKUP($D53,TABLEAU_MATCHS[#All],5,FALSE)","v":"Belgique"},null,{"$f":"IF(OR(ISBLANK(RESULTATS!J53),ISBLANK(J53)),\"\",IF(AND(PRONOSTIQUEUR!J53=RESULTATS!J53,PRONOSTIQUEUR!M53=RESULTATS!M53),3,IF(OR(AND(PRONOSTIQUEUR!J53>PRONOSTIQUEUR!M53,RESULTATS!J53>RESULTATS!M53),AND(PRONOSTIQUEUR!J53<PRONOSTIQUEUR!M53,RESULTATS!J53<RESULTATS!M53),AND(PRONOSTIQUEUR!J53=PRONOSTIQUEUR!M53,RESULTATS!J53=RESULTATS!M53)),1,0)))","v":""},null,null,null,"00000Japon",0,1,"Japon",{"$f":"SUMPRODUCT((Teams1=U53)*(Teams1_Score<>\"\"))+SUMPRODUCT((Teams2=U53)*(Teams2_Score<>\"\"))","v":0},{"$f":"SUMPRODUCT((Teams1=U53)*(Teams1_Score>Teams2_Score))+SUMPRODUCT((Teams2=U53)*(Teams2_Score>Teams1_Score))","v":0},{"$f":"SUMPRODUCT((Teams1=U53)*(Teams1_Score=Teams2_Score)*(Teams1_Score<>\"\"))+SUMPRODUCT((Teams2=U53)*(Teams2_Score=Teams1_Score)*(Teams2_Score<>\"\"))","v":0},{"$f":"SUMPRODUCT((Teams1=U53)*(Teams1_Score<Teams2_Score))+SUMPRODUCT((Teams2=U53)*(Teams2_Score<Teams1_Score))","v":0},{"$f":"SUMPRODUCT((Teams1=U53)*(Teams1_Score))+SUMPRODUCT((Teams2=U53)*(Teams2_Score))","v":0},{"$f":"SUMPRODUCT((Teams1=U53)*(Teams2_Score))+SUMPRODUCT((Teams2=U53)*(Teams1_Score))","v":0},{"$f":"Z53-AA53","v":0},{"$f":"3*W53+X53","v":0},null,null,null,null,null,null,null,{"$f":"SUM(AK45:AK52)","v":0},null,null,null,0,null,{"$f":"SUM(AQ45:AQ52)","v":0}]
[null,{"$f":"VLOOKUP($D54,TABLEAU_MATCHS[#All],2,FALSE)","v":"2018-06-28"},{"$f":"VLOOKUP($D54,TABLEAU_MATCHS[#All],3,FALSE)","v":"16:00:00"},47,{"$f":"\"Groupe \"&VLOOKUP($I54,TABLEAU_TEAMS[[#All],[TEAM]:[GROUP_INITIAL_RANK]],2,FALSE)","v":"Groupe H"},4.9000000000000004,3.25,1.62,{"$f":"VLOOKUP($D54,TABLEAU_MATCHS[#All],4,FALSE)","v":"Japon"},null,null,{"$f":"VLOOKUP($D54,TABLEAU_MATCHS[#All],5,FALSE)","v":"Pologne"},null,{"$f":"IF(OR(ISBLANK(RESULTATS!J54),ISBLANK(J54)),\"\",IF(AND(PRONOSTIQUEUR!J54=RESULTATS!J54,PRONOSTIQUEUR!M54=RESULTATS!M54),3,IF(OR(AND(PRONOSTIQUEUR!J54>PRONOSTIQUEUR!M54,RESULTATS!J54>RESULTATS!M54),AND(PRONOSTIQUEUR!J54<PRONOSTIQUEUR!M54,RESULTATS!J54<RESULTATS!M54),AND(PRONOSTIQUEUR!J54=PRONOSTIQUEUR!M54,RESULTATS!J54=RESULTATS!M54)),1,0)))","v":""},null,null,null,"00000Colombie",0,1,"Colombie",{"$f":"SUMPRODUCT((Teams1=U54)*(Teams1_Score<>\"\"))+SUMPRODUCT((Teams2=U54)*(Teams2_Score<>\"\"))","v":0},{"$f":"SUMPRODUCT((Teams1=U54)*(Teams1_Score>Teams2_Score))+SUMPRODUCT((Teams2=U54)*(Teams2_Score>Teams1_Score))","v":0},{"$f":"SUMPRODUCT((Teams1=U54)*(Teams1_Score=Teams2_Score)*(Teams1_Score<>\"\"))+SUMPRODUCT((Teams2=U54)*(Teams2_Score=Teams1_Score)*(Teams2_Score<>\"\"))","v":0},{"$f":"SUMPRODUCT((Teams1=U54)*(Teams1_Score<Teams2_Score))+SUMPRODUCT((Teams2=U54)*(Teams2_Score<Teams1_Score))","v":0},{"$f":"SUMPRODUCT((Teams1=U54)*(Teams1_Score))+SUMPRODUCT((Teams2=U54)*(Teams2_Score))","v":0},{"$f":"SUMPRODUCT((Teams1=U54)*(Teams2_Score))+SUMPRODUCT((Teams2=U54)*(Teams1_Score))","v":0},{"$f":"Z54-AA54","v":0},{"$f":"3*W54+X54","v":0}]
[null,{"$f":"VLOOKUP($D55,TABLEAU_MATCHS[#All],2,FALSE)","v":"2018-06-28"},{"$f":"VLOOKUP($D55,TABLEAU_MATCHS[#All],3,FALSE)","v":"16:00:00"},48,{"$f":"\"Groupe \"&VLOOKUP($I55,TABLEAU_TEAMS[[#All],[TEAM]:[GROUP_INITIAL_RANK]],2,FALSE)","v":"Groupe H"},6,3.4,1.52,{"$f":"VLOOKUP($D55,TABLEAU_MATCHS[#All],4,FALSE)","v":"Sénégal"},null,null,{"$f":"VLOOKUP($D55,TABLEAU_MATCHS[#All],5,FALSE)","v":"Colombie"},null,{"$f":"IF(OR(ISBLANK(RESULTATS!J55),ISBLANK(J55)),\"\",IF(AND(PRONOSTIQUEUR!J55=RESULTATS!J55,PRONOSTIQUEUR!M55=RESULTATS!M55),3,IF(OR(AND(PRONOSTIQUEUR!J55>PRONOSTIQUEUR!M55,RESULTATS!J55>RESULTATS!M55),AND(PRONOSTIQUEUR!J55<PRONOSTIQUEUR!M55,RESULTATS!J55<RESULTATS!M55),AND(PRONOSTIQUEUR!J55=PRONOSTIQUEUR!M55,RESULTATS!J55=RESULTATS!M55)),1,0)))","v":""}]
[null,null,null,null,null,null,null,null,null,null,null,null,null,{"$f":"SUM(N8:N55)","v":0}]
[]
[]
[null,"Tirage au sort A1",null,null,null,null,null,null,null,null,null,null,null,null,null,null,null,null,null,"Rg","Groupe A","MJ","G","N","P","BP","BC","+/-","Pts"]
[null,{"$f":"IF(ROWS($1:1)<=COUNTIF($T$9:$T$12,1),INDEX($U$9:$U$12,SMALL(IF($T$9:$T$12=1,ROW(INDIRECT(\"1:\"&ROWS($T$9:$T$12)))),ROWS($1:1))),\"\")","v":"Uruguay"},null,null,null,null,null,null,null,null,null,null,null,null,null,null,"A_1",{"$f":"TEXT(S60,\"00000\")&U60","v":"00000Russie"},{"$f":"AC60*1000+AB60*100+Z60*10","v":0},{"$f":"RANK(S60,$S60:$S64,0)","v":1},{"$f":"VLOOKUP(Q60,TABLEAU_TEAMS[#All],2,FALSE)","v":"Russie"},{"$f":"SUMPRODUCT((Teams1=U60)*(Teams1_Score<>\"\"))+SUMPRODUCT((Teams2=U60)*(Teams2_Score<>\"\"))","v":0},{"$f":"SUMPRODUCT((Teams1=U60)*(Teams1_Score>Teams2_Score))+SUMPRODUCT((Teams2=U60)*(Teams2_Score>Teams1_Score))","v":0},{"$f":"SUMPRODUCT((Teams1=U60)*(Teams1_Score=Teams2_Score)*(Teams1_Score<>\"\"))+SUMPRODUCT((Teams2=U60)*(Teams2_Score=Teams1_Score)*(Teams2_Score<>\"\"))","v":0},{"$f":"SUMPRODUCT((Teams1=U60)*(Teams1_Score<Teams2_Score))+SUMPRODUCT((Teams2=U60)*(Teams2_Score<Teams1_Score))","v":0},{"$f":"SUMPRODUCT((Teams1=U60)*(Teams1_Score))+SUMPRODUCT((Teams2=U60)*(Teams2_Score))","v":0},{"$f":"SUMPRODUCT((Teams1=U60)*(Teams2_Score))+SUMPRODUCT((Teams2=U60)*(Teams1_Score))","v":0},{"$f":"Z60-AA60","v":0},{"$f":"3*W60+X60","v":0}]
[null,{"$f":"IF(ROWS($1:2)<=COUNTIF($T$9:$T$12,1),INDEX($U$9:$U$12,SMALL(IF($T$9:$T$12=1,ROW(INDIRECT(\"1:\"&ROWS($T$9:$T$12)))),ROWS($1:2))),\"\")","v":"Russie"},null,null,null,null,null,null,null,null,null,null,null,null,null,null,"A_2",{"$f":"TEXT(S61,\"00000\")&U61","v":"00000Arabie Saoudite"},{"$f":"AC61*1000+AB61*100+Z61*10","v":0},{"$f":"RANK(S61,$S60:$S64,0)","v":1},{"$f":"VLOOKUP(Q61,TABLEAU_TEAMS[#All],2,FALSE)","v":"Arabie Saoudite"},{"$f":"SUMPRODUCT((Teams1=U61)*(Teams1_Score<>\"\"))+SUMPRODUCT((Teams2=U61)*(Teams2_Score<>\"\"))","v":0},{"$f":"SUMPRODUCT((Teams1=U61)*(Teams1_Score>Teams2_Score))+SUMPRODUCT((Teams2=U61)*(Teams2_Score>Teams1_Score))","v":0},{"$f":"SUMPRODUCT((Teams1=U61)*(Teams1_Score=Teams2_Score)*(Teams1_Score<>\"\"))+SUMPRODUCT((Teams2=U61)*(Teams2_Score=Teams1_Score)*(Teams2_Score<>\"\"))","v":0},{"$f":"SUMPRODUCT((Teams1=U61)*(Teams1_Score<Teams2_Score))+SUMPRODUCT((Teams2=U61)*(Teams2_Score<Teams1_Score))","v":0},{"$f":"SUMPRODUCT((Teams1=U61)*(Teams1_Score))+SUMPRODUCT((Teams2=U61)*(Teams2_Score))","v":0},{"$f":"SUMPRODUCT((Teams1=U61)*(Teams2_Score))+SUMPRODUCT((Teams2=U61)*(Teams1_Score))","v":0},{"$f":"Z61-AA61","v":0},{"$f":"3*W61+X61","v":0}]
[null,{"$f":"IF(ROWS($1:3)<=COUNTIF($T$9:$T$12,1),INDEX($U$9:$U$12,SMALL(IF($T$9:$T$12=1,ROW(INDIRECT(\"1:\"&ROWS($T$9:$T$12)))),ROWS($1:3))),\"\")","v":"Egypte"},null,null,null,null,null,null,null,null,null,null,null,null,null,null,"A_3",{"$f":"TEXT(S62,\"00000\")&U62","v":"00000Egypte"},{"$f":"AC62*1000+AB62*100+Z62*10","v":0},{"$f":"RANK(S62,$S60:$S64,0)","v":1},{"$f":"VLOOKUP(Q62,TABLEAU_TEAMS[#All],2,FALSE)","v":"Egypte"},{"$f":"SUMPRODUCT((Teams1=U62)*(Teams1_Score<>\"\"))+SUMPRODUCT((Teams2=U62)*(Teams2_Score<>\"\"))","v":0},{"$f":"SUMPRODUCT((Teams1=U62)*(Teams1_Score>Teams2_Score))+SUMPRODUCT((Teams2=U62)*(Teams2_Score>Teams1_Score))","v":0},{"$f":"SUMPRODUCT((Teams1=U62)*(Teams1_Score=Teams2_Score)*(Teams1_Score<>\"\"))+SUMPRODUCT((Teams2=U62)*(Teams2_Score=Teams1_Score)*(Teams2_Score<>\"\"))","v":0},{"$f":"SUMPRODUCT((Teams1=U62)*(Teams1_Score<Teams2_Score))+SUMPRODUCT((Teams2=U62)*(Teams2_Score<Teams1_Score))","v":0},{"$f":"SUMPRODUCT((Teams1=U62)*(Teams1_Score))+SUMPRODUCT((Teams2=U62)*(Teams2_Score))","v":0},{"$f":"SUMPRODUCT((Teams1=U62)*(Teams2_Score))+SUMPRODUCT((Teams2=U62)*(Teams1_Score))","v":0},{"$f":"Z62-AA62","v":0},{"$f":"3*W62+X62","v":0}]
[null,{"$f":"IF(ROWS($1:4)<=COUNTIF($T$9:$T$12,1),INDEX($U$9:$U$12,SMALL(IF($T$9:$T$12=1,ROW(INDIRECT(\"1:\"&ROWS($T$9:$T$12)))),ROWS($1:4))),\"\")","v":"Arabie Saoudite"},null,null,null,null,null,null,null,null,null,null,null,null,null,null,"A_4",{"$f":"TEXT(S63,\"00000\")&U63","v":"00000Uruguay"},{"$f":"AC63*1000+AB63*100+Z63*10","v":0},{"$f":"RANK(S63,$S60:$S64,0)","v":1},{"$f":"VLOOKUP(Q63,TABLEAU_TEAMS[#All],2,FALSE)","v":"Uruguay"},{"$f":"SUMPRODUCT((Teams1=U63)*(Teams1_Score<>\"\"))+SUMPRODUCT((Teams2=U63)*(Teams2_Score<>\"\"))","v":0},{"$f":"SUMPRODUCT((Teams1=U63)*(Teams1_Score>Teams2_Score))+SUMPRODUCT((Teams2=U63)*(Teams2_Score>Teams1_Score))","v":0},{"$f":"SUMPRODUCT((Teams1=U63)*(Teams1_Score=Teams2_Score)*(Teams1_Score<>\"\"))+SUMPRODUCT((Teams2=U63)*(Teams2_Score=Teams1_Score)*(Teams2_Score<>\"\"))","v":0},{"$f":"SUMPRODUCT((Teams1=U63)*(Teams1_Score<Teams2_Score))+SUMPRODUCT((Teams2=U63)*(Teams2_Score<Teams1_Score))","v":0},{"$f":"SUMPRODUCT((Teams1=U63)*(Teams1_Score))+SUMPRODUCT((Teams2=U63)*(Teams2_Score))","v":0},{"$f":"SUMPRODUCT((Teams1=U63)*(Teams2_Score))+SUMPRODUCT((Teams2=U63)*(Teams1_Score))","v":0},{"$f":"Z63-AA63","v":0},{"$f":"3*W63+X63","v":0}]
[null,"Tirage au sort A2"]
[null,{"$f":"IF(COUNTIF($T$9:$T$12,1)>1,IF(ROWS($1:1)<=COUNTIF($T$9:$T$12,1),INDEX($U$9:$U$12,SMALL(IF($T$9:$T$12=1,ROW(INDIRECT(\"1:\"&ROWS($T$9:$T$12)))),ROWS($1:1))),\"\"),IF(COUNTIF($T$9:$T$12,2)>1,IF(ROWS($1:1)<=COUNTIF($T$9:$T$12,2),INDEX($U$9:$U$12,SMALL(IF($T$9:$T$12=2,ROW(INDIRECT(\"1:\"&ROWS($T$9:$T$12)))),ROWS($1:1))),\"\")))","v":"Uruguay"},null,null,null,null,null,null,null,null,null,null,null,null,null,null,null,null,null,"Rg","Groupe B","MJ","G","N","P","BP","BC","Pts","Pts"]
[null,{"$f":"IF(COUNTIF($T$9:$T$12,1)>1,IF(ROWS($1:2)<=COUNTIF($T$9:$T$12,1),INDEX($U$9:$U$12,SMALL(IF($T$9:$T$12=1,ROW(INDIRECT(\"1:\"&ROWS($T$9:$T$12)))),ROWS($1:2))),\"\"),IF(COUNTIF($T$9:$T$12,2)>1,IF(ROWS($1:2)<=COUNTIF($T$9:$T$12,2),INDEX($U$9:$U$12,SMALL(IF($T$9:$T$12=2,ROW(INDIRECT(\"1:\"&ROWS($T$9:$T$12)))),ROWS($1:2))),\"\")))","v":"Russie"},null,null,null,null,null,null,null,null,null,null,null,null,null,null,"B_1",{"$f":"TEXT(S66,\"00000\")&U66","v":"00000Maroc"},{"$f":"AC66*1000+AB66*100+Z66*10","v":0},{"$f":"RANK(S66,$S66:$S70,0)","v":1},{"$f":"VLOOKUP(Q66,TABLEAU_TEAMS[#All],2,FALSE)","v":"Maroc"},{"$f":"SUMPRODUCT((Teams1=U66)*(Teams1_Score<>\"\"))+SUMPRODUCT((Teams2=U66)*(Teams2_Score<>\"\"))","v":0},{"$f":"SUMPRODUCT((Teams1=U66)*(Teams1_Score>Teams2_Score))+SUMPRODUCT((Teams2=U66)*(Teams2_Score>Teams1_Score))","v":0},{"$f":"SUMPRODUCT((Teams1=U66)*(Teams1_Score=Teams2_Score)*(Teams1_Score<>\"\"))+SUMPRODUCT((Teams2=U66)*(Teams2_Score=Teams1_Score)*(Teams2_Score<>\"\"))","v":0},{"$f":"SUMPRODUCT((Teams1=U66)*(Teams1_Score<Teams2_Score))+SUMPRODUCT((Teams2=U66)*(Teams2_Score<Teams1_Score))","v":0},{"$f":"SUMPRODUCT((Teams1=U66)*(Teams1_Score))+SUMPRODUCT((Teams2=U66)*(Teams2_Score))","v":0},{"$f":"SUMPRODUCT((Teams1=U66)*(Teams2_Score))+SUMPRODUCT((Teams2=U66)*(Teams1_Score))","v":0},{"$f":"Z66-AA66","v":0},{"$f":"3*W66+X66","v":0}]
[null,{"$f":"IF(COUNTIF($T$9:$T$12,1)>1,IF(ROWS($1:3)<=COUNTIF($T$9:$T$12,1),INDEX($U$9:$U$12,SMALL(IF($T$9:$T$12=1,ROW(INDIRECT(\"1:\"&ROWS($T$9:$T$12)))),ROWS($1:3))),\"\"),IF(COUNTIF($T$9:$T$12,2)>1,IF(ROWS($1:3)<=COUNTIF($T$9:$T$12,2),INDEX($U$9:$U$12,SMALL(IF($T$9:$T$12=2,ROW(INDIRECT(\"1:\"&ROWS($T$9:$T$12)))),ROWS($1:3))),\"\")))","v":"Egypte"},null,null,null,null,null,null,null,null,null,null,null,null,null,null,"B_2",{"$f":"TEXT(S67,\"00000\")&U67","v":"00000RI Iran"},{"$f":"AC67*1000+AB67*100+Z67*10","v":0},{"$f":"RANK(S67,$S66:$S70,0)","v":1},{"$f":"VLOOKUP(Q67,TABLEAU_TEAMS[#All],2,FALSE)","v":"RI Iran"},{"$f":"SUMPRODUCT((Teams1=U67)*(Teams1_Score<>\"\"))+SUMPRODUCT((Teams2=U67)*(Teams2_Score<>\"\"))","v":0},{"$f":"SUMPRODUCT((Teams1=U67)*(Teams1_Score>Teams2_Score))+SUMPRODUCT((Teams2=U67)*(Teams2_Score>Teams1_Score))","v":0},{"$f":"SUMPRODUCT((Teams1=U67)*(Teams1_Score=Teams2_Score)*(Teams1_Score<>\"\"))+SUMPRODUCT((Teams2=U67)*(Teams2_Score=Teams1_Score)*(Teams2_Score<>\"\"))","v":0},{"$f":"SUMPRODUCT((Teams1=U67)*(Teams1_Score<Teams2_Score))+SUMPRODUCT((Teams2=U67)*(Teams2_Score<Teams1_Score))","v":0},{"$f":"SUMPRODUCT((Teams1=U67)*(Teams1_Score))+SUMPRODUCT((Teams2=U67)*(Teams2_Score))","v":0},{"$f":"SUMPRODUCT((Teams1=U67)*(Teams2_Score))+SUMPRODUCT((Teams2=U67)*(Teams1_Score))","v":0},{"$f":"Z67-AA67","v":0},{"$f":"3*W67+X67","v":0}]
[null,{"$f":"IF(COUNTIF($T$9:$T$12,1)>1,IF(ROWS($1:4)<=COUNTIF($T$9:$T$12,1),INDEX($U$9:$U$12,SMALL(IF($T$9:$T$12=1,ROW(INDIRECT(\"1:\"&ROWS($T$9:$T$12)))),ROWS($1:4))),\"\"),IF(COUNTIF($T$9:$T$12,2)>1,IF(ROWS($1:4)<=COUNTIF($T$9:$T$12,2),INDEX($U$9:$U$12,SMALL(IF($T$9:$T$12=2,ROW(INDIRECT(\"1:\"&ROWS($T$9:$T$12)))),ROWS($1:4))),\"\")))","v":"Arabie Saoudite"},null,null,null,null,null,null,null,null,null,null,null,null,null,null,"B_3",{"$f":"TEXT(S68,\"00000\")&U68","v":"00000Portugal"},{"$f":"AC68*1000+AB68*100+Z68*10","v":0},{"$f":"RANK(S68,$S66:$S70,0)","v":1},{"$f":"VLOOKUP(Q68,TABLEAU_TEAMS[#All],2,FALSE)","v":"Portugal"},{"$f":"SUMPRODUCT((Teams1=U68)*(Teams1_Score<>\"\"))+SUMPRODUCT((Teams2=U68)*(Teams2_Score<>\"\"))","v":0},{"$f":"SUMPRODUCT((Teams1=U68)*(Teams1_Score>Teams2_Score))+SUMPRODUCT((Teams2=U68)*(Teams2_Score>Teams1_Score))","v":0},{"$f":"SUMPRODUCT((Teams1=U68)*(Teams1_Score=Teams2_Score)*(Teams1_Score<>\"\"))+SUMPRODUCT((Teams2=U68)*(Teams2_Score=Teams1_Score)*(Teams2_Score<>\"\"))","v":0},{"$f":"SUMPRODUCT((Teams1=U68)*(Teams1_Score<Teams2_Score))+SUMPRODUCT((Teams2=U68)*(Teams2_Score<Teams1_Score))","v":0},{"$f":"SUMPRODUCT((Teams1=U68)*(Teams1_Score))+SUMPRODUCT((Teams2=U68)*(Teams2_Score))","v":0},{"$f":"SUMPRODUCT((Teams1=U68)*(Teams2_Score))+SUMPRODUCT((Teams2=U68)*(Teams1_Score))","v":0},{"$f":"Z68-AA68","v":0},{"$f":"3*W68+X68","v":0}]
[null,"Tirage au sort B1",null,null,null,null,null,null,null,null,null,null,null,null,null,null,"B_4",{"$f":"TEXT(S69,\"00000\")&U69","v":"00000Espagne"},{"$f":"AC69*1000+AB69*100+Z69*10","v":0},{"$f":"RANK(S69,$S66:$S70,0)","v":1},{"$f":"VLOOKUP(Q69,TABLEAU_TEAMS[#All],2,FALSE)","v":"Espagne"},{"$f":"SUMPRODUCT((Teams1=U69)*(Teams1_Score<>\"\"))+SUMPRODUCT((Teams2=U69)*(Teams2_Score<>\"\"))","v":0},{"$f":"SUMPRODUCT((Teams1=U69)*(Teams1_Score>Teams2_Score))+SUMPRODUCT((Teams2=U69)*(Teams2_Score>Teams1_Score))","v":0},{"$f":"SUMPRODUCT((Teams1=U69)*(Teams1_Score=Teams2_Score)*(Teams1_Score<>\"\"))+SUMPRODUCT((Teams2=U69)*(Teams2_Score=Teams1_Score)*(Teams2_Score<>\"\"))","v":0},{"$f":"SUMPRODUCT((Teams1=U69)*(Teams1_Score<Teams2_Score))+SUMPRODUCT((Teams2=U69)*(Teams2_Score<Teams1_Score))","v":0},{"$f":"SUMPRODUCT((Teams1=U69)*(Teams1_Score))+SUMPRODUCT((Teams2=U69)*(Teams2_Score))","v":0},{"$f":"SUMPRODUCT((Teams1=U69)*(Teams2_Score))+SUMPRODUCT((Teams2=U69)*(Teams1_Score))","v":0},{"$f":"Z69-AA69","v":0},{"$f":"3*W69+X69","v":0}]
[null,{"$f":"IF(ROWS($1:1)<=COUNTIF($T$15:$T$18,1),INDEX($U$15:$U$18,SMALL(IF($T$15:$T$18=1,ROW(INDIRECT(\"1:\"&ROWS($T$15:$T$18)))),ROWS($1:1))),\"\")","v":"RI Iran"}]
[null,{"$f":"IF(ROWS($1:2)<=COUNTIF($T$15:$T$18,1),INDEX($U$15:$U$18,SMALL(IF($T$15:$T$18=1,ROW(INDIRECT(\"1:\"&ROWS($T$15:$T$18)))),ROWS($1:2))),\"\")","v":"Portugal"},null,null,null,null,null,null,null,null,null,null,null,null,null,null,null,null,null,"Rg","Groupe C","MJ","G","N","P","BP","BC","Pts","Pts"]
[null,{"$f":"IF(ROWS($1:3)<=COUNTIF($T$15:$T$18,1),INDEX($U$15:$U$18,SMALL(IF($T$15:$T$18=1,ROW(INDIRECT(\"1:\"&ROWS($T$15:$T$18)))),ROWS($1:3))),\"\")","v":"Maroc"},null,null,null,null,null,null,null,null,null,null,null,null,null,null,"C_1",{"$f":"TEXT(S72,\"00000\")&U72","v":"00000France"},{"$f":"AC72*1000+AB72*100+Z72*10","v":0},{"$f":"RANK(S72,$S72:$S76,0)","v":1},{"$f":"VLOOKUP(Q72,TABLEAU_TEAMS[#All],2,FALSE)","v":"France"},{"$f":"SUMPRODUCT((Teams1=U72)*(Teams1_Score<>\"\"))+SUMPRODUCT((Teams2=U72)*(Teams2_Score<>\"\"))","v":0},{"$f":"SUMPRODUCT((Teams1=U72)*(Teams1_Score>Teams2_Score))+SUMPRODUCT((Teams2=U72)*(Teams2_Score>Teams1_Score))","v":0},{"$f":"SUMPRODUCT((Teams1=U72)*(Teams1_Score=Teams2_Score)*(Teams1_Score<>\"\"))+SUMPRODUCT((Teams2=U72)*(Teams2_Score=Teams1_Score)*(Teams2_Score<>\"\"))","v":0},{"$f":"SUMPRODUCT((Teams1=U72)*(Teams1_Score<Teams2_Score))+SUMPRODUCT((Teams2=U72)*(Teams2_Score<Teams1_Score))","v":0},{"$f":"SUMPRODUCT((Teams1=U72)*(Teams1_Score))+SUMPRODUCT((Teams2=U72)*(Teams2_Score))","v":0},{"$f":"SUMPRODUCT((Teams1=U72)*(Teams2_Score))+SUMPRODUCT((Teams2=U72)*(Teams1_Score))","v":0},{"$f":"Z72-AA72","v":0},{"$f":"3*W72+X72","v":0}]
[null,{"$f":"IF(ROWS($1:4)<=COUNTIF($T$15:$T$18,1),INDEX($U$15:$U$18,SMALL(IF($T$15:$T$18=1,ROW(INDIRECT(\"1:\"&ROWS($T$15:$T$18)))),ROWS($1:4))),\"\")","v":"Espagne"},null,null,null,null,null,null,null,null,null,null,null,null,null,null,"C_2",{"$f":"TEXT(S73,\"00000\")&U73","v":"00000Australie"},{"$f":"AC73*1000+AB73*100+Z73*10","v":0},{"$f":"RANK(S73,$S72:$S76,0)","v":1},{"$f":"VLOOKUP(Q73,TABLEAU_TEAMS[#All],2,FALSE)","v":"Australie"},{"$f":"SUMPRODUCT((Teams1=U73)*(Teams1_Score<>\"\"))+SUMPRODUCT((Teams2=U73)*(Teams2_Score<>\"\"))","v":0},{"$f":"SUMPRODUCT((Teams1=U73)*(Teams1_Score>Teams2_Score))+SUMPRODUCT((Teams2=U73)*(Teams2_Score>Teams1_Score))","v":0},{"$f":"SUMPRODUCT((Teams1=U73)*(Teams1_Score=Teams2_Score)*(Teams1_Score<>\"\"))+SUMPRODUCT((Teams2=U73)*(Teams2_Score=Teams1_Score)*(Teams2_Score<>\"\"))","v":0},{"$f":"SUMPRODUCT((Teams1=U73)*(Teams1_Score<Teams2_Score))+SUMPRODUCT((Teams2=U73)*(Teams2_Score<Teams1_Score))","v":0},{"$f":"SUMPRODUCT((Teams1=U73)*(Teams1_Score))+SUMPRODUCT((Teams2=U73)*(Teams2_Score))","v":0},{"$f":"SUMPRODUCT((Teams1=U73)*(Teams2_Score))+SUMPRODUCT((Teams2=U73)*(Teams1_Score))","v":0},{"$f":"Z73-AA73","v":0},{"$f":"3*W73+X73","v":0}]
[null,"Tirage au sort B2",null,null,null,null,null,null,null,null,null,null,null,null,null,null,"C_3",{"$f":"TEXT(S74,\"00000\")&U74","v":"00000Pérou"},{"$f":"AC74*1000+AB74*100+Z74*10","v":0},{"$f":"RANK(S74,$S72:$S76,0)","v":1},{"$f":"VLOOKUP(Q74,TABLEAU_TEAMS[#All],2,FALSE)","v":"Pérou"},{"$f":"SUMPRODUCT((Teams1=U74)*(Teams1_Score<>\"\"))+SUMPRODUCT((Teams2=U74)*(Teams2_Score<>\"\"))","v":0},{"$f":"SUMPRODUCT((Teams1=U74)*(Teams1_Score>Teams2_Score))+SUMPRODUCT((Teams2=U74)*(Teams2_Score>Teams1_Score))","v":0},{"$f":"SUMPRODUCT((Teams1=U74)*(Teams1_Score=Teams2_Score)*(Teams1_Score<>\"\"))+SUMPRODUCT((Teams2=U74)*(Teams2_Score=Teams1_Score)*(Teams2_Score<>\"\"))","v":0},{"$f":"SUMPRODUCT((Teams1=U74)*(Teams1_Score<Teams2_Score))+SUMPRODUCT((Teams2=U74)*(Teams2_Score<Teams1_Score))","v":0},{"$f":"SUMPRODUCT((Teams1=U74)*(Teams1_Score))+SUMPRODUCT((Teams2=U74)*(Teams2_Score))","v":0},{"$f":"SUMPRODUCT((Teams1=U74)*(Teams2_Score))+SUMPRODUCT((Teams2=U74)*(Teams1_Score))","v":0},{"$f":"Z74-AA74","v":0},{"$f":"3*W74+X74","v":0}]
[null,{"$f":"IF(COUNTIF($T$15:$T$18,1)>1,IF(ROWS($1:1)<=COUNTIF($T$15:$T$18,1),INDEX($U$15:$U$18,SMALL(IF($T$15:$T$18=1,ROW(INDIRECT(\"1:\"&ROWS($T$15:$T$18)))),ROWS($1:1))),\"\"),IF(COUNTIF($T$15:$T$18,2)>1,IF(ROWS($1:1)<=COUNTIF($T$15:$T$18,2),INDEX($U$15:$U$18,SMALL(IF($T$15:$T$18=2,ROW(INDIRECT(\"1:\"&ROWS($T$15:$T$18)))),ROWS($1:1))),\"\")))","v":"RI Iran"},null,null,null,null,null,null,null,null,null,null,null,null,null,null,"C_4",{"$f":"TEXT(S75,\"00000\")&U75","v":"00000Danemark"},{"$f":"AC75*1000+AB75*100+Z75*10","v":0},{"$f":"RANK(S75,$S72:$S76,0)","v":1},{"$f":"VLOOKUP(Q75,TABLEAU_TEAMS[#All],2,FALSE)","v":"Danemark"},{"$f":"SUMPRODUCT((Teams1=U75)*(Teams1_Score<>\"\"))+SUMPRODUCT((Teams2=U75)*(Teams2_Score<>\"\"))","v":0},{"$f":"SUMPRODUCT((Teams1=U75)*(Teams1_Score>Teams2_Score))+SUMPRODUCT((Teams2=U75)*(Teams2_Score>Teams1_Score))","v":0},{"$f":"SUMPRODUCT((Teams1=U75)*(Teams1_Score=Teams2_Score)*(Teams1_Score<>\"\"))+SUMPRODUCT((Teams2=U75)*(Teams2_Score=Teams1_Score)*(Teams2_Score<>\"\"))","v":0},{"$f":"SUMPRODUCT((Teams1=U75)*(Teams1_Score<Teams2_Score))+SUMPRODUCT((Teams2=U75)*(Teams2_Score<Teams1_Score))","v":0},{"$f":"SUMPRODUCT((Teams1=U75)*(Teams1_Score))+SUMPRODUCT((Teams2=U75)*(Teams2_Score))","v":0},{"$f":"SUMPRODUCT((Teams1=U75)*(Teams2_Score))+SUMPRODUCT((Teams2=U75)*(Teams1_Score))","v":0},{"$f":"Z75-AA75","v":0},{"$f":"3*W75+X75","v":0}]
[null,{"$f":"IF(COUNTIF($T$15:$T$18,1)>1,IF(ROWS($1:2)<=COUNTIF($T$15:$T$18,1),INDEX($U$15:$U$18,SMALL(IF($T$15:$T$18=1,ROW(INDIRECT(\"1:\"&ROWS($T$15:$T$18)))),ROWS($1:2))),\"\"),IF(COUNTIF($T$15:$T$18,2)>1,IF(ROWS($1:2)<=COUNTIF($T$15:$T$18,2),INDEX($U$15:$U$18,SMALL(IF($T$15:$T$18=2,ROW(INDIRECT(\"1:\"&ROWS($T$15:$T$18)))),ROWS($1:2))),\"\")))","v":"Portugal"}]
[null,{"$f":"IF(COUNTIF($T$15:$T$18,1)>1,IF(ROWS($1:3)<=COUNTIF($T$15:$T$18,1),INDEX($U$15:$U$18,SMALL(IF($T$15:$T$18=1,ROW(INDIRECT(\"1:\"&ROWS($T$15:$T$18)))),ROWS($1:3))),\"\"),IF(COUNTIF($T$15:$T$18,2)>1,IF(ROWS($1:3)<=COUNTIF($T$15:$T$18,2),INDEX($U$15:$U$18,SMALL(IF($T$15:$T$18=2,ROW(INDIRECT(\"1:\"&ROWS($T$15:$T$18)))),ROWS($1:3))),\"\")))","v":"Maroc"},null,null,null,null,null,null,null,null,null,null,null,null,null,null,null,null,null,"Rg","Groupe D","MJ","G","N","P","BP","BC","Pts","Pts"]
[null,{"$f":"IF(COUNTIF($T$15:$T$18,1)>1,IF(ROWS($1:4)<=COUNTIF($T$15:$T$18,1),INDEX($U$15:$U$18,SMALL(IF($T$15:$T$18=1,ROW(INDIRECT(\"1:\"&ROWS($T$15:$T$18)))),ROWS($1:4))),\"\"),IF(COUNTIF($T$15:$T$18,2)>1,IF(ROWS($1:4)<=COUNTIF($T$15:$T$18,2),INDEX($U$15:$U$18,SMALL(IF($T$15:$T$18=2,ROW(INDIRECT(\"1:\"&ROWS($T$15:$T$18)))),ROWS($1:4))),\"\")))","v":"Espagne"},null,null,null,null,null,null,null,null,null,null,null,null,null,null,"D_1",{"$f":"TEXT(S78,\"00000\")&U78","v":"00000Argentine"},{"$f":"AC78*1000+AB78*100+Z78*10","v":0},{"$f":"RANK(S78,$S78:$S82,0)","v":1},{"$f":"VLOOKUP(Q78,TABLEAU_TEAMS[#All],2,FALSE)","v":"Argentine"},{"$f":"SUMPRODUCT((Teams1=U78)*(Teams1_Score<>\"\"))+SUMPRODUCT((Teams2=U78)*(Teams2_Score<>\"\"))","v":0},{"$f":"SUMPRODUCT((Teams1=U78)*(Teams1_Score>Teams2_Score))+SUMPRODUCT((Teams2=U78)*(Teams2_Score>Teams1_Score))","v":0},{"$f":"SUMPRODUCT((Teams1=U78)*(Teams1_Score=Teams2_Score)*(Teams1_Score<>\"\"))+SUMPRODUCT((Teams2=U78)*(Teams2_Score=Teams1_Score)*(Teams2_Score<>\"\"))","v":0},{"$f":"SUMPRODUCT((Teams1=U78)*(Teams1_Score<Teams2_Score))+SUMPRODUCT((Teams2=U78)*(Teams2_Score<Teams1_Score))","v":0},{"$f":"SUMPRODUCT((Teams1=U78)*(Teams1_Score))+SUMPRODUCT((Teams2=U78)*(Teams2_Score))","v":0},{"$f":"SUMPRODUCT((Teams1=U78)*(Teams2_Score))+SUMPRODUCT((Teams2=U78)*(Teams1_Score))","v":0},{"$f":"Z78-AA78","v":0},{"$f":"3*W78+X78","v":0}]
[null,"Tirage au sort C1",null,null,null,null,null,null,null,null,null,null,null,null,null,null,"D_2",{"$f":"TEXT(S79,\"00000\")&U79","v":"00000Islande"},{"$f":"AC79*1000+AB79*100+Z79*10","v":0},{"$f":"RANK(S79,$S78:$S82,0)","v":1},{"$f":"VLOOKUP(Q79,TABLEAU_TEAMS[#All],2,FALSE)","v":"Islande"},{"$f":"SUMPRODUCT((Teams1=U79)*(Teams1_Score<>\"\"))+SUMPRODUCT((Teams2=U79)*(Teams2_Score<>\"\"))","v":0},{"$f":"SUMPRODUCT((Teams1=U79)*(Teams1_Score>Teams2_Score))+SUMPRODUCT((Teams2=U79)*(Teams2_Score>Teams1_Score))","v":0},{"$f":"SUMPRODUCT((Teams1=U79)*(Teams1_Score=Teams2_Score)*(Teams1_Score<>\"\"))+SUMPRODUCT((Teams2=U79)*(Teams2_Score=Teams1_Score)*(Teams2_Score<>\"\"))","v":0},{"$f":"SUMPRODUCT((Teams1=U79)*(Teams1_Score<Teams2_Score))+SUMPRODUCT((Teams2=U79)*(Teams2_Score<Teams1_Score))","v":0},{"$f":"SUMPRODUCT((Teams1=U79)*(Teams1_Score))+SUMPRODUCT((Teams2=U79)*(Teams2_Score))","v":0},{"$f":"SUMPRODUCT((Teams1=U79)*(Teams2_Score))+SUMPRODUCT((Teams2=U79)*(Teams1_Score))","v":0},{"$f":"Z79-AA79","v":0},{"$f":"3*W79+X79","v":0}]
[null,{"$f":"IF(ROWS($1:1)<=COUNTIF($T$21:$T$24,1),INDEX($U$21:$U$24,SMALL(IF($T$21:$T$24=1,ROW(INDIRECT(\"1:\"&ROWS($T$21:$T$24)))),ROWS($1:1))),\"\")","v":"Pérou"},null,null,null,null,null,null,null,null,null,null,null,null,null,null,"D_3",{"$f":"TEXT(S80,\"00000\")&U80","v":"00000Croatie"},{"$f":"AC80*1000+AB80*100+Z80*10","v":0},{"$f":"RANK(S80,$S78:$S82,0)","v":1},{"$f":"VLOOKUP(Q80,TABLEAU_TEAMS[#All],2,FALSE)","v":"Croatie"},{"$f":"SUMPRODUCT((Teams1=U80)*(Teams1_Score<>\"\"))+SUMPRODUCT((Teams2=U80)*(Teams2_Score<>\"\"))","v":0},{"$f":"SUMPRODUCT((Teams1=U80)*(Teams1_Score>Teams2_Score))+SUMPRODUCT((Teams2=U80)*(Teams2_Score>Teams1_Score))","v":0},{"$f":"SUMPRODUCT((Teams1=U80)*(Teams1_Score=Teams2_Score)*(Teams1_Score<>\"\"))+SUMPRODUCT((Teams2=U80)*(Teams2_Score=Teams1_Score)*(Teams2_Score<>\"\"))","v":0},{"$f":"SUMPRODUCT((Teams1=U80)*(Teams1_Score<Teams2_Score))+SUMPRODUCT((Teams2=U80)*(Teams2_Score<Teams1_Score))","v":0},{"$f":"SUMPRODUCT((Teams1=U80)*(Teams1_Score))+SUMPRODUCT((Teams2=U80)*(Teams2_Score))","v":0},{"$f":"SUMPRODUCT((Teams1=U80)*(Teams2_Score))+SUMPRODUCT((Teams2=U80)*(Teams1_Score))","v":0},{"$f":"Z80-AA80","v":0},{"$f":"3*W80+X80","v":0}]
[null,{"$f":"IF(ROWS($1:2)<=COUNTIF($T$21:$T$24,1),INDEX($U$21:$U$24,SMALL(IF($T$21:$T$24=1,ROW(INDIRECT(\"1:\"&ROWS($T$21:$T$24)))),ROWS($1:2))),\"\")","v":"France"},null,null,null,null,null,null,null,null,null,null,null,null,null,null,"D_4",{"$f":"TEXT(S81,\"00000\")&U81","v":"00000Nigeria"},{"$f":"AC81*1000+AB81*100+Z81*10","v":0},{"$f":"RANK(S81,$S78:$S82,0)","v":1},{"$f":"VLOOKUP(Q81,TABLEAU_TEAMS[#All],2,FALSE)","v":"Nigeria"},{"$f":"SUMPRODUCT((Teams1=U81)*(Teams1_Score<>\"\"))+SUMPRODUCT((Teams2=U81)*(Teams2_Score<>\"\"))","v":0},{"$f":"SUMPRODUCT((Teams1=U81)*(Teams1_Score>Teams2_Score))+SUMPRODUCT((Teams2=U81)*(Teams2_Score>Teams1_Score))","v":0},{"$f":"SUMPRODUCT((Teams1=U81)*(Teams1_Score=Teams2_Score)*(Teams1_Score<>\"\"))+SUMPRODUCT((Teams2=U81)*(Teams2_Score=Teams1_Score)*(Teams2_Score<>\"\"))","v":0},{"$f":"SUMPRODUCT((Teams1=U81)*(Teams1_Score<Teams2_Score))+SUMPRODUCT((Teams2=U81)*(Teams2_Score<Teams1_Score))","v":0},{"$f":"SUMPRODUCT((Teams1=U81)*(Teams1_Score))+SUMPRODUCT((Teams2=U81)*(Teams2_Score))","v":0},{"$f":"SUMPRODUCT((Teams1=U81)*(Teams2_Score))+SUMPRODUCT((Teams2=U81)*(Teams1_Score))","v":0},{"$f":"Z81-AA81","v":0},{"$f":"3*W81+X81","v":0}]
[null,{"$f":"IF(ROWS($1:3)<=COUNTIF($T$21:$T$24,1),INDEX($U$21:$U$24,SMALL(IF($T$21:$T$24=1,ROW(INDIRECT(\"1:\"&ROWS($T$21:$T$24)))),ROWS($1:3))),\"\")","v":"Danemark"}]
[null,{"$f":"IF(ROWS($1:4)<=COUNTIF($T$21:$T$24,1),INDEX($U$21:$U$24,SMALL(IF($T$21:$T$24=1,ROW(INDIRECT(\"1:\"&ROWS($T$21:$T$24)))),ROWS($1:4))),\"\")","v":"Australie"},null,null,null,null,null,null,null,null,null,null,null,null,null,null,null,null,null,"Rg","Groupe E","MJ","G","N","P","BP","BC","Pts","Pts"]
[null,"Tirage au sort C2",null,null,null,null,null,null,null,null,null,null,null,null,null,null,"E_1",{"$f":"TEXT(S84,\"00000\")&U84","v":"00000Costa Rica"},{"$f":"AC84*1000+AB84*100+Z84*10","v":0},{"$f":"RANK(S84,$S84:$S88,0)","v":1},{"$f":"VLOOKUP(Q84,TABLEAU_TEAMS[#All],2,FALSE)","v":"Costa Rica"},{"$f":"SUMPRODUCT((Teams1=U84)*(Teams1_Score<>\"\"))+SUMPRODUCT((Teams2=U84)*(Teams2_Score<>\"\"))","v":0},{"$f":"SUMPRODUCT((Teams1=U84)*(Teams1_Score>Teams2_Score))+SUMPRODUCT((Teams2=U84)*(Teams2_Score>Teams1_Score))","v":0},{"$f":"SUMPRODUCT((Teams1=U84)*(Teams1_Score=Teams2_Score)*(Teams1_Score<>\"\"))+SUMPRODUCT((Teams2=U84)*(Teams2_Score=Teams1_Score)*(Teams2_Score<>\"\"))","v":0},{"$f":"SUMPRODUCT((Teams1=U84)*(Teams1_Score<Teams2_Score))+SUMPRODUCT((Teams2=U84)*(Teams2_Score<Teams1_Score))","v":0},{"$f":"SUMPRODUCT((Teams1=U84)*(Teams1_Score))+SUMPRODUCT((Teams2=U84)*(Teams2_Score))","v":0},{"$f":"SUMPRODUCT((Teams1=U84)*(Teams2_Score))+SUMPRODUCT((Teams2=U84)*(Teams1_Score))","v":0},{"$f":"Z84-AA84","v":0},{"$f":"3*W84+X84","v":0}]
[null,{"$f":"IF(COUNTIF($T$21:$T$24,1)>1,IF(ROWS($1:1)<=COUNTIF($T$21:$T$24,1),INDEX($U$21:$U$24,SMALL(IF($T$21:$T$24=1,ROW(INDIRECT(\"1:\"&ROWS($T$21:$T$24)))),ROWS($1:1))),\"\"),IF(COUNTIF($T$21:$T$24,2)>1,IF(ROWS($1:1)<=COUNTIF($T$21:$T$24,2),INDEX($U$21:$U$24,SMALL(IF($T$21:$T$24=2,ROW(INDIRECT(\"1:\"&ROWS($T$21:$T$24)))),ROWS($1:1))),\"\")))","v":"Pérou"},null,null,null,null,null,null,null,null,null,null,null,null,null,null,"E_2",{"$f":"TEXT(S85,\"00000\")&U85","v":"00000Serbie"},{"$f":"AC85*1000+AB85*100+Z85*10","v":0},{"$f":"RANK(S85,$S84:$S88,0)","v":1},{"$f":"VLOOKUP(Q85,TABLEAU_TEAMS[#All],2,FALSE)","v":"Serbie"},{"$f":"SUMPRODUCT((Teams1=U85)*(Teams1_Score<>\"\"))+SUMPRODUCT((Teams2=U85)*(Teams2_Score<>\"\"))","v":0},{"$f":"SUMPRODUCT((Teams1=U85)*(Teams1_Score>Teams2_Score))+SUMPRODUCT((Teams2=U85)*(Teams2_Score>Teams1_Score))","v":0},{"$f":"SUMPRODUCT((Teams1=U85)*(Teams1_Score=Teams2_Score)*(Teams1_Score<>\"\"))+SUMPRODUCT((Teams2=U85)*(Teams2_Score=Teams1_Score)*(Teams2_Score<>\"\"))","v":0},{"$f":"SUMPRODUCT((Teams1=U85)*(Teams1_Score<Teams2_Score))+SUMPRODUCT((Teams2=U85)*(Teams2_Score<Teams1_Score))","v":0},{"$f":"SUMPRODUCT((Teams1=U85)*(Teams1_Score))+SUMPRODUCT((Teams2=U85)*(Teams2_Score))","v":0},{"$f":"SUMPRODUCT((Teams1=U85)*(Teams2_Score))+SUMPRODUCT((Teams2=U85)*(Teams1_Score))","v":0},{"$f":"Z85-AA85","v":0},{"$f":"3*W85+X85","v":0}]
[null,{"$f":"IF(COUNTIF($T$21:$T$24,1)>1,IF(ROWS($1:2)<=COUNTIF($T$21:$T$24,1),INDEX($U$21:$U$24,SMALL(IF($T$21:$T$24=1,ROW(INDIRECT(\"1:\"&ROWS($T$21:$T$24)))),ROWS($1:2))),\"\"),IF(COUNTIF($T$21:$T$24,2)>1,IF(ROWS($1:2)<=COUNTIF($T$21:$T$24,2),INDEX($U$21:$U$24,SMALL(IF($T$21:$T$24=2,ROW(INDIRECT(\"1:\"&ROWS($T$21:$T$24)))),ROWS($1:2))),\"\")))","v":"France"},null,null,null,null,null,null,null,null,null,null,null,null,null,null,"E_3",{"$f":"TEXT(S86,\"00000\")&U86","v":"00000Brésil"},{"$f":"AC86*1000+AB86*100+Z86*10","v":0},{"$f":"RANK(S86,$S84:$S88,0)","v":1},{"$f":"VLOOKUP(Q86,TABLEAU_TEAMS[#All],2,FALSE)","v":"Brésil"},{"$f":"SUMPRODUCT((Teams1=U86)*(Teams1_Score<>\"\"))+SUMPRODUCT((Teams2=U86)*(Teams2_Score<>\"\"))","v":0},{"$f":"SUMPRODUCT((Teams1=U86)*(Teams1_Score>Teams2_Score))+SUMPRODUCT((Teams2=U86)*(Teams2_Score>Teams1_Score))","v":0},{"$f":"SUMPRODUCT((Teams1=U86)*(Teams1_Score=Teams2_Score)*(Teams1_Score<>\"\"))+SUMPRODUCT((Teams2=U86)*(Teams2_Score=Teams1_Score)*(Teams2_Score<>\"\"))","v":0},{"$f":"SUMPRODUCT((Teams1=U86)*(Teams1_Score<Teams2_Score))+SUMPRODUCT((Teams2=U86)*(Teams2_Score<Teams1_Score))","v":0},{"$f":"SUMPRODUCT((Teams1=U86)*(Teams1_Score))+SUMPRODUCT((Teams2=U86)*(Teams2_Score))","v":0},{"$f":"SUMPRODUCT((Teams1=U86)*(Teams2_Score))+SUMPRODUCT((Teams2=U86)*(Teams1_Score))","v":0},{"$f":"Z86-AA86","v":0},{"$f":"3*W86+X86","v":0}]
[null,{"$f":"IF(COUNTIF($T$21:$T$24,1)>1,IF(ROWS($1:3)<=COUNTIF($T$21:$T$24,1),INDEX($U$21:$U$24,SMALL(IF($T$21:$T$24=1,ROW(INDIRECT(\"1:\"&ROWS($T$21:$T$24)))),ROWS($1:3))),\"\"),IF(COUNTIF($T$21:$T$24,2)>1,IF(ROWS($1:3)<=COUNTIF($T$21:$T$24,2),INDEX($U$21:$U$24,SMALL(IF($T$21:$T$24=2,ROW(INDIRECT(\"1:\"&ROWS($T$21:$T$24)))),ROWS($1:3))),\"\")))","v":"Danemark"},null,null,null,null,null,null,null,null,null,null,null,null,null,null,"E_4",{"$f":"TEXT(S87,\"00000\")&U87","v":"00000Suisse"},{"$f":"AC87*1000+AB87*100+Z87*10","v":0},{"$f":"RANK(S87,$S84:$S88,0)","v":1},{"$f":"VLOOKUP(Q87,TABLEAU_TEAMS[#All],2,FALSE)","v":"Suisse"},{"$f":"SUMPRODUCT((Teams1=U87)*(Teams1_Score<>\"\"))+SUMPRODUCT((Teams2=U87)*(Teams2_Score<>\"\"))","v":0},{"$f":"SUMPRODUCT((Teams1=U87)*(Teams1_Score>Teams2_Score))+SUMPRODUCT((Teams2=U87)*(Teams2_Score>Teams1_Score))","v":0},{"$f":"SUMPRODUCT((Teams1=U87)*(Teams1_Score=Teams2_Score)*(Teams1_Score<>\"\"))+SUMPRODUCT((Teams2=U87)*(Teams2_Score=Teams1_Score)*(Teams2_Score<>\"\"))","v":0},{"$f":"SUMPRODUCT((Teams1=U87)*(Teams1_Score<Teams2_Score))+SUMPRODUCT((Teams2=U87)*(Teams2_Score<Teams1_Score))","v":0},{"$f":"SUMPRODUCT((Teams1=U87)*(Teams1_Score))+SUMPRODUCT((Teams2=U87)*(Teams2_Score))","v":0},{"$f":"SUMPRODUCT((Teams1=U87)*(Teams2_Score))+SUMPRODUCT((Teams2=U87)*(Teams1_Score))","v":0},{"$f":"Z87-AA87","v":0},{"$f":"3*W87+X87","v":0}]
[null,{"$f":"IF(COUNTIF($T$21:$T$24,1)>1,IF(ROWS($1:4)<=COUNTIF($T$21:$T$24,1),INDEX($U$21:$U$24,SMALL(IF($T$21:$T$24=1,ROW(INDIRECT(\"1:\"&ROWS($T$21:$T$24)))),ROWS($1:4))),\"\"),IF(COUNTIF($T$21:$T$24,2)>1,IF(ROWS($1:4)<=COUNTIF($T$21:$T$24,2),INDEX($U$21:$U$24,SMALL(IF($T$21:$T$24=2,ROW(INDIRECT(\"1:\"&ROWS($T$21:$T$24)))),ROWS($1:4))),\"\")))","v":"Australie"}]
[null,"Tirage au sort D1",null,null,null,null,null,null,null,null,null,null,null,null,null,null,null,null,null,"Rg","Groupe F","MJ","G","N","P","BP","BC","Pts","Pts"]
[null,{"$f":"IF(ROWS($1:1)<=COUNTIF($T$27:$T$30,1),INDEX($U$27:$U$30,SMALL(IF($T$27:$T$30=1,ROW(INDIRECT(\"1:\"&ROWS($T$27:$T$30)))),ROWS($1:1))),\"\")","v":"Nigeria"},null,null,null,null,null,null,null,null,null,null,null,null,null,null,"F_1",{"$f":"TEXT(S90,\"00000\")&U90","v":"00000Allemagne"},{"$f":"AC90*1000+AB90*100+Z90*10","v":0},{"$f":"RANK(S90,$S90:$S94,0)","v":1},{"$f":"VLOOKUP(Q90,TABLEAU_TEAMS[#All],2,FALSE)","v":"Allemagne"},{"$f":"SUMPRODUCT((Teams1=U90)*(Teams1_Score<>\"\"))+SUMPRODUCT((Teams2=U90)*(Teams2_Score<>\"\"))","v":0},{"$f":"SUMPRODUCT((Teams1=U90)*(Teams1_Score>Teams2_Score))+SUMPRODUCT((Teams2=U90)*(Teams2_Score>Teams1_Score))","v":0},{"$f":"SUMPRODUCT((Teams1=U90)*(Teams1_Score=Teams2_Score)*(Teams1_Score<>\"\"))+SUMPRODUCT((Teams2=U90)*(Teams2_Score=Teams1_Score)*(Teams2_Score<>\"\"))","v":0},{"$f":"SUMPRODUCT((Teams1=U90)*(Teams1_Score<Teams2_Score))+SUMPRODUCT((Teams2=U90)*(Teams2_Score<Teams1_Score))","v":0},{"$f":"SUMPRODUCT((Teams1=U90)*(Teams1_Score))+SUMPRODUCT((Teams2=U90)*(Teams2_Score))","v":0},{"$f":"SUMPRODUCT((Teams1=U90)*(Teams2_Score))+SUMPRODUCT((Teams2=U90)*(Teams1_Score))","v":0},{"$f":"Z90-AA90","v":0},{"$f":"3*W90+X90","v":0}]
[null,{"$f":"IF(ROWS($1:2)<=COUNTIF($T$27:$T$30,1),INDEX($U$27:$U$30,SMALL(IF($T$27:$T$30=1,ROW(INDIRECT(\"1:\"&ROWS($T$27:$T$30)))),ROWS($1:2))),\"\")","v":"Islande"},null,null,null,null,null,null,null,null,null,null,null,null,null,null,"F_2",{"$f":"TEXT(S91,\"00000\")&U91","v":"00000Mexique"},{"$f":"AC91*1000+AB91*100+Z91*10","v":0},{"$f":"RANK(S91,$S90:$S94,0)","v":1},{"$f":"VLOOKUP(Q91,TABLEAU_TEAMS[#All],2,FALSE)","v":"Mexique"},{"$f":"SUMPRODUCT((Teams1=U91)*(Teams1_Score<>\"\"))+SUMPRODUCT((Teams2=U91)*(Teams2_Score<>\"\"))","v":0},{"$f":"SUMPRODUCT((Teams1=U91)*(Teams1_Score>Teams2_Score))+SUMPRODUCT((Teams2=U91)*(Teams2_Score>Teams1_Score))","v":0},{"$f":"SUMPRODUCT((Teams1=U91)*(Teams1_Score=Teams2_Score)*(Teams1_Score<>\"\"))+SUMPRODUCT((Teams2=U91)*(Teams2_Score=Teams1_Score)*(Teams2_Score<>\"\"))","v":0},{"$f":"SUMPRODUCT((Teams1=U91)*(Teams1_Score<Teams2_Score))+SUMPRODUCT((Teams2=U91)*(Teams2_Score<Teams1_Score))","v":0},{"$f":"SUMPRODUCT((Teams1=U91)*(Teams1_Score))+SUMPRODUCT((Teams2=U91)*(Teams2_Score))","v":0},{"$f":"SUMPRODUCT((Teams1=U91)*(Teams2_Score))+SUMPRODUCT((Teams2=U91)*(Teams1_Score))","v":0},{"$f":"Z91-AA91","v":0},{"$f":"3*W91+X91","v":0}]
[null,{"$f":"IF(ROWS($1:3)<=COUNTIF($T$27:$T$30,1),INDEX($U$27:$U$30,SMALL(IF($T$27:$T$30=1,ROW(INDIRECT(\"1:\"&ROWS($T$27:$T$30)))),ROWS($1:3))),\"\")","v":"Croatie"},null,null,null,null,null,null,null,null,null,null,null,null,null,null,"F_3",{"$f":"TEXT(S92,\"00000\")&U92","v":"00000Suède"},{"$f":"AC92*1000+AB92*100+Z92*10","v":0},{"$f":"RANK(S92,$S90:$S94,0)","v":1},{"$f":"VLOOKUP(Q92,TABLEAU_TEAMS[#All],2,FALSE)","v":"Suède"},{"$f":"SUMPRODUCT((Teams1=U92)*(Teams1_Score<>\"\"))+SUMPRODUCT((Teams2=U92)*(Teams2_Score<>\"\"))","v":0},{"$f":"SUMPRODUCT((Teams1=U92)*(Teams1_Score>Teams2_Score))+SUMPRODUCT((Teams2=U92)*(Teams2_Score>Teams1_Score))","v":0},{"$f":"SUMPRODUCT((Teams1=U92)*(Teams1_Score=Teams2_Score)*(Teams1_Score<>\"\"))+SUMPRODUCT((Teams2=U92)*(Teams2_Score=Teams1_Score)*(Teams2_Score<>\"\"))","v":0},{"$f":"SUMPRODUCT((Teams1=U92)*(Teams1_Score<Teams2_Score))+SUMPRODUCT((Teams2=U92)*(Teams2_Score<Teams1_Score))","v":0},{"$f":"SUMPRODUCT((Teams1=U92)*(Teams1_Score))+SUMPRODUCT((Teams2=U92)*(Teams2_Score))","v":0},{"$f":"SUMPRODUCT((Teams1=U92)*(Teams2_Score))+SUMPRODUCT((Teams2=U92)*(Teams1_Score))","v":0},{"$f":"Z92-AA92","v":0},{"$f":"3*W92+X92","v":0}]
[null,{"$f":"IF(ROWS($1:4)<=COUNTIF($T$27:$T$30,1),INDEX($U$27:$U$30,SMALL(IF($T$27:$T$30=1,ROW(INDIRECT(\"1:\"&ROWS($T$27:$T$30)))),ROWS($1:4))),\"\")","v":"Argentine"},null,null,null,null,null,null,null,null,null,null,null,null,null,null,"F_4",{"$f":"TEXT(S93,\"00000\")&U93","v":"00000République de Corée"},{"$f":"AC93*1000+AB93*100+Z93*10","v":0},{"$f":"RANK(S93,$S90:$S94,0)","v":1},{"$f":"VLOOKUP(Q93,TABLEAU_TEAMS[#All],2,FALSE)","v":"République de Corée"},{"$f":"SUMPRODUCT((Teams1=U93)*(Teams1_Score<>\"\"))+SUMPRODUCT((Teams2=U93)*(Teams2_Score<>\"\"))","v":0},{"$f":"SUMPRODUCT((Teams1=U93)*(Teams1_Score>Teams2_Score))+SUMPRODUCT((Teams2=U93)*(Teams2_Score>Teams1_Score))","v":0},{"$f":"SUMPRODUCT((Teams1=U93)*(Teams1_Score=Teams2_Score)*(Teams1_Score<>\"\"))+SUMPRODUCT((Teams2=U93)*(Teams2_Score=Teams1_Score)*(Teams2_Score<>\"\"))","v":0},{"$f":"SUMPRODUCT((Teams1=U93)*(Teams1_Score<Teams2_Score))+SUMPRODUCT((Teams2=U93)*(Teams2_Score<Teams1_Score))","v":0},{"$f":"SUMPRODUCT((Teams1=U93)*(Teams1_Score))+SUMPRODUCT((Teams2=U93)*(Teams2_Score))","v":0},{"$f":"SUMPRODUCT((Teams1=U93)*(Teams2_Score))+SUMPRODUCT((Teams2=U93)*(Teams1_Score))","v":0},{"$f":"Z93-AA93","v":0},{"$f":"3*W93+X93","v":0}]
[null,"Tirage au sort D2"]
[null,{"$f":"IF(COUNTIF($T$27:$T$30,1)>1,IF(ROWS($1:1)<=COUNTIF($T$27:$T$30,1),INDEX($U$27:$U$30,SMALL(IF($T$27:$T$30=1,ROW(INDIRECT(\"1:\"&ROWS($T$27:$T$30)))),ROWS($1:1))),\"\"),IF(COUNTIF($T$27:$T$30,2)>1,IF(ROWS($1:1)<=COUNTIF($T$27:$T$30,2),INDEX($U$27:$U$30,SMALL(IF($T$27:$T$30=2,ROW(INDIRECT(\"1:\"&ROWS($T$27:$T$30)))),ROWS($1:1))),\"\")))","v":"Nigeria"},null,null,null,null,null,null,null,null,null,null,null,null,null,null,null,null,null,"Rg","Groupe G","MJ","G","N","P","BP","BC","Pts","Pts"]
[null,{"$f":"IF(COUNTIF($T$27:$T$30,1)>1,IF(ROWS($1:2)<=COUNTIF($T$27:$T$30,1),INDEX($U$27:$U$30,SMALL(IF($T$27:$T$30=1,ROW(INDIRECT(\"1:\"&ROWS($T$27:$T$30)))),ROWS($1:2))),\"\"),IF(COUNTIF($T$27:$T$30,2)>1,IF(ROWS($1:2)<=COUNTIF($T$27:$T$30,2),INDEX($U$27:$U$30,SMALL(IF($T$27:$T$30=2,ROW(INDIRECT(\"1:\"&ROWS($T$27:$T$30)))),ROWS($1:2))),\"\")))","v":"Islande"},null,null,null,null,null,null,null,null,null,null,null,null,null,null,"G_1",{"$f":"TEXT(S96,\"00000\")&U96","v":"00000Belgique"},{"$f":"AC96*1000+AB96*100+Z96*10","v":0},{"$f":"RANK(S96,$S96:$S100,0)","v":1},{"$f":"VLOOKUP(Q96,TABLEAU_TEAMS[#All],2,FALSE)","v":"Belgique"},{"$f":"SUMPRODUCT((Teams1=U96)*(Teams1_Score<>\"\"))+SUMPRODUCT((Teams2=U96)*(Teams2_Score<>\"\"))","v":0},{"$f":"SUMPRODUCT((Teams1=U96)*(Teams1_Score>Teams2_Score))+SUMPRODUCT((Teams2=U96)*(Teams2_Score>Teams1_Score))","v":0},{"$f":"SUMPRODUCT((Teams1=U96)*(Teams1_Score=Teams2_Score)*(Teams1_Score<>\"\"))+SUMPRODUCT((Teams2=U96)*(Teams2_Score=Teams1_Score)*(Teams2_Score<>\"\"))","v":0},{"$f":"SUMPRODUCT((Teams1=U96)*(Teams1_Score<Teams2_Score))+SUMPRODUCT((Teams2=U96)*(Teams2_Score<Teams1_Score))","v":0},{"$f":"SUMPRODUCT((Teams1=U96)*(Teams1_Score))+SUMPRODUCT((Teams2=U96)*(Teams2_Score))","v":0},{"$f":"SUMPRODUCT((Teams1=U96)*(Teams2_Score))+SUMPRODUCT((Teams2=U96)*(Teams1_Score))","v":0},{"$f":"Z96-AA96","v":0},{"$f":"3*W96+X96","v":0}]
[null,{"$f":"IF(COUNTIF($T$27:$T$30,1)>1,IF(ROWS($1:3)<=COUNTIF($T$27:$T$30,1),INDEX($U$27:$U$30,SMALL(IF($T$27:$T$30=1,ROW(INDIRECT(\"1:\"&ROWS($T$27:$T$30)))),ROWS($1:3))),\"\"),IF(COUNTIF($T$27:$T$30,2)>1,IF(ROWS($1:3)<=COUNTIF($T$27:$T$30,2),INDEX($U$27:$U$30,SMALL(IF($T$27:$T$30=2,ROW(INDIRECT(\"1:\"&ROWS($T$27:$T$30)))),ROWS($1:3))),\"\")))","v":"Croatie"},null,null,null,null,null,null,null,null,null,null,null,null,null,null,"G_2",{"$f":"TEXT(S97,\"00000\")&U97","v":"00000Panama"},{"$f":"AC97*1000+AB97*100+Z97*10","v":0},{"$f":"RANK(S97,$S96:$S100,0)","v":1},{"$f":"VLOOKUP(Q97,TABLEAU_TEAMS[#All],2,FALSE)","v":"Panama"},{"$f":"SUMPRODUCT((Teams1=U97)*(Teams1_Score<>\"\"))+SUMPRODUCT((Teams2=U97)*(Teams2_Score<>\"\"))","v":0},{"$f":"SUMPRODUCT((Teams1=U97)*(Teams1_Score>Teams2_Score))+SUMPRODUCT((Teams2=U97)*(Teams2_Score>Teams1_Score))","v":0},{"$f":"SUMPRODUCT((Teams1=U97)*(Teams1_Score=Teams2_Score)*(Teams1_Score<>\"\"))+SUMPRODUCT((Teams2=U97)*(Teams2_Score=Teams1_Score)*(Teams2_Score<>\"\"))","v":0},{"$f":"SUMPRODUCT((Teams1=U97)*(Teams1_Score<Teams2_Score))+SUMPRODUCT((Teams2=U97)*(Teams2_Score<Teams1_Score))","v":0},{"$f":"SUMPRODUCT((Teams1=U97)*(Teams1_Score))+SUMPRODUCT((Teams2=U97)*(Teams2_Score))","v":0},{"$f":"SUMPRODUCT((Teams1=U97)*(Teams2_Score))+SUMPRODUCT((Teams2=U97)*(Teams1_Score))","v":0},{"$f":"Z97-AA97","v":0},{"$f":"3*W97+X97","v":0}]
[null,{"$f":"IF(COUNTIF($T$27:$T$30,1)>1,IF(ROWS($1:4)<=COUNTIF($T$27:$T$30,1),INDEX($U$27:$U$30,SMALL(IF($T$27:$T$30=1,ROW(INDIRECT(\"1:\"&ROWS($T$27:$T$30)))),ROWS($1:4))),\"\"),IF(COUNTIF($T$27:$T$30,2)>1,IF(ROWS($1:4)<=COUNTIF($T$27:$T$30,2),INDEX($U$27:$U$30,SMALL(IF($T$27:$T$30=2,ROW(INDIRECT(\"1:\"&ROWS($T$27:$T$30)))),ROWS($1:4))),\"\")))","v":"Argentine"},null,null,null,null,null,null,null,null,null,null,null,null,null,null,"G_3",{"$f":"TEXT(S98,\"00000\")&U98","v":"00000Tunisie"},{"$f":"AC98*1000+AB98*100+Z98*10","v":0},{"$f":"RANK(S98,$S96:$S100,0)","v":1},{"$f":"VLOOKUP(Q98,TABLEAU_TEAMS[#All],2,FALSE)","v":"Tunisie"},{"$f":"SUMPRODUCT((Teams1=U98)*(Teams1_Score<>\"\"))+SUMPRODUCT((Teams2=U98)*(Teams2_Score<>\"\"))","v":0},{"$f":"SUMPRODUCT((Teams1=U98)*(Teams1_Score>Teams2_Score))+SUMPRODUCT((Teams2=U98)*(Teams2_Score>Teams1_Score))","v":0},{"$f":"SUMPRODUCT((Teams1=U98)*(Teams1_Score=Teams2_Score)*(Teams1_Score<>\"\"))+SUMPRODUCT((Teams2=U98)*(Teams2_Score=Teams1_Score)*(Teams2_Score<>\"\"))","v":0},{"$f":"SUMPRODUCT((Teams1=U98)*(Teams1_Score<Teams2_Score))+SUMPRODUCT((Teams2=U98)*(Teams2_Score<Teams1_Score))","v":0},{"$f":"SUMPRODUCT((Teams1=U98)*(Teams1_Score))+SUMPRODUCT((Teams2=U98)*(Teams2_Score))","v":0},{"$f":"SUMPRODUCT((Teams1=U98)*(Teams2_Score))+SUMPRODUCT((Teams2=U98)*(Teams1_Score))","v":0},{"$f":"Z98-AA98","v":0},{"$f":"3*W98+X98","v":0}]
[null,"Tirage au sort E1",null,null,null,null,null,null,null,null,null,null,null,null,null,null,"G_4",{"$f":"TEXT(S99,\"00000\")&U99","v":"00000Angleterre"},{"$f":"AC99*1000+AB99*100+Z99*10","v":0},{"$f":"RANK(S99,$S96:$S100,0)","v":1},{"$f":"VLOOKUP(Q99,TABLEAU_TEAMS[#All],2,FALSE)","v":"Angleterre"},{"$f":"SUMPRODUCT((Teams1=U99)*(Teams1_Score<>\"\"))+SUMPRODUCT((Teams2=U99)*(Teams2_Score<>\"\"))","v":0},{"$f":"SUMPRODUCT((Teams1=U99)*(Teams1_Score>Teams2_Score))+SUMPRODUCT((Teams2=U99)*(Teams2_Score>Teams1_Score))","v":0},{"$f":"SUMPRODUCT((Teams1=U99)*(Teams1_Score=Teams2_Score)*(Teams1_Score<>\"\"))+SUMPRODUCT((Teams2=U99)*(Teams2_Score=Teams1_Score)*(Teams2_Score<>\"\"))","v":0},{"$f":"SUMPRODUCT((Teams1=U99)*(Teams1_Score<Teams2_Score))+SUMPRODUCT((Teams2=U99)*(Teams2_Score<Teams1_Score))","v":0},{"$f":"SUMPRODUCT((Teams1=U99)*(Teams1_Score))+SUMPRODUCT((Teams2=U99)*(Teams2_Score))","v":0},{"$f":"SUMPRODUCT((Teams1=U99)*(Teams2_Score))+SUMPRODUCT((Teams2=U99)*(Teams1_Score))","v":0},{"$f":"Z99-AA99","v":0},{"$f":"3*W99+X99","v":0}]
[null,{"$f":"IF(ROWS($1:1)<=COUNTIF($T$33:$T$36,1),INDEX($U$33:$U$36,SMALL(IF($T$33:$T$36=1,ROW(INDIRECT(\"1:\"&ROWS($T$33:$T$36)))),ROWS($1:1))),\"\")","v":"Suisse"}]
[null,{"$f":"IF(ROWS($1:2)<=COUNTIF($T$33:$T$36,1),INDEX($U$33:$U$36,SMALL(IF($T$33:$T$36=1,ROW(INDIRECT(\"1:\"&ROWS($T$33:$T$36)))),ROWS($1:2))),\"\")","v":"Serbie"},null,null,null,null,null,null,null,null,null,null,null,null,null,null,null,null,null,"Rg","Groupe H","MJ","G","N","P","BP","BC","Pts","Pts"]
[null,{"$f":"IF(ROWS($1:3)<=COUNTIF($T$33:$T$36,1),INDEX($U$33:$U$36,SMALL(IF($T$33:$T$36=1,ROW(INDIRECT(\"1:\"&ROWS($T$33:$T$36)))),ROWS($1:3))),\"\")","v":"Costa Rica"},null,null,null,null,null,null,null,null,null,null,null,null,null,null,"H_1",{"$f":"TEXT(S102,\"00000\")&U102","v":"00000Colombie"},{"$f":"AC102*1000+AB102*100+Z102*10","v":0},{"$f":"RANK(S102,$S102:$S106,0)","v":1},{"$f":"VLOOKUP(Q102,TABLEAU_TEAMS[#All],2,FALSE)","v":"Colombie"},{"$f":"SUMPRODUCT((Teams1=U102)*(Teams1_Score<>\"\"))+SUMPRODUCT((Teams2=U102)*(Teams2_Score<>\"\"))","v":0},{"$f":"SUMPRODUCT((Teams1=U102)*(Teams1_Score>Teams2_Score))+SUMPRODUCT((Teams2=U102)*(Teams2_Score>Teams1_Score))","v":0},{"$f":"SUMPRODUCT((Teams1=U102)*(Teams1_Score=Teams2_Score)*(Teams1_Score<>\"\"))+SUMPRODUCT((Teams2=U102)*(Teams2_Score=Teams1_Score)*(Teams2_Score<>\"\"))","v":0},{"$f":"SUMPRODUCT((Teams1=U102)*(Teams1_Score<Teams2_Score))+SUMPRODUCT((Teams2=U102)*(Teams2_Score<Teams1_Score))","v":0},{"$f":"SUMPRODUCT((Teams1=U102)*(Teams1_Score))+SUMPRODUCT((Teams2=U102)*(Teams2_Score))","v":0},{"$f":"SUMPRODUCT((Teams1=U102)*(Teams2_Score))+SUMPRODUCT((Teams2=U102)*(Teams1_Score))","v":0},{"$f":"Z102-AA102","v":0},{"$f":"3*W102+X102","v":0}]
[null,{"$f":"IF(ROWS($1:4)<=COUNTIF($T$33:$T$36,1),INDEX($U$33:$U$36,SMALL(IF($T$33:$T$36=1,ROW(INDIRECT(\"1:\"&ROWS($T$33:$T$36)))),ROWS($1:4))),\"\")","v":"Brésil"},null,null,null,null,null,null,null,null,null,null,null,null,null,null,"H_2",{"$f":"TEXT(S103,\"00000\")&U103","v":"00000Japon"},{"$f":"AC103*1000+AB103*100+Z103*10","v":0},{"$f":"RANK(S103,$S102:$S106,0)","v":1},{"$f":"VLOOKUP(Q103,TABLEAU_TEAMS[#All],2,FALSE)","v":"Japon"},{"$f":"SUMPRODUCT((Teams1=U103)*(Teams1_Score<>\"\"))+SUMPRODUCT((Teams2=U103)*(Teams2_Score<>\"\"))","v":0},{"$f":"SUMPRODUCT((Teams1=U103)*(Teams1_Score>Teams2_Score))+SUMPRODUCT((Teams2=U103)*(Teams2_Score>Teams1_Score))","v":0},{"$f":"SUMPRODUCT((Teams1=U103)*(Teams1_Score=Teams2_Score)*(Teams1_Score<>\"\"))+SUMPRODUCT((Teams2=U103)*(Teams2_Score=Teams1_Score)*(Teams2_Score<>\"\"))","v":0},{"$f":"SUMPRODUCT((Teams1=U103)*(Teams1_Score<Teams2_Score))+SUMPRODUCT((Teams2=U103)*(Teams2_Score<Teams1_Score))","v":0},{"$f":"SUMPRODUCT((Teams1=U103)*(Teams1_Score))+SUMPRODUCT((Teams2=U103)*(Teams2_Score))","v":0},{"$f":"SUMPRODUCT((Teams1=U103)*(Teams2_Score))+SUMPRODUCT((Teams2=U103)*(Teams1_Score))","v":0},{"$f":"Z103-AA103","v":0},{"$f":"3*W103+X103","v":0}]
[null,"Tirage au sort E2",null,null,null,null,null,null,null,null,null,null,null,null,null,null,"H_3",{"$f":"TEXT(S104,\"00000\")&U104","v":"00000Pologne"},{"$f":"AC104*1000+AB104*100+Z104*10","v":0},{"$f":"RANK(S104,$S102:$S106,0)","v":1},{"$f":"VLOOKUP(Q104,TABLEAU_TEAMS[#All],2,FALSE)","v":"Pologne"},{"$f":"SUMPRODUCT((Teams1=U104)*(Teams1_Score<>\"\"))+SUMPRODUCT((Teams2=U104)*(Teams2_Score<>\"\"))","v":0},{"$f":"SUMPRODUCT((Teams1=U104)*(Teams1_Score>Teams2_Score))+SUMPRODUCT((Teams2=U104)*(Teams2_Score>Teams1_Score))","v":0},{"$f":"SUMPRODUCT((Teams1=U104)*(Teams1_Score=Teams2_Score)*(Teams1_Score<>\"\"))+SUMPRODUCT((Teams2=U104)*(Teams2_Score=Teams1_Score)*(Teams2_Score<>\"\"))","v":0},{"$f":"SUMPRODUCT((Teams1=U104)*(Teams1_Score<Teams2_Score))+SUMPRODUCT((Teams2=U104)*(Teams2_Score<Teams1_Score))","v":0},{"$f":"SUMPRODUCT((Teams1=U104)*(Teams1_Score))+SUMPRODUCT((Teams2=U104)*(Teams2_Score))","v":0},{"$f":"SUMPRODUCT((Teams1=U104)*(Teams2_Score))+SUMPRODUCT((Teams2=U104)*(Teams1_Score))","v":0},{"$f":"Z104-AA104","v":0},{"$f":"3*W104+X104","v":0}]
[null,{"$f":"IF(COUNTIF($T$33:$T$36,1)>1,IF(ROWS($1:1)<=COUNTIF($T$33:$T$36,1),INDEX($U$33:$U$36,SMALL(IF($T$33:$T$36=1,ROW(INDIRECT(\"1:\"&ROWS($T$33:$T$36)))),ROWS($1:1))),\"\"),IF(COUNTIF($T$33:$T$36,2)>1,IF(ROWS($1:1)<=COUNTIF($T$33:$T$36,2),INDEX($U$33:$U$36,SMALL(IF($T$33:$T$36=2,ROW(INDIRECT(\"1:\"&ROWS($T$33:$T$36)))),ROWS($1:1))),\"\")))","v":"Suisse"},null,null,null,null,null,null,null,null,null,null,null,null,null,null,"H_4",{"$f":"TEXT(S105,\"00000\")&U105","v":"00000Sénégal"},{"$f":"AC105*1000+AB105*100+Z105*10","v":0},{"$f":"RANK(S105,$S102:$S106,0)","v":1},{"$f":"VLOOKUP(Q105,TABLEAU_TEAMS[#All],2,FALSE)","v":"Sénégal"},{"$f":"SUMPRODUCT((Teams1=U105)*(Teams1_Score<>\"\"))+SUMPRODUCT((Teams2=U105)*(Teams2_Score<>\"\"))","v":0},{"$f":"SUMPRODUCT((Teams1=U105)*(Teams1_Score>Teams2_Score))+SUMPRODUCT((Teams2=U105)*(Teams2_Score>Teams1_Score))","v":0},{"$f":"SUMPRODUCT((Teams1=U105)*(Teams1_Score=Teams2_Score)*(Teams1_Score<>\"\"))+SUMPRODUCT((Teams2=U105)*(Teams2_Score=Teams1_Score)*(Teams2_Score<>\"\"))","v":0},{"$f":"SUMPRODUCT((Teams1=U105)*(Teams1_Score<Teams2_Score))+SUMPRODUCT((Teams2=U105)*(Teams2_Score<Teams1_Score))","v":0},{"$f":"SUMPRODUCT((Teams1=U105)*(Teams1_Score))+SUMPRODUCT((Teams2=U105)*(Teams2_Score))","v":0},{"$f":"SUMPRODUCT((Teams1=U105)*(Teams2_Score))+SUMPRODUCT((Teams2=U105)*(Teams1_Score))","v":0},{"$f":"Z105-AA105","v":0},{"$f":"3*W105+X105","v":0}]
[null,{"$f":"IF(COUNTIF($T$33:$T$36,1)>1,IF(ROWS($1:2)<=COUNTIF($T$33:$T$36,1),INDEX($U$33:$U$36,SMALL(IF($T$33:$T$36=1,ROW(INDIRECT(\"1:\"&ROWS($T$33:$T$36)))),ROWS($1:2))),\"\"),IF(COUNTIF($T$33:$T$36,2)>1,IF(ROWS($1:2)<=COUNTIF($T$33:$T$36,2),INDEX($U$33:$U$36,SMALL(IF($T$33:$T$36=2,ROW(INDIRECT(\"1:\"&ROWS($T$33:$T$36)))),ROWS($1:2))),\"\")))","v":"Serbie"}]
[null,{"$f":"IF(COUNTIF($T$33:$T$36,1)>1,IF(ROWS($1:3)<=COUNTIF($T$33:$T$36,1),INDEX($U$33:$U$36,SMALL(IF($T$33:$T$36=1,ROW(INDIRECT(\"1:\"&ROWS($T$33:$T$36)))),ROWS($1:3))),\"\"),IF(COUNTIF($T$33:$T$36,2)>1,IF(ROWS($1:3)<=COUNTIF($T$33:$T$36,2),INDEX($U$33:$U$36,SMALL(IF($T$33:$T$36=2,ROW(INDIRECT(\"1:\"&ROWS($T$33:$T$36)))),ROWS($1:3))),\"\")))","v":"Costa Rica"}]
[null,{"$f":"IF(COUNTIF($T$33:$T$36,1)>1,IF(ROWS($1:4)<=COUNTIF($T$33:$T$36,1),INDEX($U$33:$U$36,SMALL(IF($T$33:$T$36=1,ROW(INDIRECT(\"1:\"&ROWS($T$33:$T$36)))),ROWS($1:4))),\"\"),IF(COUNTIF($T$33:$T$36,2)>1,IF(ROWS($1:4)<=COUNTIF($T$33:$T$36,2),INDEX($U$33:$U$36,SMALL(IF($T$33:$T$36=2,ROW(INDIRECT(\"1:\"&ROWS($T$33:$T$36)))),ROWS($1:4))),\"\")))","v":"Brésil"}]
[null,"Tirage au sort F1"]
[null,{"$f":"IF(ROWS($1:1)<=COUNTIF($T$39:$T$42,1),INDEX($U$39:$U$42,SMALL(IF($T$39:$T$42=1,ROW(INDIRECT(\"1:\"&ROWS($T$39:$T$42)))),ROWS($1:1))),\"\")","v":"Suède"}]
[null,{"$f":"IF(ROWS($1:2)<=COUNTIF($T$39:$T$42,1),INDEX($U$39:$U$42,SMALL(IF($T$39:$T$42=1,ROW(INDIRECT(\"1:\"&ROWS($T$39:$T$42)))),ROWS($1:2))),\"\")","v":"République de Corée"}]
[null,{"$f":"IF(ROWS($1:3)<=COUNTIF($T$39:$T$42,1),INDEX($U$39:$U$42,SMALL(IF($T$39:$T$42=1,ROW(INDIRECT(\"1:\"&ROWS($T$39:$T$42)))),ROWS($1:3))),\"\")","v":"Mexique"}]
[null,{"$f":"IF(ROWS($1:4)<=COUNTIF($T$39:$T$42,1),INDEX($U$39:$U$42,SMALL(IF($T$39:$T$42=1,ROW(INDIRECT(\"1:\"&ROWS($T$39:$T$42)))),ROWS($1:4))),\"\")","v":"Allemagne"}]
[null,"Tirage au sort F2"]
[null,{"$f":"IF(COUNTIF($T$39:$T$42,1)>1,IF(ROWS($1:1)<=COUNTIF($T$39:$T$42,1),INDEX($U$39:$U$42,SMALL(IF($T$39:$T$42=1,ROW(INDIRECT(\"1:\"&ROWS($T$39:$T$42)))),ROWS($1:1))),\"\"),IF(COUNTIF($T$39:$T$42,2)>1,IF(ROWS($1:1)<=COUNTIF($T$39:$T$42,2),INDEX($U$39:$U$42,SMALL(IF($T$39:$T$42=2,ROW(INDIRECT(\"1:\"&ROWS($T$39:$T$42)))),ROWS($1:1))),\"\")))","v":"Suède"}]
[null,{"$f":"IF(COUNTIF($T$39:$T$42,1)>1,IF(ROWS($1:2)<=COUNTIF($T$39:$T$42,1),INDEX($U$39:$U$42,SMALL(IF($T$39:$T$42=1,ROW(INDIRECT(\"1:\"&ROWS($T$39:$T$42)))),ROWS($1:2))),\"\"),IF(COUNTIF($T$39:$T$42,2)>1,IF(ROWS($1:2)<=COUNTIF($T$39:$T$42,2),INDEX($U$39:$U$42,SMALL(IF($T$39:$T$42=2,ROW(INDIRECT(\"1:\"&ROWS($T$39:$T$42)))),ROWS($1:2))),\"\")))","v":"République de Corée"}]
[null,{"$f":"IF(COUNTIF($T$39:$T$42,1)>1,IF(ROWS($1:3)<=COUNTIF($T$39:$T$42,1),INDEX($U$39:$U$42,SMALL(IF($T$39:$T$42=1,ROW(INDIRECT(\"1:\"&ROWS($T$39:$T$42)))),ROWS($1:3))),\"\"),IF(COUNTIF($T$39:$T$42,2)>1,IF(ROWS($1:3)<=COUNTIF($T$39:$T$42,2),INDEX($U$39:$U$42,SMALL(IF($T$39:$T$42=2,ROW(INDIRECT(\"1:\"&ROWS($T$39:$T$42)))),ROWS($1:3))),\"\")))","v":"Mexique"}]
[null,{"$f":"IF(COUNTIF($T$39:$T$42,1)>1,IF(ROWS($1:4)<=COUNTIF($T$39:$T$42,1),INDEX($U$39:$U$42,SMALL(IF($T$39:$T$42=1,ROW(INDIRECT(\"1:\"&ROWS($T$39:$T$42)))),ROWS($1:4))),\"\"),IF(COUNTIF($T$39:$T$42,2)>1,IF(ROWS($1:4)<=COUNTIF($T$39:$T$42,2),INDEX($U$39:$U$42,SMALL(IF($T$39:$T$42=2,ROW(INDIRECT(\"1:\"&ROWS($T$39:$T$42)))),ROWS($1:4))),\"\")))","v":"Allemagne"}]
[null,"Tirage au sort G1"]
[null,{"$f":"IF(ROWS($1:1)<=COUNTIF($T$45:$T$48,1),INDEX($U$45:$U$48,SMALL(IF($T$45:$T$48=1,ROW(INDIRECT(\"1:\"&ROWS($T$45:$T$48)))),ROWS($1:1))),\"\")","v":"Tunisie"}]
[null,{"$f":"IF(ROWS($1:2)<=COUNTIF($T$45:$T$48,1),INDEX($U$45:$U$48,SMALL(IF($T$45:$T$48=1,ROW(INDIRECT(\"1:\"&ROWS($T$45:$T$48)))),ROWS($1:2))),\"\")","v":"Panama"}]
[null,{"$f":"IF(ROWS($1:3)<=COUNTIF($T$45:$T$48,1),INDEX($U$45:$U$48,SMALL(IF($T$45:$T$48=1,ROW(INDIRECT(\"1:\"&ROWS($T$45:$T$48)))),ROWS($1:3))),\"\")","v":"Belgique"}]
[null,{"$f":"IF(ROWS($1:4)<=COUNTIF($T$45:$T$48,1),INDEX($U$45:$U$48,SMALL(IF($T$45:$T$48=1,ROW(INDIRECT(\"1:\"&ROWS($T$45:$T$48)))),ROWS($1:4))),\"\")","v":"Angleterre"}]
[null,"Tirage au sort G2"]
[null,{"$f":"IF(COUNTIF($T$45:$T$48,1)>1,IF(ROWS($1:1)<=COUNTIF($T$45:$T$48,1),INDEX($U$45:$U$48,SMALL(IF($T$45:$T$48=1,ROW(INDIRECT(\"1:\"&ROWS($T$45:$T$48)))),ROWS($1:1))),\"\"),IF(COUNTIF($T$45:$T$48,2)>1,IF(ROWS($1:1)<=COUNTIF($T$45:$T$48,2),INDEX($U$45:$U$48,SMALL(IF($T$45:$T$48=2,ROW(INDIRECT(\"1:\"&ROWS($T$45:$T$48)))),ROWS($1:1))),\"\")))","v":"Tunisie"}]
[null,{"$f":"IF(COUNTIF($T$45:$T$48,1)>1,IF(ROWS($1:2)<=COUNTIF($T$45:$T$48,1),INDEX($U$45:$U$48,SMALL(IF($T$45:$T$48=1,ROW(INDIRECT(\"1:\"&ROWS($T$45:$T$48)))),ROWS($1:2))),\"\"),IF(COUNTIF($T$45:$T$48,2)>1,IF(ROWS($1:2)<=COUNTIF($T$45:$T$48,2),INDEX($U$45:$U$48,SMALL(IF($T$45:$T$48=2,ROW(INDIRECT(\"1:\"&ROWS($T$45:$T$48)))),ROWS($1:2))),\"\")))","v":"Panama"}]
[null,{"$f":"IF(COUNTIF($T$45:$T$48,1)>1,IF(ROWS($1:3)<=COUNTIF($T$45:$T$48,1),INDEX($U$45:$U$48,SMALL(IF($T$45:$T$48=1,ROW(INDIRECT(\"1:\"&ROWS($T$45:$T$48)))),ROWS($1:3))),\"\"),IF(COUNTIF($T$45:$T$48,2)>1,IF(ROWS($1:3)<=COUNTIF($T$45:$T$48,2),INDEX($U$45:$U$48,SMALL(IF($T$45:$T$48=2,ROW(INDIRECT(\"1:\"&ROWS($T$45:$T$48)))),ROWS($1:3))),\"\")))","v":"Belgique"}]
[null,{"$f":"IF(COUNTIF($T$45:$T$48,1)>1,IF(ROWS($1:4)<=COUNTIF($T$45:$T$48,1),INDEX($U$45:$U$48,SMALL(IF($T$45:$T$48=1,ROW(INDIRECT(\"1:\"&ROWS($T$45:$T$48)))),ROWS($1:4))),\"\"),IF(COUNTIF($T$45:$T$48,2)>1,IF(ROWS($1:4)<=COUNTIF($T$45:$T$48,2),INDEX($U$45:$U$48,SMALL(IF($T$45:$T$48=2,ROW(INDIRECT(\"1:\"&ROWS($T$45:$T$48)))),ROWS($1:4))),\"\")))","v":"Angleterre"}]
[null,"Tirage au sort H1"]
[null,{"$f":"IF(ROWS($1:1)<=COUNTIF($T$51:$T$54,1),INDEX($U$51:$U$54,SMALL(IF($T$51:$T$54=1,ROW(INDIRECT(\"1:\"&ROWS($T$51:$T$54)))),ROWS($1:1))),\"\")","v":"Sénégal"}]
[null,{"$f":"IF(ROWS($1:2)<=COUNTIF($T$51:$T$54,1),INDEX($U$51:$U$54,SMALL(IF($T$51:$T$54=1,ROW(INDIRECT(\"1:\"&ROWS($T$51:$T$54)))),ROWS($1:2))),\"\")","v":"Pologne"}]
[null,{"$f":"IF(ROWS($1:3)<=COUNTIF($T$51:$T$54,1),INDEX($U$51:$U$54,SMALL(IF($T$51:$T$54=1,ROW(INDIRECT(\"1:\"&ROWS($T$51:$T$54)))),ROWS($1:3))),\"\")","v":"Japon"}]
[null,{"$f":"IF(ROWS($1:4)<=COUNTIF($T$51:$T$54,1),INDEX($U$51:$U$54,SMALL(IF($T$51:$T$54=1,ROW(INDIRECT(\"1:\"&ROWS($T$51:$T$54)))),ROWS($1:4))),\"\")","v":"Colombie"}]
[null,"Tirage au sort H2"]
[null,{"$f":"IF(COUNTIF($T$51:$T$54,1)>1,IF(ROWS($1:1)<=COUNTIF($T$51:$T$54,1),INDEX($U$51:$U$54,SMALL(IF($T$51:$T$54=1,ROW(INDIRECT(\"1:\"&ROWS($T$51:$T$54)))),ROWS($1:1))),\"\"),IF(COUNTIF($T$51:$T$54,2)>1,IF(ROWS($1:1)<=COUNTIF($T$51:$T$54,2),INDEX($U$51:$U$54,SMALL(IF($T$51:$T$54=2,ROW(INDIRECT(\"1:\"&ROWS($T$51:$T$54)))),ROWS($1:1))),\"\")))","v":"Sénégal"}]
[null,{"$f":"IF(COUNTIF($T$51:$T$54,1)>1,IF(ROWS($1:2)<=COUNTIF($T$51:$T$54,1),INDEX($U$51:$U$54,SMALL(IF($T$51:$T$54=1,ROW(INDIRECT(\"1:\"&ROWS($T$51:$T$54)))),ROWS($1:2))),\"\"),IF(COUNTIF($T$51:$T$54,2)>1,IF(ROWS($1:2)<=COUNTIF($T$51:$T$54,2),INDEX($U$51:$U$54,SMALL(IF($T$51:$T$54=2,ROW(INDIRECT(\"1:\"&ROWS($T$51:$T$54)))),ROWS($1:2))),\"\")))","v":"Pologne"}]
[null,{"$f":"IF(COUNTIF($T$51:$T$54,1)>1,IF(ROWS($1:3)<=COUNTIF($T$51:$T$54,1),INDEX($U$51:$U$54,SMALL(IF($T$51:$T$54=1,ROW(INDIRECT(\"1:\"&ROWS($T$51:$T$54)))),ROWS($1:3))),\"\"),IF(COUNTIF($T$51:$T$54,2)>1,IF(ROWS($1:3)<=COUNTIF($T$51:$T$54,2),INDEX($U$51:$U$54,SMALL(IF($T$51:$T$54=2,ROW(INDIRECT(\"1:\"&ROWS($T$51:$T$54)))),ROWS($1:3))),\"\")))","v":"Japon"}]
[null,{"$f":"IF(COUNTIF($T$51:$T$54,1)>1,IF(ROWS($1:4)<=COUNTIF($T$51:$T$54,1),INDEX($U$51:$U$54,SMALL(IF($T$51:$T$54=1,ROW(INDIRECT(\"1:\"&ROWS($T$51:$T$54)))),ROWS($1:4))),\"\"),IF(COUNTIF($T$51:$T$54,2)>1,IF(ROWS($1:4)<=COUNTIF($T$51:$T$54,2),INDEX($U$51:$U$54,SMALL(IF($T$51:$T$54=2,ROW(INDIRECT(\"1:\"&ROWS($T$51:$T$54)))),ROWS($1:4))),\"\")))","v":"Colombie"}]