Workbook
Name audit: listes!$L$1:$L$4
Name ca: listes!#REF!
Name ca: listes!#REF!
Name cartographie: listes!#REF!
Name cartographie: listes!#REF!
Name catégorie: listes!#REF!
Name certification: listes!$H$1:$H$9
Name contact: listes!$K$1:$K$3
Name distance: [1]listes!$M$1:$M$4
Name entites: listes!$F$2:$F$27
Name fabricant: [1]listes!$E$1:$E$7
Name famille: listes!$G$2:$G$16
Name fermee: listes!$A$1:$A$2
Name fournisseur: listes!$E$1:$E$3
Name historique: listes!$F$1:$F$30
Name label: listes!$J$1:$J$11
Name labels: listes!$J$2:$J$11
Name localisation: listes!$C$1:$C$3
Name ouinon: listes!$B$1:$B$3
Name partiel: listes!$M$1:$M$3
Name produits: listes!#REF!
Name refprod: [1]listes!$N$2:$N$7
Name UE: listes!$D$1:$D$2
Name x: listes!#REF!
Name x: listes!#REF!

Sheet Questionnaire Alimentaire
B2: NOM du fournisseur / Raison sociale / Pays:
B5: SITE de production /Pays :
A8: Afin de pouvoir procéder au référencement de ses produits, le fournisseur doit remplir l'ensemble des questions ci-dessous à l'aide des menus déroulants le cas échéant dans chacune des cases. Les réponses à ce questionnaire sont obligatoires. Un questionnaire correspond à UN site et à UNE famille de produits. Si plusieurs sites ou plusieurs familles de produits sont concernés, il faut remplir autant de questionnaires. Le fournisseur reconnaît l'exactitude des informations renseignées ci-après.
A10: fait le:
A12: par: Nom:
A13: Fonction:
A14: N° téléphone:
A15: email:
B17: A quelle distance vous situez vous de notre entité ?
A19: Je certifie que l'ensemble des informations saisies dans ce questionnaire sont exactes
C20: compléter les cases en vous aidant des menus déroulants
A21: Désignation du (des) produit(s) présenté(s) en vue d'une sélection
B23: À quelle famille appartient-il ?
B24: Les produits répondent-ils à un(des) référentiel(s)/certification(s) produit spécifique(s)?
B25: Si oui, merci de préciser selon quel(s) référentiel(s) ?
A29: Réglementation européenne contre la déforestation (RDUE)
B30: Les produits proposés au référencement contiennent-ils du café, du cacao, de la viande bovine, de l'huile de palme ou du soja?
B31: Si oui, est-ce que le code douanier de l'un de vos produits fait partie de l'ANNEXE I du Règlement (UE) 2023/1115 du Parlement européen et du Conseil du 31 mai 2023
B32: SI OUI, merci de répondre aux 2 questions suivantes
B33: Merci de lister les codes douaniers concernés
B34: Les matières premières concernées par le RDUE proviennent-elles de pays classés à risque élevé selon la Commission Européenne (Biélorussie, Corée du Nord, Myanmar, Russie)?
A37: Votre site de production a-t-il une certification de système qualité incluant les activités relatives à la famille de produits présentée?
B39: Si votre site est certifié, merci de préciser selon quel(s) référentiel(s) ? Et de nous transmettre les certificats | C39: Date(s) de fin de validité du certificat:
B43: Si le référentiel fait partie de la liste proposée, compléter UNIQUEMENT les rubriques «Certification de système environnementale », 1, 2 et 5.
B45: Si votre référentiel ne fait pas partie de la liste proposée ou que vous n'êtes pas certifié, merci de compléter l'intégralité du questionnaire
A48: Votre site de production a-t-il une certification de système environnementale incluant les activités relatives à la famille de produits présentée?
A50: Si OUI, | B50: merci de préciser selon quel(s) référentiel(s) ? | C50: Date(s) de fin de validité du certificat:
A55: 1-Structure administrative
A56: Généralités
A57: 1.1 Quelle est votre activité ?
B58: 1.1.1 Si vous êtes grossiste/négociant, les produits transitent-ils par vos entrepôts?
A59: 1.2 Quel est l'effectif de votre société ?
A60: 1.3 Faites-vous partie d'un groupe?
B61: 1.3.1 si oui, préciser le nom du groupe
A62: 1.4 Quel est le pays de facturation ?
A63: 1.5 Êtes-vous importateur en France de produits finis proposés au référencement?
A64: 1.6 J'atteste que mon entreprise et mes produits respectent bien les législations françaises et européennes en vigueur?
A66: 2-Coordonnées d'urgence
A68: 2.1 En cas d'urgence, êtes- vous joignable dans les 4 heures y compris soir, week-end et jours fériés ?
A69: 2.2 Sinon, le délai dans lequel vous êtes joignables est-il inférieur à 12 heures y compris soir, week-end et jours fériés ?
...

Sheet Analyse Produit Alimentaire
B2: ='Questionnaire Alimentaire'!B2 -> NOM du fournisseur / Raison sociale / Pays:
B3: ='Questionnaire Alimentaire'!B3 -> 0 | C3: ='Questionnaire Alimentaire'!C3 -> 0
B5: ='Questionnaire Alimentaire'!B5 -> SITE de production /Pays :
B6: ='Questionnaire Alimentaire'!B6 -> 0 | C6: ='Questionnaire Alimentaire'!C6 -> 0
A8: Afin de pouvoir procéder au référencement de ses produits, le fournisseur doit remplir l'ensemble des questions ci-dessous à l'aide des menus déroulants le cas échéant dans chacune des cases. Les réponses à ce questionnaire sont obligatoires. Un questionnaire correspond à UN site et à UNE famille de produits. Si plusieurs sites ou plusieurs familles de produits sont concernés, il faut remplir autant de questionnaires. Le fournisseur reconnaît l'exactitude des informations renseignées ci-après.
A10: ='Questionnaire Alimentaire'!A10 -> fait le: | B10: ='Questionnaire Alimentaire'!B10 -> 0
A12: ='Questionnaire Alimentaire'!A12 -> par: Nom: | B12: ='Questionnaire Alimentaire'!B12 -> 0
A13: ='Questionnaire Alimentaire'!A13 -> Fonction: | B13: ='Questionnaire Alimentaire'!B13 -> 0
A14: ='Questionnaire Alimentaire'!A14 -> N° téléphone: | B14: ='Questionnaire Alimentaire'!B14 -> 0
A15: ='Questionnaire Alimentaire'!A15 -> email: | B15: ='Questionnaire Alimentaire'!B15 -> 0
B18: ='Questionnaire Alimentaire'!B17 -> A quelle distance vous situez vous de notre entité ? | C18: ='Questionnaire Alimentaire'!C17 -> 0
A19: Je certifie que l'ensemble des informations saisies dans ce questionnaire sont exactes | C19: ='Questionnaire Alimentaire'!C19 -> 0 | D19: =E19 -> 3 | E19: =IF(C19=listes!$A$1,1,3) -> 3 | F19: =IF(E19=1,1,0) -> 0 | G19: =IF(E19=2,1,0) -> 0 | H19: =IF(E19=3,1,0) -> 1
C20: compléter les cases en vous aidant des menus déroulants
A21: Désignation du (des) produit(s) présenté(s) en vue d'une sélection | C21: ='Questionnaire Alimentaire'!C21 -> 0
B23: À quelle famille appartient-il ? | C23: ='Questionnaire Alimentaire'!C23 -> 0 | D23: =E23 -> 3 | E23: =IF(C23=listes!$G$3,2,IF(C23=listes!$G$9,2,3)) -> 3
B24: Les produits répondent-ils à un(des) référentiel(s)/certification(s) produit spécifique(s)? | C24: ='Questionnaire Alimentaire'!C24 -> 0
B25: Si oui, merci de préciser selon quel(s) référentiel(s) ? | C25: ='Questionnaire Alimentaire'!C25 -> 0
C26: ='Questionnaire Alimentaire'!C26 -> 0
C27: ='Questionnaire Alimentaire'!C27 -> 0
C28: ='Questionnaire Alimentaire'!C28 -> 0
A29: Réglementation européenne contre la déforestation (RDUE)
B30: Les produits proposés au référencement contiennent-ils du café, du cacao, de la viande bovine, de l'huile de palme ou du soja? | C30: ='Questionnaire Alimentaire'!C30 -> 0 | E30: 0
B31: Si oui, est-ce que le code douanier de l'un de vos produits fait partie de l'ANNEXE I du Règlement (UE) 2023/1115 du Parlement européen et du Conseil du 31 mai 2023 | C31: ='Questionnaire Alimentaire'!C31 -> 0 | E31: 0
B32: Si oui, merci de répondre aux 2 questions suivantes
B33: Merci de lister les codes douaniers concernés | C33: ='Questionnaire Alimentaire'!C33 -> 0 | E33: 0
B34: Les matières premières concernées par le RDUE proviennent-elles de pays classés à risque élevé selon la Commission Européenne (Biélorussie, Corée du Nord, Myanmar, Russie)? | C34: ='Questionnaire Alimentaire'!C34 -> 0 | E34: 0
A37: Votre site de production a-t-il une certification de système qualité incluant les activités relatives à la famille de produits présentée? | C37: ='Questionnaire Alimentaire'!C37 -> 0 | D37: =IF(C37=listes!A1,1,2) -> 2
B39: Si votre site est certifié, merci de préciser selon quel(s) référentiel(s) ? Et de nous transmettre les certificats | C39: Date(s) de fin de validité du certificat:
B40: ='Questionnaire Alimentaire'!B41 -> 0 | C40: ='Questionnaire Alimentaire'!C40 -> 0
B41: ='Questionnaire Alimentaire'!B42 -> 0 | C41: ='Questionnaire Alimentaire'!C41 -> 0
B42: ='Questionnaire Alimentaire'!B42 -> 0 | C42: ='Questionnaire Alimentaire'!C42 -> 0
B43: Si le référentiel fait partie de la liste proposée, compléter UNIQUEMENT les rubriques 1, 2 et 5
B45: Si votre référentiel ne fait pas partie de la liste proposée ou que vous n'êtes pas certifié, merci de compléter l'intégralité du questionnaire
A48: Votre site de production a-t-il une certification de système environnementale incluant les activités relatives à la famille de produits présentée? | C48: ='Questionnaire Alimentaire'!C48 -> 0
E49: Sommme 1, 2 et attestation | F49: =F55+F66+F19 -> 1 | G49: =G55+G66+G19 -> 3 | H49: =H55+H66+H19 -> 3
A50: Si OUI, | B50: merci de préciser selon quel(s) référentiel(s) ? | C50: Date(s) de fin de validité du certificat:
B51: ='Questionnaire Alimentaire'!B51 -> 0 | C51: ='Questionnaire Alimentaire'!C51 -> 0
B52: ='Questionnaire Alimentaire'!B52 -> 0 | C52: ='Questionnaire Alimentaire'!C52 -> 0
B53: ='Questionnaire Alimentaire'!B53 -> 0 | C53: ='Questionnaire Alimentaire'!C53 -> 0
A55: 1-Structure administrative | E55: =A55 -> 1-Structure administrative | F55: =SUM(F56:F64) -> 1 | G55: =SUM(G56:G64) -> 1 | H55: =SUM(H56:H64) -> 1
...

Sheet Suivi des plans d'action Alim
A1: Criticité | B1: Risques | C1: Propositions d'actions à adapter en fonction du contexte local, de l'historique et de la nature du produit | D1: Demande faite au fournisseur | E1: Retour du fournisseur | F1: Avis Qualité | G1: Commentaire
A3: Points critiques | B3: ='Analyse Produit Alimentaire'!B176 -> Q 1.6 Le fournisseur ne s'engage pas sur le respect de la législation française et européenne en vigueur. | C3: =IF(B3="NA","/","Demander au fournisseur de s'engager à se mettre en conformité.") -> Demander au fournisseur de s'engager à se mettre en conformité.
B4: ='Analyse Produit Alimentaire'!B177 -> NA | C4: =IF(B4="NA","/","Demander au fournisseur de s'engager à être joignable dans un délai de moins de 12h.") -> /
B5: ='Analyse Produit Alimentaire'!B178 -> Q 2.3 Les coordonnées contacts crise fournis par le fournisseur ne sont pas complètes (mail et téléphone). | C5: =IF(B5="NA","/","Demander au fournisseur les coordonnées manquantes.") -> Demander au fournisseur les coordonnées manquantes.
B6: ='Analyse Produit Alimentaire'!B179 -> Q 3.3. Plan de Maîtrise Sanitaire incomplet. | C6: =IF(B6="NA","/","Demander au fournisseur de s'engager à mettre en place le ou les points manquants.") -> Demander au fournisseur de s'engager à mettre en place le ou les points manquants.
B7: ='Analyse Produit Alimentaire'!B180 -> Q.4.2.1. Absence de système de gestion de la traçabilité. | C7: =IF(B7="NA","/","Demander au fournisseur à s'engager à mettre en place un système de traçabilité/ Au besoin, réaliser un test de traçabilité. ") -> Demander au fournisseur à s'engager à mettre en place un système de traçabilité/ Au besoin, réaliser un test de traçabilité.
B8: ='Analyse Produit Alimentaire'!B181 -> Q 4.5.1 Pas de maîtrise de la conformité de l'étiquetage. | C8: =IF(B8="NA","/","Demander au fournisseur de s'engager sur la conformité de l'étiquetage. Au besoin, vérifier l'étiquetage en amont et faire un contrôle à réception sur les premières livraisons.") -> Demander au fournisseur de s'engager sur la conformité de l'étiquetage. Au besoin, vérifier l'étiquetage en amont et faire un contrôle à réception sur les premières livraisons.
A11: Points de vigilance ou points d'attention | B11: ='Analyse Produit Alimentaire'!B184 -> NA | C11: ='Analyse Produit Alimentaire'!C184 -> 0
B12: ='Analyse Produit Alimentaire'!B185 -> Q1.4 Nous sommes 1er metteur sur le marché français. | C12: ='Analyse Produit Alimentaire'!C185 -> S'assurer que les produits sont conformes à la réglementation française.
B13: ='Analyse Produit Alimentaire'!B186 -> NA | C13: ='Analyse Produit Alimentaire'!C186 -> /
B14: ='Analyse Produit Alimentaire'!B187 -> Q2.1. et Q2.2 Le fournisseur est joignable entre 4 et 12 heures, y compris soir, week-end et jours fériés. | C14: ='Analyse Produit Alimentaire'!C187 -> /
B15: ='Analyse Produit Alimentaire'!B188 -> NA | C15: ='Analyse Produit Alimentaire'!C188 -> /
B16: ='Analyse Produit Alimentaire'!B189 -> NA | C16: ='Analyse Produit Alimentaire'!C189 -> /
B17: ='Analyse Produit Alimentaire'!B190 -> Q3.4. Le système HACCP et/ou le Plan de maîtrise sanitaire ne sont pas revus annuellement. | C17: ='Analyse Produit Alimentaire'!C190 -> /
B18: ='Analyse Produit Alimentaire'!B191 -> Q3.5 Le risque Sûreté produit (Food défense) n'est pas pris en compte. | C18: ='Analyse Produit Alimentaire'!C191 -> Demander au fournisseur qu'il définisse des dispositions.
B19: ='Analyse Produit Alimentaire'!B192 -> NA | C19: ='Analyse Produit Alimentaire'!C192 -> /
B20: ='Analyse Produit Alimentaire'!B193 -> NA | C20: ='Analyse Produit Alimentaire'!C193 -> /
B21: ='Analyse Produit Alimentaire'!B194 -> Q4.1.1. Le fournisseur n'a pas de responsable qualité désigné. | C21: ='Analyse Produit Alimentaire'!C194 -> Demander au fournisseur de transmettre le nom d'un contact pour tous les sujets relatifs à la qualité.
B22: ='Analyse Produit Alimentaire'!B195 -> Q4.3.1. Le fournisseur n'a pas de plan de contrôle produit. | C22: ='Analyse Produit Alimentaire'!C195 -> Demander au fournisseur de mettre en place un plan de contrôle produit.
B23: ='Analyse Produit Alimentaire'!B196 -> Q4.3.2. Le fournisseur ne fait pas de contrôle à réception. | C23: ='Analyse Produit Alimentaire'!C196 -> Demander au fournisseur de mettre un plan de contrôle à réception.
... B28: ='Analyse Produit Alimentaire'!B201 -> Q4.6.3. En cas de retrait/rappel, le fournisseur ne transmet pas les informations de traçabilité dans les 4 heures. | C28: ='Analyse Produit Alimentaire'!C201 -> Demander au fournisseur de s'engager à nous transmettre les éléments de traçabilité, dès que possible, en cas de retrait/rappel.

Sheet listes
A1: OUI | B1: Non Concerné | C1: France | D1: Union Européenne | E1: Producteur/Fabricant | F1: Centre E.Leclerc , Préciser nom et localisation : | G1: catégorie | H1: ISO 9001 | I1: ISO 14001 | J1: Produit labellisé Agriculture Biologique | K1: < 4 heures | L1: NON | M1: OUI | N1: En moins de 4 heures ? | O1: Bons de livraisons
A2: NON | B2: OUI | C2: Union Européenne (hors France) | D2: Hors Union Européenne | E2: Grossiste/ Negociant | F2: LECASUD | G2: Boissons non alcoolisées | H2: IFS Logistic | I2: ISO 50001 | J2: garantie de l'origine (AOC, AOP, IGP) | K2: > 4 heures et 12 heures | L2: Tous les ans | M2: NON | N2: Dans la journée | O2: DESADV
B3: NON | C3: Hors Union Européenne | E3: Producteur/fabricant + Grossiste/ Negociant | F3: SCACENTRE | G3: Boissons alcoolisées | H3: IFS Food | J3: garantie de qualité supérieure (label rouge) | K3: > 12 heures | L3: Tous les 2 ans | M3: PARTIELLEMENT | N3: En plus d'une journée? | O3: Bons de livraisons et DESADV
F4: SCALANDES | G4: Boucherie/Volaille | H4: IFS Broker | J4: garantie de recette traditionnelle (STG) | L4: Tous les 3 ans ou plus | O4: Non
F5: SCANORMANDE | G5: BVP (boulangerie, Viennoiserie et Patisserie) frais et surgelés | H5: ISO 22000 | J5: produit labellisé ASC ou MSC
F6: SCAOUEST | G6: Charcuterie/traiteur | H6: FSSC 22000 | J6: produit labellisé Bleu blanc cœur
F7: SCAPALSACE | G7: Crèmerie, Beurre, Œufs, Fromage, Ultra frais | H7: BRC | J7: Produit labellisé HVE
F8: SCAPARTOIS | G8: Epicerie | H8: Global Gap | J8: Ecolabel public pêche durable
F9: SCAPEST | G9: Fruits et Légumes | J9: autre
F10: SCAPNOR | G10: Poissonnerie
F11: SCARMOR | G11: Saurisserie
F12: SCASO | G12: Surgelés
F13: SOCAMAINE | G13: Alimentation infantile
F14: SOCAMIL | G14: Alimentation diététique
F15: SOCARA | G15: Petfood
F16: SCAMARK | G16: Autres
F17: GALEC
F18: SIPLEC
F19: SCAPMAREE
F20: SCAFISH
F21: SCACHAP
F22: SCAPARF
F23: SCADIF
F24: SCABER (Espagne)
F25: SCAWAR (Pologne)
F26: COOPLECNORTE (Portugal)
F27: BBJ Nord
F28: BBJ Sud Ouest
... F31: Plus de 3 SCA
